Workbook
Name liste: _xlfn.ANCHORARRAY(base!$F$4)
Name liste_2: OFFSET(base!$H$4,0,0,COUNTIF(base!$H$4:$H$15,"><"),1)
Name liste_init: base!$B$4:$B$15

Sheet Feuil1
B4: LUNDI
B6: Roger
D7: Daniel
C8: Lise
B9: Michel
D10: Nadine

Sheet base
F2: v_365 | H2: v_avant
B3: Liste_init | F3: liste | H3: liste_2
B4: Roger | D4: =IF(COUNTIF(Feuil1!$B$6:$D$10,base!B4)=1,"",base!B4) | F4: {=_xlfn._xlws.FILTER(D4:D15,D4:D15<>"")} -> Antoine | H4: {=IFERROR(INDEX($D$4:$D$15,SMALL(IF($D$4:$D$15<>"",ROW($D$4:$D$15)-3),ROWS($1:1))),"")} -> Antoine
B5: Michel | D5: =IF(COUNTIF(Feuil1!$B$6:$D$10,base!B5)=1,"",base!B5) | F5: Christophe | H5: {=IFERROR(INDEX($D$4:$D$15,SMALL(IF($D$4:$D$15<>"",ROW($D$4:$D$15)-3),ROWS($1:2))),"")} -> Christophe
B6: Antoine | D6: =IF(COUNTIF(Feuil1!$B$6:$D$10,base!B6)=1,"",base!B6) -> Antoine | F6: Carole | H6: {=IFERROR(INDEX($D$4:$D$15,SMALL(IF($D$4:$D$15<>"",ROW($D$4:$D$15)-3),ROWS($1:3))),"")} -> Carole
B7: Christophe | D7: =IF(COUNTIF(Feuil1!$B$6:$D$10,base!B7)=1,"",base!B7) -> Christophe | F7: Sophie | H7: {=IFERROR(INDEX($D$4:$D$15,SMALL(IF($D$4:$D$15<>"",ROW($D$4:$D$15)-3),ROWS($1:4))),"")} -> Sophie
B8: Daniel | D8: =IF(COUNTIF(Feuil1!$B$6:$D$10,base!B8)=1,"",base!B8) | F8: Jacques | H8: {=IFERROR(INDEX($D$4:$D$15,SMALL(IF($D$4:$D$15<>"",ROW($D$4:$D$15)-3),ROWS($1:5))),"")} -> Jacques
B9: Lise | D9: =IF(COUNTIF(Feuil1!$B$6:$D$10,base!B9)=1,"",base!B9) | F9: Joseph | H9: {=IFERROR(INDEX($D$4:$D$15,SMALL(IF($D$4:$D$15<>"",ROW($D$4:$D$15)-3),ROWS($1:6))),"")} -> Joseph
B10: Carole | D10: =IF(COUNTIF(Feuil1!$B$6:$D$10,base!B10)=1,"",base!B10) -> Carole | F10: Aline | H10: {=IFERROR(INDEX($D$4:$D$15,SMALL(IF($D$4:$D$15<>"",ROW($D$4:$D$15)-3),ROWS($1:7))),"")} -> Aline
B11: Sophie | D11: =IF(COUNTIF(Feuil1!$B$6:$D$10,base!B11)=1,"",base!B11) -> Sophie | H11: {=IFERROR(INDEX($D$4:$D$15,SMALL(IF($D$4:$D$15<>"",ROW($D$4:$D$15)-3),ROWS($1:8))),"")}
B12: Jacques | D12: =IF(COUNTIF(Feuil1!$B$6:$D$10,base!B12)=1,"",base!B12) -> Jacques | H12: {=IFERROR(INDEX($D$4:$D$15,SMALL(IF($D$4:$D$15<>"",ROW($D$4:$D$15)-3),ROWS($1:9))),"")}
B13: Joseph | D13: =IF(COUNTIF(Feuil1!$B$6:$D$10,base!B13)=1,"",base!B13) -> Joseph | H13: {=IFERROR(INDEX($D$4:$D$15,SMALL(IF($D$4:$D$15<>"",ROW($D$4:$D$15)-3),ROWS($1:10))),"")}
B14: Aline | D14: =IF(COUNTIF(Feuil1!$B$6:$D$10,base!B14)=1,"",base!B14) -> Aline | H14: {=IFERROR(INDEX($D$4:$D$15,SMALL(IF($D$4:$D$15<>"",ROW($D$4:$D$15)-3),ROWS($1:11))),"")}
B15: Nadine | D15: =IF(COUNTIF(Feuil1!$B$6:$D$10,base!B15)=1,"",base!B15) | H15: {=IFERROR(INDEX($D$4:$D$15,SMALL(IF($D$4:$D$15<>"",ROW($D$4:$D$15)-3),ROWS($1:12))),"")}
