Workbook
Name FRUITS: Base!$A$2:$A$6
Name PRIX: Base!$B$2:$B$6

Sheet Base
A1: FRUITS | B1: PRIX
A2: Ananas | B2: 45
A3: Banane | B3: 20
A4: Fraise | B4: 55
A5: Poire | B5: 50
A6: Pomme | B6: 40

Sheet Devis
A1: JOUR 1 | B1: PRIX | D1: JOUR 2 | E1: PRIX | G1: JOUR 3 | H1: PRIX | J1: JOUR 4 | K1: PRIX
A2: Banane | B2: =IF(ISNA(VLOOKUP($A2,Base!$A$2:'Base'!$B$6,2)),"",VLOOKUP($A2,Base!$A$2:'Base'!$B$6,2)) -> 20 | E2: =IF(ISNA(VLOOKUP($D2,Base!$A$2:'Base'!$B$6,2)),"",VLOOKUP($D2,Base!$A$2:'Base'!$B$6,2)) | H2: =IF(ISNA(VLOOKUP($G2,Base!$A$2:'Base'!$B$6,2)),"",VLOOKUP($G2,Base!$A$2:'Base'!$B$6,2)) | K2: =IF(ISNA(VLOOKUP($J2,Base!$A$2:'Base'!$B$6,2)),"",VLOOKUP($J2,Base!$A$2:'Base'!$B$6,2))
A3: Poire | B3: =IF(ISNA(VLOOKUP($A3,Base!$A$2:'Base'!$B$6,2)),"",VLOOKUP($A3,Base!$A$2:'Base'!$B$6,2)) -> 50 | D3: Fraise | E3: =IF(ISNA(VLOOKUP($D3,Base!$A$2:'Base'!$B$6,2)),"",VLOOKUP($D3,Base!$A$2:'Base'!$B$6,2)) -> 55 | G3: Poire | H3: =IF(ISNA(VLOOKUP($G3,Base!$A$2:'Base'!$B$6,2)),"",VLOOKUP($G3,Base!$A$2:'Base'!$B$6,2)) -> 50 | J3: Banane | K3: =IF(ISNA(VLOOKUP($J3,Base!$A$2:'Base'!$B$6,2)),"",VLOOKUP($J3,Base!$A$2:'Base'!$B$6,2)) -> 20
A4: Pomme | B4: =IF(ISNA(VLOOKUP($A4,Base!$A$2:'Base'!$B$6,2)),"",VLOOKUP($A4,Base!$A$2:'Base'!$B$6,2)) -> 40 | E4: =IF(ISNA(VLOOKUP($D4,Base!$A$2:'Base'!$B$6,2)),"",VLOOKUP($D4,Base!$A$2:'Base'!$B$6,2)) | H4: =IF(ISNA(VLOOKUP($G4,Base!$A$2:'Base'!$B$6,2)),"",VLOOKUP($G4,Base!$A$2:'Base'!$B$6,2)) | K4: =IF(ISNA(VLOOKUP($J4,Base!$A$2:'Base'!$B$6,2)),"",VLOOKUP($J4,Base!$A$2:'Base'!$B$6,2))
B5: =IF(ISNA(VLOOKUP($A5,Base!$A$2:'Base'!$B$6,2)),"",VLOOKUP($A5,Base!$A$2:'Base'!$B$6,2)) | E5: =IF(ISNA(VLOOKUP($D5,Base!$A$2:'Base'!$B$6,2)),"",VLOOKUP($D5,Base!$A$2:'Base'!$B$6,2)) | H5: =IF(ISNA(VLOOKUP($G5,Base!$A$2:'Base'!$B$6,2)),"",VLOOKUP($G5,Base!$A$2:'Base'!$B$6,2)) | K5: =IF(ISNA(VLOOKUP($J5,Base!$A$2:'Base'!$B$6,2)),"",VLOOKUP($J5,Base!$A$2:'Base'!$B$6,2))
B6: =IF(ISNA(VLOOKUP($A6,Base!$A$2:'Base'!$B$6,2)),"",VLOOKUP($A6,Base!$A$2:'Base'!$B$6,2)) | E6: =IF(ISNA(VLOOKUP($D6,Base!$A$2:'Base'!$B$6,2)),"",VLOOKUP($D6,Base!$A$2:'Base'!$B$6,2)) | H6: =IF(ISNA(VLOOKUP($G6,Base!$A$2:'Base'!$B$6,2)),"",VLOOKUP($G6,Base!$A$2:'Base'!$B$6,2)) | K6: =IF(ISNA(VLOOKUP($J6,Base!$A$2:'Base'!$B$6,2)),"",VLOOKUP($J6,Base!$A$2:'Base'!$B$6,2))
A7: Fraise | B7: =IF(ISNA(VLOOKUP($A7,Base!$A$2:'Base'!$B$6,2)),"",VLOOKUP($A7,Base!$A$2:'Base'!$B$6,2)) -> 55 | D7: Banane | E7: =IF(ISNA(VLOOKUP($D7,Base!$A$2:'Base'!$B$6,2)),"",VLOOKUP($D7,Base!$A$2:'Base'!$B$6,2)) -> 20 | G7: Pomme | H7: =IF(ISNA(VLOOKUP($G7,Base!$A$2:'Base'!$B$6,2)),"",VLOOKUP($G7,Base!$A$2:'Base'!$B$6,2)) -> 40 | J7: Banane | K7: =IF(ISNA(VLOOKUP($J7,Base!$A$2:'Base'!$B$6,2)),"",VLOOKUP($J7,Base!$A$2:'Base'!$B$6,2)) -> 20
B8: =IF(ISNA(VLOOKUP($A8,Base!$A$2:'Base'!$B$6,2)),"",VLOOKUP($A8,Base!$A$2:'Base'!$B$6,2)) | E8: =IF(ISNA(VLOOKUP($D8,Base!$A$2:'Base'!$B$6,2)),"",VLOOKUP($D8,Base!$A$2:'Base'!$B$6,2)) | G8: Banane | H8: =IF(ISNA(VLOOKUP($G8,Base!$A$2:'Base'!$B$6,2)),"",VLOOKUP($G8,Base!$A$2:'Base'!$B$6,2)) -> 20 | K8: =IF(ISNA(VLOOKUP($J8,Base!$A$2:'Base'!$B$6,2)),"",VLOOKUP($J8,Base!$A$2:'Base'!$B$6,2))
A9: Ananas | B9: =IF(ISNA(VLOOKUP($A9,Base!$A$2:'Base'!$B$6,2)),"",VLOOKUP($A9,Base!$A$2:'Base'!$B$6,2)) -> 45 | D9: Ananas | E9: =IF(ISNA(VLOOKUP($D9,Base!$A$2:'Base'!$B$6,2)),"",VLOOKUP($D9,Base!$A$2:'Base'!$B$6,2)) -> 45 | G9: Fraise | H9: =IF(ISNA(VLOOKUP($G9,Base!$A$2:'Base'!$B$6,2)),"",VLOOKUP($G9,Base!$A$2:'Base'!$B$6,2)) -> 55 | K9: =IF(ISNA(VLOOKUP($J9,Base!$A$2:'Base'!$B$6,2)),"",VLOOKUP($J9,Base!$A$2:'Base'!$B$6,2))
B10: =IF(ISNA(VLOOKUP($A10,Base!$A$2:'Base'!$B$6,2)),"",VLOOKUP($A10,Base!$A$2:'Base'!$B$6,2)) | E10: =IF(ISNA(VLOOKUP($D10,Base!$A$2:'Base'!$B$6,2)),"",VLOOKUP($D10,Base!$A$2:'Base'!$B$6,2)) | H10: =IF(ISNA(VLOOKUP($G10,Base!$A$2:'Base'!$B$6,2)),"",VLOOKUP($G10,Base!$A$2:'Base'!$B$6,2)) | K10: =IF(ISNA(VLOOKUP($J10,Base!$A$2:'Base'!$B$6,2)),"",VLOOKUP($J10,Base!$A$2:'Base'!$B$6,2))
B11: =IF(ISNA(VLOOKUP($A11,Base!$A$2:'Base'!$B$6,2)),"",VLOOKUP($A11,Base!$A$2:'Base'!$B$6,2)) | D11: Fraise | E11: =IF(ISNA(VLOOKUP($D11,Base!$A$2:'Base'!$B$6,2)),"",VLOOKUP($D11,Base!$A$2:'Base'!$B$6,2)) -> 55 | H11: =IF(ISNA(VLOOKUP($G11,Base!$A$2:'Base'!$B$6,2)),"",VLOOKUP($G11,Base!$A$2:'Base'!$B$6,2)) | K11: =IF(ISNA(VLOOKUP($J11,Base!$A$2:'Base'!$B$6,2)),"",VLOOKUP($J11,Base!$A$2:'Base'!$B$6,2))

Sheet Serv
A1: =Devis!A1 -> JOUR 1 | G1: =Devis!G1 -> JOUR 3 | M1: =Devis!G1 -> JOUR 3 | S1: =Devis!J1 -> JOUR 4
A2: =IF(ISNA(VLOOKUP($D2,Base!$A$2:'Base'!$B$6,1)),"",VLOOKUP($D2,Base!$A$2:'Base'!B$6,1)) -> Banane | D2: =Devis!A2 -> Banane | G2: =IF(ISNA(VLOOKUP($J2,Base!$A$2:'Base'!$B$6,1)),"",VLOOKUP($J2,Base!$A$2:'Base'!B$6,1)) | J2: =Devis!D2 -> 0 | M2: =IF(ISNA(VLOOKUP($P2,Base!$A$2:'Base'!$B$6,1)),"",VLOOKUP($P2,Base!$A$2:'Base'!B$6,1)) | P2: =Devis!G2 -> 0 | S2: =IF(ISNA(VLOOKUP($V2,Base!$A$2:'Base'!$B$6,1)),"",VLOOKUP($V2,Base!$A$2:'Base'!B$6,1)) | V2: =Devis!J2 -> 0
A3: =IF(ISNA(VLOOKUP($D3,Base!$A$2:'Base'!$B$6,1)),"",VLOOKUP($D3,Base!$A$2:'Base'!B$6,1)) -> Poire | D3: =Devis!A3 -> Poire | E3: X | G3: =IF(ISNA(VLOOKUP($J3,Base!$A$2:'Base'!$B$6,1)),"",VLOOKUP($J3,Base!$A$2:'Base'!B$6,1)) -> Fraise | J3: =Devis!D3 -> Fraise | K3: X | M3: =IF(ISNA(VLOOKUP($P3,Base!$A$2:'Base'!$B$6,1)),"",VLOOKUP($P3,Base!$A$2:'Base'!B$6,1)) -> Poire | P3: =Devis!G3 -> Poire | Q3: X | S3: =IF(ISNA(VLOOKUP($V3,Base!$A$2:'Base'!$B$6,1)),"",VLOOKUP($V3,Base!$A$2:'Base'!B$6,1)) -> Banane | V3: =Devis!J3 -> Banane
A4: =IF(ISNA(VLOOKUP($D4,Base!$A$2:'Base'!$B$6,1)),"",VLOOKUP($D4,Base!$A$2:'Base'!B$6,1)) -> Pomme | D4: =Devis!A4 -> Pomme | E4: X | G4: =IF(ISNA(VLOOKUP($J4,Base!$A$2:'Base'!$B$6,1)),"",VLOOKUP($J4,Base!$A$2:'Base'!B$6,1)) | J4: =Devis!D4 -> 0 | M4: =IF(ISNA(VLOOKUP($P4,Base!$A$2:'Base'!$B$6,1)),"",VLOOKUP($P4,Base!$A$2:'Base'!B$6,1)) | P4: =Devis!G4 -> 0 | S4: =IF(ISNA(VLOOKUP($V4,Base!$A$2:'Base'!$B$6,1)),"",VLOOKUP($V4,Base!$A$2:'Base'!B$6,1)) | V4: =Devis!J4 -> 0
A5: =IF(ISNA(VLOOKUP($D5,Base!$A$2:'Base'!$B$6,1)),"",VLOOKUP($D5,Base!$A$2:'Base'!B$6,1)) | D5: =Devis!A5 -> 0 | G5: =IF(ISNA(VLOOKUP($J5,Base!$A$2:'Base'!$B$6,1)),"",VLOOKUP($J5,Base!$A$2:'Base'!B$6,1)) | J5: =Devis!D5 -> 0 | M5: =IF(ISNA(VLOOKUP($P5,Base!$A$2:'Base'!$B$6,1)),"",VLOOKUP($P5,Base!$A$2:'Base'!B$6,1)) | P5: =Devis!G5 -> 0 | S5: =IF(ISNA(VLOOKUP($V5,Base!$A$2:'Base'!$B$6,1)),"",VLOOKUP($V5,Base!$A$2:'Base'!B$6,1)) | V5: =Devis!J5 -> 0
A6: =IF(ISNA(VLOOKUP($D6,Base!$A$2:'Base'!$B$6,1)),"",VLOOKUP($D6,Base!$A$2:'Base'!B$6,1)) | D6: =Devis!A6 -> 0 | G6: =IF(ISNA(VLOOKUP($J6,Base!$A$2:'Base'!$B$6,1)),"",VLOOKUP($J6,Base!$A$2:'Base'!B$6,1)) | J6: =Devis!D6 -> 0 | M6: =IF(ISNA(VLOOKUP($P6,Base!$A$2:'Base'!$B$6,1)),"",VLOOKUP($P6,Base!$A$2:'Base'!B$6,1)) | P6: =Devis!G6 -> 0 | S6: =IF(ISNA(VLOOKUP($V6,Base!$A$2:'Base'!$B$6,1)),"",VLOOKUP($V6,Base!$A$2:'Base'!B$6,1)) | V6: =Devis!J6 -> 0
A7: =IF(ISNA(VLOOKUP($D7,Base!$A$2:'Base'!$B$6,1)),"",VLOOKUP($D7,Base!$A$2:'Base'!B$6,1)) -> Fraise | D7: =Devis!A7 -> Fraise | E7: X | G7: =IF(ISNA(VLOOKUP($J7,Base!$A$2:'Base'!$B$6,1)),"",VLOOKUP($J7,Base!$A$2:'Base'!B$6,1)) -> Banane | J7: =Devis!D7 -> Banane | M7: =IF(ISNA(VLOOKUP($P7,Base!$A$2:'Base'!$B$6,1)),"",VLOOKUP($P7,Base!$A$2:'Base'!B$6,1)) -> Pomme | P7: =Devis!G7 -> Pomme | S7: =IF(ISNA(VLOOKUP($V7,Base!$A$2:'Base'!$B$6,1)),"",VLOOKUP($V7,Base!$A$2:'Base'!B$6,1)) -> Banane | V7: =Devis!J7 -> Banane | W7: X
A8: =IF(ISNA(VLOOKUP($D8,Base!$A$2:'Base'!$B$6,1)),"",VLOOKUP($D8,Base!$A$2:'Base'!B$6,1)) | D8: =Devis!A8 -> 0 | G8: =IF(ISNA(VLOOKUP($J8,Base!$A$2:'Base'!$B$6,1)),"",VLOOKUP($J8,Base!$A$2:'Base'!B$6,1)) | J8: =Devis!D8 -> 0 | M8: =IF(ISNA(VLOOKUP($P8,Base!$A$2:'Base'!$B$6,1)),"",VLOOKUP($P8,Base!$A$2:'Base'!B$6,1)) -> Banane | P8: =Devis!G8 -> Banane | Q8: X | S8: =IF(ISNA(VLOOKUP($V8,Base!$A$2:'Base'!$B$6,1)),"",VLOOKUP($V8,Base!$A$2:'Base'!B$6,1)) | V8: =Devis!J8 -> 0
A9: =IF(ISNA(VLOOKUP($D9,Base!$A$2:'Base'!$B$6,1)),"",VLOOKUP($D9,Base!$A$2:'Base'!B$6,1)) -> Ananas | D9: =Devis!A9 -> Ananas | G9: =IF(ISNA(VLOOKUP($J9,Base!$A$2:'Base'!$B$6,1)),"",VLOOKUP($J9,Base!$A$2:'Base'!B$6,1)) -> Ananas | J9: =Devis!D9 -> Ananas | K9: X | M9: =IF(ISNA(VLOOKUP($P9,Base!$A$2:'Base'!$B$6,1)),"",VLOOKUP($P9,Base!$A$2:'Base'!B$6,1)) -> Fraise | P9: =Devis!G9 -> Fraise | Q9: X | S9: =IF(ISNA(VLOOKUP($V9,Base!$A$2:'Base'!$B$6,1)),"",VLOOKUP($V9,Base!$A$2:'Base'!B$6,1)) | V9: =Devis!J9 -> 0
A10: =IF(ISNA(VLOOKUP($D10,Base!$A$2:'Base'!$B$6,1)),"",VLOOKUP($D10,Base!$A$2:'Base'!B$6,1)) | D10: =Devis!A10 -> 0 | G10: =IF(ISNA(VLOOKUP($J10,Base!$A$2:'Base'!$B$6,1)),"",VLOOKUP($J10,Base!$A$2:'Base'!B$6,1)) | J10: =Devis!D10 -> 0 | M10: =IF(ISNA(VLOOKUP($P10,Base!$A$2:'Base'!$B$6,1)),"",VLOOKUP($P10,Base!$A$2:'Base'!B$6,1)) | P10: =Devis!G10 -> 0 | S10: =IF(ISNA(VLOOKUP($V10,Base!$A$2:'Base'!$B$6,1)),"",VLOOKUP($V10,Base!$A$2:'Base'!B$6,1)) | V10: =Devis!J10 -> 0
A11: =IF(ISNA(VLOOKUP($D11,Base!$A$2:'Base'!$B$6,1)),"",VLOOKUP($D11,Base!$A$2:'Base'!B$6,1)) | D11: =Devis!A11 -> 0 | G11: =IF(ISNA(VLOOKUP($J11,Base!$A$2:'Base'!$B$6,1)),"",VLOOKUP($J11,Base!$A$2:'Base'!B$6,1)) -> Fraise | J11: =Devis!D11 -> Fraise | M11: =IF(ISNA(VLOOKUP($P11,Base!$A$2:'Base'!$B$6,1)),"",VLOOKUP($P11,Base!$A$2:'Base'!B$6,1)) | P11: =Devis!G11 -> 0 | S11: =IF(ISNA(VLOOKUP($V11,Base!$A$2:'Base'!$B$6,1)),"",VLOOKUP($V11,Base!$A$2:'Base'!B$6,1)) | V11: =Devis!J11 -> 0

Sheet Resa
A1: FRUITS/JOUR | B1: =Devis!A1 -> JOUR 1 | C1: =Devis!D1 -> JOUR 2 | D1: =Devis!G1 -> JOUR 3 | E1: =Devis!J1 -> JOUR 4
A2: FRUIT 1 | B2: =IF(Serv!E2<>"",Serv!A2,"") | C2: =IF(Serv!K2<>"",Serv!G2,"") | D2: =IF(Serv!Q2<>"",Serv!M2,"") | E2: =IF(Serv!W2<>"",Serv!S2,"")
A3: FRUIT 2 | B3: =IF(Serv!E3<>"",Serv!A3,"") -> Poire | C3: =IF(Serv!K3<>"",Serv!G3,"") -> Fraise | D3: =IF(Serv!Q3<>"",Serv!M3,"") -> Poire | E3: =IF(Serv!W3<>"",Serv!S3,"")
A4: FRUIT 3 | B4: =IF(Serv!E4<>"",Serv!A4,"") -> Pomme | C4: =IF(Serv!K4<>"",Serv!G4,"") | D4: =IF(Serv!Q4<>"",Serv!M4,"") | E4: =IF(Serv!W4<>"",Serv!S4,"")
A5: FRUIT 4 | B5: =IF(Serv!E5<>"",Serv!A5,"") | C5: =IF(Serv!K5<>"",Serv!G5,"") | D5: =IF(Serv!Q5<>"",Serv!M5,"") | E5: =IF(Serv!W5<>"",Serv!S5,"")
A6: FRUIT 5 | B6: =IF(Serv!E6<>"",Serv!A6,"") | C6: =IF(Serv!K6<>"",Serv!G6,"") | D6: =IF(Serv!Q6<>"",Serv!M6,"") | E6: =IF(Serv!W6<>"",Serv!S6,"")
A7: FRUIT 6 | B7: =IF(Serv!E7<>"",Serv!A7,"") -> Fraise | C7: =IF(Serv!K7<>"",Serv!G7,"") | D7: =IF(Serv!Q7<>"",Serv!M7,"") | E7: =IF(Serv!W7<>"",Serv!S7,"") -> Banane
A8: FRUIT 7 | B8: =IF(Serv!E8<>"",Serv!A8,"") | C8: =IF(Serv!K8<>"",Serv!G8,"") | D8: =IF(Serv!Q8<>"",Serv!M8,"") -> Banane | E8: =IF(Serv!W8<>"",Serv!S8,"")
A9: FRUIT 8 | B9: =IF(Serv!E9<>"",Serv!A9,"") | C9: =IF(Serv!K9<>"",Serv!G9,"") -> Ananas | D9: =IF(Serv!Q9<>"",Serv!M9,"") -> Fraise | E9: =IF(Serv!W9<>"",Serv!S9,"")
A10: FRUIT 9 | B10: =IF(Serv!E10<>"",Serv!A10,"") | C10: =IF(Serv!K10<>"",Serv!G10,"") | D10: =IF(Serv!Q10<>"",Serv!M10,"") | E10: =IF(Serv!W10<>"",Serv!S10,"")
A11: FRUIT 10 | B11: =IF(Serv!E11<>"",Serv!A11,"") | C11: =IF(Serv!K11<>"",Serv!G11,"") | D11: =IF(Serv!Q11<>"",Serv!M11,"") | E11: =IF(Serv!W11<>"",Serv!S11,"")

Sheet Factures
A1: =Resa!B1 -> JOUR 1 | B1: =Resa!C1 -> JOUR 2 | C1: =Resa!D1 -> JOUR 3 | D1: =Resa!E1 -> JOUR 4
A3: FACTURE COMMANDE | B3: FACTURE COMMANDE | C3: FACTURE COMMANDE | D3: FACTURE COMMANDE
A5: N° 1 | B5: N° 1 | C5: N° 1 | D5: N° 1
A7: {=IFERROR(INDEX(Resa!B$2:B$11,SMALL(IF(Resa!B$2:B$11<>"",ROW($1:$9)),RIGHT(A5,1))),"")} -> Poire | B7: {=IFERROR(INDEX(Resa!C$2:C$11,SMALL(IF(Resa!C$2:C$11<>"",ROW($1:$9)),RIGHT(B5,1))),"")} -> Fraise | C7: {=IFERROR(INDEX(Resa!D$2:D$11,SMALL(IF(Resa!D$2:D$11<>"",ROW($1:$9)),RIGHT(C5,1))),"")} -> Poire | D7: {=IFERROR(INDEX(Resa!E$2:E$11,SMALL(IF(Resa!E$2:E$11<>"",ROW($1:$9)),RIGHT(D5,1))),"")} -> Banane
A8: =VLOOKUP($A$7,Base!$A$2:'Base'!B$6,2,0) -> 50 | B8: =VLOOKUP($A$7,Base!$A$2:'Base'!C$6,2,0) -> 50 | C8: =VLOOKUP($A$7,Base!$A$2:'Base'!D$6,2,0) -> 50 | D8: =VLOOKUP($A$7,Base!$A$2:'Base'!E$6,2,0) -> 50
A12: Magasin de fruits | B12: Magasin de fruits | C12: Magasin de fruits | D12: Magasin de fruits
A16: FACTURE COMMANDE | B16: FACTURE COMMANDE | C16: FACTURE COMMANDE | D16: FACTURE COMMANDE
A18: N° 2 | B18: N° 2 | C18: N° 2 | D18: N° 2
A20: {=IFERROR(INDEX(Resa!B$2:B$11,SMALL(IF(Resa!B$2:B$11<>"",ROW($1:$9)),RIGHT(A18,1))),"")} -> Pomme | B20: {=IFERROR(INDEX(Resa!C$2:C$11,SMALL(IF(Resa!C$2:C$11<>"",ROW($1:$9)),RIGHT(B18,1))),"")} -> Ananas | C20: {=IFERROR(INDEX(Resa!D$2:D$11,SMALL(IF(Resa!D$2:D$11<>"",ROW($1:$9)),RIGHT(C18,1))),"")} -> Banane | D20: {=IFERROR(INDEX(Resa!E$2:E$11,SMALL(IF(Resa!E$2:E$11<>"",ROW($1:$9)),RIGHT(D18,1))),"")}
A21: =VLOOKUP($A$7,Base!$A$2:'Base'!B$6,2,0) -> 50 | B21: =VLOOKUP($A$7,Base!$A$2:'Base'!C$6,2,0) -> 50 | C21: =VLOOKUP($A$7,Base!$A$2:'Base'!D$6,2,0) -> 50 | D21: =VLOOKUP($A$7,Base!$A$2:'Base'!E$6,2,0) -> 50
A25: Magasin de fruits | B25: Magasin de fruits | C25: Magasin de fruits | D25: Magasin de fruits
A29: FACTURE COMMANDE | B29: FACTURE COMMANDE | C29: FACTURE COMMANDE | D29: FACTURE COMMANDE
A31: N° 3 | B31: N° 3 | C31: N° 3 | D31: N° 3
A33: {=IFERROR(INDEX(Resa!B$2:B$11,SMALL(IF(Resa!B$2:B$11<>"",ROW($1:$9)),RIGHT(A31,1))),"")} -> Fraise | B33: {=IFERROR(INDEX(Resa!C$2:C$11,SMALL(IF(Resa!C$2:C$11<>"",ROW($1:$9)),RIGHT(B31,1))),"")} | C33: {=IFERROR(INDEX(Resa!D$2:D$11,SMALL(IF(Resa!D$2:D$11<>"",ROW($1:$9)),RIGHT(C31,1))),"")} -> Fraise | D33: {=IFERROR(INDEX(Resa!E$2:E$11,SMALL(IF(Resa!E$2:E$11<>"",ROW($1:$9)),RIGHT(D31,1))),"")}
A34: =VLOOKUP($A$7,Base!$A$2:'Base'!B$6,2,0) -> 50 | B34: =VLOOKUP($A$7,Base!$A$2:'Base'!C$6,2,0) -> 50 | C34: =VLOOKUP($A$7,Base!$A$2:'Base'!D$6,2,0) -> 50 | D34: =VLOOKUP($A$7,Base!$A$2:'Base'!E$6,2,0) -> 50
A38: Magasin de fruits | B38: Magasin de fruits | C38: Magasin de fruits | D38: Magasin de fruits
A42: FACTURE COMMANDE | B42: FACTURE COMMANDE | C42: FACTURE COMMANDE | D42: FACTURE COMMANDE
A44: N° 4 | B44: N° 4 | C44: N° 4 | D44: N° 4
A46: {=IFERROR(INDEX(Resa!B$2:B$11,SMALL(IF(Resa!B$2:B$11<>"",ROW($1:$9)),RIGHT(A44,1))),"")} | B46: {=IFERROR(INDEX(Resa!C$2:C$11,SMALL(IF(Resa!C$2:C$11<>"",ROW($1:$9)),RIGHT(B44,1))),"")} | C46: {=IFERROR(INDEX(Resa!D$2:D$11,SMALL(IF(Resa!D$2:D$11<>"",ROW($1:$9)),RIGHT(C44,1))),"")} | D46: {=IFERROR(INDEX(Resa!E$2:E$11,SMALL(IF(Resa!E$2:E$11<>"",ROW($1:$9)),RIGHT(D44,1))),"")}
A47: =VLOOKUP($A$7,Base!$A$2:'Base'!B$6,2,0) -> 50 | B47: =VLOOKUP($A$7,Base!$A$2:'Base'!C$6,2,0) -> 50 | C47: =VLOOKUP($A$7,Base!$A$2:'Base'!D$6,2,0) -> 50 | D47: =VLOOKUP($A$7,Base!$A$2:'Base'!E$6,2,0) -> 50
A51: Magasin de fruits | B51: Magasin de fruits | C51: Magasin de fruits | D51: Magasin de fruits
A55: FACTURE COMMANDE | B55: FACTURE COMMANDE | C55: FACTURE COMMANDE | D55: FACTURE COMMANDE
A57: N° 5 | B57: N° 5 | C57: N° 5 | D57: N° 5
A59: {=IFERROR(INDEX(Resa!B$2:B$11,SMALL(IF(Resa!B$2:B$11<>"",ROW($1:$9)),RIGHT(A57,1))),"")} | B59: {=IFERROR(INDEX(Resa!C$2:C$11,SMALL(IF(Resa!C$2:C$11<>"",ROW($1:$9)),RIGHT(B57,1))),"")} | C59: {=IFERROR(INDEX(Resa!D$2:D$11,SMALL(IF(Resa!D$2:D$11<>"",ROW($1:$9)),RIGHT(C57,1))),"")} | D59: {=IFERROR(INDEX(Resa!E$2:E$11,SMALL(IF(Resa!E$2:E$11<>"",ROW($1:$9)),RIGHT(D57,1))),"")}
A60: =VLOOKUP($A$7,Base!$A$2:'Base'!B$6,2,0) -> 50 | B60: =VLOOKUP($A$7,Base!$A$2:'Base'!C$6,2,0) -> 50 | C60: =VLOOKUP($A$7,Base!$A$2:'Base'!D$6,2,0) -> 50 | D60: =VLOOKUP($A$7,Base!$A$2:'Base'!E$6,2,0) -> 50
A64: Magasin de fruits | B64: Magasin de fruits | C64: Magasin de fruits | D64: Magasin de fruits
A68: FACTURE COMMANDE | B68: FACTURE COMMANDE | C68: FACTURE COMMANDE | D68: FACTURE COMMANDE
A70: N° 6 | B70: N° 6 | C70: N° 6 | D70: N° 6
A72: {=IFERROR(INDEX(Resa!B$2:B$11,SMALL(IF(Resa!B$2:B$11<>"",ROW($1:$9)),RIGHT(A70,1))),"")} | B72: {=IFERROR(INDEX(Resa!C$2:C$11,SMALL(IF(Resa!C$2:C$11<>"",ROW($1:$9)),RIGHT(B70,1))),"")} | C72: {=IFERROR(INDEX(Resa!D$2:D$11,SMALL(IF(Resa!D$2:D$11<>"",ROW($1:$9)),RIGHT(C70,1))),"")} | D72: {=IFERROR(INDEX(Resa!E$2:E$11,SMALL(IF(Resa!E$2:E$11<>"",ROW($1:$9)),RIGHT(D70,1))),"")}
A73: =VLOOKUP($A$7,Base!$A$2:'Base'!B$6,2,0) -> 50 | B73: =VLOOKUP($A$7,Base!$A$2:'Base'!C$6,2,0) -> 50 | C73: =VLOOKUP($A$7,Base!$A$2:'Base'!D$6,2,0) -> 50 | D73: =VLOOKUP($A$7,Base!$A$2:'Base'!E$6,2,0) -> 50
A77: Magasin de fruits | B77: Magasin de fruits | C77: Magasin de fruits | D77: Magasin de fruits
A81: FACTURE COMMANDE | B81: FACTURE COMMANDE | C81: FACTURE COMMANDE | D81: FACTURE COMMANDE
A83: N° 7 | B83: N° 7 | C83: N° 7 | D83: N° 7
A85: {=IFERROR(INDEX(Resa!B$2:B$11,SMALL(IF(Resa!B$2:B$11<>"",ROW($1:$9)),RIGHT(A83,1))),"")} | B85: {=IFERROR(INDEX(Resa!C$2:C$11,SMALL(IF(Resa!C$2:C$11<>"",ROW($1:$9)),RIGHT(B83,1))),"")} | C85: {=IFERROR(INDEX(Resa!D$2:D$11,SMALL(IF(Resa!D$2:D$11<>"",ROW($1:$9)),RIGHT(C83,1))),"")} | D85: {=IFERROR(INDEX(Resa!E$2:E$11,SMALL(IF(Resa!E$2:E$11<>"",ROW($1:$9)),RIGHT(D83,1))),"")}
A86: =VLOOKUP($A$7,Base!$A$2:'Base'!B$6,2,0) -> 50 | B86: =VLOOKUP($A$7,Base!$A$2:'Base'!C$6,2,0) -> 50 | C86: =VLOOKUP($A$7,Base!$A$2:'Base'!D$6,2,0) -> 50 | D86: =VLOOKUP($A$7,Base!$A$2:'Base'!E$6,2,0) -> 50
A90: Magasin de fruits | B90: Magasin de fruits | C90: Magasin de fruits | D90: Magasin de fruits
A94: FACTURE COMMANDE | B94: FACTURE COMMANDE | C94: FACTURE COMMANDE | D94: FACTURE COMMANDE
A96: N° 8 | B96: N° 8 | C96: N° 8 | D96: N° 8
A98: {=IFERROR(INDEX(Resa!B$2:B$11,SMALL(IF(Resa!B$2:B$11<>"",ROW($1:$9)),RIGHT(A96,1))),"")} | B98: {=IFERROR(INDEX(Resa!C$2:C$11,SMALL(IF(Resa!C$2:C$11<>"",ROW($1:$9)),RIGHT(B96,1))),"")} | C98: {=IFERROR(INDEX(Resa!D$2:D$11,SMALL(IF(Resa!D$2:D$11<>"",ROW($1:$9)),RIGHT(C96,1))),"")} | D98: {=IFERROR(INDEX(Resa!E$2:E$11,SMALL(IF(Resa!E$2:E$11<>"",ROW($1:$9)),RIGHT(D96,1))),"")}
A99: =VLOOKUP($A$7,Base!$A$2:'Base'!B$6,2,0) -> 50 | B99: =VLOOKUP($A$7,Base!$A$2:'Base'!C$6,2,0) -> 50 | C99: =VLOOKUP($A$7,Base!$A$2:'Base'!D$6,2,0) -> 50 | D99: =VLOOKUP($A$7,Base!$A$2:'Base'!E$6,2,0) -> 50
...
