Workbook

Sheet AVEC
A1: N° | C1: DATE | E1: ARRIVEE | K1: CLASSEMENT FINAL
E2: 1 | F2: 2 | G2: 3 | H2: 4 | I2: 5 | K2: 1 | L2: 2 | M2: 3 | N2: 4 | O2: 5 | P2: 6 | Q2: 7 | R2: 8 | S2: 9 | T2: 10 | U2: 11 | V2: 12 | W2: 13 | X2: 14 | Y2: 15 | Z2: 16 | AB2: 1 | AC2: 2 | AD2: 3 | AE2: 4 | AF2: 5 | AG2: 6 | AH2: 7 | AI2: 8 | AJ2: 9 | AK2: 10 | AL2: 11 | AM2: 12 | AN2: 13 | AO2: 14 | AP2: 15 | AQ2: 16 | AS2: 1 | AT2: 2 | AU2: 3 | AV2: 4 | AW2: 5 | AX2: 6 | AY2: 7 | AZ2: 8 | BA2: 9 | BB2: 10 | BC2: 11 | BD2: 12 | BE2: 13 | BF2: 14 | BG2: 15 | BH2: 16
A3: 1 | C3: ='[1]DONNES COURSES'!C3 -> 43794 | E3: ='[1]DONNES COURSES'!E3 -> 9 | F3: ='[1]DONNES COURSES'!F3 -> 2 | G3: ='[1]DONNES COURSES'!G3 -> 11 | H3: ='[1]DONNES COURSES'!H3 -> 10 | I3: ='[1]DONNES COURSES'!I3 -> 8 | K3: 12 | L3: 9 | M3: 11 | N3: 2 | O3: 4 | P3: 7 | Q3: 5 | R3: 8 | S3: 13 | T3: 1 | U3: 10 | V3: 3 | AB3: =IF(K3=$AS3,K3,IF(K3=$AT3,K3,IF(K3=$AU3,K3,IF(K3=$AV3,K3,IF(K3=$AW3,K3,IF(K3=$AX3,K3,IF(K3=$AY3,K3,IF(K3=$AZ3,K3,IF(K3=$BA3,K3,IF(K3=$BB3,K3,IF(K3=$BC3,K3,IF(K3=$BD3,K3,IF(K3=$BE3,K3,IF(K3=$BF3,K3,IF(K3=$BG3,K3,IF(K3=$BH3,K3,0)))))))))))))))) -> 0 | AC3: =IF(L3=$AS3,L3,IF(L3=$AT3,L3,IF(L3=$AU3,L3,IF(L3=$AV3,L3,IF(L3=$AW3,L3,IF(L3=$AX3,L3,IF(L3=$AY3,L3,IF(L3=$AZ3,L3,IF(L3=$BA3,L3,IF(L3=$BB3,L3,IF(L3=$BC3,L3,IF(L3=$BD3,L3,IF(L3=$BE3,L3,IF(L3=$BF3,L3,IF(L3=$BG3,L3,IF(L3=$BH3,L3,0)))))))))))))))) -> 9 | AD3: =IF(M3=$AS3,M3,IF(M3=$AT3,M3,IF(M3=$AU3,M3,IF(M3=$AV3,M3,IF(M3=$AW3,M3,IF(M3=$AX3,M3,IF(M3=$AY3,M3,IF(M3=$AZ3,M3,IF(M3=$BA3,M3,IF(M3=$BB3,M3,IF(M3=$BC3,M3,IF(M3=$BD3,M3,IF(M3=$BE3,M3,IF(M3=$BF3,M3,IF(M3=$BG3,M3,IF(M3=$BH3,M3,0)))))))))))))))) -> 11 | AE3: =IF(N3=$AS3,N3,IF(N3=$AT3,N3,IF(N3=$AU3,N3,IF(N3=$AV3,N3,IF(N3=$AW3,N3,IF(N3=$AX3,N3,IF(N3=$AY3,N3,IF(N3=$AZ3,N3,IF(N3=$BA3,N3,IF(N3=$BB3,N3,IF(N3=$BC3,N3,IF(N3=$BD3,N3,IF(N3=$BE3,N3,IF(N3=$BF3,N3,IF(N3=$BG3,N3,IF(N3=$BH3,N3,0)))))))))))))))) -> 2 | AF3: =IF(O3=$AS3,O3,IF(O3=$AT3,O3,IF(O3=$AU3,O3,IF(O3=$AV3,O3,IF(O3=$AW3,O3,IF(O3=$AX3,O3,IF(O3=$AY3,O3,IF(O3=$AZ3,O3,IF(O3=$BA3,O3,IF(O3=$BB3,O3,IF(O3=$BC3,O3,IF(O3=$BD3,O3,IF(O3=$BE3,O3,IF(O3=$BF3,O3,IF(O3=$BG3,O3,IF(O3=$BH3,O3,0)))))))))))))))) -> 4 | AG3: =IF(P3=$AS3,P3,IF(P3=$AT3,P3,IF(P3=$AU3,P3,IF(P3=$AV3,P3,IF(P3=$AW3,P3,IF(P3=$AX3,P3,IF(P3=$AY3,P3,IF(P3=$AZ3,P3,IF(P3=$BA3,P3,IF(P3=$BB3,P3,IF(P3=$BC3,P3,IF(P3=$BD3,P3,IF(P3=$BE3,P3,IF(P3=$BF3,P3,IF(P3=$BG3,P3,IF(P3=$BH3,P3,0)))))))))))))))) -> 7 | AH3: =IF(Q3=$AS3,Q3,IF(Q3=$AT3,Q3,IF(Q3=$AU3,Q3,IF(Q3=$AV3,Q3,IF(Q3=$AW3,Q3,IF(Q3=$AX3,Q3,IF(Q3=$AY3,Q3,IF(Q3=$AZ3,Q3,IF(Q3=$BA3,Q3,IF(Q3=$BB3,Q3,IF(Q3=$BC3,Q3,IF(Q3=$BD3,Q3,IF(Q3=$BE3,Q3,IF(Q3=$BF3,Q3,IF(Q3=$BG3,Q3,IF(Q3=$BH3,Q3,0)))))))))))))))) -> 0 | AI3: =IF(R3=$AS3,R3,IF(R3=$AT3,R3,IF(R3=$AU3,R3,IF(R3=$AV3,R3,IF(R3=$AW3,R3,IF(R3=$AX3,R3,IF(R3=$AY3,R3,IF(R3=$AZ3,R3,IF(R3=$BA3,R3,IF(R3=$BB3,R3,IF(R3=$BC3,R3,IF(R3=$BD3,R3,IF(R3=$BE3,R3,IF(R3=$BF3,R3,IF(R3=$BG3,R3,IF(R3=$BH3,R3,0)))))))))))))))) -> 0 | ... AQ3: =IF(Z3=$AS3,Z3,IF(Z3=$AT3,Z3,IF(Z3=$AU3,Z3,IF(Z3=$AV3,Z3,IF(Z3=$AW3,Z3,IF(Z3=$AX3,Z3,IF(Z3=$AY3,Z3,IF(Z3=$AZ3,Z3,IF(Z3=$BA3,Z3,IF(Z3=$BB3,Z3,IF(Z3=$BC3,Z3,IF(Z3=$BD3,Z3,IF(Z3=$BE3,Z3,IF(Z3=$BF3,Z3,IF(Z3=$BG3,Z3,IF(Z3=$BH3,Z3,0)))))))))))))))) -> 0 | AS3: 9 | AT3: 11 | AU3: 3 | AV3: 13 | AW3: 2 | AX3: 10 | AY3: 7 | AZ3: 4
I5: sans | K5: 9 | L5: 11 | M5: 3 | N5: 13 | O5: 2 | P5: 10 | Q5: 7 | R5: 4
F6: avec
K8: =HLOOKUP(K3,$K$5:$Z$5,1,0) -> #N/A | L8: =HLOOKUP(L3,$K$5:$Z$5,1,0) -> 9 | M8: =HLOOKUP(M3,$K$5:$Z$5,1,0) -> 11 | N8: =HLOOKUP(N3,$K$5:$Z$5,1,0) -> 2 | O8: =HLOOKUP(O3,$K$5:$Z$5,1,0) -> 4 | P8: =HLOOKUP(P3,$K$5:$Z$5,1,0) -> 7 | Q8: =HLOOKUP(Q3,$K$5:$Z$5,1,0) -> #N/A | R8: =HLOOKUP(R3,$K$5:$Z$5,1,0) -> #N/A | ... Z8: =HLOOKUP(Z3,$K$5:$Z$5,1,0) -> #N/A
K10: {=IF(COUNTIF($K$5:$Z$5,$K$3:$Z$3)>0,COLUMN($K$3:$Z$3)-10)} -> FALSE | L10: 2 | M10: 3 | N10: 4 | O10: 5 | P10: 6 | Q10: FALSE | R10: FALSE | S10: 9 | T10: FALSE | U10: 11 | V10: 12 | W10: FALSE | X10: FALSE | Y10: FALSE | Z10: FALSE
K12: {=IFERROR(INDEX('[2]CRACK SERIES'!$K$3:$Z$3,SMALL(IF(COUNTIF($K$5:$Z$5,'[2]CRACK SERIES'!$K$3:$Z$3)>0,COLUMN($K$3:$Z$3)-10),COLUMNS($A:A))),"")} -> 9 | L12: {=IFERROR(INDEX('[2]CRACK SERIES'!$K$3:$Z$3,SMALL(IF(COUNTIF($K$5:$Z$5,'[2]CRACK SERIES'!$K$3:$Z$3)>0,COLUMN($K$3:$Z$3)-10),COLUMNS($A:B))),"")} -> 11 | M12: {=IFERROR(INDEX('[2]CRACK SERIES'!$K$3:$Z$3,SMALL(IF(COUNTIF($K$5:$Z$5,'[2]CRACK SERIES'!$K$3:$Z$3)>0,COLUMN($K$3:$Z$3)-10),COLUMNS($A:C))),"")} -> 2 | N12: {=IFERROR(INDEX('[2]CRACK SERIES'!$K$3:$Z$3,SMALL(IF(COUNTIF($K$5:$Z$5,'[2]CRACK SERIES'!$K$3:$Z$3)>0,COLUMN($K$3:$Z$3)-10),COLUMNS($A:D))),"")} -> 4 | O12: {=IFERROR(INDEX('[2]CRACK SERIES'!$K$3:$Z$3,SMALL(IF(COUNTIF($K$5:$Z$5,'[2]CRACK SERIES'!$K$3:$Z$3)>0,COLUMN($K$3:$Z$3)-10),COLUMNS($A:E))),"")} -> 7 | P12: {=IFERROR(INDEX('[2]CRACK SERIES'!$K$3:$Z$3,SMALL(IF(COUNTIF($K$5:$Z$5,'[2]CRACK SERIES'!$K$3:$Z$3)>0,COLUMN($K$3:$Z$3)-10),COLUMNS($A:F))),"")} -> 13 | Q12: {=IFERROR(INDEX('[2]CRACK SERIES'!$K$3:$Z$3,SMALL(IF(COUNTIF($K$5:$Z$5,'[2]CRACK SERIES'!$K$3:$Z$3)>0,COLUMN($K$3:$Z$3)-10),COLUMNS($A:G))),"")} -> 10 | R12: {=IFERROR(INDEX('[2]CRACK SERIES'!$K$3:$Z$3,SMALL(IF(COUNTIF($K$5:$Z$5,'[2]CRACK SERIES'!$K$3:$Z$3)>0,COLUMN($K$3:$Z$3)-10),COLUMNS($A:H))),"")} -> 3 | S12: {=IFERROR(INDEX('[2]CRACK SERIES'!$K$3:$Z$3,SMALL(IF(COUNTIF($K$5:$Z$5,'[2]CRACK SERIES'!$K$3:$Z$3)>0,COLUMN($K$3:$Z$3)-10),COLUMNS($A:I))),"")} | T12: {=IFERROR(INDEX('[2]CRACK SERIES'!$K$3:$Z$3,SMALL(IF(COUNTIF($K$5:$Z$5,'[2]CRACK SERIES'!$K$3:$Z$3)>0,COLUMN($K$3:$Z$3)-10),COLUMNS($A:J))),"")} | U12: {=IFERROR(INDEX('[2]CRACK SERIES'!$K$3:$Z$3,SMALL(IF(COUNTIF($K$5:$Z$5,'[2]CRACK SERIES'!$K$3:$Z$3)>0,COLUMN($K$3:$Z$3)-10),COLUMNS($A:K))),"")} | V12: {=IFERROR(INDEX('[2]CRACK SERIES'!$K$3:$Z$3,SMALL(IF(COUNTIF($K$5:$Z$5,'[2]CRACK SERIES'!$K$3:$Z$3)>0,COLUMN($K$3:$Z$3)-10),COLUMNS($A:L))),"")} | W12: {=IFERROR(INDEX('[2]CRACK SERIES'!$K$3:$Z$3,SMALL(IF(COUNTIF($K$5:$Z$5,'[2]CRACK SERIES'!$K$3:$Z$3)>0,COLUMN($K$3:$Z$3)-10),COLUMNS($A:M))),"")} | X12: {=IFERROR(INDEX('[2]CRACK SERIES'!$K$3:$Z$3,SMALL(IF(COUNTIF($K$5:$Z$5,'[2]CRACK SERIES'!$K$3:$Z$3)>0,COLUMN($K$3:$Z$3)-10),COLUMNS($A:N))),"")} | Y12: {=IFERROR(INDEX('[2]CRACK SERIES'!$K$3:$Z$3,SMALL(IF(COUNTIF($K$5:$Z$5,'[2]CRACK SERIES'!$K$3:$Z$3)>0,COLUMN($K$3:$Z$3)-10),COLUMNS($A:O))),"")} | Z12: {=IFERROR(INDEX('[2]CRACK SERIES'!$K$3:$Z$3,SMALL(IF(COUNTIF($K$5:$Z$5,'[2]CRACK SERIES'!$K$3:$Z$3)>0,COLUMN($K$3:$Z$3)-10),COLUMNS($A:P))),"")}

Sheet SANS
A1: N° | C1: DATE | E1: ARRIVEE | K1: CLASSEMENT FINAL
E2: 1 | F2: 2 | G2: 3 | H2: 4 | I2: 5 | K2: 1 | L2: 2 | M2: 3 | N2: 4 | O2: 5 | P2: 6 | Q2: 7 | R2: 8 | S2: 9 | T2: 10 | U2: 11 | V2: 12 | W2: 13 | X2: 14 | Y2: 15 | Z2: 16 | AB2: 1 | AC2: 2 | AD2: 3 | AE2: 4 | AF2: 5 | AG2: 6 | AH2: 7 | AI2: 8 | AJ2: 9 | AK2: 10 | AL2: 11 | AM2: 12 | AN2: 13 | AO2: 14 | AP2: 15 | AQ2: 16 | AS2: 1 | AT2: 2 | AU2: 3 | AV2: 4 | AW2: 5 | AX2: 6 | AY2: 7 | AZ2: 8 | BA2: 9 | BB2: 10 | BC2: 11 | BD2: 12 | BE2: 13 | BF2: 14 | BG2: 15 | BH2: 16
A3: 1 | C3: ='[1]DONNES COURSES'!C3 -> 43794 | E3: ='[1]DONNES COURSES'!E3 -> 9 | F3: ='[1]DONNES COURSES'!F3 -> 2 | G3: ='[1]DONNES COURSES'!G3 -> 11 | H3: ='[1]DONNES COURSES'!H3 -> 10 | I3: ='[1]DONNES COURSES'!I3 -> 8 | K3: {=IFERROR(INDEX(AVEC!$K$3:$Z$3,SMALL(IF(COUNTIF('[2]DONNES COURSES'!$S$3:$AH$3,AVEC!$K$3:$Z$3)>0,COLUMN($K$3:$Z$3)-10),COLUMNS($A:A))),"")} -> 9 | L3: {=IFERROR(INDEX(AVEC!$K$3:$Z$3,SMALL(IF(COUNTIF('[2]DONNES COURSES'!$S$3:$AH$3,AVEC!$K$3:$Z$3)>0,COLUMN($K$3:$Z$3)-10),COLUMNS($A:B))),"")} -> 11 | M3: {=IFERROR(INDEX(AVEC!$K$3:$Z$3,SMALL(IF(COUNTIF('[2]DONNES COURSES'!$S$3:$AH$3,AVEC!$K$3:$Z$3)>0,COLUMN($K$3:$Z$3)-10),COLUMNS($A:C))),"")} -> 2 | N3: {=IFERROR(INDEX(AVEC!$K$3:$Z$3,SMALL(IF(COUNTIF('[2]DONNES COURSES'!$S$3:$AH$3,AVEC!$K$3:$Z$3)>0,COLUMN($K$3:$Z$3)-10),COLUMNS($A:D))),"")} -> 4 | O3: {=IFERROR(INDEX(AVEC!$K$3:$Z$3,SMALL(IF(COUNTIF('[2]DONNES COURSES'!$S$3:$AH$3,AVEC!$K$3:$Z$3)>0,COLUMN($K$3:$Z$3)-10),COLUMNS($A:E))),"")} -> 7 | P3: {=IFERROR(INDEX(AVEC!$K$3:$Z$3,SMALL(IF(COUNTIF('[2]DONNES COURSES'!$S$3:$AH$3,AVEC!$K$3:$Z$3)>0,COLUMN($K$3:$Z$3)-10),COLUMNS($A:F))),"")} -> 13 | Q3: {=IFERROR(INDEX(AVEC!$K$3:$Z$3,SMALL(IF(COUNTIF('[2]DONNES COURSES'!$S$3:$AH$3,AVEC!$K$3:$Z$3)>0,COLUMN($K$3:$Z$3)-10),COLUMNS($A:G))),"")} -> 10 | R3: {=IFERROR(INDEX(AVEC!$K$3:$Z$3,SMALL(IF(COUNTIF('[2]DONNES COURSES'!$S$3:$AH$3,AVEC!$K$3:$Z$3)>0,COLUMN($K$3:$Z$3)-10),COLUMNS($A:H))),"")} -> 3 | S3: {=IFERROR(INDEX(AVEC!$K$3:$Z$3,SMALL(IF(COUNTIF('[2]DONNES COURSES'!$S$3:$AH$3,AVEC!$K$3:$Z$3)>0,COLUMN($K$3:$Z$3)-10),COLUMNS($A:I))),"")} | T3: {=IFERROR(INDEX(AVEC!$K$3:$Z$3,SMALL(IF(COUNTIF('[2]DONNES COURSES'!$S$3:$AH$3,AVEC!$K$3:$Z$3)>0,COLUMN($K$3:$Z$3)-10),COLUMNS($A:J))),"")} | U3: {=IFERROR(INDEX(AVEC!$K$3:$Z$3,SMALL(IF(COUNTIF('[2]DONNES COURSES'!$S$3:$AH$3,AVEC!$K$3:$Z$3)>0,COLUMN($K$3:$Z$3)-10),COLUMNS($A:K))),"")} | V3: {=IFERROR(INDEX(AVEC!$K$3:$Z$3,SMALL(IF(COUNTIF('[2]DONNES COURSES'!$S$3:$AH$3,AVEC!$K$3:$Z$3)>0,COLUMN($K$3:$Z$3)-10),COLUMNS($A:L))),"")} | W3: {=IFERROR(INDEX(AVEC!$K$3:$Z$3,SMALL(IF(COUNTIF('[2]DONNES COURSES'!$S$3:$AH$3,AVEC!$K$3:$Z$3)>0,COLUMN($K$3:$Z$3)-10),COLUMNS($A:M))),"")} | X3: {=IFERROR(INDEX(AVEC!$K$3:$Z$3,SMALL(IF(COUNTIF('[2]DONNES COURSES'!$S$3:$AH$3,AVEC!$K$3:$Z$3)>0,COLUMN($K$3:$Z$3)-10),COLUMNS($A:N))),"")} | Y3: {=IFERROR(INDEX(AVEC!$K$3:$Z$3,SMALL(IF(COUNTIF('[2]DONNES COURSES'!$S$3:$AH$3,AVEC!$K$3:$Z$3)>0,COLUMN($K$3:$Z$3)-10),COLUMNS($A:O))),"")} | Z3: {=IFERROR(INDEX(AVEC!$K$3:$Z$3,SMALL(IF(COUNTIF('[2]DONNES COURSES'!$S$3:$AH$3,AVEC!$K$3:$Z$3)>0,COLUMN($K$3:$Z$3)-10),COLUMNS($A:P))),"")} | AB3: =IF(K3=$AS3,0,IF(K3=$AT3,0,IF(K3=$AU3,0,IF(K3=$AV3,0,IF(K3=$AW3,0,IF(K3=$AX3,0,IF(K3=$AY3,0,IF(K3=$AZ3,0,IF(K3=$BA3,0,IF(K3=$BB3,0,IF(K3=$BC3,0,IF(K3=$BD3,0,IF(K3=$BE3,0,IF(K3=$BF3,0,IF(K3=$BG3,0,IF(K3=$BH3,0,K3)))))))))))))))) -> 0 | AC3: =IF(L3=$AS3,0,IF(L3=$AT3,0,IF(L3=$AU3,0,IF(L3=$AV3,0,IF(L3=$AW3,0,IF(L3=$AX3,0,IF(L3=$AY3,0,IF(L3=$AZ3,0,IF(L3=$BA3,0,IF(L3=$BB3,0,IF(L3=$BC3,0,IF(L3=$BD3,0,IF(L3=$BE3,0,IF(L3=$BF3,0,IF(L3=$BG3,0,IF(L3=$BH3,0,L3)))))))))))))))) -> 0 | AD3: =IF(M3=$AS3,0,IF(M3=$AT3,0,IF(M3=$AU3,0,IF(M3=$AV3,0,IF(M3=$AW3,0,IF(M3=$AX3,0,IF(M3=$AY3,0,IF(M3=$AZ3,0,IF(M3=$BA3,0,IF(M3=$BB3,0,IF(M3=$BC3,0,IF(M3=$BD3,0,IF(M3=$BE3,0,IF(M3=$BF3,0,IF(M3=$BG3,0,IF(M3=$BH3,0,M3)))))))))))))))) -> 0 | AE3: =IF(N3=$AS3,0,IF(N3=$AT3,0,IF(N3=$AU3,0,IF(N3=$AV3,0,IF(N3=$AW3,0,IF(N3=$AX3,0,IF(N3=$AY3,0,IF(N3=$AZ3,0,IF(N3=$BA3,0,IF(N3=$BB3,0,IF(N3=$BC3,0,IF(N3=$BD3,0,IF(N3=$BE3,0,IF(N3=$BF3,0,IF(N3=$BG3,0,IF(N3=$BH3,0,N3)))))))))))))))) -> 0 | AF3: =IF(O3=$AS3,0,IF(O3=$AT3,0,IF(O3=$AU3,0,IF(O3=$AV3,0,IF(O3=$AW3,0,IF(O3=$AX3,0,IF(O3=$AY3,0,IF(O3=$AZ3,0,IF(O3=$BA3,0,IF(O3=$BB3,0,IF(O3=$BC3,0,IF(O3=$BD3,0,IF(O3=$BE3,0,IF(O3=$BF3,0,IF(O3=$BG3,0,IF(O3=$BH3,0,O3)))))))))))))))) -> 0 | AG3: =IF(P3=$AS3,0,IF(P3=$AT3,0,IF(P3=$AU3,0,IF(P3=$AV3,0,IF(P3=$AW3,0,IF(P3=$AX3,0,IF(P3=$AY3,0,IF(P3=$AZ3,0,IF(P3=$BA3,0,IF(P3=$BB3,0,IF(P3=$BC3,0,IF(P3=$BD3,0,IF(P3=$BE3,0,IF(P3=$BF3,0,IF(P3=$BG3,0,IF(P3=$BH3,0,P3)))))))))))))))) -> 0 | AH3: =IF(Q3=$AS3,0,IF(Q3=$AT3,0,IF(Q3=$AU3,0,IF(Q3=$AV3,0,IF(Q3=$AW3,0,IF(Q3=$AX3,0,IF(Q3=$AY3,0,IF(Q3=$AZ3,0,IF(Q3=$BA3,0,IF(Q3=$BB3,0,IF(Q3=$BC3,0,IF(Q3=$BD3,0,IF(Q3=$BE3,0,IF(Q3=$BF3,0,IF(Q3=$BG3,0,IF(Q3=$BH3,0,Q3)))))))))))))))) -> 0 | AI3: =IF(R3=$AS3,0,IF(R3=$AT3,0,IF(R3=$AU3,0,IF(R3=$AV3,0,IF(R3=$AW3,0,IF(R3=$AX3,0,IF(R3=$AY3,0,IF(R3=$AZ3,0,IF(R3=$BA3,0,IF(R3=$BB3,0,IF(R3=$BC3,0,IF(R3=$BD3,0,IF(R3=$BE3,0,IF(R3=$BF3,0,IF(R3=$BG3,0,IF(R3=$BH3,0,R3)))))))))))))))) -> 0 | ... AQ3: =IF(Z3=$AS3,0,IF(Z3=$AT3,0,IF(Z3=$AU3,0,IF(Z3=$AV3,0,IF(Z3=$AW3,0,IF(Z3=$AX3,0,IF(Z3=$AY3,0,IF(Z3=$AZ3,0,IF(Z3=$BA3,0,IF(Z3=$BB3,0,IF(Z3=$BC3,0,IF(Z3=$BD3,0,IF(Z3=$BE3,0,IF(Z3=$BF3,0,IF(Z3=$BG3,0,IF(Z3=$BH3,0,Z3)))))))))))))))) -> 0 | AS3: 9 | AT3: 11 | AU3: 3 | AV3: 13 | AW3: 2 | AX3: 10 | AY3: 7 | AZ3: 4
