Workbook

Sheet data
B1: HC | C1: HC | D1: HC | E1: HC | F1: FTE | G1: HC | H1: FTE | I1: HC | J1: FTE | K1: HC | L1: FTE | M1: HC | N1: FTE | O1: HC | P1: FTE | Q1: FTE | R1: HC
B2: 43831 | C2: 43862 | D2: 43891 | E2: 43922 | F2: 43922 | G2: 43952 | H2: 43952 | I2: 43983 | J2: 43983 | K2: 44013 | L2: 44013 | M2: 44044 | N2: 44044 | O2: 44075 | P2: 44075 | Q2: 44105 | R2: 44105
B3: Total | C3: Total | D3: Total | E3: Total | F3: Total | G3: Total | H3: Total | I3: Total | J3: Total | K3: Total | L3: Total | M3: Total | N3: Total | O3: Total | P3: Total | Q3: Total | R3: Total
A5: S&W Editing | B5: 72 | C5: 69 | D5: 70 | E5: 70 | F5: 44.8 | G5: 68 | H5: 43.6 | I5: 68 | J5: 40.2 | K5: 65 | L5: 42.8 | M5: 63 | N5: 41.8 | O5: 57 | P5: 41 | Q5: 51 | R5: 51
A6: S&W Editing Video | B6: 0 | C6: 0 | D6: 0 | E6: 0 | F6: 0 | G6: 0 | H6: 0 | I6: 0 | J6: 0 | K6: 0 | L6: 0 | M6: 0 | N6: 0 | O6: 0 | P6: 0 | Q6: 0 | R6: 0
A7: S&W photoshoot Bookers | B7: 25 | C7: 20 | D7: 17 | E7: 13 | F7: 7.8 | G7: 13 | H7: 9.4 | I7: 12 | J7: 8 | K7: 12 | L7: 8 | M7: 12 | N7: 9 | O7: 12 | P7: 10 | Q7: 15 | R7: 15
A8: S&W Customer Service | B8: 54 | C8: 50 | D8: 48 | E8: 47 | F8: 23.7 | G8: 44 | H8: 27.6 | I8: 45 | J8: 27.3 | K8: 44 | L8: 28.3 | M8: 42 | N8: 29.3 | O8: 38 | P8: 29.9 | Q8: 27 | R8: 27
A9: S&W Upload and Selection | B9: 9 | C9: 11 | D9: 14 | E9: 14 | F9: 13 | G9: 14 | H9: 12 | I9: 14 | J9: 12 | K9: 14 | L9: 12 | M9: 13 | N9: 11 | O9: 11 | P9: 11 | Q9: 12 | R9: 12
A10: S&W Production | B10: 71 | C10: 67 | D10: 65 | E10: 61 | F10: 26.6 | G10: 62 | H10: 25 | I10: 62 | J10: 30.8 | K10: 61 | L10: 30.8 | M10: 60 | N10: 32.8 | O10: 55 | P10: 35.6 | Q10: 46 | R10: 46
A11: S&W Account Management | B11: 0 | C11: 0 | D11: 0 | E11: 0 | F11: 0 | G11: 0 | H11: 0 | I11: 0 | J11: 0 | K11: 0 | L11: 0 | M11: 0 | N11: 0 | O11: 0 | P11: 0 | Q11: 0 | R11: 0
A12: S&W Ops Delivery | B12: 37 | C12: 38 | D12: 39 | E12: 43 | F12: 22.4 | G12: 42 | H12: 26 | I12: 38 | J12: 22.4 | K12: 35 | L12: 23.3 | M12: 35 | N12: 24.3 | O12: 32 | P12: 24.3 | Q12: 28 | R12: 28
A13: DELIVERY | B13: 268 | C13: 255 | D13: 253 | E13: 248 | F13: 138.3 | G13: 243 | H13: 143.6 | I13: 239 | J13: 140.7 | K13: 231 | L13: 145.2 | M13: 225 | N13: 148.2 | O13: 205 | P13: 151.8 | Q13: 179 | R13: 179
A14: S&W Customer success | B14: 20 | C14: 17 | D14: 18 | E14: 20 | F14: 11 | G14: 17 | H14: 14.5 | I14: 16 | J14: 11.5 | K14: 16 | L14: 9.75 | M14: 15 | N14: 9.25 | O14: 15 | P14: 10.25 | Q14: 13 | R14: 13
A15: S&W Sales | B15: 133 | C15: 112 | D15: 106 | E15: 102 | F15: 53.8 | G15: 95 | H15: 48.05 | I15: 81 | J15: 43.55 | K15: 77 | L15: 41.55 | M15: 65 | N15: 40.55 | O15: 51 | P15: 41.55 | Q15: 42 | R15: 42
A16: S&W Sales Bonuses | B16: 0 | C16: 0 | D16: 0 | E16: 0 | F16: 0 | G16: 0 | H16: 0 | I16: 0 | J16: 0 | K16: 0 | L16: 0 | M16: 0 | N16: 0 | O16: 0 | P16: 0 | Q16: 0 | R16: 0
... A40: Total | B40: 683 | C40: 629 | D40: 618 | E40: 603 | F40: 364.2 | G40: 588 | H40: 370.85 | I40: 556 | J40: 348.25 | K40: 542 | L40: 347.2 | M40: 512 | N40: 345.9 | O40: 457 | P40: 350.8 | Q40: 806 | R40: 403

Sheet resultats
A1: HC | B1: 43831 | C1: 43862 | D1: 43891 | E1: 43922 | F1: 43952 | G1: 43983 | H1: 44013 | I1: 44044 | J1: 44075 | K1: 44105 | L1: 44136 | M1: 44166
A2: DELIVERY | B2: =SUMPRODUCT((data!$A$5:$A$38=resultats!$A2)*(data!$B$2:$R$2=resultats!B$1)*(data!$B$1:$R$1=resultats!$A$1)*(data!$B$5:$R$38)) -> 268 | C2: =SUMPRODUCT((data!$A$5:$A$38=resultats!$A2)*(data!$B$2:$R$2=resultats!C$1)*(data!$B$1:$R$1=resultats!$A$1)*(data!$B$5:$R$38)) -> 255 | D2: =SUMPRODUCT((data!$A$5:$A$38=resultats!$A2)*(data!$B$2:$R$2=resultats!D$1)*(data!$B$1:$R$1=resultats!$A$1)*(data!$B$5:$R$38)) -> 253 | E2: =SUMPRODUCT((data!$A$5:$A$38=resultats!$A2)*(data!$B$2:$R$2=resultats!E$1)*(data!$B$1:$R$1=resultats!$A$1)*(data!$B$5:$R$38)) -> 248 | F2: =SUMPRODUCT((data!$A$5:$A$38=resultats!$A2)*(data!$B$2:$R$2=resultats!F$1)*(data!$B$1:$R$1=resultats!$A$1)*(data!$B$5:$R$38)) -> 243 | G2: =SUMPRODUCT((data!$A$5:$A$38=resultats!$A2)*(data!$B$2:$R$2=resultats!G$1)*(data!$B$1:$R$1=resultats!$A$1)*(data!$B$5:$R$38)) -> 239 | H2: =SUMPRODUCT((data!$A$5:$A$38=resultats!$A2)*(data!$B$2:$R$2=resultats!H$1)*(data!$B$1:$R$1=resultats!$A$1)*(data!$B$5:$R$38)) -> 231 | I2: =SUMPRODUCT((data!$A$5:$A$38=resultats!$A2)*(data!$B$2:$R$2=resultats!I$1)*(data!$B$1:$R$1=resultats!$A$1)*(data!$B$5:$R$38)) -> 225 | ... M2: =SUMPRODUCT((data!$A$5:$A$38=resultats!$A2)*(data!$B$2:$R$2=resultats!M$1)*(data!$B$1:$R$1=resultats!$A$1)*(data!$B$5:$R$38)) -> 0
A3: SALES | B3: =SUMPRODUCT((data!$A$5:$A$38=resultats!$A3)*(data!$B$2:$R$2=resultats!B$1)*(data!$B$1:$R$1=resultats!$A$1)*(data!$B$5:$R$38)) -> 153 | C3: =SUMPRODUCT((data!$A$5:$A$38=resultats!$A3)*(data!$B$2:$R$2=resultats!C$1)*(data!$B$1:$R$1=resultats!$A$1)*(data!$B$5:$R$38)) -> 129 | D3: =SUMPRODUCT((data!$A$5:$A$38=resultats!$A3)*(data!$B$2:$R$2=resultats!D$1)*(data!$B$1:$R$1=resultats!$A$1)*(data!$B$5:$R$38)) -> 124 | E3: =SUMPRODUCT((data!$A$5:$A$38=resultats!$A3)*(data!$B$2:$R$2=resultats!E$1)*(data!$B$1:$R$1=resultats!$A$1)*(data!$B$5:$R$38)) -> 122 | F3: =SUMPRODUCT((data!$A$5:$A$38=resultats!$A3)*(data!$B$2:$R$2=resultats!F$1)*(data!$B$1:$R$1=resultats!$A$1)*(data!$B$5:$R$38)) -> 112 | G3: =SUMPRODUCT((data!$A$5:$A$38=resultats!$A3)*(data!$B$2:$R$2=resultats!G$1)*(data!$B$1:$R$1=resultats!$A$1)*(data!$B$5:$R$38)) -> 97 | H3: =SUMPRODUCT((data!$A$5:$A$38=resultats!$A3)*(data!$B$2:$R$2=resultats!H$1)*(data!$B$1:$R$1=resultats!$A$1)*(data!$B$5:$R$38)) -> 93 | I3: =SUMPRODUCT((data!$A$5:$A$38=resultats!$A3)*(data!$B$2:$R$2=resultats!I$1)*(data!$B$1:$R$1=resultats!$A$1)*(data!$B$5:$R$38)) -> 80 | ... M3: =SUMPRODUCT((data!$A$5:$A$38=resultats!$A3)*(data!$B$2:$R$2=resultats!M$1)*(data!$B$1:$R$1=resultats!$A$1)*(data!$B$5:$R$38)) -> 0
A4: MARKETING | B4: =SUMPRODUCT((data!$A$5:$A$38=resultats!$A4)*(data!$B$2:$R$2=resultats!B$1)*(data!$B$1:$R$1=resultats!$A$1)*(data!$B$5:$R$38)) -> 40 | C4: =SUMPRODUCT((data!$A$5:$A$38=resultats!$A4)*(data!$B$2:$R$2=resultats!C$1)*(data!$B$1:$R$1=resultats!$A$1)*(data!$B$5:$R$38)) -> 37 | D4: =SUMPRODUCT((data!$A$5:$A$38=resultats!$A4)*(data!$B$2:$R$2=resultats!D$1)*(data!$B$1:$R$1=resultats!$A$1)*(data!$B$5:$R$38)) -> 36 | E4: =SUMPRODUCT((data!$A$5:$A$38=resultats!$A4)*(data!$B$2:$R$2=resultats!E$1)*(data!$B$1:$R$1=resultats!$A$1)*(data!$B$5:$R$38)) -> 34 | F4: =SUMPRODUCT((data!$A$5:$A$38=resultats!$A4)*(data!$B$2:$R$2=resultats!F$1)*(data!$B$1:$R$1=resultats!$A$1)*(data!$B$5:$R$38)) -> 34 | G4: =SUMPRODUCT((data!$A$5:$A$38=resultats!$A4)*(data!$B$2:$R$2=resultats!G$1)*(data!$B$1:$R$1=resultats!$A$1)*(data!$B$5:$R$38)) -> 33 | H4: =SUMPRODUCT((data!$A$5:$A$38=resultats!$A4)*(data!$B$2:$R$2=resultats!H$1)*(data!$B$1:$R$1=resultats!$A$1)*(data!$B$5:$R$38)) -> 33 | I4: =SUMPRODUCT((data!$A$5:$A$38=resultats!$A4)*(data!$B$2:$R$2=resultats!I$1)*(data!$B$1:$R$1=resultats!$A$1)*(data!$B$5:$R$38)) -> 28 | ... M4: =SUMPRODUCT((data!$A$5:$A$38=resultats!$A4)*(data!$B$2:$R$2=resultats!M$1)*(data!$B$1:$R$1=resultats!$A$1)*(data!$B$5:$R$38)) -> 0
A5: TECH | B5: =SUMPRODUCT((data!$A$5:$A$38=resultats!$A5)*(data!$B$2:$R$2=resultats!B$1)*(data!$B$1:$R$1=resultats!$A$1)*(data!$B$5:$R$38)) -> 120 | C5: =SUMPRODUCT((data!$A$5:$A$38=resultats!$A5)*(data!$B$2:$R$2=resultats!C$1)*(data!$B$1:$R$1=resultats!$A$1)*(data!$B$5:$R$38)) -> 100 | D5: =SUMPRODUCT((data!$A$5:$A$38=resultats!$A5)*(data!$B$2:$R$2=resultats!D$1)*(data!$B$1:$R$1=resultats!$A$1)*(data!$B$5:$R$38)) -> 106 | E5: =SUMPRODUCT((data!$A$5:$A$38=resultats!$A5)*(data!$B$2:$R$2=resultats!E$1)*(data!$B$1:$R$1=resultats!$A$1)*(data!$B$5:$R$38)) -> 103 | F5: =SUMPRODUCT((data!$A$5:$A$38=resultats!$A5)*(data!$B$2:$R$2=resultats!F$1)*(data!$B$1:$R$1=resultats!$A$1)*(data!$B$5:$R$38)) -> 101 | G5: =SUMPRODUCT((data!$A$5:$A$38=resultats!$A5)*(data!$B$2:$R$2=resultats!G$1)*(data!$B$1:$R$1=resultats!$A$1)*(data!$B$5:$R$38)) -> 98 | H5: =SUMPRODUCT((data!$A$5:$A$38=resultats!$A5)*(data!$B$2:$R$2=resultats!H$1)*(data!$B$1:$R$1=resultats!$A$1)*(data!$B$5:$R$38)) -> 93 | I5: =SUMPRODUCT((data!$A$5:$A$38=resultats!$A5)*(data!$B$2:$R$2=resultats!I$1)*(data!$B$1:$R$1=resultats!$A$1)*(data!$B$5:$R$38)) -> 91 | ... M5: =SUMPRODUCT((data!$A$5:$A$38=resultats!$A5)*(data!$B$2:$R$2=resultats!M$1)*(data!$B$1:$R$1=resultats!$A$1)*(data!$B$5:$R$38)) -> 0
A6: G&A | B6: =SUMPRODUCT((data!$A$5:$A$38=resultats!$A6)*(data!$B$2:$R$2=resultats!B$1)*(data!$B$1:$R$1=resultats!$A$1)*(data!$B$5:$R$38)) -> 49 | C6: =SUMPRODUCT((data!$A$5:$A$38=resultats!$A6)*(data!$B$2:$R$2=resultats!C$1)*(data!$B$1:$R$1=resultats!$A$1)*(data!$B$5:$R$38)) -> 48 | D6: =SUMPRODUCT((data!$A$5:$A$38=resultats!$A6)*(data!$B$2:$R$2=resultats!D$1)*(data!$B$1:$R$1=resultats!$A$1)*(data!$B$5:$R$38)) -> 52 | E6: =SUMPRODUCT((data!$A$5:$A$38=resultats!$A6)*(data!$B$2:$R$2=resultats!E$1)*(data!$B$1:$R$1=resultats!$A$1)*(data!$B$5:$R$38)) -> 51 | F6: =SUMPRODUCT((data!$A$5:$A$38=resultats!$A6)*(data!$B$2:$R$2=resultats!F$1)*(data!$B$1:$R$1=resultats!$A$1)*(data!$B$5:$R$38)) -> 51 | G6: =SUMPRODUCT((data!$A$5:$A$38=resultats!$A6)*(data!$B$2:$R$2=resultats!G$1)*(data!$B$1:$R$1=resultats!$A$1)*(data!$B$5:$R$38)) -> 47 | H6: =SUMPRODUCT((data!$A$5:$A$38=resultats!$A6)*(data!$B$2:$R$2=resultats!H$1)*(data!$B$1:$R$1=resultats!$A$1)*(data!$B$5:$R$38)) -> 49 | I6: =SUMPRODUCT((data!$A$5:$A$38=resultats!$A6)*(data!$B$2:$R$2=resultats!I$1)*(data!$B$1:$R$1=resultats!$A$1)*(data!$B$5:$R$38)) -> 47 | ... M6: =SUMPRODUCT((data!$A$5:$A$38=resultats!$A6)*(data!$B$2:$R$2=resultats!M$1)*(data!$B$1:$R$1=resultats!$A$1)*(data!$B$5:$R$38)) -> 0
A10: FTE | B10: 43831 | C10: 43862 | D10: 43891 | E10: 43922 | F10: 43952 | G10: 43983 | H10: 44013 | I10: 44044 | J10: 44075 | K10: 44105 | L10: 44136 | M10: 44166
A11: DELIVERY | B11: =SUMPRODUCT((data!$A$5:$A$38=resultats!$A2)*(data!$B$2:$R$2=resultats!B$1)*(data!$B$1:$R$1=resultats!$A$10)*(data!$B$5:$R$38)) -> 0 | C11: =SUMPRODUCT((data!$A$5:$A$38=resultats!$A2)*(data!$B$2:$R$2=resultats!C$1)*(data!$B$1:$R$1=resultats!$A$10)*(data!$B$5:$R$38)) -> 0 | D11: =SUMPRODUCT((data!$A$5:$A$38=resultats!$A2)*(data!$B$2:$R$2=resultats!D$1)*(data!$B$1:$R$1=resultats!$A$10)*(data!$B$5:$R$38)) -> 0 | E11: =SUMPRODUCT((data!$A$5:$A$38=resultats!$A2)*(data!$B$2:$R$2=resultats!E$1)*(data!$B$1:$R$1=resultats!$A$10)*(data!$B$5:$R$38)) -> 138.3 | F11: =SUMPRODUCT((data!$A$5:$A$38=resultats!$A2)*(data!$B$2:$R$2=resultats!F$1)*(data!$B$1:$R$1=resultats!$A$10)*(data!$B$5:$R$38)) -> 143.6 | G11: =SUMPRODUCT((data!$A$5:$A$38=resultats!$A2)*(data!$B$2:$R$2=resultats!G$1)*(data!$B$1:$R$1=resultats!$A$10)*(data!$B$5:$R$38)) -> 140.7 | H11: =SUMPRODUCT((data!$A$5:$A$38=resultats!$A2)*(data!$B$2:$R$2=resultats!H$1)*(data!$B$1:$R$1=resultats!$A$10)*(data!$B$5:$R$38)) -> 145.2 | I11: =SUMPRODUCT((data!$A$5:$A$38=resultats!$A2)*(data!$B$2:$R$2=resultats!I$1)*(data!$B$1:$R$1=resultats!$A$10)*(data!$B$5:$R$38)) -> 148.2 | ... M11: =SUMPRODUCT((data!$A$5:$A$38=resultats!$A2)*(data!$B$2:$R$2=resultats!M$1)*(data!$B$1:$R$1=resultats!$A$10)*(data!$B$5:$R$38)) -> 0
A12: SALES | B12: =SUMPRODUCT((data!$A$5:$A$38=resultats!$A3)*(data!$B$2:$R$2=resultats!B$1)*(data!$B$1:$R$1=resultats!$A$10)*(data!$B$5:$R$38)) -> 0 | C12: =SUMPRODUCT((data!$A$5:$A$38=resultats!$A3)*(data!$B$2:$R$2=resultats!C$1)*(data!$B$1:$R$1=resultats!$A$10)*(data!$B$5:$R$38)) -> 0 | D12: =SUMPRODUCT((data!$A$5:$A$38=resultats!$A3)*(data!$B$2:$R$2=resultats!D$1)*(data!$B$1:$R$1=resultats!$A$10)*(data!$B$5:$R$38)) -> 0 | E12: =SUMPRODUCT((data!$A$5:$A$38=resultats!$A3)*(data!$B$2:$R$2=resultats!E$1)*(data!$B$1:$R$1=resultats!$A$10)*(data!$B$5:$R$38)) -> 64.8 | F12: =SUMPRODUCT((data!$A$5:$A$38=resultats!$A3)*(data!$B$2:$R$2=resultats!F$1)*(data!$B$1:$R$1=resultats!$A$10)*(data!$B$5:$R$38)) -> 62.55 | G12: =SUMPRODUCT((data!$A$5:$A$38=resultats!$A3)*(data!$B$2:$R$2=resultats!G$1)*(data!$B$1:$R$1=resultats!$A$10)*(data!$B$5:$R$38)) -> 55.05 | H12: =SUMPRODUCT((data!$A$5:$A$38=resultats!$A3)*(data!$B$2:$R$2=resultats!H$1)*(data!$B$1:$R$1=resultats!$A$10)*(data!$B$5:$R$38)) -> 51.3 | I12: =SUMPRODUCT((data!$A$5:$A$38=resultats!$A3)*(data!$B$2:$R$2=resultats!I$1)*(data!$B$1:$R$1=resultats!$A$10)*(data!$B$5:$R$38)) -> 49.8 | ... M12: =SUMPRODUCT((data!$A$5:$A$38=resultats!$A3)*(data!$B$2:$R$2=resultats!M$1)*(data!$B$1:$R$1=resultats!$A$10)*(data!$B$5:$R$38)) -> 0
A13: MARKETING | B13: =SUMPRODUCT((data!$A$5:$A$38=resultats!$A4)*(data!$B$2:$R$2=resultats!B$1)*(data!$B$1:$R$1=resultats!$A$10)*(data!$B$5:$R$38)) -> 0 | C13: =SUMPRODUCT((data!$A$5:$A$38=resultats!$A4)*(data!$B$2:$R$2=resultats!C$1)*(data!$B$1:$R$1=resultats!$A$10)*(data!$B$5:$R$38)) -> 0 | D13: =SUMPRODUCT((data!$A$5:$A$38=resultats!$A4)*(data!$B$2:$R$2=resultats!D$1)*(data!$B$1:$R$1=resultats!$A$10)*(data!$B$5:$R$38)) -> 0 | E13: =SUMPRODUCT((data!$A$5:$A$38=resultats!$A4)*(data!$B$2:$R$2=resultats!E$1)*(data!$B$1:$R$1=resultats!$A$10)*(data!$B$5:$R$38)) -> 14.7 | F13: =SUMPRODUCT((data!$A$5:$A$38=resultats!$A4)*(data!$B$2:$R$2=resultats!F$1)*(data!$B$1:$R$1=resultats!$A$10)*(data!$B$5:$R$38)) -> 14.7 | G13: =SUMPRODUCT((data!$A$5:$A$38=resultats!$A4)*(data!$B$2:$R$2=resultats!G$1)*(data!$B$1:$R$1=resultats!$A$10)*(data!$B$5:$R$38)) -> 14.2 | H13: =SUMPRODUCT((data!$A$5:$A$38=resultats!$A4)*(data!$B$2:$R$2=resultats!H$1)*(data!$B$1:$R$1=resultats!$A$10)*(data!$B$5:$R$38)) -> 13.9 | I13: =SUMPRODUCT((data!$A$5:$A$38=resultats!$A4)*(data!$B$2:$R$2=resultats!I$1)*(data!$B$1:$R$1=resultats!$A$10)*(data!$B$5:$R$38)) -> 12.1 | ... M13: =SUMPRODUCT((data!$A$5:$A$38=resultats!$A4)*(data!$B$2:$R$2=resultats!M$1)*(data!$B$1:$R$1=resultats!$A$10)*(data!$B$5:$R$38)) -> 0
A14: G&A | B14: =SUMPRODUCT((data!$A$5:$A$38=resultats!$A5)*(data!$B$2:$R$2=resultats!B$1)*(data!$B$1:$R$1=resultats!$A$10)*(data!$B$5:$R$38)) -> 0 | C14: =SUMPRODUCT((data!$A$5:$A$38=resultats!$A5)*(data!$B$2:$R$2=resultats!C$1)*(data!$B$1:$R$1=resultats!$A$10)*(data!$B$5:$R$38)) -> 0 | D14: =SUMPRODUCT((data!$A$5:$A$38=resultats!$A5)*(data!$B$2:$R$2=resultats!D$1)*(data!$B$1:$R$1=resultats!$A$10)*(data!$B$5:$R$38)) -> 0 | E14: =SUMPRODUCT((data!$A$5:$A$38=resultats!$A5)*(data!$B$2:$R$2=resultats!E$1)*(data!$B$1:$R$1=resultats!$A$10)*(data!$B$5:$R$38)) -> 84.6 | F14: =SUMPRODUCT((data!$A$5:$A$38=resultats!$A5)*(data!$B$2:$R$2=resultats!F$1)*(data!$B$1:$R$1=resultats!$A$10)*(data!$B$5:$R$38)) -> 84.6 | G14: =SUMPRODUCT((data!$A$5:$A$38=resultats!$A5)*(data!$B$2:$R$2=resultats!G$1)*(data!$B$1:$R$1=resultats!$A$10)*(data!$B$5:$R$38)) -> 79.6 | H14: =SUMPRODUCT((data!$A$5:$A$38=resultats!$A5)*(data!$B$2:$R$2=resultats!H$1)*(data!$B$1:$R$1=resultats!$A$10)*(data!$B$5:$R$38)) -> 74.1 | I14: =SUMPRODUCT((data!$A$5:$A$38=resultats!$A5)*(data!$B$2:$R$2=resultats!I$1)*(data!$B$1:$R$1=resultats!$A$10)*(data!$B$5:$R$38)) -> 72.1 | ... M14: =SUMPRODUCT((data!$A$5:$A$38=resultats!$A5)*(data!$B$2:$R$2=resultats!M$1)*(data!$B$1:$R$1=resultats!$A$10)*(data!$B$5:$R$38)) -> 0
A15: TECH | B15: =SUMPRODUCT((data!$A$5:$A$38=resultats!$A6)*(data!$B$2:$R$2=resultats!B$1)*(data!$B$1:$R$1=resultats!$A$10)*(data!$B$5:$R$38)) -> 0 | C15: =SUMPRODUCT((data!$A$5:$A$38=resultats!$A6)*(data!$B$2:$R$2=resultats!C$1)*(data!$B$1:$R$1=resultats!$A$10)*(data!$B$5:$R$38)) -> 0 | D15: =SUMPRODUCT((data!$A$5:$A$38=resultats!$A6)*(data!$B$2:$R$2=resultats!D$1)*(data!$B$1:$R$1=resultats!$A$10)*(data!$B$5:$R$38)) -> 0 | E15: =SUMPRODUCT((data!$A$5:$A$38=resultats!$A6)*(data!$B$2:$R$2=resultats!E$1)*(data!$B$1:$R$1=resultats!$A$10)*(data!$B$5:$R$38)) -> 39.4 | F15: =SUMPRODUCT((data!$A$5:$A$38=resultats!$A6)*(data!$B$2:$R$2=resultats!F$1)*(data!$B$1:$R$1=resultats!$A$10)*(data!$B$5:$R$38)) -> 40.4 | G15: =SUMPRODUCT((data!$A$5:$A$38=resultats!$A6)*(data!$B$2:$R$2=resultats!G$1)*(data!$B$1:$R$1=resultats!$A$10)*(data!$B$5:$R$38)) -> 36.7 | H15: =SUMPRODUCT((data!$A$5:$A$38=resultats!$A6)*(data!$B$2:$R$2=resultats!H$1)*(data!$B$1:$R$1=resultats!$A$10)*(data!$B$5:$R$38)) -> 38.7 | I15: =SUMPRODUCT((data!$A$5:$A$38=resultats!$A6)*(data!$B$2:$R$2=resultats!I$1)*(data!$B$1:$R$1=resultats!$A$10)*(data!$B$5:$R$38)) -> 38.7 | ... M15: =SUMPRODUCT((data!$A$5:$A$38=resultats!$A6)*(data!$B$2:$R$2=resultats!M$1)*(data!$B$1:$R$1=resultats!$A$10)*(data!$B$5:$R$38)) -> 0
