Workbook

Sheet tableau recap
A1: FONCTION EMPLOYEUR 2020 | B1: FORFAIT | C1: FORFAIT | D1: FORFAIT | E1: CDD/CDI | I1: TOTAL A PAYER | J1: Numéro de facture
B2: CEE | C2: CDD<3MOIS | D2: CDI/CDD>3 MOIS | E2: 0 à 40h/mois | F2: 41 à 80h/mois | G2: 81 à 100h/mois | H2: 101h et +
B3: 15 | C3: 15 | D3: 30 | E3: 5 | F3: 7 | G3: 9 | H3: 11
A4: 1 | B4: 3 | D4: 4 | G4: 8 | I4: =B4*$B$3+D4*$D$3+E4*$E$3+F4*$F$3+G4*$G$3+H4*$H$3+C4*$C$3 -> 237 | J4: FE202001
A5: 2 | B5: 4 | C5: 5 | F5: 2 | I5: =B5*$B$3+D5*$D$3+E5*$E$3+F5*$F$3+G5*$G$3+H5*$H$3+C5*$C$3 -> 149 | J5: FE202002
A6: 3 | I6: =B6*$B$3+D6*$D$3+E6*$E$3+F6*$F$3+G6*$G$3+H6*$H$3+C6*$C$3 -> 0 | J6: FE202003
A7: 4 | I7: =B7*$B$3+D7*$D$3+E7*$E$3+F7*$F$3+G7*$G$3+H7*$H$3+C7*$C$3 -> 0 | J7: FE202004
A8: 5 | I8: =B8*$B$3+D8*$D$3+E8*$E$3+F8*$F$3+G8*$G$3+H8*$H$3+C8*$C$3 -> 0 | J8: FE202005
A9: 6 | I9: =B9*$B$3+D9*$D$3+E9*$E$3+F9*$F$3+G9*$G$3+H9*$H$3+C9*$C$3 -> 0 | J9: FE202006
A10: 7 | I10: =B10*$B$3+D10*$D$3+E10*$E$3+F10*$F$3+G10*$G$3+H10*$H$3+C10*$C$3 -> 0 | J10: FE202007
A11: 8 | I11: =B11*$B$3+D11*$D$3+E11*$E$3+F11*$F$3+G11*$G$3+H11*$H$3+C11*$C$3 -> 0 | J11: FE202008
A12: 9 | I12: =B12*$B$3+D12*$D$3+E12*$E$3+F12*$F$3+G12*$G$3+H12*$H$3+C12*$C$3 -> 0 | J12: FE202009
A13: 10 | I13: =B13*$B$3+D13*$D$3+E13*$E$3+F13*$F$3+G13*$G$3+H13*$H$3+C13*$C$3 -> 0 | J13: FE202010
A14: 11 | I14: =B14*$B$3+D14*$D$3+E14*$E$3+F14*$F$3+G14*$G$3+H14*$H$3+C14*$C$3 -> 0 | J14: FE202011
A15: 12 | I15: =B15*$B$3+D15*$D$3+E15*$E$3+F15*$F$3+G15*$G$3+H15*$H$3+C15*$C$3 -> 0 | J15: FE202012
A16: 13 | I16: =B16*$B$3+D16*$D$3+E16*$E$3+F16*$F$3+G16*$G$3+H16*$H$3+C16*$C$3 -> 0 | J16: FE202013
A17: 14 | I17: =B17*$B$3+D17*$D$3+E17*$E$3+F17*$F$3+G17*$G$3+H17*$H$3+C17*$C$3 -> 0 | J17: FE202014
... A29: 26 | I29: =B29*$B$3+D29*$D$3+E29*$E$3+F29*$F$3+G29*$G$3+H29*$H$3+C29*$C$3 -> 0 | J29: FE202026
A30: TOTAL | B30: =SUM(B4:B28) -> 7 | C30: =SUM(C4:C28) -> 5 | D30: =SUM(D4:D28) -> 4 | E30: =SUM(E4:E28) -> 0 | F30: =SUM(F4:F28) -> 2 | G30: =SUM(G4:G28) -> 8 | H30: =SUM(H4:H28) -> 0 | I30: =SUM(I4:I29) -> 386

Sheet 1
B1: FACTURE | C1: FE202001
A3: LOGO | B3: DATE :
A9: N° SIRET : 780.xxx.XXX.XXX.XX
C10: A l'attention de :
A11: FONCTION EMPLOYEUR 2020 | D11: nom de l'assocaition
A14: DESIGNATION | B14: PRIX UNITAIRE | C14: NOMBRE | D14: MONTANT
A15: FORFAIT CEE | B15: =IF(ISNUMBER(INDEX(OFFSET(INDIRECT(ADDRESS(MATCH('1'!$C$1,'tableau recap'!$J:$J,0),10,,,"tableau recap")),0,-8,1,8),ROWS($1:1))),VLOOKUP('1'!A15,calculs!$A$1:$B$7,2,0),"") -> 15 | C15: =INDEX(OFFSET(INDIRECT(ADDRESS(MATCH('1'!$C$1,'tableau recap'!$J:$J,0),10,,,"tableau recap")),0,-8,1,8),ROWS($1:1)) -> 3 | D15: =IFERROR(B15*C15,"") -> 45
A16: FORFAIT CDD < 3 MOIS* | B16: =IF(ISNUMBER(INDEX(OFFSET(INDIRECT(ADDRESS(MATCH('1'!$C$1,'tableau recap'!$J:$J,0),10,,,"tableau recap")),0,-8,1,8),ROWS($1:2))),VLOOKUP('1'!A16,calculs!$A$1:$B$7,2,0),"") | C16: =INDEX(OFFSET(INDIRECT(ADDRESS(MATCH('1'!$C$1,'tableau recap'!$J:$J,0),10,,,"tableau recap")),0,-8,1,8),ROWS($1:2)) -> 0 | D16: =IFERROR(B16*C16,"")
A17: FORFAIT CDI OU CDD > 3 MOIS | B17: =IF(ISNUMBER(INDEX(OFFSET(INDIRECT(ADDRESS(MATCH('1'!$C$1,'tableau recap'!$J:$J,0),10,,,"tableau recap")),0,-8,1,8),ROWS($1:3))),VLOOKUP('1'!A17,calculs!$A$1:$B$7,2,0),"") -> 30 | C17: =INDEX(OFFSET(INDIRECT(ADDRESS(MATCH('1'!$C$1,'tableau recap'!$J:$J,0),10,,,"tableau recap")),0,-8,1,8),ROWS($1:3)) -> 4 | D17: =IFERROR(B17*C17,"") -> 120
A18: FORFAIT PAR BULLETIN 0 à 40 h/mois | B18: =IF(ISNUMBER(INDEX(OFFSET(INDIRECT(ADDRESS(MATCH('1'!$C$1,'tableau recap'!$J:$J,0),10,,,"tableau recap")),0,-8,1,8),ROWS($1:4))),VLOOKUP('1'!A18,calculs!$A$1:$B$7,2,0),"") | C18: =INDEX(OFFSET(INDIRECT(ADDRESS(MATCH('1'!$C$1,'tableau recap'!$J:$J,0),10,,,"tableau recap")),0,-8,1,8),ROWS($1:4)) -> 0 | D18: =IFERROR(B18*C18,"")
A19: FORFAIT PAR BULLETIN 41 à 80 h/mois | B19: =IF(ISNUMBER(INDEX(OFFSET(INDIRECT(ADDRESS(MATCH('1'!$C$1,'tableau recap'!$J:$J,0),10,,,"tableau recap")),0,-8,1,8),ROWS($1:5))),VLOOKUP('1'!A19,calculs!$A$1:$B$7,2,0),"") | C19: =INDEX(OFFSET(INDIRECT(ADDRESS(MATCH('1'!$C$1,'tableau recap'!$J:$J,0),10,,,"tableau recap")),0,-8,1,8),ROWS($1:5)) -> 0 | D19: =IFERROR(B19*C19,"")
A20: FORFAIT PAR BULLETIN 81 à 100 h/mois | B20: =IF(ISNUMBER(INDEX(OFFSET(INDIRECT(ADDRESS(MATCH('1'!$C$1,'tableau recap'!$J:$J,0),10,,,"tableau recap")),0,-8,1,8),ROWS($1:6))),VLOOKUP('1'!A20,calculs!$A$1:$B$7,2,0),"") -> 9 | C20: =INDEX(OFFSET(INDIRECT(ADDRESS(MATCH('1'!$C$1,'tableau recap'!$J:$J,0),10,,,"tableau recap")),0,-8,1,8),ROWS($1:6)) -> 8 | D20: =IFERROR(B20*C20,"") -> 72
A21: FORFAIT PAR BULLETIN 101 h et + | B21: =IF(ISNUMBER(INDEX(OFFSET(INDIRECT(ADDRESS(MATCH('1'!$C$1,'tableau recap'!$J:$J,0),10,,,"tableau recap")),0,-8,1,8),ROWS($1:7))),VLOOKUP('1'!A21,calculs!$A$1:$B$7,2,0),"") | C21: =INDEX(OFFSET(INDIRECT(ADDRESS(MATCH('1'!$C$1,'tableau recap'!$J:$J,0),10,,,"tableau recap")),0,-8,1,8),ROWS($1:7)) -> 0 | D21: =IFERROR(B21*C21,"")
A22: TOTAL A REGLER | D22: =SUM(D15:D21) -> 237
A24: *FORFAIT ASSIMILE AU REGIME CEE AU LIEU DU TARIF NORMAL DE 30 € PAR CONTRAT
A27: En votre aimable règlement à réception par chèque à l'ordre de XXXXXX ou par virement Crédit Agricole IBAN : FR76 1020 6080 XXXX XXXX XXXX XXX

Sheet 2
B1: FACTURE | C1: FE202002
A3: LOGO | B3: DATE :
A9: N° SIRET : 780.xxx.XXX.XXX.XX
C10: A l'attention de :
A11: FONCTION EMPLOYEUR 2020 | D11: nom de l'assocaition
A14: DESIGNATION | B14: PRIX UNITAIRE | C14: NOMBRE | D14: MONTANT
A15: FORFAIT CEE | B15: =IF(ISNUMBER(INDEX(OFFSET(INDIRECT(ADDRESS(MATCH('2'!$C$1,'tableau recap'!$J:$J,0),10,,,"tableau recap")),0,-8,1,8),ROWS($1:1))),VLOOKUP('2'!A15,calculs!$A$1:$B$7,2,0),"") -> 15 | C15: =INDEX(OFFSET(INDIRECT(ADDRESS(MATCH('2'!$C$1,'tableau recap'!$J:$J,0),10,,,"tableau recap")),0,-8,1,8),ROWS($1:1)) -> 4 | D15: =IFERROR(B15*C15,"") -> 60
A16: FORFAIT CDD < 3 MOIS* | B16: =IF(ISNUMBER(INDEX(OFFSET(INDIRECT(ADDRESS(MATCH('2'!$C$1,'tableau recap'!$J:$J,0),10,,,"tableau recap")),0,-8,1,8),ROWS($1:2))),VLOOKUP('2'!A16,calculs!$A$1:$B$7,2,0),"") -> 15 | C16: =INDEX(OFFSET(INDIRECT(ADDRESS(MATCH('2'!$C$1,'tableau recap'!$J:$J,0),10,,,"tableau recap")),0,-8,1,8),ROWS($1:2)) -> 5 | D16: =IFERROR(B16*C16,"") -> 75
A17: FORFAIT CDI OU CDD > 3 MOIS | B17: =IF(ISNUMBER(INDEX(OFFSET(INDIRECT(ADDRESS(MATCH('2'!$C$1,'tableau recap'!$J:$J,0),10,,,"tableau recap")),0,-8,1,8),ROWS($1:3))),VLOOKUP('2'!A17,calculs!$A$1:$B$7,2,0),"") | C17: =INDEX(OFFSET(INDIRECT(ADDRESS(MATCH('2'!$C$1,'tableau recap'!$J:$J,0),10,,,"tableau recap")),0,-8,1,8),ROWS($1:3)) -> 0 | D17: =IFERROR(B17*C17,"")
A18: FORFAIT PAR BULLETIN 0 à 40 h/mois | B18: =IF(ISNUMBER(INDEX(OFFSET(INDIRECT(ADDRESS(MATCH('2'!$C$1,'tableau recap'!$J:$J,0),10,,,"tableau recap")),0,-8,1,8),ROWS($1:4))),VLOOKUP('2'!A18,calculs!$A$1:$B$7,2,0),"") | C18: =INDEX(OFFSET(INDIRECT(ADDRESS(MATCH('2'!$C$1,'tableau recap'!$J:$J,0),10,,,"tableau recap")),0,-8,1,8),ROWS($1:4)) -> 0 | D18: =IFERROR(B18*C18,"")
A19: FORFAIT PAR BULLETIN 41 à 80 h/mois | B19: =IF(ISNUMBER(INDEX(OFFSET(INDIRECT(ADDRESS(MATCH('2'!$C$1,'tableau recap'!$J:$J,0),10,,,"tableau recap")),0,-8,1,8),ROWS($1:5))),VLOOKUP('2'!A19,calculs!$A$1:$B$7,2,0),"") -> 7 | C19: =INDEX(OFFSET(INDIRECT(ADDRESS(MATCH('2'!$C$1,'tableau recap'!$J:$J,0),10,,,"tableau recap")),0,-8,1,8),ROWS($1:5)) -> 2 | D19: =IFERROR(B19*C19,"") -> 14
A20: FORFAIT PAR BULLETIN 81 à 100 h/mois | B20: =IF(ISNUMBER(INDEX(OFFSET(INDIRECT(ADDRESS(MATCH('2'!$C$1,'tableau recap'!$J:$J,0),10,,,"tableau recap")),0,-8,1,8),ROWS($1:6))),VLOOKUP('2'!A20,calculs!$A$1:$B$7,2,0),"") | C20: =INDEX(OFFSET(INDIRECT(ADDRESS(MATCH('2'!$C$1,'tableau recap'!$J:$J,0),10,,,"tableau recap")),0,-8,1,8),ROWS($1:6)) -> 0 | D20: =IFERROR(B20*C20,"")
A21: FORFAIT PAR BULLETIN 101 h et + | B21: =IF(ISNUMBER(INDEX(OFFSET(INDIRECT(ADDRESS(MATCH('2'!$C$1,'tableau recap'!$J:$J,0),10,,,"tableau recap")),0,-8,1,8),ROWS($1:7))),VLOOKUP('2'!A21,calculs!$A$1:$B$7,2,0),"") | C21: =INDEX(OFFSET(INDIRECT(ADDRESS(MATCH('2'!$C$1,'tableau recap'!$J:$J,0),10,,,"tableau recap")),0,-8,1,8),ROWS($1:7)) -> 0 | D21: =IFERROR(B21*C21,"")
A22: TOTAL A REGLER | D22: =SUM(D15:D21) -> 149
A24: *FORFAIT ASSIMILE AU REGIME CEE AU LIEU DU TARIF NORMAL DE 30 € PAR CONTRAT
A27: En votre aimable règlement à réception par chèque à l'ordre de XXXXXX ou par virement Crédit Agricole IBAN : FR76 1020 6080 XXXX XXXX XXXX XXX

Sheet calculs
A1: FORFAIT CEE | B1: 15
A2: FORFAIT CDD < 3 MOIS* | B2: 15
A3: FORFAIT CDI OU CDD > 3 MOIS | B3: 30
A4: FORFAIT PAR BULLETIN 0 à 40 h/mois | B4: 5
A5: FORFAIT PAR BULLETIN 41 à 80 h/mois | B5: 7
A6: FORFAIT PAR BULLETIN 81 à 100 h/mois | B6: 9
A7: FORFAIT PAR BULLETIN 101 h et + | B7: 11
