Workbook
Name BDD: BDD!$A$3:$T$74
Name données: BDD!$1:$1048576
Name sites: BDD!$U$2:$U$4

Sheet BDD
A1: Site | B1: Date | C1: Trafic OO/Presse | F1: Total courrier réalisé | I1: Total trafic colis | K1: MANUEL | L1: Total trafic meca | P1: Total trafic CEDEX | S1: Total trafic PPI | U1: site | V1: HOUDAN
C2: Trafic OO ménage | D2: Trafic OO cedex | E2: Global Presse | F2: Trafic OO/Presse | G2: Traffic OO 3S | H2: Total courrier réalisé | I2: Trafic colis réalisé | J2: Trafic chrono réalisé | K2: Trafic manuel OO ménage | L2: Trafic Ménage TCP | M2: Trafic Ménage TPD | N2: Trafic Ménage TPD+ | O2: Trafic Ménage TCD | P2: Trafic Cedex TCP | Q2: Trafic OO cedex | R2: Trafic Cedex TCD | S2: Trafic PPI Non Suivis | T2: Trafic PPI Suivis | U2: GAZERAN | V2: LE PERRAY
A3: GAZERAN | B3: 44044 | C3: 0.60574565 | D3: 0.33009298 | E3: 0.42219369 | F3: 0.92745625 | G3: 0.48814998 | H3: 0.098110109 | I3: 0.42545751 | J3: 0.38975554 | K3: 0.59193164 | L3: 0.12140332 | M3: 0.36569893 | N3: 0.62525287 | O3: 0.23354466 | P3: 0.41191902 | Q3: 0.22784024 | R3: 0.37322452 | S3: 0.41067272 | T3: 0.76818411
A4: GAZERAN | B4: 44046 | C4: 0.70403437 | D4: 0.19791664 | E4: 0.55660778 | F4: 0.80954614 | G4: 0.76804186 | H4: 0.74760326 | I4: 0.14267468 | J4: 0.21670734 | K4: 0.96342239 | L4: 0.14732547 | M4: 0.86382782 | N4: 0.76814336 | O4: 0.50464648 | P4: 0.94179132 | Q4: 0.46123268 | R4: 0.56062334 | S4: 0.12540947 | T4: 0.36852885
A5: GAZERAN | B5: 44047 | C5: 0.89717058 | D5: 0.19093263 | E5: 0.38338224 | F5: 0.33572452 | G5: 0.62864285 | H5: 0.78156566 | I5: 0.45329124 | J5: 0.085557384 | K5: 0.026854218 | L5: 0.079032386 | M5: 0.5453249 | N5: 0.75446811 | O5: 0.77180149 | P5: 0.21846281 | Q5: 0.63028356 | R5: 0.47161552 | S5: 0.73833233 | T5: 0.54464357
A6: GAZERAN | B6: 44048 | C6: 0.63405329 | D6: 0.13838169 | E6: 0.25935831 | F6: 0.69101045 | G6: 0.70118925 | H6: 0.4080281 | I6: 0.70004307 | J6: 0.44032737 | K6: 0.83067635 | L6: 0.93862272 | M6: 0.73231734 | N6: 0.1097892 | O6: 0.84684563 | P6: 0.29193546 | Q6: 0.1175551 | R6: 0.31516046 | S6: 0.77519751 | T6: 0.85202388
A7: GAZERAN | B7: 44049 | C7: 0.11402115 | D7: 0.4235398 | E7: 0.59048421 | F7: 0.20426334 | G7: 0.0091188377 | H7: 0.057204299 | I7: 0.87741807 | J7: 0.75878714 | K7: 0.017699206 | L7: 0.73268867 | M7: 0.27864074 | N7: 0.72186601 | O7: 0.72557963 | P7: 0.2490599 | Q7: 0.50742041 | R7: 0.067830063 | S7: 0.63487336 | T7: 0.35948625
A8: GAZERAN | B8: 44050 | C8: 0.17655079 | D8: 0.59151983 | E8: 0.017715103 | F8: 0.16452524 | G8: 0.17754212 | H8: 0.12270146 | I8: 0.7227731 | J8: 0.90488289 | K8: 0.25484365 | L8: 0.48996223 | M8: 0.14809248 | N8: 0.1593729 | O8: 0.49560925 | P8: 0.87133743 | Q8: 0.25446688 | R8: 0.13406112 | S8: 0.09281047 | T8: 0.93135154
A9: GAZERAN | B9: 44051 | C9: 0.88299773 | D9: 0.48662289 | E9: 0.91346907 | F9: 0.56055467 | G9: 0.69250673 | H9: 0.13968542 | I9: 0.11732089 | J9: 0.26290753 | K9: 0.21645179 | L9: 0.87229465 | M9: 0.24270807 | N9: 0.81592497 | O9: 0.89649239 | P9: 0.97335121 | Q9: 0.52274132 | R9: 0.72077278 | S9: 0.64276607 | T9: 0.50359246
A10: GAZERAN | B10: 44053 | C10: 0.14353555 | D10: 0.57950248 | E10: 0.4619414 | F10: 0.1202602 | G10: 0.582974 | H10: 0.96129351 | I10: 0.64496344 | J10: 0.55691367 | K10: 0.10237896 | L10: 0.63716486 | M10: 0.23658488 | N10: 0.026663077 | O10: 0.68793718 | P10: 0.43356307 | Q10: 0.97472719 | R10: 0.42928871 | S10: 0.98052585 | T10: 0.79080624
A11: GAZERAN | B11: 44054 | C11: 0.48451322 | D11: 0.87782774 | E11: 0.35445672 | F11: 0.76882827 | G11: 0.75696257 | H11: 0.27086149 | I11: 0.27699624 | J11: 0.89024564 | K11: 0.51743448 | L11: 0.44984177 | M11: 0.30960563 | N11: 0.15579323 | O11: 0.72282917 | P11: 0.10043051 | Q11: 0.11543045 | R11: 0.1458813 | S11: 0.98377204 | T11: 0.32425163
A12: GAZERAN | B12: 44055 | C12: 0.42232226 | D12: 0.55988716 | E12: 0.90639316 | F12: 0.33282743 | G12: 0.56256231 | H12: 0.087857827 | I12: 0.29716024 | J12: 0.70106047 | K12: 0.078919467 | L12: 0.85052353 | M12: 0.55665318 | N12: 0.32000667 | O12: 0.3180185 | P12: 0.946349 | Q12: 0.029847145 | R12: 0.42119848 | S12: 0.44940395 | T12: 0.98098003
A13: GAZERAN | B13: 44056 | C13: 0.031418312 | D13: 0.4557287 | E13: 0.12479621 | F13: 0.58641388 | G13: 0.21810111 | H13: 0.98767065 | I13: 0.77703951 | J13: 0.98191655 | K13: 0.80964096 | L13: 0.87069014 | M13: 0.067103531 | N13: 0.24246558 | O13: 0.50542724 | P13: 0.2631389 | Q13: 0.90603357 | R13: 0.60709781 | S13: 0.83216207 | T13: 0.091143638
A14: GAZERAN | B14: 44057 | C14: 0.60781965 | D14: 0.82803256 | E14: 0.61731991 | F14: 0.29794657 | G14: 0.69901263 | H14: 0.69112927 | I14: 0.96971678 | J14: 0.29206773 | K14: 0.0091643464 | L14: 0.44299515 | M14: 0.53619868 | N14: 0.93122267 | O14: 0.70603278 | P14: 0.037920999 | Q14: 0.042223242 | R14: 0.81311332 | S14: 0.19985829 | T14: 0.18772776
... A74: LE PERRAY | B74: 44072 | C74: 0.82262598 | D74: 0.47966048 | E74: 0.82585161 | F74: 0.3152443 | G74: 0.52747549 | H74: 0.5793733 | I74: 0.020744497 | J74: 0.73865286 | K74: 0.44991113 | L74: 0.26129041 | M74: 0.037394261 | N74: 0.36787453 | O74: 0.16894611 | P74: 0.79184854 | Q74: 0.52664068 | R74: 0.057055226 | S74: 0.49299917 | T74: 0.81667664
L75: =SUBTOTAL(1,L$3:L$74) -> 0.48304706 | M75: =SUBTOTAL(1,M$3:M$74) -> 0.45380147 | N75: =SUBTOTAL(1,N$3:N$74) -> 0.56497392 | O75: =SUBTOTAL(1,O$3:O$74) -> 0.63921708

Sheet DONNEES JOURNALIERES
A1: Site : | B1: GAZERAN
A2: Date : | B2: 44049
B4: TCP | C4: TPD | D4: TPD+ | E4: TCD
A5: MECA MENAGE | B5: {=INDEX(BDD!$A$3:$T$1000,MATCH(1,(BDD!$A$3:$A$1000=$B$1)*(BDD!$B$3:$B$1000=$B$2),0),12)} -> 0.73268867 | C5: {=INDEX(BDD!$A$3:$T$1000,MATCH(1,(BDD!$A$3:$A$1000=$B$1)*(BDD!$B$3:$B$1000=$B$2),0),13)} -> 0.27864074 | D5: {=INDEX(BDD!$A$3:$T$1000,MATCH(1,(BDD!$A$3:$A$1000=$B$1)*(BDD!$B$3:$B$1000=$B$2),0),14)} -> 0.72186601 | E5: {=INDEX(BDD!$A$3:$T$1000,MATCH(1,(BDD!$A$3:$A$1000=$B$1)*(BDD!$B$3:$B$1000=$B$2),0),15)} -> 0.72557963 | G5: RAPPEL TOTAL TRAFIC
G6: TOTAL COURRIER | H6: =SUM(B5:E5,B8:C8,B11,B18,B20,E18) -> 3.9003877
B7: TCP | C7: TCD
A8: MECA CEDEX | B8: {=INDEX(BDD!$A$3:$T$1000,MATCH(1,(BDD!$A$3:$A$1000=$B$1)*(BDD!$B$3:$B$1000=$B$2),0),16)} -> 0.2490599 | C8: {=INDEX(BDD!$A$3:$T$1000,MATCH(1,(BDD!$A$3:$A$1000=$B$1)*(BDD!$B$3:$B$1000=$B$2),0),18)} -> 0.067830063 | G8: TOTAL COLIS | H8: =SUM(C11:D11) -> 1.6362052
B10: 3S | C10: COLIS | D10: CHRONO | E10: PPI | G10: TOTAL PPI | H10: =SUM(H18,E11) -> 0.99435962
A11: OS | B11: {=INDEX(BDD!$A$3:$T$1000,MATCH(1,(BDD!$A$3:$A$1000=$B$1)*(BDD!$B$3:$B$1000=$B$2),0),7)} -> 0.0091188377 | C11: {=INDEX(BDD!$A$3:$T$1000,MATCH(1,(BDD!$A$3:$A$1000=$B$1)*(BDD!$B$3:$B$1000=$B$2),0),9)} -> 0.87741807 | D11: {=INDEX(BDD!$A$3:$T$1000,MATCH(1,(BDD!$A$3:$A$1000=$B$1)*(BDD!$B$3:$B$1000=$B$2),0),10)} -> 0.75878714 | E11: {=INDEX(BDD!$A$3:$T$1000,MATCH(1,(BDD!$A$3:$A$1000=$B$1)*(BDD!$B$3:$B$1000=$B$2),0),20)} -> 0.35948625
B13: CATALOGUES | C13: ELECTIONS
A14: AUTRES
A17: Trafic manuel OO | D17: Trafic presse | G17: Trafic PPI
A18: MENAGE | B18: {=INDEX(BDD!$A$3:$T$1000,MATCH(1,(BDD!$A$3:$A$1000=$B$1)*(BDD!$B$3:$B$1000=$B$2),0),11)} -> 0.017699206 | D18: PRESSE | E18: {=INDEX(BDD!$A$3:$T$1000,MATCH(1,(BDD!$A$3:$A$1000=$B$1)*(BDD!$B$3:$B$1000=$B$2),0),5)} -> 0.59048421 | G18: PPI (non suivis) | H18: {=INDEX(BDD!$A$3:$T$1000,MATCH(1,(BDD!$A$3:$A$1000=$B$1)*(BDD!$B$3:$B$1000=$B$2),0),19)} -> 0.63487336
A20: CEDEX | B20: {=INDEX(BDD!$A$3:$T$1000,MATCH(1,(BDD!$A$3:$A$1000=$B$1)*(BDD!$B$3:$B$1000=$B$2),0),17)} -> 0.50742041

Sheet DONNEES PAR PERIODE
A1: Site : | B1: GAZERAN
A2: Début : | B2: 44044 | C2: Fin : | D2: 44051
B4: TCP | C4: TPD | D4: TPD+ | E4: TCD
A5: Trafic Ménage | B5: =SUMPRODUCT((BDD!$A$3:$A$74='DONNEES PAR PERIODE'!$B$1)*(BDD!$B$3:$B$74>='DONNEES PAR PERIODE'!$B$2)*(BDD!$B$3:$B$74<='DONNEES PAR PERIODE'!$D$2)*(OFFSET(BDD!$A$3,0,MATCH('DONNEES PAR PERIODE'!$A5&" "&B4,BDD!$2:$2,0)-1,ROWS(BDD!$A$3:$A$74),1)))/SUMPRODUCT((BDD!$A$3:$A$74='DONNEES PAR PERIODE'!$B$1)*(BDD!$B$3:$B$74>='DONNEES PAR PERIODE'!$B$2)*(BDD!$B$3:$B$74<='DONNEES PAR PERIODE'!$D$2)) -> 0.48304706 | C5: =SUMPRODUCT((BDD!$A$3:$A$74='DONNEES PAR PERIODE'!$B$1)*(BDD!$B$3:$B$74>='DONNEES PAR PERIODE'!$B$2)*(BDD!$B$3:$B$74<='DONNEES PAR PERIODE'!$D$2)*(OFFSET(BDD!$A$3,0,MATCH('DONNEES PAR PERIODE'!$A5&" "&C4,BDD!$2:$2,0)-1,ROWS(BDD!$A$3:$A$74),1)))/SUMPRODUCT((BDD!$A$3:$A$74='DONNEES PAR PERIODE'!$B$1)*(BDD!$B$3:$B$74>='DONNEES PAR PERIODE'!$B$2)*(BDD!$B$3:$B$74<='DONNEES PAR PERIODE'!$D$2)) -> 0.45380147 | D5: =SUMPRODUCT((BDD!$A$3:$A$74='DONNEES PAR PERIODE'!$B$1)*(BDD!$B$3:$B$74>='DONNEES PAR PERIODE'!$B$2)*(BDD!$B$3:$B$74<='DONNEES PAR PERIODE'!$D$2)*(OFFSET(BDD!$A$3,0,MATCH('DONNEES PAR PERIODE'!$A5&" "&D4,BDD!$2:$2,0)-1,ROWS(BDD!$A$3:$A$74),1)))/SUMPRODUCT((BDD!$A$3:$A$74='DONNEES PAR PERIODE'!$B$1)*(BDD!$B$3:$B$74>='DONNEES PAR PERIODE'!$B$2)*(BDD!$B$3:$B$74<='DONNEES PAR PERIODE'!$D$2)) -> 0.56497392 | E5: =SUMPRODUCT((BDD!$A$3:$A$74='DONNEES PAR PERIODE'!$B$1)*(BDD!$B$3:$B$74>='DONNEES PAR PERIODE'!$B$2)*(BDD!$B$3:$B$74<='DONNEES PAR PERIODE'!$D$2)*(OFFSET(BDD!$A$3,0,MATCH('DONNEES PAR PERIODE'!$A5&" "&E4,BDD!$2:$2,0)-1,ROWS(BDD!$A$3:$A$74),1)))/SUMPRODUCT((BDD!$A$3:$A$74='DONNEES PAR PERIODE'!$B$1)*(BDD!$B$3:$B$74>='DONNEES PAR PERIODE'!$B$2)*(BDD!$B$3:$B$74<='DONNEES PAR PERIODE'!$D$2)) -> 0.63921708 | G5: RAPPEL TOTAL TRAFIC
G6: TOTAL COURRIER | H6: =SUM(B5:E5,B8:C8,B11,B18,B20,E18) -> #N/A
B7: TCP | C7: TCD
A8: Trafic Cedex | B8: =SUMPRODUCT((BDD!$A$3:$A$74='DONNEES PAR PERIODE'!$B$1)*(BDD!$B$3:$B$74>='DONNEES PAR PERIODE'!$B$2)*(BDD!$B$3:$B$74<='DONNEES PAR PERIODE'!$D$2)*(OFFSET(BDD!$A$3,0,MATCH('DONNEES PAR PERIODE'!$A8&" "&B7,BDD!$2:$2,0)-1,ROWS(BDD!$A$3:$A$74),1)))/SUMPRODUCT((BDD!$A$3:$A$74='DONNEES PAR PERIODE'!$B$1)*(BDD!$B$3:$B$74>='DONNEES PAR PERIODE'!$B$2)*(BDD!$B$3:$B$74<='DONNEES PAR PERIODE'!$D$2)) -> 0.56540816 | C8: =SUMPRODUCT((BDD!$A$3:$A$74='DONNEES PAR PERIODE'!$B$1)*(BDD!$B$3:$B$74>='DONNEES PAR PERIODE'!$B$2)*(BDD!$B$3:$B$74<='DONNEES PAR PERIODE'!$D$2)*(OFFSET(BDD!$A$3,0,MATCH('DONNEES PAR PERIODE'!$A8&" "&C7,BDD!$2:$2,0)-1,ROWS(BDD!$A$3:$A$74),1)))/SUMPRODUCT((BDD!$A$3:$A$74='DONNEES PAR PERIODE'!$B$1)*(BDD!$B$3:$B$74>='DONNEES PAR PERIODE'!$B$2)*(BDD!$B$3:$B$74<='DONNEES PAR PERIODE'!$D$2)) -> 0.37761254 | G8: TOTAL COLIS | H8: =SUM(C11:D11) -> 0.81521305
B10: 3S | C10: COLIS | D10: CHRONO | E10: PPI | G10: TOTAL PPI | H10: =SUM(H18,E11) -> 1.1788568
A11: OO cedex | B11: =SUMPRODUCT((BDD!$A$3:$A$74='DONNEES PAR PERIODE'!$B$1)*(BDD!$B$3:$B$74>='DONNEES PAR PERIODE'!$B$2)*(BDD!$B$3:$B$74<='DONNEES PAR PERIODE'!$D$2)*(OFFSET(BDD!$A$3,0,MATCH('DONNEES PAR PERIODE'!$A11&" "&B10,BDD!$2:$2,0)-1,ROWS(BDD!$A$3:$A$74),1)))/SUMPRODUCT((BDD!$A$3:$A$74='DONNEES PAR PERIODE'!$B$1)*(BDD!$B$3:$B$74>='DONNEES PAR PERIODE'!$B$2)*(BDD!$B$3:$B$74<='DONNEES PAR PERIODE'!$D$2)) -> #N/A | C11: {=INDEX(BDD!$A$3:$T$1000,MATCH(1,(BDD!$A$3:$A$1000=$B$1)*(BDD!$B$3:$B$1000=$B$2),0),9)} -> 0.42545751 | D11: {=INDEX(BDD!$A$3:$T$1000,MATCH(1,(BDD!$A$3:$A$1000=$B$1)*(BDD!$B$3:$B$1000=$B$2),0),10)} -> 0.38975554 | E11: {=INDEX(BDD!$A$3:$T$1000,MATCH(1,(BDD!$A$3:$A$1000=$B$1)*(BDD!$B$3:$B$1000=$B$2),0),20)} -> 0.76818411
B13: CATALOGUES | C13: ELECTIONS
A14: AUTRES
A17: Trafic manuel OO | D17: Trafic presse | G17: Trafic PPI
A18: ménage | B18: {=INDEX(BDD!$A$3:$T$1000,MATCH(1,(BDD!$A$3:$A$1000=$B$1)*(BDD!$B$3:$B$1000=$B$2),0),11)} -> 0.59193164 | D18: PRESSE | E18: {=INDEX(BDD!$A$3:$T$1000,MATCH(1,(BDD!$A$3:$A$1000=$B$1)*(BDD!$B$3:$B$1000=$B$2),0),5)} -> 0.42219369 | G18: PPI (non suivis) | H18: {=INDEX(BDD!$A$3:$T$1000,MATCH(1,(BDD!$A$3:$A$1000=$B$1)*(BDD!$B$3:$B$1000=$B$2),0),19)} -> 0.41067272
A20: cedex | B20: {=INDEX(BDD!$A$3:$T$1000,MATCH(1,(BDD!$A$3:$A$1000=$B$1)*(BDD!$B$3:$B$1000=$B$2),0),17)} -> 0.22784024
D21: =SUM(OFFSET(BDD!$A$3,0,MATCH('DONNEES PAR PERIODE'!A$11&" "&B$10,BDD!$2:$2,0)-1,ROWS(BDD!$A$3:$A$74),1)) -> #N/A
