Workbook

Sheet bilan
B1: QTE MATIERES EVALUE PAR ELEVES | D1: MOYENNE ELEVE PAR MATIERES | F1: MOYENNE MATH+FR | G1: APPRECIATION
B2: MATH | C2: FRANCAIS | D2: MATH | E2: FRANCAIS
A3: ELEVE1 | B3: =COUNTIF(eleve1!C3:'eleve1'!G3,"MATH") -> 2 | C3: =COUNTIF(eleve1!C3:'eleve1'!G3,"FRANCAIS") -> 3 | D3: =SUMPRODUCT((INDIRECT($A3&"!$c3:$G$3")=D$2)*(INDIRECT($A3&"!$c4:$G$8")))/SUMPRODUCT((ISNUMBER(INDIRECT($A3&"!$c4:$G$8")))*(INDIRECT($A3&"!$c3:$G$3")=D$2)) -> 15 | E3: =SUMPRODUCT((INDIRECT($A3&"!$c3:$G$3")=E$2)*(INDIRECT($A3&"!$c4:$G$8")))/SUMPRODUCT((ISNUMBER(INDIRECT($A3&"!$c4:$G$8")))*(INDIRECT($A3&"!$c3:$G$3")=E$2)) -> 8 | F3: =eleve1!B11 -> 10.8 | G3: =eleve1!B12 -> peux mieux faire
A4: ELEVE2 | B4: =COUNTIF(eleve2!C3:'eleve2'!G3,"MATH") -> 3 | C4: =COUNTIF(eleve2!C3:'eleve2'!G3,"FRANCAIS") -> 2 | D4: =SUMPRODUCT((INDIRECT($A4&"!$c3:$G$3")=D$2)*(INDIRECT($A4&"!$c4:$G$8")))/SUMPRODUCT((ISNUMBER(INDIRECT($A4&"!$c4:$G$8")))*(INDIRECT($A4&"!$c3:$G$3")=D$2)) -> 7 | E4: =SUMPRODUCT((INDIRECT($A4&"!$c3:$G$3")=E$2)*(INDIRECT($A4&"!$c4:$G$8")))/SUMPRODUCT((ISNUMBER(INDIRECT($A4&"!$c4:$G$8")))*(INDIRECT($A4&"!$c3:$G$3")=E$2)) -> 11 | F4: =eleve2!B11 -> 8.6 | G4: =eleve2!B12 -> inacceptable
A5: ELEVE3 | B5: =COUNTIF(eleve3!C3:'eleve3'!G3,"MATH") -> 4 | C5: =COUNTIF(eleve3!C3:'eleve3'!G3,"FRANCAIS") -> 1 | D5: =SUMPRODUCT((INDIRECT($A5&"!$c3:$G$3")=D$2)*(INDIRECT($A5&"!$c4:$G$8")))/SUMPRODUCT((ISNUMBER(INDIRECT($A5&"!$c4:$G$8")))*(INDIRECT($A5&"!$c3:$G$3")=D$2)) -> 15 | E5: =SUMPRODUCT((INDIRECT($A5&"!$c3:$G$3")=E$2)*(INDIRECT($A5&"!$c4:$G$8")))/SUMPRODUCT((ISNUMBER(INDIRECT($A5&"!$c4:$G$8")))*(INDIRECT($A5&"!$c3:$G$3")=E$2)) -> 15 | F5: =eleve3!B11 -> 15 | G5: =eleve3!B12 -> bien
A6: ELEVE4 | B6: =COUNTIF(eleve4!C3:'eleve4'!G3,"MATH") -> 1 | C6: =COUNTIF(eleve4!C3:'eleve4'!G3,"FRANCAIS") -> 4 | D6: =SUMPRODUCT((INDIRECT($A6&"!$c3:$G$3")=D$2)*(INDIRECT($A6&"!$c4:$G$8")))/SUMPRODUCT((ISNUMBER(INDIRECT($A6&"!$c4:$G$8")))*(INDIRECT($A6&"!$c3:$G$3")=D$2)) -> 10 | E6: =SUMPRODUCT((INDIRECT($A6&"!$c3:$G$3")=E$2)*(INDIRECT($A6&"!$c4:$G$8")))/SUMPRODUCT((ISNUMBER(INDIRECT($A6&"!$c4:$G$8")))*(INDIRECT($A6&"!$c3:$G$3")=E$2)) -> 10 | F6: =eleve4!B11 -> 10 | G6: =eleve4!B12 -> peux mieux faire
A7: ELEVE5 | B7: =COUNTIF(eleve5!C3:'eleve5'!G3,"MATH") -> 3 | C7: =COUNTIF(eleve5!C3:'eleve5'!G3,"FRANCAIS") -> 2 | D7: =SUMPRODUCT((INDIRECT($A7&"!$c3:$G$3")=D$2)*(INDIRECT($A7&"!$c4:$G$8")))/SUMPRODUCT((ISNUMBER(INDIRECT($A7&"!$c4:$G$8")))*(INDIRECT($A7&"!$c3:$G$3")=D$2)) -> 16.666667 | E7: =SUMPRODUCT((INDIRECT($A7&"!$c3:$G$3")=E$2)*(INDIRECT($A7&"!$c4:$G$8")))/SUMPRODUCT((ISNUMBER(INDIRECT($A7&"!$c4:$G$8")))*(INDIRECT($A7&"!$c3:$G$3")=E$2)) -> 15 | F7: =eleve5!B11 -> 16 | G7: =eleve5!B12 -> bien
B9: BILAN DES ELEVES EVALUES
B10: QTE MATIERE EVALUE | D10: NB EVAL INACCEPTABLE | F10: NB EVAL PEUX MIEUX FAIRE | H10: NB EVAL BIEN
B11: NB MATIERES | C11: POURCENTAGE NB MATIERE | D11: NB MATIERES | E11: POURCENTAGE NB MATIERE | F11: NB MATIERES | G11: POURCENTAGE NB MATIERE | H11: NB MATIERES | I11: POURCENTAGE NB MATIERE
A12: MATH | B12: =SUM(B3:B7) -> 13 | C12: =B12/100*4 -> 0.52 | E12: =D12/100*4 -> 0 | G12: =F12/100*4 -> 0 | I12: =H12/100*4 -> 0
A13: FRANCAIS | B13: =SUM(C3:C7) -> 12 | C13: =B13/100*4 -> 0.48 | E13: =D13/100*4 -> 0 | G13: =F13/100*4 -> 0 | I13: =H13/100*4 -> 0
A14: MOYENNE MATH + FRANCAIS | B14: =SUM(B12:B13) -> 25 | C14: =B14/100*4 -> 1 | E14: =D14/100*4 -> 0 | G14: =F14/100*4 -> 0 | I14: =H14/100*4 -> 0
B29: =eleve1!C2 -> 0

Sheet eleve1
B3: MATIERES | C3: FRANCAIS | D3: FRANCAIS | E3: FRANCAIS | F3: MATH | G3: MATH
A4: EVAL1 | C4: 5 | D4: 5 | E4: 10 | F4: 15 | G4: 15 | I4: =SUMPRODUCT((ISNUMBER(C4:G8)*(C3:G3="math"))) -> 10
A5: EVAL2 | C5: 6 | D5: 6 | E5: 10 | F5: 15 | G5: 15
A6: EVAL3 | C6: 7 | D6: 7 | E6: 10 | F6: 15 | G6: 15
A7: EVAL4 | C7: 8 | D7: 8 | E7: 10 | F7: 15 | G7: 15
A8: EVAL5 | C8: 9 | D8: 9 | E8: 10 | F8: 15 | G8: 15
A9: MOYENNE | C9: =AVERAGE(C4:C8) -> 7 | D9: =AVERAGE(D4:D8) -> 7 | E9: =AVERAGE(E4:E8) -> 10 | F9: =AVERAGE(F4:F8) -> 15 | G9: =AVERAGE(G4:G8) -> 15
A10: APPRECIATION | C10: =IF(COUNTA(C4:C8)=0,"",IF(C9="","",IF(C9<10,"inacceptable",IF(C9>=15,"bien",IF(C9<15,"peux mieux faire",""))))) -> inacceptable | D10: =IF(COUNTA(D4:D8)=0,"",IF(D9="","",IF(D9<10,"inacceptable",IF(D9>=15,"bien",IF(D9<15,"peux mieux faire",""))))) -> inacceptable | E10: =IF(COUNTA(E4:E8)=0,"",IF(E9="","",IF(E9<10,"inacceptable",IF(E9>=15,"bien",IF(E9<15,"peux mieux faire",""))))) -> peux mieux faire | F10: =IF(COUNTA(F4:F8)=0,"",IF(F9="","",IF(F9<10,"inacceptable",IF(F9>=15,"bien",IF(F9<15,"peux mieux faire",""))))) -> bien | G10: =IF(COUNTA(G4:G8)=0,"",IF(G9="","",IF(G9<10,"inacceptable",IF(G9>=15,"bien",IF(G9<15,"peux mieux faire",""))))) -> bien
A11: MOYENNE MATH+FR | B11: =AVERAGE(C4:G8) -> 10.8
A12: APPRECIATION GENERAL | B12: =IF(COUNTA(B11)=0,"",IF(B11="","",IF(B11<10,"inacceptable",IF(B11>=15,"bien",IF(B11<15,"peux mieux faire",""))))) -> peux mieux faire

Sheet eleve2
B3: MATIERE | C3: MATH | D3: MATH | E3: MATH | F3: FRANCAIS | G3: FRANCAIS
A4: EVAL1 | C4: 5 | D4: 5 | E4: 5 | F4: 5 | G4: 15
A5: EVAL2 | C5: 6 | D5: 6 | E5: 6 | F5: 6 | G5: 15
A6: EVAL3 | C6: 7 | D6: 7 | E6: 7 | F6: 7 | G6: 15
A7: EVAL4 | C7: 8 | D7: 8 | E7: 8 | F7: 8 | G7: 15
A8: EVAL5 | C8: 9 | D8: 9 | E8: 9 | F8: 9 | G8: 15
A9: MOYENNE | C9: =AVERAGE(C4:C8) -> 7 | D9: =AVERAGE(D4:D8) -> 7 | E9: =AVERAGE(E4:E8) -> 7 | F9: =AVERAGE(F4:F8) -> 7 | G9: =AVERAGE(G4:G8) -> 15
A10: APPRECIATION | C10: =IF(COUNTA(C4:C8)=0,"",IF(C9="","",IF(C9<10,"inacceptable",IF(C9>=15,"bien",IF(C9<15,"peux mieux faire",""))))) -> inacceptable | D10: =IF(COUNTA(D4:D8)=0,"",IF(D9="","",IF(D9<10,"inacceptable",IF(D9>=15,"bien",IF(D9<15,"peux mieux faire",""))))) -> inacceptable | E10: =IF(COUNTA(E4:E8)=0,"",IF(E9="","",IF(E9<10,"inacceptable",IF(E9>=15,"bien",IF(E9<15,"peux mieux faire",""))))) -> inacceptable | F10: =IF(COUNTA(F4:F8)=0,"",IF(F9="","",IF(F9<10,"inacceptable",IF(F9>=15,"bien",IF(F9<15,"peux mieux faire",""))))) -> inacceptable | G10: =IF(COUNTA(G4:G8)=0,"",IF(G9="","",IF(G9<10,"inacceptable",IF(G9>=15,"bien",IF(G9<15,"peux mieux faire",""))))) -> bien
A11: MOYENNE MATH+FR | B11: =AVERAGE(C4:G9) -> 8.6
A12: APPRECIATION GENERAL | B12: =IF(COUNTA(B11)=0,"",IF(B11="","",IF(B11<10,"inacceptable",IF(B11>=15,"bien",IF(B11<15,"peux mieux faire",""))))) -> inacceptable

Sheet eleve3
B3: MATIERE | C3: FRANCAIS | D3: MATH | E3: MATH | F3: MATH | G3: MATH
A4: EVAL1 | C4: 15 | D4: 15 | E4: 15 | F4: 15 | G4: 15
A5: EVAL2 | C5: 15 | D5: 15 | E5: 15 | F5: 15 | G5: 15
A6: EVAL3 | C6: 15 | D6: 15 | E6: 15 | F6: 15 | G6: 15
A7: EVAL4 | C7: 15 | D7: 15 | E7: 15 | F7: 15 | G7: 15
A8: EVAL5 | C8: 15 | D8: 15 | E8: 15 | F8: 15 | G8: 15
A9: MOYENNE | C9: =AVERAGE(C4:C8) -> 15 | D9: =AVERAGE(D4:D8) -> 15 | E9: =AVERAGE(E4:E8) -> 15 | F9: =AVERAGE(F4:F8) -> 15 | G9: =AVERAGE(G4:G8) -> 15
A10: APPRECIATION | C10: =IF(COUNTA(C4:C8)=0,"",IF(C9="","",IF(C9<10,"inacceptable",IF(C9>=15,"bien",IF(C9<15,"peux mieux faire",""))))) -> bien | D10: =IF(COUNTA(D4:D8)=0,"",IF(D9="","",IF(D9<10,"inacceptable",IF(D9>=15,"bien",IF(D9<15,"peux mieux faire",""))))) -> bien | E10: =IF(COUNTA(E4:E8)=0,"",IF(E9="","",IF(E9<10,"inacceptable",IF(E9>=15,"bien",IF(E9<15,"peux mieux faire",""))))) -> bien | F10: =IF(COUNTA(F4:F8)=0,"",IF(F9="","",IF(F9<10,"inacceptable",IF(F9>=15,"bien",IF(F9<15,"peux mieux faire",""))))) -> bien | G10: =IF(COUNTA(G4:G8)=0,"",IF(G9="","",IF(G9<10,"inacceptable",IF(G9>=15,"bien",IF(G9<15,"peux mieux faire",""))))) -> bien
A11: MOYENNE MATH+FR | B11: =AVERAGE(C4:G9) -> 15
A12: APPRECIATION GENERAL | B12: =IF(COUNTA(B11)=0,"",IF(B11="","",IF(B11<10,"inacceptable",IF(B11>=15,"bien",IF(B11<15,"peux mieux faire",""))))) -> bien

Sheet eleve4
B3: MATIERE | C3: FRANCAIS | D3: FRANCAIS | E3: FRANCAIS | F3: FRANCAIS | G3: MATH
A4: EVAL1 | C4: 10 | D4: 10 | E4: 10 | F4: 10 | G4: 10
A5: EVAL2 | C5: 10 | D5: 10 | E5: 10 | F5: 10 | G5: 10
A6: EVAL3 | C6: 10 | D6: 10 | E6: 10 | F6: 10 | G6: 10
A7: EVAL4 | C7: 10 | D7: 10 | E7: 10 | F7: 10 | G7: 10
A8: EVAL5 | C8: 10 | D8: 10 | E8: 10 | F8: 10 | G8: 10
A9: MOYENNE | C9: =AVERAGE(C4:C8) -> 10 | D9: =AVERAGE(D4:D8) -> 10 | E9: =AVERAGE(E4:E8) -> 10 | F9: =AVERAGE(F4:F8) -> 10 | G9: =AVERAGE(G4:G8) -> 10
A10: APPRECIATION | C10: =IF(COUNTA(C4:C8)=0,"",IF(C9="","",IF(C9<10,"inacceptable",IF(C9>=15,"bien",IF(C9<15,"peux mieux faire",""))))) -> peux mieux faire | D10: =IF(COUNTA(D4:D8)=0,"",IF(D9="","",IF(D9<10,"inacceptable",IF(D9>=15,"bien",IF(D9<15,"peux mieux faire",""))))) -> peux mieux faire | E10: =IF(COUNTA(E4:E8)=0,"",IF(E9="","",IF(E9<10,"inacceptable",IF(E9>=15,"bien",IF(E9<15,"peux mieux faire",""))))) -> peux mieux faire | F10: =IF(COUNTA(F4:F8)=0,"",IF(F9="","",IF(F9<10,"inacceptable",IF(F9>=15,"bien",IF(F9<15,"peux mieux faire",""))))) -> peux mieux faire | G10: =IF(COUNTA(G4:G8)=0,"",IF(G9="","",IF(G9<10,"inacceptable",IF(G9>=15,"bien",IF(G9<15,"peux mieux faire",""))))) -> peux mieux faire
A11: MOYENNE MATH+FR | B11: =AVERAGE(C4:G9) -> 10
A12: APPRECIATION GENERAL | B12: =IF(COUNTA(B11)=0,"",IF(B11="","",IF(B11<10,"inacceptable",IF(B11>=15,"bien",IF(B11<15,"peux mieux faire",""))))) -> peux mieux faire

Sheet eleve5
B3: MATIERE | C3: FRANCAIS | D3: MATH | E3: MATH | F3: FRANCAIS | G3: MATH
A4: EVAL1 | C4: 15 | D4: 15 | E4: 15 | F4: 15 | G4: 20
A5: EVAL2 | C5: 15 | D5: 15 | E5: 15 | F5: 15 | G5: 20
A6: EVAL3 | C6: 15 | D6: 15 | E6: 15 | F6: 15 | G6: 20
A7: EVAL4 | C7: 15 | D7: 15 | E7: 15 | F7: 15 | G7: 20
A8: EVAL5 | C8: 15 | D8: 15 | E8: 15 | F8: 15 | G8: 20
A9: MOYENNE | C9: =AVERAGE(C4:C8) -> 15 | D9: =AVERAGE(D4:D8) -> 15 | E9: =AVERAGE(E4:E8) -> 15 | F9: =AVERAGE(F4:F8) -> 15 | G9: =AVERAGE(G4:G8) -> 20
A10: APPRECIATION | C10: =IF(COUNTA(C4:C8)=0,"",IF(C9="","",IF(C9<10,"inacceptable",IF(C9>=15,"bien",IF(C9<15,"peux mieux faire",""))))) -> bien | D10: =IF(COUNTA(D4:D8)=0,"",IF(D9="","",IF(D9<10,"inacceptable",IF(D9>=15,"bien",IF(D9<15,"peux mieux faire",""))))) -> bien | E10: =IF(COUNTA(E4:E8)=0,"",IF(E9="","",IF(E9<10,"inacceptable",IF(E9>=15,"bien",IF(E9<15,"peux mieux faire",""))))) -> bien | F10: =IF(COUNTA(F4:F8)=0,"",IF(F9="","",IF(F9<10,"inacceptable",IF(F9>=15,"bien",IF(F9<15,"peux mieux faire",""))))) -> bien | G10: =IF(COUNTA(G4:G8)=0,"",IF(G9="","",IF(G9<10,"inacceptable",IF(G9>=15,"bien",IF(G9<15,"peux mieux faire",""))))) -> bien
A11: MOYENNE MATH+FR | B11: =AVERAGE(C4:G9) -> 16
A12: APPRECIATION GENERAL | B12: =IF(COUNTA(B11)=0,"",IF(B11="","",IF(B11<10,"inacceptable",IF(B11>=15,"bien",IF(B11<15,"peux mieux faire",""))))) -> bien
