Workbook
Name _56F9DC9755BA473782653E2940F9FormId: "Q-LQrrWvlk6vNOpOXfSXnriLS3sv2JBKm7RN6hRSvfBUQjRFNVRTNExWRlozRUo0TE5BVjBQUzVWUS4u"
Name _56F9DC9755BA473782653E2940F9ResponseSheet: "Form1"
Name _56F9DC9755BA473782653E2940F9SourceDocId: "{8ae34dce-8212-4bf3-8117-52b4943d0fae}"
Name majoration: VLOOKUP(INDIRECT(LEFT(JAN!$E$1,3)&"!I"&ROW()),VACATIONS!$B$24:$C$29,2,0)

Sheet VACATIONS
C2: LUNDI | F2: MARDI | I2: MERCREDI | L2: JEUDI | O2: VENDREDI | R2: SAMEDI | U2: DIMANCHE
B3: VACATION | C3: Début | D3: Fin | E3: Coupure | F3: Début | G3: Fin | H3: Coupure | I3: Début | J3: Fin | K3: Coupure | L3: Début | M3: Fin | N3: Coupure | O3: Début | P3: Fin | Q3: Coupure | R3: Début | S3: Fin | T3: Coupure | U3: Début | V3: Fin | W3: Coupure
B4: Vac1 | C4: 0.45833333 | D4: 0.8125 | E4: 0 | F4: 0.45833333 | G4: 0.8125 | H4: 0 | I4: 0.45833333 | J4: 0.8125 | K4: 0 | L4: 0.45833333 | M4: 0.8125 | N4: 0 | O4: 0.45833333 | P4: 0.8125 | Q4: 0 | R4: * | S4: * | T4: * | U4: * | V4: * | W4: *
B5: Vac2 | C5: 0.60416667 | D5: 0.8125 | E5: 0 | F5: 0.60416667 | G5: 0.8125 | H5: 0 | I5: 0.60416667 | J5: 0.8125 | K5: 0 | L5: 0.60416667 | M5: 0.8125 | N5: 0 | O5: 0.60416667 | P5: 0.8125 | Q5: 0 | R5: 0.60416667 | S5: 0.8125 | T5: 0 | U5: * | V5: * | W5: *
B6: Vac3 | C6: 0.60416667 | D6: 0.88541667 | E6: 0 | F6: 0.60416667 | G6: 0.88541667 | H6: 0 | I6: 0.60416667 | J6: 0.88541667 | K6: 0 | L6: 0.60416667 | M6: 0.88541667 | N6: 0 | O6: 0.60416667 | P6: 0.88541667 | Q6: 0 | R6: 0.60416667 | S6: 0.88541667 | T6: 0 | U6: * | V6: * | W6: *
B7: Vac4 | C7: 0.22916667 | D7: 0.54166667 | E7: 0 | F7: 0.22916667 | G7: 0.54166667 | H7: 0 | I7: 0.22916667 | J7: 0.54166667 | K7: 0 | L7: 0.22916667 | M7: 0.54166667 | N7: 0 | O7: 0.22916667 | P7: 0.54166667 | Q7: 0 | R7: * | S7: * | T7: * | U7: * | V7: * | W7: *
B8: Vac5 | C8: 0.52083333 | D8: 0.875 | E8: 0 | F8: 0.52083333 | G8: 0.875 | H8: 0 | I8: 0.52083333 | J8: 0.875 | K8: 0 | L8: 0.52083333 | M8: 0.875 | N8: 0 | O8: 0.52083333 | P8: 0.875 | Q8: 0 | R8: 0.45833333 | S8: 0.88541667 | T8: 0 | U8: 0.45833333 | V8: 0.89583333 | W8: 0
B9: Vac6 | C9: * | D9: * | E9: * | F9: * | G9: * | H9: * | I9: * | J9: * | K9: * | L9: * | M9: * | N9: * | O9: * | P9: * | Q9: * | R9: * | S9: * | T9: * | U9: 0.60416667 | V9: 0.89583333 | W9: 0
B10: Vac7 | C10: * | D10: * | E10: * | F10: * | G10: * | H10: * | I10: 0.3125 | J10: 0.70833333 | K10: 0.041666667 | L10: * | M10: * | N10: * | O10: * | P10: * | Q10: * | R10: * | S10: * | T10: * | U10: * | V10: * | W10: *
B11: Vac8 | C11: 0.41666667 | D11: 0.83333333 | E11: 0.041666667 | F11: * | G11: * | H11: * | I11: * | J11: * | K11: * | L11: * | M11: * | N11: * | O11: * | P11: * | Q11: * | R11: * | S11: * | T11: * | U11: * | V11: * | W11: *
B12: Vac9 | C12: * | D12: * | E12: * | F12: 0.3125 | G12: 0.8125 | H12: 0.041666667 | I12: * | J12: * | K12: * | L12: * | M12: * | N12: * | O12: * | P12: * | Q12: * | R12: * | S12: * | T12: * | U12: * | V12: * | W12: *
B13: Vac10 | C13: * | D13: * | E13: * | F13: * | G13: * | H13: * | I13: 0.47916667 | J13: 0.95833333 | K13: 0.041666667 | L13: * | M13: * | N13: * | O13: * | P13: * | Q13: * | R13: * | S13: * | T13: * | U13: * | V13: * | W13: *
B14: Vac11 | C14: * | D14: * | E14: * | F14: * | G14: * | H14: * | L14: * | M14: * | N14: * | O14: * | P14: * | Q14: * | R14: * | S14: * | T14: * | U14: * | V14: * | W14: *
B15: Vac12 | C15: * | D15: * | E15: * | F15: * | G15: * | H15: * | I15: * | J15: * | K15: * | L15: * | M15: * | N15: * | O15: * | P15: * | Q15: * | R15: * | S15: * | T15: * | U15: 0.58333333 | V15: 0.91666667 | W15: 0
B16: Vac13 | C16: 0.44791667 | D16: 0.84375 | E16: 0.041666667 | F16: 0.44791667 | G16: 0.84375 | H16: 0.041666667 | I16: 0.44791667 | J16: 0.84375 | K16: 0.041666667 | L16: 0.44791667 | M16: 0.84375 | N16: 0.041666667 | O16: 0.44791667 | P16: 0.84375 | Q16: 0.041666667 | R16: 0.44791667 | S16: 0.84375 | T16: 0.041666667 | U16: 0.44791667 | V16: 0.84375 | W16: 0.041666667
B17: Vac14 | C17: 0.36458333 | D17: 0.84375 | E17: 0.052083333 | F17: 0.36458333 | G17: 0.84375 | H17: 0.052083333 | I17: 0.36458333 | J17: 0.84375 | K17: 0.052083333 | L17: 0.36458333 | M17: 0.84375 | N17: 0.052083333 | O17: 0.36458333 | P17: 0.84375 | Q17: 0.052083333 | R17: * | S17: * | T17: * | U17: * | V17: * | W17: *
B18: Vac15 | C18: * | D18: * | E18: * | F18: * | G18: * | H18: * | I18: * | J18: * | K18: * | L18: * | M18: * | N18: * | O18: * | P18: * | Q18: * | R18: * | S18: * | T18: * | U18: 0.42708333 | V18: 0.84375 | W18: 0.041666667
B19: Vac16 | C19: 0.42708333 | D19: 0.88541667 | E19: 0.041666667 | F19: 0.42708333 | G19: 0.88541667 | H19: 0.041666667 | I19: 0.42708333 | J19: 0.88541667 | K19: 0.041666667 | L19: 0.42708333 | M19: 0.88541667 | N19: 0.041666667 | O19: 0.42708333 | P19: 0.88541667 | Q19: 0.041666667 | R19: 0.42708333 | S19: 0.88541667 | T19: 0.041666667 | U19: * | V19: * | W19: *
B20: Vac17 | C20: 0.58333333 | D20: 0.84375 | E20: 0 | F20: 0.58333333 | G20: 0.84375 | H20: 0 | I20: 0.58333333 | J20: 0.84375 | K20: 0 | L20: 0.58333333 | M20: 0.84375 | N20: 0 | O20: 0.58333333 | P20: 0.84375 | Q20: 0 | R20: 0.58333333 | S20: 0.84375 | T20: 0 | U20: * | V20: * | W20: *
B21: Vac18 | C21: 0.44791667 | D21: 0.8125 | E21: 0.0625 | F21: 0.44791667 | G21: 0.8125 | H21: 0.0625 | I21: 0.44791667 | J21: 0.8125 | K21: 0.0625 | L21: 0.44791667 | M21: 0.8125 | N21: 0.0625 | O21: 0.44791667 | P21: 0.8125 | Q21: 0.0625 | R21: 0.44791667 | S21: 0.8125 | T21: 0.0625 | U21: * | V21: * | W21: *
B23: MAJORATION
B24: SAM JT | C24: 1.7
B25: DIM JT | C25: 1.9
B26: SAM PROD | C26: 1.3
B27: DIM PRO | C27: 1.5
B28: FERIE | C28: 2
B29: NUIT | C29: 1.9

Sheet JAN
E1: JANVIER
I2: =LEFT(E1,3) -> JAN
B5: Semaine | C5: Jour | D5: Vacation | E5: Début | F5: Fin | G5: Coupure | H5: Total | I5: Majoration
B6: 1 | C6: 43831 | D6: Vac1 | E6: =IFERROR(OFFSET(VACATIONS!$C$4,MATCH(JAN!$D6,VACATIONS!$B$4:$B$21,0)-1,MATCH(TEXT(JAN!$C6,"jjjj"),VACATIONS!$C$2:$W$2,0)-1),"") -> 0.45833333 | F6: =IFERROR(OFFSET(VACATIONS!$C$4,MATCH(JAN!$D6,VACATIONS!$B$4:$B$21,0)-1,MATCH(TEXT(JAN!$C6,"jjjj"),VACATIONS!$C$2:$W$2,0)),"") -> 0.8125 | G6: =IFERROR(OFFSET(VACATIONS!$C$4,MATCH(JAN!$D6,VACATIONS!$B$4:$B$21,0)-1,MATCH(TEXT(JAN!$C6,"jjjj"),VACATIONS!$C$2:$W$2,0)+1),"") -> 0 | H6: =IFERROR(SUM(F6-E6-G6),0)*IFERROR(majoration,1) -> 0.70833333 | I6: FERIE
C7: 43832 | E7: =IFERROR(OFFSET(VACATIONS!$C$4,MATCH(JAN!$D7,VACATIONS!$B$4:$B$21,0)-1,MATCH(TEXT(JAN!$C7,"jjjj"),VACATIONS!$C$2:$W$2,0)-1),"") | F7: =IFERROR(OFFSET(VACATIONS!$C$4,MATCH(JAN!$D7,VACATIONS!$B$4:$B$21,0)-1,MATCH(TEXT(JAN!$C7,"jjjj"),VACATIONS!$C$2:$W$2,0)),"") | G7: =IFERROR(OFFSET(VACATIONS!$C$4,MATCH(JAN!$D7,VACATIONS!$B$4:$B$21,0)-1,MATCH(TEXT(JAN!$C7,"jjjj"),VACATIONS!$C$2:$W$2,0)+1),"") | H7: =IFERROR(SUM(F7-E7-G7),0)*IFERROR(majoration,1) -> 0
C8: 43833 | D8: Vac4 | E8: =IFERROR(OFFSET(VACATIONS!$C$4,MATCH(JAN!$D8,VACATIONS!$B$4:$B$21,0)-1,MATCH(TEXT(JAN!$C8,"jjjj"),VACATIONS!$C$2:$W$2,0)-1),"") -> 0.22916667 | F8: =IFERROR(OFFSET(VACATIONS!$C$4,MATCH(JAN!$D8,VACATIONS!$B$4:$B$21,0)-1,MATCH(TEXT(JAN!$C8,"jjjj"),VACATIONS!$C$2:$W$2,0)),"") -> 0.54166667 | G8: =IFERROR(OFFSET(VACATIONS!$C$4,MATCH(JAN!$D8,VACATIONS!$B$4:$B$21,0)-1,MATCH(TEXT(JAN!$C8,"jjjj"),VACATIONS!$C$2:$W$2,0)+1),"") -> 0 | H8: =IFERROR(SUM(F8-E8-G8),0)*IFERROR(majoration,1) -> 0.3125
C9: 43834 | E9: =IFERROR(OFFSET(VACATIONS!$C$4,MATCH(JAN!$D9,VACATIONS!$B$4:$B$21,0)-1,MATCH(TEXT(JAN!$C9,"jjjj"),VACATIONS!$C$2:$W$2,0)-1),"") | F9: =IFERROR(OFFSET(VACATIONS!$C$4,MATCH(JAN!$D9,VACATIONS!$B$4:$B$21,0)-1,MATCH(TEXT(JAN!$C9,"jjjj"),VACATIONS!$C$2:$W$2,0)),"") | G9: =IFERROR(OFFSET(VACATIONS!$C$4,MATCH(JAN!$D9,VACATIONS!$B$4:$B$21,0)-1,MATCH(TEXT(JAN!$C9,"jjjj"),VACATIONS!$C$2:$W$2,0)+1),"") | H9: =IFERROR(SUM(F9-E9-G9),0)*IFERROR(majoration,1) -> 0
C10: 43835 | E10: =IFERROR(OFFSET(VACATIONS!$C$4,MATCH(JAN!$D10,VACATIONS!$B$4:$B$21,0)-1,MATCH(TEXT(JAN!$C10,"jjjj"),VACATIONS!$C$2:$W$2,0)-1),"") | F10: =IFERROR(OFFSET(VACATIONS!$C$4,MATCH(JAN!$D10,VACATIONS!$B$4:$B$21,0)-1,MATCH(TEXT(JAN!$C10,"jjjj"),VACATIONS!$C$2:$W$2,0)),"") | G10: =IFERROR(OFFSET(VACATIONS!$C$4,MATCH(JAN!$D10,VACATIONS!$B$4:$B$21,0)-1,MATCH(TEXT(JAN!$C10,"jjjj"),VACATIONS!$C$2:$W$2,0)+1),"") | H10: =IFERROR(SUM(F10-E10-G10),0)*IFERROR(majoration,1) -> 0
B11: 2 | C11: 43836 | E11: =IFERROR(OFFSET(VACATIONS!$C$4,MATCH(JAN!$D11,VACATIONS!$B$4:$B$21,0)-1,MATCH(TEXT(JAN!$C11,"jjjj"),VACATIONS!$C$2:$W$2,0)-1),"") | F11: =IFERROR(OFFSET(VACATIONS!$C$4,MATCH(JAN!$D11,VACATIONS!$B$4:$B$21,0)-1,MATCH(TEXT(JAN!$C11,"jjjj"),VACATIONS!$C$2:$W$2,0)),"") | G11: =IFERROR(OFFSET(VACATIONS!$C$4,MATCH(JAN!$D11,VACATIONS!$B$4:$B$21,0)-1,MATCH(TEXT(JAN!$C11,"jjjj"),VACATIONS!$C$2:$W$2,0)+1),"") | H11: =IFERROR(SUM(F11-E11-G11),0)*IFERROR(majoration,1) -> 0
C12: 43837 | D12: Vac15 | E12: =IFERROR(OFFSET(VACATIONS!$C$4,MATCH(JAN!$D12,VACATIONS!$B$4:$B$21,0)-1,MATCH(TEXT(JAN!$C12,"jjjj"),VACATIONS!$C$2:$W$2,0)-1),"") -> * | F12: =IFERROR(OFFSET(VACATIONS!$C$4,MATCH(JAN!$D12,VACATIONS!$B$4:$B$21,0)-1,MATCH(TEXT(JAN!$C12,"jjjj"),VACATIONS!$C$2:$W$2,0)),"") -> * | G12: =IFERROR(OFFSET(VACATIONS!$C$4,MATCH(JAN!$D12,VACATIONS!$B$4:$B$21,0)-1,MATCH(TEXT(JAN!$C12,"jjjj"),VACATIONS!$C$2:$W$2,0)+1),"") -> * | H12: =IFERROR(SUM(F12-E12-G12),0)*IFERROR(majoration,1) -> 0
C13: 43838 | D13: Vac15 | E13: =IFERROR(OFFSET(VACATIONS!$C$4,MATCH(JAN!$D13,VACATIONS!$B$4:$B$21,0)-1,MATCH(TEXT(JAN!$C13,"jjjj"),VACATIONS!$C$2:$W$2,0)-1),"") -> * | F13: =IFERROR(OFFSET(VACATIONS!$C$4,MATCH(JAN!$D13,VACATIONS!$B$4:$B$21,0)-1,MATCH(TEXT(JAN!$C13,"jjjj"),VACATIONS!$C$2:$W$2,0)),"") -> * | G13: =IFERROR(OFFSET(VACATIONS!$C$4,MATCH(JAN!$D13,VACATIONS!$B$4:$B$21,0)-1,MATCH(TEXT(JAN!$C13,"jjjj"),VACATIONS!$C$2:$W$2,0)+1),"") -> * | H13: =IFERROR(SUM(F13-E13-G13),0)*IFERROR(majoration,1) -> 0
C14: 43839 | E14: =IFERROR(OFFSET(VACATIONS!$C$4,MATCH(JAN!$D14,VACATIONS!$B$4:$B$21,0)-1,MATCH(TEXT(JAN!$C14,"jjjj"),VACATIONS!$C$2:$W$2,0)-1),"") | F14: =IFERROR(OFFSET(VACATIONS!$C$4,MATCH(JAN!$D14,VACATIONS!$B$4:$B$21,0)-1,MATCH(TEXT(JAN!$C14,"jjjj"),VACATIONS!$C$2:$W$2,0)),"") | G14: =IFERROR(OFFSET(VACATIONS!$C$4,MATCH(JAN!$D14,VACATIONS!$B$4:$B$21,0)-1,MATCH(TEXT(JAN!$C14,"jjjj"),VACATIONS!$C$2:$W$2,0)+1),"") | H14: =IFERROR(SUM(F14-E14-G14),0)*IFERROR(majoration,1) -> 0
C15: 43840 | E15: =IFERROR(OFFSET(VACATIONS!$C$4,MATCH(JAN!$D15,VACATIONS!$B$4:$B$21,0)-1,MATCH(TEXT(JAN!$C15,"jjjj"),VACATIONS!$C$2:$W$2,0)-1),"") | F15: =IFERROR(OFFSET(VACATIONS!$C$4,MATCH(JAN!$D15,VACATIONS!$B$4:$B$21,0)-1,MATCH(TEXT(JAN!$C15,"jjjj"),VACATIONS!$C$2:$W$2,0)),"") | G15: =IFERROR(OFFSET(VACATIONS!$C$4,MATCH(JAN!$D15,VACATIONS!$B$4:$B$21,0)-1,MATCH(TEXT(JAN!$C15,"jjjj"),VACATIONS!$C$2:$W$2,0)+1),"") | H15: =IFERROR(SUM(F15-E15-G15),0)*IFERROR(majoration,1) -> 0
C16: 43841 | D16: Vac11 | E16: =IFERROR(OFFSET(VACATIONS!$C$4,MATCH(JAN!$D16,VACATIONS!$B$4:$B$21,0)-1,MATCH(TEXT(JAN!$C16,"jjjj"),VACATIONS!$C$2:$W$2,0)-1),"") -> * | F16: =IFERROR(OFFSET(VACATIONS!$C$4,MATCH(JAN!$D16,VACATIONS!$B$4:$B$21,0)-1,MATCH(TEXT(JAN!$C16,"jjjj"),VACATIONS!$C$2:$W$2,0)),"") -> * | G16: =IFERROR(OFFSET(VACATIONS!$C$4,MATCH(JAN!$D16,VACATIONS!$B$4:$B$21,0)-1,MATCH(TEXT(JAN!$C16,"jjjj"),VACATIONS!$C$2:$W$2,0)+1),"") -> * | H16: =IFERROR(SUM(F16-E16-G16),0)*IFERROR(majoration,1) -> 0 | I16: SAM JT
C17: 43842 | D17: Vac8 | E17: =IFERROR(OFFSET(VACATIONS!$C$4,MATCH(JAN!$D17,VACATIONS!$B$4:$B$21,0)-1,MATCH(TEXT(JAN!$C17,"jjjj"),VACATIONS!$C$2:$W$2,0)-1),"") -> * | F17: =IFERROR(OFFSET(VACATIONS!$C$4,MATCH(JAN!$D17,VACATIONS!$B$4:$B$21,0)-1,MATCH(TEXT(JAN!$C17,"jjjj"),VACATIONS!$C$2:$W$2,0)),"") -> * | G17: =IFERROR(OFFSET(VACATIONS!$C$4,MATCH(JAN!$D17,VACATIONS!$B$4:$B$21,0)-1,MATCH(TEXT(JAN!$C17,"jjjj"),VACATIONS!$C$2:$W$2,0)+1),"") -> * | H17: =IFERROR(SUM(F17-E17-G17),0)*IFERROR(majoration,1) -> 0 | I17: DIM JT
B18: 3 | C18: 43843 | D18: Vac5 | E18: =IFERROR(OFFSET(VACATIONS!$C$4,MATCH(JAN!$D18,VACATIONS!$B$4:$B$21,0)-1,MATCH(TEXT(JAN!$C18,"jjjj"),VACATIONS!$C$2:$W$2,0)-1),"") -> 0.52083333 | F18: =IFERROR(OFFSET(VACATIONS!$C$4,MATCH(JAN!$D18,VACATIONS!$B$4:$B$21,0)-1,MATCH(TEXT(JAN!$C18,"jjjj"),VACATIONS!$C$2:$W$2,0)),"") -> 0.875 | G18: =IFERROR(OFFSET(VACATIONS!$C$4,MATCH(JAN!$D18,VACATIONS!$B$4:$B$21,0)-1,MATCH(TEXT(JAN!$C18,"jjjj"),VACATIONS!$C$2:$W$2,0)+1),"") -> 0 | H18: =IFERROR(SUM(F18-E18-G18),0)*IFERROR(majoration,1) -> 0.35416667
C19: 43844 | D19: Vac5 | E19: =IFERROR(OFFSET(VACATIONS!$C$4,MATCH(JAN!$D19,VACATIONS!$B$4:$B$21,0)-1,MATCH(TEXT(JAN!$C19,"jjjj"),VACATIONS!$C$2:$W$2,0)-1),"") -> 0.52083333 | F19: =IFERROR(OFFSET(VACATIONS!$C$4,MATCH(JAN!$D19,VACATIONS!$B$4:$B$21,0)-1,MATCH(TEXT(JAN!$C19,"jjjj"),VACATIONS!$C$2:$W$2,0)),"") -> 0.875 | G19: =IFERROR(OFFSET(VACATIONS!$C$4,MATCH(JAN!$D19,VACATIONS!$B$4:$B$21,0)-1,MATCH(TEXT(JAN!$C19,"jjjj"),VACATIONS!$C$2:$W$2,0)+1),"") -> 0 | H19: =IFERROR(SUM(F19-E19-G19),0)*IFERROR(majoration,1) -> 0.35416667
C20: 43845 | E20: =IFERROR(OFFSET(VACATIONS!$C$4,MATCH(JAN!$D20,VACATIONS!$B$4:$B$21,0)-1,MATCH(TEXT(JAN!$C20,"jjjj"),VACATIONS!$C$2:$W$2,0)-1),"") | F20: =IFERROR(OFFSET(VACATIONS!$C$4,MATCH(JAN!$D20,VACATIONS!$B$4:$B$21,0)-1,MATCH(TEXT(JAN!$C20,"jjjj"),VACATIONS!$C$2:$W$2,0)),"") | G20: =IFERROR(OFFSET(VACATIONS!$C$4,MATCH(JAN!$D20,VACATIONS!$B$4:$B$21,0)-1,MATCH(TEXT(JAN!$C20,"jjjj"),VACATIONS!$C$2:$W$2,0)+1),"") | H20: =IFERROR(SUM(F20-E20-G20),0)*IFERROR(majoration,1) -> 0
C21: 43846 | D21: Vac4 | E21: =IFERROR(OFFSET(VACATIONS!$C$4,MATCH(JAN!$D21,VACATIONS!$B$4:$B$21,0)-1,MATCH(TEXT(JAN!$C21,"jjjj"),VACATIONS!$C$2:$W$2,0)-1),"") -> 0.22916667 | F21: =IFERROR(OFFSET(VACATIONS!$C$4,MATCH(JAN!$D21,VACATIONS!$B$4:$B$21,0)-1,MATCH(TEXT(JAN!$C21,"jjjj"),VACATIONS!$C$2:$W$2,0)),"") -> 0.54166667 | G21: =IFERROR(OFFSET(VACATIONS!$C$4,MATCH(JAN!$D21,VACATIONS!$B$4:$B$21,0)-1,MATCH(TEXT(JAN!$C21,"jjjj"),VACATIONS!$C$2:$W$2,0)+1),"") -> 0 | H21: =IFERROR(SUM(F21-E21-G21),0)*IFERROR(majoration,1) -> 0.3125
C22: 43847 | D22: Vac5 | E22: =IFERROR(OFFSET(VACATIONS!$C$4,MATCH(JAN!$D22,VACATIONS!$B$4:$B$21,0)-1,MATCH(TEXT(JAN!$C22,"jjjj"),VACATIONS!$C$2:$W$2,0)-1),"") -> 0.52083333 | F22: =IFERROR(OFFSET(VACATIONS!$C$4,MATCH(JAN!$D22,VACATIONS!$B$4:$B$21,0)-1,MATCH(TEXT(JAN!$C22,"jjjj"),VACATIONS!$C$2:$W$2,0)),"") -> 0.875 | G22: =IFERROR(OFFSET(VACATIONS!$C$4,MATCH(JAN!$D22,VACATIONS!$B$4:$B$21,0)-1,MATCH(TEXT(JAN!$C22,"jjjj"),VACATIONS!$C$2:$W$2,0)+1),"") -> 0 | H22: =IFERROR(SUM(F22-E22-G22),0)*IFERROR(majoration,1) -> 0.35416667
C23: 43848 | E23: =IFERROR(OFFSET(VACATIONS!$C$4,MATCH(JAN!$D23,VACATIONS!$B$4:$B$21,0)-1,MATCH(TEXT(JAN!$C23,"jjjj"),VACATIONS!$C$2:$W$2,0)-1),"") | F23: =IFERROR(OFFSET(VACATIONS!$C$4,MATCH(JAN!$D23,VACATIONS!$B$4:$B$21,0)-1,MATCH(TEXT(JAN!$C23,"jjjj"),VACATIONS!$C$2:$W$2,0)),"") | G23: =IFERROR(OFFSET(VACATIONS!$C$4,MATCH(JAN!$D23,VACATIONS!$B$4:$B$21,0)-1,MATCH(TEXT(JAN!$C23,"jjjj"),VACATIONS!$C$2:$W$2,0)+1),"") | H23: =IFERROR(SUM(F23-E23-G23),0)*IFERROR(majoration,1) -> 0
C24: 43849 | E24: =IFERROR(OFFSET(VACATIONS!$C$4,MATCH(JAN!$D24,VACATIONS!$B$4:$B$21,0)-1,MATCH(TEXT(JAN!$C24,"jjjj"),VACATIONS!$C$2:$W$2,0)-1),"") | F24: =IFERROR(OFFSET(VACATIONS!$C$4,MATCH(JAN!$D24,VACATIONS!$B$4:$B$21,0)-1,MATCH(TEXT(JAN!$C24,"jjjj"),VACATIONS!$C$2:$W$2,0)),"") | G24: =IFERROR(OFFSET(VACATIONS!$C$4,MATCH(JAN!$D24,VACATIONS!$B$4:$B$21,0)-1,MATCH(TEXT(JAN!$C24,"jjjj"),VACATIONS!$C$2:$W$2,0)+1),"") | H24: =IFERROR(SUM(F24-E24-G24),0)*IFERROR(majoration,1) -> 0
B25: 4 | C25: 43850 | D25: Vac4 | E25: =IFERROR(OFFSET(VACATIONS!$C$4,MATCH(JAN!$D25,VACATIONS!$B$4:$B$21,0)-1,MATCH(TEXT(JAN!$C25,"jjjj"),VACATIONS!$C$2:$W$2,0)-1),"") -> 0.22916667 | F25: =IFERROR(OFFSET(VACATIONS!$C$4,MATCH(JAN!$D25,VACATIONS!$B$4:$B$21,0)-1,MATCH(TEXT(JAN!$C25,"jjjj"),VACATIONS!$C$2:$W$2,0)),"") -> 0.54166667 | G25: =IFERROR(OFFSET(VACATIONS!$C$4,MATCH(JAN!$D25,VACATIONS!$B$4:$B$21,0)-1,MATCH(TEXT(JAN!$C25,"jjjj"),VACATIONS!$C$2:$W$2,0)+1),"") -> 0 | H25: =IFERROR(SUM(F25-E25-G25),0)*IFERROR(majoration,1) -> 0.59375 | I25: NUIT
C26: 43851 | D26: Vac4 | E26: =IFERROR(OFFSET(VACATIONS!$C$4,MATCH(JAN!$D26,VACATIONS!$B$4:$B$21,0)-1,MATCH(TEXT(JAN!$C26,"jjjj"),VACATIONS!$C$2:$W$2,0)-1),"") -> 0.22916667 | F26: =IFERROR(OFFSET(VACATIONS!$C$4,MATCH(JAN!$D26,VACATIONS!$B$4:$B$21,0)-1,MATCH(TEXT(JAN!$C26,"jjjj"),VACATIONS!$C$2:$W$2,0)),"") -> 0.54166667 | G26: =IFERROR(OFFSET(VACATIONS!$C$4,MATCH(JAN!$D26,VACATIONS!$B$4:$B$21,0)-1,MATCH(TEXT(JAN!$C26,"jjjj"),VACATIONS!$C$2:$W$2,0)+1),"") -> 0 | H26: =IFERROR(SUM(F26-E26-G26),0)*IFERROR(majoration,1) -> 0.59375 | I26: NUIT
C27: 43852 | D27: Vac3 | E27: =IFERROR(OFFSET(VACATIONS!$C$4,MATCH(JAN!$D27,VACATIONS!$B$4:$B$21,0)-1,MATCH(TEXT(JAN!$C27,"jjjj"),VACATIONS!$C$2:$W$2,0)-1),"") -> 0.60416667 | F27: =IFERROR(OFFSET(VACATIONS!$C$4,MATCH(JAN!$D27,VACATIONS!$B$4:$B$21,0)-1,MATCH(TEXT(JAN!$C27,"jjjj"),VACATIONS!$C$2:$W$2,0)),"") -> 0.88541667 | G27: =IFERROR(OFFSET(VACATIONS!$C$4,MATCH(JAN!$D27,VACATIONS!$B$4:$B$21,0)-1,MATCH(TEXT(JAN!$C27,"jjjj"),VACATIONS!$C$2:$W$2,0)+1),"") -> 0 | H27: =IFERROR(SUM(F27-E27-G27),0)*IFERROR(majoration,1) -> 0.534375 | I27: NUIT
C28: 43853 | D28: Vac5 | E28: =IFERROR(OFFSET(VACATIONS!$C$4,MATCH(JAN!$D28,VACATIONS!$B$4:$B$21,0)-1,MATCH(TEXT(JAN!$C28,"jjjj"),VACATIONS!$C$2:$W$2,0)-1),"") -> 0.52083333 | F28: =IFERROR(OFFSET(VACATIONS!$C$4,MATCH(JAN!$D28,VACATIONS!$B$4:$B$21,0)-1,MATCH(TEXT(JAN!$C28,"jjjj"),VACATIONS!$C$2:$W$2,0)),"") -> 0.875 | G28: =IFERROR(OFFSET(VACATIONS!$C$4,MATCH(JAN!$D28,VACATIONS!$B$4:$B$21,0)-1,MATCH(TEXT(JAN!$C28,"jjjj"),VACATIONS!$C$2:$W$2,0)+1),"") -> 0 | H28: =IFERROR(SUM(F28-E28-G28),0)*IFERROR(majoration,1) -> 0.67291667 | I28: NUIT
C29: 43854 | D29: Vac3 | E29: =IFERROR(OFFSET(VACATIONS!$C$4,MATCH(JAN!$D29,VACATIONS!$B$4:$B$21,0)-1,MATCH(TEXT(JAN!$C29,"jjjj"),VACATIONS!$C$2:$W$2,0)-1),"") -> 0.60416667 | F29: =IFERROR(OFFSET(VACATIONS!$C$4,MATCH(JAN!$D29,VACATIONS!$B$4:$B$21,0)-1,MATCH(TEXT(JAN!$C29,"jjjj"),VACATIONS!$C$2:$W$2,0)),"") -> 0.88541667 | G29: =IFERROR(OFFSET(VACATIONS!$C$4,MATCH(JAN!$D29,VACATIONS!$B$4:$B$21,0)-1,MATCH(TEXT(JAN!$C29,"jjjj"),VACATIONS!$C$2:$W$2,0)+1),"") -> 0 | H29: =IFERROR(SUM(F29-E29-G29),0)*IFERROR(majoration,1) -> 0.534375 | I29: NUIT
C30: 43855 | E30: =IFERROR(OFFSET(VACATIONS!$C$4,MATCH(JAN!$D30,VACATIONS!$B$4:$B$21,0)-1,MATCH(TEXT(JAN!$C30,"jjjj"),VACATIONS!$C$2:$W$2,0)-1),"") | F30: =IFERROR(OFFSET(VACATIONS!$C$4,MATCH(JAN!$D30,VACATIONS!$B$4:$B$21,0)-1,MATCH(TEXT(JAN!$C30,"jjjj"),VACATIONS!$C$2:$W$2,0)),"") | G30: =IFERROR(OFFSET(VACATIONS!$C$4,MATCH(JAN!$D30,VACATIONS!$B$4:$B$21,0)-1,MATCH(TEXT(JAN!$C30,"jjjj"),VACATIONS!$C$2:$W$2,0)+1),"") | H30: =IFERROR(SUM(F30-E30-G30),0)*IFERROR(majoration,1) -> 0
C31: 43856 | E31: =IFERROR(OFFSET(VACATIONS!$C$4,MATCH(JAN!$D31,VACATIONS!$B$4:$B$21,0)-1,MATCH(TEXT(JAN!$C31,"jjjj"),VACATIONS!$C$2:$W$2,0)-1),"") | F31: =IFERROR(OFFSET(VACATIONS!$C$4,MATCH(JAN!$D31,VACATIONS!$B$4:$B$21,0)-1,MATCH(TEXT(JAN!$C31,"jjjj"),VACATIONS!$C$2:$W$2,0)),"") | G31: =IFERROR(OFFSET(VACATIONS!$C$4,MATCH(JAN!$D31,VACATIONS!$B$4:$B$21,0)-1,MATCH(TEXT(JAN!$C31,"jjjj"),VACATIONS!$C$2:$W$2,0)+1),"") | H31: =IFERROR(SUM(F31-E31-G31),0)*IFERROR(majoration,1) -> 0
B32: 5 | C32: 43857 | D32: Vac6 | E32: =IFERROR(OFFSET(VACATIONS!$C$4,MATCH(JAN!$D32,VACATIONS!$B$4:$B$21,0)-1,MATCH(TEXT(JAN!$C32,"jjjj"),VACATIONS!$C$2:$W$2,0)-1),"") -> * | F32: =IFERROR(OFFSET(VACATIONS!$C$4,MATCH(JAN!$D32,VACATIONS!$B$4:$B$21,0)-1,MATCH(TEXT(JAN!$C32,"jjjj"),VACATIONS!$C$2:$W$2,0)),"") -> * | G32: =IFERROR(OFFSET(VACATIONS!$C$4,MATCH(JAN!$D32,VACATIONS!$B$4:$B$21,0)-1,MATCH(TEXT(JAN!$C32,"jjjj"),VACATIONS!$C$2:$W$2,0)+1),"") -> * | H32: =IFERROR(SUM(F32-E32-G32),0)*IFERROR(majoration,1) -> 0
C33: 43858 | E33: =IFERROR(OFFSET(VACATIONS!$C$4,MATCH(JAN!$D33,VACATIONS!$B$4:$B$21,0)-1,MATCH(TEXT(JAN!$C33,"jjjj"),VACATIONS!$C$2:$W$2,0)-1),"") | F33: =IFERROR(OFFSET(VACATIONS!$C$4,MATCH(JAN!$D33,VACATIONS!$B$4:$B$21,0)-1,MATCH(TEXT(JAN!$C33,"jjjj"),VACATIONS!$C$2:$W$2,0)),"") | G33: =IFERROR(OFFSET(VACATIONS!$C$4,MATCH(JAN!$D33,VACATIONS!$B$4:$B$21,0)-1,MATCH(TEXT(JAN!$C33,"jjjj"),VACATIONS!$C$2:$W$2,0)+1),"") | H33: =IFERROR(SUM(F33-E33-G33),0)*IFERROR(majoration,1) -> 0
C34: 43859 | D34: Vac2 | E34: =IFERROR(OFFSET(VACATIONS!$C$4,MATCH(JAN!$D34,VACATIONS!$B$4:$B$21,0)-1,MATCH(TEXT(JAN!$C34,"jjjj"),VACATIONS!$C$2:$W$2,0)-1),"") -> 0.60416667 | F34: =IFERROR(OFFSET(VACATIONS!$C$4,MATCH(JAN!$D34,VACATIONS!$B$4:$B$21,0)-1,MATCH(TEXT(JAN!$C34,"jjjj"),VACATIONS!$C$2:$W$2,0)),"") -> 0.8125 | G34: =IFERROR(OFFSET(VACATIONS!$C$4,MATCH(JAN!$D34,VACATIONS!$B$4:$B$21,0)-1,MATCH(TEXT(JAN!$C34,"jjjj"),VACATIONS!$C$2:$W$2,0)+1),"") -> 0 | H34: =IFERROR(SUM(F34-E34-G34),0)*IFERROR(majoration,1) -> 0.20833333
C35: 43860 | D35: Vac5 | E35: =IFERROR(OFFSET(VACATIONS!$C$4,MATCH(JAN!$D35,VACATIONS!$B$4:$B$21,0)-1,MATCH(TEXT(JAN!$C35,"jjjj"),VACATIONS!$C$2:$W$2,0)-1),"") -> 0.52083333 | F35: =IFERROR(OFFSET(VACATIONS!$C$4,MATCH(JAN!$D35,VACATIONS!$B$4:$B$21,0)-1,MATCH(TEXT(JAN!$C35,"jjjj"),VACATIONS!$C$2:$W$2,0)),"") -> 0.875 | G35: =IFERROR(OFFSET(VACATIONS!$C$4,MATCH(JAN!$D35,VACATIONS!$B$4:$B$21,0)-1,MATCH(TEXT(JAN!$C35,"jjjj"),VACATIONS!$C$2:$W$2,0)+1),"") -> 0 | H35: =IFERROR(SUM(F35-E35-G35),0)*IFERROR(majoration,1) -> 0.35416667
C36: 43861 | E36: =IFERROR(OFFSET(VACATIONS!$C$4,MATCH(JAN!$D36,VACATIONS!$B$4:$B$21,0)-1,MATCH(TEXT(JAN!$C36,"jjjj"),VACATIONS!$C$2:$W$2,0)-1),"") | F36: =IFERROR(OFFSET(VACATIONS!$C$4,MATCH(JAN!$D36,VACATIONS!$B$4:$B$21,0)-1,MATCH(TEXT(JAN!$C36,"jjjj"),VACATIONS!$C$2:$W$2,0)),"") | G36: =IFERROR(OFFSET(VACATIONS!$C$4,MATCH(JAN!$D36,VACATIONS!$B$4:$B$21,0)-1,MATCH(TEXT(JAN!$C36,"jjjj"),VACATIONS!$C$2:$W$2,0)+1),"") | H36: =IFERROR(SUM(F36-E36-G36),0)*IFERROR(majoration,1) -> 0
H37: =SUM(H6:H36) -> 5.8875

Sheet FEV

Sheet MAR

Sheet AVR

Sheet MAI

Sheet JUN

Sheet JUI

Sheet AOU

Sheet SEP

Sheet NOV

Sheet OCT

Sheet DEC

Sheet CALENDRIER
C1: JANVIER | E1: FEVRIER | G1: MARS | I1: AVRIL | K1: MAI | M1: JUIN | O1: JUILLET | Q1: AOÛT | S1: SEPTEMBRE | U1: OCTOBRE | W1: NOVEMBRE | Y1: DÉCEMBRE
B3: 1 | C3: 43829 | L3: 23 | M3: 43983
C4: 43830 | M4: 43984 | R4: 36 | S4: 44075 | X4: 49 | Y4: 44166
C5: 43831 | H5: 14 | I5: 43922 | M5: 43985 | N5: 27 | O5: 44013 | S5: 44076 | Y5: 44167
C6: 43832 | I6: 43923 | M6: 43986 | O6: 44014 | S6: 44077 | T6: 40 | U6: 44105 | Y6: 44168
C7: 43833 | I7: 43924 | J7: 18 | K7: 43952 | M7: 43987 | O7: 44015 | S7: 44078 | U7: 44106 | Y7: 44169
C8: 43834 | D8: 5 | E8: 43862 | I8: 43925 | K8: 43953 | M8: 43988 | O8: 44016 | P8: 31 | Q8: 44044 | S8: 44079 | U8: 44107 | Y8: 44170
C9: 43835 | E9: 43863 | F9: 9 | G9: 43891 | I9: 43926 | K9: 43954 | M9: 43989 | O9: 44017 | Q9: 44045 | S9: 44080 | U9: 44108 | V9: 44 | W9: 44136 | Y9: 44171
B10: 2 | C10: 43836 | D10: 6 | E10: 43864 | F10: 10 | G10: 43892 | H10: 15 | I10: 43927 | J10: 19 | K10: 43955 | L10: 24 | M10: 43990 | N10: 28 | O10: 44018 | P10: 32 | Q10: 44046 | R10: 37 | S10: 44081 | T10: 41 | U10: 44109 | V10: 45 | W10: 44137 | X10: 50 | Y10: 44172
C11: 43837 | E11: 43865 | G11: 43893 | I11: 43928 | K11: 43956 | M11: 43991 | O11: 44019 | Q11: 44047 | S11: 44082 | U11: 44110 | W11: 44138 | Y11: 44173
C12: 43838 | E12: 43866 | G12: 43894 | I12: 43929 | K12: 43957 | M12: 43992 | O12: 44020 | Q12: 44048 | S12: 44083 | U12: 44111 | W12: 44139 | Y12: 44174
C13: 43839 | E13: 43867 | G13: 43895 | I13: 43930 | K13: 43958 | M13: 43993 | O13: 44021 | Q13: 44049 | S13: 44084 | U13: 44112 | W13: 44140 | Y13: 44175
C14: 43840 | E14: 43868 | G14: 43896 | I14: 43931 | K14: 43959 | M14: 43994 | O14: 44022 | Q14: 44050 | S14: 44085 | U14: 44113 | W14: 44141 | Y14: 44176
C15: 43841 | E15: 43869 | G15: 43897 | I15: 43932 | K15: 43960 | M15: 43995 | O15: 44023 | Q15: 44051 | S15: 44086 | U15: 44114 | W15: 44142 | Y15: 44177
C16: 43842 | E16: 43870 | G16: 43898 | I16: 43933 | K16: 43961 | M16: 43996 | O16: 44024 | Q16: 44052 | S16: 44087 | U16: 44115 | W16: 44143 | Y16: 44178
B17: 3 | C17: 43843 | D17: 7 | E17: 43871 | F17: 11 | G17: 43899 | H17: 16 | I17: 43934 | J17: 20 | K17: 43962 | L17: 25 | M17: 43997 | N17: 29 | O17: 44025 | P17: 33 | Q17: 44053 | R17: 38 | S17: 44088 | T17: 42 | U17: 44116 | V17: 46 | W17: 44144 | X17: 51 | Y17: 44179
C18: 43844 | E18: 43872 | G18: 43900 | I18: 43935 | K18: 43963 | M18: 43998 | O18: 44026 | Q18: 44054 | S18: 44089 | U18: 44117 | W18: 44145 | Y18: 44180
C19: 43845 | E19: 43873 | G19: 43901 | I19: 43936 | K19: 43964 | M19: 43999 | O19: 44027 | Q19: 44055 | S19: 44090 | U19: 44118 | W19: 44146 | Y19: 44181
C20: 43846 | E20: 43874 | G20: 43902 | I20: 43937 | K20: 43965 | M20: 44000 | O20: 44028 | Q20: 44056 | S20: 44091 | U20: 44119 | W20: 44147 | Y20: 44182
C21: 43847 | E21: 43875 | G21: 43903 | I21: 43938 | K21: 43966 | M21: 44001 | O21: 44029 | Q21: 44057 | S21: 44092 | U21: 44120 | W21: 44148 | Y21: 44183
C22: 43848 | E22: 43876 | G22: 43904 | I22: 43939 | K22: 43967 | M22: 44002 | O22: 44030 | Q22: 44058 | S22: 44093 | U22: 44121 | W22: 44149 | Y22: 44184
C23: 43849 | E23: 43877 | G23: 43905 | I23: 43940 | K23: 43968 | M23: 44003 | O23: 44031 | Q23: 44059 | S23: 44094 | U23: 44122 | W23: 44150 | Y23: 44185
B24: 4 | C24: 43850 | D24: 8 | E24: 43878 | F24: 12 | G24: 43906 | H24: 17 | I24: 43941 | J24: 21 | K24: 43969 | L24: 26 | M24: 44004 | N24: 30 | O24: 44032 | P24: 34 | Q24: 44060 | R24: 39 | S24: 44095 | T24: 43 | U24: 44123 | V24: 47 | W24: 44151 | X24: 52 | Y24: 44186
C25: 43851 | E25: 43879 | G25: 43907 | I25: 43942 | K25: 43970 | M25: 44005 | O25: 44033 | Q25: 44061 | S25: 44096 | U25: 44124 | W25: 44152 | Y25: 44187
C26: 43852 | E26: 43880 | G26: 43908 | I26: 43943 | K26: 43971 | M26: 44006 | O26: 44034 | Q26: 44062 | S26: 44097 | U26: 44125 | W26: 44153 | Y26: 44188
C27: 43853 | E27: 43881 | G27: 43909 | I27: 43944 | K27: 43972 | M27: 44007 | O27: 44035 | Q27: 44063 | S27: 44098 | U27: 44126 | W27: 44154 | Y27: 44189
C28: 43854 | E28: 43882 | G28: 43910 | I28: 43945 | K28: 43973 | M28: 44008 | O28: 44036 | Q28: 44064 | S28: 44099 | U28: 44127 | W28: 44155 | Y28: 44190
C29: 43855 | E29: 43883 | G29: 43911 | I29: 43946 | K29: 43974 | M29: 44009 | O29: 44037 | Q29: 44065 | S29: 44100 | U29: 44128 | W29: 44156 | Y29: 44191
C30: 43856 | E30: 43884 | G30: 43912 | I30: 43947 | K30: 43975 | M30: 44010 | O30: 44038 | Q30: 44066 | S30: 44101 | U30: 44129 | W30: 44157 | Y30: 44192
B31: 5 | C31: 43857 | D31: 9 | E31: 43885 | F31: 13 | G31: 43913 | H31: 18 | I31: 43948 | J31: 22 | K31: 43976 | L31: 27 | M31: 44011 | N31: 31 | O31: 44039 | P31: 35 | Q31: 44067 | R31: 40 | S31: 44102 | T31: 44 | U31: 44130 | V31: 48 | W31: 44158 | X31: 53 | Y31: 44193
C32: 43858 | E32: 43886 | G32: 43914 | I32: 43949 | K32: 43977 | M32: 44012 | O32: 44040 | Q32: 44068 | S32: 44103 | U32: 44131 | W32: 44159 | Y32: 44194
C33: 43859 | E33: 43887 | G33: 43915 | I33: 43950 | K33: 43978 | O33: 44041 | Q33: 44069 | S33: 44104 | U33: 44132 | W33: 44160 | Y33: 44195
C34: 43860 | E34: 43888 | G34: 43916 | I34: 43951 | K34: 43979 | O34: 44042 | Q34: 44070 | U34: 44133 | W34: 44161 | Y34: 44196
C35: 43861 | E35: 43889 | G35: 43917 | K35: 43980 | O35: 44043 | Q35: 44071 | U35: 44134 | W35: 44162
E36: 43890 | G36: 43918 | K36: 43981 | Q36: 44072 | U36: 44135 | W36: 44163
G37: 43919 | K37: 43982 | Q37: 44073 | W37: 44164
F38: 14 | G38: 43920 | P38: 36 | Q38: 44074 | V38: 49 | W38: 44165
G39: 43921

Sheet _56F9DC9755BA473782653E2940F9
A1: Q-LQrrWvlk6vNOpOXfSXnriLS3sv2JBKm7RN6hRSvfBUQjRFNVRTNExWRlozRUo0TE5BVjBQUzVWUS4u
A2: Form1
A3: {8ae34dce-8212-4bf3-8117-52b4943d0fae}
