Workbook

Sheet S152017
A1: temps | B1: température ambiante | C1: humidité intérieure | D1: température extérieure | E1: humidité extérieure | F1: vent m | G1: rafales | H1: Point de rosée | I1: refroidissement éolien | J1: direction du vent | K1: pression absolue | L1: pression relative | M1: intensité de précipitation | N1: pluies journalières | O1: pluies semaine | P1: pluies mensuelles | Q1: pluies année | R1: solaire | S1: indice de chaleur | T1: UVI | U1: =SUBTOTAL(3,D:D)-1 -> 3877
A2: 42837.6 | B2: 21 | C2: 42 | D2: 16 | E2: 46 | F2: 11.5 | G2: 15.8 | H2: 4.4 | I2: 16 | J2: 191 | K2: 985.6 | L2: 1012.4 | M2: 0 | N2: 0 | O2: 0 | P2: 0 | Q2: 0 | R2: 618.66 | S2: -- | T2: 6 | U2: 1
A3: 42837.602 | B3: 21 | C3: 42 | D3: 16.1 | E3: 46 | F3: 10.8 | G3: 15.8 | H3: 4.5 | I3: 16.1 | J3: 182 | K3: 985.4 | L3: 1018.6 | M3: 0 | N3: 0 | O3: 0 | P3: 0 | Q3: 0 | R3: 619.51 | S3: -- | T3: 5 | U3: 2
A4: 42837.606 | B4: 20.9 | C4: 42 | D4: 16.5 | E4: 46 | F4: 17.3 | G4: 24.1 | H4: 4.9 | I4: 16.5 | J4: 134 | K4: 985.2 | L4: 1018.4 | M4: 0 | N4: 0 | O4: 0 | P4: 0 | Q4: 0 | R4: 605.43 | S4: -- | T4: 5 | U4: 3
A5: 42837.608 | B5: 20.9 | C5: 42 | D5: 16.5 | E5: 45 | F5: 10.8 | G5: 15.8 | H5: 4.5 | I5: 16.5 | J5: 193 | K5: 985.4 | L5: 1018.6 | M5: 0 | N5: 0 | O5: 0 | P5: 0 | Q5: 0 | R5: 590.84 | S5: -- | T5: 5 | U5: 4
A6: 42837.61 | B6: 20.9 | C6: 42 | D6: 16.5 | E6: 45 | F6: 13 | G6: 15.8 | H6: 4.5 | I6: 16.5 | J6: 240 | K6: 985.1 | L6: 1018.3 | M6: 0 | N6: 0 | O6: 0 | P6: 0 | Q6: 0 | R6: 624.25 | S6: -- | T6: 6 | U6: 5
A7: 42837.613 | B7: 21 | C7: 44 | D7: 16.5 | E7: 46 | F7: 6.5 | G7: 7.9 | H7: 4.9 | I7: 16.5 | J7: 288 | K7: 985.2 | L7: 1018.4 | M7: 0 | N7: 0 | O7: 0 | P7: 0 | Q7: 0 | R7: 634 | S7: -- | T7: 6 | U7: 6
A8: 42837.616 | B8: 20.7 | C8: 42 | D8: 15.8 | E8: 47 | F8: 14 | G8: 19.8 | H8: 4.5 | I8: 15.8 | J8: 195 | K8: 986.3 | L8: 1013.1 | M8: 0 | N8: 0 | O8: 0 | P8: 0 | Q8: 0 | R8: 553.78 | S8: -- | T8: 6 | U8: 7
A9: 42837.617 | B9: 21 | C9: 42 | D9: 16.5 | E9: 46 | F9: 2.9 | G9: 4 | H9: 4.9 | I9: 16.5 | J9: 226 | K9: 984.7 | L9: 1017.9 | M9: 0 | N9: 0 | O9: 0 | P9: 0 | Q9: 0 | R9: 640.03 | S9: -- | T9: 5 | U9: 8
A10: 42837.619 | B10: 20.9 | C10: 42 | D10: 16.6 | E10: 46 | F10: 6.8 | G10: 7.9 | H10: 5 | I10: 16.6 | J10: 276 | K10: 984.7 | L10: 1017.9 | M10: 0 | N10: 0 | O10: 0 | P10: 0 | Q10: 0 | R10: 612.44 | S10: -- | T10: 5 | U10: 9
A11: 42837.619 | B11: 20.8 | C11: 42 | D11: 15.8 | E11: 47 | F11: 7.9 | G11: 15.8 | H11: 4.5 | I11: 15.8 | J11: 284 | K11: 986.3 | L11: 1013.1 | M11: 0 | N11: 0 | O11: 0 | P11: 0 | Q11: 0 | R11: 580.43 | S11: -- | T11: 6 | U11: 10
A12: 42837.621 | B12: 20.7 | C12: 41 | D12: 16.6 | E12: 46 | F12: 11.9 | G12: 15.8 | H12: 5 | I12: 16.6 | J12: 209 | K12: 984.6 | L12: 1017.8 | M12: 0 | N12: 0 | O12: 0 | P12: 0 | Q12: 0 | R12: 622.51 | S12: -- | T12: 5 | U12: 11
A13: 42837.623 | B13: 20.5 | C13: 41 | D13: 16.7 | E13: 45 | F13: 12.2 | G13: 15.8 | H13: 4.7 | I13: 16.7 | J13: 230 | K13: 984.6 | L13: 1017.8 | M13: 0 | N13: 0 | O13: 0 | P13: 0 | Q13: 0 | R13: 638.86 | S13: -- | T13: 5 | U13: 12
... A257: 42837.967 | B257: 18.7 | C257: 45 | D257: 11.8 | E257: 63 | F257: 1.8 | G257: 4 | H257: 5 | I257: 11.8 | J257: 346 | K257: 982 | L257: 1015.2 | M257: 0 | N257: 0 | O257: 0 | P257: 0 | Q257: 0 | R257: 0 | S257: -- | T257: 0 | U257: 256
U258: 257
A259: 42837.969 | B259: 18.6 | C259: 45 | D259: 11.8 | E259: 63 | F259: 1.4 | G259: 4 | H259: 5 | I259: 11.8 | J259: 337 | K259: 981.6 | L259: 1014.8 | M259: 0 | N259: 0 | O259: 0 | P259: 0 | Q259: 0 | R259: 0 | S259: -- | T259: 0 | U259: 258
A260: 42837.97 | B260: 18.6 | C260: 45 | D260: 11.7 | E260: 64 | F260: 0.4 | G260: 4 | H260: 5.1 | I260: 11.7 | J260: 347 | K260: 981.8 | L260: 1015 | M260: 0 | N260: 0 | O260: 0 | P260: 0 | Q260: 0 | R260: 0 | S260: -- | T260: 0 | U260: 259
A261: 42837.972 | B261: 18.6 | C261: 45 | D261: 11.7 | E261: 64 | F261: 0 | G261: 0 | H261: 5.1 | I261: 11.7 | J261: 3 | K261: 981.9 | L261: 1015.1 | M261: 0 | N261: 0 | O261: 0 | P261: 0 | Q261: 0 | R261: 0 | S261: -- | T261: 0 | U261: 260
A262: 42837.973 | B262: 18.6 | C262: 45 | D262: 11.6 | E262: 64 | F262: 0.4 | G262: 4 | H262: 5 | I262: 11.6 | J262: 351 | K262: 981.8 | L262: 1015 | M262: 0 | N262: 0 | O262: 0 | P262: 0 | Q262: 0 | R262: 0 | S262: -- | T262: 0 | U262: 261
A263: 42837.974 | B263: 18.6 | C263: 45 | D263: 11.6 | E263: 64 | F263: 1.4 | G263: 4 | H263: 5 | I263: 11.6 | J263: 2 | K263: 981.8 | L263: 1015 | M263: 0 | N263: 0 | O263: 0 | P263: 0 | Q263: 0 | R263: 0 | S263: -- | T263: 0 | U263: 262
A264: 42837.976 | B264: 18.6 | C264: 45 | D264: 11.5 | E264: 64 | F264: 0 | G264: 0 | H264: 4.9 | I264: 11.5 | J264: 274 | K264: 981.8 | L264: 1015 | M264: 0 | N264: 0 | O264: 0 | P264: 0 | Q264: 0 | R264: 0 | S264: -- | T264: 0 | U264: 263
A265: 42837.977 | B265: 18.6 | C265: 45 | D265: 11.5 | E265: 64 | F265: 0.4 | G265: 4 | H265: 4.9 | I265: 11.5 | J265: 352 | K265: 981.8 | L265: 1015 | M265: 0 | N265: 0 | O265: 0 | P265: 0 | Q265: 0 | R265: 0 | S265: -- | T265: 0 | U265: 264
A266: 42837.978 | B266: 18.6 | C266: 45 | D266: 11.4 | E266: 65 | F266: 0 | G266: 0 | H266: 5.1 | I266: 11.4 | J266: 351 | K266: 981.6 | L266: 1014.8 | M266: 0 | N266: 0 | O266: 0 | P266: 0 | Q266: 0 | R266: 0 | S266: -- | T266: 0 | U266: 265
A267: 42837.98 | B267: 18.6 | C267: 45 | D267: 11.4 | E267: 65 | F267: 0.7 | G267: 4 | H267: 5.1 | I267: 11.4 | J267: 9 | K267: 981.7 | L267: 1014.9 | M267: 0 | N267: 0 | O267: 0 | P267: 0 | Q267: 0 | R267: 0 | S267: -- | T267: 0 | U267: 266
A268: 42837.981 | B268: 18.6 | C268: 45 | D268: 11.3 | E268: 65 | F268: 0 | G268: 0 | H268: 5 | I268: 11.3 | J268: 7 | K268: 981.7 | L268: 1014.9 | M268: 0 | N268: 0 | O268: 0 | P268: 0 | Q268: 0 | R268: 0 | S268: -- | T268: 0 | U268: 267
A269: 42837.983 | B269: 18.6 | C269: 45 | D269: 11.3 | E269: 66 | F269: 0 | G269: 0 | H269: 5.2 | I269: 11.3 | J269: 343 | K269: 981.8 | L269: 1015 | M269: 0 | N269: 0 | O269: 0 | P269: 0 | Q269: 0 | R269: 0 | S269: -- | T269: 0 | U269: 268
A270: 42837.984 | B270: 18.6 | C270: 45 | D270: 11.2 | E270: 65 | F270: 2.2 | G270: 4 | H270: 4.9 | I270: 11.2 | J270: 350 | K270: 981.7 | L270: 1014.9 | M270: 0 | N270: 0 | O270: 0 | P270: 0 | Q270: 0 | R270: 0 | S270: -- | T270: 0 | U270: 269
... A1001: 42838.999 | B1001: 17.9 | C1001: 50 | D1001: 9.5 | E1001: 61 | F1001: 7.2 | G1001: 7.9 | H1001: 2.4 | I1001: 8.6 | J1001: 14 | K1001: 983.9 | L1001: 1017.1 | M1001: 0 | N1001: 0 | O1001: 0 | P1001: 0 | Q1001: 0 | R1001: 0 | S1001: -- | T1001: 0 | U1001: 1000
A1002: 14/04/2017 | U1002: 1001
A1003: 42839.001 | B1003: 17.9 | C1003: 50 | D1003: 9.5 | E1003: 61 | F1003: 2.2 | G1003: 4 | H1003: 2.4 | I1003: 9.5 | J1003: 12 | K1003: 983.6 | L1003: 1016.8 | M1003: 0 | N1003: 0 | O1003: 0 | P1003: 0 | Q1003: 0 | R1003: 0 | S1003: -- | T1003: 0 | U1003: 1002
A1004: 42839.002 | B1004: 17.9 | C1004: 49 | D1004: 9.5 | E1004: 61 | F1004: 6.5 | G1004: 7.9 | H1004: 2.4 | I1004: 8.8 | J1004: 11 | K1004: 983.7 | L1004: 1016.9 | M1004: 0 | N1004: 0 | O1004: 0 | P1004: 0 | Q1004: 0 | R1004: 0 | S1004: -- | T1004: 0 | U1004: 1003
A1005: 42839.003 | B1005: 17.9 | C1005: 49 | D1005: 9.5 | E1005: 61 | F1005: 8.3 | G1005: 11.9 | H1005: 2.4 | I1005: 8.4 | J1005: 4 | K1005: 983.5 | L1005: 1016.7 | M1005: 0 | N1005: 0 | O1005: 0 | P1005: 0 | Q1005: 0 | R1005: 0 | S1005: -- | T1005: 0 | U1005: 1004
A1006: 42839.005 | B1006: 17.9 | C1006: 49 | D1006: 9.5 | E1006: 61 | F1006: 4.3 | G1006: 7.9 | H1006: 2.4 | I1006: 9.5 | J1006: 26 | K1006: 983.8 | L1006: 1017 | M1006: 0 | N1006: 0 | O1006: 0 | P1006: 0 | Q1006: 0 | R1006: 0 | S1006: -- | T1006: 0 | U1006: 1005
A1007: 42839.006 | B1007: 17.9 | C1007: 49 | D1007: 9.5 | E1007: 61 | F1007: 5.4 | G1007: 7.9 | H1007: 2.4 | I1007: 9.1 | J1007: 16 | K1007: 983.5 | L1007: 1016.7 | M1007: 0 | N1007: 0 | O1007: 0 | P1007: 0 | Q1007: 0 | R1007: 0 | S1007: -- | T1007: 0 | U1007: 1006
A1008: 42839.008 | B1008: 17.9 | C1008: 49 | D1008: 9.5 | E1008: 61 | F1008: 3.2 | G1008: 7.9 | H1008: 2.4 | I1008: 9.5 | J1008: 23 | K1008: 983.7 | L1008: 1016.9 | M1008: 0 | N1008: 0 | O1008: 0 | P1008: 0 | Q1008: 0 | R1008: 0 | S1008: -- | T1008: 0 | U1008: 1007
A1009: 42839.009 | B1009: 17.9 | C1009: 50 | D1009: 9.5 | E1009: 61 | F1009: 3.2 | G1009: 4 | H1009: 2.4 | I1009: 9.5 | J1009: 65 | K1009: 983.5 | L1009: 1016.7 | M1009: 0 | N1009: 0 | O1009: 0 | P1009: 0 | Q1009: 0 | R1009: 0 | S1009: -- | T1009: 0 | U1009: 1008
A1010: 42839.01 | B1010: 17.9 | C1010: 50 | D1010: 9.4 | E1010: 61 | F1010: 3.2 | G1010: 4 | H1010: 2.3 | I1010: 9.4 | J1010: 23 | K1010: 983.5 | L1010: 1016.7 | M1010: 0 | N1010: 0 | O1010: 0 | P1010: 0 | Q1010: 0 | R1010: 0 | S1010: -- | T1010: 0 | U1010: 1009
A1011: 42839.012 | B1011: 17.9 | C1011: 50 | D1011: 9.4 | E1011: 61 | F1011: 4 | G1011: 7.9 | H1011: 2.3 | I1011: 9.4 | J1011: 25 | K1011: 983.4 | L1011: 1016.6 | M1011: 0 | N1011: 0 | O1011: 0 | P1011: 0 | Q1011: 0 | R1011: 0 | S1011: -- | T1011: 0 | U1011: 1010
A1012: 42839.013 | B1012: 17.9 | C1012: 49 | D1012: 9.4 | E1012: 61 | F1012: 5.8 | G1012: 7.9 | H1012: 2.3 | I1012: 8.8 | J1012: 20 | K1012: 983.4 | L1012: 1016.6 | M1012: 0 | N1012: 0 | O1012: 0 | P1012: 0 | Q1012: 0 | R1012: 0 | S1012: -- | T1012: 0 | U1012: 1011
A1013: 42839.015 | B1013: 17.9 | C1013: 49 | D1013: 9.4 | E1013: 61 | F1013: 2.9 | G1013: 4 | H1013: 2.3 | I1013: 9.4 | J1013: 15 | K1013: 983.3 | L1013: 1016.5 | M1013: 0 | N1013: 0 | O1013: 0 | P1013: 0 | Q1013: 0 | R1013: 0 | S1013: -- | T1013: 0 | U1013: 1012
...

Sheet MINI MAXIS15 
A20: Température exterieu r°C | E20: Humidité exterieur % | I20: Point de rosée°C | M20: Vent kmh | Q20: Rafale kmh
A21: Mini | B21: Max | C21: Ø | E21: Mini | F21: Max | G21: Ø | I21: Mini | J21: Max | K21: Ø | M21: Mini | N21: Max | O21: Ø | Q21: Mini | R21: Max | S21: Ø
A22: =MIN('S152017'!D2:D3160) -> 4.8 | B22: =MAX('S152017'!D2:D3160) -> 17.7 | C22: =AVERAGE('S152017'!D2:D3160) -> 10.019671 | E22: =MIN('S152017'!E2:E3160) -> 43 | F22: =MAX('S152017'!E2:E3160) -> 91 | G22: =AVERAGE('S152017'!E2:E3160) -> 68.076338 | I22: =MIN(('S152017'!H2:H3160)) -> 0.2 | J22: =MAX(('S152017'!H2:H3160)) -> 8.5 | K22: =AVERAGE(('S152017'!H2:H3160)) -> 4.1235033 | M22: =MIN(('S152017'!F2:F2969)) -> 0 | N22: =MAX(('S152017'!F2:F3160)) -> 27.4 | O22: =AVERAGE(('S152017'!F2:F3160)) -> 4.8254355 | Q22: =MIN(('S152017'!G2:G2969)) -> 0 | R22: =MAX(('S152017'!G2:G3160)) -> 36 | S22: =AVERAGE(('S152017'!G2:G3160)) -> 7.1574913
A24: =INDEX('S152017'!$A:$A,MATCH(A22,'S152017'!$D:$D,0)) -> 42840.158 | B24: =INDEX('S152017'!$A:$A,MATCH(B22,'S152017'!$D:$D,0)) -> 42837.694 | E24: =INDEX('S152017'!$A:$A,MATCH(E22,'S152017'!$E:$E,0)) -> 42837.678 | F24: =INDEX('S152017'!$A:$A,MATCH(F22,'S152017'!$E:$E,0)) -> 42841.248 | I24: =INDEX('S152017'!$A:$A,MATCH(I22,'S152017'!$H:$H,0)) -> 42841.64 | J24: =INDEX('S152017'!$A:$A,MATCH(J22,'S152017'!$H:$H,0)) -> 42840.778 | M24: =INDEX('S152017'!$A:$A,MATCH(M22,'S152017'!$F:$F,0)) -> 42837.956 | N24: =INDEX('S152017'!$A:$A,MATCH(N22,'S152017'!$F:$F,0)) -> 42841.61 | Q24: =INDEX('S152017'!$A:$A,MATCH(Q22,'S152017'!$G:$G,0)) -> 42837.956 | R24: =INDEX('S152017'!$A:$A,MATCH(R22,'S152017'!$G:$G,0)) -> 42841.534
E30: Pression absolue Hpa | I30: pression relative Hpa | M30: Solaire w/m2
E31: Mini | F31: Max | G31: Ø | I31: Mini | J31: Max | K31: Ø | M31: Mini | N31: Max | O31: Ø
E32: =MIN(('S152017'!K2:K3160)) -> 981.2 | F32: =MAX(('S152017'!K2:K3160)) -> 988.4 | G32: =AVERAGE(('S152017'!K2:K3160)) -> 984.26074 | I32: =MIN(('S152017'!L2:L3160)) -> 1012.4 | J32: =MAX(('S152017'!L2:L3160)) -> 1021.6 | K32: =AVERAGE(('S152017'!L2:L3160)) -> 1017.4471 | M32: =MIN(('S152017'!R2:R2969)) -> 0 | N32: =MAX(('S152017'!R2:R3160)) -> 763.82 | O32: =AVERAGE(('S152017'!R2:R3160)) -> 109.88289
E34: =INDEX('S152017'!$A:$A,MATCH(E32,'S152017'!$K:$K,0)) -> 42838.123 | F34: =INDEX('S152017'!$A:$A,MATCH(F32,'S152017'!$K:$K,0)) -> 42841.92 | I34: =INDEX('S152017'!$A:$A,MATCH(I32,'S152017'!$L:$L,0)) -> 42837.6 | J34: =INDEX('S152017'!$A:$A,MATCH(J32,'S152017'!$L:$L,0)) -> 42841.92 | M34: =INDEX('S152017'!$A:$A,MATCH(M32,'S152017'!$R:$R,0)) -> 42837.856 | N34: =INDEX('S152017'!$A:$A,MATCH(N32,'S152017'!$R:$R,0)) -> 42839.617

Sheet GS15
A1: =INDIRECT("S152017!"&CHAR(64+COLUMN())&(1+10*ROWS($A$1:$A1))-10) -> temps | B1: =INDIRECT("S152017!"&CHAR(64+COLUMN())&(1+10*ROWS($A$1:$A1))-10) -> température ambiante | C1: =INDIRECT("S152017!"&CHAR(64+COLUMN())&(1+10*ROWS($A$1:$A1))-10) -> humidité intérieure | D1: =INDIRECT("S152017!"&CHAR(64+COLUMN())&(1+10*ROWS($A$1:$A1))-10) -> température extérieure | E1: =INDIRECT("S152017!"&CHAR(64+COLUMN())&(1+10*ROWS($A$1:$A1))-10) -> humidité extérieure | F1: =INDIRECT("S152017!"&CHAR(64+COLUMN())&(1+10*ROWS($A$1:$A1))-10) -> vent m | G1: =INDIRECT("S152017!"&CHAR(64+COLUMN())&(1+10*ROWS($A$1:$A1))-10) -> rafales | H1: =INDIRECT("S152017!"&CHAR(64+COLUMN())&(1+10*ROWS($A$1:$A1))-10) -> Point de rosée | ... U1: =INDIRECT("S152017!"&CHAR(64+COLUMN())&(1+10*ROWS($A$1:$A1))-10) -> 3877
A2: =INDIRECT("S152017!"&CHAR(64+COLUMN())&(1+10*ROWS($A$1:$A2))-10) -> 42837.619 | B2: =INDIRECT("S152017!"&CHAR(64+COLUMN())&(1+10*ROWS($A$1:$A2))-10) -> 20.8 | C2: =INDIRECT("S152017!"&CHAR(64+COLUMN())&(1+10*ROWS($A$1:$A2))-10) -> 42 | D2: =INDIRECT("S152017!"&CHAR(64+COLUMN())&(1+10*ROWS($A$1:$A2))-10) -> 15.8 | E2: =INDIRECT("S152017!"&CHAR(64+COLUMN())&(1+10*ROWS($A$1:$A2))-10) -> 47 | F2: =INDIRECT("S152017!"&CHAR(64+COLUMN())&(1+10*ROWS($A$1:$A2))-10) -> 7.9 | G2: =INDIRECT("S152017!"&CHAR(64+COLUMN())&(1+10*ROWS($A$1:$A2))-10) -> 15.8 | H2: =INDIRECT("S152017!"&CHAR(64+COLUMN())&(1+10*ROWS($A$1:$A2))-10) -> 4.5 | ... U2: =INDIRECT("S152017!"&CHAR(64+COLUMN())&(1+10*ROWS($A$1:$A2))-10) -> 10
A3: =INDIRECT("S152017!"&CHAR(64+COLUMN())&(1+10*ROWS($A$1:$A3))-10) -> 42837.64 | B3: =INDIRECT("S152017!"&CHAR(64+COLUMN())&(1+10*ROWS($A$1:$A3))-10) -> 19.6 | C3: =INDIRECT("S152017!"&CHAR(64+COLUMN())&(1+10*ROWS($A$1:$A3))-10) -> 42 | D3: =INDIRECT("S152017!"&CHAR(64+COLUMN())&(1+10*ROWS($A$1:$A3))-10) -> 17.2 | E3: =INDIRECT("S152017!"&CHAR(64+COLUMN())&(1+10*ROWS($A$1:$A3))-10) -> 44 | F3: =INDIRECT("S152017!"&CHAR(64+COLUMN())&(1+10*ROWS($A$1:$A3))-10) -> 7.2 | G3: =INDIRECT("S152017!"&CHAR(64+COLUMN())&(1+10*ROWS($A$1:$A3))-10) -> 11.9 | H3: =INDIRECT("S152017!"&CHAR(64+COLUMN())&(1+10*ROWS($A$1:$A3))-10) -> 4.9 | ... U3: =INDIRECT("S152017!"&CHAR(64+COLUMN())&(1+10*ROWS($A$1:$A3))-10) -> 20
A4: =INDIRECT("S152017!"&CHAR(64+COLUMN())&(1+10*ROWS($A$1:$A4))-10) -> 42837.653 | B4: =INDIRECT("S152017!"&CHAR(64+COLUMN())&(1+10*ROWS($A$1:$A4))-10) -> 19.2 | C4: =INDIRECT("S152017!"&CHAR(64+COLUMN())&(1+10*ROWS($A$1:$A4))-10) -> 42 | D4: =INDIRECT("S152017!"&CHAR(64+COLUMN())&(1+10*ROWS($A$1:$A4))-10) -> 17.3 | E4: =INDIRECT("S152017!"&CHAR(64+COLUMN())&(1+10*ROWS($A$1:$A4))-10) -> 45 | F4: =INDIRECT("S152017!"&CHAR(64+COLUMN())&(1+10*ROWS($A$1:$A4))-10) -> 11.5 | G4: =INDIRECT("S152017!"&CHAR(64+COLUMN())&(1+10*ROWS($A$1:$A4))-10) -> 15.8 | H4: =INDIRECT("S152017!"&CHAR(64+COLUMN())&(1+10*ROWS($A$1:$A4))-10) -> 5.3 | ... U4: =INDIRECT("S152017!"&CHAR(64+COLUMN())&(1+10*ROWS($A$1:$A4))-10) -> 30
A5: =INDIRECT("S152017!"&CHAR(64+COLUMN())&(1+10*ROWS($A$1:$A5))-10) -> 42837.667 | B5: =INDIRECT("S152017!"&CHAR(64+COLUMN())&(1+10*ROWS($A$1:$A5))-10) -> 19.1 | C5: =INDIRECT("S152017!"&CHAR(64+COLUMN())&(1+10*ROWS($A$1:$A5))-10) -> 44 | D5: =INDIRECT("S152017!"&CHAR(64+COLUMN())&(1+10*ROWS($A$1:$A5))-10) -> 16.8 | E5: =INDIRECT("S152017!"&CHAR(64+COLUMN())&(1+10*ROWS($A$1:$A5))-10) -> 45 | F5: =INDIRECT("S152017!"&CHAR(64+COLUMN())&(1+10*ROWS($A$1:$A5))-10) -> 15.5 | G5: =INDIRECT("S152017!"&CHAR(64+COLUMN())&(1+10*ROWS($A$1:$A5))-10) -> 19.8 | H5: =INDIRECT("S152017!"&CHAR(64+COLUMN())&(1+10*ROWS($A$1:$A5))-10) -> 4.8 | ... U5: =INDIRECT("S152017!"&CHAR(64+COLUMN())&(1+10*ROWS($A$1:$A5))-10) -> 40
A6: =INDIRECT("S152017!"&CHAR(64+COLUMN())&(1+10*ROWS($A$1:$A6))-10) -> 42837.681 | B6: =INDIRECT("S152017!"&CHAR(64+COLUMN())&(1+10*ROWS($A$1:$A6))-10) -> 19.3 | C6: =INDIRECT("S152017!"&CHAR(64+COLUMN())&(1+10*ROWS($A$1:$A6))-10) -> 45 | D6: =INDIRECT("S152017!"&CHAR(64+COLUMN())&(1+10*ROWS($A$1:$A6))-10) -> 17.2 | E6: =INDIRECT("S152017!"&CHAR(64+COLUMN())&(1+10*ROWS($A$1:$A6))-10) -> 43 | F6: =INDIRECT("S152017!"&CHAR(64+COLUMN())&(1+10*ROWS($A$1:$A6))-10) -> 9.7 | G6: =INDIRECT("S152017!"&CHAR(64+COLUMN())&(1+10*ROWS($A$1:$A6))-10) -> 11.9 | H6: =INDIRECT("S152017!"&CHAR(64+COLUMN())&(1+10*ROWS($A$1:$A6))-10) -> 4.5 | ... U6: =INDIRECT("S152017!"&CHAR(64+COLUMN())&(1+10*ROWS($A$1:$A6))-10) -> 50
A7: =INDIRECT("S152017!"&CHAR(64+COLUMN())&(1+10*ROWS($A$1:$A7))-10) -> 42837.695 | B7: =INDIRECT("S152017!"&CHAR(64+COLUMN())&(1+10*ROWS($A$1:$A7))-10) -> 19.4 | C7: =INDIRECT("S152017!"&CHAR(64+COLUMN())&(1+10*ROWS($A$1:$A7))-10) -> 45 | D7: =INDIRECT("S152017!"&CHAR(64+COLUMN())&(1+10*ROWS($A$1:$A7))-10) -> 17.7 | E7: =INDIRECT("S152017!"&CHAR(64+COLUMN())&(1+10*ROWS($A$1:$A7))-10) -> 45 | F7: =INDIRECT("S152017!"&CHAR(64+COLUMN())&(1+10*ROWS($A$1:$A7))-10) -> 19.4 | G7: =INDIRECT("S152017!"&CHAR(64+COLUMN())&(1+10*ROWS($A$1:$A7))-10) -> 28.1 | H7: =INDIRECT("S152017!"&CHAR(64+COLUMN())&(1+10*ROWS($A$1:$A7))-10) -> 5.6 | ... U7: =INDIRECT("S152017!"&CHAR(64+COLUMN())&(1+10*ROWS($A$1:$A7))-10) -> 60
A8: =INDIRECT("S152017!"&CHAR(64+COLUMN())&(1+10*ROWS($A$1:$A8))-10) -> 42837.709 | B8: =INDIRECT("S152017!"&CHAR(64+COLUMN())&(1+10*ROWS($A$1:$A8))-10) -> 19.4 | C8: =INDIRECT("S152017!"&CHAR(64+COLUMN())&(1+10*ROWS($A$1:$A8))-10) -> 45 | D8: =INDIRECT("S152017!"&CHAR(64+COLUMN())&(1+10*ROWS($A$1:$A8))-10) -> 17.7 | E8: =INDIRECT("S152017!"&CHAR(64+COLUMN())&(1+10*ROWS($A$1:$A8))-10) -> 44 | F8: =INDIRECT("S152017!"&CHAR(64+COLUMN())&(1+10*ROWS($A$1:$A8))-10) -> 14 | G8: =INDIRECT("S152017!"&CHAR(64+COLUMN())&(1+10*ROWS($A$1:$A8))-10) -> 24.1 | H8: =INDIRECT("S152017!"&CHAR(64+COLUMN())&(1+10*ROWS($A$1:$A8))-10) -> 5.3 | ... U8: =INDIRECT("S152017!"&CHAR(64+COLUMN())&(1+10*ROWS($A$1:$A8))-10) -> 70
A9: =INDIRECT("S152017!"&CHAR(64+COLUMN())&(1+10*ROWS($A$1:$A9))-10) -> 42837.723 | B9: =INDIRECT("S152017!"&CHAR(64+COLUMN())&(1+10*ROWS($A$1:$A9))-10) -> 19.3 | C9: =INDIRECT("S152017!"&CHAR(64+COLUMN())&(1+10*ROWS($A$1:$A9))-10) -> 45 | D9: =INDIRECT("S152017!"&CHAR(64+COLUMN())&(1+10*ROWS($A$1:$A9))-10) -> 17.5 | E9: =INDIRECT("S152017!"&CHAR(64+COLUMN())&(1+10*ROWS($A$1:$A9))-10) -> 45 | F9: =INDIRECT("S152017!"&CHAR(64+COLUMN())&(1+10*ROWS($A$1:$A9))-10) -> 16.9 | G9: =INDIRECT("S152017!"&CHAR(64+COLUMN())&(1+10*ROWS($A$1:$A9))-10) -> 19.8 | H9: =INDIRECT("S152017!"&CHAR(64+COLUMN())&(1+10*ROWS($A$1:$A9))-10) -> 5.5 | ... U9: =INDIRECT("S152017!"&CHAR(64+COLUMN())&(1+10*ROWS($A$1:$A9))-10) -> 80
A10: =INDIRECT("S152017!"&CHAR(64+COLUMN())&(1+10*ROWS($A$1:$A10))-10) -> 42837.737 | B10: =INDIRECT("S152017!"&CHAR(64+COLUMN())&(1+10*ROWS($A$1:$A10))-10) -> 19.1 | C10: =INDIRECT("S152017!"&CHAR(64+COLUMN())&(1+10*ROWS($A$1:$A10))-10) -> 45 | D10: =INDIRECT("S152017!"&CHAR(64+COLUMN())&(1+10*ROWS($A$1:$A10))-10) -> 17 | E10: =INDIRECT("S152017!"&CHAR(64+COLUMN())&(1+10*ROWS($A$1:$A10))-10) -> 47 | F10: =INDIRECT("S152017!"&CHAR(64+COLUMN())&(1+10*ROWS($A$1:$A10))-10) -> 10.8 | G10: =INDIRECT("S152017!"&CHAR(64+COLUMN())&(1+10*ROWS($A$1:$A10))-10) -> 11.9 | H10: =INDIRECT("S152017!"&CHAR(64+COLUMN())&(1+10*ROWS($A$1:$A10))-10) -> 5.6 | ... U10: =INDIRECT("S152017!"&CHAR(64+COLUMN())&(1+10*ROWS($A$1:$A10))-10) -> 90
A11: =INDIRECT("S152017!"&CHAR(64+COLUMN())&(1+10*ROWS($A$1:$A11))-10) -> 42837.751 | B11: =INDIRECT("S152017!"&CHAR(64+COLUMN())&(1+10*ROWS($A$1:$A11))-10) -> 19.2 | C11: =INDIRECT("S152017!"&CHAR(64+COLUMN())&(1+10*ROWS($A$1:$A11))-10) -> 43 | D11: =INDIRECT("S152017!"&CHAR(64+COLUMN())&(1+10*ROWS($A$1:$A11))-10) -> 17 | E11: =INDIRECT("S152017!"&CHAR(64+COLUMN())&(1+10*ROWS($A$1:$A11))-10) -> 45 | F11: =INDIRECT("S152017!"&CHAR(64+COLUMN())&(1+10*ROWS($A$1:$A11))-10) -> 7.2 | G11: =INDIRECT("S152017!"&CHAR(64+COLUMN())&(1+10*ROWS($A$1:$A11))-10) -> 7.9 | H11: =INDIRECT("S152017!"&CHAR(64+COLUMN())&(1+10*ROWS($A$1:$A11))-10) -> 5 | ... U11: =INDIRECT("S152017!"&CHAR(64+COLUMN())&(1+10*ROWS($A$1:$A11))-10) -> 100
A12: =INDIRECT("S152017!"&CHAR(64+COLUMN())&(1+10*ROWS($A$1:$A12))-10) -> 42837.765 | B12: =INDIRECT("S152017!"&CHAR(64+COLUMN())&(1+10*ROWS($A$1:$A12))-10) -> 19.2 | C12: =INDIRECT("S152017!"&CHAR(64+COLUMN())&(1+10*ROWS($A$1:$A12))-10) -> 45 | D12: =INDIRECT("S152017!"&CHAR(64+COLUMN())&(1+10*ROWS($A$1:$A12))-10) -> 17.1 | E12: =INDIRECT("S152017!"&CHAR(64+COLUMN())&(1+10*ROWS($A$1:$A12))-10) -> 46 | F12: =INDIRECT("S152017!"&CHAR(64+COLUMN())&(1+10*ROWS($A$1:$A12))-10) -> 10.4 | G12: =INDIRECT("S152017!"&CHAR(64+COLUMN())&(1+10*ROWS($A$1:$A12))-10) -> 11.9 | H12: =INDIRECT("S152017!"&CHAR(64+COLUMN())&(1+10*ROWS($A$1:$A12))-10) -> 5.4 | ... U12: =INDIRECT("S152017!"&CHAR(64+COLUMN())&(1+10*ROWS($A$1:$A12))-10) -> 110
... A389: =INDIRECT("S152017!"&CHAR(64+COLUMN())&(1+10*ROWS($A$1:$A389))-10) -> 42842.999 | B389: =INDIRECT("S152017!"&CHAR(64+COLUMN())&(1+10*ROWS($A$1:$A389))-10) -> 18.5 | C389: =INDIRECT("S152017!"&CHAR(64+COLUMN())&(1+10*ROWS($A$1:$A389))-10) -> 47 | D389: =INDIRECT("S152017!"&CHAR(64+COLUMN())&(1+10*ROWS($A$1:$A389))-10) -> 5.2 | E389: =INDIRECT("S152017!"&CHAR(64+COLUMN())&(1+10*ROWS($A$1:$A389))-10) -> 66 | F389: =INDIRECT("S152017!"&CHAR(64+COLUMN())&(1+10*ROWS($A$1:$A389))-10) -> 7.2 | G389: =INDIRECT("S152017!"&CHAR(64+COLUMN())&(1+10*ROWS($A$1:$A389))-10) -> 7.9 | H389: =INDIRECT("S152017!"&CHAR(64+COLUMN())&(1+10*ROWS($A$1:$A389))-10) -> -0.6 | ... U389: =INDIRECT("S152017!"&CHAR(64+COLUMN())&(1+10*ROWS($A$1:$A389))-10) -> 3880

Sheet MINI MAXIS16
A20: Température exterieu r°C | E20: Humidité exterieur % | I20: Point de rosée°C | M20: Vent kmh | Q20: Rafale kmh
A21: Mini | B21: Max | C21: Ø | E21: Mini | F21: Max | G21: Ø | I21: Mini | J21: Max | K21: Ø | M21: Mini | N21: Max | O21: Ø | Q21: Mini | R21: Max | S21: Ø
A22: =MIN('S152017'!D3162:D8195) -> 5.2 | B22: =MAX('S152017'!D3162:D8195) -> 10.1 | C22: =AVERAGE('S152017'!D3162:D8195) -> 7.2872222 | E22: =MIN('S152017'!E3162:E8195) -> 48 | F22: =MAX('S152017'!E3162:E8195) -> 91 | G22: =AVERAGE('S152017'!E3162:E8195) -> 77.277778 | I22: =MIN(('S152017'!H3162:H8195)) -> -1.1 | J22: =MAX(('S152017'!H3162:H8195)) -> 7.5 | K22: =AVERAGE(('S152017'!H3162:H8195)) -> 3.4763889 | M22: =MIN(('S152017'!F3162:F8195)) -> 0 | N22: =MAX(('S152017'!F3162:F8195)) -> 33.1 | O22: =AVERAGE(('S152017'!F3162:F8195)) -> 5.1395833 | Q22: =MIN(('S152017'!G3162:G8195)) -> 0 | R22: =MAX(('S152017'!G3162:G8195)) -> 40 | S22: =AVERAGE(('S152017'!G3162:G8195)) -> 7.5441667
A24: =INDEX('S152017'!$A3162:$A8195,MATCH(A22,'S152017'!$D:$D,0)) -> 0 | B24: =INDEX('S152017'!$A3162:$A8195,MATCH(B22,'S152017'!$D:$D,0)) -> 42842.491 | E24: =INDEX('S152017'!$A3162:$A8195,MATCH(E22,'S152017'!$E:$E,0)) -> 42842.02 | F24: =INDEX('S152017'!$A3162:$A8195,MATCH(F22,'S152017'!$E:$E,0)) -> 0 | I24: =INDEX('S152017'!$A:$A,MATCH(I22,'S152017'!$H:$H,0)) -> 42842.78 | J24: =INDEX('S152017'!$A3162:$A8195,MATCH(J22,'S152017'!$H:$H,0)) -> 0 | M24: =INDEX('S152017'!$A:$A,MATCH(M22,'S152017'!$F:$F,0)) -> 42837.956 | N24: =INDEX('S152017'!$A:$A,MATCH(N22,'S152017'!$F:$F,0)) -> 42842.569 | Q24: =INDEX('S152017'!$A:$A,MATCH(Q22,'S152017'!$G:$G,0)) -> 42837.956 | R24: =INDEX('S152017'!$A:$A,MATCH(R22,'S152017'!$G:$G,0)) -> 42842.569
E30: Pression absolue Hpa | I30: pression relative Hpa | M30: Solaire w/m2
E31: Mini | F31: Max | G31: Ø | I31: Mini | J31: Max | K31: Ø | M31: Mini | N31: Max | O31: Ø
E32: =MIN(('S152017'!K3162:K8195)) -> 981.8 | F32: =MAX(('S152017'!K3162:K8195)) -> 988.1 | G32: =AVERAGE(('S152017'!K3162:K8195)) -> 984.85014 | I32: =MIN(('S152017'!L3162:L8195)) -> 1015 | J32: =MAX(('S152017'!L3162:L8195)) -> 1021.3 | K32: =AVERAGE(('S152017'!L3162:L8195)) -> 1018.0501 | M32: =MIN(('S152017'!R3162:R8195)) -> 0 | N32: =MAX(('S152017'!R3162:R8195)) -> 767.58 | O32: =AVERAGE(('S152017'!R3162:R8195)) -> 93.065861
E34: =INDEX('S152017'!$A:$A,MATCH(E32,'S152017'!$K:$K,0)) -> 42837.783 | F34: =INDEX('S152017'!$A:$A,MATCH(F32,'S152017'!$K:$K,0)) -> 42841.433 | I34: =INDEX('S152017'!$A:$A,MATCH(I32,'S152017'!$L:$L,0)) -> 42837.783 | J34: =INDEX('S152017'!$A:$A,MATCH(J32,'S152017'!$L:$L,0)) -> 42841.433 | M34: =INDEX('S152017'!$A:$A,MATCH(M32,'S152017'!$R:$R,0)) -> 42837.856 | N34: =INDEX('S152017'!$A:$A,MATCH(N32,'S152017'!$R:$R,0)) -> 42842.573

Sheet GS16
