Workbook
Name An: '[1]JOURS FERIES'!$G$9
Name BRUT: STOCK2016[BRUT]
Name dates: [2]Tables!$B$2:$B$13
Name DEBUT: FLUX_2016[SOLDE 2015]
Name ETAT: FLUX_2016[ETAT]
Name FINAL: FLUX_2016[STOCK]
Name FINI: STOCK2016[FINI]
Name NoAn: [3]Année!$B$4
Name Pâques: '[1]JOURS FERIES'!$G$11
Name REF: FLUX_2016[REF]
Name TOTAL: FLUX_2016[TOTAL 2016]

Sheet FLUX 2016
B1: 2016 FLUX
B2: Infos | C2: ARTICLES | D2: REF | E2: ETAT | F2: SOLDE 2015 | G2: 01/16 | H2: 02/16 | I2: 03/16 | J2: 04/16 | K2: 05/16 | L2: 06/16 | M2: 07/16 | N2: 08/16 | O2: 09/16 | P2: 10/16 | Q2: 11/16 | R2: 12/16 | S2: TOTAL 2016 | T2: STOCK
C3: 032320B | D3: =MID(C3,1,6) -> 032320 | E3: Brut | F3: 230 | G3: 0 | H3: 0 | I3: 305 | J3: 0 | K3: 0 | L3: 0 | M3: 0 | N3: 0 | O3: 0 | P3: 0 | Q3: 0 | S3: =SUM(OFFSET(FLUX_2016[[#This Row],[SOLDE 2015]],0,1,1,12)) -> 305 | T3: {=IF(FLUX_2016[[#This Row],[ETAT]]="Brut",FLUX_2016[[#This Row],[TOTAL 2016]]+FLUX_2016[[#This Row],[SOLDE 2015]]-SUM(OFFSET($F$3,MATCH(1,(FLUX_2016[REF]=FLUX_2016[[#This Row],[REF]])*(FLUX_2016[ETAT]="fini"),0)-1,1,COUNTIFS(FLUX_2016[REF],FLUX_2016[[#This Row],[REF]],FLUX_2016[ETAT],"fini"),12)),"")} -> 372 | U3: <=JUSTE | W3: {=SUM(OFFSET($F$3,MATCH(1,($D$3:$D$24=D3)*($E$3:$E$24="fini"),0)-1,1,COUNTIFS($D$3:$D$24,D3,$E$3:$E$24,"fini"),12))} -> 163 | X3: =COUNTIFS(FLUX_2016[REF],FLUX_2016[[#This Row],[REF]],FLUX_2016[ETAT],"fini") -> 5
C4: 032320F0001 | D4: =MID(C4,1,6) -> 032320 | E4: Fini | F4: 0 | G4: 21 | H4: 0 | I4: 11 | J4: 0 | K4: 26 | L4: 8 | M4: 0 | N4: 0 | O4: 23 | P4: 0 | Q4: 0 | S4: =SUM(OFFSET(FLUX_2016[[#This Row],[SOLDE 2015]],0,1,1,12)) -> 89 | T4: {=IF(FLUX_2016[[#This Row],[ETAT]]="Brut",FLUX_2016[[#This Row],[TOTAL 2016]]+FLUX_2016[[#This Row],[SOLDE 2015]]-SUM(OFFSET($F$3,MATCH(1,(FLUX_2016[REF]=FLUX_2016[[#This Row],[REF]])*(FLUX_2016[ETAT]="fini"),0)-1,1,COUNTIFS(FLUX_2016[REF],FLUX_2016[[#This Row],[REF]],FLUX_2016[ETAT],"fini"),12)),"")} | W4: {=SUM(OFFSET($F$3,MATCH(1,($D$3:$D$24=D4)*($E$3:$E$24="fini"),0)-1,1,COUNTIFS($D$3:$D$24,D4,$E$3:$E$24,"fini"),12))} -> 163
C5: 032320F0002 | D5: =MID(C5,1,6) -> 032320 | E5: Fini | F5: 0 | G5: 0 | H5: 0 | I5: 0 | J5: 0 | K5: 0 | L5: 0 | M5: 0 | N5: 0 | O5: 0 | P5: 0 | Q5: 0 | S5: =SUM(OFFSET(FLUX_2016[[#This Row],[SOLDE 2015]],0,1,1,12)) -> 0 | T5: {=IF(FLUX_2016[[#This Row],[ETAT]]="Brut",FLUX_2016[[#This Row],[TOTAL 2016]]+FLUX_2016[[#This Row],[SOLDE 2015]]-SUM(OFFSET($F$3,MATCH(1,(FLUX_2016[REF]=FLUX_2016[[#This Row],[REF]])*(FLUX_2016[ETAT]="fini"),0)-1,1,COUNTIFS(FLUX_2016[REF],FLUX_2016[[#This Row],[REF]],FLUX_2016[ETAT],"fini"),12)),"")} | W5: {=SUM(OFFSET($F$3,MATCH(1,($D$3:$D$24=D5)*($E$3:$E$24="fini"),0)-1,1,COUNTIFS($D$3:$D$24,D5,$E$3:$E$24,"fini"),12))} -> 163
C6: 032320F0041 | D6: =MID(C6,1,6) -> 032320 | E6: Fini | F6: 0 | G6: 0 | H6: 0 | I6: 25 | J6: 0 | K6: 0 | L6: 0 | M6: 0 | N6: 0 | O6: 0 | P6: 0 | Q6: 0 | S6: =SUM(OFFSET(FLUX_2016[[#This Row],[SOLDE 2015]],0,1,1,12)) -> 25 | T6: {=IF(FLUX_2016[[#This Row],[ETAT]]="Brut",FLUX_2016[[#This Row],[TOTAL 2016]]+FLUX_2016[[#This Row],[SOLDE 2015]]-SUM(OFFSET($F$3,MATCH(1,(FLUX_2016[REF]=FLUX_2016[[#This Row],[REF]])*(FLUX_2016[ETAT]="fini"),0)-1,1,COUNTIFS(FLUX_2016[REF],FLUX_2016[[#This Row],[REF]],FLUX_2016[ETAT],"fini"),12)),"")} | W6: {=SUM(OFFSET($F$3,MATCH(1,($D$3:$D$24=D6)*($E$3:$E$24="fini"),0)-1,1,COUNTIFS($D$3:$D$24,D6,$E$3:$E$24,"fini"),12))} -> 163
C7: 032320F0042 | D7: =MID(C7,1,6) -> 032320 | E7: Fini | F7: 0 | G7: 22 | H7: 0 | I7: 0 | J7: 0 | K7: 0 | L7: 27 | M7: 0 | N7: 0 | O7: 0 | P7: 0 | Q7: 0 | S7: =SUM(OFFSET(FLUX_2016[[#This Row],[SOLDE 2015]],0,1,1,12)) -> 49 | T7: {=IF(FLUX_2016[[#This Row],[ETAT]]="Brut",FLUX_2016[[#This Row],[TOTAL 2016]]+FLUX_2016[[#This Row],[SOLDE 2015]]-SUM(OFFSET($F$3,MATCH(1,(FLUX_2016[REF]=FLUX_2016[[#This Row],[REF]])*(FLUX_2016[ETAT]="fini"),0)-1,1,COUNTIFS(FLUX_2016[REF],FLUX_2016[[#This Row],[REF]],FLUX_2016[ETAT],"fini"),12)),"")} | W7: {=SUM(OFFSET($F$3,MATCH(1,($D$3:$D$24=D7)*($E$3:$E$24="fini"),0)-1,1,COUNTIFS($D$3:$D$24,D7,$E$3:$E$24,"fini"),12))} -> 163
C8: 032320F0050 | D8: =MID(C8,1,6) -> 032320 | E8: Fini | F8: 0 | G8: 0 | H8: 0 | I8: 0 | J8: 0 | K8: 0 | L8: 0 | M8: 0 | N8: 0 | O8: 0 | P8: 0 | Q8: 0 | S8: =SUM(OFFSET(FLUX_2016[[#This Row],[SOLDE 2015]],0,1,1,12)) -> 0 | T8: {=IF(FLUX_2016[[#This Row],[ETAT]]="Brut",FLUX_2016[[#This Row],[TOTAL 2016]]+FLUX_2016[[#This Row],[SOLDE 2015]]-SUM(OFFSET($F$3,MATCH(1,(FLUX_2016[REF]=FLUX_2016[[#This Row],[REF]])*(FLUX_2016[ETAT]="fini"),0)-1,1,COUNTIFS(FLUX_2016[REF],FLUX_2016[[#This Row],[REF]],FLUX_2016[ETAT],"fini"),12)),"")} | W8: {=SUM(OFFSET($F$3,MATCH(1,($D$3:$D$24=D8)*($E$3:$E$24="fini"),0)-1,1,COUNTIFS($D$3:$D$24,D8,$E$3:$E$24,"fini"),12))} -> 163
C9: 032330B | D9: =MID(C9,1,6) -> 032330 | E9: Brut | F9: 60 | G9: 100 | H9: 0 | I9: 100 | J9: 0 | K9: 100 | L9: 0 | M9: 100 | N9: 0 | O9: 100 | P9: 0 | Q9: 100 | S9: =SUM(OFFSET(FLUX_2016[[#This Row],[SOLDE 2015]],0,1,1,12)) -> 600 | T9: {=IF(FLUX_2016[[#This Row],[ETAT]]="Brut",FLUX_2016[[#This Row],[TOTAL 2016]]+FLUX_2016[[#This Row],[SOLDE 2015]]-SUM(OFFSET($F$3,MATCH(1,(FLUX_2016[REF]=FLUX_2016[[#This Row],[REF]])*(FLUX_2016[ETAT]="fini"),0)-1,1,COUNTIFS(FLUX_2016[REF],FLUX_2016[[#This Row],[REF]],FLUX_2016[ETAT],"fini"),12)),"")} -> 137 | U9: <= FAUX : Ici je devrais trouver : (Solde 2015 + Total 2016)-Total "fini" soit 60 + 600 -523= Stock à 137 | W9: {=SUM(OFFSET($F$3,MATCH(1,($D$3:$D$24=D9)*($E$3:$E$24="fini"),0)-1,1,COUNTIFS($D$3:$D$24,D9,$E$3:$E$24,"fini"),12))} -> 523
C10: 032330B HC | D10: =MID(C10,1,6) -> 032330 | E10: Brut | F10: 50 | G10: 200 | H10: 0 | I10: 0 | J10: 0 | K10: 200 | L10: 0 | M10: 0 | N10: 0 | O10: 0 | P10: 0 | Q10: 150 | S10: =SUM(OFFSET(FLUX_2016[[#This Row],[SOLDE 2015]],0,1,1,12)) -> 550 | T10: {=IF(FLUX_2016[[#This Row],[ETAT]]="Brut",FLUX_2016[[#This Row],[TOTAL 2016]]+FLUX_2016[[#This Row],[SOLDE 2015]]-SUM(OFFSET($F$3,MATCH(1,(FLUX_2016[REF]=FLUX_2016[[#This Row],[REF]])*(FLUX_2016[ETAT]="fini"),0)-1,1,COUNTIFS(FLUX_2016[REF],FLUX_2016[[#This Row],[REF]],FLUX_2016[ETAT],"fini"),12)),"")} -> 77 | U10: <= JUSTE Ici je trouve bien : (Solde 2015 + Total 2016)-Total "fini" soit 50 + 550 -523= Stock à 77 | W10: {=SUM(OFFSET($F$3,MATCH(1,($D$3:$D$24=D10)*($E$3:$E$24="fini"),0)-1,1,COUNTIFS($D$3:$D$24,D10,$E$3:$E$24,"fini"),12))} -> 523
C11: 032330F0002 | D11: =MID(C11,1,6) -> 032330 | E11: Fini | F11: 0 | G11: 0 | H11: 0 | I11: 0 | J11: 0 | K11: 0 | L11: 0 | M11: 0 | N11: 0 | O11: 0 | P11: 0 | Q11: 0 | S11: =SUM(OFFSET(FLUX_2016[[#This Row],[SOLDE 2015]],0,1,1,12)) -> 0 | T11: {=IF(FLUX_2016[[#This Row],[ETAT]]="Brut",FLUX_2016[[#This Row],[TOTAL 2016]]+FLUX_2016[[#This Row],[SOLDE 2015]]-SUM(OFFSET($F$3,MATCH(1,(FLUX_2016[REF]=FLUX_2016[[#This Row],[REF]])*(FLUX_2016[ETAT]="fini"),0)-1,1,COUNTIFS(FLUX_2016[REF],FLUX_2016[[#This Row],[REF]],FLUX_2016[ETAT],"fini"),12)),"")} | U11: =660-SUM(G11:R15) -> 137 | W11: {=SUM(OFFSET($F$3,MATCH(1,($D$3:$D$24=D11)*($E$3:$E$24="fini"),0)-1,1,COUNTIFS($D$3:$D$24,D11,$E$3:$E$24,"fini"),12))} -> 523
C12: 032330F0006 | D12: =MID(C12,1,6) -> 032330 | E12: Fini | F12: 0 | G12: 0 | H12: 37 | I12: 44 | J12: 15 | K12: 0 | L12: 55 | M12: 0 | N12: 0 | O12: 0 | P12: 0 | Q12: 0 | S12: =SUM(OFFSET(FLUX_2016[[#This Row],[SOLDE 2015]],0,1,1,12)) -> 151 | T12: {=IF(FLUX_2016[[#This Row],[ETAT]]="Brut",FLUX_2016[[#This Row],[TOTAL 2016]]+FLUX_2016[[#This Row],[SOLDE 2015]]-SUM(OFFSET($F$3,MATCH(1,(FLUX_2016[REF]=FLUX_2016[[#This Row],[REF]])*(FLUX_2016[ETAT]="fini"),0)-1,1,COUNTIFS(FLUX_2016[REF],FLUX_2016[[#This Row],[REF]],FLUX_2016[ETAT],"fini"),12)),"")} | W12: {=SUM(OFFSET($F$3,MATCH(1,($D$3:$D$24=D12)*($E$3:$E$24="fini"),0)-1,1,COUNTIFS($D$3:$D$24,D12,$E$3:$E$24,"fini"),12))} -> 523
C13: 032330F0043 | D13: =MID(C13,1,6) -> 032330 | E13: Fini | F13: 0 | G13: 50 | H13: 46 | I13: 79 | J13: 0 | K13: 0 | L13: 57 | M13: 0 | N13: 0 | O13: 0 | P13: 0 | Q13: 0 | S13: =SUM(OFFSET(FLUX_2016[[#This Row],[SOLDE 2015]],0,1,1,12)) -> 232 | T13: {=IF(FLUX_2016[[#This Row],[ETAT]]="Brut",FLUX_2016[[#This Row],[TOTAL 2016]]+FLUX_2016[[#This Row],[SOLDE 2015]]-SUM(OFFSET($F$3,MATCH(1,(FLUX_2016[REF]=FLUX_2016[[#This Row],[REF]])*(FLUX_2016[ETAT]="fini"),0)-1,1,COUNTIFS(FLUX_2016[REF],FLUX_2016[[#This Row],[REF]],FLUX_2016[ETAT],"fini"),12)),"")} | W13: {=SUM(OFFSET($F$3,MATCH(1,($D$3:$D$24=D13)*($E$3:$E$24="fini"),0)-1,1,COUNTIFS($D$3:$D$24,D13,$E$3:$E$24,"fini"),12))} -> 523
C14: 032330F0050 | D14: =MID(C14,1,6) -> 032330 | E14: Fini | F14: 0 | G14: 15 | H14: 4 | I14: 30 | J14: 31 | K14: 0 | L14: 40 | M14: 0 | N14: 10 | O14: 0 | P14: 0 | Q14: 0 | S14: =SUM(OFFSET(FLUX_2016[[#This Row],[SOLDE 2015]],0,1,1,12)) -> 130 | T14: {=IF(FLUX_2016[[#This Row],[ETAT]]="Brut",FLUX_2016[[#This Row],[TOTAL 2016]]+FLUX_2016[[#This Row],[SOLDE 2015]]-SUM(OFFSET($F$3,MATCH(1,(FLUX_2016[REF]=FLUX_2016[[#This Row],[REF]])*(FLUX_2016[ETAT]="fini"),0)-1,1,COUNTIFS(FLUX_2016[REF],FLUX_2016[[#This Row],[REF]],FLUX_2016[ETAT],"fini"),12)),"")} | W14: {=SUM(OFFSET($F$3,MATCH(1,($D$3:$D$24=D14)*($E$3:$E$24="fini"),0)-1,1,COUNTIFS($D$3:$D$24,D14,$E$3:$E$24,"fini"),12))} -> 523
C15: 032330F0053 | D15: =MID(C15,1,6) -> 032330 | E15: Fini | F15: 0 | G15: 0 | H15: 0 | I15: 0 | J15: 0 | K15: 0 | L15: 0 | M15: 0 | N15: 0 | O15: 0 | P15: 10 | Q15: 0 | S15: =SUM(OFFSET(FLUX_2016[[#This Row],[SOLDE 2015]],0,1,1,12)) -> 10 | T15: {=IF(FLUX_2016[[#This Row],[ETAT]]="Brut",FLUX_2016[[#This Row],[TOTAL 2016]]+FLUX_2016[[#This Row],[SOLDE 2015]]-SUM(OFFSET($F$3,MATCH(1,(FLUX_2016[REF]=FLUX_2016[[#This Row],[REF]])*(FLUX_2016[ETAT]="fini"),0)-1,1,COUNTIFS(FLUX_2016[REF],FLUX_2016[[#This Row],[REF]],FLUX_2016[ETAT],"fini"),12)),"")} | W15: {=SUM(OFFSET($F$3,MATCH(1,($D$3:$D$24=D15)*($E$3:$E$24="fini"),0)-1,1,COUNTIFS($D$3:$D$24,D15,$E$3:$E$24,"fini"),12))} -> 523
C16: 032340B | D16: =MID(C16,1,6) -> 032340 | E16: Brut | F16: 20 | G16: 0 | H16: 0 | I16: 0 | J16: 0 | K16: 0 | L16: 0 | M16: 0 | N16: 0 | O16: 0 | P16: 0 | Q16: 100 | S16: =SUM(OFFSET(FLUX_2016[[#This Row],[SOLDE 2015]],0,1,1,12)) -> 100 | T16: {=IF(FLUX_2016[[#This Row],[ETAT]]="Brut",FLUX_2016[[#This Row],[TOTAL 2016]]+FLUX_2016[[#This Row],[SOLDE 2015]]-SUM(OFFSET($F$3,MATCH(1,(FLUX_2016[REF]=FLUX_2016[[#This Row],[REF]])*(FLUX_2016[ETAT]="fini"),0)-1,1,COUNTIFS(FLUX_2016[REF],FLUX_2016[[#This Row],[REF]],FLUX_2016[ETAT],"fini"),12)),"")} -> 70 | U16: <= FAUX : Ici je devrais trouver : (Solde 2015 + Total 2016)-Total "fini" soit 20 + 100 -50 = Stock à 70 | W16: {=SUM(OFFSET($F$3,MATCH(1,($D$3:$D$24=D16)*($E$3:$E$24="fini"),0)-1,1,COUNTIFS($D$3:$D$24,D16,$E$3:$E$24,"fini"),12))} -> 50
C17: 032340TB D | D17: =MID(C17,1,6) -> 032340 | E17: Brut | F17: 50 | G17: 0 | H17: 0 | I17: 0 | J17: 0 | K17: 0 | L17: 0 | M17: 0 | N17: 0 | O17: 0 | P17: 0 | Q17: 100 | S17: =SUM(OFFSET(FLUX_2016[[#This Row],[SOLDE 2015]],0,1,1,12)) -> 100 | T17: {=IF(FLUX_2016[[#This Row],[ETAT]]="Brut",FLUX_2016[[#This Row],[TOTAL 2016]]+FLUX_2016[[#This Row],[SOLDE 2015]]-SUM(OFFSET($F$3,MATCH(1,(FLUX_2016[REF]=FLUX_2016[[#This Row],[REF]])*(FLUX_2016[ETAT]="fini"),0)-1,1,COUNTIFS(FLUX_2016[REF],FLUX_2016[[#This Row],[REF]],FLUX_2016[ETAT],"fini"),12)),"")} -> 100 | U17: <= FAUX : Ici je devrais trouver : (Solde 2015 + Total 2016)-Total "fini" soit 50 + 100 -50= Stock à 100 | W17: {=SUM(OFFSET($F$3,MATCH(1,($D$3:$D$24=D17)*($E$3:$E$24="fini"),0)-1,1,COUNTIFS($D$3:$D$24,D17,$E$3:$E$24,"fini"),12))} -> 50
C18: 032340TB G | D18: =MID(C18,1,6) -> 032340 | E18: Brut | F18: 5 | G18: 0 | H18: 0 | I18: 0 | J18: 0 | K18: 0 | L18: 0 | M18: 0 | N18: 0 | O18: 0 | P18: 0 | Q18: 100 | S18: =SUM(OFFSET(FLUX_2016[[#This Row],[SOLDE 2015]],0,1,1,12)) -> 100 | T18: {=IF(FLUX_2016[[#This Row],[ETAT]]="Brut",FLUX_2016[[#This Row],[TOTAL 2016]]+FLUX_2016[[#This Row],[SOLDE 2015]]-SUM(OFFSET($F$3,MATCH(1,(FLUX_2016[REF]=FLUX_2016[[#This Row],[REF]])*(FLUX_2016[ETAT]="fini"),0)-1,1,COUNTIFS(FLUX_2016[REF],FLUX_2016[[#This Row],[REF]],FLUX_2016[ETAT],"fini"),12)),"")} -> 55 | U18: <= JUSTE Ici je trouve bien : (Solde 2015 + Total 2016)-Total "fini" soit 5 + 100 -50= Stock à 55 | W18: {=SUM(OFFSET($F$3,MATCH(1,($D$3:$D$24=D18)*($E$3:$E$24="fini"),0)-1,1,COUNTIFS($D$3:$D$24,D18,$E$3:$E$24,"fini"),12))} -> 50
C19: 032340F0001 | D19: =MID(C19,1,6) -> 032340 | E19: Fini | F19: 0 | G19: 0 | H19: 0 | I19: 0 | J19: 0 | K19: 0 | L19: 0 | M19: 0 | N19: 0 | O19: 0 | P19: 0 | Q19: 0 | R19: 10 | S19: =SUM(OFFSET(FLUX_2016[[#This Row],[SOLDE 2015]],0,1,1,12)) -> 10 | T19: {=IF(FLUX_2016[[#This Row],[ETAT]]="Brut",FLUX_2016[[#This Row],[TOTAL 2016]]+FLUX_2016[[#This Row],[SOLDE 2015]]-SUM(OFFSET($F$3,MATCH(1,(FLUX_2016[REF]=FLUX_2016[[#This Row],[REF]])*(FLUX_2016[ETAT]="fini"),0)-1,1,COUNTIFS(FLUX_2016[REF],FLUX_2016[[#This Row],[REF]],FLUX_2016[ETAT],"fini"),12)),"")} | W19: {=SUM(OFFSET($F$3,MATCH(1,($D$3:$D$24=D19)*($E$3:$E$24="fini"),0)-1,1,COUNTIFS($D$3:$D$24,D19,$E$3:$E$24,"fini"),12))} -> 50
C20: 032340F0002 | D20: =MID(C20,1,6) -> 032340 | E20: Fini | F20: 0 | G20: 0 | H20: 0 | I20: 0 | J20: 0 | K20: 0 | L20: 0 | M20: 0 | N20: 0 | O20: 0 | P20: 0 | Q20: 0 | R20: 10 | S20: =SUM(OFFSET(FLUX_2016[[#This Row],[SOLDE 2015]],0,1,1,12)) -> 10 | T20: {=IF(FLUX_2016[[#This Row],[ETAT]]="Brut",FLUX_2016[[#This Row],[TOTAL 2016]]+FLUX_2016[[#This Row],[SOLDE 2015]]-SUM(OFFSET($F$3,MATCH(1,(FLUX_2016[REF]=FLUX_2016[[#This Row],[REF]])*(FLUX_2016[ETAT]="fini"),0)-1,1,COUNTIFS(FLUX_2016[REF],FLUX_2016[[#This Row],[REF]],FLUX_2016[ETAT],"fini"),12)),"")} | W20: {=SUM(OFFSET($F$3,MATCH(1,($D$3:$D$24=D20)*($E$3:$E$24="fini"),0)-1,1,COUNTIFS($D$3:$D$24,D20,$E$3:$E$24,"fini"),12))} -> 50
C21: 032340F0006 | D21: =MID(C21,1,6) -> 032340 | E21: Fini | F21: 0 | G21: 0 | H21: 0 | I21: 0 | J21: 0 | K21: 0 | L21: 0 | M21: 0 | N21: 0 | O21: 0 | P21: 0 | Q21: 0 | R21: 10 | S21: =SUM(OFFSET(FLUX_2016[[#This Row],[SOLDE 2015]],0,1,1,12)) -> 10 | T21: {=IF(FLUX_2016[[#This Row],[ETAT]]="Brut",FLUX_2016[[#This Row],[TOTAL 2016]]+FLUX_2016[[#This Row],[SOLDE 2015]]-SUM(OFFSET($F$3,MATCH(1,(FLUX_2016[REF]=FLUX_2016[[#This Row],[REF]])*(FLUX_2016[ETAT]="fini"),0)-1,1,COUNTIFS(FLUX_2016[REF],FLUX_2016[[#This Row],[REF]],FLUX_2016[ETAT],"fini"),12)),"")} | W21: {=SUM(OFFSET($F$3,MATCH(1,($D$3:$D$24=D21)*($E$3:$E$24="fini"),0)-1,1,COUNTIFS($D$3:$D$24,D21,$E$3:$E$24,"fini"),12))} -> 50
C22: 032340F0041 | D22: =MID(C22,1,6) -> 032340 | E22: Fini | F22: 0 | G22: 0 | H22: 0 | I22: 0 | J22: 0 | K22: 0 | L22: 0 | M22: 0 | N22: 0 | O22: 0 | P22: 0 | Q22: 0 | R22: 10 | S22: =SUM(OFFSET(FLUX_2016[[#This Row],[SOLDE 2015]],0,1,1,12)) -> 10 | T22: {=IF(FLUX_2016[[#This Row],[ETAT]]="Brut",FLUX_2016[[#This Row],[TOTAL 2016]]+FLUX_2016[[#This Row],[SOLDE 2015]]-SUM(OFFSET($F$3,MATCH(1,(FLUX_2016[REF]=FLUX_2016[[#This Row],[REF]])*(FLUX_2016[ETAT]="fini"),0)-1,1,COUNTIFS(FLUX_2016[REF],FLUX_2016[[#This Row],[REF]],FLUX_2016[ETAT],"fini"),12)),"")} | W22: {=SUM(OFFSET($F$3,MATCH(1,($D$3:$D$24=D22)*($E$3:$E$24="fini"),0)-1,1,COUNTIFS($D$3:$D$24,D22,$E$3:$E$24,"fini"),12))} -> 50
C23: 032340F0051 | D23: =MID(C23,1,6) -> 032340 | E23: Fini | F23: 0 | G23: 0 | H23: 0 | I23: 0 | J23: 0 | K23: 0 | L23: 0 | M23: 0 | N23: 0 | O23: 0 | P23: 0 | Q23: 0 | S23: =SUM(OFFSET(FLUX_2016[[#This Row],[SOLDE 2015]],0,1,1,12)) -> 0 | T23: {=IF(FLUX_2016[[#This Row],[ETAT]]="Brut",FLUX_2016[[#This Row],[TOTAL 2016]]+FLUX_2016[[#This Row],[SOLDE 2015]]-SUM(OFFSET($F$3,MATCH(1,(FLUX_2016[REF]=FLUX_2016[[#This Row],[REF]])*(FLUX_2016[ETAT]="fini"),0)-1,1,COUNTIFS(FLUX_2016[REF],FLUX_2016[[#This Row],[REF]],FLUX_2016[ETAT],"fini"),12)),"")} | W23: {=SUM(OFFSET($F$3,MATCH(1,($D$3:$D$24=D23)*($E$3:$E$24="fini"),0)-1,1,COUNTIFS($D$3:$D$24,D23,$E$3:$E$24,"fini"),12))} -> 50
C24: 032340F0062 | D24: =MID(C24,1,6) -> 032340 | E24: Fini | F24: 0 | G24: 0 | H24: 0 | I24: 0 | J24: 0 | K24: 0 | L24: 0 | M24: 0 | N24: 0 | O24: 0 | P24: 0 | Q24: 0 | R24: 10 | S24: =SUM(OFFSET(FLUX_2016[[#This Row],[SOLDE 2015]],0,1,1,12)) -> 10 | T24: {=IF(FLUX_2016[[#This Row],[ETAT]]="Brut",FLUX_2016[[#This Row],[TOTAL 2016]]+FLUX_2016[[#This Row],[SOLDE 2015]]-SUM(OFFSET($F$3,MATCH(1,(FLUX_2016[REF]=FLUX_2016[[#This Row],[REF]])*(FLUX_2016[ETAT]="fini"),0)-1,1,COUNTIFS(FLUX_2016[REF],FLUX_2016[[#This Row],[REF]],FLUX_2016[ETAT],"fini"),12)),"")} | W24: {=SUM(OFFSET($F$3,MATCH(1,($D$3:$D$24=D24)*($E$3:$E$24="fini"),0)-1,1,COUNTIFS($D$3:$D$24,D24,$E$3:$E$24,"fini"),12))} -> 50
D25: =MID(C25,1,6) | S25: =SUM(OFFSET(FLUX_2016[[#This Row],[SOLDE 2015]],0,1,1,12)) -> 0 | T25: {=IF(FLUX_2016[[#This Row],[ETAT]]="Brut",FLUX_2016[[#This Row],[TOTAL 2016]]+FLUX_2016[[#This Row],[SOLDE 2015]]-SUM(OFFSET($F$3,MATCH(1,(FLUX_2016[REF]=FLUX_2016[[#This Row],[REF]])*(FLUX_2016[ETAT]="fini"),0)-1,1,COUNTIFS(FLUX_2016[REF],FLUX_2016[[#This Row],[REF]],FLUX_2016[ETAT],"fini"),12)),"")}

Sheet STOCK 2016
B2: 2016 STOCK Brut
B3: REF. | C3: DEBUT | D3: BRUT | E3: FINI | F3: STOCK
B4: 032320 | C4: =SUMIFS(DEBUT,REF,$B4,ETAT,STOCK2016[[#Headers],[BRUT]]) -> 230 | D4: =SUMIFS('FLUX 2016'!$S$3:$S$25,'FLUX 2016'!$D$3:$D$25,$B4,'FLUX 2016'!$E$3:$E$25,$D$3) -> 305 | E4: =SUMIFS('FLUX 2016'!$S$3:$S$23,'FLUX 2016'!$D$3:$D$23,$B4,'FLUX 2016'!$E$3:$E$23,$E$3) -> 163 | F4: =C4+D4-E4 -> 372 | H4: =STOCK2016[DEBUT] -> 230 | I4: =STOCK2016[[#This Row],[DEBUT]] -> 230
B5: 032330 | C5: =SUMIFS(DEBUT,REF,$B5,ETAT,STOCK2016[[#Headers],[BRUT]]) -> 110 | D5: =SUMIFS('FLUX 2016'!$S$3:$S$25,'FLUX 2016'!$D$3:$D$25,$B5,'FLUX 2016'!$E$3:$E$25,$D$3) -> 1150 | E5: =SUMIFS('FLUX 2016'!$S$3:$S$25,'FLUX 2016'!$D$3:$D$25,$B5,'FLUX 2016'!$E$3:$E$25,$E$3) -> 523 | F5: =C5+D5-E5 -> 737 | H5: =STOCK2016[DEBUT] -> 110
B6: 032340 | C6: =SUMIFS(DEBUT,REF,$B6,ETAT,STOCK2016[[#Headers],[BRUT]]) -> 75 | D6: =SUMIFS('FLUX 2016'!$S$3:$S$25,'FLUX 2016'!$D$3:$D$25,$B6,'FLUX 2016'!$E$3:$E$25,$D$3) -> 300 | E6: =SUMIFS('FLUX 2016'!$S$3:$S$23,'FLUX 2016'!$D$3:$D$23,$B6,'FLUX 2016'!$E$3:$E$23,$E$3) -> 40 | F6: =C6+D6-E6 -> 335
B7: 145206 | C7: =SUMIFS(DEBUT,REF,$B7,ETAT,STOCK2016[[#Headers],[BRUT]]) -> 0 | D7: =SUMIFS('FLUX 2016'!$S$3:$S$25,'FLUX 2016'!$D$3:$D$25,$B7,'FLUX 2016'!$E$3:$E$25,$D$3) -> 0 | E7: =SUMIFS('FLUX 2016'!$S$3:$S$25,'FLUX 2016'!$D$3:$D$25,$B7,'FLUX 2016'!$E$3:$E$25,$E$3) -> 0 | F7: =C7+D7-E7 -> 0
C8: =SUMIFS(DEBUT,REF,$B8,ETAT,STOCK2016[[#Headers],[BRUT]]) -> 0 | D8: =SUMIFS('FLUX 2016'!$S$3:$S$25,'FLUX 2016'!$D$3:$D$25,$B8,'FLUX 2016'!$E$3:$E$25,$D$3) -> 0 | E8: =SUMIFS('FLUX 2016'!$S$3:$S$25,'FLUX 2016'!$D$3:$D$25,$B8,'FLUX 2016'!$E$3:$E$25,$E$3) -> 0 | F8: =C8+D8-E8 -> 0
