Workbook
Name Ferie: Bdd!$B$3:$B$15

Sheet Janv
A1: Nom - Prénom | C1: 43466
C2: =C1 -> 43466 | D2: =C2+1 -> 43467 | E2: =D2+1 -> 43468 | F2: =E2+1 -> 43469 | G2: =F2+1 -> 43470 | H2: =G2+1 -> 43471 | I2: =H2+1 -> 43472 | J2: =I2+1 -> 43473 | K2: =J2+1 -> 43474 | ... AG2: =AF2+1 -> 43496
C3: =EOMONTH(C1,-1)+1 -> 43466 | D3: =C3+1 -> 43467 | E3: =D3+1 -> 43468 | F3: =E3+1 -> 43469 | G3: =F3+1 -> 43470 | H3: =G3+1 -> 43471 | I3: =H3+1 -> 43472 | J3: =I3+1 -> 43473 | K3: =J3+1 -> 43474 | ... AG3: =AF3+1 -> 43496
C4: =CHOOSE(WEEKDAY(C3),"Di","Lu","Ma","Me","Je","Ve","Sa") -> Ma | D4: =CHOOSE(WEEKDAY(D3),"Di","Lu","Ma","Me","Je","Ve","Sa") -> Me | E4: =CHOOSE(WEEKDAY(E3),"Di","Lu","Ma","Me","Je","Ve","Sa") -> Je | F4: =CHOOSE(WEEKDAY(F3),"Di","Lu","Ma","Me","Je","Ve","Sa") -> Ve | G4: =CHOOSE(WEEKDAY(G3),"Di","Lu","Ma","Me","Je","Ve","Sa") -> Sa | H4: =CHOOSE(WEEKDAY(H3),"Di","Lu","Ma","Me","Je","Ve","Sa") -> Di | I4: =CHOOSE(WEEKDAY(I3),"Di","Lu","Ma","Me","Je","Ve","Sa") -> Lu | J4: =CHOOSE(WEEKDAY(J3),"Di","Lu","Ma","Me","Je","Ve","Sa") -> Ma | ... AG4: =CHOOSE(WEEKDAY(AG3),"Di","Lu","Ma","Me","Je","Ve","Sa") -> Je
A5: Congés scolaires | C5: =IF(OR(AND(C$2>=Bdd!$I$10,C$2<=Bdd!$J$10),AND(C$2>=Bdd!$I$11,C$2<=Bdd!$J$11),AND(C$2>=Bdd!$I$12,C$2<=Bdd!$J$12),AND(C$2>=Bdd!$I$13,C$2<=Bdd!$J$13),AND(C$2>=Bdd!$I$14,C$2<=Bdd!$J$14),AND(C$2>=Bdd!$I$15,C$2<=Bdd!$J$15),AND(C$2>=Bdd!$I$16,C$2<=Bdd!$J$16)),1,"") -> 1 | D5: =IF(OR(AND(D$2>=Bdd!$I$10,D$2<=Bdd!$J$10),AND(D$2>=Bdd!$I$11,D$2<=Bdd!$J$11),AND(D$2>=Bdd!$I$12,D$2<=Bdd!$J$12),AND(D$2>=Bdd!$I$13,D$2<=Bdd!$J$13),AND(D$2>=Bdd!$I$14,D$2<=Bdd!$J$14),AND(D$2>=Bdd!$I$15,D$2<=Bdd!$J$15),AND(D$2>=Bdd!$I$16,D$2<=Bdd!$J$16)),1,"") -> 1 | E5: =IF(OR(AND(E$2>=Bdd!$I$10,E$2<=Bdd!$J$10),AND(E$2>=Bdd!$I$11,E$2<=Bdd!$J$11),AND(E$2>=Bdd!$I$12,E$2<=Bdd!$J$12),AND(E$2>=Bdd!$I$13,E$2<=Bdd!$J$13),AND(E$2>=Bdd!$I$14,E$2<=Bdd!$J$14),AND(E$2>=Bdd!$I$15,E$2<=Bdd!$J$15),AND(E$2>=Bdd!$I$16,E$2<=Bdd!$J$16)),1,"") -> 1 | F5: =IF(OR(AND(F$2>=Bdd!$I$10,F$2<=Bdd!$J$10),AND(F$2>=Bdd!$I$11,F$2<=Bdd!$J$11),AND(F$2>=Bdd!$I$12,F$2<=Bdd!$J$12),AND(F$2>=Bdd!$I$13,F$2<=Bdd!$J$13),AND(F$2>=Bdd!$I$14,F$2<=Bdd!$J$14),AND(F$2>=Bdd!$I$15,F$2<=Bdd!$J$15),AND(F$2>=Bdd!$I$16,F$2<=Bdd!$J$16)),1,"") -> 1 | G5: =IF(OR(AND(G$2>=Bdd!$I$10,G$2<=Bdd!$J$10),AND(G$2>=Bdd!$I$11,G$2<=Bdd!$J$11),AND(G$2>=Bdd!$I$12,G$2<=Bdd!$J$12),AND(G$2>=Bdd!$I$13,G$2<=Bdd!$J$13),AND(G$2>=Bdd!$I$14,G$2<=Bdd!$J$14),AND(G$2>=Bdd!$I$15,G$2<=Bdd!$J$15),AND(G$2>=Bdd!$I$16,G$2<=Bdd!$J$16)),1,"") -> 1 | H5: =IF(OR(AND(H$2>=Bdd!$I$10,H$2<=Bdd!$J$10),AND(H$2>=Bdd!$I$11,H$2<=Bdd!$J$11),AND(H$2>=Bdd!$I$12,H$2<=Bdd!$J$12),AND(H$2>=Bdd!$I$13,H$2<=Bdd!$J$13),AND(H$2>=Bdd!$I$14,H$2<=Bdd!$J$14),AND(H$2>=Bdd!$I$15,H$2<=Bdd!$J$15),AND(H$2>=Bdd!$I$16,H$2<=Bdd!$J$16)),1,"") -> 1 | I5: =IF(OR(AND(I$2>=Bdd!$I$10,I$2<=Bdd!$J$10),AND(I$2>=Bdd!$I$11,I$2<=Bdd!$J$11),AND(I$2>=Bdd!$I$12,I$2<=Bdd!$J$12),AND(I$2>=Bdd!$I$13,I$2<=Bdd!$J$13),AND(I$2>=Bdd!$I$14,I$2<=Bdd!$J$14),AND(I$2>=Bdd!$I$15,I$2<=Bdd!$J$15),AND(I$2>=Bdd!$I$16,I$2<=Bdd!$J$16)),1,"") | J5: =IF(OR(AND(J$2>=Bdd!$I$10,J$2<=Bdd!$J$10),AND(J$2>=Bdd!$I$11,J$2<=Bdd!$J$11),AND(J$2>=Bdd!$I$12,J$2<=Bdd!$J$12),AND(J$2>=Bdd!$I$13,J$2<=Bdd!$J$13),AND(J$2>=Bdd!$I$14,J$2<=Bdd!$J$14),AND(J$2>=Bdd!$I$15,J$2<=Bdd!$J$15),AND(J$2>=Bdd!$I$16,J$2<=Bdd!$J$16)),1,"") | ... AG5: =IF(OR(AND(AG$2>=Bdd!$I$10,AG$2<=Bdd!$J$10),AND(AG$2>=Bdd!$I$11,AG$2<=Bdd!$J$11),AND(AG$2>=Bdd!$I$12,AG$2<=Bdd!$J$12),AND(AG$2>=Bdd!$I$13,AG$2<=Bdd!$J$13),AND(AG$2>=Bdd!$I$14,AG$2<=Bdd!$J$14),AND(AG$2>=Bdd!$I$15,AG$2<=Bdd!$J$15),AND(AG$2>=Bdd!$I$16,AG$2<=Bdd!$J$16)),1,"")
B6: Albert | C6: =IFERROR(INDEX(Tableau2[[Créneau abs]:[Créneau abs]],SUMPRODUCT((Tableau2[[Prénom]:[Prénom]]=Janv!$B6)*(Tableau2[[Jour abs]:[Jour abs]]=Janv!C$4)*({1;2;3}))),"") | D6: =IFERROR(INDEX(Tableau2[[Créneau abs]:[Créneau abs]],SUMPRODUCT((Tableau2[[Prénom]:[Prénom]]=Janv!$B6)*(Tableau2[[Jour abs]:[Jour abs]]=Janv!D$4)*({1;2;3}))),"") | E6: =IFERROR(INDEX(Tableau2[[Créneau abs]:[Créneau abs]],SUMPRODUCT((Tableau2[[Prénom]:[Prénom]]=Janv!$B6)*(Tableau2[[Jour abs]:[Jour abs]]=Janv!E$4)*({1;2;3}))),"") | F6: =IFERROR(INDEX(Tableau2[[Créneau abs]:[Créneau abs]],SUMPRODUCT((Tableau2[[Prénom]:[Prénom]]=Janv!$B6)*(Tableau2[[Jour abs]:[Jour abs]]=Janv!F$4)*({1;2;3}))),"") | G6: =IFERROR(INDEX(Tableau2[[Créneau abs]:[Créneau abs]],SUMPRODUCT((Tableau2[[Prénom]:[Prénom]]=Janv!$B6)*(Tableau2[[Jour abs]:[Jour abs]]=Janv!G$4)*({1;2;3}))),"") | H6: =IFERROR(INDEX(Tableau2[[Créneau abs]:[Créneau abs]],SUMPRODUCT((Tableau2[[Prénom]:[Prénom]]=Janv!$B6)*(Tableau2[[Jour abs]:[Jour abs]]=Janv!H$4)*({1;2;3}))),"") | I6: =IFERROR(INDEX(Tableau2[[Créneau abs]:[Créneau abs]],SUMPRODUCT((Tableau2[[Prénom]:[Prénom]]=Janv!$B6)*(Tableau2[[Jour abs]:[Jour abs]]=Janv!I$4)*({1;2;3}))),"") | J6: =IFERROR(INDEX(Tableau2[[Créneau abs]:[Créneau abs]],SUMPRODUCT((Tableau2[[Prénom]:[Prénom]]=Janv!$B6)*(Tableau2[[Jour abs]:[Jour abs]]=Janv!J$4)*({1;2;3}))),"") | ... AG6: =IFERROR(INDEX(Tableau2[[Créneau abs]:[Créneau abs]],SUMPRODUCT((Tableau2[[Prénom]:[Prénom]]=Janv!$B6)*(Tableau2[[Jour abs]:[Jour abs]]=Janv!AG$4)*({1;2;3}))),"") | AI6: =IFERROR(IF(WEEKDAY(C$3)=4,VLOOKUP($B6,Tableau2[],3,0),IF(WEEKDAY(C$3)=6,VLOOKUP($B6,Tableau2[],3,0),"")),"") | AM6: =IFERROR(IF(OR(WEEKDAY(G$3)=4,WEEKDAY(G$3)=6),VLOOKUP($B6,Tableau2[],3,0),""),"") | AN6: =IFERROR(IF(OR(WEEKDAY(H$3)=4,WEEKDAY($C3)=6),VLOOKUP($B6,Tableau2[],3,0),""),"")
C7: =IFERROR(INDEX(Tableau2[[Créneau abs]:[Créneau abs]],SUMPRODUCT((Tableau2[[Prénom]:[Prénom]]=Janv!$B7)*(Tableau2[[Jour abs]:[Jour abs]]=Janv!C$4)*({1;2;3}))),"") | D7: =IFERROR(INDEX(Tableau2[[Créneau abs]:[Créneau abs]],SUMPRODUCT((Tableau2[[Prénom]:[Prénom]]=Janv!$B7)*(Tableau2[[Jour abs]:[Jour abs]]=Janv!D$4)*({1;2;3}))),"") | E7: =IFERROR(INDEX(Tableau2[[Créneau abs]:[Créneau abs]],SUMPRODUCT((Tableau2[[Prénom]:[Prénom]]=Janv!$B7)*(Tableau2[[Jour abs]:[Jour abs]]=Janv!E$4)*({1;2;3}))),"") | F7: =IFERROR(INDEX(Tableau2[[Créneau abs]:[Créneau abs]],SUMPRODUCT((Tableau2[[Prénom]:[Prénom]]=Janv!$B7)*(Tableau2[[Jour abs]:[Jour abs]]=Janv!F$4)*({1;2;3}))),"") | G7: =IFERROR(INDEX(Tableau2[[Créneau abs]:[Créneau abs]],SUMPRODUCT((Tableau2[[Prénom]:[Prénom]]=Janv!$B7)*(Tableau2[[Jour abs]:[Jour abs]]=Janv!G$4)*({1;2;3}))),"") | H7: =IFERROR(INDEX(Tableau2[[Créneau abs]:[Créneau abs]],SUMPRODUCT((Tableau2[[Prénom]:[Prénom]]=Janv!$B7)*(Tableau2[[Jour abs]:[Jour abs]]=Janv!H$4)*({1;2;3}))),"") | I7: =IFERROR(INDEX(Tableau2[[Créneau abs]:[Créneau abs]],SUMPRODUCT((Tableau2[[Prénom]:[Prénom]]=Janv!$B7)*(Tableau2[[Jour abs]:[Jour abs]]=Janv!I$4)*({1;2;3}))),"") | J7: =IFERROR(INDEX(Tableau2[[Créneau abs]:[Créneau abs]],SUMPRODUCT((Tableau2[[Prénom]:[Prénom]]=Janv!$B7)*(Tableau2[[Jour abs]:[Jour abs]]=Janv!J$4)*({1;2;3}))),"") | ... AG7: =IFERROR(INDEX(Tableau2[[Créneau abs]:[Créneau abs]],SUMPRODUCT((Tableau2[[Prénom]:[Prénom]]=Janv!$B7)*(Tableau2[[Jour abs]:[Jour abs]]=Janv!AG$4)*({1;2;3}))),"") | AM7: =IFERROR(IF(OR(WEEKDAY(G$3)=4,WEEKDAY(G$3)=6),VLOOKUP($B7,Tableau2[],3,0),""),"") | AN7: =IFERROR(IF(OR(WEEKDAY(H$3)=4,WEEKDAY($C4)=6),VLOOKUP($B7,Tableau2[],3,0),""),"")
B8: Sylvie | C8: =IFERROR(INDEX(Tableau2[[Créneau abs]:[Créneau abs]],SUMPRODUCT((Tableau2[[Prénom]:[Prénom]]=Janv!$B8)*(Tableau2[[Jour abs]:[Jour abs]]=Janv!C$4)*({1;2;3}))),"") | D8: =IFERROR(INDEX(Tableau2[[Créneau abs]:[Créneau abs]],SUMPRODUCT((Tableau2[[Prénom]:[Prénom]]=Janv!$B8)*(Tableau2[[Jour abs]:[Jour abs]]=Janv!D$4)*({1;2;3}))),"") -> apm | E8: =IFERROR(INDEX(Tableau2[[Créneau abs]:[Créneau abs]],SUMPRODUCT((Tableau2[[Prénom]:[Prénom]]=Janv!$B8)*(Tableau2[[Jour abs]:[Jour abs]]=Janv!E$4)*({1;2;3}))),"") | F8: =IFERROR(INDEX(Tableau2[[Créneau abs]:[Créneau abs]],SUMPRODUCT((Tableau2[[Prénom]:[Prénom]]=Janv!$B8)*(Tableau2[[Jour abs]:[Jour abs]]=Janv!F$4)*({1;2;3}))),"") | G8: =IFERROR(INDEX(Tableau2[[Créneau abs]:[Créneau abs]],SUMPRODUCT((Tableau2[[Prénom]:[Prénom]]=Janv!$B8)*(Tableau2[[Jour abs]:[Jour abs]]=Janv!G$4)*({1;2;3}))),"") | H8: =IFERROR(INDEX(Tableau2[[Créneau abs]:[Créneau abs]],SUMPRODUCT((Tableau2[[Prénom]:[Prénom]]=Janv!$B8)*(Tableau2[[Jour abs]:[Jour abs]]=Janv!H$4)*({1;2;3}))),"") | I8: =IFERROR(INDEX(Tableau2[[Créneau abs]:[Créneau abs]],SUMPRODUCT((Tableau2[[Prénom]:[Prénom]]=Janv!$B8)*(Tableau2[[Jour abs]:[Jour abs]]=Janv!I$4)*({1;2;3}))),"") | J8: =IFERROR(INDEX(Tableau2[[Créneau abs]:[Créneau abs]],SUMPRODUCT((Tableau2[[Prénom]:[Prénom]]=Janv!$B8)*(Tableau2[[Jour abs]:[Jour abs]]=Janv!J$4)*({1;2;3}))),"") | ... AG8: =IFERROR(INDEX(Tableau2[[Créneau abs]:[Créneau abs]],SUMPRODUCT((Tableau2[[Prénom]:[Prénom]]=Janv!$B8)*(Tableau2[[Jour abs]:[Jour abs]]=Janv!AG$4)*({1;2;3}))),"") | AM8: =IFERROR(IF(OR(WEEKDAY(G$3)=4,WEEKDAY(G$3)=6),VLOOKUP($B8,Tableau2[],3,0),""),"") | AN8: =IFERROR(IF(OR(WEEKDAY(H$3)=4,WEEKDAY($C5)=6),VLOOKUP($B8,Tableau2[],3,0),""),"")
C9: =IFERROR(INDEX(Tableau2[[Créneau abs]:[Créneau abs]],SUMPRODUCT((Tableau2[[Prénom]:[Prénom]]=Janv!$B9)*(Tableau2[[Jour abs]:[Jour abs]]=Janv!C$4)*({1;2;3}))),"") | D9: =IFERROR(INDEX(Tableau2[[Créneau abs]:[Créneau abs]],SUMPRODUCT((Tableau2[[Prénom]:[Prénom]]=Janv!$B9)*(Tableau2[[Jour abs]:[Jour abs]]=Janv!D$4)*({1;2;3}))),"") | E9: =IFERROR(INDEX(Tableau2[[Créneau abs]:[Créneau abs]],SUMPRODUCT((Tableau2[[Prénom]:[Prénom]]=Janv!$B9)*(Tableau2[[Jour abs]:[Jour abs]]=Janv!E$4)*({1;2;3}))),"") | F9: =IFERROR(INDEX(Tableau2[[Créneau abs]:[Créneau abs]],SUMPRODUCT((Tableau2[[Prénom]:[Prénom]]=Janv!$B9)*(Tableau2[[Jour abs]:[Jour abs]]=Janv!F$4)*({1;2;3}))),"") | G9: =IFERROR(INDEX(Tableau2[[Créneau abs]:[Créneau abs]],SUMPRODUCT((Tableau2[[Prénom]:[Prénom]]=Janv!$B9)*(Tableau2[[Jour abs]:[Jour abs]]=Janv!G$4)*({1;2;3}))),"") | H9: =IFERROR(INDEX(Tableau2[[Créneau abs]:[Créneau abs]],SUMPRODUCT((Tableau2[[Prénom]:[Prénom]]=Janv!$B9)*(Tableau2[[Jour abs]:[Jour abs]]=Janv!H$4)*({1;2;3}))),"") | I9: =IFERROR(INDEX(Tableau2[[Créneau abs]:[Créneau abs]],SUMPRODUCT((Tableau2[[Prénom]:[Prénom]]=Janv!$B9)*(Tableau2[[Jour abs]:[Jour abs]]=Janv!I$4)*({1;2;3}))),"") | J9: =IFERROR(INDEX(Tableau2[[Créneau abs]:[Créneau abs]],SUMPRODUCT((Tableau2[[Prénom]:[Prénom]]=Janv!$B9)*(Tableau2[[Jour abs]:[Jour abs]]=Janv!J$4)*({1;2;3}))),"") | ... AG9: =IFERROR(INDEX(Tableau2[[Créneau abs]:[Créneau abs]],SUMPRODUCT((Tableau2[[Prénom]:[Prénom]]=Janv!$B9)*(Tableau2[[Jour abs]:[Jour abs]]=Janv!AG$4)*({1;2;3}))),"") | AM9: =IFERROR(IF(OR(WEEKDAY(G$3)=4,WEEKDAY(G$3)=6),VLOOKUP($B9,Tableau2[],3,0),""),"") | AN9: =IFERROR(IF(OR(WEEKDAY(H$3)=4,WEEKDAY($C6)=6),VLOOKUP($B9,Tableau2[],3,0),""),"")
B10: Suzanne | C10: =IFERROR(INDEX(Tableau2[[Créneau abs]:[Créneau abs]],SUMPRODUCT((Tableau2[[Prénom]:[Prénom]]=Janv!$B10)*(Tableau2[[Jour abs]:[Jour abs]]=Janv!C$4)*({1;2;3}))),"") | D10: =IFERROR(INDEX(Tableau2[[Créneau abs]:[Créneau abs]],SUMPRODUCT((Tableau2[[Prénom]:[Prénom]]=Janv!$B10)*(Tableau2[[Jour abs]:[Jour abs]]=Janv!D$4)*({1;2;3}))),"") | E10: =IFERROR(INDEX(Tableau2[[Créneau abs]:[Créneau abs]],SUMPRODUCT((Tableau2[[Prénom]:[Prénom]]=Janv!$B10)*(Tableau2[[Jour abs]:[Jour abs]]=Janv!E$4)*({1;2;3}))),"") | F10: =IFERROR(INDEX(Tableau2[[Créneau abs]:[Créneau abs]],SUMPRODUCT((Tableau2[[Prénom]:[Prénom]]=Janv!$B10)*(Tableau2[[Jour abs]:[Jour abs]]=Janv!F$4)*({1;2;3}))),"") | G10: =IFERROR(INDEX(Tableau2[[Créneau abs]:[Créneau abs]],SUMPRODUCT((Tableau2[[Prénom]:[Prénom]]=Janv!$B10)*(Tableau2[[Jour abs]:[Jour abs]]=Janv!G$4)*({1;2;3}))),"") | H10: =IFERROR(INDEX(Tableau2[[Créneau abs]:[Créneau abs]],SUMPRODUCT((Tableau2[[Prénom]:[Prénom]]=Janv!$B10)*(Tableau2[[Jour abs]:[Jour abs]]=Janv!H$4)*({1;2;3}))),"") | I10: =IFERROR(INDEX(Tableau2[[Créneau abs]:[Créneau abs]],SUMPRODUCT((Tableau2[[Prénom]:[Prénom]]=Janv!$B10)*(Tableau2[[Jour abs]:[Jour abs]]=Janv!I$4)*({1;2;3}))),"") | J10: =IFERROR(INDEX(Tableau2[[Créneau abs]:[Créneau abs]],SUMPRODUCT((Tableau2[[Prénom]:[Prénom]]=Janv!$B10)*(Tableau2[[Jour abs]:[Jour abs]]=Janv!J$4)*({1;2;3}))),"") | ... AG10: =IFERROR(INDEX(Tableau2[[Créneau abs]:[Créneau abs]],SUMPRODUCT((Tableau2[[Prénom]:[Prénom]]=Janv!$B10)*(Tableau2[[Jour abs]:[Jour abs]]=Janv!AG$4)*({1;2;3}))),"") | AM10: =IFERROR(IF(OR(WEEKDAY(G$3)=4,WEEKDAY(G$3)=6),VLOOKUP($B10,Tableau2[],3,0),""),"") | AN10: =IFERROR(IF(OR(WEEKDAY(H$3)=4,WEEKDAY($C7)=6),VLOOKUP($B10,Tableau2[],3,0),""),"")
C11: =IFERROR(INDEX(Tableau2[[Créneau abs]:[Créneau abs]],SUMPRODUCT((Tableau2[[Prénom]:[Prénom]]=Janv!$B11)*(Tableau2[[Jour abs]:[Jour abs]]=Janv!C$4)*({1;2;3}))),"") | D11: =IFERROR(INDEX(Tableau2[[Créneau abs]:[Créneau abs]],SUMPRODUCT((Tableau2[[Prénom]:[Prénom]]=Janv!$B11)*(Tableau2[[Jour abs]:[Jour abs]]=Janv!D$4)*({1;2;3}))),"") | E11: =IFERROR(INDEX(Tableau2[[Créneau abs]:[Créneau abs]],SUMPRODUCT((Tableau2[[Prénom]:[Prénom]]=Janv!$B11)*(Tableau2[[Jour abs]:[Jour abs]]=Janv!E$4)*({1;2;3}))),"") | F11: =IFERROR(INDEX(Tableau2[[Créneau abs]:[Créneau abs]],SUMPRODUCT((Tableau2[[Prénom]:[Prénom]]=Janv!$B11)*(Tableau2[[Jour abs]:[Jour abs]]=Janv!F$4)*({1;2;3}))),"") | G11: =IFERROR(INDEX(Tableau2[[Créneau abs]:[Créneau abs]],SUMPRODUCT((Tableau2[[Prénom]:[Prénom]]=Janv!$B11)*(Tableau2[[Jour abs]:[Jour abs]]=Janv!G$4)*({1;2;3}))),"") | H11: =IFERROR(INDEX(Tableau2[[Créneau abs]:[Créneau abs]],SUMPRODUCT((Tableau2[[Prénom]:[Prénom]]=Janv!$B11)*(Tableau2[[Jour abs]:[Jour abs]]=Janv!H$4)*({1;2;3}))),"") | I11: =IFERROR(INDEX(Tableau2[[Créneau abs]:[Créneau abs]],SUMPRODUCT((Tableau2[[Prénom]:[Prénom]]=Janv!$B11)*(Tableau2[[Jour abs]:[Jour abs]]=Janv!I$4)*({1;2;3}))),"") | J11: =IFERROR(INDEX(Tableau2[[Créneau abs]:[Créneau abs]],SUMPRODUCT((Tableau2[[Prénom]:[Prénom]]=Janv!$B11)*(Tableau2[[Jour abs]:[Jour abs]]=Janv!J$4)*({1;2;3}))),"") | ... AG11: =IFERROR(INDEX(Tableau2[[Créneau abs]:[Créneau abs]],SUMPRODUCT((Tableau2[[Prénom]:[Prénom]]=Janv!$B11)*(Tableau2[[Jour abs]:[Jour abs]]=Janv!AG$4)*({1;2;3}))),"") | AM11: =IFERROR(IF(OR(WEEKDAY(G$3)=4,WEEKDAY(G$3)=6),VLOOKUP($B11,Tableau2[],3,0),""),"") | AN11: =IFERROR(IF(OR(WEEKDAY(H$3)=4,WEEKDAY($C8)=6),VLOOKUP($B11,Tableau2[],3,0),""),"")
B12: Juliette | C12: =IFERROR(INDEX(Tableau2[[Créneau abs]:[Créneau abs]],SUMPRODUCT((Tableau2[[Prénom]:[Prénom]]=Janv!$B12)*(Tableau2[[Jour abs]:[Jour abs]]=Janv!C$4)*({1;2;3}))),"") | D12: =IFERROR(INDEX(Tableau2[[Créneau abs]:[Créneau abs]],SUMPRODUCT((Tableau2[[Prénom]:[Prénom]]=Janv!$B12)*(Tableau2[[Jour abs]:[Jour abs]]=Janv!D$4)*({1;2;3}))),"") | E12: =IFERROR(INDEX(Tableau2[[Créneau abs]:[Créneau abs]],SUMPRODUCT((Tableau2[[Prénom]:[Prénom]]=Janv!$B12)*(Tableau2[[Jour abs]:[Jour abs]]=Janv!E$4)*({1;2;3}))),"") | F12: =IFERROR(INDEX(Tableau2[[Créneau abs]:[Créneau abs]],SUMPRODUCT((Tableau2[[Prénom]:[Prénom]]=Janv!$B12)*(Tableau2[[Jour abs]:[Jour abs]]=Janv!F$4)*({1;2;3}))),"") -> apm | G12: =IFERROR(INDEX(Tableau2[[Créneau abs]:[Créneau abs]],SUMPRODUCT((Tableau2[[Prénom]:[Prénom]]=Janv!$B12)*(Tableau2[[Jour abs]:[Jour abs]]=Janv!G$4)*({1;2;3}))),"") | H12: =IFERROR(INDEX(Tableau2[[Créneau abs]:[Créneau abs]],SUMPRODUCT((Tableau2[[Prénom]:[Prénom]]=Janv!$B12)*(Tableau2[[Jour abs]:[Jour abs]]=Janv!H$4)*({1;2;3}))),"") | I12: =IFERROR(INDEX(Tableau2[[Créneau abs]:[Créneau abs]],SUMPRODUCT((Tableau2[[Prénom]:[Prénom]]=Janv!$B12)*(Tableau2[[Jour abs]:[Jour abs]]=Janv!I$4)*({1;2;3}))),"") | J12: =IFERROR(INDEX(Tableau2[[Créneau abs]:[Créneau abs]],SUMPRODUCT((Tableau2[[Prénom]:[Prénom]]=Janv!$B12)*(Tableau2[[Jour abs]:[Jour abs]]=Janv!J$4)*({1;2;3}))),"") | ... AG12: =IFERROR(INDEX(Tableau2[[Créneau abs]:[Créneau abs]],SUMPRODUCT((Tableau2[[Prénom]:[Prénom]]=Janv!$B12)*(Tableau2[[Jour abs]:[Jour abs]]=Janv!AG$4)*({1;2;3}))),"") | AM12: =IFERROR(IF(OR(WEEKDAY(G$3)=4,WEEKDAY(G$3)=6),VLOOKUP($B12,Tableau2[],3,0),""),"") | AN12: =IFERROR(IF(OR(WEEKDAY(H$3)=4,WEEKDAY($C9)=6),VLOOKUP($B12,Tableau2[],3,0),""),"")
C13: =IFERROR(INDEX(Tableau2[[Créneau abs]:[Créneau abs]],SUMPRODUCT((Tableau2[[Prénom]:[Prénom]]=Janv!$B13)*(Tableau2[[Jour abs]:[Jour abs]]=Janv!C$4)*({1;2;3}))),"") | D13: =IFERROR(INDEX(Tableau2[[Créneau abs]:[Créneau abs]],SUMPRODUCT((Tableau2[[Prénom]:[Prénom]]=Janv!$B13)*(Tableau2[[Jour abs]:[Jour abs]]=Janv!D$4)*({1;2;3}))),"") | E13: =IFERROR(INDEX(Tableau2[[Créneau abs]:[Créneau abs]],SUMPRODUCT((Tableau2[[Prénom]:[Prénom]]=Janv!$B13)*(Tableau2[[Jour abs]:[Jour abs]]=Janv!E$4)*({1;2;3}))),"") | F13: =IFERROR(INDEX(Tableau2[[Créneau abs]:[Créneau abs]],SUMPRODUCT((Tableau2[[Prénom]:[Prénom]]=Janv!$B13)*(Tableau2[[Jour abs]:[Jour abs]]=Janv!F$4)*({1;2;3}))),"") | G13: =IFERROR(INDEX(Tableau2[[Créneau abs]:[Créneau abs]],SUMPRODUCT((Tableau2[[Prénom]:[Prénom]]=Janv!$B13)*(Tableau2[[Jour abs]:[Jour abs]]=Janv!G$4)*({1;2;3}))),"") | H13: =IFERROR(INDEX(Tableau2[[Créneau abs]:[Créneau abs]],SUMPRODUCT((Tableau2[[Prénom]:[Prénom]]=Janv!$B13)*(Tableau2[[Jour abs]:[Jour abs]]=Janv!H$4)*({1;2;3}))),"") | I13: =IFERROR(INDEX(Tableau2[[Créneau abs]:[Créneau abs]],SUMPRODUCT((Tableau2[[Prénom]:[Prénom]]=Janv!$B13)*(Tableau2[[Jour abs]:[Jour abs]]=Janv!I$4)*({1;2;3}))),"") | J13: =IFERROR(INDEX(Tableau2[[Créneau abs]:[Créneau abs]],SUMPRODUCT((Tableau2[[Prénom]:[Prénom]]=Janv!$B13)*(Tableau2[[Jour abs]:[Jour abs]]=Janv!J$4)*({1;2;3}))),"") | ... AG13: =IFERROR(INDEX(Tableau2[[Créneau abs]:[Créneau abs]],SUMPRODUCT((Tableau2[[Prénom]:[Prénom]]=Janv!$B13)*(Tableau2[[Jour abs]:[Jour abs]]=Janv!AG$4)*({1;2;3}))),"") | AM13: =IFERROR(IF(OR(WEEKDAY(G$3)=4,WEEKDAY(G$3)=6),VLOOKUP($B13,Tableau2[],3,0),""),"") | AN13: =IFERROR(IF(OR(WEEKDAY(H$3)=4,WEEKDAY($C10)=6),VLOOKUP($B13,Tableau2[],3,0),""),"")
B14: Romain | C14: =IFERROR(INDEX(Tableau2[[Créneau abs]:[Créneau abs]],SUMPRODUCT((Tableau2[[Prénom]:[Prénom]]=Janv!$B14)*(Tableau2[[Jour abs]:[Jour abs]]=Janv!C$4)*({1;2;3}))),"") | D14: =IFERROR(INDEX(Tableau2[[Créneau abs]:[Créneau abs]],SUMPRODUCT((Tableau2[[Prénom]:[Prénom]]=Janv!$B14)*(Tableau2[[Jour abs]:[Jour abs]]=Janv!D$4)*({1;2;3}))),"") | E14: =IFERROR(INDEX(Tableau2[[Créneau abs]:[Créneau abs]],SUMPRODUCT((Tableau2[[Prénom]:[Prénom]]=Janv!$B14)*(Tableau2[[Jour abs]:[Jour abs]]=Janv!E$4)*({1;2;3}))),"") | F14: =IFERROR(INDEX(Tableau2[[Créneau abs]:[Créneau abs]],SUMPRODUCT((Tableau2[[Prénom]:[Prénom]]=Janv!$B14)*(Tableau2[[Jour abs]:[Jour abs]]=Janv!F$4)*({1;2;3}))),"") | G14: =IFERROR(INDEX(Tableau2[[Créneau abs]:[Créneau abs]],SUMPRODUCT((Tableau2[[Prénom]:[Prénom]]=Janv!$B14)*(Tableau2[[Jour abs]:[Jour abs]]=Janv!G$4)*({1;2;3}))),"") | H14: =IFERROR(INDEX(Tableau2[[Créneau abs]:[Créneau abs]],SUMPRODUCT((Tableau2[[Prénom]:[Prénom]]=Janv!$B14)*(Tableau2[[Jour abs]:[Jour abs]]=Janv!H$4)*({1;2;3}))),"") | I14: =IFERROR(INDEX(Tableau2[[Créneau abs]:[Créneau abs]],SUMPRODUCT((Tableau2[[Prénom]:[Prénom]]=Janv!$B14)*(Tableau2[[Jour abs]:[Jour abs]]=Janv!I$4)*({1;2;3}))),"") | J14: =IFERROR(INDEX(Tableau2[[Créneau abs]:[Créneau abs]],SUMPRODUCT((Tableau2[[Prénom]:[Prénom]]=Janv!$B14)*(Tableau2[[Jour abs]:[Jour abs]]=Janv!J$4)*({1;2;3}))),"") | ... AG14: =IFERROR(INDEX(Tableau2[[Créneau abs]:[Créneau abs]],SUMPRODUCT((Tableau2[[Prénom]:[Prénom]]=Janv!$B14)*(Tableau2[[Jour abs]:[Jour abs]]=Janv!AG$4)*({1;2;3}))),"") | AM14: =IFERROR(IF(OR(WEEKDAY(G$3)=4,WEEKDAY(G$3)=6),VLOOKUP($B14,Tableau2[],3,0),""),"") | AN14: =IFERROR(IF(OR(WEEKDAY(H$3)=4,WEEKDAY($C11)=6),VLOOKUP($B14,Tableau2[],3,0),""),"")
C15: =IFERROR(INDEX(Tableau2[[Créneau abs]:[Créneau abs]],SUMPRODUCT((Tableau2[[Prénom]:[Prénom]]=Janv!$B15)*(Tableau2[[Jour abs]:[Jour abs]]=Janv!C$4)*({1;2;3}))),"") | D15: =IFERROR(INDEX(Tableau2[[Créneau abs]:[Créneau abs]],SUMPRODUCT((Tableau2[[Prénom]:[Prénom]]=Janv!$B15)*(Tableau2[[Jour abs]:[Jour abs]]=Janv!D$4)*({1;2;3}))),"") | E15: =IFERROR(INDEX(Tableau2[[Créneau abs]:[Créneau abs]],SUMPRODUCT((Tableau2[[Prénom]:[Prénom]]=Janv!$B15)*(Tableau2[[Jour abs]:[Jour abs]]=Janv!E$4)*({1;2;3}))),"") | F15: =IFERROR(INDEX(Tableau2[[Créneau abs]:[Créneau abs]],SUMPRODUCT((Tableau2[[Prénom]:[Prénom]]=Janv!$B15)*(Tableau2[[Jour abs]:[Jour abs]]=Janv!F$4)*({1;2;3}))),"") | G15: =IFERROR(INDEX(Tableau2[[Créneau abs]:[Créneau abs]],SUMPRODUCT((Tableau2[[Prénom]:[Prénom]]=Janv!$B15)*(Tableau2[[Jour abs]:[Jour abs]]=Janv!G$4)*({1;2;3}))),"") | H15: =IFERROR(INDEX(Tableau2[[Créneau abs]:[Créneau abs]],SUMPRODUCT((Tableau2[[Prénom]:[Prénom]]=Janv!$B15)*(Tableau2[[Jour abs]:[Jour abs]]=Janv!H$4)*({1;2;3}))),"") | I15: =IFERROR(INDEX(Tableau2[[Créneau abs]:[Créneau abs]],SUMPRODUCT((Tableau2[[Prénom]:[Prénom]]=Janv!$B15)*(Tableau2[[Jour abs]:[Jour abs]]=Janv!I$4)*({1;2;3}))),"") | J15: =IFERROR(INDEX(Tableau2[[Créneau abs]:[Créneau abs]],SUMPRODUCT((Tableau2[[Prénom]:[Prénom]]=Janv!$B15)*(Tableau2[[Jour abs]:[Jour abs]]=Janv!J$4)*({1;2;3}))),"") | ... AG15: =IFERROR(INDEX(Tableau2[[Créneau abs]:[Créneau abs]],SUMPRODUCT((Tableau2[[Prénom]:[Prénom]]=Janv!$B15)*(Tableau2[[Jour abs]:[Jour abs]]=Janv!AG$4)*({1;2;3}))),"") | AM15: =IFERROR(IF(OR(WEEKDAY(G$3)=4,WEEKDAY(G$3)=6),VLOOKUP($B15,Tableau2[],3,0),""),"") | AN15: =IFERROR(IF(OR(WEEKDAY(H$3)=4,WEEKDAY($C12)=6),VLOOKUP($B15,Tableau2[],3,0),""),"")
B16: Nathalie | C16: =IFERROR(INDEX(Tableau2[[Créneau abs]:[Créneau abs]],SUMPRODUCT((Tableau2[[Prénom]:[Prénom]]=Janv!$B16)*(Tableau2[[Jour abs]:[Jour abs]]=Janv!C$4)*({1;2;3}))),"") | D16: =IFERROR(INDEX(Tableau2[[Créneau abs]:[Créneau abs]],SUMPRODUCT((Tableau2[[Prénom]:[Prénom]]=Janv!$B16)*(Tableau2[[Jour abs]:[Jour abs]]=Janv!D$4)*({1;2;3}))),"") -> jour | E16: =IFERROR(INDEX(Tableau2[[Créneau abs]:[Créneau abs]],SUMPRODUCT((Tableau2[[Prénom]:[Prénom]]=Janv!$B16)*(Tableau2[[Jour abs]:[Jour abs]]=Janv!E$4)*({1;2;3}))),"") | F16: =IFERROR(INDEX(Tableau2[[Créneau abs]:[Créneau abs]],SUMPRODUCT((Tableau2[[Prénom]:[Prénom]]=Janv!$B16)*(Tableau2[[Jour abs]:[Jour abs]]=Janv!F$4)*({1;2;3}))),"") | G16: =IFERROR(INDEX(Tableau2[[Créneau abs]:[Créneau abs]],SUMPRODUCT((Tableau2[[Prénom]:[Prénom]]=Janv!$B16)*(Tableau2[[Jour abs]:[Jour abs]]=Janv!G$4)*({1;2;3}))),"") | H16: =IFERROR(INDEX(Tableau2[[Créneau abs]:[Créneau abs]],SUMPRODUCT((Tableau2[[Prénom]:[Prénom]]=Janv!$B16)*(Tableau2[[Jour abs]:[Jour abs]]=Janv!H$4)*({1;2;3}))),"") | I16: =IFERROR(INDEX(Tableau2[[Créneau abs]:[Créneau abs]],SUMPRODUCT((Tableau2[[Prénom]:[Prénom]]=Janv!$B16)*(Tableau2[[Jour abs]:[Jour abs]]=Janv!I$4)*({1;2;3}))),"") | J16: =IFERROR(INDEX(Tableau2[[Créneau abs]:[Créneau abs]],SUMPRODUCT((Tableau2[[Prénom]:[Prénom]]=Janv!$B16)*(Tableau2[[Jour abs]:[Jour abs]]=Janv!J$4)*({1;2;3}))),"") | ... AG16: =IFERROR(INDEX(Tableau2[[Créneau abs]:[Créneau abs]],SUMPRODUCT((Tableau2[[Prénom]:[Prénom]]=Janv!$B16)*(Tableau2[[Jour abs]:[Jour abs]]=Janv!AG$4)*({1;2;3}))),"") | AM16: =IFERROR(IF(OR(WEEKDAY(G$3)=4,WEEKDAY(G$3)=6),VLOOKUP($B16,Tableau2[],3,0),""),"") | AN16: =IFERROR(IF(OR(WEEKDAY(H$3)=4,WEEKDAY($C13)=6),VLOOKUP($B16,Tableau2[],3,0),""),"")
C17: =IFERROR(INDEX(Tableau2[[Créneau abs]:[Créneau abs]],SUMPRODUCT((Tableau2[[Prénom]:[Prénom]]=Janv!$B17)*(Tableau2[[Jour abs]:[Jour abs]]=Janv!C$4)*({1;2;3}))),"") | D17: =IFERROR(INDEX(Tableau2[[Créneau abs]:[Créneau abs]],SUMPRODUCT((Tableau2[[Prénom]:[Prénom]]=Janv!$B17)*(Tableau2[[Jour abs]:[Jour abs]]=Janv!D$4)*({1;2;3}))),"") | E17: =IFERROR(INDEX(Tableau2[[Créneau abs]:[Créneau abs]],SUMPRODUCT((Tableau2[[Prénom]:[Prénom]]=Janv!$B17)*(Tableau2[[Jour abs]:[Jour abs]]=Janv!E$4)*({1;2;3}))),"") | F17: =IFERROR(INDEX(Tableau2[[Créneau abs]:[Créneau abs]],SUMPRODUCT((Tableau2[[Prénom]:[Prénom]]=Janv!$B17)*(Tableau2[[Jour abs]:[Jour abs]]=Janv!F$4)*({1;2;3}))),"") | G17: =IFERROR(INDEX(Tableau2[[Créneau abs]:[Créneau abs]],SUMPRODUCT((Tableau2[[Prénom]:[Prénom]]=Janv!$B17)*(Tableau2[[Jour abs]:[Jour abs]]=Janv!G$4)*({1;2;3}))),"") | H17: =IFERROR(INDEX(Tableau2[[Créneau abs]:[Créneau abs]],SUMPRODUCT((Tableau2[[Prénom]:[Prénom]]=Janv!$B17)*(Tableau2[[Jour abs]:[Jour abs]]=Janv!H$4)*({1;2;3}))),"") | I17: =IFERROR(INDEX(Tableau2[[Créneau abs]:[Créneau abs]],SUMPRODUCT((Tableau2[[Prénom]:[Prénom]]=Janv!$B17)*(Tableau2[[Jour abs]:[Jour abs]]=Janv!I$4)*({1;2;3}))),"") | J17: =IFERROR(INDEX(Tableau2[[Créneau abs]:[Créneau abs]],SUMPRODUCT((Tableau2[[Prénom]:[Prénom]]=Janv!$B17)*(Tableau2[[Jour abs]:[Jour abs]]=Janv!J$4)*({1;2;3}))),"") | ... AG17: =IFERROR(INDEX(Tableau2[[Créneau abs]:[Créneau abs]],SUMPRODUCT((Tableau2[[Prénom]:[Prénom]]=Janv!$B17)*(Tableau2[[Jour abs]:[Jour abs]]=Janv!AG$4)*({1;2;3}))),"") | AM17: =IFERROR(IF(OR(WEEKDAY(G$3)=4,WEEKDAY(G$3)=6),VLOOKUP($B17,Tableau2[],3,0),""),"") | AN17: =IFERROR(IF(OR(WEEKDAY(H$3)=4,WEEKDAY($C14)=6),VLOOKUP($B17,Tableau2[],3,0),""),"")
B18: Claire | C18: =IFERROR(INDEX(Tableau2[[Créneau abs]:[Créneau abs]],SUMPRODUCT((Tableau2[[Prénom]:[Prénom]]=Janv!$B18)*(Tableau2[[Jour abs]:[Jour abs]]=Janv!C$4)*({1;2;3}))),"") | D18: =IFERROR(INDEX(Tableau2[[Créneau abs]:[Créneau abs]],SUMPRODUCT((Tableau2[[Prénom]:[Prénom]]=Janv!$B18)*(Tableau2[[Jour abs]:[Jour abs]]=Janv!D$4)*({1;2;3}))),"") | E18: =IFERROR(INDEX(Tableau2[[Créneau abs]:[Créneau abs]],SUMPRODUCT((Tableau2[[Prénom]:[Prénom]]=Janv!$B18)*(Tableau2[[Jour abs]:[Jour abs]]=Janv!E$4)*({1;2;3}))),"") | F18: =IFERROR(INDEX(Tableau2[[Créneau abs]:[Créneau abs]],SUMPRODUCT((Tableau2[[Prénom]:[Prénom]]=Janv!$B18)*(Tableau2[[Jour abs]:[Jour abs]]=Janv!F$4)*({1;2;3}))),"") | G18: =IFERROR(INDEX(Tableau2[[Créneau abs]:[Créneau abs]],SUMPRODUCT((Tableau2[[Prénom]:[Prénom]]=Janv!$B18)*(Tableau2[[Jour abs]:[Jour abs]]=Janv!G$4)*({1;2;3}))),"") | H18: =IFERROR(INDEX(Tableau2[[Créneau abs]:[Créneau abs]],SUMPRODUCT((Tableau2[[Prénom]:[Prénom]]=Janv!$B18)*(Tableau2[[Jour abs]:[Jour abs]]=Janv!H$4)*({1;2;3}))),"") | I18: =IFERROR(INDEX(Tableau2[[Créneau abs]:[Créneau abs]],SUMPRODUCT((Tableau2[[Prénom]:[Prénom]]=Janv!$B18)*(Tableau2[[Jour abs]:[Jour abs]]=Janv!I$4)*({1;2;3}))),"") | J18: =IFERROR(INDEX(Tableau2[[Créneau abs]:[Créneau abs]],SUMPRODUCT((Tableau2[[Prénom]:[Prénom]]=Janv!$B18)*(Tableau2[[Jour abs]:[Jour abs]]=Janv!J$4)*({1;2;3}))),"") | ... AG18: =IFERROR(INDEX(Tableau2[[Créneau abs]:[Créneau abs]],SUMPRODUCT((Tableau2[[Prénom]:[Prénom]]=Janv!$B18)*(Tableau2[[Jour abs]:[Jour abs]]=Janv!AG$4)*({1;2;3}))),"") | AI18: =IFERROR(IF(OR(WEEKDAY(C$3)=4,WEEKDAY(C$3)=6),VLOOKUP($B18,Tableau2[],3,0),""),"") | AJ18: =IFERROR(IF(OR(WEEKDAY(D$3)=4,WEEKDAY(D$3)=6),VLOOKUP($B18,Tableau2[],3,0),""),"") | AK18: =IFERROR(IF(OR(WEEKDAY(E$3)=4,WEEKDAY(E$3)=6),VLOOKUP($B18,Tableau2[],3,0),""),"") | AL18: =IFERROR(IF(OR(WEEKDAY(F$3)=4,WEEKDAY(F$3)=6),VLOOKUP($B18,Tableau2[],3,0),""),"") | AM18: =IFERROR(IF(OR(WEEKDAY(G$3)=4,WEEKDAY(G$3)=6),VLOOKUP($B18,Tableau2[],3,0),""),"") | AN18: =IFERROR(IF(OR(WEEKDAY(H$3)=4,WEEKDAY($C15)=6),VLOOKUP($B18,Tableau2[],3,0),""),"")
C19: =IFERROR(INDEX(Tableau2[[Créneau abs]:[Créneau abs]],SUMPRODUCT((Tableau2[[Prénom]:[Prénom]]=Janv!$B19)*(Tableau2[[Jour abs]:[Jour abs]]=Janv!C$4)*({1;2;3}))),"") | D19: =IFERROR(INDEX(Tableau2[[Créneau abs]:[Créneau abs]],SUMPRODUCT((Tableau2[[Prénom]:[Prénom]]=Janv!$B19)*(Tableau2[[Jour abs]:[Jour abs]]=Janv!D$4)*({1;2;3}))),"") | E19: =IFERROR(INDEX(Tableau2[[Créneau abs]:[Créneau abs]],SUMPRODUCT((Tableau2[[Prénom]:[Prénom]]=Janv!$B19)*(Tableau2[[Jour abs]:[Jour abs]]=Janv!E$4)*({1;2;3}))),"") | F19: =IFERROR(INDEX(Tableau2[[Créneau abs]:[Créneau abs]],SUMPRODUCT((Tableau2[[Prénom]:[Prénom]]=Janv!$B19)*(Tableau2[[Jour abs]:[Jour abs]]=Janv!F$4)*({1;2;3}))),"") | G19: =IFERROR(INDEX(Tableau2[[Créneau abs]:[Créneau abs]],SUMPRODUCT((Tableau2[[Prénom]:[Prénom]]=Janv!$B19)*(Tableau2[[Jour abs]:[Jour abs]]=Janv!G$4)*({1;2;3}))),"") | H19: =IFERROR(INDEX(Tableau2[[Créneau abs]:[Créneau abs]],SUMPRODUCT((Tableau2[[Prénom]:[Prénom]]=Janv!$B19)*(Tableau2[[Jour abs]:[Jour abs]]=Janv!H$4)*({1;2;3}))),"") | I19: =IFERROR(INDEX(Tableau2[[Créneau abs]:[Créneau abs]],SUMPRODUCT((Tableau2[[Prénom]:[Prénom]]=Janv!$B19)*(Tableau2[[Jour abs]:[Jour abs]]=Janv!I$4)*({1;2;3}))),"") | J19: =IFERROR(INDEX(Tableau2[[Créneau abs]:[Créneau abs]],SUMPRODUCT((Tableau2[[Prénom]:[Prénom]]=Janv!$B19)*(Tableau2[[Jour abs]:[Jour abs]]=Janv!J$4)*({1;2;3}))),"") | ... AG19: =IFERROR(INDEX(Tableau2[[Créneau abs]:[Créneau abs]],SUMPRODUCT((Tableau2[[Prénom]:[Prénom]]=Janv!$B19)*(Tableau2[[Jour abs]:[Jour abs]]=Janv!AG$4)*({1;2;3}))),"") | AI19: =IFERROR(IF(OR(WEEKDAY(C$3)=4,WEEKDAY(C$3)=6),VLOOKUP($B19,Tableau2[],3,0),""),"") | AJ19: =IFERROR(IF(OR(WEEKDAY(D$3)=4,WEEKDAY(D$3)=6),VLOOKUP($B19,Tableau2[],3,0),""),"") | AK19: =IFERROR(IF(OR(WEEKDAY(E$3)=4,WEEKDAY(E$3)=6),VLOOKUP($B19,Tableau2[],3,0),""),"") | AL19: =IFERROR(IF(OR(WEEKDAY(F$3)=4,WEEKDAY(F$3)=6),VLOOKUP($B19,Tableau2[],3,0),""),"") | AM19: =IFERROR(IF(OR(WEEKDAY(G$3)=4,WEEKDAY(G$3)=6),VLOOKUP($B19,Tableau2[],3,0),""),"") | AN19: =IFERROR(IF(OR(WEEKDAY(H$3)=4,WEEKDAY($C16)=6),VLOOKUP($B19,Tableau2[],3,0),""),"")
B20: LIMOUSIN | C20: =IFERROR(INDEX(Tableau2[[Créneau abs]:[Créneau abs]],SUMPRODUCT((Tableau2[[Prénom]:[Prénom]]=Janv!$B20)*(Tableau2[[Jour abs]:[Jour abs]]=Janv!C$4)*({1;2;3}))),"") | D20: =IFERROR(INDEX(Tableau2[[Créneau abs]:[Créneau abs]],SUMPRODUCT((Tableau2[[Prénom]:[Prénom]]=Janv!$B20)*(Tableau2[[Jour abs]:[Jour abs]]=Janv!D$4)*({1;2;3}))),"") | E20: =IFERROR(INDEX(Tableau2[[Créneau abs]:[Créneau abs]],SUMPRODUCT((Tableau2[[Prénom]:[Prénom]]=Janv!$B20)*(Tableau2[[Jour abs]:[Jour abs]]=Janv!E$4)*({1;2;3}))),"") | F20: =IFERROR(INDEX(Tableau2[[Créneau abs]:[Créneau abs]],SUMPRODUCT((Tableau2[[Prénom]:[Prénom]]=Janv!$B20)*(Tableau2[[Jour abs]:[Jour abs]]=Janv!F$4)*({1;2;3}))),"") | G20: =IFERROR(INDEX(Tableau2[[Créneau abs]:[Créneau abs]],SUMPRODUCT((Tableau2[[Prénom]:[Prénom]]=Janv!$B20)*(Tableau2[[Jour abs]:[Jour abs]]=Janv!G$4)*({1;2;3}))),"") | H20: =IFERROR(INDEX(Tableau2[[Créneau abs]:[Créneau abs]],SUMPRODUCT((Tableau2[[Prénom]:[Prénom]]=Janv!$B20)*(Tableau2[[Jour abs]:[Jour abs]]=Janv!H$4)*({1;2;3}))),"") | I20: =IFERROR(INDEX(Tableau2[[Créneau abs]:[Créneau abs]],SUMPRODUCT((Tableau2[[Prénom]:[Prénom]]=Janv!$B20)*(Tableau2[[Jour abs]:[Jour abs]]=Janv!I$4)*({1;2;3}))),"") | J20: =IFERROR(INDEX(Tableau2[[Créneau abs]:[Créneau abs]],SUMPRODUCT((Tableau2[[Prénom]:[Prénom]]=Janv!$B20)*(Tableau2[[Jour abs]:[Jour abs]]=Janv!J$4)*({1;2;3}))),"") | ... AG20: =IFERROR(INDEX(Tableau2[[Créneau abs]:[Créneau abs]],SUMPRODUCT((Tableau2[[Prénom]:[Prénom]]=Janv!$B20)*(Tableau2[[Jour abs]:[Jour abs]]=Janv!AG$4)*({1;2;3}))),"") | AI20: =IFERROR(IF(OR(WEEKDAY(C$3)=4,WEEKDAY(C$3)=6),VLOOKUP($B20,Tableau2[],3,0),""),"") | AJ20: =IFERROR(IF(OR(WEEKDAY(D$3)=4,WEEKDAY(D$3)=6),VLOOKUP($B20,Tableau2[],3,0),""),"") | AK20: =IFERROR(IF(OR(WEEKDAY(E$3)=4,WEEKDAY(E$3)=6),VLOOKUP($B20,Tableau2[],3,0),""),"") | AL20: =IFERROR(IF(OR(WEEKDAY(F$3)=4,WEEKDAY(F$3)=6),VLOOKUP($B20,Tableau2[],3,0),""),"") | AM20: =IFERROR(IF(OR(WEEKDAY(G$3)=4,WEEKDAY(G$3)=6),VLOOKUP($B20,Tableau2[],3,0),""),"") | AN20: =IFERROR(IF(OR(WEEKDAY(H$3)=4,WEEKDAY($C17)=6),VLOOKUP($B20,Tableau2[],3,0),""),"")
C21: =IFERROR(INDEX(Tableau2[[Créneau abs]:[Créneau abs]],SUMPRODUCT((Tableau2[[Prénom]:[Prénom]]=Janv!$B21)*(Tableau2[[Jour abs]:[Jour abs]]=Janv!C$4)*({1;2;3}))),"") | D21: =IFERROR(INDEX(Tableau2[[Créneau abs]:[Créneau abs]],SUMPRODUCT((Tableau2[[Prénom]:[Prénom]]=Janv!$B21)*(Tableau2[[Jour abs]:[Jour abs]]=Janv!D$4)*({1;2;3}))),"") | E21: =IFERROR(INDEX(Tableau2[[Créneau abs]:[Créneau abs]],SUMPRODUCT((Tableau2[[Prénom]:[Prénom]]=Janv!$B21)*(Tableau2[[Jour abs]:[Jour abs]]=Janv!E$4)*({1;2;3}))),"") | F21: =IFERROR(INDEX(Tableau2[[Créneau abs]:[Créneau abs]],SUMPRODUCT((Tableau2[[Prénom]:[Prénom]]=Janv!$B21)*(Tableau2[[Jour abs]:[Jour abs]]=Janv!F$4)*({1;2;3}))),"") | G21: =IFERROR(INDEX(Tableau2[[Créneau abs]:[Créneau abs]],SUMPRODUCT((Tableau2[[Prénom]:[Prénom]]=Janv!$B21)*(Tableau2[[Jour abs]:[Jour abs]]=Janv!G$4)*({1;2;3}))),"") | H21: =IFERROR(INDEX(Tableau2[[Créneau abs]:[Créneau abs]],SUMPRODUCT((Tableau2[[Prénom]:[Prénom]]=Janv!$B21)*(Tableau2[[Jour abs]:[Jour abs]]=Janv!H$4)*({1;2;3}))),"") | I21: =IFERROR(INDEX(Tableau2[[Créneau abs]:[Créneau abs]],SUMPRODUCT((Tableau2[[Prénom]:[Prénom]]=Janv!$B21)*(Tableau2[[Jour abs]:[Jour abs]]=Janv!I$4)*({1;2;3}))),"") | J21: =IFERROR(INDEX(Tableau2[[Créneau abs]:[Créneau abs]],SUMPRODUCT((Tableau2[[Prénom]:[Prénom]]=Janv!$B21)*(Tableau2[[Jour abs]:[Jour abs]]=Janv!J$4)*({1;2;3}))),"") | ... AG21: =IFERROR(INDEX(Tableau2[[Créneau abs]:[Créneau abs]],SUMPRODUCT((Tableau2[[Prénom]:[Prénom]]=Janv!$B21)*(Tableau2[[Jour abs]:[Jour abs]]=Janv!AG$4)*({1;2;3}))),"") | AI21: =IFERROR(IF(OR(WEEKDAY(C$3)=4,WEEKDAY(C$3)=6),VLOOKUP($B21,Tableau2[],3,0),""),"") | AJ21: =IFERROR(IF(OR(WEEKDAY(D$3)=4,WEEKDAY(D$3)=6),VLOOKUP($B21,Tableau2[],3,0),""),"") | AK21: =IFERROR(IF(OR(WEEKDAY(E$3)=4,WEEKDAY(E$3)=6),VLOOKUP($B21,Tableau2[],3,0),""),"") | AL21: =IFERROR(IF(OR(WEEKDAY(F$3)=4,WEEKDAY(F$3)=6),VLOOKUP($B21,Tableau2[],3,0),""),"") | AM21: =IFERROR(IF(OR(WEEKDAY(G$3)=4,WEEKDAY(G$3)=6),VLOOKUP($B21,Tableau2[],3,0),""),"") | AN21: =IFERROR(IF(OR(WEEKDAY(H$3)=4,WEEKDAY($C18)=6),VLOOKUP($B21,Tableau2[],3,0),""),"")
B22: Maggy | C22: =IFERROR(INDEX(Tableau2[[Créneau abs]:[Créneau abs]],SUMPRODUCT((Tableau2[[Prénom]:[Prénom]]=Janv!$B22)*(Tableau2[[Jour abs]:[Jour abs]]=Janv!C$4)*({1;2;3}))),"") | D22: =IFERROR(INDEX(Tableau2[[Créneau abs]:[Créneau abs]],SUMPRODUCT((Tableau2[[Prénom]:[Prénom]]=Janv!$B22)*(Tableau2[[Jour abs]:[Jour abs]]=Janv!D$4)*({1;2;3}))),"") | E22: =IFERROR(INDEX(Tableau2[[Créneau abs]:[Créneau abs]],SUMPRODUCT((Tableau2[[Prénom]:[Prénom]]=Janv!$B22)*(Tableau2[[Jour abs]:[Jour abs]]=Janv!E$4)*({1;2;3}))),"") | F22: =IFERROR(INDEX(Tableau2[[Créneau abs]:[Créneau abs]],SUMPRODUCT((Tableau2[[Prénom]:[Prénom]]=Janv!$B22)*(Tableau2[[Jour abs]:[Jour abs]]=Janv!F$4)*({1;2;3}))),"") | G22: =IFERROR(INDEX(Tableau2[[Créneau abs]:[Créneau abs]],SUMPRODUCT((Tableau2[[Prénom]:[Prénom]]=Janv!$B22)*(Tableau2[[Jour abs]:[Jour abs]]=Janv!G$4)*({1;2;3}))),"") | H22: =IFERROR(INDEX(Tableau2[[Créneau abs]:[Créneau abs]],SUMPRODUCT((Tableau2[[Prénom]:[Prénom]]=Janv!$B22)*(Tableau2[[Jour abs]:[Jour abs]]=Janv!H$4)*({1;2;3}))),"") | I22: =IFERROR(INDEX(Tableau2[[Créneau abs]:[Créneau abs]],SUMPRODUCT((Tableau2[[Prénom]:[Prénom]]=Janv!$B22)*(Tableau2[[Jour abs]:[Jour abs]]=Janv!I$4)*({1;2;3}))),"") | J22: =IFERROR(INDEX(Tableau2[[Créneau abs]:[Créneau abs]],SUMPRODUCT((Tableau2[[Prénom]:[Prénom]]=Janv!$B22)*(Tableau2[[Jour abs]:[Jour abs]]=Janv!J$4)*({1;2;3}))),"") | ... AG22: =IFERROR(INDEX(Tableau2[[Créneau abs]:[Créneau abs]],SUMPRODUCT((Tableau2[[Prénom]:[Prénom]]=Janv!$B22)*(Tableau2[[Jour abs]:[Jour abs]]=Janv!AG$4)*({1;2;3}))),"") | AI22: =IFERROR(IF(OR(WEEKDAY(C$3)=4,WEEKDAY($C19)=6),VLOOKUP($B22,Tableau2[],3,0),""),"") | AJ22: =IFERROR(IF(OR(WEEKDAY(D$3)=4,WEEKDAY($C19)=6),VLOOKUP($B22,Tableau2[],3,0),""),"") | AK22: =IFERROR(IF(OR(WEEKDAY(E$3)=4,WEEKDAY($C19)=6),VLOOKUP($B22,Tableau2[],3,0),""),"") | AL22: =IFERROR(IF(OR(WEEKDAY(F$3)=4,WEEKDAY($C19)=6),VLOOKUP($B22,Tableau2[],3,0),""),"") | AM22: =IFERROR(IF(OR(WEEKDAY(G$3)=4,WEEKDAY($C19)=6),VLOOKUP($B22,Tableau2[],3,0),""),"") | AN22: =IFERROR(IF(OR(WEEKDAY(H$3)=4,WEEKDAY($C19)=6),VLOOKUP($B22,Tableau2[],3,0),""),"")
C23: =IFERROR(INDEX(Tableau2[[Créneau abs]:[Créneau abs]],SUMPRODUCT((Tableau2[[Prénom]:[Prénom]]=Janv!$B23)*(Tableau2[[Jour abs]:[Jour abs]]=Janv!C$4)*({1;2;3}))),"") | D23: =IFERROR(INDEX(Tableau2[[Créneau abs]:[Créneau abs]],SUMPRODUCT((Tableau2[[Prénom]:[Prénom]]=Janv!$B23)*(Tableau2[[Jour abs]:[Jour abs]]=Janv!D$4)*({1;2;3}))),"") | E23: =IFERROR(INDEX(Tableau2[[Créneau abs]:[Créneau abs]],SUMPRODUCT((Tableau2[[Prénom]:[Prénom]]=Janv!$B23)*(Tableau2[[Jour abs]:[Jour abs]]=Janv!E$4)*({1;2;3}))),"") | F23: =IFERROR(INDEX(Tableau2[[Créneau abs]:[Créneau abs]],SUMPRODUCT((Tableau2[[Prénom]:[Prénom]]=Janv!$B23)*(Tableau2[[Jour abs]:[Jour abs]]=Janv!F$4)*({1;2;3}))),"") | G23: =IFERROR(INDEX(Tableau2[[Créneau abs]:[Créneau abs]],SUMPRODUCT((Tableau2[[Prénom]:[Prénom]]=Janv!$B23)*(Tableau2[[Jour abs]:[Jour abs]]=Janv!G$4)*({1;2;3}))),"") | H23: =IFERROR(INDEX(Tableau2[[Créneau abs]:[Créneau abs]],SUMPRODUCT((Tableau2[[Prénom]:[Prénom]]=Janv!$B23)*(Tableau2[[Jour abs]:[Jour abs]]=Janv!H$4)*({1;2;3}))),"") | I23: =IFERROR(INDEX(Tableau2[[Créneau abs]:[Créneau abs]],SUMPRODUCT((Tableau2[[Prénom]:[Prénom]]=Janv!$B23)*(Tableau2[[Jour abs]:[Jour abs]]=Janv!I$4)*({1;2;3}))),"") | J23: =IFERROR(INDEX(Tableau2[[Créneau abs]:[Créneau abs]],SUMPRODUCT((Tableau2[[Prénom]:[Prénom]]=Janv!$B23)*(Tableau2[[Jour abs]:[Jour abs]]=Janv!J$4)*({1;2;3}))),"") | ... AG23: =IFERROR(INDEX(Tableau2[[Créneau abs]:[Créneau abs]],SUMPRODUCT((Tableau2[[Prénom]:[Prénom]]=Janv!$B23)*(Tableau2[[Jour abs]:[Jour abs]]=Janv!AG$4)*({1;2;3}))),"") | AI23: =IFERROR(IF(OR(WEEKDAY(C$3)=4,WEEKDAY($C20)=6),VLOOKUP($B23,Tableau2[],3,0),""),"") | AJ23: =IFERROR(IF(OR(WEEKDAY(D$3)=4,WEEKDAY($C20)=6),VLOOKUP($B23,Tableau2[],3,0),""),"") | AK23: =IFERROR(IF(OR(WEEKDAY(E$3)=4,WEEKDAY($C20)=6),VLOOKUP($B23,Tableau2[],3,0),""),"") | AL23: =IFERROR(IF(OR(WEEKDAY(F$3)=4,WEEKDAY($C20)=6),VLOOKUP($B23,Tableau2[],3,0),""),"") | AM23: =IFERROR(IF(OR(WEEKDAY(G$3)=4,WEEKDAY($C20)=6),VLOOKUP($B23,Tableau2[],3,0),""),"") | AN23: =IFERROR(IF(OR(WEEKDAY(H$3)=4,WEEKDAY($C20)=6),VLOOKUP($B23,Tableau2[],3,0),""),"")
B24: Laurence | C24: =IFERROR(INDEX(Tableau2[[Créneau abs]:[Créneau abs]],SUMPRODUCT((Tableau2[[Prénom]:[Prénom]]=Janv!$B24)*(Tableau2[[Jour abs]:[Jour abs]]=Janv!C$4)*({1;2;3}))),"") | D24: =IFERROR(INDEX(Tableau2[[Créneau abs]:[Créneau abs]],SUMPRODUCT((Tableau2[[Prénom]:[Prénom]]=Janv!$B24)*(Tableau2[[Jour abs]:[Jour abs]]=Janv!D$4)*({1;2;3}))),"") | E24: =IFERROR(INDEX(Tableau2[[Créneau abs]:[Créneau abs]],SUMPRODUCT((Tableau2[[Prénom]:[Prénom]]=Janv!$B24)*(Tableau2[[Jour abs]:[Jour abs]]=Janv!E$4)*({1;2;3}))),"") | F24: =IFERROR(INDEX(Tableau2[[Créneau abs]:[Créneau abs]],SUMPRODUCT((Tableau2[[Prénom]:[Prénom]]=Janv!$B24)*(Tableau2[[Jour abs]:[Jour abs]]=Janv!F$4)*({1;2;3}))),"") | G24: =IFERROR(INDEX(Tableau2[[Créneau abs]:[Créneau abs]],SUMPRODUCT((Tableau2[[Prénom]:[Prénom]]=Janv!$B24)*(Tableau2[[Jour abs]:[Jour abs]]=Janv!G$4)*({1;2;3}))),"") | H24: =IFERROR(INDEX(Tableau2[[Créneau abs]:[Créneau abs]],SUMPRODUCT((Tableau2[[Prénom]:[Prénom]]=Janv!$B24)*(Tableau2[[Jour abs]:[Jour abs]]=Janv!H$4)*({1;2;3}))),"") | I24: =IFERROR(INDEX(Tableau2[[Créneau abs]:[Créneau abs]],SUMPRODUCT((Tableau2[[Prénom]:[Prénom]]=Janv!$B24)*(Tableau2[[Jour abs]:[Jour abs]]=Janv!I$4)*({1;2;3}))),"") | J24: =IFERROR(INDEX(Tableau2[[Créneau abs]:[Créneau abs]],SUMPRODUCT((Tableau2[[Prénom]:[Prénom]]=Janv!$B24)*(Tableau2[[Jour abs]:[Jour abs]]=Janv!J$4)*({1;2;3}))),"") | ... AG24: =IFERROR(INDEX(Tableau2[[Créneau abs]:[Créneau abs]],SUMPRODUCT((Tableau2[[Prénom]:[Prénom]]=Janv!$B24)*(Tableau2[[Jour abs]:[Jour abs]]=Janv!AG$4)*({1;2;3}))),"") | AI24: =IFERROR(IF(OR(WEEKDAY(C$3)=4,WEEKDAY($C21)=6),VLOOKUP($B24,Tableau2[],3,0),""),"") | AJ24: =IFERROR(IF(OR(WEEKDAY(D$3)=4,WEEKDAY($C21)=6),VLOOKUP($B24,Tableau2[],3,0),""),"") | AK24: =IFERROR(IF(OR(WEEKDAY(E$3)=4,WEEKDAY($C21)=6),VLOOKUP($B24,Tableau2[],3,0),""),"") | AL24: =IFERROR(IF(OR(WEEKDAY(F$3)=4,WEEKDAY($C21)=6),VLOOKUP($B24,Tableau2[],3,0),""),"") | AM24: =IFERROR(IF(OR(WEEKDAY(G$3)=4,WEEKDAY($C21)=6),VLOOKUP($B24,Tableau2[],3,0),""),"") | AN24: =IFERROR(IF(OR(WEEKDAY(H$3)=4,WEEKDAY($C21)=6),VLOOKUP($B24,Tableau2[],3,0),""),"")
C25: =IFERROR(INDEX(Tableau2[[Créneau abs]:[Créneau abs]],SUMPRODUCT((Tableau2[[Prénom]:[Prénom]]=Janv!$B25)*(Tableau2[[Jour abs]:[Jour abs]]=Janv!C$4)*({1;2;3}))),"") | D25: =IFERROR(INDEX(Tableau2[[Créneau abs]:[Créneau abs]],SUMPRODUCT((Tableau2[[Prénom]:[Prénom]]=Janv!$B25)*(Tableau2[[Jour abs]:[Jour abs]]=Janv!D$4)*({1;2;3}))),"") | E25: =IFERROR(INDEX(Tableau2[[Créneau abs]:[Créneau abs]],SUMPRODUCT((Tableau2[[Prénom]:[Prénom]]=Janv!$B25)*(Tableau2[[Jour abs]:[Jour abs]]=Janv!E$4)*({1;2;3}))),"") | F25: =IFERROR(INDEX(Tableau2[[Créneau abs]:[Créneau abs]],SUMPRODUCT((Tableau2[[Prénom]:[Prénom]]=Janv!$B25)*(Tableau2[[Jour abs]:[Jour abs]]=Janv!F$4)*({1;2;3}))),"") | G25: =IFERROR(INDEX(Tableau2[[Créneau abs]:[Créneau abs]],SUMPRODUCT((Tableau2[[Prénom]:[Prénom]]=Janv!$B25)*(Tableau2[[Jour abs]:[Jour abs]]=Janv!G$4)*({1;2;3}))),"") | H25: =IFERROR(INDEX(Tableau2[[Créneau abs]:[Créneau abs]],SUMPRODUCT((Tableau2[[Prénom]:[Prénom]]=Janv!$B25)*(Tableau2[[Jour abs]:[Jour abs]]=Janv!H$4)*({1;2;3}))),"") | I25: =IFERROR(INDEX(Tableau2[[Créneau abs]:[Créneau abs]],SUMPRODUCT((Tableau2[[Prénom]:[Prénom]]=Janv!$B25)*(Tableau2[[Jour abs]:[Jour abs]]=Janv!I$4)*({1;2;3}))),"") | J25: =IFERROR(INDEX(Tableau2[[Créneau abs]:[Créneau abs]],SUMPRODUCT((Tableau2[[Prénom]:[Prénom]]=Janv!$B25)*(Tableau2[[Jour abs]:[Jour abs]]=Janv!J$4)*({1;2;3}))),"") | ... AG25: =IFERROR(INDEX(Tableau2[[Créneau abs]:[Créneau abs]],SUMPRODUCT((Tableau2[[Prénom]:[Prénom]]=Janv!$B25)*(Tableau2[[Jour abs]:[Jour abs]]=Janv!AG$4)*({1;2;3}))),"") | AI25: =IFERROR(IF(OR(WEEKDAY(C$3)=4,WEEKDAY($C22)=6),VLOOKUP($B25,Tableau2[],3,0),""),"") | AJ25: =IFERROR(IF(OR(WEEKDAY(D$3)=4,WEEKDAY($C22)=6),VLOOKUP($B25,Tableau2[],3,0),""),"") | AK25: =IFERROR(IF(OR(WEEKDAY(E$3)=4,WEEKDAY($C22)=6),VLOOKUP($B25,Tableau2[],3,0),""),"") | AL25: =IFERROR(IF(OR(WEEKDAY(F$3)=4,WEEKDAY($C22)=6),VLOOKUP($B25,Tableau2[],3,0),""),"") | AM25: =IFERROR(IF(OR(WEEKDAY(G$3)=4,WEEKDAY($C22)=6),VLOOKUP($B25,Tableau2[],3,0),""),"") | AN25: =IFERROR(IF(OR(WEEKDAY(H$3)=4,WEEKDAY($C22)=6),VLOOKUP($B25,Tableau2[],3,0),""),"")
B26: Olivier | C26: =IFERROR(INDEX(Tableau2[[Créneau abs]:[Créneau abs]],SUMPRODUCT((Tableau2[[Prénom]:[Prénom]]=Janv!$B26)*(Tableau2[[Jour abs]:[Jour abs]]=Janv!C$4)*({1;2;3}))),"") | D26: =IFERROR(INDEX(Tableau2[[Créneau abs]:[Créneau abs]],SUMPRODUCT((Tableau2[[Prénom]:[Prénom]]=Janv!$B26)*(Tableau2[[Jour abs]:[Jour abs]]=Janv!D$4)*({1;2;3}))),"") | E26: =IFERROR(INDEX(Tableau2[[Créneau abs]:[Créneau abs]],SUMPRODUCT((Tableau2[[Prénom]:[Prénom]]=Janv!$B26)*(Tableau2[[Jour abs]:[Jour abs]]=Janv!E$4)*({1;2;3}))),"") | F26: =IFERROR(INDEX(Tableau2[[Créneau abs]:[Créneau abs]],SUMPRODUCT((Tableau2[[Prénom]:[Prénom]]=Janv!$B26)*(Tableau2[[Jour abs]:[Jour abs]]=Janv!F$4)*({1;2;3}))),"") | G26: =IFERROR(INDEX(Tableau2[[Créneau abs]:[Créneau abs]],SUMPRODUCT((Tableau2[[Prénom]:[Prénom]]=Janv!$B26)*(Tableau2[[Jour abs]:[Jour abs]]=Janv!G$4)*({1;2;3}))),"") | H26: =IFERROR(INDEX(Tableau2[[Créneau abs]:[Créneau abs]],SUMPRODUCT((Tableau2[[Prénom]:[Prénom]]=Janv!$B26)*(Tableau2[[Jour abs]:[Jour abs]]=Janv!H$4)*({1;2;3}))),"") | I26: =IFERROR(INDEX(Tableau2[[Créneau abs]:[Créneau abs]],SUMPRODUCT((Tableau2[[Prénom]:[Prénom]]=Janv!$B26)*(Tableau2[[Jour abs]:[Jour abs]]=Janv!I$4)*({1;2;3}))),"") | J26: =IFERROR(INDEX(Tableau2[[Créneau abs]:[Créneau abs]],SUMPRODUCT((Tableau2[[Prénom]:[Prénom]]=Janv!$B26)*(Tableau2[[Jour abs]:[Jour abs]]=Janv!J$4)*({1;2;3}))),"") | ... AG26: =IFERROR(INDEX(Tableau2[[Créneau abs]:[Créneau abs]],SUMPRODUCT((Tableau2[[Prénom]:[Prénom]]=Janv!$B26)*(Tableau2[[Jour abs]:[Jour abs]]=Janv!AG$4)*({1;2;3}))),"") | AI26: =IFERROR(IF(OR(WEEKDAY(C$3)=4,WEEKDAY($C23)=6),VLOOKUP($B26,Tableau2[],2,0),""),"") | AJ26: =IFERROR(IF(OR(WEEKDAY(D$3)=4,WEEKDAY($C23)=6),VLOOKUP($B26,Tableau2[],2,0),""),"") | AK26: =IFERROR(IF(OR(WEEKDAY(E$3)=4,WEEKDAY($C23)=6),VLOOKUP($B26,Tableau2[],2,0),""),"") | AL26: =IFERROR(IF(OR(WEEKDAY(F$3)=4,WEEKDAY($C23)=6),VLOOKUP($B26,Tableau2[],2,0),""),"") | AM26: =IFERROR(IF(OR(WEEKDAY(G$3)=4,WEEKDAY($C23)=6),VLOOKUP($B26,Tableau2[],2,0),""),"") | AN26: =IFERROR(IF(OR(WEEKDAY(H$3)=4,WEEKDAY($C23)=6),VLOOKUP($B26,Tableau2[],2,0),""),"")
C27: =IFERROR(INDEX(Tableau2[[Créneau abs]:[Créneau abs]],SUMPRODUCT((Tableau2[[Prénom]:[Prénom]]=Janv!$B27)*(Tableau2[[Jour abs]:[Jour abs]]=Janv!C$4)*({1;2;3}))),"") | D27: =IFERROR(INDEX(Tableau2[[Créneau abs]:[Créneau abs]],SUMPRODUCT((Tableau2[[Prénom]:[Prénom]]=Janv!$B27)*(Tableau2[[Jour abs]:[Jour abs]]=Janv!D$4)*({1;2;3}))),"") | E27: =IFERROR(INDEX(Tableau2[[Créneau abs]:[Créneau abs]],SUMPRODUCT((Tableau2[[Prénom]:[Prénom]]=Janv!$B27)*(Tableau2[[Jour abs]:[Jour abs]]=Janv!E$4)*({1;2;3}))),"") | F27: =IFERROR(INDEX(Tableau2[[Créneau abs]:[Créneau abs]],SUMPRODUCT((Tableau2[[Prénom]:[Prénom]]=Janv!$B27)*(Tableau2[[Jour abs]:[Jour abs]]=Janv!F$4)*({1;2;3}))),"") | G27: =IFERROR(INDEX(Tableau2[[Créneau abs]:[Créneau abs]],SUMPRODUCT((Tableau2[[Prénom]:[Prénom]]=Janv!$B27)*(Tableau2[[Jour abs]:[Jour abs]]=Janv!G$4)*({1;2;3}))),"") | H27: =IFERROR(INDEX(Tableau2[[Créneau abs]:[Créneau abs]],SUMPRODUCT((Tableau2[[Prénom]:[Prénom]]=Janv!$B27)*(Tableau2[[Jour abs]:[Jour abs]]=Janv!H$4)*({1;2;3}))),"") | I27: =IFERROR(INDEX(Tableau2[[Créneau abs]:[Créneau abs]],SUMPRODUCT((Tableau2[[Prénom]:[Prénom]]=Janv!$B27)*(Tableau2[[Jour abs]:[Jour abs]]=Janv!I$4)*({1;2;3}))),"") | J27: =IFERROR(INDEX(Tableau2[[Créneau abs]:[Créneau abs]],SUMPRODUCT((Tableau2[[Prénom]:[Prénom]]=Janv!$B27)*(Tableau2[[Jour abs]:[Jour abs]]=Janv!J$4)*({1;2;3}))),"") | ... AG27: =IFERROR(INDEX(Tableau2[[Créneau abs]:[Créneau abs]],SUMPRODUCT((Tableau2[[Prénom]:[Prénom]]=Janv!$B27)*(Tableau2[[Jour abs]:[Jour abs]]=Janv!AG$4)*({1;2;3}))),"") | AI27: =IFERROR(IF(OR(WEEKDAY(C$3)=4,WEEKDAY($C24)=6),VLOOKUP($B27,Tableau2[],2,0),""),"") | AJ27: =IFERROR(IF(OR(WEEKDAY(D$3)=4,WEEKDAY($C24)=6),VLOOKUP($B27,Tableau2[],2,0),""),"") | AK27: =IFERROR(IF(OR(WEEKDAY(E$3)=4,WEEKDAY($C24)=6),VLOOKUP($B27,Tableau2[],2,0),""),"") | AL27: =IFERROR(IF(OR(WEEKDAY(F$3)=4,WEEKDAY($C24)=6),VLOOKUP($B27,Tableau2[],2,0),""),"") | AM27: =IFERROR(IF(OR(WEEKDAY(G$3)=4,WEEKDAY($C24)=6),VLOOKUP($B27,Tableau2[],2,0),""),"") | AN27: =IFERROR(IF(OR(WEEKDAY(H$3)=4,WEEKDAY($C24)=6),VLOOKUP($B27,Tableau2[],2,0),""),"")
B28: Claude | C28: =IFERROR(INDEX(Tableau2[[Créneau abs]:[Créneau abs]],SUMPRODUCT((Tableau2[[Prénom]:[Prénom]]=Janv!$B28)*(Tableau2[[Jour abs]:[Jour abs]]=Janv!C$4)*({1;2;3}))),"") | D28: =IFERROR(INDEX(Tableau2[[Créneau abs]:[Créneau abs]],SUMPRODUCT((Tableau2[[Prénom]:[Prénom]]=Janv!$B28)*(Tableau2[[Jour abs]:[Jour abs]]=Janv!D$4)*({1;2;3}))),"") | E28: =IFERROR(INDEX(Tableau2[[Créneau abs]:[Créneau abs]],SUMPRODUCT((Tableau2[[Prénom]:[Prénom]]=Janv!$B28)*(Tableau2[[Jour abs]:[Jour abs]]=Janv!E$4)*({1;2;3}))),"") | F28: =IFERROR(INDEX(Tableau2[[Créneau abs]:[Créneau abs]],SUMPRODUCT((Tableau2[[Prénom]:[Prénom]]=Janv!$B28)*(Tableau2[[Jour abs]:[Jour abs]]=Janv!F$4)*({1;2;3}))),"") | G28: =IFERROR(INDEX(Tableau2[[Créneau abs]:[Créneau abs]],SUMPRODUCT((Tableau2[[Prénom]:[Prénom]]=Janv!$B28)*(Tableau2[[Jour abs]:[Jour abs]]=Janv!G$4)*({1;2;3}))),"") | H28: =IFERROR(INDEX(Tableau2[[Créneau abs]:[Créneau abs]],SUMPRODUCT((Tableau2[[Prénom]:[Prénom]]=Janv!$B28)*(Tableau2[[Jour abs]:[Jour abs]]=Janv!H$4)*({1;2;3}))),"") | I28: =IFERROR(INDEX(Tableau2[[Créneau abs]:[Créneau abs]],SUMPRODUCT((Tableau2[[Prénom]:[Prénom]]=Janv!$B28)*(Tableau2[[Jour abs]:[Jour abs]]=Janv!I$4)*({1;2;3}))),"") | J28: =IFERROR(INDEX(Tableau2[[Créneau abs]:[Créneau abs]],SUMPRODUCT((Tableau2[[Prénom]:[Prénom]]=Janv!$B28)*(Tableau2[[Jour abs]:[Jour abs]]=Janv!J$4)*({1;2;3}))),"") | ... AG28: =IFERROR(INDEX(Tableau2[[Créneau abs]:[Créneau abs]],SUMPRODUCT((Tableau2[[Prénom]:[Prénom]]=Janv!$B28)*(Tableau2[[Jour abs]:[Jour abs]]=Janv!AG$4)*({1;2;3}))),"") | AI28: =IFERROR(IF(OR(WEEKDAY(C$3)=4,WEEKDAY($C25)=6),VLOOKUP($B28,Tableau2[],2,0),""),"") | AJ28: =IFERROR(IF(OR(WEEKDAY(D$3)=4,WEEKDAY($C25)=6),VLOOKUP($B28,Tableau2[],2,0),""),"") | AK28: =IFERROR(IF(OR(WEEKDAY(E$3)=4,WEEKDAY($C25)=6),VLOOKUP($B28,Tableau2[],2,0),""),"") | AL28: =IFERROR(IF(OR(WEEKDAY(F$3)=4,WEEKDAY($C25)=6),VLOOKUP($B28,Tableau2[],2,0),""),"") | AM28: =IFERROR(IF(OR(WEEKDAY(G$3)=4,WEEKDAY($C25)=6),VLOOKUP($B28,Tableau2[],2,0),""),"") | AN28: =IFERROR(IF(OR(WEEKDAY(H$3)=4,WEEKDAY($C25)=6),VLOOKUP($B28,Tableau2[],2,0),""),"")
C29: =IFERROR(INDEX(Tableau2[[Créneau abs]:[Créneau abs]],SUMPRODUCT((Tableau2[[Prénom]:[Prénom]]=Janv!$B29)*(Tableau2[[Jour abs]:[Jour abs]]=Janv!C$4)*({1;2;3}))),"") | D29: =IFERROR(INDEX(Tableau2[[Créneau abs]:[Créneau abs]],SUMPRODUCT((Tableau2[[Prénom]:[Prénom]]=Janv!$B29)*(Tableau2[[Jour abs]:[Jour abs]]=Janv!D$4)*({1;2;3}))),"") | E29: =IFERROR(INDEX(Tableau2[[Créneau abs]:[Créneau abs]],SUMPRODUCT((Tableau2[[Prénom]:[Prénom]]=Janv!$B29)*(Tableau2[[Jour abs]:[Jour abs]]=Janv!E$4)*({1;2;3}))),"") | F29: =IFERROR(INDEX(Tableau2[[Créneau abs]:[Créneau abs]],SUMPRODUCT((Tableau2[[Prénom]:[Prénom]]=Janv!$B29)*(Tableau2[[Jour abs]:[Jour abs]]=Janv!F$4)*({1;2;3}))),"") | G29: =IFERROR(INDEX(Tableau2[[Créneau abs]:[Créneau abs]],SUMPRODUCT((Tableau2[[Prénom]:[Prénom]]=Janv!$B29)*(Tableau2[[Jour abs]:[Jour abs]]=Janv!G$4)*({1;2;3}))),"") | H29: =IFERROR(INDEX(Tableau2[[Créneau abs]:[Créneau abs]],SUMPRODUCT((Tableau2[[Prénom]:[Prénom]]=Janv!$B29)*(Tableau2[[Jour abs]:[Jour abs]]=Janv!H$4)*({1;2;3}))),"") | I29: =IFERROR(INDEX(Tableau2[[Créneau abs]:[Créneau abs]],SUMPRODUCT((Tableau2[[Prénom]:[Prénom]]=Janv!$B29)*(Tableau2[[Jour abs]:[Jour abs]]=Janv!I$4)*({1;2;3}))),"") | J29: =IFERROR(INDEX(Tableau2[[Créneau abs]:[Créneau abs]],SUMPRODUCT((Tableau2[[Prénom]:[Prénom]]=Janv!$B29)*(Tableau2[[Jour abs]:[Jour abs]]=Janv!J$4)*({1;2;3}))),"") | ... AG29: =IFERROR(INDEX(Tableau2[[Créneau abs]:[Créneau abs]],SUMPRODUCT((Tableau2[[Prénom]:[Prénom]]=Janv!$B29)*(Tableau2[[Jour abs]:[Jour abs]]=Janv!AG$4)*({1;2;3}))),"") | AI29: =IFERROR(IF(OR(WEEKDAY(C$3)=4,WEEKDAY($C26)=6),VLOOKUP($B29,Tableau2[],2,0),""),"") | AJ29: =IFERROR(IF(OR(WEEKDAY(D$3)=4,WEEKDAY($C26)=6),VLOOKUP($B29,Tableau2[],2,0),""),"") | AK29: =IFERROR(IF(OR(WEEKDAY(E$3)=4,WEEKDAY($C26)=6),VLOOKUP($B29,Tableau2[],2,0),""),"") | AL29: =IFERROR(IF(OR(WEEKDAY(F$3)=4,WEEKDAY($C26)=6),VLOOKUP($B29,Tableau2[],2,0),""),"") | AM29: =IFERROR(IF(OR(WEEKDAY(G$3)=4,WEEKDAY($C26)=6),VLOOKUP($B29,Tableau2[],2,0),""),"") | AN29: =IFERROR(IF(OR(WEEKDAY(H$3)=4,WEEKDAY($C26)=6),VLOOKUP($B29,Tableau2[],2,0),""),"")
C30: =IFERROR(INDEX(Tableau2[[Créneau abs]:[Créneau abs]],SUMPRODUCT((Tableau2[[Prénom]:[Prénom]]=Janv!$B30)*(Tableau2[[Jour abs]:[Jour abs]]=Janv!C$4)*({1;2;3}))),"") | D30: =IFERROR(INDEX(Tableau2[[Créneau abs]:[Créneau abs]],SUMPRODUCT((Tableau2[[Prénom]:[Prénom]]=Janv!$B30)*(Tableau2[[Jour abs]:[Jour abs]]=Janv!D$4)*({1;2;3}))),"") | E30: =IFERROR(INDEX(Tableau2[[Créneau abs]:[Créneau abs]],SUMPRODUCT((Tableau2[[Prénom]:[Prénom]]=Janv!$B30)*(Tableau2[[Jour abs]:[Jour abs]]=Janv!E$4)*({1;2;3}))),"") | F30: =IFERROR(INDEX(Tableau2[[Créneau abs]:[Créneau abs]],SUMPRODUCT((Tableau2[[Prénom]:[Prénom]]=Janv!$B30)*(Tableau2[[Jour abs]:[Jour abs]]=Janv!F$4)*({1;2;3}))),"") | G30: =IFERROR(INDEX(Tableau2[[Créneau abs]:[Créneau abs]],SUMPRODUCT((Tableau2[[Prénom]:[Prénom]]=Janv!$B30)*(Tableau2[[Jour abs]:[Jour abs]]=Janv!G$4)*({1;2;3}))),"") | H30: =IFERROR(INDEX(Tableau2[[Créneau abs]:[Créneau abs]],SUMPRODUCT((Tableau2[[Prénom]:[Prénom]]=Janv!$B30)*(Tableau2[[Jour abs]:[Jour abs]]=Janv!H$4)*({1;2;3}))),"") | I30: =IFERROR(INDEX(Tableau2[[Créneau abs]:[Créneau abs]],SUMPRODUCT((Tableau2[[Prénom]:[Prénom]]=Janv!$B30)*(Tableau2[[Jour abs]:[Jour abs]]=Janv!I$4)*({1;2;3}))),"") | J30: =IFERROR(INDEX(Tableau2[[Créneau abs]:[Créneau abs]],SUMPRODUCT((Tableau2[[Prénom]:[Prénom]]=Janv!$B30)*(Tableau2[[Jour abs]:[Jour abs]]=Janv!J$4)*({1;2;3}))),"") | ... AG30: =IFERROR(INDEX(Tableau2[[Créneau abs]:[Créneau abs]],SUMPRODUCT((Tableau2[[Prénom]:[Prénom]]=Janv!$B30)*(Tableau2[[Jour abs]:[Jour abs]]=Janv!AG$4)*({1;2;3}))),"") | AI30: =IFERROR(IF(OR(WEEKDAY(C$3)=4,WEEKDAY($C27)=6),VLOOKUP($B30,Tableau2[],2,0),""),"") | AJ30: =IFERROR(IF(OR(WEEKDAY(D$3)=4,WEEKDAY($C27)=6),VLOOKUP($B30,Tableau2[],2,0),""),"") | AK30: =IFERROR(IF(OR(WEEKDAY(E$3)=4,WEEKDAY($C27)=6),VLOOKUP($B30,Tableau2[],2,0),""),"") | AL30: =IFERROR(IF(OR(WEEKDAY(F$3)=4,WEEKDAY($C27)=6),VLOOKUP($B30,Tableau2[],2,0),""),"") | AM30: =IFERROR(IF(OR(WEEKDAY(G$3)=4,WEEKDAY($C27)=6),VLOOKUP($B30,Tableau2[],2,0),""),"") | AN30: =IFERROR(IF(OR(WEEKDAY(H$3)=4,WEEKDAY($C27)=6),VLOOKUP($B30,Tableau2[],2,0),""),"")
C31: =IFERROR(INDEX(Tableau2[[Créneau abs]:[Créneau abs]],SUMPRODUCT((Tableau2[[Prénom]:[Prénom]]=Janv!$B31)*(Tableau2[[Jour abs]:[Jour abs]]=Janv!C$4)*({1;2;3}))),"") | D31: =IFERROR(INDEX(Tableau2[[Créneau abs]:[Créneau abs]],SUMPRODUCT((Tableau2[[Prénom]:[Prénom]]=Janv!$B31)*(Tableau2[[Jour abs]:[Jour abs]]=Janv!D$4)*({1;2;3}))),"") | E31: =IFERROR(INDEX(Tableau2[[Créneau abs]:[Créneau abs]],SUMPRODUCT((Tableau2[[Prénom]:[Prénom]]=Janv!$B31)*(Tableau2[[Jour abs]:[Jour abs]]=Janv!E$4)*({1;2;3}))),"") | F31: =IFERROR(INDEX(Tableau2[[Créneau abs]:[Créneau abs]],SUMPRODUCT((Tableau2[[Prénom]:[Prénom]]=Janv!$B31)*(Tableau2[[Jour abs]:[Jour abs]]=Janv!F$4)*({1;2;3}))),"") | G31: =IFERROR(INDEX(Tableau2[[Créneau abs]:[Créneau abs]],SUMPRODUCT((Tableau2[[Prénom]:[Prénom]]=Janv!$B31)*(Tableau2[[Jour abs]:[Jour abs]]=Janv!G$4)*({1;2;3}))),"") | H31: =IFERROR(INDEX(Tableau2[[Créneau abs]:[Créneau abs]],SUMPRODUCT((Tableau2[[Prénom]:[Prénom]]=Janv!$B31)*(Tableau2[[Jour abs]:[Jour abs]]=Janv!H$4)*({1;2;3}))),"") | I31: =IFERROR(INDEX(Tableau2[[Créneau abs]:[Créneau abs]],SUMPRODUCT((Tableau2[[Prénom]:[Prénom]]=Janv!$B31)*(Tableau2[[Jour abs]:[Jour abs]]=Janv!I$4)*({1;2;3}))),"") | J31: =IFERROR(INDEX(Tableau2[[Créneau abs]:[Créneau abs]],SUMPRODUCT((Tableau2[[Prénom]:[Prénom]]=Janv!$B31)*(Tableau2[[Jour abs]:[Jour abs]]=Janv!J$4)*({1;2;3}))),"") | ... AG31: =IFERROR(INDEX(Tableau2[[Créneau abs]:[Créneau abs]],SUMPRODUCT((Tableau2[[Prénom]:[Prénom]]=Janv!$B31)*(Tableau2[[Jour abs]:[Jour abs]]=Janv!AG$4)*({1;2;3}))),"") | AI31: =IFERROR(IF(OR(WEEKDAY(C$3)=4,WEEKDAY($C28)=6),VLOOKUP($B31,Tableau2[],2,0),""),"") | AJ31: =IFERROR(IF(OR(WEEKDAY(D$3)=4,WEEKDAY($C28)=6),VLOOKUP($B31,Tableau2[],2,0),""),"") | AK31: =IFERROR(IF(OR(WEEKDAY(E$3)=4,WEEKDAY($C28)=6),VLOOKUP($B31,Tableau2[],2,0),""),"") | AL31: =IFERROR(IF(OR(WEEKDAY(F$3)=4,WEEKDAY($C28)=6),VLOOKUP($B31,Tableau2[],2,0),""),"") | AM31: =IFERROR(IF(OR(WEEKDAY(G$3)=4,WEEKDAY($C28)=6),VLOOKUP($B31,Tableau2[],2,0),""),"") | AN31: =IFERROR(IF(OR(WEEKDAY(H$3)=4,WEEKDAY($C28)=6),VLOOKUP($B31,Tableau2[],2,0),""),"")
C32: =IFERROR(INDEX(Tableau2[[Créneau abs]:[Créneau abs]],SUMPRODUCT((Tableau2[[Prénom]:[Prénom]]=Janv!$B32)*(Tableau2[[Jour abs]:[Jour abs]]=Janv!C$4)*({1;2;3}))),"") | D32: =IFERROR(INDEX(Tableau2[[Créneau abs]:[Créneau abs]],SUMPRODUCT((Tableau2[[Prénom]:[Prénom]]=Janv!$B32)*(Tableau2[[Jour abs]:[Jour abs]]=Janv!D$4)*({1;2;3}))),"") | E32: =IFERROR(INDEX(Tableau2[[Créneau abs]:[Créneau abs]],SUMPRODUCT((Tableau2[[Prénom]:[Prénom]]=Janv!$B32)*(Tableau2[[Jour abs]:[Jour abs]]=Janv!E$4)*({1;2;3}))),"") | F32: =IFERROR(INDEX(Tableau2[[Créneau abs]:[Créneau abs]],SUMPRODUCT((Tableau2[[Prénom]:[Prénom]]=Janv!$B32)*(Tableau2[[Jour abs]:[Jour abs]]=Janv!F$4)*({1;2;3}))),"") | G32: =IFERROR(INDEX(Tableau2[[Créneau abs]:[Créneau abs]],SUMPRODUCT((Tableau2[[Prénom]:[Prénom]]=Janv!$B32)*(Tableau2[[Jour abs]:[Jour abs]]=Janv!G$4)*({1;2;3}))),"") | H32: =IFERROR(INDEX(Tableau2[[Créneau abs]:[Créneau abs]],SUMPRODUCT((Tableau2[[Prénom]:[Prénom]]=Janv!$B32)*(Tableau2[[Jour abs]:[Jour abs]]=Janv!H$4)*({1;2;3}))),"") | I32: =IFERROR(INDEX(Tableau2[[Créneau abs]:[Créneau abs]],SUMPRODUCT((Tableau2[[Prénom]:[Prénom]]=Janv!$B32)*(Tableau2[[Jour abs]:[Jour abs]]=Janv!I$4)*({1;2;3}))),"") | J32: =IFERROR(INDEX(Tableau2[[Créneau abs]:[Créneau abs]],SUMPRODUCT((Tableau2[[Prénom]:[Prénom]]=Janv!$B32)*(Tableau2[[Jour abs]:[Jour abs]]=Janv!J$4)*({1;2;3}))),"") | ... AG32: =IFERROR(INDEX(Tableau2[[Créneau abs]:[Créneau abs]],SUMPRODUCT((Tableau2[[Prénom]:[Prénom]]=Janv!$B32)*(Tableau2[[Jour abs]:[Jour abs]]=Janv!AG$4)*({1;2;3}))),"") | AI32: =IFERROR(IF(OR(WEEKDAY(C$3)=4,WEEKDAY($C29)=6),VLOOKUP($B32,Tableau2[],2,0),""),"") | AJ32: =IFERROR(IF(OR(WEEKDAY(D$3)=4,WEEKDAY($C29)=6),VLOOKUP($B32,Tableau2[],2,0),""),"") | AK32: =IFERROR(IF(OR(WEEKDAY(E$3)=4,WEEKDAY($C29)=6),VLOOKUP($B32,Tableau2[],2,0),""),"") | AL32: =IFERROR(IF(OR(WEEKDAY(F$3)=4,WEEKDAY($C29)=6),VLOOKUP($B32,Tableau2[],2,0),""),"") | AM32: =IFERROR(IF(OR(WEEKDAY(G$3)=4,WEEKDAY($C29)=6),VLOOKUP($B32,Tableau2[],2,0),""),"") | AN32: =IFERROR(IF(OR(WEEKDAY(H$3)=4,WEEKDAY($C29)=6),VLOOKUP($B32,Tableau2[],2,0),""),"")
C33: =IFERROR(INDEX(Tableau2[[Créneau abs]:[Créneau abs]],SUMPRODUCT((Tableau2[[Prénom]:[Prénom]]=Janv!$B33)*(Tableau2[[Jour abs]:[Jour abs]]=Janv!C$4)*({1;2;3}))),"") | D33: =IFERROR(INDEX(Tableau2[[Créneau abs]:[Créneau abs]],SUMPRODUCT((Tableau2[[Prénom]:[Prénom]]=Janv!$B33)*(Tableau2[[Jour abs]:[Jour abs]]=Janv!D$4)*({1;2;3}))),"") | E33: =IFERROR(INDEX(Tableau2[[Créneau abs]:[Créneau abs]],SUMPRODUCT((Tableau2[[Prénom]:[Prénom]]=Janv!$B33)*(Tableau2[[Jour abs]:[Jour abs]]=Janv!E$4)*({1;2;3}))),"") | F33: =IFERROR(INDEX(Tableau2[[Créneau abs]:[Créneau abs]],SUMPRODUCT((Tableau2[[Prénom]:[Prénom]]=Janv!$B33)*(Tableau2[[Jour abs]:[Jour abs]]=Janv!F$4)*({1;2;3}))),"") | G33: =IFERROR(INDEX(Tableau2[[Créneau abs]:[Créneau abs]],SUMPRODUCT((Tableau2[[Prénom]:[Prénom]]=Janv!$B33)*(Tableau2[[Jour abs]:[Jour abs]]=Janv!G$4)*({1;2;3}))),"") | H33: =IFERROR(INDEX(Tableau2[[Créneau abs]:[Créneau abs]],SUMPRODUCT((Tableau2[[Prénom]:[Prénom]]=Janv!$B33)*(Tableau2[[Jour abs]:[Jour abs]]=Janv!H$4)*({1;2;3}))),"") | I33: =IFERROR(INDEX(Tableau2[[Créneau abs]:[Créneau abs]],SUMPRODUCT((Tableau2[[Prénom]:[Prénom]]=Janv!$B33)*(Tableau2[[Jour abs]:[Jour abs]]=Janv!I$4)*({1;2;3}))),"") | J33: =IFERROR(INDEX(Tableau2[[Créneau abs]:[Créneau abs]],SUMPRODUCT((Tableau2[[Prénom]:[Prénom]]=Janv!$B33)*(Tableau2[[Jour abs]:[Jour abs]]=Janv!J$4)*({1;2;3}))),"") | ... AG33: =IFERROR(INDEX(Tableau2[[Créneau abs]:[Créneau abs]],SUMPRODUCT((Tableau2[[Prénom]:[Prénom]]=Janv!$B33)*(Tableau2[[Jour abs]:[Jour abs]]=Janv!AG$4)*({1;2;3}))),"") | AI33: =IFERROR(IF(OR(WEEKDAY(C$3)=4,WEEKDAY($C30)=6),VLOOKUP($B33,Tableau2[],2,0),""),"") | AJ33: =IFERROR(IF(OR(WEEKDAY(D$3)=4,WEEKDAY($C30)=6),VLOOKUP($B33,Tableau2[],2,0),""),"") | AK33: =IFERROR(IF(OR(WEEKDAY(E$3)=4,WEEKDAY($C30)=6),VLOOKUP($B33,Tableau2[],2,0),""),"") | AL33: =IFERROR(IF(OR(WEEKDAY(F$3)=4,WEEKDAY($C30)=6),VLOOKUP($B33,Tableau2[],2,0),""),"") | AM33: =IFERROR(IF(OR(WEEKDAY(G$3)=4,WEEKDAY($C30)=6),VLOOKUP($B33,Tableau2[],2,0),""),"") | AN33: =IFERROR(IF(OR(WEEKDAY(H$3)=4,WEEKDAY($C30)=6),VLOOKUP($B33,Tableau2[],2,0),""),"")

Sheet Bdd
A2: Année | B2: 2019 | H2: Prénom | I2: Jour abs | J2: Créneau abs
A3: Jour de l’an | B3: =DATE($B$2,1,1) -> 43466 | H3: Sylvie | I3: Me | J3: apm
A4: Pâques | B4: =FLOOR(DAY(MINUTE($B$2/38)/2+56)&"/5/"&$B$2,7)-34 -> 43576 | H4: Nathalie | I4: Me | J4: jour
A5: Lundi de Pâques | B5: =B4 + 1 -> 43577 | H5: Juliette | I5: Ve | J5: apm
A6: Fête du travail | B6: =DATE($B$2,5,1) -> 43586
A7: Armistice 39/45 | B7: =DATE($B$2,5,8) -> 43593
A8: Ascension | B8: =B4+39 -> 43615
A9: Pentecôte | B9: =B4 + 49 -> 43625 | H9: Congé | I9: Début | J9: Fin
A10: Lundi de Pentecôte | B10: =B4 + 50 -> 43626 | H10: Noel Précédent | I10: 43456 | J10: 43471
A11: Fête Nationale | B11: =DATE($B$2,7,14) -> 43660 | H11: Hiver | I11: 43505 | J11: 43520
A12: Assomption | B12: =DATE($B$2,8,15) -> 43692 | H12: Printemps | I12: 43561 | J12: 43577
A13: Toussaint | B13: =DATE($B$2,11,1) -> 43770 | H13: Ascension | I13: 43614 | J13: 43618
A14: Armistice 14/18 | B14: =DATE($B$2,11,11) -> 43780 | H14: Grandes Vacances | I14: 43652 | J14: 43466
A15: Noël | B15: =DATE($B$2,12,25) -> 43824 | H15: Toussaint | I15: 43757 | J15: 43772
H16: Noel | I16: 43820 | J16: 43835
