Workbook

Sheet variant by description charge
B1: =[1]period!K6 -> 5
A2: Daniel Benoit 2019 | B2: 10987.39
A3: Daniel Benoit 2019-05_18.50 jrs | B3: 9157.5
A4: William Grolo 2019 | B4: 6224
A5: William Grolo2019-05_16 jrs | B5: 0
A6: Alexis Cauvet 2019 | B6: 7830
A7: Alexis Cauvet 2019-05_18 jrs | B7: 0
A8: Amine Halloli 2019 | B8: 4875
A9: Amine Halloli 2019-05_13 jrs | B9: 0
A10: Enrique Rolo 2019 | B10: 7560
A11: Enrique Rolo 2019-05_18 j | B11: 0
A12: Iliasse Hassalan 2019 | B12: 6970

Sheet list
O1: =TODAY() -> 43668 | P1: =CHOOSE(MONTH(O1),"janvier","février","mars","avril","mai","juin","juillet","aout","septembre","octobre","novembre","décembre") -> juillet | Q1: =EOMONTH(O1,0) -> 43677 | R1: =EDATE(S1,-1) -> 43647 | S1: =Q1+1 -> 43678
A2: nature | B2: société | C2: Description charge 1 | H2: mode de paiement | I2: date doc | J2: jour séparant les 2 échéances | K2: date paiement | L2: Paiement | N2: PERIODICITE | AA2: 1 | AB2: 2 | AC2: 3 | AD2: 4 | AE2: 5 | AF2: 6 | AG2: 4 bis | AH2: 8 | AI2: 9 | AJ2: 10 | AK2: 11 | AL2: 12
A3: internet | B3: SAS | C3: 1&1 //Serveur Virtuel 1&1 - Projet TurboPDS (instance serveur virtuel L) 10,99 HT | D3: =IFERROR(INDEX('[1]variant by description charge'!$A$2:$A$12,MATCH("*"&C3&"*",'[1]variant by description charge'!$A$2:$A$12,0)),"") | E3: =IFERROR(INDEX(variant by description [2]charge!$A$2:$A$500,SMALL(IF(IFERROR(SEARCH("*"&list!$C3&"*",variant by description [2]charge!$A$2:$A$500),0),ROW(list!$C$3:$C$19)-2),COLUMNS(list!$A:A))),"") | H3: CB | I3: 14/06 | J3: 42 | K3: =I3+J3 -> 43672 | L3: 28 | M3: =K3 -> 43672 | N3: M | O3: =IF(N3="M",CONCATENATE(LEFT(I3,2),"/","01","/",2019),CONCATENATE(LEFT(I3,5),"/",2019)) -> 14/01/2019 | P3: =IF($N3="M",EDATE(O3,1),IF($N3="BIM",EDATE(O3,2),IF($N3="TRIM",EDATE(O3,3),IF($N3="SEM",EDATE(O3,6),IF($N3="AN",EDATE(O3,12)))))) -> 43510 | Q3: =IF($N3="M",EDATE(P3,1),IF($N3="BIM",EDATE(P3,2),IF($N3="TRIM",EDATE(P3,3),IF($N3="SEM",EDATE(P3,6),IF($N3="AN",EDATE(P3,12)))))) -> 43538 | R3: =IF($N3="M",EDATE(Q3,1),IF($N3="BIM",EDATE(Q3,2),IF($N3="TRIM",EDATE(Q3,3),IF($N3="SEM",EDATE(Q3,6),IF($N3="AN",EDATE(Q3,12)))))) -> 43569 | S3: =IF($N3="M",EDATE(R3,1),IF($N3="BIM",EDATE(R3,2),IF($N3="TRIM",EDATE(R3,3),IF($N3="SEM",EDATE(R3,6),IF($N3="AN",EDATE(R3,12)))))) -> 43599 | T3: =IF($N3="M",EDATE(S3,1),IF($N3="BIM",EDATE(S3,2),IF($N3="TRIM",EDATE(S3,3),IF($N3="SEM",EDATE(S3,6),IF($N3="AN",EDATE(S3,12)))))) -> 43630 | U3: =IF($N3="M",EDATE(T3,1),IF($N3="BIM",EDATE(T3,2),IF($N3="TRIM",EDATE(T3,3),IF($N3="SEM",EDATE(T3,6),IF($N3="AN",EDATE(T3,12)))))) -> 43660 | V3: =IF($N3="M",EDATE(U3,1),IF($N3="BIM",EDATE(U3,2),IF($N3="TRIM",EDATE(U3,3),IF($N3="SEM",EDATE(U3,6),IF($N3="AN",EDATE(U3,12)))))) -> 43691 | W3: =IF($N3="M",EDATE(V3,1),IF($N3="BIM",EDATE(V3,2),IF($N3="TRIM",EDATE(V3,3),IF($N3="SEM",EDATE(V3,6),IF($N3="AN",EDATE(V3,12)))))) -> 43722 | ... Z3: =IF($N3="M",EDATE(Y3,1),IF($N3="BIM",EDATE(Y3,2),IF($N3="TRIM",EDATE(Y3,3),IF($N3="SEM",EDATE(Y3,6),IF($N3="AN",EDATE(Y3,12)))))) -> 43813 | AD3: =SUMPRODUCT(('[1]variant by description charge'!$A$2:$A$12=[1]list!D3:G3)*('[1]variant by description charge'!$B$2:$B$12)) -> 0 | AG3: =SUMPRODUCT((INDIRECT("'"&$AG$2&"'!$d$8:$d$24")=list!$D3:$G3)*(""&INDIRECT("'"&$AG$2&"'!$e$8:$e$24"))) -> 0
A4: internet | B4: SAS | C4: 1 ET 1_C323935xx | D4: =IFERROR(INDEX('[1]variant by description charge'!$A$2:$A$12,MATCH("*"&C4&"*",'[1]variant by description charge'!$A$2:$A$12,0)),"") | E4: =IFERROR(INDEX('variant by description charge'!$A$2:$A$500,SMALL(IF(IFERROR(SEARCH("*"&list!$C4&"*",'variant by description charge'!$A$2:$A$500),0),ROW(list!$C$3:$C$19)-2),COLUMNS(list!$A:A))),"") -> William Grolo 2019 | H4: CB | I4: 14/08 | K4: =I4+J4 -> 43691 | M4: =K4 -> 43691 | N4: M | O4: =IF(N4="M",CONCATENATE(LEFT(I4,2),"/","01","/",2019),CONCATENATE(LEFT(I4,5),"/",2019)) -> 14/01/2019 | P4: =IF($N4="M",EDATE(O4,1),IF($N4="BIM",EDATE(O4,2),IF($N4="TRIM",EDATE(O4,3),IF($N4="SEM",EDATE(O4,6),IF($N4="AN",EDATE(O4,12)))))) -> 43510 | Q4: =IF($N4="M",EDATE(P4,1),IF($N4="BIM",EDATE(P4,2),IF($N4="TRIM",EDATE(P4,3),IF($N4="SEM",EDATE(P4,6),IF($N4="AN",EDATE(P4,12)))))) -> 43538 | R4: =IF($N4="M",EDATE(Q4,1),IF($N4="BIM",EDATE(Q4,2),IF($N4="TRIM",EDATE(Q4,3),IF($N4="SEM",EDATE(Q4,6),IF($N4="AN",EDATE(Q4,12)))))) -> 43569 | S4: =IF($N4="M",EDATE(R4,1),IF($N4="BIM",EDATE(R4,2),IF($N4="TRIM",EDATE(R4,3),IF($N4="SEM",EDATE(R4,6),IF($N4="AN",EDATE(R4,12)))))) -> 43599 | T4: =IF($N4="M",EDATE(S4,1),IF($N4="BIM",EDATE(S4,2),IF($N4="TRIM",EDATE(S4,3),IF($N4="SEM",EDATE(S4,6),IF($N4="AN",EDATE(S4,12)))))) -> 43630 | U4: =IF($N4="M",EDATE(T4,1),IF($N4="BIM",EDATE(T4,2),IF($N4="TRIM",EDATE(T4,3),IF($N4="SEM",EDATE(T4,6),IF($N4="AN",EDATE(T4,12)))))) -> 43660 | V4: =IF($N4="M",EDATE(U4,1),IF($N4="BIM",EDATE(U4,2),IF($N4="TRIM",EDATE(U4,3),IF($N4="SEM",EDATE(U4,6),IF($N4="AN",EDATE(U4,12)))))) -> 43691 | W4: =IF($N4="M",EDATE(V4,1),IF($N4="BIM",EDATE(V4,2),IF($N4="TRIM",EDATE(V4,3),IF($N4="SEM",EDATE(V4,6),IF($N4="AN",EDATE(V4,12)))))) -> 43722 | ... Z4: =IF($N4="M",EDATE(Y4,1),IF($N4="BIM",EDATE(Y4,2),IF($N4="TRIM",EDATE(Y4,3),IF($N4="SEM",EDATE(Y4,6),IF($N4="AN",EDATE(Y4,12)))))) -> 43813 | AD4: =SUMPRODUCT(('[1]variant by description charge'!$A$2:$A$12=[1]list!D4:G4)*('[1]variant by description charge'!$B$2:$B$12)) -> 0 | AG4: =SUMPRODUCT((INDIRECT("'"&$AG$2&"'!$d$8:$d$24")=list!$D4:$G4)*(""&INDIRECT("'"&$AG$2&"'!$e$8:$e$24"))) -> 8169
A5: internet | B5: SAS | C5: 1 ET 1_C3239xx6 | D5: =IFERROR(INDEX('[1]variant by description charge'!$A$2:$A$12,MATCH("*"&C5&"*",'[1]variant by description charge'!$A$2:$A$12,0)),"") | E5: =IFERROR(INDEX('variant by description charge'!$A$2:$A$500,SMALL(IF(IFERROR(SEARCH("*"&list!$C5&"*",'variant by description charge'!$A$2:$A$500),0),ROW(list!$C$3:$C$19)-2),COLUMNS(list!$A:A))),"") -> William Grolo2019-05_16 jrs | H5: CB | I5: 14/08 | J5: 42 | K5: =I5+J5 -> 43733 | L5: 28 | M5: =K5 -> 43733 | N5: M | O5: =IF(N5="M",CONCATENATE(LEFT(I5,2),"/","01","/",2019),CONCATENATE(LEFT(I5,5),"/",2019)) -> 14/01/2019 | P5: =IF($N5="M",EDATE(O5,1),IF($N5="BIM",EDATE(O5,2),IF($N5="TRIM",EDATE(O5,3),IF($N5="SEM",EDATE(O5,6),IF($N5="AN",EDATE(O5,12)))))) -> 43510 | Q5: =IF($N5="M",EDATE(P5,1),IF($N5="BIM",EDATE(P5,2),IF($N5="TRIM",EDATE(P5,3),IF($N5="SEM",EDATE(P5,6),IF($N5="AN",EDATE(P5,12)))))) -> 43538 | R5: =IF($N5="M",EDATE(Q5,1),IF($N5="BIM",EDATE(Q5,2),IF($N5="TRIM",EDATE(Q5,3),IF($N5="SEM",EDATE(Q5,6),IF($N5="AN",EDATE(Q5,12)))))) -> 43569 | S5: =IF($N5="M",EDATE(R5,1),IF($N5="BIM",EDATE(R5,2),IF($N5="TRIM",EDATE(R5,3),IF($N5="SEM",EDATE(R5,6),IF($N5="AN",EDATE(R5,12)))))) -> 43599 | T5: =IF($N5="M",EDATE(S5,1),IF($N5="BIM",EDATE(S5,2),IF($N5="TRIM",EDATE(S5,3),IF($N5="SEM",EDATE(S5,6),IF($N5="AN",EDATE(S5,12)))))) -> 43630 | U5: =IF($N5="M",EDATE(T5,1),IF($N5="BIM",EDATE(T5,2),IF($N5="TRIM",EDATE(T5,3),IF($N5="SEM",EDATE(T5,6),IF($N5="AN",EDATE(T5,12)))))) -> 43660 | V5: =IF($N5="M",EDATE(U5,1),IF($N5="BIM",EDATE(U5,2),IF($N5="TRIM",EDATE(U5,3),IF($N5="SEM",EDATE(U5,6),IF($N5="AN",EDATE(U5,12)))))) -> 43691 | W5: =IF($N5="M",EDATE(V5,1),IF($N5="BIM",EDATE(V5,2),IF($N5="TRIM",EDATE(V5,3),IF($N5="SEM",EDATE(V5,6),IF($N5="AN",EDATE(V5,12)))))) -> 43722 | ... Z5: =IF($N5="M",EDATE(Y5,1),IF($N5="BIM",EDATE(Y5,2),IF($N5="TRIM",EDATE(Y5,3),IF($N5="SEM",EDATE(Y5,6),IF($N5="AN",EDATE(Y5,12)))))) -> 43813 | AD5: =SUMPRODUCT(('[1]variant by description charge'!$A$2:$A$12=[1]list!D5:G5)*('[1]variant by description charge'!$B$2:$B$12)) -> 0 | AG5: =SUMPRODUCT((INDIRECT("'"&$AG$2&"'!$d$8:$d$24")=list!$D5:$G5)*(""&INDIRECT("'"&$AG$2&"'!$e$8:$e$24"))) -> 0
A6: internet | B6: SAS | C6: 1 ET 1_abt forum inT | D6: =IFERROR(INDEX('[1]variant by description charge'!$A$2:$A$12,MATCH("*"&C6&"*",'[1]variant by description charge'!$A$2:$A$12,0)),"") | E6: =IFERROR(INDEX('variant by description charge'!$A$2:$A$500,SMALL(IF(IFERROR(SEARCH("*"&list!$C6&"*",'variant by description charge'!$A$2:$A$500),0),ROW(list!$C$3:$C$19)-2),COLUMNS(list!$A:A))),"") -> Alexis Cauvet 2019 | H6: CB | I6: 04/05 | J6: 42 | K6: =I6+J6 -> 43631 | L6: 28 | M6: =K6 -> 43631 | N6: M | O6: =IF(N6="M",CONCATENATE(LEFT(I6,2),"/","01","/",2019),CONCATENATE(LEFT(I6,5),"/",2019)) -> 04/01/2019 | P6: =IF($N6="M",EDATE(O6,1),IF($N6="BIM",EDATE(O6,2),IF($N6="TRIM",EDATE(O6,3),IF($N6="SEM",EDATE(O6,6),IF($N6="AN",EDATE(O6,12)))))) -> 43500 | Q6: =IF($N6="M",EDATE(P6,1),IF($N6="BIM",EDATE(P6,2),IF($N6="TRIM",EDATE(P6,3),IF($N6="SEM",EDATE(P6,6),IF($N6="AN",EDATE(P6,12)))))) -> 43528 | R6: =IF($N6="M",EDATE(Q6,1),IF($N6="BIM",EDATE(Q6,2),IF($N6="TRIM",EDATE(Q6,3),IF($N6="SEM",EDATE(Q6,6),IF($N6="AN",EDATE(Q6,12)))))) -> 43559 | S6: =IF($N6="M",EDATE(R6,1),IF($N6="BIM",EDATE(R6,2),IF($N6="TRIM",EDATE(R6,3),IF($N6="SEM",EDATE(R6,6),IF($N6="AN",EDATE(R6,12)))))) -> 43589 | T6: =IF($N6="M",EDATE(S6,1),IF($N6="BIM",EDATE(S6,2),IF($N6="TRIM",EDATE(S6,3),IF($N6="SEM",EDATE(S6,6),IF($N6="AN",EDATE(S6,12)))))) -> 43620 | U6: =IF($N6="M",EDATE(T6,1),IF($N6="BIM",EDATE(T6,2),IF($N6="TRIM",EDATE(T6,3),IF($N6="SEM",EDATE(T6,6),IF($N6="AN",EDATE(T6,12)))))) -> 43650 | V6: =IF($N6="M",EDATE(U6,1),IF($N6="BIM",EDATE(U6,2),IF($N6="TRIM",EDATE(U6,3),IF($N6="SEM",EDATE(U6,6),IF($N6="AN",EDATE(U6,12)))))) -> 43681 | W6: =IF($N6="M",EDATE(V6,1),IF($N6="BIM",EDATE(V6,2),IF($N6="TRIM",EDATE(V6,3),IF($N6="SEM",EDATE(V6,6),IF($N6="AN",EDATE(V6,12)))))) -> 43712 | ... Z6: =IF($N6="M",EDATE(Y6,1),IF($N6="BIM",EDATE(Y6,2),IF($N6="TRIM",EDATE(Y6,3),IF($N6="SEM",EDATE(Y6,6),IF($N6="AN",EDATE(Y6,12)))))) -> 43803 | AD6: =SUMPRODUCT(('[1]variant by description charge'!$A$2:$A$12=[1]list!D6:G6)*('[1]variant by description charge'!$B$2:$B$12)) -> 0 | AG6: =SUMPRODUCT((INDIRECT("'"&$AG$2&"'!$d$8:$d$24")=list!$D6:$G6)*(""&INDIRECT("'"&$AG$2&"'!$e$8:$e$24"))) -> 9135
A7: internet | B7: SAS | C7: Navigator | D7: =IFERROR(INDEX('[1]variant by description charge'!$A$2:$A$12,MATCH("*"&C7&"*",'[1]variant by description charge'!$A$2:$A$12,0)),"") | E7: =IFERROR(INDEX('variant by description charge'!$A$2:$A$500,SMALL(IF(IFERROR(SEARCH("*"&list!$C7&"*",'variant by description charge'!$A$2:$A$500),0),ROW(list!$C$3:$C$19)-2),COLUMNS(list!$A:A))),"") -> Alexis Cauvet 2019-05_18 jrs | H7: CB | I7: 01/06 | J7: 42 | K7: =I7+J7 -> 43659 | L7: 28 | M7: =K7 -> 43659 | N7: M | O7: =IF(N7="M",CONCATENATE(LEFT(I7,2),"/","01","/",2019),CONCATENATE(LEFT(I7,5),"/",2019)) -> 01/01/2019 | P7: =IF($N7="M",EDATE(O7,1),IF($N7="BIM",EDATE(O7,2),IF($N7="TRIM",EDATE(O7,3),IF($N7="SEM",EDATE(O7,6),IF($N7="AN",EDATE(O7,12)))))) -> 43497 | Q7: =IF($N7="M",EDATE(P7,1),IF($N7="BIM",EDATE(P7,2),IF($N7="TRIM",EDATE(P7,3),IF($N7="SEM",EDATE(P7,6),IF($N7="AN",EDATE(P7,12)))))) -> 43525 | R7: =IF($N7="M",EDATE(Q7,1),IF($N7="BIM",EDATE(Q7,2),IF($N7="TRIM",EDATE(Q7,3),IF($N7="SEM",EDATE(Q7,6),IF($N7="AN",EDATE(Q7,12)))))) -> 43556 | S7: =IF($N7="M",EDATE(R7,1),IF($N7="BIM",EDATE(R7,2),IF($N7="TRIM",EDATE(R7,3),IF($N7="SEM",EDATE(R7,6),IF($N7="AN",EDATE(R7,12)))))) -> 43586 | T7: =IF($N7="M",EDATE(S7,1),IF($N7="BIM",EDATE(S7,2),IF($N7="TRIM",EDATE(S7,3),IF($N7="SEM",EDATE(S7,6),IF($N7="AN",EDATE(S7,12)))))) -> 43617 | U7: =IF($N7="M",EDATE(T7,1),IF($N7="BIM",EDATE(T7,2),IF($N7="TRIM",EDATE(T7,3),IF($N7="SEM",EDATE(T7,6),IF($N7="AN",EDATE(T7,12)))))) -> 43647 | V7: =IF($N7="M",EDATE(U7,1),IF($N7="BIM",EDATE(U7,2),IF($N7="TRIM",EDATE(U7,3),IF($N7="SEM",EDATE(U7,6),IF($N7="AN",EDATE(U7,12)))))) -> 43678 | W7: =IF($N7="M",EDATE(V7,1),IF($N7="BIM",EDATE(V7,2),IF($N7="TRIM",EDATE(V7,3),IF($N7="SEM",EDATE(V7,6),IF($N7="AN",EDATE(V7,12)))))) -> 43709 | ... Z7: =IF($N7="M",EDATE(Y7,1),IF($N7="BIM",EDATE(Y7,2),IF($N7="TRIM",EDATE(Y7,3),IF($N7="SEM",EDATE(Y7,6),IF($N7="AN",EDATE(Y7,12)))))) -> 43800 | AD7: =SUMPRODUCT(('[1]variant by description charge'!$A$2:$A$12=[1]list!D7:G7)*('[1]variant by description charge'!$B$2:$B$12)) -> 0 | AG7: =SUMPRODUCT((INDIRECT("'"&$AG$2&"'!$d$8:$d$24")=list!$D7:$G7)*(""&INDIRECT("'"&$AG$2&"'!$e$8:$e$24"))) -> 0
A8: assurance europe | B8: SAS | C8: hassalan | D8: =IFERROR(INDEX('[1]variant by description charge'!$A$2:$A$12,MATCH("*"&C8&"*",'[1]variant by description charge'!$A$2:$A$12,0)),"") -> Iliasse Hassalan 2019 | E8: =IFERROR(INDEX('variant by description charge'!$A$2:$A$500,SMALL(IF(IFERROR(SEARCH("*"&list!$C8&"*",'variant by description charge'!$A$2:$A$500),0),ROW(list!$C$3:$C$19)-2),COLUMNS(list!$A:A))),"") -> Amine Halloli 2019 | H8: VIRT | I8: 10/08 | K8: =I8+J8 -> 43687 | M8: =K8 -> 43687 | N8: AN | O8: =IF(N8="M",CONCATENATE(LEFT(I8,2),"/","01","/",2019),CONCATENATE(LEFT(I8,5),"/",2019)) -> 10/08/2019 | P8: =IF($N8="M",EDATE(O8,1),IF($N8="BIM",EDATE(O8,2),IF($N8="TRIM",EDATE(O8,3),IF($N8="SEM",EDATE(O8,6),IF($N8="AN",EDATE(O8,12)))))) -> 44053 | Q8: =IF($N8="M",EDATE(P8,1),IF($N8="BIM",EDATE(P8,2),IF($N8="TRIM",EDATE(P8,3),IF($N8="SEM",EDATE(P8,6),IF($N8="AN",EDATE(P8,12)))))) -> 44418 | R8: =IF($N8="M",EDATE(Q8,1),IF($N8="BIM",EDATE(Q8,2),IF($N8="TRIM",EDATE(Q8,3),IF($N8="SEM",EDATE(Q8,6),IF($N8="AN",EDATE(Q8,12)))))) -> 44783 | S8: =IF($N8="M",EDATE(R8,1),IF($N8="BIM",EDATE(R8,2),IF($N8="TRIM",EDATE(R8,3),IF($N8="SEM",EDATE(R8,6),IF($N8="AN",EDATE(R8,12)))))) -> 45148 | T8: =IF($N8="M",EDATE(S8,1),IF($N8="BIM",EDATE(S8,2),IF($N8="TRIM",EDATE(S8,3),IF($N8="SEM",EDATE(S8,6),IF($N8="AN",EDATE(S8,12)))))) -> 45514 | U8: =IF($N8="M",EDATE(T8,1),IF($N8="BIM",EDATE(T8,2),IF($N8="TRIM",EDATE(T8,3),IF($N8="SEM",EDATE(T8,6),IF($N8="AN",EDATE(T8,12)))))) -> 45879 | V8: =IF($N8="M",EDATE(U8,1),IF($N8="BIM",EDATE(U8,2),IF($N8="TRIM",EDATE(U8,3),IF($N8="SEM",EDATE(U8,6),IF($N8="AN",EDATE(U8,12)))))) -> 46244 | W8: =IF($N8="M",EDATE(V8,1),IF($N8="BIM",EDATE(V8,2),IF($N8="TRIM",EDATE(V8,3),IF($N8="SEM",EDATE(V8,6),IF($N8="AN",EDATE(V8,12)))))) -> 46609 | ... Z8: =IF($N8="M",EDATE(Y8,1),IF($N8="BIM",EDATE(Y8,2),IF($N8="TRIM",EDATE(Y8,3),IF($N8="SEM",EDATE(Y8,6),IF($N8="AN",EDATE(Y8,12)))))) -> 47705 | AD8: =SUMPRODUCT(('[1]variant by description charge'!$A$2:$A$12=[1]list!D8:G8)*('[1]variant by description charge'!$B$2:$B$12)) -> 6970 | AG8: =SUMPRODUCT((INDIRECT("'"&$AG$2&"'!$d$8:$d$24")=list!$D8:$G8)*(""&INDIRECT("'"&$AG$2&"'!$e$8:$e$24"))) -> 13925
A9: assurance europe | B9: SAS | C9: Attentia | D9: =IFERROR(INDEX('[1]variant by description charge'!$A$2:$A$12,MATCH("*"&C9&"*",'[1]variant by description charge'!$A$2:$A$12,0)),"") | E9: =IFERROR(INDEX('variant by description charge'!$A$2:$A$500,SMALL(IF(IFERROR(SEARCH("*"&list!$C9&"*",'variant by description charge'!$A$2:$A$500),0),ROW(list!$C$3:$C$19)-2),COLUMNS(list!$A:A))),"") -> Amine Halloli 2019-05_13 jrs | H9: VIRT | I9: 21/01 | K9: =I9+J9 -> 43486 | M9: =K9 -> 43486 | N9: AN | O9: =IF(N9="M",CONCATENATE(LEFT(I9,2),"/","01","/",2019),CONCATENATE(LEFT(I9,5),"/",2019)) -> 21/01/2019 | P9: =IF($N9="M",EDATE(O9,1),IF($N9="BIM",EDATE(O9,2),IF($N9="TRIM",EDATE(O9,3),IF($N9="SEM",EDATE(O9,6),IF($N9="AN",EDATE(O9,12)))))) -> 43851 | Q9: =IF($N9="M",EDATE(P9,1),IF($N9="BIM",EDATE(P9,2),IF($N9="TRIM",EDATE(P9,3),IF($N9="SEM",EDATE(P9,6),IF($N9="AN",EDATE(P9,12)))))) -> 44217 | R9: =IF($N9="M",EDATE(Q9,1),IF($N9="BIM",EDATE(Q9,2),IF($N9="TRIM",EDATE(Q9,3),IF($N9="SEM",EDATE(Q9,6),IF($N9="AN",EDATE(Q9,12)))))) -> 44582 | S9: =IF($N9="M",EDATE(R9,1),IF($N9="BIM",EDATE(R9,2),IF($N9="TRIM",EDATE(R9,3),IF($N9="SEM",EDATE(R9,6),IF($N9="AN",EDATE(R9,12)))))) -> 44947 | T9: =IF($N9="M",EDATE(S9,1),IF($N9="BIM",EDATE(S9,2),IF($N9="TRIM",EDATE(S9,3),IF($N9="SEM",EDATE(S9,6),IF($N9="AN",EDATE(S9,12)))))) -> 45312 | U9: =IF($N9="M",EDATE(T9,1),IF($N9="BIM",EDATE(T9,2),IF($N9="TRIM",EDATE(T9,3),IF($N9="SEM",EDATE(T9,6),IF($N9="AN",EDATE(T9,12)))))) -> 45678 | V9: =IF($N9="M",EDATE(U9,1),IF($N9="BIM",EDATE(U9,2),IF($N9="TRIM",EDATE(U9,3),IF($N9="SEM",EDATE(U9,6),IF($N9="AN",EDATE(U9,12)))))) -> 46043 | W9: =IF($N9="M",EDATE(V9,1),IF($N9="BIM",EDATE(V9,2),IF($N9="TRIM",EDATE(V9,3),IF($N9="SEM",EDATE(V9,6),IF($N9="AN",EDATE(V9,12)))))) -> 46408 | ... Z9: =IF($N9="M",EDATE(Y9,1),IF($N9="BIM",EDATE(Y9,2),IF($N9="TRIM",EDATE(Y9,3),IF($N9="SEM",EDATE(Y9,6),IF($N9="AN",EDATE(Y9,12)))))) -> 47504 | AD9: =SUMPRODUCT(('[1]variant by description charge'!$A$2:$A$12=[1]list!D9:G9)*('[1]variant by description charge'!$B$2:$B$12)) -> 0 | AG9: =SUMPRODUCT((INDIRECT("'"&$AG$2&"'!$d$8:$d$24")=list!$D9:$G9)*(""&INDIRECT("'"&$AG$2&"'!$e$8:$e$24"))) -> 0
A10: assurance europe | B10: SAS | C10: Fidea | D10: =IFERROR(INDEX('[1]variant by description charge'!$A$2:$A$12,MATCH("*"&C10&"*",'[1]variant by description charge'!$A$2:$A$12,0)),"") | E10: =IFERROR(INDEX('variant by description charge'!$A$2:$A$500,SMALL(IF(IFERROR(SEARCH("*"&list!$C10&"*",'variant by description charge'!$A$2:$A$500),0),ROW(list!$C$3:$C$19)-2),COLUMNS(list!$A:A))),"") -> Enrique Rolo 2019 | H10: VIRT | I10: 01/01 | K10: =I10+J10 -> 43466 | M10: =K10 -> 43466 | N10: AN | O10: =IF(N10="M",CONCATENATE(LEFT(I10,2),"/","01","/",2019),CONCATENATE(LEFT(I10,5),"/",2019)) -> 01/01/2019 | P10: =IF($N10="M",EDATE(O10,1),IF($N10="BIM",EDATE(O10,2),IF($N10="TRIM",EDATE(O10,3),IF($N10="SEM",EDATE(O10,6),IF($N10="AN",EDATE(O10,12)))))) -> 43831 | Q10: =IF($N10="M",EDATE(P10,1),IF($N10="BIM",EDATE(P10,2),IF($N10="TRIM",EDATE(P10,3),IF($N10="SEM",EDATE(P10,6),IF($N10="AN",EDATE(P10,12)))))) -> 44197 | R10: =IF($N10="M",EDATE(Q10,1),IF($N10="BIM",EDATE(Q10,2),IF($N10="TRIM",EDATE(Q10,3),IF($N10="SEM",EDATE(Q10,6),IF($N10="AN",EDATE(Q10,12)))))) -> 44562 | S10: =IF($N10="M",EDATE(R10,1),IF($N10="BIM",EDATE(R10,2),IF($N10="TRIM",EDATE(R10,3),IF($N10="SEM",EDATE(R10,6),IF($N10="AN",EDATE(R10,12)))))) -> 44927 | T10: =IF($N10="M",EDATE(S10,1),IF($N10="BIM",EDATE(S10,2),IF($N10="TRIM",EDATE(S10,3),IF($N10="SEM",EDATE(S10,6),IF($N10="AN",EDATE(S10,12)))))) -> 45292 | U10: =IF($N10="M",EDATE(T10,1),IF($N10="BIM",EDATE(T10,2),IF($N10="TRIM",EDATE(T10,3),IF($N10="SEM",EDATE(T10,6),IF($N10="AN",EDATE(T10,12)))))) -> 45658 | V10: =IF($N10="M",EDATE(U10,1),IF($N10="BIM",EDATE(U10,2),IF($N10="TRIM",EDATE(U10,3),IF($N10="SEM",EDATE(U10,6),IF($N10="AN",EDATE(U10,12)))))) -> 46023 | W10: =IF($N10="M",EDATE(V10,1),IF($N10="BIM",EDATE(V10,2),IF($N10="TRIM",EDATE(V10,3),IF($N10="SEM",EDATE(V10,6),IF($N10="AN",EDATE(V10,12)))))) -> 46388 | ... Z10: =IF($N10="M",EDATE(Y10,1),IF($N10="BIM",EDATE(Y10,2),IF($N10="TRIM",EDATE(Y10,3),IF($N10="SEM",EDATE(Y10,6),IF($N10="AN",EDATE(Y10,12)))))) -> 47484 | AD10: =SUMPRODUCT(('[1]variant by description charge'!$A$2:$A$12=[1]list!D10:G10)*('[1]variant by description charge'!$B$2:$B$12)) -> 0 | AG10: =SUMPRODUCT((INDIRECT("'"&$AG$2&"'!$d$8:$d$24")=list!$D10:$G10)*(""&INDIRECT("'"&$AG$2&"'!$e$8:$e$24"))) -> 0
B11: SAS | C11: SENET | D11: =IFERROR(INDEX('[1]variant by description charge'!$A$2:$A$12,MATCH("*"&C11&"*",'[1]variant by description charge'!$A$2:$A$12,0)),"") | E11: =IFERROR(INDEX('variant by description charge'!$A$2:$A$500,SMALL(IF(IFERROR(SEARCH("*"&list!$C11&"*",'variant by description charge'!$A$2:$A$500),0),ROW(list!$C$3:$C$19)-2),COLUMNS(list!$A:A))),"") -> Enrique Rolo 2019-05_18 j | H11: VIRT | I11: 26/04 | K11: =I11+J11 -> 43581 | M11: =K11 -> 43581 | N11: M | O11: =IF(N11="M",CONCATENATE(LEFT(I11,2),"/","01","/",2019),CONCATENATE(LEFT(I11,5),"/",2019)) -> 26/01/2019 | P11: =IF($N11="M",EDATE(O11,1),IF($N11="BIM",EDATE(O11,2),IF($N11="TRIM",EDATE(O11,3),IF($N11="SEM",EDATE(O11,6),IF($N11="AN",EDATE(O11,12)))))) -> 43522 | Q11: =IF($N11="M",EDATE(P11,1),IF($N11="BIM",EDATE(P11,2),IF($N11="TRIM",EDATE(P11,3),IF($N11="SEM",EDATE(P11,6),IF($N11="AN",EDATE(P11,12)))))) -> 43550 | R11: =IF($N11="M",EDATE(Q11,1),IF($N11="BIM",EDATE(Q11,2),IF($N11="TRIM",EDATE(Q11,3),IF($N11="SEM",EDATE(Q11,6),IF($N11="AN",EDATE(Q11,12)))))) -> 43581 | S11: =IF($N11="M",EDATE(R11,1),IF($N11="BIM",EDATE(R11,2),IF($N11="TRIM",EDATE(R11,3),IF($N11="SEM",EDATE(R11,6),IF($N11="AN",EDATE(R11,12)))))) -> 43611 | T11: =IF($N11="M",EDATE(S11,1),IF($N11="BIM",EDATE(S11,2),IF($N11="TRIM",EDATE(S11,3),IF($N11="SEM",EDATE(S11,6),IF($N11="AN",EDATE(S11,12)))))) -> 43642 | U11: =IF($N11="M",EDATE(T11,1),IF($N11="BIM",EDATE(T11,2),IF($N11="TRIM",EDATE(T11,3),IF($N11="SEM",EDATE(T11,6),IF($N11="AN",EDATE(T11,12)))))) -> 43672 | V11: =IF($N11="M",EDATE(U11,1),IF($N11="BIM",EDATE(U11,2),IF($N11="TRIM",EDATE(U11,3),IF($N11="SEM",EDATE(U11,6),IF($N11="AN",EDATE(U11,12)))))) -> 43703 | W11: =IF($N11="M",EDATE(V11,1),IF($N11="BIM",EDATE(V11,2),IF($N11="TRIM",EDATE(V11,3),IF($N11="SEM",EDATE(V11,6),IF($N11="AN",EDATE(V11,12)))))) -> 43734 | ... Z11: =IF($N11="M",EDATE(Y11,1),IF($N11="BIM",EDATE(Y11,2),IF($N11="TRIM",EDATE(Y11,3),IF($N11="SEM",EDATE(Y11,6),IF($N11="AN",EDATE(Y11,12)))))) -> 43825 | AD11: =SUMPRODUCT(('[1]variant by description charge'!$A$2:$A$12=[1]list!D11:G11)*('[1]variant by description charge'!$B$2:$B$12)) -> 0 | AG11: =SUMPRODUCT((INDIRECT("'"&$AG$2&"'!$d$8:$d$24")=list!$D11:$G11)*(""&INDIRECT("'"&$AG$2&"'!$e$8:$e$24"))) -> 0
A12: tel | B12: SAS | C12: sfr (lan to lan) | D12: =IFERROR(INDEX('[1]variant by description charge'!$A$2:$A$12,MATCH("*"&C12&"*",'[1]variant by description charge'!$A$2:$A$12,0)),"") | E12: =IFERROR(INDEX('variant by description charge'!$A$2:$A$500,SMALL(IF(IFERROR(SEARCH("*"&list!$C12&"*",'variant by description charge'!$A$2:$A$500),0),ROW(list!$C$3:$C$19)-2),COLUMNS(list!$A:A))),"") -> Iliasse Hassalan 2019 | H12: PRELEV | I12: 01/05 | J12: 30 | K12: =I12+J12 -> 43616 | M12: =K12 -> 43616 | N12: M | O12: =IF(N12="M",CONCATENATE(LEFT(I12,2),"/","01","/",2019),CONCATENATE(LEFT(I12,5),"/",2019)) -> 01/01/2019 | P12: =IF($N12="M",EDATE(O12,1),IF($N12="BIM",EDATE(O12,2),IF($N12="TRIM",EDATE(O12,3),IF($N12="SEM",EDATE(O12,6),IF($N12="AN",EDATE(O12,12)))))) -> 43497 | Q12: =IF($N12="M",EDATE(P12,1),IF($N12="BIM",EDATE(P12,2),IF($N12="TRIM",EDATE(P12,3),IF($N12="SEM",EDATE(P12,6),IF($N12="AN",EDATE(P12,12)))))) -> 43525 | R12: =IF($N12="M",EDATE(Q12,1),IF($N12="BIM",EDATE(Q12,2),IF($N12="TRIM",EDATE(Q12,3),IF($N12="SEM",EDATE(Q12,6),IF($N12="AN",EDATE(Q12,12)))))) -> 43556 | S12: =IF($N12="M",EDATE(R12,1),IF($N12="BIM",EDATE(R12,2),IF($N12="TRIM",EDATE(R12,3),IF($N12="SEM",EDATE(R12,6),IF($N12="AN",EDATE(R12,12)))))) -> 43586 | T12: =IF($N12="M",EDATE(S12,1),IF($N12="BIM",EDATE(S12,2),IF($N12="TRIM",EDATE(S12,3),IF($N12="SEM",EDATE(S12,6),IF($N12="AN",EDATE(S12,12)))))) -> 43617 | U12: =IF($N12="M",EDATE(T12,1),IF($N12="BIM",EDATE(T12,2),IF($N12="TRIM",EDATE(T12,3),IF($N12="SEM",EDATE(T12,6),IF($N12="AN",EDATE(T12,12)))))) -> 43647 | V12: =IF($N12="M",EDATE(U12,1),IF($N12="BIM",EDATE(U12,2),IF($N12="TRIM",EDATE(U12,3),IF($N12="SEM",EDATE(U12,6),IF($N12="AN",EDATE(U12,12)))))) -> 43678 | W12: =IF($N12="M",EDATE(V12,1),IF($N12="BIM",EDATE(V12,2),IF($N12="TRIM",EDATE(V12,3),IF($N12="SEM",EDATE(V12,6),IF($N12="AN",EDATE(V12,12)))))) -> 43709 | ... Z12: =IF($N12="M",EDATE(Y12,1),IF($N12="BIM",EDATE(Y12,2),IF($N12="TRIM",EDATE(Y12,3),IF($N12="SEM",EDATE(Y12,6),IF($N12="AN",EDATE(Y12,12)))))) -> 43800 | AD12: =SUMPRODUCT(('[1]variant by description charge'!$A$2:$A$12=[1]list!D12:G12)*('[1]variant by description charge'!$B$2:$B$12)) -> 0 | AG12: =SUMPRODUCT((INDIRECT("'"&$AG$2&"'!$d$8:$d$24")=list!$D12:$G12)*(""&INDIRECT("'"&$AG$2&"'!$e$8:$e$24"))) -> 7175
A13: TR | B13: EXP | C13: sodexo | D13: =IFERROR(INDEX('[1]variant by description charge'!$A$2:$A$12,MATCH("*"&C13&"*",'[1]variant by description charge'!$A$2:$A$12,0)),"") | E13: =IFERROR(INDEX('variant by description charge'!$A$2:$A$500,SMALL(IF(IFERROR(SEARCH("*"&list!$C13&"*",'variant by description charge'!$A$2:$A$500),0),ROW(list!$C$3:$C$19)-2),COLUMNS(list!$A:A))),"") -> 0 | H13: PRELEV | I13: 01/05 | J13: 0 | K13: =I13+J13 -> 43586 | L13: 3 | M13: =K13 -> 43586 | N13: M | O13: =IF(N13="M",CONCATENATE(LEFT(I13,2),"/","01","/",2019),CONCATENATE(LEFT(I13,5),"/",2019)) -> 01/01/2019 | P13: =IF($N13="M",EDATE(O13,1),IF($N13="BIM",EDATE(O13,2),IF($N13="TRIM",EDATE(O13,3),IF($N13="SEM",EDATE(O13,6),IF($N13="AN",EDATE(O13,12)))))) -> 43497 | Q13: =IF($N13="M",EDATE(P13,1),IF($N13="BIM",EDATE(P13,2),IF($N13="TRIM",EDATE(P13,3),IF($N13="SEM",EDATE(P13,6),IF($N13="AN",EDATE(P13,12)))))) -> 43525 | R13: =IF($N13="M",EDATE(Q13,1),IF($N13="BIM",EDATE(Q13,2),IF($N13="TRIM",EDATE(Q13,3),IF($N13="SEM",EDATE(Q13,6),IF($N13="AN",EDATE(Q13,12)))))) -> 43556 | S13: =IF($N13="M",EDATE(R13,1),IF($N13="BIM",EDATE(R13,2),IF($N13="TRIM",EDATE(R13,3),IF($N13="SEM",EDATE(R13,6),IF($N13="AN",EDATE(R13,12)))))) -> 43586 | T13: =IF($N13="M",EDATE(S13,1),IF($N13="BIM",EDATE(S13,2),IF($N13="TRIM",EDATE(S13,3),IF($N13="SEM",EDATE(S13,6),IF($N13="AN",EDATE(S13,12)))))) -> 43617 | U13: =IF($N13="M",EDATE(T13,1),IF($N13="BIM",EDATE(T13,2),IF($N13="TRIM",EDATE(T13,3),IF($N13="SEM",EDATE(T13,6),IF($N13="AN",EDATE(T13,12)))))) -> 43647 | V13: =IF($N13="M",EDATE(U13,1),IF($N13="BIM",EDATE(U13,2),IF($N13="TRIM",EDATE(U13,3),IF($N13="SEM",EDATE(U13,6),IF($N13="AN",EDATE(U13,12)))))) -> 43678 | W13: =IF($N13="M",EDATE(V13,1),IF($N13="BIM",EDATE(V13,2),IF($N13="TRIM",EDATE(V13,3),IF($N13="SEM",EDATE(V13,6),IF($N13="AN",EDATE(V13,12)))))) -> 43709 | ... Z13: =IF($N13="M",EDATE(Y13,1),IF($N13="BIM",EDATE(Y13,2),IF($N13="TRIM",EDATE(Y13,3),IF($N13="SEM",EDATE(Y13,6),IF($N13="AN",EDATE(Y13,12)))))) -> 43800 | AD13: =SUMPRODUCT(('[1]variant by description charge'!$A$2:$A$12=[1]list!D13:G13)*('[1]variant by description charge'!$B$2:$B$12)) -> 0 | AG13: =SUMPRODUCT((INDIRECT("'"&$AG$2&"'!$d$8:$d$24")=list!$D13:$G13)*(""&INDIRECT("'"&$AG$2&"'!$e$8:$e$24"))) -> 0
A14: TR | B14: SAS | C14: Daniel Benoit | D14: =IFERROR(INDEX('[1]variant by description charge'!$A$2:$A$12,MATCH("*"&C14&"*",'[1]variant by description charge'!$A$2:$A$12,0)),"") -> Daniel Benoit 2019 | E14: =IFERROR(INDEX('variant by description charge'!$A$2:$A$500,SMALL(IF(IFERROR(SEARCH("*"&list!$C14&"*",'variant by description charge'!$A$2:$A$500),0),ROW(list!$C$3:$C$19)-2),COLUMNS(list!$A:A))),"") -> 0 | H14: PRELEV | I14: 01/05 | K14: =I14+J14 -> 43586 | M14: =K14 -> 43586 | N14: M | O14: =IF(N14="M",CONCATENATE(LEFT(I14,2),"/","01","/",2019),CONCATENATE(LEFT(I14,5),"/",2019)) -> 01/01/2019 | P14: =IF($N14="M",EDATE(O14,1),IF($N14="BIM",EDATE(O14,2),IF($N14="TRIM",EDATE(O14,3),IF($N14="SEM",EDATE(O14,6),IF($N14="AN",EDATE(O14,12)))))) -> 43497 | Q14: =IF($N14="M",EDATE(P14,1),IF($N14="BIM",EDATE(P14,2),IF($N14="TRIM",EDATE(P14,3),IF($N14="SEM",EDATE(P14,6),IF($N14="AN",EDATE(P14,12)))))) -> 43525 | R14: =IF($N14="M",EDATE(Q14,1),IF($N14="BIM",EDATE(Q14,2),IF($N14="TRIM",EDATE(Q14,3),IF($N14="SEM",EDATE(Q14,6),IF($N14="AN",EDATE(Q14,12)))))) -> 43556 | S14: =IF($N14="M",EDATE(R14,1),IF($N14="BIM",EDATE(R14,2),IF($N14="TRIM",EDATE(R14,3),IF($N14="SEM",EDATE(R14,6),IF($N14="AN",EDATE(R14,12)))))) -> 43586 | T14: =IF($N14="M",EDATE(S14,1),IF($N14="BIM",EDATE(S14,2),IF($N14="TRIM",EDATE(S14,3),IF($N14="SEM",EDATE(S14,6),IF($N14="AN",EDATE(S14,12)))))) -> 43617 | U14: =IF($N14="M",EDATE(T14,1),IF($N14="BIM",EDATE(T14,2),IF($N14="TRIM",EDATE(T14,3),IF($N14="SEM",EDATE(T14,6),IF($N14="AN",EDATE(T14,12)))))) -> 43647 | V14: =IF($N14="M",EDATE(U14,1),IF($N14="BIM",EDATE(U14,2),IF($N14="TRIM",EDATE(U14,3),IF($N14="SEM",EDATE(U14,6),IF($N14="AN",EDATE(U14,12)))))) -> 43678 | W14: =IF($N14="M",EDATE(V14,1),IF($N14="BIM",EDATE(V14,2),IF($N14="TRIM",EDATE(V14,3),IF($N14="SEM",EDATE(V14,6),IF($N14="AN",EDATE(V14,12)))))) -> 43709 | ... Z14: =IF($N14="M",EDATE(Y14,1),IF($N14="BIM",EDATE(Y14,2),IF($N14="TRIM",EDATE(Y14,3),IF($N14="SEM",EDATE(Y14,6),IF($N14="AN",EDATE(Y14,12)))))) -> 43800 | AD14: =SUMPRODUCT(('[1]variant by description charge'!$A$2:$A$12=[1]list!D14:G14)*('[1]variant by description charge'!$B$2:$B$12)) -> 10987.39 | AG14: =SUMPRODUCT((INDIRECT("'"&$AG$2&"'!$d$8:$d$24")=list!$D14:$G14)*(""&INDIRECT("'"&$AG$2&"'!$e$8:$e$24"))) -> 10395
A15: sst | B15: SAS | C15: Rolo | D15: =IFERROR(INDEX('[1]variant by description charge'!$A$2:$A$12,MATCH("*"&C15&"*",'[1]variant by description charge'!$A$2:$A$12,0)),"") -> William Grolo 2019 | E15: =IFERROR(INDEX('variant by description charge'!$A$2:$A$500,SMALL(IF(IFERROR(SEARCH("*"&list!$C15&"*",'variant by description charge'!$A$2:$A$500),0),ROW(list!$C$3:$C$19)-2),COLUMNS(list!$A:A))),"") -> 0 | H15: VIRT | I15: 30/04 | J15: 60 | K15: =I15+J15 -> 43645 | M15: =K15 -> 43645 | N15: M | O15: =IF(N15="M",CONCATENATE(LEFT(I15,2),"/","01","/",2019),CONCATENATE(LEFT(I15,5),"/",2019)) -> 30/01/2019 | P15: =IF($N15="M",EDATE(O15,1),IF($N15="BIM",EDATE(O15,2),IF($N15="TRIM",EDATE(O15,3),IF($N15="SEM",EDATE(O15,6),IF($N15="AN",EDATE(O15,12)))))) -> 43524 | Q15: =IF($N15="M",EDATE(P15,1),IF($N15="BIM",EDATE(P15,2),IF($N15="TRIM",EDATE(P15,3),IF($N15="SEM",EDATE(P15,6),IF($N15="AN",EDATE(P15,12)))))) -> 43552 | R15: =IF($N15="M",EDATE(Q15,1),IF($N15="BIM",EDATE(Q15,2),IF($N15="TRIM",EDATE(Q15,3),IF($N15="SEM",EDATE(Q15,6),IF($N15="AN",EDATE(Q15,12)))))) -> 43583 | S15: =IF($N15="M",EDATE(R15,1),IF($N15="BIM",EDATE(R15,2),IF($N15="TRIM",EDATE(R15,3),IF($N15="SEM",EDATE(R15,6),IF($N15="AN",EDATE(R15,12)))))) -> 43613 | T15: =IF($N15="M",EDATE(S15,1),IF($N15="BIM",EDATE(S15,2),IF($N15="TRIM",EDATE(S15,3),IF($N15="SEM",EDATE(S15,6),IF($N15="AN",EDATE(S15,12)))))) -> 43644 | U15: =IF($N15="M",EDATE(T15,1),IF($N15="BIM",EDATE(T15,2),IF($N15="TRIM",EDATE(T15,3),IF($N15="SEM",EDATE(T15,6),IF($N15="AN",EDATE(T15,12)))))) -> 43674 | V15: =IF($N15="M",EDATE(U15,1),IF($N15="BIM",EDATE(U15,2),IF($N15="TRIM",EDATE(U15,3),IF($N15="SEM",EDATE(U15,6),IF($N15="AN",EDATE(U15,12)))))) -> 43705 | W15: =IF($N15="M",EDATE(V15,1),IF($N15="BIM",EDATE(V15,2),IF($N15="TRIM",EDATE(V15,3),IF($N15="SEM",EDATE(V15,6),IF($N15="AN",EDATE(V15,12)))))) -> 43736 | ... Z15: =IF($N15="M",EDATE(Y15,1),IF($N15="BIM",EDATE(Y15,2),IF($N15="TRIM",EDATE(Y15,3),IF($N15="SEM",EDATE(Y15,6),IF($N15="AN",EDATE(Y15,12)))))) -> 43827 | AD15: =SUMPRODUCT(('[1]variant by description charge'!$A$2:$A$12=[1]list!D15:G15)*('[1]variant by description charge'!$B$2:$B$12)) -> 6224 | AG15: =SUMPRODUCT((INDIRECT("'"&$AG$2&"'!$d$8:$d$24")=list!$D15:$G15)*(""&INDIRECT("'"&$AG$2&"'!$e$8:$e$24"))) -> 8169
A16: Taxe | B16: SAS | C16: stana | D16: =IFERROR(INDEX('[1]variant by description charge'!$A$2:$A$12,MATCH("*"&C16&"*",'[1]variant by description charge'!$A$2:$A$12,0)),"") | E16: =IFERROR(INDEX('variant by description charge'!$A$2:$A$500,SMALL(IF(IFERROR(SEARCH("*"&list!$C16&"*",'variant by description charge'!$A$2:$A$500),0),ROW(list!$C$3:$C$19)-2),COLUMNS(list!$A:A))),"") -> 0 | H16: VIRT | I16: 20/02 | K16: =I16+J16 -> 43516 | M16: =K16 -> 43516 | N16: TRIM | O16: =IF(N16="M",CONCATENATE(LEFT(I16,2),"/","01","/",2019),CONCATENATE(LEFT(I16,5),"/",2019)) -> 20/02/2019 | P16: =IF($N16="M",EDATE(O16,1),IF($N16="BIM",EDATE(O16,2),IF($N16="TRIM",EDATE(O16,3),IF($N16="SEM",EDATE(O16,6),IF($N16="AN",EDATE(O16,12)))))) -> 43605 | Q16: =IF($N16="M",EDATE(P16,1),IF($N16="BIM",EDATE(P16,2),IF($N16="TRIM",EDATE(P16,3),IF($N16="SEM",EDATE(P16,6),IF($N16="AN",EDATE(P16,12)))))) -> 43697 | R16: =IF($N16="M",EDATE(Q16,1),IF($N16="BIM",EDATE(Q16,2),IF($N16="TRIM",EDATE(Q16,3),IF($N16="SEM",EDATE(Q16,6),IF($N16="AN",EDATE(Q16,12)))))) -> 43789 | S16: =IF($N16="M",EDATE(R16,1),IF($N16="BIM",EDATE(R16,2),IF($N16="TRIM",EDATE(R16,3),IF($N16="SEM",EDATE(R16,6),IF($N16="AN",EDATE(R16,12)))))) -> 43881 | T16: =IF($N16="M",EDATE(S16,1),IF($N16="BIM",EDATE(S16,2),IF($N16="TRIM",EDATE(S16,3),IF($N16="SEM",EDATE(S16,6),IF($N16="AN",EDATE(S16,12)))))) -> 43971 | U16: =IF($N16="M",EDATE(T16,1),IF($N16="BIM",EDATE(T16,2),IF($N16="TRIM",EDATE(T16,3),IF($N16="SEM",EDATE(T16,6),IF($N16="AN",EDATE(T16,12)))))) -> 44063 | V16: =IF($N16="M",EDATE(U16,1),IF($N16="BIM",EDATE(U16,2),IF($N16="TRIM",EDATE(U16,3),IF($N16="SEM",EDATE(U16,6),IF($N16="AN",EDATE(U16,12)))))) -> 44155 | W16: =IF($N16="M",EDATE(V16,1),IF($N16="BIM",EDATE(V16,2),IF($N16="TRIM",EDATE(V16,3),IF($N16="SEM",EDATE(V16,6),IF($N16="AN",EDATE(V16,12)))))) -> 44247 | ... Z16: =IF($N16="M",EDATE(Y16,1),IF($N16="BIM",EDATE(Y16,2),IF($N16="TRIM",EDATE(Y16,3),IF($N16="SEM",EDATE(Y16,6),IF($N16="AN",EDATE(Y16,12)))))) -> 44520 | AD16: =SUMPRODUCT(('[1]variant by description charge'!$A$2:$A$12=[1]list!D16:G16)*('[1]variant by description charge'!$B$2:$B$12)) -> 0 | AG16: =SUMPRODUCT((INDIRECT("'"&$AG$2&"'!$d$8:$d$24")=list!$D16:$G16)*(""&INDIRECT("'"&$AG$2&"'!$e$8:$e$24"))) -> 0
B17: SAS | C17: Grolo | D17: =IFERROR(INDEX('[1]variant by description charge'!$A$2:$A$12,MATCH("*"&C17&"*",'[1]variant by description charge'!$A$2:$A$12,0)),"") -> William Grolo 2019 | E17: =IFERROR(INDEX('variant by description charge'!$A$2:$A$500,SMALL(IF(IFERROR(SEARCH("*"&list!$C17&"*",'variant by description charge'!$A$2:$A$500),0),ROW(list!$C$3:$C$19)-2),COLUMNS(list!$A:A))),"") -> 0 | H17: CB | I17: 30/04 | J17: 53 | K17: =I17+J17 -> 43638 | L17: 28 | M17: =K17 -> 43638 | N17: M | O17: =IF(N17="M",CONCATENATE(LEFT(I17,2),"/","01","/",2019),CONCATENATE(LEFT(I17,5),"/",2019)) -> 30/01/2019 | P17: =IF($N17="M",EDATE(O17,1),IF($N17="BIM",EDATE(O17,2),IF($N17="TRIM",EDATE(O17,3),IF($N17="SEM",EDATE(O17,6),IF($N17="AN",EDATE(O17,12)))))) -> 43524 | Q17: =IF($N17="M",EDATE(P17,1),IF($N17="BIM",EDATE(P17,2),IF($N17="TRIM",EDATE(P17,3),IF($N17="SEM",EDATE(P17,6),IF($N17="AN",EDATE(P17,12)))))) -> 43552 | R17: =IF($N17="M",EDATE(Q17,1),IF($N17="BIM",EDATE(Q17,2),IF($N17="TRIM",EDATE(Q17,3),IF($N17="SEM",EDATE(Q17,6),IF($N17="AN",EDATE(Q17,12)))))) -> 43583 | S17: =IF($N17="M",EDATE(R17,1),IF($N17="BIM",EDATE(R17,2),IF($N17="TRIM",EDATE(R17,3),IF($N17="SEM",EDATE(R17,6),IF($N17="AN",EDATE(R17,12)))))) -> 43613 | T17: =IF($N17="M",EDATE(S17,1),IF($N17="BIM",EDATE(S17,2),IF($N17="TRIM",EDATE(S17,3),IF($N17="SEM",EDATE(S17,6),IF($N17="AN",EDATE(S17,12)))))) -> 43644 | U17: =IF($N17="M",EDATE(T17,1),IF($N17="BIM",EDATE(T17,2),IF($N17="TRIM",EDATE(T17,3),IF($N17="SEM",EDATE(T17,6),IF($N17="AN",EDATE(T17,12)))))) -> 43674 | V17: =IF($N17="M",EDATE(U17,1),IF($N17="BIM",EDATE(U17,2),IF($N17="TRIM",EDATE(U17,3),IF($N17="SEM",EDATE(U17,6),IF($N17="AN",EDATE(U17,12)))))) -> 43705 | W17: =IF($N17="M",EDATE(V17,1),IF($N17="BIM",EDATE(V17,2),IF($N17="TRIM",EDATE(V17,3),IF($N17="SEM",EDATE(V17,6),IF($N17="AN",EDATE(V17,12)))))) -> 43736 | ... Z17: =IF($N17="M",EDATE(Y17,1),IF($N17="BIM",EDATE(Y17,2),IF($N17="TRIM",EDATE(Y17,3),IF($N17="SEM",EDATE(Y17,6),IF($N17="AN",EDATE(Y17,12)))))) -> 43827 | AD17: =SUMPRODUCT(('[1]variant by description charge'!$A$2:$A$12=[1]list!D17:G17)*('[1]variant by description charge'!$B$2:$B$12)) -> 6224 | AG17: =SUMPRODUCT((INDIRECT("'"&$AG$2&"'!$d$8:$d$24")=list!$D17:$G17)*(""&INDIRECT("'"&$AG$2&"'!$e$8:$e$24"))) -> 8169
B18: SAS | C18: Surveillance des locaux | D18: =IFERROR(INDEX('[1]variant by description charge'!$A$2:$A$12,MATCH("*"&C18&"*",'[1]variant by description charge'!$A$2:$A$12,0)),"") | E18: =IFERROR(INDEX('variant by description charge'!$A$2:$A$500,SMALL(IF(IFERROR(SEARCH("*"&list!$C18&"*",'variant by description charge'!$A$2:$A$500),0),ROW(list!$C$3:$C$19)-2),COLUMNS(list!$A:A))),"") -> 0 | H18: CB | I18: 30/04 | J18: 58 | K18: =I18+J18 -> 43643 | L18: 28 | M18: =K18 -> 43643 | N18: M | O18: =IF(N18="M",CONCATENATE(LEFT(I18,2),"/","01","/",2019),CONCATENATE(LEFT(I18,5),"/",2019)) -> 30/01/2019 | P18: =IF($N18="M",EDATE(O18,1),IF($N18="BIM",EDATE(O18,2),IF($N18="TRIM",EDATE(O18,3),IF($N18="SEM",EDATE(O18,6),IF($N18="AN",EDATE(O18,12)))))) -> 43524 | Q18: =IF($N18="M",EDATE(P18,1),IF($N18="BIM",EDATE(P18,2),IF($N18="TRIM",EDATE(P18,3),IF($N18="SEM",EDATE(P18,6),IF($N18="AN",EDATE(P18,12)))))) -> 43552 | R18: =IF($N18="M",EDATE(Q18,1),IF($N18="BIM",EDATE(Q18,2),IF($N18="TRIM",EDATE(Q18,3),IF($N18="SEM",EDATE(Q18,6),IF($N18="AN",EDATE(Q18,12)))))) -> 43583 | S18: =IF($N18="M",EDATE(R18,1),IF($N18="BIM",EDATE(R18,2),IF($N18="TRIM",EDATE(R18,3),IF($N18="SEM",EDATE(R18,6),IF($N18="AN",EDATE(R18,12)))))) -> 43613 | T18: =IF($N18="M",EDATE(S18,1),IF($N18="BIM",EDATE(S18,2),IF($N18="TRIM",EDATE(S18,3),IF($N18="SEM",EDATE(S18,6),IF($N18="AN",EDATE(S18,12)))))) -> 43644 | U18: =IF($N18="M",EDATE(T18,1),IF($N18="BIM",EDATE(T18,2),IF($N18="TRIM",EDATE(T18,3),IF($N18="SEM",EDATE(T18,6),IF($N18="AN",EDATE(T18,12)))))) -> 43674 | V18: =IF($N18="M",EDATE(U18,1),IF($N18="BIM",EDATE(U18,2),IF($N18="TRIM",EDATE(U18,3),IF($N18="SEM",EDATE(U18,6),IF($N18="AN",EDATE(U18,12)))))) -> 43705 | W18: =IF($N18="M",EDATE(V18,1),IF($N18="BIM",EDATE(V18,2),IF($N18="TRIM",EDATE(V18,3),IF($N18="SEM",EDATE(V18,6),IF($N18="AN",EDATE(V18,12)))))) -> 43736 | ... Z18: =IF($N18="M",EDATE(Y18,1),IF($N18="BIM",EDATE(Y18,2),IF($N18="TRIM",EDATE(Y18,3),IF($N18="SEM",EDATE(Y18,6),IF($N18="AN",EDATE(Y18,12)))))) -> 43827 | AD18: =SUMPRODUCT(('[1]variant by description charge'!$A$2:$A$12=[1]list!D18:G18)*('[1]variant by description charge'!$B$2:$B$12)) -> 0 | AG18: =SUMPRODUCT((INDIRECT("'"&$AG$2&"'!$d$8:$d$24")=list!$D18:$G18)*(""&INDIRECT("'"&$AG$2&"'!$e$8:$e$24"))) -> 0
B19: SAS | C19: VPS Hosting asia | D19: =IFERROR(INDEX('[1]variant by description charge'!$A$2:$A$12,MATCH("*"&C19&"*",'[1]variant by description charge'!$A$2:$A$12,0)),"") | E19: =IFERROR(INDEX('variant by description charge'!$A$2:$A$500,SMALL(IF(IFERROR(SEARCH("*"&list!$C19&"*",'variant by description charge'!$A$2:$A$500),0),ROW(list!$C$3:$C$19)-2),COLUMNS(list!$A:A))),"") -> 0 | I19: 30/04 | K19: =I19+J19 -> 43585 | M19: =K19 -> 43585 | N19: AN | O19: =IF(N19="M",CONCATENATE(LEFT(I19,2),"/","01","/",2019),CONCATENATE(LEFT(I19,5),"/",2019)) -> 30/04/2019 | P19: =IF($N19="M",EDATE(O19,1),IF($N19="BIM",EDATE(O19,2),IF($N19="TRIM",EDATE(O19,3),IF($N19="SEM",EDATE(O19,6),IF($N19="AN",EDATE(O19,12)))))) -> 43951 | Q19: =IF($N19="M",EDATE(P19,1),IF($N19="BIM",EDATE(P19,2),IF($N19="TRIM",EDATE(P19,3),IF($N19="SEM",EDATE(P19,6),IF($N19="AN",EDATE(P19,12)))))) -> 44316 | R19: =IF($N19="M",EDATE(Q19,1),IF($N19="BIM",EDATE(Q19,2),IF($N19="TRIM",EDATE(Q19,3),IF($N19="SEM",EDATE(Q19,6),IF($N19="AN",EDATE(Q19,12)))))) -> 44681 | S19: =IF($N19="M",EDATE(R19,1),IF($N19="BIM",EDATE(R19,2),IF($N19="TRIM",EDATE(R19,3),IF($N19="SEM",EDATE(R19,6),IF($N19="AN",EDATE(R19,12)))))) -> 45046 | T19: =IF($N19="M",EDATE(S19,1),IF($N19="BIM",EDATE(S19,2),IF($N19="TRIM",EDATE(S19,3),IF($N19="SEM",EDATE(S19,6),IF($N19="AN",EDATE(S19,12)))))) -> 45412 | U19: =IF($N19="M",EDATE(T19,1),IF($N19="BIM",EDATE(T19,2),IF($N19="TRIM",EDATE(T19,3),IF($N19="SEM",EDATE(T19,6),IF($N19="AN",EDATE(T19,12)))))) -> 45777 | V19: =IF($N19="M",EDATE(U19,1),IF($N19="BIM",EDATE(U19,2),IF($N19="TRIM",EDATE(U19,3),IF($N19="SEM",EDATE(U19,6),IF($N19="AN",EDATE(U19,12)))))) -> 46142 | W19: =IF($N19="M",EDATE(V19,1),IF($N19="BIM",EDATE(V19,2),IF($N19="TRIM",EDATE(V19,3),IF($N19="SEM",EDATE(V19,6),IF($N19="AN",EDATE(V19,12)))))) -> 46507 | ... Z19: =IF($N19="M",EDATE(Y19,1),IF($N19="BIM",EDATE(Y19,2),IF($N19="TRIM",EDATE(Y19,3),IF($N19="SEM",EDATE(Y19,6),IF($N19="AN",EDATE(Y19,12)))))) -> 47603 | AD19: =SUMPRODUCT(('[1]variant by description charge'!$A$2:$A$12=[1]list!D19:G19)*('[1]variant by description charge'!$B$2:$B$12)) -> 0 | AG19: =SUMPRODUCT((INDIRECT("'"&$AG$2&"'!$d$8:$d$24")=list!$D19:$G19)*(""&INDIRECT("'"&$AG$2&"'!$e$8:$e$24"))) -> 0

Sheet 5
B1: =CONCATENATE(C1,D1)
B2: Pivot analysis
B3: Month : 5 to5 | D3: GL account : 604000 to656000
B4: Year :2019 to 2019 | D4: Supplier :300001 to 408329
B5: GL account | C5: Supplier | D5: Description | E5: Actual
B6: Month | E6: 5
B7: Year | E7: 2019
A8: =CONCATENATE(B8,C8) -> 604000403053-BEMOO | B8: 604000 | C8: 403053-BEMOO | D8: Daniel Benoit 2019 | E8: 9157.5
A9: =CONCATENATE(B9,C9) -> 604000403053-BEMOO | B9: 604000 | C9: 403053-BEMOO | D9: Daniel Benoit 2019-05_18.50 jrs | E9: 0
A10: =CONCATENATE(B10,C10) -> 604000403154-GROLO | B10: 604000 | C10: 403154-GROLO | D10: William Grolo2019 | E10: 6224
A11: =CONCATENATE(B11,C11) -> 604000403154-GROLO | B11: 604000 | C11: 403154-GROLO | D11: William Grolo 2019-05_16 jrs | E11: 0
A12: =CONCATENATE(B12,C12) -> 604000403303-PROILANN | B12: 604000 | C12: 403303-PROILANN | D12: Alexis Cauvet 2019 | E12: 7830
A13: =CONCATENATE(B13,C13) -> 604000403303-PROILANN | B13: 604000 | C13: 403303-PROILANN | D13: Alexis Cauvet 2019-05_18 jrs | E13: 0
A14: =CONCATENATE(B14,C14) -> 604000403303-PROILANN | B14: 604000 | C14: 403303-PROILANN | D14: Amine Halloli 2019 | E14: 4875
A15: =CONCATENATE(B15,C15) -> 604000403303-PROILANN | B15: 604000 | C15: 403303-PROILANN | D15: Amine Halloli 2019-05_13 jrs | E15: 0
A16: =CONCATENATE(B16,C16) -> 604000403339-SOFEAM | B16: 604000 | C16: 403339-SOFEAM | D16: Enrique Rolo2019 | E16: 7560
A17: =CONCATENATE(B17,C17) -> 604000403339-SOFEAM | B17: 604000 | C17: 403339-SOFEAM | D17: Enrique Rolo 2019-05_18 j | E17: 0
A18: =CONCATENATE(B18,C18) -> 604000403339-SOFEAM | B18: 604000 | C18: 403339-SOFEAM | D18: Iliasse Hassalan 2019 | E18: 6970

Sheet 4
B1: =CONCATENATE(C1,D1)
B2: Pivot analysis
B3: Month : 4 to4 | D3: GL account : 604000 to656000
B4: Year :2019 to 2019 | D4: Supplier :300001 to 408329
B5: GL account | C5: Supplier | D5: Description | E5: Actual
B6: Month | E6: 4
B7: Year | E7: 2019
A8: =CONCATENATE(B8,C8) -> 604000403053-BEMOO | B8: 604000 | C8: 403053-BEMOO | D8: Daniel Benoit 2019 | E8: 10395
A9: =CONCATENATE(B9,C9) -> 604000403053-BEMOO | B9: 604000 | C9: 403053-BEMOO | D9: Daniel Benoit 2019-04_21j | E9: 0
A10: =CONCATENATE(B10,C10) -> 604000403154-GROLO | B10: 604000 | C10: 403154-GROLO | D10: William Grolo 2019 | E10: 8169
A11: =CONCATENATE(B11,C11) -> 604000403154-GROLO | B11: 604000 | C11: 403154-GROLO | D11: William Grolo 2019-04_21j | E11: 0
A12: =CONCATENATE(B12,C12) -> 604000403303-PROILANN | B12: 604000 | C12: 403303-PROILANN | D12: Alexis Cauvet 2019 | E12: 9135
A13: =CONCATENATE(B13,C13) -> 604000403303-PROILANN | B13: 604000 | C13: 403303-PROILANN | D13: Alexis Cauvet 2019-04_21j | E13: 0
A14: =CONCATENATE(B14,C14) -> 604000403303-PROILANN | B14: 604000 | C14: 403303-PROILANN | D14: Amine Halloli 2019 | E14: 6750
A15: =CONCATENATE(B15,C15) -> 604000403303-PROILANN | B15: 604000 | C15: 403303-PROILANN | D15: Amine Halloli 2019-04_18j | E15: 0
A16: =CONCATENATE(B16,C16) -> 604000403339-SOFEAM | B16: 604000 | C16: 403339-SOFEAM | D16: Enrique Rollo 2019-04_16j | E16: 0
A17: =CONCATENATE(B17,C17) -> 604000403339-SOFEAM | B17: 604000 | C17: 403339-SOFEAM | D17: Enrique Rol 2019 | E17: 6720
A18: =CONCATENATE(B18,C18) -> 604000403339-SOFEAM | B18: 604000 | C18: 403339-SOFEAM | D18: Iliasse Hassalan 2019 | E18: 7175
A19: =CONCATENATE(B19,C19) -> 604000403339-SOFEAM | B19: 604000 | C19: 403339-SOFEAM | D19: Iliasse Hassalan 2019-04_17.50j | E19: 0
... A24: =CONCATENATE(B24,C24) -> 604000403339-SOFEAM | B24: 604000 | C24: 403339-SOFEAM | D24: Quoc Viet Dong 2019 | E24: 8075

Sheet 4 bis
B1: =CONCATENATE(C1,D1)
B2: Pivot analysis
B3: Month : 4 to4 | D3: GL account : 604000 to656000
B4: Year :2019 to 2019 | D4: Supplier :300001 to 408329
B5: GL account | C5: Supplier | D5: Description | E5: Actual
B6: Month | E6: 4
B7: Year | E7: 2019
A8: =CONCATENATE(B8,C8) -> 604000403053-BEMOO | B8: 604000 | C8: 403053-BEMOO | D8: Daniel Benoit 2019 | E8: 10395
A9: =CONCATENATE(B9,C9) -> 604000403053-BEMOO | B9: 604000 | C9: 403053-BEMOO | D9: Daniel Benoit 2019-04_21j | E9: 0
A10: =CONCATENATE(B10,C10) -> 604000403154-GROLO | B10: 604000 | C10: 403154-GROLO | D10: William Grolo 2019 | E10: 8169
A11: =CONCATENATE(B11,C11) -> 604000403154-GROLO | B11: 604000 | C11: 403154-GROLO | D11: William Grolo 2019-04_21j | E11: 0
A12: =CONCATENATE(B12,C12) -> 604000403303-PROILANN | B12: 604000 | C12: 403303-PROILANN | D12: Alexis Cauvet 2019 | E12: 9135
A13: =CONCATENATE(B13,C13) -> 604000403303-PROILANN | B13: 604000 | C13: 403303-PROILANN | D13: Alexis Cauvet 2019-04_21j | E13: 0
A14: =CONCATENATE(B14,C14) -> 604000403303-PROILANN | B14: 604000 | C14: 403303-PROILANN | D14: Amine Halloli 2019 | E14: 6750
A15: =CONCATENATE(B15,C15) -> 604000403303-PROILANN | B15: 604000 | C15: 403303-PROILANN | D15: Amine Halloli 2019-04_18j | E15: 0
A16: =CONCATENATE(B16,C16) -> 604000403339-SOFEAM | B16: 604000 | C16: 403339-SOFEAM | D16: Enrique Rollo 2019-04_16j | E16: 0
A17: =CONCATENATE(B17,C17) -> 604000403339-SOFEAM | B17: 604000 | C17: 403339-SOFEAM | D17: Enrique Rol 2019 | E17: 6720
A18: =CONCATENATE(B18,C18) -> 604000403339-SOFEAM | B18: 604000 | C18: 403339-SOFEAM | D18: Iliasse Hassalan 2019 | E18: 7175
A19: =CONCATENATE(B19,C19) -> 604000403339-SOFEAM | B19: 604000 | C19: 403339-SOFEAM | D19: Iliasse Hassalan 2019-04_17.50j | E19: 0
... A24: =CONCATENATE(B24,C24) -> 604000403339-SOFEAM | B24: 604000 | C24: 403339-SOFEAM | D24: Quoc Viet Dong 2019 | E24: 8075
