Workbook

Sheet Worksheet
A1: Employé | B1: Mail | C1: CA | D1: Naissance | E1: Mois
A2: Johnson Larissa | B2: morbi@nisia.org | C2: 100 | D2: 10/03/1985 | E2: 1
A3: Boyer Griffith | B3: Aliquam@nibhdolor.co.uk | C3: 200 | D3: 01/04/1973 | E3: 1
A4: Battle Conan | B4: arcu@Sed.com | C4: 300 | D4: 03/12/1953 | E4: 1
A5: Travis Rinah | B5: elementum@nullaCraseu.ca | C5: 400 | D5: 23/05/1974 | E5: 1
A6: Atkinson Abel | B6: ac.urna@aodio.org | C6: 500 | D6: 03/05/1990 | E6: 1
A7: Emerson Emery | B7: hendrerit@adipiscing.com | C7: 600 | D7: 15/11/1979 | E7: 1
A8: Taylor Francesca | B8: Sed@sitametlorem.edu | C8: 700 | D8: 12/05/1954 | E8: 1
A9: Kim Eleanor | B9: Nunc@luctusCurabitur.net | C9: 800 | D9: 17/05/1984 | E9: 1
A10: Rodgers Austin | B10: Fusce@Duis.co.uk | C10: 900 | D10: 30/12/1988 | E10: 1
A11: Dunlap Ahmed | B11: elit.Etiam@nonummy.edu | C11: 1000 | D11: 09/06/1959 | E11: 1
A12: Grant Alexander | B12: lorem.Donec.elementum@estMauris.com | C12: 1100 | D12: 06/05/1978 | E12: 1
A13: Reid Tanek | B13: erat.Sed@ultricies.edu | C13: 1200 | D13: 11/03/1978 | E13: 1
... A134: Avila Penelope | B134: sapien@interdumenimnon.ca | C134: 2800 | D134: 20/11/1954 | E134: 3

Sheet Cible
A1: Employé | B1: CA du mois le plus récent
A2: Avila Penelope | B2: =SUMPRODUCT((Worksheet!$A$2:$A$134=Cible!A2)*(Worksheet!$E$2:$E$134=1)*(Worksheet!$C$2:$C$134)) -> 1400
A3: Battle Conan | B3: =SUMPRODUCT((Worksheet!$A$2:$A$134=Cible!A3)*(Worksheet!$E$2:$E$134=1)*(Worksheet!$C$2:$C$134)) -> 300
A4: Boyer Griffith | B4: =SUMPRODUCT((Worksheet!$A$2:$A$134=Cible!A4)*(Worksheet!$E$2:$E$134=1)*(Worksheet!$C$2:$C$134)) -> 200
A5: Bridges Ralph | B5: =SUMPRODUCT((Worksheet!$A$2:$A$134=Cible!A5)*(Worksheet!$E$2:$E$134=1)*(Worksheet!$C$2:$C$134)) -> 900
A6: Bruce Lydia | B6: =SUMPRODUCT((Worksheet!$A$2:$A$134=Cible!A6)*(Worksheet!$E$2:$E$134=1)*(Worksheet!$C$2:$C$134)) -> 700
A7: Burke Adele | B7: =SUMPRODUCT((Worksheet!$A$2:$A$134=Cible!A7)*(Worksheet!$E$2:$E$134=1)*(Worksheet!$C$2:$C$134)) -> 200
A8: Cabrera Vanna | B8: =SUMPRODUCT((Worksheet!$A$2:$A$134=Cible!A8)*(Worksheet!$E$2:$E$134=1)*(Worksheet!$C$2:$C$134)) -> 700
A9: Cardenas Hu | B9: =SUMPRODUCT((Worksheet!$A$2:$A$134=Cible!A9)*(Worksheet!$E$2:$E$134=1)*(Worksheet!$C$2:$C$134)) -> 600
A10: Cervantes Alan | B10: =SUMPRODUCT((Worksheet!$A$2:$A$134=Cible!A10)*(Worksheet!$E$2:$E$134=1)*(Worksheet!$C$2:$C$134)) -> 0
A11: Coffey Yolanda | B11: =SUMPRODUCT((Worksheet!$A$2:$A$134=Cible!A11)*(Worksheet!$E$2:$E$134=1)*(Worksheet!$C$2:$C$134)) -> 0
A12: Delacruz Ifeoma | B12: =SUMPRODUCT((Worksheet!$A$2:$A$134=Cible!A12)*(Worksheet!$E$2:$E$134=1)*(Worksheet!$C$2:$C$134)) -> 0
A13: Dixon Cynthia | B13: =SUMPRODUCT((Worksheet!$A$2:$A$134=Cible!A13)*(Worksheet!$E$2:$E$134=1)*(Worksheet!$C$2:$C$134)) -> 1500
... A59: Wooten Ebony | B59: =SUMPRODUCT((Worksheet!$A$2:$A$134=Cible!A59)*(Worksheet!$E$2:$E$134=1)*(Worksheet!$C$2:$C$134)) -> 1400
