Workbook
Name KPI_ID: Ressources!$J$4:$J$13
Name SPS_ID: Ressources!$M$4:$M$13

Sheet KPI - SPS
C5: KPI / SPS
B10: KPI / Potentiels
B12: ID | C12: Nom | D12: Description
B14: P01 | C14: frerfef
B15: P02 | C15: heeeeeeeeeeek
B16: P03 | C16: dzazdz
B17: P04 | C17: dezdddze
B18: P05
B19: P06
B20: P07
B21: P08
B22: P09
B23: P10
B26: SPS
B28: ID | C28: Nom | D28: Description
B30: SPS01 | C30: rererere
B31: SPS02 | C31: ttetetetete
B32: SPS03 | C32: yeyeyeyeye
B33: SPS04 | C33: zazazaz
B34: SPS05 | C34: deee
B35: SPS06 | C35: zéééééé
B36: SPS07
B37: SPS08
B38: SPS09
B39: SPS10

Sheet Ressources
J2: KPI | M2: SPS
J3: ID | K3: Nom | M3: ID | N3: Nom
J4: P01 | K4: ='KPI - SPS'!C14 -> frerfef | M4: SPS01 | N4: ='KPI - SPS'!C30 -> rererere
J5: P02 | K5: ='KPI - SPS'!C15 -> heeeeeeeeeeek | M5: SPS02 | N5: ='KPI - SPS'!C31 -> ttetetetete
J6: P03 | K6: ='KPI - SPS'!C16 -> dzazdz | M6: SPS03 | N6: ='KPI - SPS'!C32 -> yeyeyeyeye
J7: P04 | K7: ='KPI - SPS'!C17 -> dezdddze | M7: SPS04 | N7: ='KPI - SPS'!C33 -> zazazaz
J8: P05 | K8: ='KPI - SPS'!C18 -> 0 | M8: SPS05 | N8: ='KPI - SPS'!C34 -> deee
J9: P06 | K9: ='KPI - SPS'!C19 -> 0 | M9: SPS06 | N9: ='KPI - SPS'!C35 -> zéééééé
J10: P07 | K10: ='KPI - SPS'!C20 -> 0 | M10: SPS07 | N10: ='KPI - SPS'!C36 -> 0
J11: P08 | K11: ='KPI - SPS'!C21 -> 0 | M11: SPS08 | N11: ='KPI - SPS'!C37 -> 0
J12: P09 | K12: ='KPI - SPS'!C22 -> 0 | M12: SPS09 | N12: ='KPI - SPS'!C38 -> 0
J13: P10 | K13: ='KPI - SPS'!C23 -> 0 | M13: SPS10 | N13: ='KPI - SPS'!C39 -> 0
B16: Type | C16: KPI | D16: SPS | E16: Nom | F16: Score | G16: ID | H16: Démo
B17: Catego | C17: P09 | D17: SPS06 | E17: 66y66 | F17: 1500 | H17: OUI
B18: Fiche Info | C18: P04 | D18: SPS01 | E18: titi1 | F18: 1000
B19: AnaMenu | C19: P02 | D19: SPS06 | E19: 66r66 | F19: 3500
B20: AnaFlag | C20: P01 | D20: SPS01 | E20: titi2 | F20: 4500
B21: Fiche Info | C21: P01 | D21: SPS02 | E21: 222222222222222 | F21: 4000
B22: AnaDoc | C22: P02 | D22: SPS06 | E22: aaaaaaaaaaaaaaaaaaaaaaaa | F22: 3500
B23: AnaDoc | C23: P01 | D23: SPS07 | E23: 777777777ggg | F23: 1500 | H23: OUI
B24: AnaMenu | C24: P09 | D24: SPS06 | E24: 66g66 | F24: 1000
B25: Serious Game | C25: P04 | D25: SPS01 | E25: bonjour | F25: 3500
B26: AnaMenu | C26: P02 | D26: SPS02 | E26: 2a2a2a2a2a2 | F26: 4500 | H26: OUI
B27: AnaMenu | C27: P01 | D27: SPS06 | E27: 66h66 | F27: 4000 | H27: OUI
B28: AnaMenu | C28: P01 | D28: SPS07 | E28: zzzzzzzzzzzzzzzzzzzzzzzzzzzz | F28: 3500
B29: AnaMenu | C29: P02 | D29: SPS06 | E29: 66u66 | F29: 1500
B30: Serious Game | C30: P01 | D30: SPS01 | E30: il était une fois | F30: 1000
B31: PRD | C31: P09 | D31: SPS02 | E31: 2b2b2b2b2b2b2b2b | F31: 3500
B32: Serious Game | C32: P04 | D32: SPS06 | E32: 66a66 | F32: 4500 | H32: OUI
C33: P02 | D33: SPS07 | F33: 4000
C34: P01 | F34: 3500
C35: P01
C36: P02
C37: P01

Sheet Scores
E10: AnaMenu
E12: SPS06 | F12: ='KPI - SPS'!C30 -> rererere
E13: P01 | F13: P02 | G13: P03 | H13: P04 | I13: P05 | J13: P06 | K13: P07 | L13: P08 | M13: P09 | N13: P10
E14: ='KPI - SPS'!$C$14 -> frerfef | F14: ='KPI - SPS'!$C$15 -> heeeeeeeeeeek | G14: ='KPI - SPS'!$C$16 -> dzazdz | H14: ='KPI - SPS'!$C$17 -> dezdddze | I14: ='KPI - SPS'!$C$19 -> 0 | J14: ='KPI - SPS'!$C$20 -> 0 | K14: ='KPI - SPS'!$C$21 -> 0 | L14: ='KPI - SPS'!$C$22 -> 0 | M14: ='KPI - SPS'!$C$23 -> 0 | N14: ='KPI - SPS'!$C$24 -> 0
C15: Activités
C16: SG1 | D16: {=IFERROR(INDEX(Ressources!$E$17:$E$63,SMALL(IF((Ressources!$B$17:$B$63=$E$10)*(Ressources!$D$17:$D$63=$E$12)*ROW($1:$47)<>0,(Ressources!$B$17:$B$63=$E$10)*(Ressources!$D$17:$D$63=$E$12)*ROW($1:$47)),ROWS($1:1))),"")} -> 66r66
C17: SG2 | D17: {=IFERROR(INDEX(Ressources!$E$17:$E$63,SMALL(IF((Ressources!$B$17:$B$63=$E$10)*(Ressources!$D$17:$D$63=$E$12)*ROW($1:$47)<>0,(Ressources!$B$17:$B$63=$E$10)*(Ressources!$D$17:$D$63=$E$12)*ROW($1:$47)),ROWS($1:2))),"")} -> 66g66
C18: SG3 | D18: {=IFERROR(INDEX(Ressources!$E$17:$E$63,SMALL(IF((Ressources!$B$17:$B$63=$E$10)*(Ressources!$D$17:$D$63=$E$12)*ROW($1:$47)<>0,(Ressources!$B$17:$B$63=$E$10)*(Ressources!$D$17:$D$63=$E$12)*ROW($1:$47)),ROWS($1:3))),"")} -> 66h66
C19: SG4 | D19: {=IFERROR(INDEX(Ressources!$E$17:$E$63,SMALL(IF((Ressources!$B$17:$B$63=$E$10)*(Ressources!$D$17:$D$63=$E$12)*ROW($1:$47)<>0,(Ressources!$B$17:$B$63=$E$10)*(Ressources!$D$17:$D$63=$E$12)*ROW($1:$47)),ROWS($1:4))),"")} -> 66u66
C20: SG5 | D20: {=IFERROR(INDEX(Ressources!$E$17:$E$63,SMALL(IF((Ressources!$B$17:$B$63=$E$10)*(Ressources!$D$17:$D$63=$E$12)*ROW($1:$47)<>0,(Ressources!$B$17:$B$63=$E$10)*(Ressources!$D$17:$D$63=$E$12)*ROW($1:$47)),ROWS($1:5))),"")}
C21: SG6 | D21: {=IFERROR(INDEX(Ressources!$E$17:$E$63,SMALL(IF((Ressources!$B$17:$B$63=$E$10)*(Ressources!$D$17:$D$63=$E$12)*ROW($1:$47)<>0,(Ressources!$B$17:$B$63=$E$10)*(Ressources!$D$17:$D$63=$E$12)*ROW($1:$47)),ROWS($1:6))),"")}
