Workbook
Name Sexe: [1]Recettes!$C$92:$C$93

Sheet Feuil1
A1: Nom | B1: Prénom | C1: Sexe | D1: Date de naissance | E1: Taille de la fratrie | F1: rang
A2: Arzo | B2: Frelu | C2: Garçon | D2: 36129 | E2: =COUNTIF(Feuil1!$A$2:$A$15,Feuil1!$A2) -> 4 | F2: =SUMPRODUCT(($A$2:$A$15=$A2)*($D2<$D$2:$D$15))+1 -> 1
A3: Arzo | B3: Groumpf | C3: Garçon | D3: 35573 | E3: =COUNTIF(Feuil1!$A$2:$A$15,Feuil1!$A3) -> 4 | F3: =SUMPRODUCT(($A$2:$A$15=$A3)*($D3<$D$2:$D$15))+1 -> 2
A4: Arzo | B4: Sila | C4: Fille | D4: 31396 | E4: =COUNTIF(Feuil1!$A$2:$A$15,Feuil1!$A4) -> 4 | F4: =SUMPRODUCT(($A$2:$A$15=$A4)*($D4<$D$2:$D$15))+1 -> 3
A5: Arzo | B5: Falbala | C5: Fille | D5: 28444 | E5: =COUNTIF(Feuil1!$A$2:$A$15,Feuil1!$A5) -> 4 | F5: =SUMPRODUCT(($A$2:$A$15=$A5)*($D5<$D$2:$D$15))+1 -> 4
A6: Brobul | B6: Gred | C6: Garçon | D6: 24242 | E6: =COUNTIF(Feuil1!$A$2:$A$15,Feuil1!$A6) -> 3 | F6: =SUMPRODUCT(($A$2:$A$15=$A6)*($D6<$D$2:$D$15))+1 -> 2
A7: Brobul | B7: Tridut | C7: Garçon | D7: 16550 | E7: =COUNTIF(Feuil1!$A$2:$A$15,Feuil1!$A7) -> 3 | F7: =SUMPRODUCT(($A$2:$A$15=$A7)*($D7<$D$2:$D$15))+1 -> 3
A8: Brobul | B8: Sanme | C8: Fille | D8: 36129 | E8: =COUNTIF(Feuil1!$A$2:$A$15,Feuil1!$A8) -> 3 | F8: =SUMPRODUCT(($A$2:$A$15=$A8)*($D8<$D$2:$D$15))+1 -> 1
A9: Clonque | B9: Hasse | C9: Fille | D9: 35573 | E9: =COUNTIF(Feuil1!$A$2:$A$15,Feuil1!$A9) -> 2 | F9: =SUMPRODUCT(($A$2:$A$15=$A9)*($D9<$D$2:$D$15))+1 -> 1
A10: Clonque | B10: Bede | C10: Garçon | D10: 31396 | E10: =COUNTIF(Feuil1!$A$2:$A$15,Feuil1!$A10) -> 2 | F10: =SUMPRODUCT(($A$2:$A$15=$A10)*($D10<$D$2:$D$15))+1 -> 2
A11: Dadais | B11: Grand | C11: Garçon | D11: 28444 | E11: =COUNTIF(Feuil1!$A$2:$A$15,Feuil1!$A11) -> 2 | F11: =SUMPRODUCT(($A$2:$A$15=$A11)*($D11<$D$2:$D$15))+1 -> 1
A12: Dadais | B12: Petite | C12: Fille | D12: 24242 | E12: =COUNTIF(Feuil1!$A$2:$A$15,Feuil1!$A12) -> 2 | F12: =SUMPRODUCT(($A$2:$A$15=$A12)*($D12<$D$2:$D$15))+1 -> 2
A13: Emonga | B13: Gdonga | C13: Garçon | D13: 16550 | E13: =COUNTIF(Feuil1!$A$2:$A$15,Feuil1!$A13) -> 2 | F13: =SUMPRODUCT(($A$2:$A$15=$A13)*($D13<$D$2:$D$15))+1 -> 1
... A15: Fourla | B15: Chutre | C15: Garçon | D15: 36129 | E15: =COUNTIF(Feuil1!$A$2:$A$15,Feuil1!$A15) -> 1 | F15: =SUMPRODUCT(($A$2:$A$15=$A15)*($D15<$D$2:$D$15))+1 -> 1
