Workbook
Name KPI_ID: Ressources!$F$11:$F$20
Name SPS_ID: Ressources!$F$24:$F$33

Sheet KPI - SPS
F3: =#REF! -> #REF!
F5: KPI / SPS
F10: KPI / Potentiels
F11: ID | G11: Nom | H11: Description
F12: P01 | G12: frerfef
F13: P02 | G13: frefrefr
F14: P03 | G14: dzazdz
F15: P04 | G15: dezdddze
F16: P05
F17: P06
F18: P07
F19: P08
F20: P09
F21: P10
F24: SPS
F25: ID | G25: Nom | H25: Description
F26: O01 | G26: rererere
F27: O02 | G27: ttetetetete
F28: O03 | G28: yeyeyeyeye
F29: O04 | G29: zazazaz
F30: O05 | G30: deee
F31: O06 | G31: zéééééé
F32: O07
F33: O08
F34: O09
F35: O10
F40: F?????

Sheet Ressources
F9: KPI
F10: ID | G10: Nom
F11: P01 | G11: ='KPI - SPS'!G12 -> frerfef
F12: P02 | G12: ='KPI - SPS'!G13 -> frefrefr
F13: P03 | G13: ='KPI - SPS'!G14 -> dzazdz | J13: =IF(F37="AnaDoc","AnaD",IF(F37="AnaFlag","AnaF",IF(F37="AnaMenu","AnaM",IF(F37="Catego","Cat",IF(F37="Fiche Info","Inf",IF(F37="PRD","PRD",""))))))
F14: P04 | G14: ='KPI - SPS'!G15 -> dezdddze
F15: P05 | G15: ='KPI - SPS'!G16 -> 0
F16: P06 | G16: ='KPI - SPS'!G17 -> 0
F17: P07 | G17: ='KPI - SPS'!G18 -> 0
F18: P08 | G18: ='KPI - SPS'!G19 -> 0
F19: P09 | G19: ='KPI - SPS'!G20 -> 0
F20: P10 | G20: ='KPI - SPS'!G21 -> 0
F22: SPS
F23: ID | G23: Nom
F24: O01 | G24: ='KPI - SPS'!G26 -> rererere
F25: O02 | G25: ='KPI - SPS'!G27 -> ttetetetete
F26: O03 | G26: ='KPI - SPS'!G28 -> yeyeyeyeye
F27: O04 | G27: ='KPI - SPS'!G29 -> zazazaz
F28: O05 | G28: ='KPI - SPS'!G30 -> deee
F29: O06 | G29: ='KPI - SPS'!G31 -> zéééééé
F30: O07 | G30: ='KPI - SPS'!G32 -> 0
F31: O08 | G31: ='KPI - SPS'!G33 -> 0
F32: O09 | G32: ='KPI - SPS'!G34 -> 0
F33: O10 | G33: ='KPI - SPS'!G35 -> 0
F35: Type | G35: F | H35: KPI | I35: SPS | J35: Nom | K35: Score | L35: ID | M35: Démo
F36: Serious Game | G36: F06 | H36: P01 | I36: O01 | J36: Blablabla | K36: 3000 | L36: {=IF(F36="Serious Game",J36,IF(OR(F36="AnaDoc",F36="AnaFlag",F36="AnaMenu",F36="Catego",F36="Fiche Info",F36="PRD"),CONCATENATE(G36,"_",H36,"_",I36,"_",IF(F36="AnaDoc","AnaD",IF(F36="AnaFlag","AnaF",IF(F36="AnaMenu","AnaM",IF(F36="Catego","Cat",IF(F36="Fiche Info","Inf",IF(F36="PRD","PRD",""))))))))&($F36<>"")*SUMPRODUCT(($F$36:$F36=$F36)*($G$36:$G36=$G36)*($H$36:$H36=$H36)*($I$36:$I36=$I36)))} -> Blablabla
F37: Serious Game | H37: P01 | I37: O01 | J37: grgtrgrtrggrt | K37: 3000 | L37: {=IF(F37="Serious Game",J37,IF(OR(F37="AnaDoc",F37="AnaFlag",F37="AnaMenu",F37="Catego",F37="Fiche Info",F37="PRD"),CONCATENATE(G37,"_",H37,"_",I37,"_",IF(F37="AnaDoc","AnaD",IF(F37="AnaFlag","AnaF",IF(F37="AnaMenu","AnaM",IF(F37="Catego","Cat",IF(F37="Fiche Info","Inf",IF(F37="PRD","PRD",""))))))))&($F37<>"")*SUMPRODUCT(($F$36:$F37=$F37)*($G$36:$G37=$G37)*($H$36:$H37=$H37)*($I$36:$I37=$I37)))} -> grgtrgrtrggrt
F38: Fiche Info | G38: F05 | H38: P01 | I38: O01 | K38: 4000 | L38: {=IF(F38="Serious Game",J38,IF(OR(F38="AnaDoc",F38="AnaFlag",F38="AnaMenu",F38="Catego",F38="Fiche Info",F38="PRD"),CONCATENATE(G38,"_",H38,"_",I38,"_",IF(F38="AnaDoc","AnaD",IF(F38="AnaFlag","AnaF",IF(F38="AnaMenu","AnaM",IF(F38="Catego","Cat",IF(F38="Fiche Info","Inf",IF(F38="PRD","PRD",""))))))))&($F38<>"")*SUMPRODUCT(($F$36:$F38=$F38)*($G$36:$G38=$G38)*($H$36:$H38=$H38)*($I$36:$I38=$I38)))} -> F05_P01_O01_Inf1
F39: Fiche Info | G39: F05 | H39: P01 | I39: O01 | K39: 1000 | L39: {=IF(F39="Serious Game",J39,IF(OR(F39="AnaDoc",F39="AnaFlag",F39="AnaMenu",F39="Catego",F39="Fiche Info",F39="PRD"),CONCATENATE(G39,"_",H39,"_",I39,"_",IF(F39="AnaDoc","AnaD",IF(F39="AnaFlag","AnaF",IF(F39="AnaMenu","AnaM",IF(F39="Catego","Cat",IF(F39="Fiche Info","Inf",IF(F39="PRD","PRD",""))))))))&($F39<>"")*SUMPRODUCT(($F$36:$F39=$F39)*($G$36:$G39=$G39)*($H$36:$H39=$H39)*($I$36:$I39=$I39)))} -> F05_P01_O01_Inf2
F40: AnaDoc | H40: P01 | I40: O01 | K40: 3000 | L40: {=IF(F40="Serious Game",J40,IF(OR(F40="AnaDoc",F40="AnaFlag",F40="AnaMenu",F40="Catego",F40="Fiche Info",F40="PRD"),CONCATENATE(G40,"_",H40,"_",I40,"_",IF(F40="AnaDoc","AnaD",IF(F40="AnaFlag","AnaF",IF(F40="AnaMenu","AnaM",IF(F40="Catego","Cat",IF(F40="Fiche Info","Inf",IF(F40="PRD","PRD",""))))))))&($F40<>"")*SUMPRODUCT(($F$36:$F40=$F40)*($G$36:$G40=$G40)*($H$36:$H40=$H40)*($I$36:$I40=$I40)))} -> _P01_O01_AnaD1
F41: AnaMenu | H41: P01 | I41: O01 | K41: 3500 | L41: {=IF(F41="Serious Game",J41,IF(OR(F41="AnaDoc",F41="AnaFlag",F41="AnaMenu",F41="Catego",F41="Fiche Info",F41="PRD"),CONCATENATE(G41,"_",H41,"_",I41,"_",IF(F41="AnaDoc","AnaD",IF(F41="AnaFlag","AnaF",IF(F41="AnaMenu","AnaM",IF(F41="Catego","Cat",IF(F41="Fiche Info","Inf",IF(F41="PRD","PRD",""))))))))&($F41<>"")*SUMPRODUCT(($F$36:$F41=$F41)*($G$36:$G41=$G41)*($H$36:$H41=$H41)*($I$36:$I41=$I41)))} -> _P01_O01_AnaM1
F42: AnaFlag | H42: P01 | I42: O01 | L42: {=IF(F42="Serious Game",J42,IF(OR(F42="AnaDoc",F42="AnaFlag",F42="AnaMenu",F42="Catego",F42="Fiche Info",F42="PRD"),CONCATENATE(G42,"_",H42,"_",I42,"_",IF(F42="AnaDoc","AnaD",IF(F42="AnaFlag","AnaF",IF(F42="AnaMenu","AnaM",IF(F42="Catego","Cat",IF(F42="Fiche Info","Inf",IF(F42="PRD","PRD",""))))))))&($F42<>"")*SUMPRODUCT(($F$36:$F42=$F42)*($G$36:$G42=$G42)*($H$36:$H42=$H42)*($I$36:$I42=$I42)))} -> _P01_O01_AnaF1
F43: AnaFlag | G43: F04 | H43: P01 | I43: O01 | J43: fefeffzaezaeafafe | L43: {=IF(F43="Serious Game",J43,IF(OR(F43="AnaDoc",F43="AnaFlag",F43="AnaMenu",F43="Catego",F43="Fiche Info",F43="PRD"),CONCATENATE(G43,"_",H43,"_",I43,"_",IF(F43="AnaDoc","AnaD",IF(F43="AnaFlag","AnaF",IF(F43="AnaMenu","AnaM",IF(F43="Catego","Cat",IF(F43="Fiche Info","Inf",IF(F43="PRD","PRD",""))))))))&($F43<>"")*SUMPRODUCT(($F$36:$F43=$F43)*($G$36:$G43=$G43)*($H$36:$H43=$H43)*($I$36:$I43=$I43)))} -> F04_P01_O01_AnaF1
L44: {=IF(F44="Serious Game",J44,IF(OR(F44="AnaDoc",F44="AnaFlag",F44="AnaMenu",F44="Catego",F44="Fiche Info",F44="PRD"),CONCATENATE(G44,"_",H44,"_",I44,"_",IF(F44="AnaDoc","AnaD",IF(F44="AnaFlag","AnaF",IF(F44="AnaMenu","AnaM",IF(F44="Catego","Cat",IF(F44="Fiche Info","Inf",IF(F44="PRD","PRD",""))))))))&($F44<>"")*SUMPRODUCT(($F$36:$F44=$F44)*($G$36:$G44=$G44)*($H$36:$H44=$H44)*($I$36:$I44=$I44)))} -> FAUX0
L45: {=IF(F45="Serious Game",J45,IF(OR(F45="AnaDoc",F45="AnaFlag",F45="AnaMenu",F45="Catego",F45="Fiche Info",F45="PRD"),CONCATENATE(G45,"_",H45,"_",I45,"_",IF(F45="AnaDoc","AnaD",IF(F45="AnaFlag","AnaF",IF(F45="AnaMenu","AnaM",IF(F45="Catego","Cat",IF(F45="Fiche Info","Inf",IF(F45="PRD","PRD",""))))))))&($F45<>"")*SUMPRODUCT(($F$36:$F45=$F45)*($G$36:$G45=$G45)*($H$36:$H45=$H45)*($I$36:$I45=$I45)))} -> FAUX0
L46: {=IF(F46="Serious Game",J46,IF(OR(F46="AnaDoc",F46="AnaFlag",F46="AnaMenu",F46="Catego",F46="Fiche Info",F46="PRD"),CONCATENATE(G46,"_",H46,"_",I46,"_",IF(F46="AnaDoc","AnaD",IF(F46="AnaFlag","AnaF",IF(F46="AnaMenu","AnaM",IF(F46="Catego","Cat",IF(F46="Fiche Info","Inf",IF(F46="PRD","PRD",""))))))))&($F46<>"")*SUMPRODUCT(($F$36:$F46=$F46)*($G$36:$G46=$G46)*($H$36:$H46=$H46)*($I$36:$I46=$I46)))} -> FAUX0
L47: {=IF(F47="Serious Game",J47,IF(OR(F47="AnaDoc",F47="AnaFlag",F47="AnaMenu",F47="Catego",F47="Fiche Info",F47="PRD"),CONCATENATE(G47,"_",H47,"_",I47,"_",IF(F47="AnaDoc","AnaD",IF(F47="AnaFlag","AnaF",IF(F47="AnaMenu","AnaM",IF(F47="Catego","Cat",IF(F47="Fiche Info","Inf",IF(F47="PRD","PRD",""))))))))&($F47<>"")*SUMPRODUCT(($F$36:$F47=$F47)*($G$36:$G47=$G47)*($H$36:$H47=$H47)*($I$36:$I47=$I47)))} -> FAUX0
L48: {=IF(F48="Serious Game",J48,IF(OR(F48="AnaDoc",F48="AnaFlag",F48="AnaMenu",F48="Catego",F48="Fiche Info",F48="PRD"),CONCATENATE(G48,"_",H48,"_",I48,"_",IF(F48="AnaDoc","AnaD",IF(F48="AnaFlag","AnaF",IF(F48="AnaMenu","AnaM",IF(F48="Catego","Cat",IF(F48="Fiche Info","Inf",IF(F48="PRD","PRD",""))))))))&($F48<>"")*SUMPRODUCT(($F$36:$F48=$F48)*($G$36:$G48=$G48)*($H$36:$H48=$H48)*($I$36:$I48=$I48)))} -> FAUX0
L49: {=IF(F49="Serious Game",J49,IF(OR(F49="AnaDoc",F49="AnaFlag",F49="AnaMenu",F49="Catego",F49="Fiche Info",F49="PRD"),CONCATENATE(G49,"_",H49,"_",I49,"_",IF(F49="AnaDoc","AnaD",IF(F49="AnaFlag","AnaF",IF(F49="AnaMenu","AnaM",IF(F49="Catego","Cat",IF(F49="Fiche Info","Inf",IF(F49="PRD","PRD",""))))))))&($F49<>"")*SUMPRODUCT(($F$36:$F49=$F49)*($G$36:$G49=$G49)*($H$36:$H49=$H49)*($I$36:$I49=$I49)))} -> FAUX0
L50: {=IF(F50="Serious Game",J50,IF(OR(F50="AnaDoc",F50="AnaFlag",F50="AnaMenu",F50="Catego",F50="Fiche Info",F50="PRD"),CONCATENATE(G50,"_",H50,"_",I50,"_",IF(F50="AnaDoc","AnaD",IF(F50="AnaFlag","AnaF",IF(F50="AnaMenu","AnaM",IF(F50="Catego","Cat",IF(F50="Fiche Info","Inf",IF(F50="PRD","PRD",""))))))))&($F50<>"")*SUMPRODUCT(($F$36:$F50=$F50)*($G$36:$G50=$G50)*($H$36:$H50=$H50)*($I$36:$I50=$I50)))} -> FAUX0
L51: {=IF(F51="Serious Game",J51,IF(OR(F51="AnaDoc",F51="AnaFlag",F51="AnaMenu",F51="Catego",F51="Fiche Info",F51="PRD"),CONCATENATE(G51,"_",H51,"_",I51,"_",IF(F51="AnaDoc","AnaD",IF(F51="AnaFlag","AnaF",IF(F51="AnaMenu","AnaM",IF(F51="Catego","Cat",IF(F51="Fiche Info","Inf",IF(F51="PRD","PRD",""))))))))&($F51<>"")*SUMPRODUCT(($F$36:$F51=$F51)*($G$36:$G51=$G51)*($H$36:$H51=$H51)*($I$36:$I51=$I51)))} -> FAUX0
L52: {=IF(F52="Serious Game",J52,IF(OR(F52="AnaDoc",F52="AnaFlag",F52="AnaMenu",F52="Catego",F52="Fiche Info",F52="PRD"),CONCATENATE(G52,"_",H52,"_",I52,"_",IF(F52="AnaDoc","AnaD",IF(F52="AnaFlag","AnaF",IF(F52="AnaMenu","AnaM",IF(F52="Catego","Cat",IF(F52="Fiche Info","Inf",IF(F52="PRD","PRD",""))))))))&($F52<>"")*SUMPRODUCT(($F$36:$F52=$F52)*($G$36:$G52=$G52)*($H$36:$H52=$H52)*($I$36:$I52=$I52)))} -> FAUX0
L53: {=IF(F53="Serious Game",J53,IF(OR(F53="AnaDoc",F53="AnaFlag",F53="AnaMenu",F53="Catego",F53="Fiche Info",F53="PRD"),CONCATENATE(G53,"_",H53,"_",I53,"_",IF(F53="AnaDoc","AnaD",IF(F53="AnaFlag","AnaF",IF(F53="AnaMenu","AnaM",IF(F53="Catego","Cat",IF(F53="Fiche Info","Inf",IF(F53="PRD","PRD",""))))))))&($F53<>"")*SUMPRODUCT(($F$36:$F53=$F53)*($G$36:$G53=$G53)*($H$36:$H53=$H53)*($I$36:$I53=$I53)))} -> FAUX0
L54: {=IF(F54="Serious Game",J54,IF(OR(F54="AnaDoc",F54="AnaFlag",F54="AnaMenu",F54="Catego",F54="Fiche Info",F54="PRD"),CONCATENATE(G54,"_",H54,"_",I54,"_",IF(F54="AnaDoc","AnaD",IF(F54="AnaFlag","AnaF",IF(F54="AnaMenu","AnaM",IF(F54="Catego","Cat",IF(F54="Fiche Info","Inf",IF(F54="PRD","PRD",""))))))))&($F54<>"")*SUMPRODUCT(($F$36:$F54=$F54)*($G$36:$G54=$G54)*($H$36:$H54=$H54)*($I$36:$I54=$I54)))} -> FAUX0
L55: {=IF(F55="Serious Game",J55,IF(OR(F55="AnaDoc",F55="AnaFlag",F55="AnaMenu",F55="Catego",F55="Fiche Info",F55="PRD"),CONCATENATE(G55,"_",H55,"_",I55,"_",IF(F55="AnaDoc","AnaD",IF(F55="AnaFlag","AnaF",IF(F55="AnaMenu","AnaM",IF(F55="Catego","Cat",IF(F55="Fiche Info","Inf",IF(F55="PRD","PRD",""))))))))&($F55<>"")*SUMPRODUCT(($F$36:$F55=$F55)*($G$36:$G55=$G55)*($H$36:$H55=$H55)*($I$36:$I55=$I55)))} -> FAUX0
... L125: {=IF(F125="Serious Game",J125,IF(OR(F125="AnaDoc",F125="AnaFlag",F125="AnaMenu",F125="Catego",F125="Fiche Info",F125="PRD"),CONCATENATE(G125,"_",H125,"_",I125,"_",IF(F125="AnaDoc","AnaD",IF(F125="AnaFlag","AnaF",IF(F125="AnaMenu","AnaM",IF(F125="Catego","Cat",IF(F125="Fiche Info","Inf",IF(F125="PRD","PRD",""))))))))&($F125<>"")*SUMPRODUCT(($F$36:$F125=$F125)*($G$36:$G125=$G125)*($H$36:$H125=$H125)*($I$36:$I125=$I125)))} -> FAUX0

Sheet Scores
F3: =#REF! -> #REF!
F5: SCORES | H5: SIERREUR(INDEX(Ressources!$J$36:$J$125;PETITE.VALEUR(SI((Ressources!$F$36:$F$125="Serious Game")*(Ressources!$I$36:$I$125="O01")*LIGNE($1:$89)<>0;(Ressources!$F$36:$F$125="Serious Game")*(Ressources!$I$36:$I$125="O01")*LIGNE($1:89));LIGNES($1:1)));"")
H7: SIERREUR(INDEX(Ressources!$E$17:$E$63;PETITE.VALEUR(SI((Ressources!$B$17:$B$63="Serious Game")*(Ressources!$D$17:$D$63="O01")*LIGNE($1:$47)<>0;(Ressources!$B$17:$B$63="Serious Game")*(Ressources!$D$17:$D$63="O01")*LIGNE($1:$47));LIGNES($1:1)));"")
H9: INDEX($G$5:$G$10;PETITE.VALEUR(SI(((Ressources!$F$36:$F$125="Serious Game")*LIGNE($1:$89))>0;($F$5:$F$10="a")*LIGNE($1:$6));LIGNES($1:1)))
B11: SPS01
H14: SPS01 | I14: ='KPI - SPS'!G26 -> rererere
H15: P01 | I15: P02 | J15: P03 | K15: P04 | L15: P05 | M15: P06 | N15: P07 | O15: P08 | P15: P09 | Q15: P10
H16: ='KPI - SPS'!$G$12 -> frerfef | I16: ='KPI - SPS'!$G$13 -> frefrefr | J16: ='KPI - SPS'!$G$14 -> dzazdz | K16: ='KPI - SPS'!$G$15 -> dezdddze | L16: ='KPI - SPS'!$G$17 -> 0 | M16: ='KPI - SPS'!$G$18 -> 0 | N16: ='KPI - SPS'!$G$19 -> 0 | O16: ='KPI - SPS'!$G$20 -> 0 | P16: ='KPI - SPS'!$G$21 -> 0 | Q16: ='KPI - SPS'!$G$22 -> 0
F17: Activités Shell | H17: =(SUMIFS(Ressources!$K$36:$K$125,Ressources!$H$36:$H$125,"P01",Ressources!$I$36:$I$125,"O01"))-(SUMIFS(Ressources!$K$36:$K$125,Ressources!$F$36:$F$125,"Serious Game",Ressources!$H$36:$H$125,"P01",Ressources!$I$36:$I$125,"O01")) -> 11500 | I17: =(SUMIFS(Ressources!$K$36:$K$125,Ressources!$H$36:$H$125,"P02",Ressources!$I$36:$I$125,"O01"))-(SUMIFS(Ressources!$K$36:$K$125,Ressources!$F$36:$F$125,"Serious Game",Ressources!$H$36:$H$125,"P02",Ressources!$I$36:$I$125,"O01")) -> 0 | J17: =(SUMIFS(Ressources!$K$36:$K$125,Ressources!$H$36:$H$125,"P03",Ressources!$I$36:$I$125,"O01"))-(SUMIFS(Ressources!$K$36:$K$125,Ressources!$F$36:$F$125,"Serious Game",Ressources!$H$36:$H$125,"P03",Ressources!$I$36:$I$125,"O01")) -> 0 | K17: =(SUMIFS(Ressources!$K$36:$K$125,Ressources!$H$36:$H$125,"P04",Ressources!$I$36:$I$125,"O01"))-(SUMIFS(Ressources!$K$36:$K$125,Ressources!$F$36:$F$125,"Serious Game",Ressources!$H$36:$H$125,"P04",Ressources!$I$36:$I$125,"O01")) -> 0 | L17: =(SUMIFS(Ressources!$K$36:$K$125,Ressources!$H$36:$H$125,"P05",Ressources!$I$36:$I$125,"O01"))-(SUMIFS(Ressources!$K$36:$K$125,Ressources!$F$36:$F$125,"Serious Game",Ressources!$H$36:$H$125,"P05",Ressources!$I$36:$I$125,"O01")) -> 0 | M17: =(SUMIFS(Ressources!$K$36:$K$125,Ressources!$H$36:$H$125,"P06",Ressources!$I$36:$I$125,"O01"))-(SUMIFS(Ressources!$K$36:$K$125,Ressources!$F$36:$F$125,"Serious Game",Ressources!$H$36:$H$125,"P06",Ressources!$I$36:$I$125,"O01")) -> 0 | N17: =(SUMIFS(Ressources!$K$36:$K$125,Ressources!$H$36:$H$125,"P07",Ressources!$I$36:$I$125,"O01"))-(SUMIFS(Ressources!$K$36:$K$125,Ressources!$F$36:$F$125,"Serious Game",Ressources!$H$36:$H$125,"P07",Ressources!$I$36:$I$125,"O01")) -> 0 | O17: =(SUMIFS(Ressources!$K$36:$K$125,Ressources!$H$36:$H$125,"P08",Ressources!$I$36:$I$125,"O01"))-(SUMIFS(Ressources!$K$36:$K$125,Ressources!$F$36:$F$125,"Serious Game",Ressources!$H$36:$H$125,"P08",Ressources!$I$36:$I$125,"O01")) -> 0 | P17: =(SUMIFS(Ressources!$K$36:$K$125,Ressources!$H$36:$H$125,"P09",Ressources!$I$36:$I$125,"O01"))-(SUMIFS(Ressources!$K$36:$K$125,Ressources!$F$36:$F$125,"Serious Game",Ressources!$H$36:$H$125,"P09",Ressources!$I$36:$I$125,"O01")) -> 0 | Q17: =(SUMIFS(Ressources!$K$36:$K$125,Ressources!$H$36:$H$125,"P10",Ressources!$I$36:$I$125,"O01"))-(SUMIFS(Ressources!$K$36:$K$125,Ressources!$F$36:$F$125,"Serious Game",Ressources!$H$36:$H$125,"P10",Ressources!$I$36:$I$125,"O01")) -> 0
F18: SG1 | G18: {=IFERROR(INDEX(Ressources!$J$36:$J$125,SMALL(IF((Ressources!$F$36:$F$125="Serious Game")*(Ressources!$I$36:$I$125="O01")*ROW($1:$90)<>0,(Ressources!$F$36:$F$125="Serious Game")*(Ressources!$I$36:$I$125="O01")*ROW($1:$90)),ROWS($1:1))),"")} -> Blablabla
F19: SG2 | G19: {=IFERROR(INDEX(Ressources!$J$36:$J$125,SMALL(IF((Ressources!$F$36:$F$125="Serious Game")*(Ressources!$I$36:$I$125="O01")*ROW($1:$90)<>0,(Ressources!$F$36:$F$125="Serious Game")*(Ressources!$I$36:$I$125="O01")*ROW($1:$90)),ROWS($1:2))),"")} -> grgtrgrtrggrt
F20: SG3 | G20: {=IFERROR(INDEX(Ressources!$J$36:$J$125,SMALL(IF((Ressources!$F$36:$F$125="Serious Game")*(Ressources!$I$36:$I$125="O01")*ROW($1:$90)<>0,(Ressources!$F$36:$F$125="Serious Game")*(Ressources!$I$36:$I$125="O01")*ROW($1:$90)),ROWS($1:3))),"")}
F21: SG4 | G21: {=IFERROR(INDEX(Ressources!$J$36:$J$125,SMALL(IF((Ressources!$F$36:$F$125="Serious Game")*(Ressources!$I$36:$I$125="O01")*ROW($1:$90)<>0,(Ressources!$F$36:$F$125="Serious Game")*(Ressources!$I$36:$I$125="O01")*ROW($1:$90)),ROWS($1:4))),"")}
F22: SG5 | G22: {=IFERROR(INDEX(Ressources!$J$36:$J$125,SMALL(IF((Ressources!$F$36:$F$125="Serious Game")*(Ressources!$I$36:$I$125="O01")*ROW($1:$90)<>0,(Ressources!$F$36:$F$125="Serious Game")*(Ressources!$I$36:$I$125="O01")*ROW($1:$90)),ROWS($1:5))),"")}
F23: SG6 | G23: {=IFERROR(INDEX(Ressources!$J$36:$J$125,SMALL(IF((Ressources!$F$36:$F$125="Serious Game")*(Ressources!$I$36:$I$125="O01")*ROW($1:$90)<>0,(Ressources!$F$36:$F$125="Serious Game")*(Ressources!$I$36:$I$125="O01")*ROW($1:$90)),ROWS($1:6))),"")}
B25: SPS02
H28: SPS02 | I28: ='KPI - SPS'!F38 -> 0
H29: P01 | I29: P02 | J29: P03 | K29: P04 | L29: P05 | M29: P06 | N29: P07 | O29: P08 | P29: P09 | Q29: P10
H30: ='KPI - SPS'!$G$12 -> frerfef | I30: ='KPI - SPS'!$G$13 -> frefrefr | J30: ='KPI - SPS'!$G$14 -> dzazdz | K30: ='KPI - SPS'!$G$15 -> dezdddze | L30: ='KPI - SPS'!$G$17 -> 0 | M30: ='KPI - SPS'!$G$18 -> 0 | N30: ='KPI - SPS'!$G$19 -> 0 | O30: ='KPI - SPS'!$G$20 -> 0 | P30: ='KPI - SPS'!$G$21 -> 0 | Q30: ='KPI - SPS'!$G$22 -> 0
F31: Activités Shell | H31: =(SUMIFS(Ressources!$K$36:$K$125,Ressources!$H$36:$H$125,"P01",Ressources!$I$36:$I$125,"O02"))-(SUMIFS(Ressources!$K$36:$K$125,Ressources!$F$36:$F$125,"Serious Game",Ressources!$H$36:$H$125,"P01",Ressources!$I$36:$I$125,"O02")) -> 0 | I31: =(SUMIFS(Ressources!$K$36:$K$125,Ressources!$H$36:$H$125,"P02",Ressources!$I$36:$I$125,"O02"))-(SUMIFS(Ressources!$K$36:$K$125,Ressources!$F$36:$F$125,"Serious Game",Ressources!$H$36:$H$125,"P02",Ressources!$I$36:$I$125,"O02")) -> 0 | J31: =(SUMIFS(Ressources!$K$36:$K$125,Ressources!$H$36:$H$125,"P03",Ressources!$I$36:$I$125,"O02"))-(SUMIFS(Ressources!$K$36:$K$125,Ressources!$F$36:$F$125,"Serious Game",Ressources!$H$36:$H$125,"P03",Ressources!$I$36:$I$125,"O02")) -> 0 | K31: =(SUMIFS(Ressources!$K$36:$K$125,Ressources!$H$36:$H$125,"P04",Ressources!$I$36:$I$125,"O02"))-(SUMIFS(Ressources!$K$36:$K$125,Ressources!$F$36:$F$125,"Serious Game",Ressources!$H$36:$H$125,"P04",Ressources!$I$36:$I$125,"O02")) -> 0 | L31: =(SUMIFS(Ressources!$K$36:$K$125,Ressources!$H$36:$H$125,"P05",Ressources!$I$36:$I$125,"O02"))-(SUMIFS(Ressources!$K$36:$K$125,Ressources!$F$36:$F$125,"Serious Game",Ressources!$H$36:$H$125,"P05",Ressources!$I$36:$I$125,"O02")) -> 0 | M31: =(SUMIFS(Ressources!$K$36:$K$125,Ressources!$H$36:$H$125,"P06",Ressources!$I$36:$I$125,"O02"))-(SUMIFS(Ressources!$K$36:$K$125,Ressources!$F$36:$F$125,"Serious Game",Ressources!$H$36:$H$125,"P06",Ressources!$I$36:$I$125,"O02")) -> 0 | N31: =(SUMIFS(Ressources!$K$36:$K$125,Ressources!$H$36:$H$125,"P07",Ressources!$I$36:$I$125,"O02"))-(SUMIFS(Ressources!$K$36:$K$125,Ressources!$F$36:$F$125,"Serious Game",Ressources!$H$36:$H$125,"P07",Ressources!$I$36:$I$125,"O02")) -> 0 | O31: =(SUMIFS(Ressources!$K$36:$K$125,Ressources!$H$36:$H$125,"P08",Ressources!$I$36:$I$125,"O02"))-(SUMIFS(Ressources!$K$36:$K$125,Ressources!$F$36:$F$125,"Serious Game",Ressources!$H$36:$H$125,"P08",Ressources!$I$36:$I$125,"O02")) -> 0 | P31: =(SUMIFS(Ressources!$K$36:$K$125,Ressources!$H$36:$H$125,"P09",Ressources!$I$36:$I$125,"O02"))-(SUMIFS(Ressources!$K$36:$K$125,Ressources!$F$36:$F$125,"Serious Game",Ressources!$H$36:$H$125,"P09",Ressources!$I$36:$I$125,"O02")) -> 0 | Q31: =(SUMIFS(Ressources!$K$36:$K$125,Ressources!$H$36:$H$125,"P10",Ressources!$I$36:$I$125,"O02"))-(SUMIFS(Ressources!$K$36:$K$125,Ressources!$F$36:$F$125,"Serious Game",Ressources!$H$36:$H$125,"P10",Ressources!$I$36:$I$125,"O02")) -> 0
F32: SG1
F33: SG2
F34: SG3
F35: SG4
F36: SG5
F37: SG6
B39: SPS03
H42: SPS03 | I42: ='KPI - SPS'!F50 -> 0
H43: P01 | I43: P02 | J43: P03 | K43: P04 | L43: P05 | M43: P06 | N43: P07 | O43: P08 | P43: P09 | Q43: P10
H44: ='KPI - SPS'!$G$12 -> frerfef | I44: ='KPI - SPS'!$G$13 -> frefrefr | J44: ='KPI - SPS'!$G$14 -> dzazdz | K44: ='KPI - SPS'!$G$15 -> dezdddze | L44: ='KPI - SPS'!$G$17 -> 0 | M44: ='KPI - SPS'!$G$18 -> 0 | N44: ='KPI - SPS'!$G$19 -> 0 | O44: ='KPI - SPS'!$G$20 -> 0 | P44: ='KPI - SPS'!$G$21 -> 0 | Q44: ='KPI - SPS'!$G$22 -> 0
F45: Activités Shell | H45: =(SUMIFS(Ressources!$K$36:$K$125,Ressources!$H$36:$H$125,"P01",Ressources!$I$36:$I$125,"O03"))-(SUMIFS(Ressources!$K$36:$K$125,Ressources!$F$36:$F$125,"Serious Game",Ressources!$H$36:$H$125,"P01",Ressources!$I$36:$I$125,"O03")) -> 0 | I45: =(SUMIFS(Ressources!$K$36:$K$125,Ressources!$H$36:$H$125,"P02",Ressources!$I$36:$I$125,"O03"))-(SUMIFS(Ressources!$K$36:$K$125,Ressources!$F$36:$F$125,"Serious Game",Ressources!$H$36:$H$125,"P02",Ressources!$I$36:$I$125,"O03")) -> 0 | J45: =(SUMIFS(Ressources!$K$36:$K$125,Ressources!$H$36:$H$125,"P03",Ressources!$I$36:$I$125,"O03"))-(SUMIFS(Ressources!$K$36:$K$125,Ressources!$F$36:$F$125,"Serious Game",Ressources!$H$36:$H$125,"P03",Ressources!$I$36:$I$125,"O03")) -> 0 | K45: =(SUMIFS(Ressources!$K$36:$K$125,Ressources!$H$36:$H$125,"P04",Ressources!$I$36:$I$125,"O03"))-(SUMIFS(Ressources!$K$36:$K$125,Ressources!$F$36:$F$125,"Serious Game",Ressources!$H$36:$H$125,"P04",Ressources!$I$36:$I$125,"O03")) -> 0 | L45: =(SUMIFS(Ressources!$K$36:$K$125,Ressources!$H$36:$H$125,"P05",Ressources!$I$36:$I$125,"O03"))-(SUMIFS(Ressources!$K$36:$K$125,Ressources!$F$36:$F$125,"Serious Game",Ressources!$H$36:$H$125,"P05",Ressources!$I$36:$I$125,"O03")) -> 0 | M45: =(SUMIFS(Ressources!$K$36:$K$125,Ressources!$H$36:$H$125,"P06",Ressources!$I$36:$I$125,"O03"))-(SUMIFS(Ressources!$K$36:$K$125,Ressources!$F$36:$F$125,"Serious Game",Ressources!$H$36:$H$125,"P06",Ressources!$I$36:$I$125,"O03")) -> 0 | N45: =(SUMIFS(Ressources!$K$36:$K$125,Ressources!$H$36:$H$125,"P07",Ressources!$I$36:$I$125,"O03"))-(SUMIFS(Ressources!$K$36:$K$125,Ressources!$F$36:$F$125,"Serious Game",Ressources!$H$36:$H$125,"P07",Ressources!$I$36:$I$125,"O03")) -> 0 | O45: =(SUMIFS(Ressources!$K$36:$K$125,Ressources!$H$36:$H$125,"P08",Ressources!$I$36:$I$125,"O03"))-(SUMIFS(Ressources!$K$36:$K$125,Ressources!$F$36:$F$125,"Serious Game",Ressources!$H$36:$H$125,"P08",Ressources!$I$36:$I$125,"O03")) -> 0 | P45: =(SUMIFS(Ressources!$K$36:$K$125,Ressources!$H$36:$H$125,"P09",Ressources!$I$36:$I$125,"O03"))-(SUMIFS(Ressources!$K$36:$K$125,Ressources!$F$36:$F$125,"Serious Game",Ressources!$H$36:$H$125,"P09",Ressources!$I$36:$I$125,"O03")) -> 0 | Q45: =(SUMIFS(Ressources!$K$36:$K$125,Ressources!$H$36:$H$125,"P10",Ressources!$I$36:$I$125,"O03"))-(SUMIFS(Ressources!$K$36:$K$125,Ressources!$F$36:$F$125,"Serious Game",Ressources!$H$36:$H$125,"P10",Ressources!$I$36:$I$125,"O03")) -> 0
F46: SG1
F47: SG2
F48: SG3
F49: SG4
F50: SG5
F51: SG6
B53: SPS04
H56: SPS04 | I56: ='KPI - SPS'!F62 -> 0
H57: P01 | I57: P02 | J57: P03 | K57: P04 | L57: P05 | M57: P06 | N57: P07 | O57: P08 | P57: P09 | Q57: P10
H58: ='KPI - SPS'!$G$12 -> frerfef | I58: ='KPI - SPS'!$G$13 -> frefrefr | J58: ='KPI - SPS'!$G$14 -> dzazdz | K58: ='KPI - SPS'!$G$15 -> dezdddze | L58: ='KPI - SPS'!$G$17 -> 0 | M58: ='KPI - SPS'!$G$18 -> 0 | N58: ='KPI - SPS'!$G$19 -> 0 | O58: ='KPI - SPS'!$G$20 -> 0 | P58: ='KPI - SPS'!$G$21 -> 0 | Q58: ='KPI - SPS'!$G$22 -> 0
F59: Activités Shell | H59: =(SUMIFS(Ressources!$K$36:$K$125,Ressources!$H$36:$H$125,"P01",Ressources!$I$36:$I$125,"O04"))-(SUMIFS(Ressources!$K$36:$K$125,Ressources!$F$36:$F$125,"Serious Game",Ressources!$H$36:$H$125,"P01",Ressources!$I$36:$I$125,"O04")) -> 0 | I59: =(SUMIFS(Ressources!$K$36:$K$125,Ressources!$H$36:$H$125,"P02",Ressources!$I$36:$I$125,"O04"))-(SUMIFS(Ressources!$K$36:$K$125,Ressources!$F$36:$F$125,"Serious Game",Ressources!$H$36:$H$125,"P02",Ressources!$I$36:$I$125,"O04")) -> 0 | J59: =(SUMIFS(Ressources!$K$36:$K$125,Ressources!$H$36:$H$125,"P03",Ressources!$I$36:$I$125,"O04"))-(SUMIFS(Ressources!$K$36:$K$125,Ressources!$F$36:$F$125,"Serious Game",Ressources!$H$36:$H$125,"P03",Ressources!$I$36:$I$125,"O04")) -> 0 | K59: =(SUMIFS(Ressources!$K$36:$K$125,Ressources!$H$36:$H$125,"P04",Ressources!$I$36:$I$125,"O04"))-(SUMIFS(Ressources!$K$36:$K$125,Ressources!$F$36:$F$125,"Serious Game",Ressources!$H$36:$H$125,"P04",Ressources!$I$36:$I$125,"O04")) -> 0 | L59: =(SUMIFS(Ressources!$K$36:$K$125,Ressources!$H$36:$H$125,"P05",Ressources!$I$36:$I$125,"O04"))-(SUMIFS(Ressources!$K$36:$K$125,Ressources!$F$36:$F$125,"Serious Game",Ressources!$H$36:$H$125,"P05",Ressources!$I$36:$I$125,"O04")) -> 0 | M59: =(SUMIFS(Ressources!$K$36:$K$125,Ressources!$H$36:$H$125,"P06",Ressources!$I$36:$I$125,"O04"))-(SUMIFS(Ressources!$K$36:$K$125,Ressources!$F$36:$F$125,"Serious Game",Ressources!$H$36:$H$125,"P06",Ressources!$I$36:$I$125,"O04")) -> 0 | N59: =(SUMIFS(Ressources!$K$36:$K$125,Ressources!$H$36:$H$125,"P07",Ressources!$I$36:$I$125,"O04"))-(SUMIFS(Ressources!$K$36:$K$125,Ressources!$F$36:$F$125,"Serious Game",Ressources!$H$36:$H$125,"P07",Ressources!$I$36:$I$125,"O04")) -> 0 | O59: =(SUMIFS(Ressources!$K$36:$K$125,Ressources!$H$36:$H$125,"P08",Ressources!$I$36:$I$125,"O04"))-(SUMIFS(Ressources!$K$36:$K$125,Ressources!$F$36:$F$125,"Serious Game",Ressources!$H$36:$H$125,"P08",Ressources!$I$36:$I$125,"O04")) -> 0 | P59: =(SUMIFS(Ressources!$K$36:$K$125,Ressources!$H$36:$H$125,"P09",Ressources!$I$36:$I$125,"O04"))-(SUMIFS(Ressources!$K$36:$K$125,Ressources!$F$36:$F$125,"Serious Game",Ressources!$H$36:$H$125,"P09",Ressources!$I$36:$I$125,"O04")) -> 0 | Q59: =(SUMIFS(Ressources!$K$36:$K$125,Ressources!$H$36:$H$125,"P10",Ressources!$I$36:$I$125,"O04"))-(SUMIFS(Ressources!$K$36:$K$125,Ressources!$F$36:$F$125,"Serious Game",Ressources!$H$36:$H$125,"P10",Ressources!$I$36:$I$125,"O04")) -> 0
F60: SG1
F61: SG2
F62: SG3
F63: SG4
F64: SG5
F65: SG6
B67: SPS05
H70: SPS05 | I70: ='KPI - SPS'!F74 -> 0
H71: P01 | I71: P02 | J71: P03 | K71: P04 | L71: P05 | M71: P06 | N71: P07 | O71: P08 | P71: P09 | Q71: P10
H72: ='KPI - SPS'!$G$12 -> frerfef | I72: ='KPI - SPS'!$G$13 -> frefrefr | J72: ='KPI - SPS'!$G$14 -> dzazdz | K72: ='KPI - SPS'!$G$15 -> dezdddze | L72: ='KPI - SPS'!$G$17 -> 0 | M72: ='KPI - SPS'!$G$18 -> 0 | N72: ='KPI - SPS'!$G$19 -> 0 | O72: ='KPI - SPS'!$G$20 -> 0 | P72: ='KPI - SPS'!$G$21 -> 0 | Q72: ='KPI - SPS'!$G$22 -> 0
F73: Activités Shell | H73: =(SUMIFS(Ressources!$K$36:$K$125,Ressources!$H$36:$H$125,"P01",Ressources!$I$36:$I$125,"O05"))-(SUMIFS(Ressources!$K$36:$K$125,Ressources!$F$36:$F$125,"Serious Game",Ressources!$H$36:$H$125,"P01",Ressources!$I$36:$I$125,"O05")) -> 0 | I73: =(SUMIFS(Ressources!$K$36:$K$125,Ressources!$H$36:$H$125,"P02",Ressources!$I$36:$I$125,"O05"))-(SUMIFS(Ressources!$K$36:$K$125,Ressources!$F$36:$F$125,"Serious Game",Ressources!$H$36:$H$125,"P02",Ressources!$I$36:$I$125,"O05")) -> 0 | J73: =(SUMIFS(Ressources!$K$36:$K$125,Ressources!$H$36:$H$125,"P03",Ressources!$I$36:$I$125,"O05"))-(SUMIFS(Ressources!$K$36:$K$125,Ressources!$F$36:$F$125,"Serious Game",Ressources!$H$36:$H$125,"P03",Ressources!$I$36:$I$125,"O05")) -> 0 | K73: =(SUMIFS(Ressources!$K$36:$K$125,Ressources!$H$36:$H$125,"P04",Ressources!$I$36:$I$125,"O05"))-(SUMIFS(Ressources!$K$36:$K$125,Ressources!$F$36:$F$125,"Serious Game",Ressources!$H$36:$H$125,"P04",Ressources!$I$36:$I$125,"O05")) -> 0 | L73: =(SUMIFS(Ressources!$K$36:$K$125,Ressources!$H$36:$H$125,"P05",Ressources!$I$36:$I$125,"O05"))-(SUMIFS(Ressources!$K$36:$K$125,Ressources!$F$36:$F$125,"Serious Game",Ressources!$H$36:$H$125,"P05",Ressources!$I$36:$I$125,"O05")) -> 0 | M73: =(SUMIFS(Ressources!$K$36:$K$125,Ressources!$H$36:$H$125,"P06",Ressources!$I$36:$I$125,"O05"))-(SUMIFS(Ressources!$K$36:$K$125,Ressources!$F$36:$F$125,"Serious Game",Ressources!$H$36:$H$125,"P06",Ressources!$I$36:$I$125,"O01")) -> 0 | N73: =(SUMIFS(Ressources!$K$36:$K$125,Ressources!$H$36:$H$125,"P07",Ressources!$I$36:$I$125,"O05"))-(SUMIFS(Ressources!$K$36:$K$125,Ressources!$F$36:$F$125,"Serious Game",Ressources!$H$36:$H$125,"P07",Ressources!$I$36:$I$125,"O05")) -> 0 | O73: =(SUMIFS(Ressources!$K$36:$K$125,Ressources!$H$36:$H$125,"P08",Ressources!$I$36:$I$125,"O05"))-(SUMIFS(Ressources!$K$36:$K$125,Ressources!$F$36:$F$125,"Serious Game",Ressources!$H$36:$H$125,"P08",Ressources!$I$36:$I$125,"O05")) -> 0 | P73: =(SUMIFS(Ressources!$K$36:$K$125,Ressources!$H$36:$H$125,"P09",Ressources!$I$36:$I$125,"O05"))-(SUMIFS(Ressources!$K$36:$K$125,Ressources!$F$36:$F$125,"Serious Game",Ressources!$H$36:$H$125,"P09",Ressources!$I$36:$I$125,"O05")) -> 0 | Q73: =(SUMIFS(Ressources!$K$36:$K$125,Ressources!$H$36:$H$125,"P10",Ressources!$I$36:$I$125,"O05"))-(SUMIFS(Ressources!$K$36:$K$125,Ressources!$F$36:$F$125,"Serious Game",Ressources!$H$36:$H$125,"P10",Ressources!$I$36:$I$125,"O05")) -> 0
F74: SG1
F75: SG2
F76: SG3
F77: SG4
F78: SG5
F79: SG6
B81: SPS06
H84: SPS06 | I84: ='KPI - SPS'!F86 -> 0
H85: P01 | I85: P02 | J85: P03 | K85: P04 | L85: P05 | M85: P06 | N85: P07 | O85: P08 | P85: P09 | Q85: P10
H86: ='KPI - SPS'!$G$12 -> frerfef | I86: ='KPI - SPS'!$G$13 -> frefrefr | J86: ='KPI - SPS'!$G$14 -> dzazdz | K86: ='KPI - SPS'!$G$15 -> dezdddze | L86: ='KPI - SPS'!$G$17 -> 0 | M86: ='KPI - SPS'!$G$18 -> 0 | N86: ='KPI - SPS'!$G$19 -> 0 | O86: ='KPI - SPS'!$G$20 -> 0 | P86: ='KPI - SPS'!$G$21 -> 0 | Q86: ='KPI - SPS'!$G$22 -> 0
F87: Activités Shell | H87: =(SUMIFS(Ressources!$K$36:$K$125,Ressources!$H$36:$H$125,"P01",Ressources!$I$36:$I$125,"O06"))-(SUMIFS(Ressources!$K$36:$K$125,Ressources!$F$36:$F$125,"Serious Game",Ressources!$H$36:$H$125,"P01",Ressources!$I$36:$I$125,"O06")) -> 0 | I87: =(SUMIFS(Ressources!$K$36:$K$125,Ressources!$H$36:$H$125,"P02",Ressources!$I$36:$I$125,"O06"))-(SUMIFS(Ressources!$K$36:$K$125,Ressources!$F$36:$F$125,"Serious Game",Ressources!$H$36:$H$125,"P02",Ressources!$I$36:$I$125,"O06")) -> 0 | J87: =(SUMIFS(Ressources!$K$36:$K$125,Ressources!$H$36:$H$125,"P03",Ressources!$I$36:$I$125,"O06"))-(SUMIFS(Ressources!$K$36:$K$125,Ressources!$F$36:$F$125,"Serious Game",Ressources!$H$36:$H$125,"P03",Ressources!$I$36:$I$125,"O06")) -> 0 | K87: =(SUMIFS(Ressources!$K$36:$K$125,Ressources!$H$36:$H$125,"P04",Ressources!$I$36:$I$125,"O06"))-(SUMIFS(Ressources!$K$36:$K$125,Ressources!$F$36:$F$125,"Serious Game",Ressources!$H$36:$H$125,"P04",Ressources!$I$36:$I$125,"O06")) -> 0 | L87: =(SUMIFS(Ressources!$K$36:$K$125,Ressources!$H$36:$H$125,"P05",Ressources!$I$36:$I$125,"O06"))-(SUMIFS(Ressources!$K$36:$K$125,Ressources!$F$36:$F$125,"Serious Game",Ressources!$H$36:$H$125,"P05",Ressources!$I$36:$I$125,"O06")) -> 0 | M87: =(SUMIFS(Ressources!$K$36:$K$125,Ressources!$H$36:$H$125,"P06",Ressources!$I$36:$I$125,"O06"))-(SUMIFS(Ressources!$K$36:$K$125,Ressources!$F$36:$F$125,"Serious Game",Ressources!$H$36:$H$125,"P06",Ressources!$I$36:$I$125,"O06")) -> 0 | N87: =(SUMIFS(Ressources!$K$36:$K$125,Ressources!$H$36:$H$125,"P07",Ressources!$I$36:$I$125,"O06"))-(SUMIFS(Ressources!$K$36:$K$125,Ressources!$F$36:$F$125,"Serious Game",Ressources!$H$36:$H$125,"P07",Ressources!$I$36:$I$125,"O06")) -> 0 | O87: =(SUMIFS(Ressources!$K$36:$K$125,Ressources!$H$36:$H$125,"P08",Ressources!$I$36:$I$125,"O06"))-(SUMIFS(Ressources!$K$36:$K$125,Ressources!$F$36:$F$125,"Serious Game",Ressources!$H$36:$H$125,"P08",Ressources!$I$36:$I$125,"O06")) -> 0 | P87: =(SUMIFS(Ressources!$K$36:$K$125,Ressources!$H$36:$H$125,"P09",Ressources!$I$36:$I$125,"O06"))-(SUMIFS(Ressources!$K$36:$K$125,Ressources!$F$36:$F$125,"Serious Game",Ressources!$H$36:$H$125,"P09",Ressources!$I$36:$I$125,"O06")) -> 0 | Q87: =(SUMIFS(Ressources!$K$36:$K$125,Ressources!$H$36:$H$125,"P10",Ressources!$I$36:$I$125,"O06"))-(SUMIFS(Ressources!$K$36:$K$125,Ressources!$F$36:$F$125,"Serious Game",Ressources!$H$36:$H$125,"P10",Ressources!$I$36:$I$125,"O06")) -> 0
F88: SG1
F89: SG2
F90: SG3
F91: SG4
F92: SG5
F93: SG6
B95: SPS07
H98: SPS07 | I98: ='KPI - SPS'!F98 -> 0
H99: P01 | I99: P02 | J99: P03 | K99: P04 | L99: P05 | M99: P06 | N99: P07 | O99: P08 | P99: P09 | Q99: P10
H100: ='KPI - SPS'!$G$12 -> frerfef | I100: ='KPI - SPS'!$G$13 -> frefrefr | J100: ='KPI - SPS'!$G$14 -> dzazdz | K100: ='KPI - SPS'!$G$15 -> dezdddze | L100: ='KPI - SPS'!$G$17 -> 0 | M100: ='KPI - SPS'!$G$18 -> 0 | N100: ='KPI - SPS'!$G$19 -> 0 | O100: ='KPI - SPS'!$G$20 -> 0 | P100: ='KPI - SPS'!$G$21 -> 0 | Q100: ='KPI - SPS'!$G$22 -> 0
F101: Activités Shell | H101: =(SUMIFS(Ressources!$K$36:$K$125,Ressources!$H$36:$H$125,"P01",Ressources!$I$36:$I$125,"O07"))-(SUMIFS(Ressources!$K$36:$K$125,Ressources!$F$36:$F$125,"Serious Game",Ressources!$H$36:$H$125,"P01",Ressources!$I$36:$I$125,"O07")) -> 0 | I101: =(SUMIFS(Ressources!$K$36:$K$125,Ressources!$H$36:$H$125,"P02",Ressources!$I$36:$I$125,"O07"))-(SUMIFS(Ressources!$K$36:$K$125,Ressources!$F$36:$F$125,"Serious Game",Ressources!$H$36:$H$125,"P02",Ressources!$I$36:$I$125,"O07")) -> 0 | J101: =(SUMIFS(Ressources!$K$36:$K$125,Ressources!$H$36:$H$125,"P03",Ressources!$I$36:$I$125,"O07"))-(SUMIFS(Ressources!$K$36:$K$125,Ressources!$F$36:$F$125,"Serious Game",Ressources!$H$36:$H$125,"P03",Ressources!$I$36:$I$125,"O07")) -> 0 | K101: =(SUMIFS(Ressources!$K$36:$K$125,Ressources!$H$36:$H$125,"P04",Ressources!$I$36:$I$125,"O07"))-(SUMIFS(Ressources!$K$36:$K$125,Ressources!$F$36:$F$125,"Serious Game",Ressources!$H$36:$H$125,"P04",Ressources!$I$36:$I$125,"O07")) -> 0 | L101: =(SUMIFS(Ressources!$K$36:$K$125,Ressources!$H$36:$H$125,"P05",Ressources!$I$36:$I$125,"O07"))-(SUMIFS(Ressources!$K$36:$K$125,Ressources!$F$36:$F$125,"Serious Game",Ressources!$H$36:$H$125,"P05",Ressources!$I$36:$I$125,"O07")) -> 0 | M101: =(SUMIFS(Ressources!$K$36:$K$125,Ressources!$H$36:$H$125,"P06",Ressources!$I$36:$I$125,"O07"))-(SUMIFS(Ressources!$K$36:$K$125,Ressources!$F$36:$F$125,"Serious Game",Ressources!$H$36:$H$125,"P06",Ressources!$I$36:$I$125,"O07")) -> 0 | N101: =(SUMIFS(Ressources!$K$36:$K$125,Ressources!$H$36:$H$125,"P07",Ressources!$I$36:$I$125,"O07"))-(SUMIFS(Ressources!$K$36:$K$125,Ressources!$F$36:$F$125,"Serious Game",Ressources!$H$36:$H$125,"P07",Ressources!$I$36:$I$125,"O07")) -> 0 | O101: =(SUMIFS(Ressources!$K$36:$K$125,Ressources!$H$36:$H$125,"P08",Ressources!$I$36:$I$125,"O07"))-(SUMIFS(Ressources!$K$36:$K$125,Ressources!$F$36:$F$125,"Serious Game",Ressources!$H$36:$H$125,"P08",Ressources!$I$36:$I$125,"O07")) -> 0 | P101: =(SUMIFS(Ressources!$K$36:$K$125,Ressources!$H$36:$H$125,"P09",Ressources!$I$36:$I$125,"O07"))-(SUMIFS(Ressources!$K$36:$K$125,Ressources!$F$36:$F$125,"Serious Game",Ressources!$H$36:$H$125,"P09",Ressources!$I$36:$I$125,"O07")) -> 0 | Q101: =(SUMIFS(Ressources!$K$36:$K$125,Ressources!$H$36:$H$125,"P10",Ressources!$I$36:$I$125,"O07"))-(SUMIFS(Ressources!$K$36:$K$125,Ressources!$F$36:$F$125,"Serious Game",Ressources!$H$36:$H$125,"P10",Ressources!$I$36:$I$125,"O07")) -> 0
F102: SG1
F103: SG2
F104: SG3
F105: SG4
F106: SG5
F107: SG6
B109: SPS08
H112: SPS08 | I112: ='KPI - SPS'!F110 -> 0
H113: P01 | I113: P02 | J113: P03 | K113: P04 | L113: P05 | M113: P06 | N113: P07 | O113: P08 | P113: P09 | Q113: P10
H114: ='KPI - SPS'!$G$12 -> frerfef | I114: ='KPI - SPS'!$G$13 -> frefrefr | J114: ='KPI - SPS'!$G$14 -> dzazdz | K114: ='KPI - SPS'!$G$15 -> dezdddze | L114: ='KPI - SPS'!$G$17 -> 0 | M114: ='KPI - SPS'!$G$18 -> 0 | N114: ='KPI - SPS'!$G$19 -> 0 | O114: ='KPI - SPS'!$G$20 -> 0 | P114: ='KPI - SPS'!$G$21 -> 0 | Q114: ='KPI - SPS'!$G$22 -> 0
F115: Activités Shell | H115: =(SUMIFS(Ressources!$K$36:$K$125,Ressources!$H$36:$H$125,"P01",Ressources!$I$36:$I$125,"O08"))-(SUMIFS(Ressources!$K$36:$K$125,Ressources!$F$36:$F$125,"Serious Game",Ressources!$H$36:$H$125,"P01",Ressources!$I$36:$I$125,"O08")) -> 0 | I115: =(SUMIFS(Ressources!$K$36:$K$125,Ressources!$H$36:$H$125,"P02",Ressources!$I$36:$I$125,"O08"))-(SUMIFS(Ressources!$K$36:$K$125,Ressources!$F$36:$F$125,"Serious Game",Ressources!$H$36:$H$125,"P02",Ressources!$I$36:$I$125,"O08")) -> 0 | J115: =(SUMIFS(Ressources!$K$36:$K$125,Ressources!$H$36:$H$125,"P03",Ressources!$I$36:$I$125,"O08"))-(SUMIFS(Ressources!$K$36:$K$125,Ressources!$F$36:$F$125,"Serious Game",Ressources!$H$36:$H$125,"P03",Ressources!$I$36:$I$125,"O08")) -> 0 | K115: =(SUMIFS(Ressources!$K$36:$K$125,Ressources!$H$36:$H$125,"P04",Ressources!$I$36:$I$125,"O08"))-(SUMIFS(Ressources!$K$36:$K$125,Ressources!$F$36:$F$125,"Serious Game",Ressources!$H$36:$H$125,"P04",Ressources!$I$36:$I$125,"O08")) -> 0 | L115: =(SUMIFS(Ressources!$K$36:$K$125,Ressources!$H$36:$H$125,"P05",Ressources!$I$36:$I$125,"O08"))-(SUMIFS(Ressources!$K$36:$K$125,Ressources!$F$36:$F$125,"Serious Game",Ressources!$H$36:$H$125,"P05",Ressources!$I$36:$I$125,"O08")) -> 0 | M115: =(SUMIFS(Ressources!$K$36:$K$125,Ressources!$H$36:$H$125,"P06",Ressources!$I$36:$I$125,"O08"))-(SUMIFS(Ressources!$K$36:$K$125,Ressources!$F$36:$F$125,"Serious Game",Ressources!$H$36:$H$125,"P06",Ressources!$I$36:$I$125,"O08")) -> 0 | N115: =(SUMIFS(Ressources!$K$36:$K$125,Ressources!$H$36:$H$125,"P07",Ressources!$I$36:$I$125,"O08"))-(SUMIFS(Ressources!$K$36:$K$125,Ressources!$F$36:$F$125,"Serious Game",Ressources!$H$36:$H$125,"P07",Ressources!$I$36:$I$125,"O08")) -> 0 | O115: =(SUMIFS(Ressources!$K$36:$K$125,Ressources!$H$36:$H$125,"P08",Ressources!$I$36:$I$125,"O08"))-(SUMIFS(Ressources!$K$36:$K$125,Ressources!$F$36:$F$125,"Serious Game",Ressources!$H$36:$H$125,"P08",Ressources!$I$36:$I$125,"O08")) -> 0 | P115: =(SUMIFS(Ressources!$K$36:$K$125,Ressources!$H$36:$H$125,"P09",Ressources!$I$36:$I$125,"O08"))-(SUMIFS(Ressources!$K$36:$K$125,Ressources!$F$36:$F$125,"Serious Game",Ressources!$H$36:$H$125,"P09",Ressources!$I$36:$I$125,"O08")) -> 0 | Q115: =(SUMIFS(Ressources!$K$36:$K$125,Ressources!$H$36:$H$125,"P10",Ressources!$I$36:$I$125,"O08"))-(SUMIFS(Ressources!$K$36:$K$125,Ressources!$F$36:$F$125,"Serious Game",Ressources!$H$36:$H$125,"P10",Ressources!$I$36:$I$125,"O08")) -> 0
F116: SG1
F117: SG2
F118: SG3
F119: SG4
F120: SG5
F121: SG6
B123: SPS09
H126: SPS09 | I126: ='KPI - SPS'!F122 -> 0
H127: P01 | I127: P02 | J127: P03 | K127: P04 | L127: P05 | M127: P06 | N127: P07 | O127: P08 | P127: P09 | Q127: P10
H128: ='KPI - SPS'!$G$12 -> frerfef | I128: ='KPI - SPS'!$G$13 -> frefrefr | J128: ='KPI - SPS'!$G$14 -> dzazdz | K128: ='KPI - SPS'!$G$15 -> dezdddze | L128: ='KPI - SPS'!$G$17 -> 0 | M128: ='KPI - SPS'!$G$18 -> 0 | N128: ='KPI - SPS'!$G$19 -> 0 | O128: ='KPI - SPS'!$G$20 -> 0 | P128: ='KPI - SPS'!$G$21 -> 0 | Q128: ='KPI - SPS'!$G$22 -> 0
F129: Activités Shell | H129: =(SUMIFS(Ressources!$K$36:$K$125,Ressources!$H$36:$H$125,"P01",Ressources!$I$36:$I$125,"O09"))-(SUMIFS(Ressources!$K$36:$K$125,Ressources!$F$36:$F$125,"Serious Game",Ressources!$H$36:$H$125,"P01",Ressources!$I$36:$I$125,"O09")) -> 0 | I129: =(SUMIFS(Ressources!$K$36:$K$125,Ressources!$H$36:$H$125,"P02",Ressources!$I$36:$I$125,"O09"))-(SUMIFS(Ressources!$K$36:$K$125,Ressources!$F$36:$F$125,"Serious Game",Ressources!$H$36:$H$125,"P02",Ressources!$I$36:$I$125,"O09")) -> 0 | J129: =(SUMIFS(Ressources!$K$36:$K$125,Ressources!$H$36:$H$125,"P03",Ressources!$I$36:$I$125,"O09"))-(SUMIFS(Ressources!$K$36:$K$125,Ressources!$F$36:$F$125,"Serious Game",Ressources!$H$36:$H$125,"P03",Ressources!$I$36:$I$125,"O09")) -> 0 | K129: =(SUMIFS(Ressources!$K$36:$K$125,Ressources!$H$36:$H$125,"P04",Ressources!$I$36:$I$125,"O09"))-(SUMIFS(Ressources!$K$36:$K$125,Ressources!$F$36:$F$125,"Serious Game",Ressources!$H$36:$H$125,"P04",Ressources!$I$36:$I$125,"O09")) -> 0 | L129: =(SUMIFS(Ressources!$K$36:$K$125,Ressources!$H$36:$H$125,"P05",Ressources!$I$36:$I$125,"O09"))-(SUMIFS(Ressources!$K$36:$K$125,Ressources!$F$36:$F$125,"Serious Game",Ressources!$H$36:$H$125,"P05",Ressources!$I$36:$I$125,"O09")) -> 0 | M129: =(SUMIFS(Ressources!$K$36:$K$125,Ressources!$H$36:$H$125,"P06",Ressources!$I$36:$I$125,"O09"))-(SUMIFS(Ressources!$K$36:$K$125,Ressources!$F$36:$F$125,"Serious Game",Ressources!$H$36:$H$125,"P06",Ressources!$I$36:$I$125,"O09")) -> 0 | N129: =(SUMIFS(Ressources!$K$36:$K$125,Ressources!$H$36:$H$125,"P07",Ressources!$I$36:$I$125,"O09"))-(SUMIFS(Ressources!$K$36:$K$125,Ressources!$F$36:$F$125,"Serious Game",Ressources!$H$36:$H$125,"P07",Ressources!$I$36:$I$125,"O09")) -> 0 | O129: =(SUMIFS(Ressources!$K$36:$K$125,Ressources!$H$36:$H$125,"P08",Ressources!$I$36:$I$125,"O09"))-(SUMIFS(Ressources!$K$36:$K$125,Ressources!$F$36:$F$125,"Serious Game",Ressources!$H$36:$H$125,"P08",Ressources!$I$36:$I$125,"O09")) -> 0 | P129: =(SUMIFS(Ressources!$K$36:$K$125,Ressources!$H$36:$H$125,"P09",Ressources!$I$36:$I$125,"O09"))-(SUMIFS(Ressources!$K$36:$K$125,Ressources!$F$36:$F$125,"Serious Game",Ressources!$H$36:$H$125,"P09",Ressources!$I$36:$I$125,"O09")) -> 0 | Q129: =(SUMIFS(Ressources!$K$36:$K$125,Ressources!$H$36:$H$125,"P10",Ressources!$I$36:$I$125,"O09"))-(SUMIFS(Ressources!$K$36:$K$125,Ressources!$F$36:$F$125,"Serious Game",Ressources!$H$36:$H$125,"P10",Ressources!$I$36:$I$125,"O09")) -> 0
F130: SG1
F131: SG2
F132: SG3
...
