Workbook
Name list: PLANNING!$C$21:$E$26
Name LISTE: PLANNING!$C$21:$E$26

Sheet INSCRIPTIONS
C1: Ma | F1: Ma | I1: Ma | L1: Att | O1: Att | R1: Att
A2: Liste Elève | B2: transf | E2: unit | H2: autre | K2: recherc | N2: comp | Q2: ten
B3: inscrit | C3: en cours | D3: terminé | E3: inscrit | F3: en cours | G3: terminé | H3: inscrit | I3: en cours | J3: terminé | K3: inscrit | L3: en cours | M3: terminé | N3: inscrit | O3: en cours | P3: terminé | Q3: inscrit | R3: en cours | S3: terminé
B4: nom du professeur demandeur | C4: nom du professeur tuteur | E4: nom du professeur demandeur | F4: nom du professeur tuteur | H4: nom du professeur demandeur | I4: nom du professeur tuteur | K4: nom du professeur demandeur | L4: nom du professeur tuteur | N4: nom du professeur demandeur | O4: nom du professeur tuteur | Q4: nom du professeur demandeur | R4: nom du professeur tuteur
A5: exemple | B5: mat | C5: Mal | D5: ok
A22: Total de demande d'inscpription | B22: =COUNTA(B5:B21) -> 1 | E22: =COUNTA(E5:E21) -> 0 | H22: =COUNTA(H5:H21) -> 0 | K22: =COUNTA(K5:K21) -> 0 | N22: =COUNTA(N5:N21) -> 0 | Q22: =COUNTA(Q5:Q21) -> 0
A23: nombre d'élève formé | B23: =COUNTA(C5:C21) -> 1 | E23: =COUNTA(F5:F21) -> 0 | H23: =COUNTA(I5:I21) -> 0 | K23: =COUNTA(L5:L21) -> 0 | N23: =COUNTA(O5:O21) -> 0 | Q23: =COUNTA(R5:R21) -> 0
A24: nombre d'élève à former | B24: =B22-B23 -> 0 | E24: =E22-E23 -> 0 | H24: =H22-H23 -> 0 | K24: =K22-K23 -> 0 | N24: =N22-N23 -> 0 | Q24: =Q22-Q23 -> 0
A26: TOTAL matière
A27: Total de demande d'inscpription
A28: nombre d'élève formé
A29: nombre d'élève à former

Sheet PLANNING
C3: bam | D3: math | E3: marti
C4: 20 | D4: 21 | E4: 22
A7: aaaa | C7: 1
A8: aaab | D8: 1
A9: aaac | D9: 1
A10: aaad | C10: 0
A11: aaae | E11: 1
A12: aaaf | E12: 1

Sheet Convocations
A1: =IFERROR(INDEX(list,SMALL(IF(list<>"",ROW(INDIRECT("1:"&ROWS(list)))),ROWS($1:1))),"") | B1: {=IFERROR(INDEX(list,SMALL(IF(list<>"0",ROW(INDIRECT("1:"&ROWS(list)))),ROWS($1:1))),"")} | C1: {=IFERROR(INDEX(list,SMALL(IF(list<>"0",ROW(INDIRECT("1:"&ROWS(list)))),ROWS($1:1))),"")} | D1: {=IFERROR(INDEX(list,SMALL(IF(list<>"0",ROW(INDIRECT("1:"&ROWS(list)))),ROWS($1:1))),"")} | E1: {=IFERROR(INDEX(list,SMALL(IF(list<>"0",ROW(INDIRECT("1:"&ROWS(list)))),ROWS($1:1))),"")} | F1: {=IFERROR(INDEX(list,SMALL(IF(list<>"0",ROW(INDIRECT("1:"&ROWS(list)))),ROWS($1:1))),"")}
A2: Inscrits | H2: phrase
A3: =IF($C3="","",PLANNING!$A7) -> aaaa | B3: =IF(C3="","","est convoqué avec") -> est convoqué avec | C3: =IFERROR(INDEX(PLANNING!$C$3:$E$3,MATCH(1,PLANNING!$C7:$E7,0)),"") -> bam | D3: =IF(C3="","","en salle") -> en salle | E3: =IFERROR(INDEX(PLANNING!$C$4:$E$4,MATCH(1,PLANNING!$C7:$E7,0)),"") -> 20 | F3: =IF(C3="","","de 08h30 à 09h30") -> de 08h30 à 09h30 | H3: =CONCATENATE(A3," ",B3," ",C3," ",D3," ",E3," ",F3) -> aaaa est convoqué avec bam en salle 20 de 08h30 à 09h30
A4: =IF($C4="","",PLANNING!$A8) -> aaab | B4: =IF(C4="","","est convoqué avec") -> est convoqué avec | C4: =IFERROR(INDEX(PLANNING!$C$3:$E$3,MATCH(1,PLANNING!$C8:$E8,0)),"") -> math | D4: =IF(C4="","","en salle") -> en salle | E4: =IFERROR(INDEX(PLANNING!$C$4:$E$4,MATCH(1,PLANNING!$C8:$E8,0)),"") -> 21 | F4: =IF(C4="","","de 08h30 à 09h30") -> de 08h30 à 09h30 | H4: =CONCATENATE(A4," ",B4," ",C4," ",D4," ",E4," ",F4) -> aaab est convoqué avec math en salle 21 de 08h30 à 09h30
A5: =IF($C5="","",PLANNING!$A9) -> aaac | B5: =IF(C5="","","est convoqué avec") -> est convoqué avec | C5: =IFERROR(INDEX(PLANNING!$C$3:$E$3,MATCH(1,PLANNING!$C9:$E9,0)),"") -> math | D5: =IF(C5="","","en salle") -> en salle | E5: =IFERROR(INDEX(PLANNING!$C$4:$E$4,MATCH(1,PLANNING!$C9:$E9,0)),"") -> 21 | F5: =IF(C5="","","de 08h30 à 09h30") -> de 08h30 à 09h30 | H5: =CONCATENATE(A5," ",B5," ",C5," ",D5," ",E5," ",F5) -> aaac est convoqué avec math en salle 21 de 08h30 à 09h30
A6: =IF($C6="","",PLANNING!$A10) | B6: =IF(C6="","","est convoqué avec") | C6: =IFERROR(INDEX(PLANNING!$C$3:$E$3,MATCH(1,PLANNING!$C10:$E10,0)),"") | D6: =IF(C6="","","en salle") | E6: =IFERROR(INDEX(PLANNING!$C$4:$E$4,MATCH(1,PLANNING!$C10:$E10,0)),"") | F6: =IF(C6="","","de 08h30 à 09h30") | H6: =CONCATENATE(A6," ",B6," ",C6," ",D6," ",E6," ",F6)
A7: =IF($C7="","",PLANNING!$A11) -> aaae | B7: =IF(C7="","","est convoqué avec") -> est convoqué avec | C7: =IFERROR(INDEX(PLANNING!$C$3:$E$3,MATCH(1,PLANNING!$C11:$E11,0)),"") -> marti | D7: =IF(C7="","","en salle") -> en salle | E7: =IFERROR(INDEX(PLANNING!$C$4:$E$4,MATCH(1,PLANNING!$C11:$E11,0)),"") -> 22 | F7: =IF(C7="","","de 08h30 à 09h30") -> de 08h30 à 09h30 | H7: =CONCATENATE(A7," ",B7," ",C7," ",D7," ",E7," ",F7) -> aaae est convoqué avec marti en salle 22 de 08h30 à 09h30
A8: =IF($C8="","",PLANNING!$A12) -> aaaf | B8: =IF(C8="","","est convoqué avec") -> est convoqué avec | C8: =IFERROR(INDEX(PLANNING!$C$3:$E$3,MATCH(1,PLANNING!$C12:$E12,0)),"") -> marti | D8: =IF(C8="","","en salle") -> en salle | E8: =IFERROR(INDEX(PLANNING!$C$4:$E$4,MATCH(1,PLANNING!$C12:$E12,0)),"") -> 22 | F8: =IF(C8="","","de 08h30 à 09h30") -> de 08h30 à 09h30 | H8: =CONCATENATE(A8," ",B8," ",C8," ",D8," ",E8," ",F8) -> aaaf est convoqué avec marti en salle 22 de 08h30 à 09h30
A9: =IF($C9="","",PLANNING!$A13) | B9: =IF(C9="","","est convoqué avec") | C9: =IFERROR(INDEX(PLANNING!$C$3:$E$3,MATCH(1,PLANNING!$C13:$E13,0)),"") | D9: =IF(C9="","","en salle") | E9: =IFERROR(INDEX(PLANNING!$C$4:$E$4,MATCH(1,PLANNING!$C13:$E13,0)),"") | F9: =IF(C9="","","de 08h30 à 09h30") | H9: =CONCATENATE(A9," ",B9," ",C9," ",D9," ",E9," ",F9)
A10: =IF($C10="","",PLANNING!$A14) | B10: =IF(C10="","","est convoqué avec") | C10: =IFERROR(INDEX(PLANNING!$C$3:$E$3,MATCH(1,PLANNING!$C14:$E14,0)),"") | D10: =IF(C10="","","en salle") | E10: =IFERROR(INDEX(PLANNING!$C$4:$E$4,MATCH(1,PLANNING!$C14:$E14,0)),"") | F10: =IF(C10="","","de 08h30 à 09h30") | H10: =CONCATENATE(A10," ",B10," ",C10," ",D10," ",E10," ",F10)
A11: =IF($C11="","",PLANNING!$A15) | B11: =IF(C11="","","est convoqué avec") | C11: =IFERROR(INDEX(PLANNING!$C$3:$E$3,MATCH(1,PLANNING!$C15:$E15,0)),"") | D11: =IF(C11="","","en salle") | E11: =IFERROR(INDEX(PLANNING!$C$4:$E$4,MATCH(1,PLANNING!$C15:$E15,0)),"") | F11: =IF(C11="","","de 08h30 à 09h30") | H11: =CONCATENATE(A11," ",B11," ",C11," ",D11," ",E11," ",F11)
A12: =IF($C12="","",PLANNING!$A16) | B12: =IF(C12="","","est convoqué avec") | C12: =IFERROR(INDEX(PLANNING!$C$3:$E$3,MATCH(1,PLANNING!$C16:$E16,0)),"") | D12: =IF(C12="","","en salle") | E12: =IFERROR(INDEX(PLANNING!$C$4:$E$4,MATCH(1,PLANNING!$C16:$E16,0)),"") | F12: =IF(C12="","","de 08h30 à 09h30") | H12: =CONCATENATE(A12," ",B12," ",C12," ",D12," ",E12," ",F12)
A13: =IF($C13="","",PLANNING!$A17) | B13: =IF(C13="","","est convoqué avec") | C13: =IFERROR(INDEX(PLANNING!$C$3:$E$3,MATCH(1,PLANNING!$C17:$E17,0)),"") | D13: =IF(C13="","","en salle") | E13: =IFERROR(INDEX(PLANNING!$C$4:$E$4,MATCH(1,PLANNING!$C17:$E17,0)),"") | F13: =IF(C13="","","de 08h30 à 09h30") | H13: =CONCATENATE(A13," ",B13," ",C13," ",D13," ",E13," ",F13)
A14: =IF($C14="","",PLANNING!$A18) | B14: =IF(C14="","","est convoqué avec") | C14: =IFERROR(INDEX(PLANNING!$C$3:$E$3,MATCH(1,PLANNING!$C18:$E18,0)),"") | D14: =IF(C14="","","en salle") | E14: =IFERROR(INDEX(PLANNING!$C$4:$E$4,MATCH(1,PLANNING!$C18:$E18,0)),"") | F14: =IF(C14="","","de 08h30 à 09h30") | H14: =CONCATENATE(A14," ",B14," ",C14," ",D14," ",E14," ",F14)
... A18: =IF($C18="","",PLANNING!$A22) | B18: =IF(C18="","","est convoqué avec") | C18: =IFERROR(INDEX(PLANNING!$C$3:$E$3,MATCH(1,PLANNING!$C22:$E22,0)),"") | D18: =IF(C18="","","en salle") | E18: =IFERROR(INDEX(PLANNING!$C$4:$E$4,MATCH(1,PLANNING!$C22:$E22,0)),"") | F18: =IF(C18="","","de 08h30 à 09h30") | H18: =CONCATENATE(A18," ",B18," ",C18," ",D18," ",E18," ",F18)
A21: Liste de convocations | D21: {=IFERROR(INDEX(list,SMALL(IF(list<>"0",ROW(INDIRECT("1:"&ROWS(list)))),ROWS($1:21))),"")} | E21: {=IFERROR(INDEX(list,SMALL(IF(list<>"0",ROW(INDIRECT("1:"&ROWS(list)))),ROWS($1:21))),"")} | F21: {=IFERROR(INDEX(list,SMALL(IF(list<>"0",ROW(INDIRECT("1:"&ROWS(list)))),ROWS($1:21))),"")}
A23: {=IFERROR(INDEX($H$3:$H$8,SMALL(IF($A$3:$A$8<>"",ROW(INDIRECT("$1:$"&COUNTIF($A$3:$A$8,"<>""")))),ROWS($1:1))),"")} -> aaaa est convoqué avec bam en salle 20 de 08h30 à 09h30
A24: {=IFERROR(INDEX($H$3:$H$8,SMALL(IF($A$3:$A$8<>"",ROW(INDIRECT("$1:$"&COUNTIF($A$3:$A$8,"<>""")))),ROWS($1:2))),"")} -> aaab est convoqué avec math en salle 21 de 08h30 à 09h30
A25: {=IFERROR(INDEX($H$3:$H$8,SMALL(IF($A$3:$A$8<>"",ROW(INDIRECT("$1:$"&COUNTIF($A$3:$A$8,"<>""")))),ROWS($1:3))),"")} -> aaac est convoqué avec math en salle 21 de 08h30 à 09h30
A26: {=IFERROR(INDEX($H$3:$H$8,SMALL(IF($A$3:$A$8<>"",ROW(INDIRECT("$1:$"&COUNTIF($A$3:$A$8,"<>""")))),ROWS($1:4))),"")} -> aaae est convoqué avec marti en salle 22 de 08h30 à 09h30
A27: {=IFERROR(INDEX($H$3:$H$8,SMALL(IF($A$3:$A$8<>"",ROW(INDIRECT("$1:$"&COUNTIF($A$3:$A$8,"<>""")))),ROWS($1:5))),"")} -> aaaf est convoqué avec marti en salle 22 de 08h30 à 09h30

Sheet AIDE
B3: caché le zéros | D3: https://support.office.com/fr-ch/article/Masquer-ou-afficher-des-valeurs-z%C3%A9ro-6ff815ca-e075-4f0b-adbe-728e1559b404
B5: recopier un tableau | D5: http://www.commentcamarche.net/forum/affich-28264797-recuperer-dans-une-colonne-valeur-cellule-non-vide
