Workbook

Sheet Synthèse
D1: Synthèse de l'exploitation
A5: Colonne1 | B5: 1 | C5: 2 | D5: 3 | E5: 4 | F5: 5 | G5: 6 | H5: 7 | I5: 8 | J5: 9 | K5: 10 | L5: 11 | M5: 12 | N5: 13 | O5: 14 | P5: 15 | Q5: 16 | R5: 17 | S5: 18 | T5: 19 | U5: 20 | V5: 21 | W5: 22 | X5: 23 | Y5: 24 | Z5: 25 | AA5: 26 | AB5: 27 | AC5: 28 | AD5: 29 | AE5: 30 | AF5: 31 | AG5: TOTAL | AH5: Colonne2
A6: JOUR
A7: tonnage | B7: ='1'!C19 -> 18900 | C7: ='2'!C19 -> 0 | D7: ='3'!C19 -> 0 | E7: ='4'!C19 -> 0 | F7: ='5'!C19 -> 0 | G7: ='6'!C19 -> 0 | H7: ='7'!C19 -> 0 | I7: ='8'!C19 -> 0 | J7: ='9'!C19 -> 0 | K7: ='10'!C19 -> 0 | L7: ='11'!C19 -> 0 | M7: ='12'!C19 -> 0 | N7: ='13'!C19 -> 0 | O7: ='14'!C19 -> 0 | P7: ='15'!C19 -> 0 | Q7: ='16'!C19 -> 0 | R7: ='17'!C19 -> 0 | S7: ='18'!C19 -> 0 | T7: ='19'!C19 -> 0 | U7: ='20'!C19 -> 0 | V7: ='21'!C19 -> 0 | W7: ='22'!C19 -> 0 | X7: ='23'!C19 -> 0 | Y7: ='24'!C19 -> 0 | Z7: ='25'!C19 -> 0 | AA7: ='26'!C19 -> 0 | AB7: ='27'!C19 -> 0 | AC7: ='28'!C19 -> 0 | AD7: ='29'!C19 -> 0 | AE7: ='30'!C19 -> 0 | AF7: ='31'!C19 -> 0 | AG7: =SUM(Tableau2[[#This Row],[1]:[31]]) -> 18900
A8: t/h | B8: =INDIRECT(B$5&"!$B$20") -> 1575 | C8: =INDIRECT(C$5&"!$B$20") -> #DIV/0! | D8: =INDIRECT(D$5&"!$B$20") -> #DIV/0! | E8: =INDIRECT(E$5&"!$B$20") -> #DIV/0! | F8: =INDIRECT(F$5&"!$B$20") -> #DIV/0! | G8: =INDIRECT(G$5&"!$B$20") -> #DIV/0! | H8: =INDIRECT(H$5&"!$B$20") -> #DIV/0! | I8: =INDIRECT(I$5&"!$B$20") -> #DIV/0! | ... AF8: =INDIRECT(AF$5&"!$B$20") -> #DIV/0! | AG8: =AVERAGEIF(Tableau2[[#This Row],[1]:[31]],">0") -> 1575
A9: NUIT
A10: tonnage | B10: ='1'!E19 -> 9450 | C10: ='2'!E19 -> 0 | D10: ='3'!E19 -> 0 | E10: ='4'!E19 -> 0 | F10: ='5'!E19 -> 0 | G10: ='6'!E19 -> 0 | H10: ='7'!E19 -> 0 | I10: ='8'!E19 -> 0 | J10: ='9'!E19 -> 0 | K10: ='10'!E19 -> 0 | L10: ='11'!E19 -> 0 | M10: ='12'!E19 -> 0 | N10: ='13'!E19 -> 0 | O10: ='14'!E19 -> 0 | P10: ='15'!E19 -> 0 | Q10: ='16'!E19 -> 0 | R10: ='17'!E19 -> 0 | S10: ='18'!E19 -> 0 | T10: ='19'!E19 -> 0 | U10: ='20'!E19 -> 0 | V10: ='21'!E19 -> 0 | W10: ='22'!E19 -> 0 | X10: ='23'!E19 -> 0 | Y10: ='24'!E19 -> 0 | Z10: ='25'!E19 -> 0 | AA10: ='26'!E19 -> 0 | AB10: ='27'!E19 -> 0 | AC10: ='28'!E19 -> 0 | AD10: ='29'!E19 -> 0 | AE10: ='30'!E19 -> 0 | AF10: ='31'!E19 -> 0 | AG10: =SUM(Tableau2[[#This Row],[1]:[31]]) -> 9450
A11: t/h | B11: =INDIRECT(B$5&"!$d$20") -> 1181.25 | C11: =INDIRECT(C$5&"!$d$20") -> #DIV/0! | D11: =INDIRECT(D$5&"!$d$20") -> #DIV/0! | E11: =INDIRECT(E$5&"!$d$20") -> #DIV/0! | F11: =INDIRECT(F$5&"!$d$20") -> #DIV/0! | G11: =INDIRECT(G$5&"!$d$20") -> #DIV/0! | H11: =INDIRECT(H$5&"!$d$20") -> #DIV/0! | I11: =INDIRECT(I$5&"!$d$20") -> #DIV/0! | ... AF11: =INDIRECT(AF$5&"!$d$20") -> #DIV/0! | AG11: =AVERAGEIF(Tableau2[[#This Row],[1]:[31]],">0") -> 1181.25
A13: L4 | B13: ='1'!C23 -> 1215 | C13: ='2'!C23 -> 0 | D13: ='3'!C23 -> 0 | E13: ='4'!C23 -> 0 | F13: ='5'!C23 -> 0 | G13: ='6'!C23 -> 0 | H13: ='7'!C23 -> 0 | I13: ='8'!C23 -> 0 | J13: ='9'!C23 -> 0 | K13: ='10'!C23 -> 0 | L13: ='11'!C23 -> 0 | M13: ='12'!C23 -> 0 | N13: ='13'!C23 -> 0 | O13: ='14'!C23 -> 0 | P13: ='15'!C23 -> 0 | Q13: ='16'!C23 -> 0 | R13: ='17'!C23 -> 0 | S13: ='18'!C23 -> 0 | T13: ='19'!C23 -> 0 | U13: ='20'!C23 -> 0 | V13: ='21'!C23 -> 0 | W13: ='22'!C23 -> 0 | X13: ='23'!C23 -> 0 | Y13: ='24'!C23 -> 0 | Z13: ='25'!C23 -> 0 | AA13: ='26'!C23 -> 0 | AB13: ='27'!C23 -> 0 | AC13: ='28'!C23 -> 0 | AD13: ='29'!C23 -> 0 | AE13: ='30'!C23 -> 0 | AF13: ='31'!C23 -> 0 | AG13: =SUM(Tableau2[[#This Row],[1]:[31]]) -> 1215
A15: TROMMEL | B15: ='1'!H28 -> 1782 | C15: ='2'!H28 -> 0 | D15: ='3'!H28 -> 0 | E15: ='4'!H28 -> 0 | F15: ='5'!H28 -> 0 | G15: ='6'!H28 -> 0 | H15: ='7'!H28 -> 0 | I15: ='8'!H28 -> 0 | J15: ='9'!H28 -> 0 | K15: ='10'!H28 -> 0 | L15: ='11'!H28 -> 0 | M15: ='12'!H28 -> 0 | N15: ='13'!H28 -> 0 | O15: ='14'!H28 -> 0 | P15: ='15'!H28 -> 0 | Q15: ='16'!H28 -> 0 | R15: ='17'!H28 -> 0 | S15: ='18'!H28 -> 0 | T15: ='19'!H28 -> 0 | U15: ='20'!H28 -> 0 | V15: ='21'!H28 -> 0 | W15: ='22'!H28 -> 0 | X15: ='23'!H28 -> 0 | Y15: ='24'!H28 -> 0 | Z15: ='25'!H28 -> 0 | AA15: ='26'!H28 -> 0 | AB15: ='27'!H28 -> 0 | AC15: ='28'!H28 -> 0 | AD15: ='29'!H28 -> 0 | AE15: ='30'!H28 -> 0 | AF15: ='31'!H28 -> 0 | AG15: =SUM(Tableau2[[#This Row],[1]:[31]]) -> 1782
A17: Tonnage Total | B17: =B7+B10+B13+B15 -> 31347 | C17: =C7+C10+C13+C15 -> 0 | D17: =D7+D10+D13+D15 -> 0 | E17: =E7+E10+E13+E15 -> 0 | F17: =F7+F10+F13+F15 -> 0 | G17: =G7+G10+G13+G15 -> 0 | H17: =H7+H10+H13+H15 -> 0 | I17: =I7+I10+I13+I15 -> 0 | ... AG17: =AG7+AG10+AG13+AG15 -> 31347
A19: 0/17 | B19: ='1'!C34 -> 255 | C19: ='2'!C34 -> 0 | D19: ='3'!C34 -> 0 | E19: ='4'!C34 -> 0 | F19: ='5'!C34 -> 0 | G19: ='6'!C34 -> 0 | H19: ='7'!C34 -> 0 | I19: ='8'!C34 -> 0 | J19: ='9'!C34 -> 0 | K19: ='10'!C34 -> 0 | L19: ='11'!C34 -> 0 | M19: ='12'!C34 -> 0 | N19: ='13'!C34 -> 0 | O19: ='14'!C34 -> 0 | P19: ='15'!C34 -> 0 | Q19: ='16'!C34 -> 0 | R19: ='17'!C34 -> 0 | S19: ='18'!C34 -> 0 | T19: ='19'!C34 -> 0 | U19: ='20'!C34 -> 0 | V19: ='21'!C34 -> 0 | W19: ='22'!C34 -> 0 | X19: ='23'!C34 -> 0 | Y19: ='24'!C34 -> 0 | Z19: ='25'!C34 -> 0 | AA19: ='26'!C34 -> 0 | AB19: ='27'!C34 -> 0 | AC19: ='28'!C34 -> 0 | AD19: ='29'!C34 -> 0 | AE19: ='30'!C34 -> 0 | AF19: ='31'!C34 -> 0 | AG19: =SUM(Tableau2[[#This Row],[1]:[31]]) -> 255
A21: rendement concasseur
A22: jour | B22: ='1'!G14 -> 0.66666667 | C22: ='2'!G14 -> #DIV/0! | D22: ='3'!G14 -> #DIV/0! | E22: ='4'!G14 -> #DIV/0! | F22: ='5'!G14 -> #DIV/0! | G22: ='6'!G14 -> #DIV/0! | H22: ='7'!G14 -> #DIV/0! | I22: ='8'!G14 -> #DIV/0! | J22: ='9'!G14 -> #DIV/0! | K22: ='10'!G14 -> #DIV/0! | L22: ='11'!G14 -> #DIV/0! | M22: ='12'!G14 -> #DIV/0! | N22: ='13'!G14 -> #DIV/0! | O22: ='14'!G14 -> #DIV/0! | P22: ='15'!G14 -> #DIV/0! | Q22: ='16'!G14 -> #DIV/0! | R22: ='17'!G14 -> #DIV/0! | S22: ='18'!G14 -> #DIV/0! | T22: ='19'!G14 -> #DIV/0! | U22: ='20'!G14 -> #DIV/0! | V22: ='21'!G14 -> #DIV/0! | W22: ='22'!G14 -> #DIV/0! | X22: ='23'!G14 -> #DIV/0! | Y22: ='24'!G14 -> #DIV/0! | Z22: ='25'!G14 -> #DIV/0! | AA22: ='26'!G14 -> #DIV/0! | AB22: ='27'!G14 -> #DIV/0! | AC22: ='28'!G14 -> #DIV/0! | AD22: ='29'!G14 -> #DIV/0! | AE22: ='30'!G14 -> #DIV/0! | AF22: ='31'!G14 -> #DIV/0! | AG22: =AVERAGEIF(Tableau2[[#This Row],[1]:[31]],">0") -> 0.66666667
A23: nuit | B23: ='1'!H14 -> 0.75 | C23: ='2'!H14 -> #DIV/0! | D23: ='3'!H14 -> #DIV/0! | E23: ='4'!H14 -> #DIV/0! | F23: ='5'!H14 -> #DIV/0! | G23: ='6'!H14 -> #DIV/0! | H23: ='7'!H14 -> #DIV/0! | I23: ='8'!H14 -> #DIV/0! | J23: ='9'!H14 -> #DIV/0! | K23: ='10'!H14 -> #DIV/0! | L23: ='11'!H14 -> #DIV/0! | M23: ='12'!H14 -> #DIV/0! | N23: ='13'!H14 -> #DIV/0! | O23: ='14'!H14 -> #DIV/0! | P23: ='15'!H14 -> #DIV/0! | Q23: ='16'!H14 -> #DIV/0! | R23: ='17'!H14 -> #DIV/0! | S23: ='18'!H14 -> #DIV/0! | T23: ='19'!H14 -> #DIV/0! | U23: ='20'!H14 -> #DIV/0! | V23: ='21'!H14 -> #DIV/0! | W23: ='22'!H14 -> #DIV/0! | X23: ='23'!H14 -> #DIV/0! | Y23: ='24'!H14 -> #DIV/0! | Z23: ='25'!H14 -> #DIV/0! | AA23: ='26'!H14 -> #DIV/0! | AB23: ='27'!H14 -> #DIV/0! | AC23: ='28'!H14 -> #DIV/0! | AD23: ='29'!H14 -> #DIV/0! | AE23: ='30'!H14 -> #DIV/0! | AF23: ='31'!H14 -> #DIV/0! | AG23: =AVERAGEIF(Tableau2[[#This Row],[1]:[31]],">0") -> 0.75
A24: Moyenne | B24: =AVERAGEIF(B22:B23,">0") -> 0.70833333 | C24: =AVERAGEIF(C22:C23,">0") -> #DIV/0! | D24: =AVERAGEIF(D22:D23,">0") -> #DIV/0! | E24: =AVERAGEIF(E22:E23,">0") -> #DIV/0! | F24: =AVERAGEIF(F22:F23,">0") -> #DIV/0! | G24: =AVERAGEIF(G22:G23,">0") -> #DIV/0! | H24: =AVERAGEIF(H22:H23,">0") -> #DIV/0! | I24: =AVERAGEIF(I22:I23,">0") -> #DIV/0! | ... AG24: =AVERAGEIF(AG22:AG23,">0") -> 0.70833333
A26: heures fonctionnement | B26: ='1'!G18 -> 20 | C26: ='2'!G18 -> 0 | D26: ='3'!G18 -> 0 | E26: ='4'!G18 -> 0 | F26: ='5'!G18 -> 0 | G26: ='6'!G18 -> 0 | H26: ='7'!G18 -> 0 | I26: ='8'!G18 -> 0 | J26: ='9'!G18 -> 0 | K26: ='10'!G18 -> 0 | L26: ='11'!G18 -> 0 | M26: ='12'!G18 -> 0 | N26: ='13'!G18 -> 0 | O26: ='14'!G18 -> 0 | P26: ='15'!G18 -> 0 | Q26: ='16'!G18 -> 0 | R26: ='17'!G18 -> 0 | S26: ='18'!G18 -> 0 | T26: ='19'!G18 -> 0 | U26: ='20'!G18 -> 0 | V26: ='21'!G18 -> 0 | W26: ='22'!G18 -> 0 | X26: ='23'!G18 -> 0 | Y26: ='24'!G18 -> 0 | Z26: ='25'!G18 -> 0 | AA26: ='26'!G18 -> 0 | AB26: ='27'!G18 -> 0 | AC26: ='28'!G18 -> 0 | AD26: ='29'!G18 -> 0 | AE26: ='30'!G18 -> 0 | AF26: ='31'!G18 -> 0 | AG26: =SUM(Tableau2[[#This Row],[1]:[31]]) -> 20
A27: heures en charge | B27: ='1'!G19 -> 14 | C27: ='2'!G19 -> 0 | D27: ='3'!G19 -> 0 | E27: ='4'!G19 -> 0 | F27: ='5'!G19 -> 0 | G27: ='6'!G19 -> 0 | H27: ='7'!G19 -> 0 | I27: ='8'!G19 -> 0 | J27: ='9'!G19 -> 0 | K27: ='10'!G19 -> 0 | L27: ='11'!G19 -> 0 | M27: ='12'!G19 -> 0 | N27: ='13'!G19 -> 0 | O27: ='14'!G19 -> 0 | P27: ='15'!G19 -> 0 | Q27: ='16'!G19 -> 0 | R27: ='17'!G19 -> 0 | S27: ='18'!G19 -> 0 | T27: ='19'!G19 -> 0 | U27: ='20'!G19 -> 0 | V27: ='21'!G19 -> 0 | W27: ='22'!G19 -> 0 | X27: ='23'!G19 -> 0 | Y27: ='24'!G19 -> 0 | Z27: ='25'!G19 -> 0 | AA27: ='26'!G19 -> 0 | AB27: ='27'!G19 -> 0 | AC27: ='28'!G19 -> 0 | AD27: ='29'!G19 -> 0 | AE27: ='30'!G19 -> 0 | AF27: ='31'!G19 -> 0 | AG27: =SUM(Tableau2[[#This Row],[1]:[31]]) -> 14
A29: heures fonctionnement jours | B29: ='1'!G12 -> 12 | C29: ='2'!G12 -> 0 | D29: ='3'!G12 -> 0 | E29: ='4'!G12 -> 0 | F29: ='5'!G12 -> 0 | G29: ='6'!G12 -> 0 | H29: ='7'!G12 -> 0 | I29: ='8'!G12 -> 0 | J29: ='9'!G12 -> 0 | K29: ='10'!G12 -> 0 | L29: ='11'!G12 -> 0 | M29: ='12'!G12 -> 0 | N29: ='13'!G12 -> 0 | O29: ='14'!G12 -> 0 | P29: ='15'!G12 -> 0 | Q29: ='16'!G12 -> 0 | R29: ='17'!G12 -> 0 | S29: ='18'!G12 -> 0 | T29: ='19'!G12 -> 0 | U29: ='20'!G12 -> 0 | V29: ='21'!G12 -> 0 | W29: ='22'!G12 -> 0 | X29: ='23'!G12 -> 0 | Y29: ='24'!G12 -> 0 | Z29: ='25'!G12 -> 0 | AA29: ='26'!G12 -> 0 | AB29: ='27'!G12 -> 0 | AC29: ='28'!G12 -> 0 | AD29: ='29'!G12 -> 0 | AE29: ='30'!G12 -> 0 | AF29: ='31'!G12 -> 0 | AG29: =SUM(Tableau2[[#This Row],[1]:[31]]) -> 12
A30: possible | B30: 11 | C30: 11 | D30: 11 | E30: 11 | F30: 11 | G30: 8 | H30: 11 | I30: 11 | J30: 11 | K30: 11 | L30: 11 | M30: 11 | N30: 8 | O30: 11 | P30: 11 | Q30: 11 | R30: 11 | S30: 11 | T30: 11 | U30: 8 | V30: 11 | W30: 11 | X30: 11 | Y30: 11 | Z30: 11 | AA30: 11 | AB30: 8 | AC30: 11 | AD30: 11 | AE30: 11 | AF30: 0 | AG30: =SUM(Tableau2[[#This Row],[1]:[31]]) -> 318
AG31: =AG29/AG30 -> 0.037735849
A33: heures fonctionnement nuits | B33: ='1'!H12 -> 8 | C33: ='2'!H12 -> 0 | D33: ='3'!H12 -> 0 | E33: ='4'!H12 -> 0 | F33: ='5'!H12 -> 0 | G33: ='6'!H12 -> 0 | H33: ='7'!H12 -> 0 | I33: ='8'!H12 -> 0 | J33: ='9'!H12 -> 0 | K33: ='10'!H12 -> 0 | L33: ='11'!H12 -> 0 | M33: ='12'!H12 -> 0 | N33: ='13'!H12 -> 0 | O33: ='14'!H12 -> 0 | P33: ='15'!H12 -> 0 | Q33: ='16'!H12 -> 0 | R33: ='17'!H12 -> 0 | S33: ='18'!H12 -> 0 | T33: ='19'!H12 -> 0 | U33: ='20'!H12 -> 0 | V33: ='21'!H12 -> 0 | W33: ='22'!H12 -> 0 | X33: ='23'!H12 -> 0 | Y33: ='24'!H12 -> 0 | Z33: ='25'!H12 -> 0 | AA33: ='26'!H12 -> 0 | AB33: ='27'!H12 -> 0 | AC33: ='28'!H12 -> 0 | AD33: ='29'!H12 -> 0 | AE33: ='30'!H12 -> 0 | AF33: ='31'!H12 -> 0 | AG33: =SUM(Tableau2[[#This Row],[1]:[31]]) -> 8
A34: possible | B34: 13 | C34: 13 | D34: 13 | E34: 13 | F34: 13 | G34: 8 | H34: 13 | I34: 13 | J34: 13 | K34: 13 | L34: 13 | M34: 13 | N34: 8 | O34: 13 | P34: 13 | Q34: 13 | R34: 13 | S34: 13 | T34: 13 | U34: 8 | V34: 13 | W34: 13 | X34: 13 | Y34: 13 | Z34: 13 | AA34: 13 | AB34: 8 | AC34: 13 | AD34: 13 | AE34: 13 | AF34: 0 | AG34: =SUM(Tableau2[[#This Row],[1]:[31]]) -> 370
AG35: =AG33/AG34 -> 0.021621622
A37: T2
A38: Jour | B38: ='1'!G34 -> 0.97560976 | C38: ='2'!G34 -> #DIV/0! | D38: ='3'!G34 -> #DIV/0! | E38: ='4'!G34 -> #DIV/0! | F38: ='5'!G34 -> #DIV/0! | G38: ='6'!G34 -> #DIV/0! | H38: ='7'!G34 -> #DIV/0! | I38: ='8'!G34 -> #DIV/0! | J38: ='9'!G34 -> #DIV/0! | K38: ='10'!G34 -> #DIV/0! | L38: ='11'!G34 -> #DIV/0! | M38: ='12'!G34 -> #DIV/0! | N38: ='13'!G34 -> #DIV/0! | O38: ='14'!G34 -> #DIV/0! | P38: ='15'!G34 -> #DIV/0! | Q38: ='16'!G34 -> #DIV/0! | R38: ='17'!G34 -> #DIV/0! | S38: ='18'!G34 -> #DIV/0! | T38: ='19'!G34 -> #DIV/0! | U38: ='20'!G34 -> #DIV/0! | V38: ='21'!G34 -> #DIV/0! | W38: ='22'!G34 -> #DIV/0! | X38: ='23'!G34 -> #DIV/0! | Y38: ='24'!G34 -> #DIV/0! | Z38: ='25'!G34 -> #DIV/0! | AA38: ='26'!G34 -> #DIV/0! | AB38: ='27'!G34 -> #DIV/0! | AC38: ='28'!G34 -> #DIV/0! | AD38: ='29'!G34 -> #DIV/0! | AE38: ='30'!G34 -> #DIV/0! | AF38: ='31'!G34 -> #DIV/0! | AG38: =AVERAGEIF(Tableau2[[#This Row],[1]:[31]],">0") -> 0.97560976
A39: nuit | B39: ='1'!H34 -> 1 | C39: ='2'!H34 -> #DIV/0! | D39: ='3'!H34 -> #DIV/0! | E39: ='4'!H34 -> #DIV/0! | F39: ='5'!H34 -> #DIV/0! | G39: ='6'!H34 -> #DIV/0! | H39: ='7'!H34 -> #DIV/0! | I39: ='8'!H34 -> #DIV/0! | J39: ='9'!H34 -> #DIV/0! | K39: ='10'!H34 -> #DIV/0! | L39: ='11'!H34 -> #DIV/0! | M39: ='12'!H34 -> #DIV/0! | N39: ='13'!H34 -> #DIV/0! | O39: ='14'!H34 -> #DIV/0! | P39: ='15'!H34 -> #DIV/0! | Q39: ='16'!H34 -> #DIV/0! | R39: ='17'!H34 -> #DIV/0! | S39: ='18'!H34 -> #DIV/0! | T39: ='19'!H34 -> #DIV/0! | U39: ='20'!H34 -> #DIV/0! | V39: ='21'!H34 -> #DIV/0! | W39: ='22'!H34 -> #DIV/0! | X39: ='23'!H34 -> #DIV/0! | Y39: ='24'!H34 -> #DIV/0! | Z39: ='25'!H34 -> #DIV/0! | AA39: ='26'!H34 -> #DIV/0! | AB39: ='27'!H34 -> #DIV/0! | AC39: ='28'!H34 -> #DIV/0! | AD39: ='29'!H34 -> #DIV/0! | AE39: ='30'!H34 -> #DIV/0! | AF39: ='31'!H34 -> #DIV/0! | AG39: =AVERAGEIF(Tableau2[[#This Row],[1]:[31]],">0") -> 1
A40: moyenne | B40: =AVERAGEIF(B38:B39,">0") -> 0.98780488 | C40: =AVERAGEIF(C38:C39,">0") -> #DIV/0! | D40: =AVERAGEIF(D38:D39,">0") -> #DIV/0! | E40: =AVERAGEIF(E38:E39,">0") -> #DIV/0! | F40: =AVERAGEIF(F38:F39,">0") -> #DIV/0! | G40: =AVERAGEIF(G38:G39,">0") -> #DIV/0! | H40: =AVERAGEIF(H38:H39,">0") -> #DIV/0! | I40: =AVERAGEIF(I38:I39,">0") -> #DIV/0! | ... AF40: =AVERAGEIF(AF38:AF39,">0") -> #DIV/0! | AG40: =AVERAGEIF(Tableau2[[#This Row],[1]:[31]],">0") -> 0.98780488
A42: découverte:
A43: m3 | B43: ='1'!L19 -> 0 | C43: ='2'!L19 -> 0 | D43: ='3'!L19 -> 0 | E43: ='4'!L19 -> 0 | F43: ='5'!L19 -> 0 | G43: ='6'!L19 -> 0 | H43: ='7'!L19 -> 0 | I43: ='8'!L19 -> 0 | J43: ='9'!L19 -> 0 | K43: ='10'!L19 -> 0 | L43: ='11'!L19 -> 0 | M43: ='12'!L19 -> 0 | N43: ='13'!L19 -> 0 | O43: ='14'!L19 -> 0 | P43: ='15'!L19 -> 0 | Q43: ='16'!L19 -> 0 | R43: ='17'!L19 -> 0 | S43: ='18'!L19 -> 0 | T43: ='19'!L19 -> 0 | U43: ='20'!L19 -> 0 | V43: ='21'!L19 -> 0 | W43: ='22'!L19 -> 0 | X43: ='23'!L19 -> 0 | Y43: ='24'!L19 -> 0 | Z43: ='25'!L19 -> 0 | AA43: ='26'!L19 -> 0 | AB43: ='27'!L19 -> 0 | AC43: ='28'!L19 -> 0 | AD43: ='29'!L19 -> 0 | AE43: ='30'!L19 -> 0 | AF43: ='31'!L19 -> 0 | AG43: =SUM(Tableau2[[#This Row],[1]:[31]]) -> 0
A45: Nombre de trou
A46: cr10 | B46: ='1'!E38 -> 260 | C46: ='2'!E38 -> 0 | D46: ='3'!E38 -> 0 | E46: ='4'!E38 -> 0 | F46: ='5'!E38 -> 0 | G46: ='6'!E38 -> 0 | H46: ='7'!E38 -> 0 | I46: ='8'!E38 -> 0 | J46: ='9'!E38 -> 0 | K46: ='10'!E38 -> 0 | L46: ='11'!E38 -> 0 | M46: ='12'!E38 -> 0 | N46: ='13'!E38 -> 0 | O46: ='14'!E38 -> 0 | P46: ='15'!E38 -> 0 | Q46: ='16'!E38 -> 0 | R46: ='17'!E38 -> 0 | S46: ='18'!E38 -> 0 | T46: ='19'!E38 -> 0 | U46: ='20'!E38 -> 0 | V46: ='21'!E38 -> 0 | W46: ='22'!E38 -> 0 | X46: ='23'!E38 -> 0 | Y46: ='24'!E38 -> 0 | Z46: ='25'!E38 -> 0 | AA46: ='26'!E38 -> 0 | AB46: ='27'!E38 -> 0 | AC46: ='28'!E38 -> 0 | AD46: ='29'!E38 -> 0 | AE46: ='30'!E38 -> 0 | AF46: ='31'!E38 -> 0 | AG46: =SUM(Tableau2[[#This Row],[1]:[31]]) -> 260
A47: cr11 | B47: ='1'!E39 -> 260 | C47: ='2'!E39 -> 0 | D47: ='3'!E39 -> 0 | E47: ='4'!E39 -> 0 | F47: ='5'!E39 -> 0 | G47: ='6'!E39 -> 0 | H47: ='7'!E39 -> 0 | I47: ='8'!E39 -> 0 | J47: ='9'!E39 -> 10 | K47: ='10'!E39 -> 0 | L47: ='11'!E39 -> 0 | M47: ='12'!E39 -> 0 | N47: ='13'!E39 -> 0 | O47: ='14'!E39 -> 0 | P47: ='15'!E39 -> 0 | Q47: ='16'!E39 -> 0 | R47: ='17'!E39 -> 0 | S47: ='18'!E39 -> 0 | T47: ='19'!E39 -> 0 | U47: ='20'!E39 -> 0 | V47: ='21'!E39 -> 0 | W47: ='22'!E39 -> 0 | X47: ='23'!E39 -> 0 | Y47: ='24'!E39 -> 0 | Z47: ='25'!E39 -> 0 | AA47: ='26'!E39 -> 0 | AB47: ='27'!E39 -> 0 | AC47: ='28'!E39 -> 0 | AD47: ='29'!E39 -> 0 | AE47: ='30'!E39 -> 0 | AF47: ='31'!E39 -> 0 | AG47: =SUM(Tableau2[[#This Row],[1]:[31]]) -> 270
A48: cr13 | B48: ='1'!E40 -> 260 | C48: ='2'!E40 -> 0 | D48: ='3'!E40 -> 0 | E48: ='4'!E40 -> 0 | F48: ='5'!E40 -> 0 | G48: ='6'!E40 -> 0 | H48: ='7'!E40 -> 0 | I48: ='8'!E40 -> 0 | J48: ='9'!E40 -> 14 | K48: ='10'!E40 -> 0 | L48: ='11'!E40 -> 0 | M48: ='12'!E40 -> 0 | N48: ='13'!E40 -> 0 | O48: ='14'!E40 -> 0 | P48: ='15'!E40 -> 0 | Q48: ='16'!E40 -> 0 | R48: ='17'!E40 -> 0 | S48: ='18'!E40 -> 0 | T48: ='19'!E40 -> 0 | U48: ='20'!E40 -> 0 | V48: ='21'!E40 -> 0 | W48: ='22'!E40 -> 0 | X48: ='23'!E40 -> 0 | Y48: ='24'!E40 -> 0 | Z48: ='25'!E40 -> 0 | AA48: ='26'!E40 -> 0 | AB48: ='27'!E40 -> 0 | AC48: ='28'!E40 -> 0 | AD48: ='29'!E40 -> 0 | AE48: ='30'!E40 -> 0 | AF48: ='31'!E40 -> 0 | AG48: =SUM(Tableau2[[#This Row],[1]:[31]]) -> 274
A49: TOTAL | B49: ='1'!E41 -> 780 | C49: ='2'!E41 -> 0 | D49: ='3'!E41 -> 0 | E49: ='4'!E41 -> 0 | F49: ='5'!E41 -> 0 | G49: ='6'!E41 -> 0 | H49: ='7'!E41 -> 0 | I49: ='8'!E41 -> 0 | J49: ='9'!E41 -> 24 | K49: ='10'!E41 -> 0 | L49: ='11'!E41 -> 0 | M49: ='12'!E41 -> 0 | N49: ='13'!E41 -> 0 | O49: ='14'!E41 -> 0 | P49: ='15'!E41 -> 0 | Q49: ='16'!E41 -> 0 | R49: ='17'!E41 -> 0 | S49: ='18'!E41 -> 0 | T49: ='19'!E41 -> 0 | U49: ='20'!E41 -> 0 | V49: ='21'!E41 -> 0 | W49: ='22'!E41 -> 0 | X49: ='23'!E41 -> 0 | Y49: ='24'!E41 -> 0 | Z49: ='25'!E41 -> 0 | AA49: ='26'!E41 -> 0 | AB49: ='27'!E41 -> 0 | AC49: ='28'!E41 -> 0 | AD49: ='29'!E41 -> 0 | AE49: ='30'!E41 -> 0 | AF49: ='31'!E41 -> 0 | AG49: =SUM(Tableau2[[#This Row],[1]:[31]]) -> 804
A51: trou/heure | B51: ='1'!G41 -> 26.666667 | C51: ='2'!G41 -> #DIV/0! | D51: ='2'!G41 -> #DIV/0! | E51: ='4'!G41 -> #DIV/0! | F51: ='5'!G41 -> #DIV/0! | G51: ='6'!G41 -> #DIV/0! | H51: ='7'!G41 -> #DIV/0! | I51: ='8'!G41 -> #DIV/0! | J51: ='9'!G41 -> #DIV/0! | K51: ='10'!G41 -> #DIV/0! | L51: ='11'!G41 -> #DIV/0! | M51: ='12'!G41 -> #DIV/0! | N51: ='13'!G41 -> #DIV/0! | O51: ='14'!G41 -> #DIV/0! | P51: ='15'!G41 -> #DIV/0! | Q51: ='16'!G41 -> #DIV/0! | R51: ='17'!G41 -> #DIV/0! | S51: ='18'!G41 -> #DIV/0! | T51: ='19'!G41 -> #DIV/0! | U51: ='20'!G41 -> #DIV/0! | V51: ='21'!G41 -> #DIV/0! | W51: ='22'!G41 -> #DIV/0! | X51: ='23'!G41 -> #DIV/0! | Y51: ='24'!G41 -> #DIV/0! | Z51: ='25'!G41 -> #DIV/0! | AA51: ='26'!G41 -> #DIV/0! | AB51: ='27'!G41 -> #DIV/0! | AC51: ='28'!G41 -> #DIV/0! | AD51: ='29'!G41 -> #DIV/0! | AE51: ='30'!G41 -> #DIV/0! | AF51: ='31'!G41 -> #DIV/0! | AG51: =AVERAGEIF(Tableau2[[#This Row],[1]:[31]],">0") -> 26.666667
E59: Attention tonnage jour faux au départ avant le 13 car pas les tonnages nuit

Sheet 1
D1: Fiche journalière d'exploitation
A2: 42064
E3: Carrière de KOSSIOUEIN
A4: Date:
A6: Tir de mine: | C6: pétardage:
J7: Découverte:
A8: Exploitation: | F8: concasseur:
S9: JOUR
A10: numéro du tir
A11: Dumper Tony | B11: nombre de tours | C11: tonnage du jour | D11: nb de tours | E11: tonnage nuit | G11: jour | H11: nuit | J11: Dumper Tony | K11: nombre de tours | L11: Total m3 | N11: dumper | O11: OUI OU NON | P11: HEURE DEPART | Q11: HEURE FIN | R11: CHAUFFEUR | S11: 2 | U11: CHARGEUSES | V11: OUI OU NON | W11: HEURE DEPART | X11: HEURE FIN | Y11: CHAUFFEUR | Z11: 2
A12: DU1 | B12: 100 | C12: =27*B12 -> 2700 | D12: 50 | E12: =27*D12 -> 1350 | F12: heure de fonctionnement | G12: 12 | H12: 8 | J12: BELL | L12: =K12*15 -> 0 | N12: DU1 | U12: CH9
A13: DU2 | B13: 100 | C13: =27*B13 -> 2700 | D13: 50 | E13: =27*D13 -> 1350 | F13: heure en charge | G13: 8 | H13: 6 | J13: DU2 | L13: =K13*18 -> 0 | N13: DU2 | U13: CH10
A14: DU3 | B14: 100 | C14: =27*B14 -> 2700 | D14: 50 | E14: =27*D14 -> 1350 | F14: rendement | G14: =G13/G12 -> 0.66666667 | H14: =H13/H12 -> 0.75 | J14: maroc | L14: =K14*14 -> 0 | N14: DU3 | U14: CH11
A15: DU4 | B15: 100 | C15: =27*B15 -> 2700 | D15: 50 | E15: =27*D15 -> 1350 | G15: =AVERAGE(G14:H14) -> 0.70833333 | J15: DU4 | L15: =K15*18 -> 0 | N15: DU4 | U15: CH17
A16: DU5 | B16: 100 | C16: =27*B16 -> 2700 | D16: 50 | E16: =27*D16 -> 1350 | J16: DU5 | L16: =K16*18 -> 0 | N16: DU5 | U16: CH18
A17: DU13 | B17: 100 | C17: =27*B17 -> 2700 | D17: 50 | E17: =27*D17 -> 1350 | J17: DU13 | N17: DU13 | U17: CH19
A18: DU14 | B18: 100 | C18: =27*B18 -> 2700 | D18: 50 | E18: =27*D18 -> 1350 | F18: Heures concasseur | G18: =SUM(G12:H12) -> 20 | J18: DU14 | L18: =K18*8 -> 0 | N18: DU14
A19: TOTAL | B19: =SUM(B12:B18) -> 700 | C19: =SUM(C12:C18) -> 18900 | D19: 50 | E19: =SUM(E12:E18) -> 9450 | F19: charge | G19: =SUM(G13:H13) -> 14 | J19: TOTAL | K19: =SUM(K12:K18) -> 0 | L19: =K19*35 -> 0 | N19: DU15 bell
A20: débit en t/h jour | B20: =C19/(G12) -> 1575 | C20: débit en t/h nuit | D20: =E19/H12 -> 1181.25 | N20: DU16 bell
C21: =C19+E19 -> 28350 | F21: Tonnage total | G21: =C23+E19+C19+H28 -> 31347 | N21: DU18 cat
B22: nombre de tours | C22: tonnage | N22: DU19 cat
A23: L4 | B23: 45 | C23: =27*B23 -> 1215 | E23: débit | N23: DU20 cat
E24: =C23/B27 -> 9.72 | H24: TROMMEL | I24: heure | J24: débit | N24: DU22 BELL
G25: jour | H25: 45 | I25: 12
B26: H marches | C26: H fnct | D26: rendement | G26: nuit | H26: 21 | I26: 11 | N26: PELLES | O26: OUI OU NON | P26: HEURE DEPART | Q26: HEURE FIN | R26: CHAUFFEUR | S26: 2 | U26: FOREUSES | V26: OUI OU NON | W26: HEURE DEPART | X26: HEURE FIN | Y26: CHAUFFEUR | Z26: 2
A27: K1 | B27: 125 | C27: 120 | D27: =C27/B27 -> 0.96 | E27: Cote en mm | G27: total | H27: =SUM(H25:H26) -> 66 | I27: =SUM(I25:I26) -> 23 | J27: =H28/I27 -> 77.478261 | N27: PR12 | U27: CR14
A28: B1 | B28: 130 | C28: 130 | D28: =C28/B28 -> 1 | G28: total tonne | H28: =H27*27 -> 1782 | N28: PR13 | U28: CR14
A29: B2 | B29: 120 | C29: 120 | D29: =C29/B29 -> 1 | N29: PR14 | U29: CR16
A30: C1 | B30: 10 | C30: 5 | N30: PR15 mart
A31: C1 | B31: 56 | C31: 45 | N31: PR19
F32: heure de fonctionnement | G32: 123 | H32: 110 | N32: PR21 conc
B33: tours | C33: tonnage | F33: heure en charge | G33: 120 | H33: 110 | N33: PR22
A34: 0/17 | B34: 15 | C34: =(B34*17) -> 255 | G34: =G33/G32 -> 0.97560976 | H34: =H33/H32 -> 1 | N34: PR23
N35: PR24
A36: Foration: | N36: PR25 mart
B37: Nombre de trou forés | C37: jour | D37: nuit | E37: Total | F37: heure jour | G37: trou/heure | N37: PR26 komt
B38: CR14 | C38: 120 | D38: 140 | E38: =C38+D38 -> 260 | F38: 13 | G38: =E38/F38 -> 20 | N38: PR27 komt
B39: CR15 | C39: 120 | D39: 140 | E39: =C39+D39 -> 260 | F39: 13 | G39: =E39/F39 -> 20 | T39: NUIT
B40: CR16 | C40: 120 | D40: 140 | E40: =C40+D40 -> 260 | F40: 6.5 | G40: =E40/F40 -> 40
E41: =E38+E39+E40 -> 780 | G41: =AVERAGEIF(G38:G40,">0") -> 26.666667 | N41: dumper | O41: OUI OU NON | P41: HEURE DEPART | Q41: HEURE FIN | R41: CHAUFFEUR | S41: 2 | U41: CHARGEUSES | V41: OUI OU NON | W41: HEURE DEPART | X41: HEURE FIN | Y41: CHAUFFEUR | Z41: 2
...

Sheet 2
D1: Fiche journalière d'exploitation
A2: 42064
E3: Carrière de KOSSIOUEIN
A4: Date:
A6: Tir de mine: | C6: pétardage:
J7: Découverte:
A8: Exploitation: | F8: concasseur:
S9: JOUR
A10: numéro du tir
A11: Dumper Tony | B11: nombre de tours | C11: tonnage du jour | D11: nb de tours | E11: tonnage nuit | G11: jour | H11: nuit | J11: Dumper Tony | K11: nombre de tours | L11: Total m3 | N11: dumper | O11: OUI OU NON | P11: HEURE DEPART | Q11: HEURE FIN | R11: CHAUFFEUR | S11: 2 | U11: CHARGEUSES | V11: OUI OU NON | W11: HEURE DEPART | X11: HEURE FIN | Y11: CHAUFFEUR | Z11: 2
A12: DU1 | C12: =27*B12 -> 0 | E12: =27*D12 -> 0 | F12: heure de fonctionnement | J12: BELL | L12: =K12*15 -> 0 | N12: DU1 | U12: CH9
A13: DU2 | C13: =27*B13 -> 0 | E13: =27*D13 -> 0 | F13: heure en charge | J13: DU2 | L13: =K13*18 -> 0 | N13: DU2 | U13: CH10
A14: DU3 | C14: =27*B14 -> 0 | E14: =27*D14 -> 0 | F14: rendement | G14: =G13/G12 -> #DIV/0! | H14: =H13/H12 -> #DIV/0! | J14: maroc | L14: =K14*14 -> 0 | N14: DU3 | U14: CH11
A15: DU4 | C15: =27*B15 -> 0 | E15: =27*D15 -> 0 | G15: =AVERAGEIF(G14:H14,">0") -> #DIV/0! | J15: DU4 | L15: =K15*18 -> 0 | N15: DU4 | U15: CH17
A16: DU5 | C16: =27*B16 -> 0 | E16: =27*D16 -> 0 | J16: DU5 | L16: =K16*18 -> 0 | N16: DU5 | U16: CH18
A17: DU13 | C17: =27*B17 -> 0 | E17: =27*D17 -> 0 | J17: DU13 | N17: DU13 | U17: CH19
A18: DU14 | C18: =27*B18 -> 0 | E18: =27*D18 -> 0 | F18: Heures concasseur | G18: =SUM(G12:H12) -> 0 | J18: DU14 | L18: =K18*8 -> 0 | N18: DU14
A19: TOTAL | B19: =SUM(B12:B18) -> 0 | C19: =SUM(C12:C18) -> 0 | D19: =SUM(D12:D18) -> 0 | E19: =SUM(E12:E18) -> 0 | F19: charge | G19: =SUM(G13:H13) -> 0 | J19: TOTAL | K19: =SUM(K12:K18) -> 0 | L19: =K19*35 -> 0 | N19: DU15 bell
A20: débit en t/h jour | B20: =C19/(G12) -> #DIV/0! | C20: débit en t/h nuit | D20: =E19/H12 -> #DIV/0! | N20: DU16 bell
C21: =C19+E19 -> 0 | F21: Tonnage total | G21: =C23+E19+C19+H28 -> 0 | N21: DU18 cat
B22: nombre de tours | C22: tonnage | N22: DU19 cat
A23: L4 | C23: =27*B23 -> 0 | E23: débit | N23: DU20 cat
E24: =C23/B27 -> #DIV/0! | H24: TROMMEL | I24: heure | J24: débit | N24: DU22 BELL
G25: jour
B26: H marches | C26: H fnct | D26: rendement | G26: nuit | N26: PELLES | O26: OUI OU NON | P26: HEURE DEPART | Q26: HEURE FIN | R26: CHAUFFEUR | S26: 2 | U26: FOREUSES | V26: OUI OU NON | W26: HEURE DEPART | X26: HEURE FIN | Y26: CHAUFFEUR | Z26: 2
A27: K1 | D27: =C27/B27 -> #DIV/0! | E27: Cote en mm | G27: total | H27: =SUM(H25:H26) -> 0 | I27: =SUM(I25:I26) -> 0 | J27: =H28/I27 -> #DIV/0! | N27: PR12 | U27: CR14
A28: B1 | D28: =C28/B28 -> #DIV/0! | G28: total tonne | H28: =H27*27 -> 0 | N28: PR13 | U28: CR14
A29: B2 | D29: =C29/B29 -> #DIV/0! | N29: PR14 | U29: CR16
A30: C1 | N30: PR15 mart
A31: C1 | N31: PR19
F32: heure de fonctionnement | N32: PR21 conc
B33: tours | C33: tonnage | F33: heure en charge | N33: PR22
A34: 0/17 | C34: =(B34*17) -> 0 | G34: =G33/G32 -> #DIV/0! | H34: =H33/H32 -> #DIV/0! | N34: PR23
G35: =AVERAGE(G34:H34) -> #DIV/0! | N35: PR24
A36: Foration: | N36: PR25 mart
B37: Nombre de trou forés | C37: jour | D37: nuit | E37: Total | F37: heure jour | G37: trou/heure | N37: PR26 komt
B38: CR14 | E38: =C38+D38 -> 0 | G38: =E38/F38 -> #DIV/0! | N38: PR27 komt
B39: CR15 | E39: =C39+D39 -> 0 | G39: =E39/F39 -> #DIV/0! | T39: NUIT
B40: CR16 | E40: =C40+D40 -> 0 | G40: =E40/F40 -> #DIV/0!
E41: =E38+E39+E40 -> 0 | G41: =AVERAGEIF(G38:G40,">0") -> #DIV/0! | N41: dumper | O41: OUI OU NON | P41: HEURE DEPART | Q41: HEURE FIN | R41: CHAUFFEUR | S41: 2 | U41: CHARGEUSES | V41: OUI OU NON | W41: HEURE DEPART | X41: HEURE FIN | Y41: CHAUFFEUR | Z41: 2
...

Sheet 3
D1: Fiche journalière d'exploitation
A2: 42064
E3: Carrière de KOSSIOUEIN
A4: Date:
A6: Tir de mine: | C6: pétardage:
J7: Découverte:
A8: Exploitation: | F8: concasseur:
S9: JOUR
A10: numéro du tir
A11: Dumper Tony | B11: nombre de tours | C11: tonnage du jour | D11: nb de tours | E11: tonnage nuit | G11: jour | H11: nuit | J11: Dumper Tony | K11: nombre de tours | L11: Total m3 | N11: dumper | O11: OUI OU NON | P11: HEURE DEPART | Q11: HEURE FIN | R11: CHAUFFEUR | S11: 2 | U11: CHARGEUSES | V11: OUI OU NON | W11: HEURE DEPART | X11: HEURE FIN | Y11: CHAUFFEUR | Z11: 2
A12: DU1 | C12: =27*B12 -> 0 | E12: =27*D12 -> 0 | F12: heure de fonctionnement | J12: BELL | L12: =K12*15 -> 0 | N12: DU1 | U12: CH9
A13: DU2 | C13: =27*B13 -> 0 | E13: =27*D13 -> 0 | F13: heure en charge | J13: DU2 | L13: =K13*18 -> 0 | N13: DU2 | U13: CH10
A14: DU3 | C14: =27*B14 -> 0 | E14: =27*D14 -> 0 | F14: rendement | G14: =G13/G12 -> #DIV/0! | H14: =H13/H12 -> #DIV/0! | J14: maroc | L14: =K14*14 -> 0 | N14: DU3 | U14: CH11
A15: DU4 | C15: =27*B15 -> 0 | E15: =27*D15 -> 0 | G15: =AVERAGEIF(G14:H14,">0") -> #DIV/0! | J15: DU4 | L15: =K15*18 -> 0 | N15: DU4 | U15: CH17
A16: DU5 | C16: =27*B16 -> 0 | E16: =27*D16 -> 0 | J16: DU5 | L16: =K16*18 -> 0 | N16: DU5 | U16: CH18
A17: DU13 | C17: =27*B17 -> 0 | E17: =27*D17 -> 0 | J17: DU13 | N17: DU13 | U17: CH19
A18: DU14 | C18: =27*B18 -> 0 | E18: =27*D18 -> 0 | F18: Heures concasseur | G18: =SUM(G12:H12) -> 0 | J18: DU14 | L18: =K18*8 -> 0 | N18: DU14
A19: TOTAL | B19: =SUM(B12:B18) -> 0 | C19: =SUM(C12:C18) -> 0 | D19: =SUM(D12:D18) -> 0 | E19: =SUM(E12:E18) -> 0 | F19: charge | G19: =SUM(G13:H13) -> 0 | J19: TOTAL | K19: =SUM(K12:K18) -> 0 | L19: =K19*35 -> 0 | N19: DU15 bell
A20: débit en t/h jour | B20: =C19/(G12) -> #DIV/0! | C20: débit en t/h nuit | D20: =E19/H12 -> #DIV/0! | N20: DU16 bell
C21: =C19+E19 -> 0 | F21: Tonnage total | G21: =C23+E19+C19+H28 -> 0 | N21: DU18 cat
B22: nombre de tours | C22: tonnage | N22: DU19 cat
A23: L4 | C23: =27*B23 -> 0 | E23: débit | N23: DU20 cat
E24: =C23/B27 -> #DIV/0! | H24: TROMMEL | I24: heure | J24: débit | N24: DU22 BELL
G25: jour
B26: H marches | C26: H fnct | D26: rendement | G26: nuit | N26: PELLES | O26: OUI OU NON | P26: HEURE DEPART | Q26: HEURE FIN | R26: CHAUFFEUR | S26: 2 | U26: FOREUSES | V26: OUI OU NON | W26: HEURE DEPART | X26: HEURE FIN | Y26: CHAUFFEUR | Z26: 2
A27: K1 | D27: =C27/B27 -> #DIV/0! | E27: Cote en mm | G27: total | H27: =SUM(H25:H26) -> 0 | I27: =SUM(I25:I26) -> 0 | J27: =H28/I27 -> #DIV/0! | N27: PR12 | U27: CR14
A28: B1 | D28: =C28/B28 -> #DIV/0! | G28: total tonne | H28: =H27*27 -> 0 | N28: PR13 | U28: CR14
A29: B2 | D29: =C29/B29 -> #DIV/0! | N29: PR14 | U29: CR16
A30: C1 | N30: PR15 mart
A31: C1 | N31: PR19
F32: heure de fonctionnement | N32: PR21 conc
B33: tours | C33: tonnage | F33: heure en charge | N33: PR22
A34: 0/17 | C34: =(B34*17) -> 0 | G34: =G33/G32 -> #DIV/0! | H34: =H33/H32 -> #DIV/0! | N34: PR23
G35: =AVERAGE(G34:H34) -> #DIV/0! | N35: PR24
A36: Foration: | N36: PR25 mart
B37: Nombre de trou forés | C37: jour | D37: nuit | E37: Total | F37: heure jour | G37: trou/heure | N37: PR26 komt
B38: CR14 | E38: =C38+D38 -> 0 | G38: =E38/F38 -> #DIV/0! | N38: PR27 komt
B39: CR15 | E39: =C39+D39 -> 0 | G39: =E39/F39 -> #DIV/0! | T39: NUIT
B40: CR16 | E40: =C40+D40 -> 0 | G40: =E40/F40 -> #DIV/0!
E41: =E38+E39+E40 -> 0 | G41: =AVERAGEIF(G38:G40,">0") -> #DIV/0! | N41: dumper | O41: OUI OU NON | P41: HEURE DEPART | Q41: HEURE FIN | R41: CHAUFFEUR | S41: 2 | U41: CHARGEUSES | V41: OUI OU NON | W41: HEURE DEPART | X41: HEURE FIN | Y41: CHAUFFEUR | Z41: 2
...

Sheet 4
D1: Fiche journalière d'exploitation
A2: 42064
E3: Carrière de KOSSIOUEIN
A4: Date:
A6: Tir de mine: | C6: pétardage:
J7: Découverte:
A8: Exploitation: | F8: concasseur:
S9: JOUR
A10: numéro du tir
A11: Dumper Tony | B11: nombre de tours | C11: tonnage du jour | D11: nb de tours | E11: tonnage nuit | G11: jour | H11: nuit | J11: Dumper Tony | K11: nombre de tours | L11: Total m3 | N11: dumper | O11: OUI OU NON | P11: HEURE DEPART | Q11: HEURE FIN | R11: CHAUFFEUR | S11: 2 | U11: CHARGEUSES | V11: OUI OU NON | W11: HEURE DEPART | X11: HEURE FIN | Y11: CHAUFFEUR | Z11: 2
A12: DU1 | C12: =27*B12 -> 0 | E12: =27*D12 -> 0 | F12: heure de fonctionnement | J12: BELL | L12: =K12*15 -> 0 | N12: DU1 | U12: CH9
A13: DU2 | C13: =27*B13 -> 0 | E13: =27*D13 -> 0 | F13: heure en charge | J13: DU2 | L13: =K13*18 -> 0 | N13: DU2 | U13: CH10
A14: DU3 | C14: =27*B14 -> 0 | E14: =27*D14 -> 0 | F14: rendement | G14: =G13/G12 -> #DIV/0! | H14: =H13/H12 -> #DIV/0! | J14: maroc | L14: =K14*14 -> 0 | N14: DU3 | U14: CH11
A15: DU4 | C15: =27*B15 -> 0 | E15: =27*D15 -> 0 | G15: =AVERAGEIF(G14:H14,">0") -> #DIV/0! | J15: DU4 | L15: =K15*18 -> 0 | N15: DU4 | U15: CH17
A16: DU5 | C16: =27*B16 -> 0 | E16: =27*D16 -> 0 | J16: DU5 | L16: =K16*18 -> 0 | N16: DU5 | U16: CH18
A17: DU13 | C17: =27*B17 -> 0 | E17: =27*D17 -> 0 | J17: DU13 | N17: DU13 | U17: CH19
A18: DU14 | C18: =27*B18 -> 0 | E18: =27*D18 -> 0 | F18: Heures concasseur | G18: =SUM(G12:H12) -> 0 | J18: DU14 | L18: =K18*8 -> 0 | N18: DU14
A19: TOTAL | B19: =SUM(B12:B18) -> 0 | C19: =SUM(C12:C18) -> 0 | D19: =SUM(D12:D18) -> 0 | E19: =SUM(E12:E18) -> 0 | F19: charge | G19: =SUM(G13:H13) -> 0 | J19: TOTAL | K19: =SUM(K12:K18) -> 0 | L19: =K19*35 -> 0 | N19: DU15 bell
A20: débit en t/h jour | B20: =C19/(G12) -> #DIV/0! | C20: débit en t/h nuit | D20: =E19/H12 -> #DIV/0! | N20: DU16 bell
C21: =C19+E19 -> 0 | F21: Tonnage total | G21: =C23+E19+C19+H28 -> 0 | N21: DU18 cat
B22: nombre de tours | C22: tonnage | N22: DU19 cat
A23: L4 | C23: =27*B23 -> 0 | E23: débit | N23: DU20 cat
E24: =C23/B27 -> #DIV/0! | H24: TROMMEL | I24: heure | J24: débit | N24: DU22 BELL
G25: jour
B26: H marches | C26: H fnct | D26: rendement | G26: nuit | N26: PELLES | O26: OUI OU NON | P26: HEURE DEPART | Q26: HEURE FIN | R26: CHAUFFEUR | S26: 2 | U26: FOREUSES | V26: OUI OU NON | W26: HEURE DEPART | X26: HEURE FIN | Y26: CHAUFFEUR | Z26: 2
A27: K1 | D27: =C27/B27 -> #DIV/0! | E27: Cote en mm | G27: total | H27: =SUM(H25:H26) -> 0 | I27: =SUM(I25:I26) -> 0 | J27: =H28/I27 -> #DIV/0! | N27: PR12 | U27: CR14
A28: B1 | D28: =C28/B28 -> #DIV/0! | G28: total tonne | H28: =H27*27 -> 0 | N28: PR13 | U28: CR14
A29: B2 | D29: =C29/B29 -> #DIV/0! | N29: PR14 | U29: CR16
A30: C1 | N30: PR15 mart
A31: C1 | N31: PR19
F32: heure de fonctionnement | N32: PR21 conc
B33: tours | C33: tonnage | F33: heure en charge | N33: PR22
A34: 0/17 | C34: =(B34*17) -> 0 | G34: =G33/G32 -> #DIV/0! | H34: =H33/H32 -> #DIV/0! | N34: PR23
G35: =AVERAGE(G34:H34) -> #DIV/0! | N35: PR24
A36: Foration: | N36: PR25 mart
B37: Nombre de trou forés | C37: jour | D37: nuit | E37: Total | F37: heure jour | G37: trou/heure | N37: PR26 komt
B38: CR14 | E38: =C38+D38 -> 0 | G38: =E38/F38 -> #DIV/0! | N38: PR27 komt
B39: CR15 | E39: =C39+D39 -> 0 | G39: =E39/F39 -> #DIV/0! | T39: NUIT
B40: CR16 | E40: =C40+D40 -> 0 | G40: =E40/F40 -> #DIV/0!
E41: =E38+E39+E40 -> 0 | G41: =AVERAGEIF(G38:G40,">0") -> #DIV/0! | N41: dumper | O41: OUI OU NON | P41: HEURE DEPART | Q41: HEURE FIN | R41: CHAUFFEUR | S41: 2 | U41: CHARGEUSES | V41: OUI OU NON | W41: HEURE DEPART | X41: HEURE FIN | Y41: CHAUFFEUR | Z41: 2
...

Sheet 5
D1: Fiche journalière d'exploitation
A2: 42064
E3: Carrière de KOSSIOUEIN
A4: Date:
A6: Tir de mine: | C6: pétardage:
J7: Découverte:
A8: Exploitation: | F8: concasseur:
S9: JOUR
A10: numéro du tir
A11: Dumper Tony | B11: nombre de tours | C11: tonnage du jour | D11: nb de tours | E11: tonnage nuit | G11: jour | H11: nuit | J11: Dumper Tony | K11: nombre de tours | L11: Total m3 | N11: dumper | O11: OUI OU NON | P11: HEURE DEPART | Q11: HEURE FIN | R11: CHAUFFEUR | S11: 2 | U11: CHARGEUSES | V11: OUI OU NON | W11: HEURE DEPART | X11: HEURE FIN | Y11: CHAUFFEUR | Z11: 2
A12: DU1 | C12: =27*B12 -> 0 | E12: =27*D12 -> 0 | F12: heure de fonctionnement | J12: BELL | L12: =K12*15 -> 0 | N12: DU1 | U12: CH9
A13: DU2 | C13: =27*B13 -> 0 | E13: =27*D13 -> 0 | F13: heure en charge | J13: DU2 | L13: =K13*18 -> 0 | N13: DU2 | U13: CH10
A14: DU3 | C14: =27*B14 -> 0 | E14: =27*D14 -> 0 | F14: rendement | G14: =G13/G12 -> #DIV/0! | H14: =H13/H12 -> #DIV/0! | J14: maroc | L14: =K14*14 -> 0 | N14: DU3 | U14: CH11
A15: DU4 | C15: =27*B15 -> 0 | E15: =27*D15 -> 0 | G15: =AVERAGE(G14:H14) -> #DIV/0! | J15: DU4 | L15: =K15*18 -> 0 | N15: DU4 | U15: CH17
A16: DU5 | C16: =27*B16 -> 0 | E16: =27*D16 -> 0 | J16: DU5 | L16: =K16*18 -> 0 | N16: DU5 | U16: CH18
A17: DU13 | C17: =27*B17 -> 0 | E17: =27*D17 -> 0 | J17: DU13 | N17: DU13 | U17: CH19
A18: DU14 | C18: =27*B18 -> 0 | E18: =27*D18 -> 0 | F18: Heures concasseur | G18: =SUM(G12:H12) -> 0 | J18: DU14 | L18: =K18*8 -> 0 | N18: DU14
A19: TOTAL | B19: =SUM(B12:B18) -> 0 | C19: =SUM(C12:C18) -> 0 | D19: =SUM(D12:D18) -> 0 | E19: =SUM(E12:E18) -> 0 | F19: charge | G19: =SUM(G13:H13) -> 0 | J19: TOTAL | K19: =SUM(K12:K18) -> 0 | L19: =K19*35 -> 0 | N19: DU15 bell
A20: débit en t/h jour | B20: =C19/(G12) -> #DIV/0! | C20: débit en t/h nuit | D20: =E19/H12 -> #DIV/0! | N20: DU16 bell
C21: =C19+E19 -> 0 | F21: Tonnage total | G21: =C23+E19+C19+H28 -> 0 | N21: DU18 cat
B22: nombre de tours | C22: tonnage | N22: DU19 cat
A23: L4 | C23: =27*B23 -> 0 | E23: débit | N23: DU20 cat
E24: =C23/B27 -> #DIV/0! | H24: TROMMEL | I24: heure | J24: débit | N24: DU22 BELL
G25: jour
B26: H marches | C26: H fnct | D26: rendement | G26: nuit | N26: PELLES | O26: OUI OU NON | P26: HEURE DEPART | Q26: HEURE FIN | R26: CHAUFFEUR | S26: 2 | U26: FOREUSES | V26: OUI OU NON | W26: HEURE DEPART | X26: HEURE FIN | Y26: CHAUFFEUR | Z26: 2
A27: K1 | D27: =C27/B27 -> #DIV/0! | E27: Cote en mm | G27: total | H27: =SUM(H25:H26) -> 0 | I27: =SUM(I25:I26) -> 0 | J27: =H28/I27 -> #DIV/0! | N27: PR12 | U27: CR14
A28: B1 | D28: =C28/B28 -> #DIV/0! | G28: total tonne | H28: =H27*27 -> 0 | N28: PR13 | U28: CR14
A29: B2 | D29: =C29/B29 -> #DIV/0! | N29: PR14 | U29: CR16
A30: C1 | N30: PR15 mart
A31: C1 | N31: PR19
F32: heure de fonctionnement | N32: PR21 conc
B33: tours | C33: tonnage | F33: heure en charge | N33: PR22
A34: 0/17 | C34: =B34*17 -> 0 | G34: =G33/G32 -> #DIV/0! | H34: =H33/H32 -> #DIV/0! | N34: PR23
G35: 0.2666 | N35: PR24
A36: Foration: | N36: PR25 mart
B37: Nombre de trou forés | C37: jour | D37: nuit | E37: Total | F37: heure jour | G37: trou/heure | N37: PR26 komt
B38: CR14 | E38: =C38+D38 -> 0 | G38: =E38/F38 -> #DIV/0! | N38: PR27 komt
B39: CR15 | E39: =C39+D39 -> 0 | G39: =E39/F39 -> #DIV/0! | T39: NUIT
B40: CR16 | E40: =C40+D40 -> 0 | G40: =E40/F40 -> #DIV/0!
E41: =E38+E39+E40 -> 0 | G41: =AVERAGEIF(G38:G40,">0") -> #DIV/0! | N41: dumper | O41: OUI OU NON | P41: HEURE DEPART | Q41: HEURE FIN | R41: CHAUFFEUR | S41: 2 | U41: CHARGEUSES | V41: OUI OU NON | W41: HEURE DEPART | X41: HEURE FIN | Y41: CHAUFFEUR | Z41: 2
...

Sheet 6
D1: Fiche journalière d'exploitation
A2: 42064
E3: Carrière de KOSSIOUEIN
A4: Date:
A6: Tir de mine: | C6: pétardage:
J7: Découverte:
A8: Exploitation: | F8: concasseur:
S9: JOUR
A10: numéro du tir
A11: Dumper Tony | B11: nombre de tours | C11: tonnage du jour | D11: nb de tours | E11: tonnage nuit | G11: jour | H11: nuit | J11: Dumper Tony | K11: nombre de tours | L11: Total m3 | N11: dumper | O11: OUI OU NON | P11: HEURE DEPART | Q11: HEURE FIN | R11: CHAUFFEUR | S11: 2 | U11: CHARGEUSES | V11: OUI OU NON | W11: HEURE DEPART | X11: HEURE FIN | Y11: CHAUFFEUR | Z11: 2
A12: DU1 | C12: =27*B12 -> 0 | E12: =27*D12 -> 0 | F12: heure de fonctionnement | J12: BELL | L12: =K12*15 -> 0 | N12: DU1 | U12: CH9
A13: DU2 | C13: =27*B13 -> 0 | E13: =27*D13 -> 0 | F13: heure en charge | J13: DU2 | L13: =K13*18 -> 0 | N13: DU2 | U13: CH10
A14: DU3 | C14: =27*B14 -> 0 | E14: =27*D14 -> 0 | F14: rendement | G14: =G13/G12 -> #DIV/0! | H14: =H13/H12 -> #DIV/0! | J14: maroc | L14: =K14*14 -> 0 | N14: DU3 | U14: CH11
A15: DU4 | C15: =27*B15 -> 0 | E15: =27*D15 -> 0 | G15: =AVERAGEIF(G14:H14,">0") -> #DIV/0! | J15: DU4 | L15: =K15*18 -> 0 | N15: DU4 | U15: CH17
A16: DU5 | C16: =27*B16 -> 0 | E16: =27*D16 -> 0 | J16: DU5 | L16: =K16*18 -> 0 | N16: DU5 | U16: CH18
A17: DU13 | C17: =27*B17 -> 0 | E17: =27*D17 -> 0 | J17: DU13 | N17: DU13 | U17: CH19
A18: DU14 | C18: =27*B18 -> 0 | E18: =27*D18 -> 0 | F18: Heures concasseur | G18: =SUM(G12:H12) -> 0 | J18: DU14 | L18: =K18*8 -> 0 | N18: DU14
A19: TOTAL | B19: =SUM(B12:B18) -> 0 | C19: =SUM(C12:C18) -> 0 | D19: =SUM(D12:D18) -> 0 | E19: =SUM(E12:E18) -> 0 | F19: charge | G19: =SUM(G13:H13) -> 0 | J19: TOTAL | K19: =SUM(K12:K18) -> 0 | L19: =K19*35 -> 0 | N19: DU15 bell
A20: débit en t/h jour | B20: =C19/(G12) -> #DIV/0! | C20: débit en t/h nuit | D20: =E19/H12 -> #DIV/0! | N20: DU16 bell
C21: =C19+E19 -> 0 | F21: Tonnage total | G21: =C23+E19+C19+H28 -> 0 | N21: DU18 cat
B22: nombre de tours | C22: tonnage | N22: DU19 cat
A23: L4 | C23: =27*B23 -> 0 | E23: débit | N23: DU20 cat
E24: =C23/B27 -> #DIV/0! | H24: TROMMEL | I24: heure | J24: débit | N24: DU22 BELL
G25: jour
B26: H marches | C26: H fnct | D26: rendement | G26: nuit | N26: PELLES | O26: OUI OU NON | P26: HEURE DEPART | Q26: HEURE FIN | R26: CHAUFFEUR | S26: 2 | U26: FOREUSES | V26: OUI OU NON | W26: HEURE DEPART | X26: HEURE FIN | Y26: CHAUFFEUR | Z26: 2
A27: K1 | D27: =C27/B27 -> #DIV/0! | E27: Cote en mm | G27: total | H27: =SUM(H25:H26) -> 0 | I27: =SUM(I25:I26) -> 0 | J27: =H28/I27 -> #DIV/0! | N27: PR12 | U27: CR14
A28: B1 | D28: =C28/B28 -> #DIV/0! | G28: total tonne | H28: =H27*27 -> 0 | N28: PR13 | U28: CR14
A29: B2 | D29: =C29/B29 -> #DIV/0! | N29: PR14 | U29: CR16
A30: C1 | N30: PR15 mart
A31: C1 | N31: PR19
F32: heure de fonctionnement | N32: PR21 conc
B33: tours | C33: tonnage | F33: heure en charge | N33: PR22
A34: 0/17 | C34: =B34*17 -> 0 | G34: =G33/G32 -> #DIV/0! | H34: =H33/H32 -> #DIV/0! | N34: PR23
G35: =AVERAGE(G34:H34) -> #DIV/0! | N35: PR24
A36: Foration: | N36: PR25 mart
B37: Nombre de trou forés | C37: jour | D37: nuit | E37: Total | F37: heure jour | G37: trou/heure | N37: PR26 komt
B38: CR14 | E38: =C38+D38 -> 0 | G38: =E38/F38 -> #DIV/0! | N38: PR27 komt
B39: CR15 | E39: =C39+D39 -> 0 | G39: =E39/F39 -> #DIV/0! | T39: NUIT
B40: CR16 | E40: =C40+D40 -> 0 | G40: =E40/F40 -> #DIV/0!
E41: =E38+E39+E40 -> 0 | G41: =AVERAGEIF(G38:G40,">0") -> #DIV/0! | N41: dumper | O41: OUI OU NON | P41: HEURE DEPART | Q41: HEURE FIN | R41: CHAUFFEUR | S41: 2 | U41: CHARGEUSES | V41: OUI OU NON | W41: HEURE DEPART | X41: HEURE FIN | Y41: CHAUFFEUR | Z41: 2
...

Sheet 7
D1: Fiche journalière d'exploitation
A2: 42064
E3: Carrière de KOSSIOUEIN
A4: Date:
A6: Tir de mine: | C6: pétardage:
J7: Découverte:
A8: Exploitation: | F8: concasseur:
S9: JOUR
A10: numéro du tir
A11: Dumper Tony | B11: nombre de tours | C11: tonnage du jour | D11: nb de tours | E11: tonnage nuit | G11: jour | H11: nuit | J11: Dumper Tony | K11: nombre de tours | L11: Total m3 | N11: dumper | O11: OUI OU NON | P11: HEURE DEPART | Q11: HEURE FIN | R11: CHAUFFEUR | S11: 2 | U11: CHARGEUSES | V11: OUI OU NON | W11: HEURE DEPART | X11: HEURE FIN | Y11: CHAUFFEUR | Z11: 2
A12: DU1 | C12: =27*B12 -> 0 | E12: =27*D12 -> 0 | F12: heure de fonctionnement | J12: BELL | L12: =K12*15 -> 0 | N12: DU1 | U12: CH9
A13: DU2 | C13: =27*B13 -> 0 | E13: =27*D13 -> 0 | F13: heure en charge | J13: DU2 | L13: =K13*18 -> 0 | N13: DU2 | U13: CH10
A14: DU3 | C14: =27*B14 -> 0 | E14: =27*D14 -> 0 | F14: rendement | G14: =G13/G12 -> #DIV/0! | H14: =H13/H12 -> #DIV/0! | J14: maroc | L14: =K14*14 -> 0 | N14: DU3 | U14: CH11
A15: DU4 | C15: =27*B15 -> 0 | E15: =27*D15 -> 0 | G15: =AVERAGEIF(G14:H14,">0") -> #DIV/0! | J15: DU4 | L15: =K15*18 -> 0 | N15: DU4 | U15: CH17
A16: DU5 | C16: =27*B16 -> 0 | E16: =27*D16 -> 0 | J16: DU5 | L16: =K16*18 -> 0 | N16: DU5 | U16: CH18
A17: DU13 | C17: =27*B17 -> 0 | E17: =27*D17 -> 0 | J17: DU13 | L17: =K17*18 -> 0 | N17: DU13 | U17: CH19
A18: DU14 | C18: =27*B18 -> 0 | E18: =27*D18 -> 0 | F18: Heures concasseur | G18: =SUM(G12:H12) -> 0 | J18: DU14 | L18: =K18*8 -> 0 | N18: DU14
A19: TOTAL | B19: =SUM(B12:B18) -> 0 | C19: =SUM(C12:C18) -> 0 | D19: =SUM(D12:D18) -> 0 | E19: =SUM(E12:E18) -> 0 | F19: charge | G19: =SUM(G13:H13) -> 0 | J19: TOTAL | K19: =SUM(K12:K18) -> 0 | L19: =K19*35 -> 0 | N19: DU15 bell
A20: débit en t/h jour | B20: =C19/(G12) -> #DIV/0! | C20: débit en t/h nuit | D20: =E19/H12 -> #DIV/0! | N20: DU16 bell
C21: =C19+E19 -> 0 | F21: Tonnage total | G21: =C23+E19+C19+H28 -> 0 | N21: DU18 cat
B22: nombre de tours | C22: tonnage | N22: DU19 cat
A23: L4 | C23: =27*B23 -> 0 | E23: débit | N23: DU20 cat
E24: =C23/B27 -> #DIV/0! | H24: TROMMEL | I24: heure | J24: débit | N24: DU22 BELL
G25: jour
B26: H marches | C26: H fnct | D26: rendement | G26: nuit | N26: PELLES | O26: OUI OU NON | P26: HEURE DEPART | Q26: HEURE FIN | R26: CHAUFFEUR | S26: 2 | U26: FOREUSES | V26: OUI OU NON | W26: HEURE DEPART | X26: HEURE FIN | Y26: CHAUFFEUR | Z26: 2
A27: K1 | D27: =C27/B27 -> #DIV/0! | E27: Cote en mm | G27: total | H27: =SUM(H25:H26) -> 0 | I27: =SUM(I25:I26) -> 0 | J27: =H28/I27 -> #DIV/0! | N27: PR12 | U27: CR14
A28: B1 | D28: =C28/B28 -> #DIV/0! | G28: total tonne | H28: =H27*27 -> 0 | N28: PR13 | U28: CR14
A29: B2 | D29: =C29/B29 -> #DIV/0! | N29: PR14 | U29: CR16
A30: C1 | N30: PR15 mart
A31: C1 | N31: PR19
F32: heure de fonctionnement | N32: PR21 conc
B33: tours | C33: tonnage | F33: heure en charge | N33: PR22
A34: 0/17 | C34: =B34*17 -> 0 | G34: =G33/G32 -> #DIV/0! | H34: =H33/H32 -> #DIV/0! | N34: PR23
G35: =AVERAGE(G34:H34) -> #DIV/0! | N35: PR24
A36: Foration: | N36: PR25 mart
B37: Nombre de trou forés | C37: jour | D37: nuit | E37: Total | F37: heure jour | G37: trou/heure | N37: PR26 komt
B38: CR14 | E38: =C38+D38 -> 0 | G38: =E38/F38 -> #DIV/0! | N38: PR27 komt
B39: CR15 | E39: =C39+D39 -> 0 | G39: =E39/F39 -> #DIV/0! | T39: NUIT
B40: CR16 | E40: =C40+D40 -> 0 | G40: =E40/F40 -> #DIV/0!
E41: =E38+E39+E40 -> 0 | G41: =AVERAGEIF(G38:G40,">0") -> #DIV/0! | N41: dumper | O41: OUI OU NON | P41: HEURE DEPART | Q41: HEURE FIN | R41: CHAUFFEUR | S41: 2 | U41: CHARGEUSES | V41: OUI OU NON | W41: HEURE DEPART | X41: HEURE FIN | Y41: CHAUFFEUR | Z41: 2
...

Sheet 8
D1: Fiche journalière d'exploitation
A2: 42064
E3: Carrière de KOSSIOUEIN
A4: Date:
A6: Tir de mine: | C6: pétardage:
J7: Découverte:
A8: Exploitation: | F8: concasseur:
S9: JOUR
A10: numéro du tir
A11: Dumper Tony | B11: nombre de tours | C11: tonnage du jour | D11: nb de tours | E11: tonnage nuit | G11: jour | H11: nuit | J11: Dumper Tony | K11: nombre de tours | L11: Total m3 | N11: dumper | O11: OUI OU NON | P11: HEURE DEPART | Q11: HEURE FIN | R11: CHAUFFEUR | S11: 2 | U11: CHARGEUSES | V11: OUI OU NON | W11: HEURE DEPART | X11: HEURE FIN | Y11: CHAUFFEUR | Z11: 2
A12: DU1 | C12: =27*B12 -> 0 | E12: =27*D12 -> 0 | F12: heure de fonctionnement | J12: BELL | L12: =K12*15 -> 0 | N12: DU1 | U12: CH9
A13: DU2 | C13: =27*B13 -> 0 | E13: =27*D13 -> 0 | F13: heure en charge | J13: DU2 | L13: =K13*18 -> 0 | N13: DU2 | U13: CH10
A14: DU3 | C14: =27*B14 -> 0 | E14: =27*D14 -> 0 | F14: rendement | G14: =G13/G12 -> #DIV/0! | H14: =H13/H12 -> #DIV/0! | J14: maroc | L14: =K14*14 -> 0 | N14: DU3 | U14: CH11
A15: DU4 | C15: =27*B15 -> 0 | E15: =27*D15 -> 0 | G15: =AVERAGEIF(G14:H14,">0") -> #DIV/0! | J15: DU4 | L15: =K15*18 -> 0 | N15: DU4 | U15: CH17
A16: DU5 | C16: =27*B16 -> 0 | E16: =27*D16 -> 0 | J16: DU5 | L16: =K16*18 -> 0 | N16: DU5 | U16: CH18
A17: DU13 | C17: =27*B17 -> 0 | E17: =27*D17 -> 0 | J17: DU13 | N17: DU13 | U17: CH19
A18: DU14 | C18: =27*B18 -> 0 | E18: =27*D18 -> 0 | F18: Heures concasseur | G18: =SUM(G12:H12) -> 0 | J18: DU14 | L18: =K18*8 -> 0 | N18: DU14
A19: TOTAL | B19: =SUM(B12:B18) -> 0 | C19: =SUM(C12:C18) -> 0 | D19: =SUM(D12:D18) -> 0 | E19: =SUM(E12:E18) -> 0 | F19: charge | G19: =SUM(G13:H13) -> 0 | J19: TOTAL | K19: =SUM(K12:K18) -> 0 | L19: =K19*35 -> 0 | N19: DU15 bell
A20: débit en t/h jour | B20: =C19/(G12) -> #DIV/0! | C20: débit en t/h nuit | D20: =E19/H12 -> #DIV/0! | N20: DU16 bell
C21: =C19+E19 -> 0 | F21: Tonnage total | G21: =C23+E19+C19+H28 -> 0 | N21: DU18 cat
B22: nombre de tours | C22: tonnage | N22: DU19 cat
A23: L4 | C23: =27*B23 -> 0 | E23: débit | N23: DU20 cat
E24: =C23/B27 -> #DIV/0! | H24: TROMMEL | I24: heure | J24: débit | N24: DU22 BELL
G25: jour
B26: H marches | C26: H fnct | D26: rendement | G26: nuit | N26: PELLES | O26: OUI OU NON | P26: HEURE DEPART | Q26: HEURE FIN | R26: CHAUFFEUR | S26: 2 | U26: FOREUSES | V26: OUI OU NON | W26: HEURE DEPART | X26: HEURE FIN | Y26: CHAUFFEUR | Z26: 2
A27: K1 | D27: =C27/B27 -> #DIV/0! | E27: Cote en mm | G27: total | H27: =SUM(H25:H26) -> 0 | I27: =SUM(I25:I26) -> 0 | J27: =H28/I27 -> #DIV/0! | N27: PR12 | U27: CR14
A28: B1 | D28: =C28/B28 -> #DIV/0! | G28: total tonne | H28: =H27*27 -> 0 | N28: PR13 | U28: CR14
A29: B2 | D29: =C29/B29 -> #DIV/0! | N29: PR14 | U29: CR16
A30: C1 | N30: PR15 mart
A31: C1 | N31: PR19
F32: heure de fonctionnement | N32: PR21 conc
B33: tours | C33: tonnage | F33: heure en charge | N33: PR22
A34: 0/17 | C34: =(B34*17) -> 0 | G34: =G33/G32 -> #DIV/0! | H34: =H33/H32 -> #DIV/0! | N34: PR23
G35: =AVERAGE(G34:H34) -> #DIV/0! | N35: PR24
A36: Foration: | N36: PR25 mart
B37: Nombre de trou forés | C37: jour | D37: nuit | E37: Total | F37: heure jour | G37: trou/heure | N37: PR26 komt
B38: CR14 | E38: =C38+D38 -> 0 | G38: =E38/F38 -> #DIV/0! | N38: PR27 komt
B39: CR15 | E39: =C39+D39 -> 0 | G39: =E39/F39 -> #DIV/0! | T39: NUIT
B40: CR16 | E40: =C40+D40 -> 0 | G40: =E40/F40 -> #DIV/0!
E41: =E38+E39+E40 -> 0 | G41: =AVERAGEIF(G38:G40,">0") -> #DIV/0! | N41: dumper | O41: OUI OU NON | P41: HEURE DEPART | Q41: HEURE FIN | R41: CHAUFFEUR | S41: 2 | U41: CHARGEUSES | V41: OUI OU NON | W41: HEURE DEPART | X41: HEURE FIN | Y41: CHAUFFEUR | Z41: 2
...

Sheet 9
D1: Fiche journalière d'exploitation
A2: 42064
E3: Carrière de KOSSIOUEIN
A4: Date:
A6: Tir de mine: | C6: pétardage:
J7: Découverte:
A8: Exploitation: | F8: concasseur:
S9: JOUR
A10: numéro du tir
A11: Dumper Tony | B11: nombre de tours | C11: tonnage du jour | D11: nb de tours | E11: tonnage nuit | G11: jour | H11: nuit | J11: Dumper Tony | K11: nombre de tours | L11: Total m3 | N11: dumper | O11: OUI OU NON | P11: HEURE DEPART | Q11: HEURE FIN | R11: CHAUFFEUR | S11: 2 | U11: CHARGEUSES | V11: OUI OU NON | W11: HEURE DEPART | X11: HEURE FIN | Y11: CHAUFFEUR | Z11: 2
A12: DU1 | C12: =27*B12 -> 0 | E12: =27*D12 -> 0 | F12: heure de fonctionnement | J12: BELL | L12: =K12*15 -> 0 | N12: DU1 | U12: CH9
A13: DU2 | C13: =27*B13 -> 0 | E13: =27*D13 -> 0 | F13: heure en charge | J13: DU2 | L13: =K13*18 -> 0 | N13: DU2 | U13: CH10
A14: DU3 | C14: =27*B14 -> 0 | E14: =27*D14 -> 0 | F14: rendement | G14: =G13/G12 -> #DIV/0! | H14: =H13/H12 -> #DIV/0! | J14: maroc | L14: =K14*14 -> 0 | N14: DU3 | U14: CH11
A15: DU4 | C15: =27*B15 -> 0 | E15: =27*D15 -> 0 | G15: =AVERAGEIF(G14:H14,">0") -> #DIV/0! | J15: DU4 | L15: =K15*18 -> 0 | N15: DU4 | U15: CH17
A16: DU5 | C16: =27*B16 -> 0 | E16: =27*D16 -> 0 | J16: DU5 | L16: =K16*18 -> 0 | N16: DU5 | U16: CH18
A17: DU13 | C17: =27*B17 -> 0 | E17: =27*D17 -> 0 | J17: DU13 | N17: DU13 | U17: CH19
A18: DU14 | C18: =27*B18 -> 0 | E18: =27*D18 -> 0 | F18: Heures concasseur | G18: =SUM(G12:H12) -> 0 | J18: DU14 | L18: =K18*8 -> 0 | N18: DU14
A19: TOTAL | B19: =SUM(B12:B18) -> 0 | C19: =SUM(C12:C18) -> 0 | D19: =SUM(D12:D18) -> 0 | E19: =SUM(E12:E18) -> 0 | F19: charge | G19: =SUM(G13:H13) -> 0 | J19: TOTAL | K19: =SUM(K12:K18) -> 0 | L19: =K19*35 -> 0 | N19: DU15 bell
A20: débit en t/h jour | B20: =C19/(G12) -> #DIV/0! | C20: débit en t/h nuit | D20: =E19/H12 -> #DIV/0! | N20: DU16 bell
C21: =C19+E19 -> 0 | F21: Tonnage total | G21: =C23+E19+C19+H28 -> 0 | N21: DU18 cat
B22: nombre de tours | C22: tonnage | N22: DU19 cat
A23: L4 | C23: =27*B23 -> 0 | E23: débit | N23: DU20 cat
E24: =C23/B27 -> #DIV/0! | H24: TROMMEL | I24: heure | J24: débit | N24: DU22 BELL
G25: jour
B26: H marches | C26: H fnct | D26: rendement | G26: nuit | N26: PELLES | O26: OUI OU NON | P26: HEURE DEPART | Q26: HEURE FIN | R26: CHAUFFEUR | S26: 2 | U26: FOREUSES | V26: OUI OU NON | W26: HEURE DEPART | X26: HEURE FIN | Y26: CHAUFFEUR | Z26: 2
A27: K1 | D27: =C27/B27 -> #DIV/0! | E27: Cote en mm | G27: total | H27: =SUM(H25:H26) -> 0 | I27: =SUM(I25:I26) -> 0 | J27: =H28/I27 -> #DIV/0! | N27: PR12 | U27: CR14
A28: B1 | D28: =C28/B28 -> #DIV/0! | G28: total tonne | H28: =H27*27 -> 0 | N28: PR13 | U28: CR14
A29: B2 | D29: =C29/B29 -> #DIV/0! | N29: PR14 | U29: CR16
A30: C1 | N30: PR15 mart
A31: C1 | N31: PR19
F32: heure de fonctionnement | N32: PR21 conc
B33: tours | C33: tonnage | F33: heure en charge | N33: PR22
A34: 0/17 | C34: =B34*17 -> 0 | G34: =G33/G32 -> #DIV/0! | H34: =H33/H32 -> #DIV/0! | N34: PR23
G35: =AVERAGE(G34:H34) -> #DIV/0! | N35: PR24
A36: Foration: | N36: PR25 mart
B37: Nombre de trou forés | C37: jour | D37: nuit | E37: Total | F37: heure jour | G37: trou/heure | N37: PR26 komt
B38: CR14 | E38: =C38+D38 -> 0 | G38: =E38/F38 -> #DIV/0! | N38: PR27 komt
B39: CR15 | E39: 10 | G39: =E39/F39 -> #DIV/0! | T39: NUIT
B40: CR16 | E40: 14 | G40: =E40/F40 -> #DIV/0!
E41: =E38+E39+E40 -> 24 | G41: =AVERAGEIF(G38:G40,">0") -> #DIV/0! | N41: dumper | O41: OUI OU NON | P41: HEURE DEPART | Q41: HEURE FIN | R41: CHAUFFEUR | S41: 2 | U41: CHARGEUSES | V41: OUI OU NON | W41: HEURE DEPART | X41: HEURE FIN | Y41: CHAUFFEUR | Z41: 2
...

Sheet 10
D1: Fiche journalière d'exploitation
A2: 42064
E3: Carrière de KOSSIOUEIN
A4: Date:
A6: Tir de mine: | C6: pétardage:
J7: Découverte:
A8: Exploitation: | F8: concasseur:
S9: JOUR
A10: numéro du tir
A11: Dumper Tony | B11: nombre de tours | C11: tonnage du jour | D11: nb de tours | E11: tonnage nuit | G11: jour | H11: nuit | J11: Dumper Tony | K11: nombre de tours | L11: Total m3 | N11: dumper | O11: OUI OU NON | P11: HEURE DEPART | Q11: HEURE FIN | R11: CHAUFFEUR | S11: 2 | U11: CHARGEUSES | V11: OUI OU NON | W11: HEURE DEPART | X11: HEURE FIN | Y11: CHAUFFEUR | Z11: 2
A12: DU1 | C12: =27*B12 -> 0 | E12: =27*D12 -> 0 | F12: heure de fonctionnement | J12: BELL | L12: =K12*15 -> 0 | N12: DU1 | U12: CH9
A13: DU2 | C13: =27*B13 -> 0 | E13: =27*D13 -> 0 | F13: heure en charge | J13: DU2 | L13: =K13*18 -> 0 | N13: DU2 | U13: CH10
A14: DU3 | C14: =27*B14 -> 0 | E14: =27*D14 -> 0 | F14: rendement | G14: =G13/G12 -> #DIV/0! | H14: =H13/H12 -> #DIV/0! | J14: maroc | L14: =K14*14 -> 0 | N14: DU3 | U14: CH11
A15: DU4 | C15: =27*B15 -> 0 | E15: =27*D15 -> 0 | G15: =AVERAGEIF(G14:H14,">0") -> #DIV/0! | J15: DU4 | L15: =K15*18 -> 0 | N15: DU4 | U15: CH17
A16: DU5 | C16: =27*B16 -> 0 | E16: =27*D16 -> 0 | J16: DU5 | L16: =K16*18 -> 0 | N16: DU5 | U16: CH18
A17: DU13 | C17: =27*B17 -> 0 | E17: =27*D17 -> 0 | J17: DU13 | N17: DU13 | U17: CH19
A18: DU14 | C18: =27*B18 -> 0 | E18: =27*D18 -> 0 | F18: Heures concasseur | G18: =SUM(G12:H12) -> 0 | J18: DU14 | L18: =K18*8 -> 0 | N18: DU14
A19: TOTAL | B19: =SUM(B12:B18) -> 0 | C19: =SUM(C12:C18) -> 0 | D19: =SUM(D12:D18) -> 0 | E19: =SUM(E12:E18) -> 0 | F19: charge | G19: =SUM(G13:H13) -> 0 | J19: TOTAL | K19: =SUM(K12:K18) -> 0 | L19: =K19*35 -> 0 | N19: DU15 bell
A20: débit en t/h jour | B20: =C19/(G12) -> #DIV/0! | C20: débit en t/h nuit | D20: =E19/H12 -> #DIV/0! | N20: DU16 bell
C21: =C19+E19 -> 0 | F21: Tonnage total | G21: =C23+E19+C19+H28 -> 0 | N21: DU18 cat
B22: nombre de tours | C22: tonnage | N22: DU19 cat
A23: L4 | C23: =27*B23 -> 0 | E23: débit | N23: DU20 cat
E24: =C23/B27 -> #DIV/0! | H24: TROMMEL | I24: heure | J24: débit | N24: DU22 BELL
G25: jour
B26: H marches | C26: H fnct | D26: rendement | G26: nuit | N26: PELLES | O26: OUI OU NON | P26: HEURE DEPART | Q26: HEURE FIN | R26: CHAUFFEUR | S26: 2 | U26: FOREUSES | V26: OUI OU NON | W26: HEURE DEPART | X26: HEURE FIN | Y26: CHAUFFEUR | Z26: 2
A27: K1 | D27: =C27/B27 -> #DIV/0! | E27: Cote en mm | G27: total | H27: =SUM(H25:H26) -> 0 | I27: =SUM(I25:I26) -> 0 | J27: =H28/I27 -> #DIV/0! | N27: PR12 | U27: CR14
A28: B1 | D28: =C28/B28 -> #DIV/0! | G28: total tonne | H28: =H27*27 -> 0 | N28: PR13 | U28: CR14
A29: B2 | D29: =C29/B29 -> #DIV/0! | N29: PR14 | U29: CR16
A30: C1 | N30: PR15 mart
A31: C1 | N31: PR19
F32: heure de fonctionnement | N32: PR21 conc
B33: tours | C33: tonnage | F33: heure en charge | N33: PR22
A34: 0/17 | C34: =B34*17 -> 0 | G34: =G33/G32 -> #DIV/0! | H34: =H33/H32 -> #DIV/0! | N34: PR23
G35: =AVERAGE(G34:H34) -> #DIV/0! | N35: PR24
A36: Foration: | N36: PR25 mart
B37: Nombre de trou forés | C37: jour | D37: nuit | E37: Total | F37: heure jour | G37: trou/heure | N37: PR26 komt
B38: CR14 | E38: =C38+D38 -> 0 | G38: =E38/F38 -> #DIV/0! | N38: PR27 komt
B39: CR15 | E39: =C39+D39 -> 0 | G39: =E39/F39 -> #DIV/0! | T39: NUIT
B40: CR16 | E40: =C40+D40 -> 0 | G40: =E40/F40 -> #DIV/0!
E41: =E38+E39+E40 -> 0 | G41: =AVERAGEIF(G38:G40,">0") -> #DIV/0! | N41: dumper | O41: OUI OU NON | P41: HEURE DEPART | Q41: HEURE FIN | R41: CHAUFFEUR | S41: 2 | U41: CHARGEUSES | V41: OUI OU NON | W41: HEURE DEPART | X41: HEURE FIN | Y41: CHAUFFEUR | Z41: 2
...

Sheet 11
D1: Fiche journalière d'exploitation
A2: 42064
E3: Carrière de KOSSIOUEIN
A4: Date:
A6: Tir de mine: | C6: pétardage:
J7: Découverte:
A8: Exploitation: | F8: concasseur:
S9: JOUR
A10: numéro du tir
A11: Dumper Tony | B11: nombre de tours | C11: tonnage du jour | D11: nb de tours | E11: tonnage nuit | G11: jour | H11: nuit | J11: Dumper Tony | K11: nombre de tours | L11: Total m3 | N11: dumper | O11: OUI OU NON | P11: HEURE DEPART | Q11: HEURE FIN | R11: CHAUFFEUR | S11: 2 | U11: CHARGEUSES | V11: OUI OU NON | W11: HEURE DEPART | X11: HEURE FIN | Y11: CHAUFFEUR | Z11: 2
A12: DU1 | C12: =27*B12 -> 0 | E12: =27*D12 -> 0 | F12: heure de fonctionnement | J12: BELL | L12: =K12*15 -> 0 | N12: DU1 | U12: CH9
A13: DU2 | C13: =27*B13 -> 0 | E13: =27*D13 -> 0 | F13: heure en charge | J13: DU2 | L13: =K13*18 -> 0 | N13: DU2 | U13: CH10
A14: DU3 | C14: =27*B14 -> 0 | E14: =27*D14 -> 0 | F14: rendement | G14: =G13/G12 -> #DIV/0! | H14: =H13/H12 -> #DIV/0! | J14: maroc | L14: =K14*14 -> 0 | N14: DU3 | U14: CH11
A15: DU4 | C15: =27*B15 -> 0 | E15: =27*D15 -> 0 | G15: =AVERAGE(G14:H14) -> #DIV/0! | J15: DU4 | L15: =K15*18 -> 0 | N15: DU4 | U15: CH17
A16: DU5 | C16: =27*B16 -> 0 | E16: =27*D16 -> 0 | J16: DU5 | L16: =K16*18 -> 0 | N16: DU5 | U16: CH18
A17: DU13 | C17: =27*B17 -> 0 | E17: =27*D17 -> 0 | J17: DU13 | N17: DU13 | U17: CH19
A18: DU14 | C18: =27*B18 -> 0 | E18: =27*D18 -> 0 | F18: Heures concasseur | G18: =SUM(G12:H12) -> 0 | J18: DU14 | L18: =K18*8 -> 0 | N18: DU14
A19: TOTAL | B19: =SUM(B12:B18) -> 0 | C19: =SUM(C12:C18) -> 0 | D19: =SUM(D12:D18) -> 0 | E19: =SUM(E12:E18) -> 0 | F19: charge | G19: =SUM(G13:H13) -> 0 | J19: TOTAL | K19: =SUM(K12:K18) -> 0 | L19: =K19*35 -> 0 | N19: DU15 bell
A20: débit en t/h jour | B20: =C19/(G12) -> #DIV/0! | C20: débit en t/h nuit | D20: =E19/H12 -> #DIV/0! | N20: DU16 bell
C21: =C19+E19 -> 0 | F21: Tonnage total | G21: =C23+E19+C19+H28 -> 0 | N21: DU18 cat
B22: nombre de tours | C22: tonnage | N22: DU19 cat
A23: L4 | C23: =27*B23 -> 0 | E23: débit | N23: DU20 cat
E24: =C23/B27 -> #DIV/0! | H24: TROMMEL | I24: heure | J24: débit | N24: DU22 BELL
G25: jour
B26: H marches | C26: H fnct | D26: rendement | G26: nuit | N26: PELLES | O26: OUI OU NON | P26: HEURE DEPART | Q26: HEURE FIN | R26: CHAUFFEUR | S26: 2 | U26: FOREUSES | V26: OUI OU NON | W26: HEURE DEPART | X26: HEURE FIN | Y26: CHAUFFEUR | Z26: 2
A27: K1 | D27: =C27/B27 -> #DIV/0! | E27: Cote en mm | G27: total | H27: =SUM(H25:H26) -> 0 | I27: =SUM(I25:I26) -> 0 | J27: =H28/I27 -> #DIV/0! | N27: PR12 | U27: CR14
A28: B1 | D28: =C28/B28 -> #DIV/0! | G28: total tonne | H28: =H27*27 -> 0 | N28: PR13 | U28: CR14
A29: B2 | D29: =C29/B29 -> #DIV/0! | N29: PR14 | U29: CR16
A30: C1 | N30: PR15 mart
A31: C1 | N31: PR19
F32: heure de fonctionnement | N32: PR21 conc
B33: tours | C33: tonnage | F33: heure en charge | N33: PR22
A34: 0/17 | C34: =(B34*17) -> 0 | G34: =G33/G32 -> #DIV/0! | H34: =H33/H32 -> #DIV/0! | N34: PR23
G35: 0.25 | N35: PR24
A36: Foration: | N36: PR25 mart
B37: Nombre de trou forés | C37: jour | D37: nuit | E37: Total | F37: heure jour | G37: trou/heure | N37: PR26 komt
B38: CR14 | E38: =C38+D38 -> 0 | G38: =E38/F38 -> #DIV/0! | N38: PR27 komt
B39: CR15 | E39: =C39+D39 -> 0 | G39: =E39/F39 -> #DIV/0! | T39: NUIT
B40: CR16 | E40: =C40+D40 -> 0 | G40: =E40/F40 -> #DIV/0!
E41: =E38+E39+E40 -> 0 | G41: =AVERAGEIF(G38:G40,">0") -> #DIV/0! | N41: dumper | O41: OUI OU NON | P41: HEURE DEPART | Q41: HEURE FIN | R41: CHAUFFEUR | S41: 2 | U41: CHARGEUSES | V41: OUI OU NON | W41: HEURE DEPART | X41: HEURE FIN | Y41: CHAUFFEUR | Z41: 2
...

Sheet 12
D1: Fiche journalière d'exploitation
A2: 42064
E3: Carrière de KOSSIOUEIN
A4: Date:
A6: Tir de mine: | B6: oui | C6: pétardage:
J7: Découverte:
A8: Exploitation: | F8: concasseur:
S9: JOUR
A10: numéro du tir
A11: Dumper Tony | B11: nombre de tours | C11: tonnage du jour | D11: nb de tours | E11: tonnage nuit | G11: jour | H11: nuit | J11: Dumper Tony | K11: nombre de tours | L11: Total m3 | N11: dumper | O11: OUI OU NON | P11: HEURE DEPART | Q11: HEURE FIN | R11: CHAUFFEUR | S11: 2 | U11: CHARGEUSES | V11: OUI OU NON | W11: HEURE DEPART | X11: HEURE FIN | Y11: CHAUFFEUR | Z11: 2
A12: DU1 | C12: =27*B12 -> 0 | E12: =27*D12 -> 0 | F12: heure de fonctionnement | J12: BELL | L12: =K12*15 -> 0 | N12: DU1 | U12: CH9
A13: DU2 | C13: =27*B13 -> 0 | E13: =27*D13 -> 0 | F13: heure en charge | J13: DU2 | L13: =K13*18 -> 0 | N13: DU2 | U13: CH10
A14: DU3 | C14: =27*B14 -> 0 | E14: =27*D14 -> 0 | F14: rendement | G14: =G13/G12 -> #DIV/0! | H14: =H13/H12 -> #DIV/0! | J14: maroc | L14: =K14*14 -> 0 | N14: DU3 | U14: CH11
