Workbook

Sheet List
A1: Names | C1: present
A2: Adam Abirat | C2: {=IF(SUM(--(ISNUMBER(SEARCH(A2,Recherche!$E$2:$E$8))))>0,"Présent","Absent")} -> Présent
A3: Alex Dimitri | C3: =IF(SUM(--(ISNUMBER(SEARCH(A3,Recherche!$E$2:$E$8))))>0,"Présent","Absent") -> Absent
A4: Alexandre Timarti | C4: {=IF(SUM(--(ISNUMBER(SEARCH(A4,Recherche!$E$2:$E$8))))>0,"Présent","Absent")} -> Absent
A5: Alexis Bondoubou | C5: {=IF(SUM(--(ISNUMBER(SEARCH(A5,Recherche!$E$2:$E$8))))>0,"Présent","Absent")} -> Absent
A6: Alexia Farina | C6: {=IF(SUM(--(ISNUMBER(SEARCH(A6,Recherche!$E$2:$E$8))))>0,"Présent","Absent")} -> Absent
A7: Alice Dilamo | C7: {=IF(SUM(--(ISNUMBER(SEARCH(A7,Recherche!$E$2:$E$8))))>0,"Présent","Absent")} -> Présent
A8: Alicia policat | C8: {=IF(SUM(--(ISNUMBER(SEARCH(A8,Recherche!$E$2:$E$8))))>0,"Présent","Absent")} -> Absent
A9: Amélie fontaine | C9: {=IF(SUM(--(ISNUMBER(SEARCH(A9,Recherche!$E$2:$E$8))))>0,"Présent","Absent")} -> Absent
A10: Anaïs derrick | C10: {=IF(SUM(--(ISNUMBER(SEARCH(A10,Recherche!$E$2:$E$8))))>0,"Présent","Absent")} -> Absent
A11: Annabelle Bikre | C11: {=IF(SUM(--(ISNUMBER(SEARCH(A11,Recherche!$E$2:$E$8))))>0,"Présent","Absent")} -> Présent
A12: Arianne Fomel | C12: {=IF(SUM(--(ISNUMBER(SEARCH(A12,Recherche!$E$2:$E$8))))>0,"Présent","Absent")} -> Absent
A13: Audrey critih | C13: {=IF(SUM(--(ISNUMBER(SEARCH(A13,Recherche!$E$2:$E$8))))>0,"Présent","Absent")} -> Absent
A14: Aurélie fandol | C14: {=IF(SUM(--(ISNUMBER(SEARCH(A14,Recherche!$E$2:$E$8))))>0,"Présent","Absent")} -> Absent
A15: Camille Xavier | C15: {=IF(SUM(--(ISNUMBER(SEARCH(A15,Recherche!$E$2:$E$8))))>0,"Présent","Absent")} -> Présent

Sheet Recherche
A1: Case Status | B1: Created On | C1: Modified On | D1: present | E1: Notes History
A2: Active | B2: 42983.438 | C2: 42985.339 | D2: =IFERROR(VLOOKUP(IFERROR(IF(RIGHT(E2,1)="-",IFERROR(MID(E2,SEARCH("time)",E2,SEARCH("time)",E2)+1)+6,SEARCH("-",E2,SEARCH("time)",E2,SEARCH("time)",E2)+1))-(SEARCH("time)",E2,SEARCH("time)",E2)+1)+6)-1),MID(E2,SEARCH("time)",E2)+6,(SEARCH("-",E2,(SEARCH("time)",E2)+6)))-(SEARCH("time)",E2)+6)-1)),IF(RIGHT(E2,1)="~*",IFERROR(MID(E2,SEARCH("time)",E2,SEARCH("time)",E2)+1)+6,SEARCH("~*",E2,SEARCH("time)",E2,SEARCH("time)",E2)+1))-(SEARCH("time)",E2,SEARCH("time)",E2)+1)+6)-1),MID(E2,SEARCH("time)",E2)+6,(SEARCH("~*",E2,(SEARCH("time)",E2)+6)))-(SEARCH("time)",E2)+6)-1)),MID(RIGHT(E2,50),SEARCH("time)",RIGHT(E2,50))+6,LEN(RIGHT(E2,50))-SEARCH("time)",RIGHT(E2,50))+6))),""),List!$A$2:$A$15,1,0),"") -> Alice Dilamo | E2: ****PPSTOOLUSED**** ############################### Case Number: n/a Customer SLA: (SBD/NBD/CTR) GS1 : Yes/No Operating system: ***Problem*** Issue: Description: Frequency: Randomly/Always ***UEFI*** *************Customer Troubleshooting************** *************CC Troubleshooting******************** *************Additional Troubleshooting************ *************Action Plan/ Solution***************** *************Part Numbers***************** ***Missing Parts*** ############################### Tue Sep 05 2017 10:33:11 GMT+0200 (Romance Daylight Time) Adam Abirat ------------------------------------------- ****PPSTOOLUSED**** ############################### Case Number: n/a Customer SLA: (SBD/NBD/CTR) GS1 : Yes/No Operating system: ***Problem*** Issue: Description: Frequency: Randomly/Always ***UEFI*** *************Customer Troubleshooting************** *************CC Troubleshooting******************** *************Additional Troubleshooting************ *************Action Plan/ Solution***************** *************Part Numbers***************** ***Missing Parts*** ############################### Tue Sep 05 2017 10:33:11 GMT+0200 (Romance Daylight Time) Alice Dilamo -------------------------------------------
A3: New | B3: 42984.36 | C3: 42989.4 | D3: =IFERROR(VLOOKUP(IFERROR(IF(RIGHT(E3,1)="-",IFERROR(MID(E3,SEARCH("time)",E3,SEARCH("time)",E3)+1)+6,SEARCH("-",E3,SEARCH("time)",E3,SEARCH("time)",E3)+1))-(SEARCH("time)",E3,SEARCH("time)",E3)+1)+6)-1),MID(E3,SEARCH("time)",E3)+6,(SEARCH("-",E3,(SEARCH("time)",E3)+6)))-(SEARCH("time)",E3)+6)-1)),IF(RIGHT(E3,1)="~*",IFERROR(MID(E3,SEARCH("time)",E3,SEARCH("time)",E3)+1)+6,SEARCH("~*",E3,SEARCH("time)",E3,SEARCH("time)",E3)+1))-(SEARCH("time)",E3,SEARCH("time)",E3)+1)+6)-1),MID(E3,SEARCH("time)",E3)+6,(SEARCH("~*",E3,(SEARCH("time)",E3)+6)))-(SEARCH("time)",E3)+6)-1)),MID(RIGHT(E3,50),SEARCH("time)",RIGHT(E3,50))+6,LEN(RIGHT(E3,50))-SEARCH("time)",RIGHT(E3,50))+6))),""),List!$A$2:$A$15,1,0),"") -> Annabelle Bikre | E3: ****PPSTOOLUSED**** ############################### Case Number: n/a Customer SLA: (SBD/NBD/CTR) GS1 : Yes/No Operating system: ***Problem*** Issue: Description: Frequency: Randomly/Always ***UEFI*** *************Customer Troubleshooting************** *************CC Troubleshooting******************** *************Additional Troubleshooting************ *************Action Plan/ Solution***************** *************Part Numbers***************** ***Missing Parts*** ############################### Tue Sep 05 2017 10:33:11 GMT+0200 (Romance Daylight Time) Annabelle Bikre -------------------------------------------
A4: Monitor | B4: 42957.653 | C4: 42989.625 | D4: =IFERROR(VLOOKUP(IFERROR(IF(RIGHT(E4,1)="-",IFERROR(MID(E4,SEARCH("time)",E4,SEARCH("time)",E4)+1)+6,SEARCH("-",E4,SEARCH("time)",E4,SEARCH("time)",E4)+1))-(SEARCH("time)",E4,SEARCH("time)",E4)+1)+6)-1),MID(E4,SEARCH("time)",E4)+6,(SEARCH("-",E4,(SEARCH("time)",E4)+6)))-(SEARCH("time)",E4)+6)-1)),IF(RIGHT(E4,1)="~*",IFERROR(MID(E4,SEARCH("time)",E4,SEARCH("time)",E4)+1)+6,SEARCH("~*",E4,SEARCH("time)",E4,SEARCH("time)",E4)+1))-(SEARCH("time)",E4,SEARCH("time)",E4)+1)+6)-1),MID(E4,SEARCH("time)",E4)+6,(SEARCH("~*",E4,(SEARCH("time)",E4)+6)))-(SEARCH("time)",E4)+6)-1)),MID(RIGHT(E4,50),SEARCH("time)",RIGHT(E4,50))+6,LEN(RIGHT(E4,50))-SEARCH("time)",RIGHT(E4,50))+6))),""),List!$A$2:$A$15,1,0),"") | E4: ****PPSTOOLUSED**** ############################### Case Number: n/a Customer SLA: (SBD/NBD/CTR) GS1 : Yes/No Operating system: ***Problem*** Issue: Description: Frequency: Randomly/Always ***UEFI*** *************Customer Troubleshooting************** *************CC Troubleshooting******************** *************Additional Troubleshooting************ *************Action Plan/ Solution***************** *************Part Numbers***************** ***Missing Parts*** ###############################
A5: Monitor | B5: 42989.453 | C5: 42990.505 | D5: =IFERROR(VLOOKUP(IFERROR(IF(RIGHT(E5,1)="-",IFERROR(MID(E5,SEARCH("time)",E5,SEARCH("time)",E5)+1)+6,SEARCH("-",E5,SEARCH("time)",E5,SEARCH("time)",E5)+1))-(SEARCH("time)",E5,SEARCH("time)",E5)+1)+6)-1),MID(E5,SEARCH("time)",E5)+6,(SEARCH("-",E5,(SEARCH("time)",E5)+6)))-(SEARCH("time)",E5)+6)-1)),IF(RIGHT(E5,1)="~*",IFERROR(MID(E5,SEARCH("time)",E5,SEARCH("time)",E5)+1)+6,SEARCH("~*",E5,SEARCH("time)",E5,SEARCH("time)",E5)+1))-(SEARCH("time)",E5,SEARCH("time)",E5)+1)+6)-1),MID(E5,SEARCH("time)",E5)+6,(SEARCH("~*",E5,(SEARCH("time)",E5)+6)))-(SEARCH("time)",E5)+6)-1)),MID(RIGHT(E5,50),SEARCH("time)",RIGHT(E5,50))+6,LEN(RIGHT(E5,50))-SEARCH("time)",RIGHT(E5,50))+6))),""),List!$A$2:$A$15,1,0),"") -> Camille Xavier | E5: ****PPSTOOLUSED**** ############################### Case Number: n/a Customer SLA: (SBD/NBD/CTR) GS1 : Yes/No Operating system: ***Problem*** Issue: Description: Frequency: Randomly/Always ***UEFI*** *************Customer Troubleshooting************** *************CC Troubleshooting******************** *************Additional Troubleshooting************ *************Action Plan/ Solution***************** *************Part Numbers***************** ***Missing Parts*** ############################### Tue Sep 05 2017 10:33:11 GMT+0200 (Romance Daylight Time) Camille Xavier -------------------------------------------
A6: Monitor | B6: 42989.681 | C6: 42990.679 | D6: =IFERROR(VLOOKUP(IFERROR(IF(RIGHT(E6,1)="-",IFERROR(MID(E6,SEARCH("time)",E6,SEARCH("time)",E6)+1)+6,SEARCH("-",E6,SEARCH("time)",E6,SEARCH("time)",E6)+1))-(SEARCH("time)",E6,SEARCH("time)",E6)+1)+6)-1),MID(E6,SEARCH("time)",E6)+6,(SEARCH("-",E6,(SEARCH("time)",E6)+6)))-(SEARCH("time)",E6)+6)-1)),IF(RIGHT(E6,1)="~*",IFERROR(MID(E6,SEARCH("time)",E6,SEARCH("time)",E6)+1)+6,SEARCH("~*",E6,SEARCH("time)",E6,SEARCH("time)",E6)+1))-(SEARCH("time)",E6,SEARCH("time)",E6)+1)+6)-1),MID(E6,SEARCH("time)",E6)+6,(SEARCH("~*",E6,(SEARCH("time)",E6)+6)))-(SEARCH("time)",E6)+6)-1)),MID(RIGHT(E6,50),SEARCH("time)",RIGHT(E6,50))+6,LEN(RIGHT(E6,50))-SEARCH("time)",RIGHT(E6,50))+6))),""),List!$A$2:$A$15,1,0),"") -> Camille Xavier | E6: ****PPSTOOLUSED**** ############################### Case Number: n/a Customer SLA: (SBD/NBD/CTR) GS1 : Yes/No Operating system: ***Problem*** Issue: Description: Frequency: Randomly/Always ***UEFI*** *************Customer Troubleshooting************** *************CC Troubleshooting******************** *************Additional Troubleshooting************ *************Action Plan/ Solution***************** *************Part Numbers***************** ***Missing Parts*** ############################### Tue Sep 05 2017 10:33:11 GMT+0200 (Romance Daylight Time) Camille Xavier
A7: Elevated to L2 | B7: 42979.66 | C7: 42991.446 | D7: =IFERROR(VLOOKUP(IFERROR(IF(RIGHT(E7,1)="-",IFERROR(MID(E7,SEARCH("time)",E7,SEARCH("time)",E7)+1)+6,SEARCH("-",E7,SEARCH("time)",E7,SEARCH("time)",E7)+1))-(SEARCH("time)",E7,SEARCH("time)",E7)+1)+6)-1),MID(E7,SEARCH("time)",E7)+6,(SEARCH("-",E7,(SEARCH("time)",E7)+6)))-(SEARCH("time)",E7)+6)-1)),IF(RIGHT(E7,1)="~*",IFERROR(MID(E7,SEARCH("time)",E7,SEARCH("time)",E7)+1)+6,SEARCH("~*",E7,SEARCH("time)",E7,SEARCH("time)",E7)+1))-(SEARCH("time)",E7,SEARCH("time)",E7)+1)+6)-1),MID(E7,SEARCH("time)",E7)+6,(SEARCH("~*",E7,(SEARCH("time)",E7)+6)))-(SEARCH("time)",E7)+6)-1)),MID(RIGHT(E7,50),SEARCH("time)",RIGHT(E7,50))+6,LEN(RIGHT(E7,50))-SEARCH("time)",RIGHT(E7,50))+6))),""),List!$A$2:$A$15,1,0),"")
A8: Active | B8: 42991.499 | C8: 42991.523 | D8: =IFERROR(VLOOKUP(IFERROR(IF(RIGHT(E8,1)="-",IFERROR(MID(E8,SEARCH("time)",E8,SEARCH("time)",E8)+1)+6,SEARCH("-",E8,SEARCH("time)",E8,SEARCH("time)",E8)+1))-(SEARCH("time)",E8,SEARCH("time)",E8)+1)+6)-1),MID(E8,SEARCH("time)",E8)+6,(SEARCH("-",E8,(SEARCH("time)",E8)+6)))-(SEARCH("time)",E8)+6)-1)),IF(RIGHT(E8,1)="~*",IFERROR(MID(E8,SEARCH("time)",E8,SEARCH("time)",E8)+1)+6,SEARCH("~*",E8,SEARCH("time)",E8,SEARCH("time)",E8)+1))-(SEARCH("time)",E8,SEARCH("time)",E8)+1)+6)-1),MID(E8,SEARCH("time)",E8)+6,(SEARCH("~*",E8,(SEARCH("time)",E8)+6)))-(SEARCH("time)",E8)+6)-1)),MID(RIGHT(E8,50),SEARCH("time)",RIGHT(E8,50))+6,LEN(RIGHT(E8,50))-SEARCH("time)",RIGHT(E8,50))+6))),""),List!$A$2:$A$15,1,0),"") -> Alice Dilamo | E8: ****PPSTOOLUSED**** ############################### Case Number: n/a Customer SLA: (SBD/NBD/CTR) GS1 : Yes/No Operating system: ***Problem*** Issue: Description: Frequency: Randomly/Always ***UEFI*** *************Customer Troubleshooting************** *************CC Troubleshooting******************** *************Additional Troubleshooting************ *************Action Plan/ Solution***************** *************Part Numbers***************** ***Missing Parts*** ############################### Tue Sep 05 2017 10:33:11 GMT+0200 (Romance Daylight Time) Adam Abirat ------------------------------------------- ****PPSTOOLUSED**** ############################### Case Number: n/a Customer SLA: (SBD/NBD/CTR) GS1 : Yes/No Operating system: ***Problem*** Issue: Description: Frequency: Randomly/Always ***UEFI*** *************Customer Troubleshooting************** *************CC Troubleshooting******************** *************Additional Troubleshooting************ *************Action Plan/ Solution***************** *************Part Numbers***************** ***Missing Parts*** ############################### Tue Sep 05 2017 10:33:11 GMT+0200 (Romance Daylight Time) Alice Dilamo -------------------------------------------
AC12: =SEARCH("time)",E3) -> 588 | AF12: =MID(E3,SEARCH("time)",E3)+6,IFERROR(SEARCH("~*",E3,SEARCH("time)",E3))-SEARCH("time)",E3)-6,99)) -> Annabelle Bikre -------------------------------------------
AC13: =SEARCH("~*",E3,SEARCH("time)",E3)) -> #VALUE! | AE13: =SEARCH("time)",E3) -> 588
AE14: =SEARCH("~*",G3,SEARCH("time)",E3)) -> #VALUE!

Sheet hiddenSheet
A1: incident:y1NEq0Ww1PLk2v5UbBGwluZbyCWghWv8DIRe5GVO8Daf3QVRWd+uibVPdlcwJrRSxsVC7RJOhs2282+z6nPJ5w==:incidentid=%28Do%20Not%20Modify%29%20Case&checksumLogicalName=%28Do%20Not%20Modify%29%20Row%20Checksum&modifiedon=%28Do%20Not%20Modify%29%20Modified%20On&ownerid=Owner&hpi_caseid=Case%20ID&hpi_otccodeid=OTC%20Code&productserialnumber=Product%20Serial%20Number&statuscode=Case%20Status&hpi_subject=Case%20Subject&createdon=Created%20On&modifiedon=Modified%20On&hpi_assetid=Asset&hpi_productline=Product%20Line&customerid=Customer%20Account&hpi_noteshistory=Notes%20History
A2: Problem Solved | B2: Information Provided | C2: Canceled | D2: Merged | E2: Active | F2: On Hold | G2: Waiting for Details | H2: Researching | I2: New | J2: Pending Follow Up | K2: Draft | L2: Request for case closure | M2: Escalate to Mentor | N2: Elevated | O2: Elevated to L2 | P2: Elevated to L3 | Q2: Active | R2: Pending Callback | S2: Pending Customer Actions | T2: Pending Approval | U2: Pending HP Authorization | V2: Approved - Pending Order | W2: Pending Order Completion | X2: Closed | Y2: Rejected | Z2: Escalated | AA2: Monitor | AB2: Pending Customer Action | AC2: Pending Order | AD2: Pending HP Action | AE2: Pending Quote | AF2: Quote Requested | AG2: Quote Approved | AH2: Quote Rejected | AI2: Pending Payment | AJ2: Business Admin Activated | AK2: Closed | AL2: Completed | AM2: Rejected | AN2: Void Case
