Workbook
Name annee: 'juin 18 - mai 19'!#REF!
Name annee: '[1]annee en cour'!#REF!
Name annee_1: #REF!
Name annee_1: #REF!
Name annee_2: '[1]annee suivante '!#REF!
Name annee_2: '[1]annee suivante '!#REF!
Name I: 'juin 18 - mai 19'!$B$8
Name I: '[1]annee en cour'!$B$8
Name jour1: 'juin 18 - mai 19'!$B$8
Name jour2: 'juin 18 - mai 19'!$B$7
Name jour2: '[1]annee en cour'!$B$7

Sheet juin 18 - mai 19
A1: 2018
A2: =DATE(A1,AG7,1) -> 43252
A3: zone A | B3: =jour2 -> 43252 | C3: =C7 -> 43253 | D3: =D7 -> 43254 | E3: =E7 -> 43255 | F3: =F7 -> 43256 | G3: =G7 -> 43257 | H3: =H7 -> 43258 | I3: =I7 -> 43259 | J3: =J7 -> 43260 | ... AF3: =AF7 -> 43282
A4: zone B | B4: =jour2 -> 43252 | C4: =C7 -> 43253 | D4: =D7 -> 43254 | E4: =E7 -> 43255 | F4: =F7 -> 43256 | G4: =G7 -> 43257 | H4: =H7 -> 43258 | I4: =I7 -> 43259 | J4: =J7 -> 43260 | ... AF4: =AF7 -> 43282
A5: zone C | B5: =jour2 -> 43252 | C5: =C7 -> 43253 | D5: =D7 -> 43254 | E5: =E7 -> 43255 | F5: =F7 -> 43256 | G5: =G7 -> 43257 | H5: =H7 -> 43258 | I5: =I7 -> 43259 | J5: =J7 -> 43260 | ... AF5: =AF7 -> 43282
B7: =DATE(A1,AG7,1) -> 43252 | C7: =jour2+1 -> 43253 | D7: =C7+1 -> 43254 | E7: =D7+1 -> 43255 | F7: =E7+1 -> 43256 | G7: =F7+1 -> 43257 | H7: =G7+1 -> 43258 | I7: =H7+1 -> 43259 | J7: =I7+1 -> 43260 | K7: =J7+1 -> 43261 | ... AF7: =AE7+1 -> 43282 | AG7: 6
B8: =DATE(A1,6,1) -> 43252 | C8: =I+1 -> 43253 | D8: =C8+1 -> 43254 | E8: =D8+1 -> 43255 | F8: =E8+1 -> 43256 | G8: =F8+1 -> 43257 | H8: =G8+1 -> 43258 | I8: =H8+1 -> 43259 | J8: =I8+1 -> 43260 | K8: =J8+1 -> 43261 | ... AF8: =AE8+1 -> 43282
A9: sophie | B9: =IF(AND($A9="sylvie",OR(WEEKDAY(B$8,2)=1,WEEKDAY(B$8,2)=4)),"R",IF(AND($A9="delphine",WEEKDAY(B$8,2)=3),"R",IF(AND($A9="nicolas",WEEKDAY(B$8,2)=1),"R",IF(WEEKDAY(B$8,2)=7,"F","")))) | C9: =IF(AND($A9="sylvie",OR(WEEKDAY(C$8,2)=1,WEEKDAY(C$8,2)=4)),"R",IF(AND($A9="delphine",WEEKDAY(C$8,2)=3),"R",IF(AND($A9="nicolas",WEEKDAY(C$8,2)=1),"R",IF(WEEKDAY(C$8,2)=7,"F","")))) | D9: =IF(AND($A9="sylvie",OR(WEEKDAY(D$8,2)=1,WEEKDAY(D$8,2)=4)),"R",IF(AND($A9="delphine",WEEKDAY(D$8,2)=3),"R",IF(AND($A9="nicolas",WEEKDAY(D$8,2)=1),"R",IF(WEEKDAY(D$8,2)=7,"F","")))) -> F | E9: =IF(AND($A9="sylvie",OR(WEEKDAY(E$8,2)=1,WEEKDAY(E$8,2)=4)),"R",IF(AND($A9="delphine",WEEKDAY(E$8,2)=3),"R",IF(AND($A9="nicolas",WEEKDAY(E$8,2)=1),"R",IF(WEEKDAY(E$8,2)=7,"F","")))) | F9: =IF(AND($A9="sylvie",OR(WEEKDAY(F$8,2)=1,WEEKDAY(F$8,2)=4)),"R",IF(AND($A9="delphine",WEEKDAY(F$8,2)=3),"R",IF(AND($A9="nicolas",WEEKDAY(F$8,2)=1),"R",IF(WEEKDAY(F$8,2)=7,"F","")))) | G9: =IF(AND($A9="sylvie",OR(WEEKDAY(G$8,2)=1,WEEKDAY(G$8,2)=4)),"R",IF(AND($A9="delphine",WEEKDAY(G$8,2)=3),"R",IF(AND($A9="nicolas",WEEKDAY(G$8,2)=1),"R",IF(WEEKDAY(G$8,2)=7,"F","")))) | H9: =IF(AND($A9="sylvie",OR(WEEKDAY(H$8,2)=1,WEEKDAY(H$8,2)=4)),"R",IF(AND($A9="delphine",WEEKDAY(H$8,2)=3),"R",IF(AND($A9="nicolas",WEEKDAY(H$8,2)=1),"R",IF(WEEKDAY(H$8,2)=7,"F","")))) | I9: C | J9: =IF(AND($A9="sylvie",OR(WEEKDAY(J$8,2)=1,WEEKDAY(J$8,2)=4)),"R",IF(AND($A9="delphine",WEEKDAY(J$8,2)=3),"R",IF(AND($A9="nicolas",WEEKDAY(J$8,2)=1),"R",IF(WEEKDAY(J$8,2)=7,"F","")))) | K9: =IF(AND($A9="sylvie",OR(WEEKDAY(K$8,2)=1,WEEKDAY(K$8,2)=4)),"R",IF(AND($A9="delphine",WEEKDAY(K$8,2)=3),"R",IF(AND($A9="nicolas",WEEKDAY(K$8,2)=1),"R",IF(WEEKDAY(K$8,2)=7,"F","")))) -> F | L9: =IF(AND($A9="sylvie",OR(WEEKDAY(L$8,2)=1,WEEKDAY(L$8,2)=4)),"R",IF(AND($A9="delphine",WEEKDAY(L$8,2)=3),"R",IF(AND($A9="nicolas",WEEKDAY(L$8,2)=1),"R",IF(WEEKDAY(L$8,2)=7,"F","")))) | M9: =IF(AND($A9="sylvie",OR(WEEKDAY(M$8,2)=1,WEEKDAY(M$8,2)=4)),"R",IF(AND($A9="delphine",WEEKDAY(M$8,2)=3),"R",IF(AND($A9="nicolas",WEEKDAY(M$8,2)=1),"R",IF(WEEKDAY(M$8,2)=7,"F","")))) | N9: =IF(AND($A9="sylvie",OR(WEEKDAY(N$8,2)=1,WEEKDAY(N$8,2)=4)),"R",IF(AND($A9="delphine",WEEKDAY(N$8,2)=3),"R",IF(AND($A9="nicolas",WEEKDAY(N$8,2)=1),"R",IF(WEEKDAY(N$8,2)=7,"F","")))) | O9: =IF(AND($A9="sylvie",OR(WEEKDAY(O$8,2)=1,WEEKDAY(O$8,2)=4)),"R",IF(AND($A9="delphine",WEEKDAY(O$8,2)=3),"R",IF(AND($A9="nicolas",WEEKDAY(O$8,2)=1),"R",IF(WEEKDAY(O$8,2)=7,"F","")))) | P9: =IF(AND($A9="sylvie",OR(WEEKDAY(P$8,2)=1,WEEKDAY(P$8,2)=4)),"R",IF(AND($A9="delphine",WEEKDAY(P$8,2)=3),"R",IF(AND($A9="nicolas",WEEKDAY(P$8,2)=1),"R",IF(WEEKDAY(P$8,2)=7,"F","")))) | Q9: =IF(AND($A9="sylvie",OR(WEEKDAY(Q$8,2)=1,WEEKDAY(Q$8,2)=4)),"R",IF(AND($A9="delphine",WEEKDAY(Q$8,2)=3),"R",IF(AND($A9="nicolas",WEEKDAY(Q$8,2)=1),"R",IF(WEEKDAY(Q$8,2)=7,"F","")))) | ... AF9: =IF(AND($A9="sylvie",OR(WEEKDAY(AF$8,2)=1,WEEKDAY(AF$8,2)=4)),"R",IF(AND($A9="delphine",WEEKDAY(AF$8,2)=3),"R",IF(AND($A9="nicolas",WEEKDAY(AF$8,2)=1),"R",IF(WEEKDAY(AF$8,2)=7,"F","")))) -> F | AG9: =COUNTIF(B9:AF9,"c") -> 1 | AH9: =30-AG9 -> 29
A10: thomas | B10: =IF(AND($A10="sylvie",OR(WEEKDAY(B$8,2)=1,WEEKDAY(B$8,2)=4)),"R",IF(AND($A10="delphine",WEEKDAY(B$8,2)=3),"R",IF(AND($A10="nicolas",WEEKDAY(B$8,2)=1),"R",IF(WEEKDAY(B$8,2)=7,"F","")))) | C10: =IF(AND($A10="sylvie",OR(WEEKDAY(C$8,2)=1,WEEKDAY(C$8,2)=4)),"R",IF(AND($A10="delphine",WEEKDAY(C$8,2)=3),"R",IF(AND($A10="nicolas",WEEKDAY(C$8,2)=1),"R",IF(WEEKDAY(C$8,2)=7,"F","")))) | D10: =IF(AND($A10="sylvie",OR(WEEKDAY(D$8,2)=1,WEEKDAY(D$8,2)=4)),"R",IF(AND($A10="delphine",WEEKDAY(D$8,2)=3),"R",IF(AND($A10="nicolas",WEEKDAY(D$8,2)=1),"R",IF(WEEKDAY(D$8,2)=7,"F","")))) -> F | E10: =IF(AND($A10="sylvie",OR(WEEKDAY(E$8,2)=1,WEEKDAY(E$8,2)=4)),"R",IF(AND($A10="delphine",WEEKDAY(E$8,2)=3),"R",IF(AND($A10="nicolas",WEEKDAY(E$8,2)=1),"R",IF(WEEKDAY(E$8,2)=7,"F","")))) | F10: =IF(AND($A10="sylvie",OR(WEEKDAY(F$8,2)=1,WEEKDAY(F$8,2)=4)),"R",IF(AND($A10="delphine",WEEKDAY(F$8,2)=3),"R",IF(AND($A10="nicolas",WEEKDAY(F$8,2)=1),"R",IF(WEEKDAY(F$8,2)=7,"F","")))) | G10: =IF(AND($A10="sylvie",OR(WEEKDAY(G$8,2)=1,WEEKDAY(G$8,2)=4)),"R",IF(AND($A10="delphine",WEEKDAY(G$8,2)=3),"R",IF(AND($A10="nicolas",WEEKDAY(G$8,2)=1),"R",IF(WEEKDAY(G$8,2)=7,"F","")))) | H10: =IF(AND($A10="sylvie",OR(WEEKDAY(H$8,2)=1,WEEKDAY(H$8,2)=4)),"R",IF(AND($A10="delphine",WEEKDAY(H$8,2)=3),"R",IF(AND($A10="nicolas",WEEKDAY(H$8,2)=1),"R",IF(WEEKDAY(H$8,2)=7,"F","")))) | I10: C | J10: =IF(AND($A10="sylvie",OR(WEEKDAY(J$8,2)=1,WEEKDAY(J$8,2)=4)),"R",IF(AND($A10="delphine",WEEKDAY(J$8,2)=3),"R",IF(AND($A10="nicolas",WEEKDAY(J$8,2)=1),"R",IF(WEEKDAY(J$8,2)=7,"F","")))) | K10: =IF(AND($A10="sylvie",OR(WEEKDAY(K$8,2)=1,WEEKDAY(K$8,2)=4)),"R",IF(AND($A10="delphine",WEEKDAY(K$8,2)=3),"R",IF(AND($A10="nicolas",WEEKDAY(K$8,2)=1),"R",IF(WEEKDAY(K$8,2)=7,"F","")))) -> F | L10: =IF(AND($A10="sylvie",OR(WEEKDAY(L$8,2)=1,WEEKDAY(L$8,2)=4)),"R",IF(AND($A10="delphine",WEEKDAY(L$8,2)=3),"R",IF(AND($A10="nicolas",WEEKDAY(L$8,2)=1),"R",IF(WEEKDAY(L$8,2)=7,"F","")))) | M10: =IF(AND($A10="sylvie",OR(WEEKDAY(M$8,2)=1,WEEKDAY(M$8,2)=4)),"R",IF(AND($A10="delphine",WEEKDAY(M$8,2)=3),"R",IF(AND($A10="nicolas",WEEKDAY(M$8,2)=1),"R",IF(WEEKDAY(M$8,2)=7,"F","")))) | N10: =IF(AND($A10="sylvie",OR(WEEKDAY(N$8,2)=1,WEEKDAY(N$8,2)=4)),"R",IF(AND($A10="delphine",WEEKDAY(N$8,2)=3),"R",IF(AND($A10="nicolas",WEEKDAY(N$8,2)=1),"R",IF(WEEKDAY(N$8,2)=7,"F","")))) | O10: =IF(AND($A10="sylvie",OR(WEEKDAY(O$8,2)=1,WEEKDAY(O$8,2)=4)),"R",IF(AND($A10="delphine",WEEKDAY(O$8,2)=3),"R",IF(AND($A10="nicolas",WEEKDAY(O$8,2)=1),"R",IF(WEEKDAY(O$8,2)=7,"F","")))) | P10: =IF(AND($A10="sylvie",OR(WEEKDAY(P$8,2)=1,WEEKDAY(P$8,2)=4)),"R",IF(AND($A10="delphine",WEEKDAY(P$8,2)=3),"R",IF(AND($A10="nicolas",WEEKDAY(P$8,2)=1),"R",IF(WEEKDAY(P$8,2)=7,"F","")))) | Q10: =IF(AND($A10="sylvie",OR(WEEKDAY(Q$8,2)=1,WEEKDAY(Q$8,2)=4)),"R",IF(AND($A10="delphine",WEEKDAY(Q$8,2)=3),"R",IF(AND($A10="nicolas",WEEKDAY(Q$8,2)=1),"R",IF(WEEKDAY(Q$8,2)=7,"F","")))) | ... AF10: =IF(AND($A10="sylvie",OR(WEEKDAY(AF$8,2)=1,WEEKDAY(AF$8,2)=4)),"R",IF(AND($A10="delphine",WEEKDAY(AF$8,2)=3),"R",IF(AND($A10="nicolas",WEEKDAY(AF$8,2)=1),"R",IF(WEEKDAY(AF$8,2)=7,"F","")))) -> F | AG10: =COUNTIF(B10:AF10,"c") -> 1 | AH10: =30-AG10 -> 29
A11: sylvie | B11: =IF(AND($A11="sylvie",OR(WEEKDAY(B$8,2)=1,WEEKDAY(B$8,2)=4)),"R",IF(AND($A11="delphine",WEEKDAY(B$8,2)=3),"R",IF(AND($A11="nicolas",WEEKDAY(B$8,2)=1),"R",IF(WEEKDAY(B$8,2)=7,"F","")))) | C11: =IF(AND($A11="sylvie",OR(WEEKDAY(C$8,2)=1,WEEKDAY(C$8,2)=4)),"R",IF(AND($A11="delphine",WEEKDAY(C$8,2)=3),"R",IF(AND($A11="nicolas",WEEKDAY(C$8,2)=1),"R",IF(WEEKDAY(C$8,2)=7,"F","")))) | D11: =IF(AND($A11="sylvie",OR(WEEKDAY(D$8,2)=1,WEEKDAY(D$8,2)=4)),"R",IF(AND($A11="delphine",WEEKDAY(D$8,2)=3),"R",IF(AND($A11="nicolas",WEEKDAY(D$8,2)=1),"R",IF(WEEKDAY(D$8,2)=7,"F","")))) -> F | E11: =IF(AND($A11="sylvie",OR(WEEKDAY(E$8,2)=1,WEEKDAY(E$8,2)=4)),"R",IF(AND($A11="delphine",WEEKDAY(E$8,2)=3),"R",IF(AND($A11="nicolas",WEEKDAY(E$8,2)=1),"R",IF(WEEKDAY(E$8,2)=7,"F","")))) -> R | F11: =IF(AND($A11="sylvie",OR(WEEKDAY(F$8,2)=1,WEEKDAY(F$8,2)=4)),"R",IF(AND($A11="delphine",WEEKDAY(F$8,2)=3),"R",IF(AND($A11="nicolas",WEEKDAY(F$8,2)=1),"R",IF(WEEKDAY(F$8,2)=7,"F","")))) | G11: =IF(AND($A11="sylvie",OR(WEEKDAY(G$8,2)=1,WEEKDAY(G$8,2)=4)),"R",IF(AND($A11="delphine",WEEKDAY(G$8,2)=3),"R",IF(AND($A11="nicolas",WEEKDAY(G$8,2)=1),"R",IF(WEEKDAY(G$8,2)=7,"F","")))) | H11: =IF(AND($A11="sylvie",OR(WEEKDAY(H$8,2)=1,WEEKDAY(H$8,2)=4)),"R",IF(AND($A11="delphine",WEEKDAY(H$8,2)=3),"R",IF(AND($A11="nicolas",WEEKDAY(H$8,2)=1),"R",IF(WEEKDAY(H$8,2)=7,"F","")))) -> R | I11: C | J11: =IF(AND($A11="sylvie",OR(WEEKDAY(J$8,2)=1,WEEKDAY(J$8,2)=4)),"R",IF(AND($A11="delphine",WEEKDAY(J$8,2)=3),"R",IF(AND($A11="nicolas",WEEKDAY(J$8,2)=1),"R",IF(WEEKDAY(J$8,2)=7,"F","")))) | K11: =IF(AND($A11="sylvie",OR(WEEKDAY(K$8,2)=1,WEEKDAY(K$8,2)=4)),"R",IF(AND($A11="delphine",WEEKDAY(K$8,2)=3),"R",IF(AND($A11="nicolas",WEEKDAY(K$8,2)=1),"R",IF(WEEKDAY(K$8,2)=7,"F","")))) -> F | L11: =IF(AND($A11="sylvie",OR(WEEKDAY(L$8,2)=1,WEEKDAY(L$8,2)=4)),"R",IF(AND($A11="delphine",WEEKDAY(L$8,2)=3),"R",IF(AND($A11="nicolas",WEEKDAY(L$8,2)=1),"R",IF(WEEKDAY(L$8,2)=7,"F","")))) -> R | M11: =IF(AND($A11="sylvie",OR(WEEKDAY(M$8,2)=1,WEEKDAY(M$8,2)=4)),"R",IF(AND($A11="delphine",WEEKDAY(M$8,2)=3),"R",IF(AND($A11="nicolas",WEEKDAY(M$8,2)=1),"R",IF(WEEKDAY(M$8,2)=7,"F","")))) | N11: =IF(AND($A11="sylvie",OR(WEEKDAY(N$8,2)=1,WEEKDAY(N$8,2)=4)),"R",IF(AND($A11="delphine",WEEKDAY(N$8,2)=3),"R",IF(AND($A11="nicolas",WEEKDAY(N$8,2)=1),"R",IF(WEEKDAY(N$8,2)=7,"F","")))) | O11: =IF(AND($A11="sylvie",OR(WEEKDAY(O$8,2)=1,WEEKDAY(O$8,2)=4)),"R",IF(AND($A11="delphine",WEEKDAY(O$8,2)=3),"R",IF(AND($A11="nicolas",WEEKDAY(O$8,2)=1),"R",IF(WEEKDAY(O$8,2)=7,"F","")))) -> R | P11: =IF(AND($A11="sylvie",OR(WEEKDAY(P$8,2)=1,WEEKDAY(P$8,2)=4)),"R",IF(AND($A11="delphine",WEEKDAY(P$8,2)=3),"R",IF(AND($A11="nicolas",WEEKDAY(P$8,2)=1),"R",IF(WEEKDAY(P$8,2)=7,"F","")))) | Q11: =IF(AND($A11="sylvie",OR(WEEKDAY(Q$8,2)=1,WEEKDAY(Q$8,2)=4)),"R",IF(AND($A11="delphine",WEEKDAY(Q$8,2)=3),"R",IF(AND($A11="nicolas",WEEKDAY(Q$8,2)=1),"R",IF(WEEKDAY(Q$8,2)=7,"F","")))) | ... AF11: =IF(AND($A11="sylvie",OR(WEEKDAY(AF$8,2)=1,WEEKDAY(AF$8,2)=4)),"R",IF(AND($A11="delphine",WEEKDAY(AF$8,2)=3),"R",IF(AND($A11="nicolas",WEEKDAY(AF$8,2)=1),"R",IF(WEEKDAY(AF$8,2)=7,"F","")))) -> F | AG11: =COUNTIF(B11:AF11,"c") -> 1 | AH11: =30-AG11 -> 29
A12: delphine | B12: =IF(AND($A12="sylvie",OR(WEEKDAY(B$8,2)=1,WEEKDAY(B$8,2)=4)),"R",IF(AND($A12="delphine",WEEKDAY(B$8,2)=3),"R",IF(AND($A12="nicolas",WEEKDAY(B$8,2)=1),"R",IF(WEEKDAY(B$8,2)=7,"F","")))) | C12: =IF(AND($A12="sylvie",OR(WEEKDAY(C$8,2)=1,WEEKDAY(C$8,2)=4)),"R",IF(AND($A12="delphine",WEEKDAY(C$8,2)=3),"R",IF(AND($A12="nicolas",WEEKDAY(C$8,2)=1),"R",IF(WEEKDAY(C$8,2)=7,"F","")))) | D12: =IF(AND($A12="sylvie",OR(WEEKDAY(D$8,2)=1,WEEKDAY(D$8,2)=4)),"R",IF(AND($A12="delphine",WEEKDAY(D$8,2)=3),"R",IF(AND($A12="nicolas",WEEKDAY(D$8,2)=1),"R",IF(WEEKDAY(D$8,2)=7,"F","")))) -> F | E12: =IF(AND($A12="sylvie",OR(WEEKDAY(E$8,2)=1,WEEKDAY(E$8,2)=4)),"R",IF(AND($A12="delphine",WEEKDAY(E$8,2)=3),"R",IF(AND($A12="nicolas",WEEKDAY(E$8,2)=1),"R",IF(WEEKDAY(E$8,2)=7,"F","")))) | F12: =IF(AND($A12="sylvie",OR(WEEKDAY(F$8,2)=1,WEEKDAY(F$8,2)=4)),"R",IF(AND($A12="delphine",WEEKDAY(F$8,2)=3),"R",IF(AND($A12="nicolas",WEEKDAY(F$8,2)=1),"R",IF(WEEKDAY(F$8,2)=7,"F","")))) | G12: =IF(AND($A12="sylvie",OR(WEEKDAY(G$8,2)=1,WEEKDAY(G$8,2)=4)),"R",IF(AND($A12="delphine",WEEKDAY(G$8,2)=3),"R",IF(AND($A12="nicolas",WEEKDAY(G$8,2)=1),"R",IF(WEEKDAY(G$8,2)=7,"F","")))) -> R | H12: =IF(AND($A12="sylvie",OR(WEEKDAY(H$8,2)=1,WEEKDAY(H$8,2)=4)),"R",IF(AND($A12="delphine",WEEKDAY(H$8,2)=3),"R",IF(AND($A12="nicolas",WEEKDAY(H$8,2)=1),"R",IF(WEEKDAY(H$8,2)=7,"F","")))) | I12: C | J12: =IF(AND($A12="sylvie",OR(WEEKDAY(J$8,2)=1,WEEKDAY(J$8,2)=4)),"R",IF(AND($A12="delphine",WEEKDAY(J$8,2)=3),"R",IF(AND($A12="nicolas",WEEKDAY(J$8,2)=1),"R",IF(WEEKDAY(J$8,2)=7,"F","")))) | K12: =IF(AND($A12="sylvie",OR(WEEKDAY(K$8,2)=1,WEEKDAY(K$8,2)=4)),"R",IF(AND($A12="delphine",WEEKDAY(K$8,2)=3),"R",IF(AND($A12="nicolas",WEEKDAY(K$8,2)=1),"R",IF(WEEKDAY(K$8,2)=7,"F","")))) -> F | L12: =IF(AND($A12="sylvie",OR(WEEKDAY(L$8,2)=1,WEEKDAY(L$8,2)=4)),"R",IF(AND($A12="delphine",WEEKDAY(L$8,2)=3),"R",IF(AND($A12="nicolas",WEEKDAY(L$8,2)=1),"R",IF(WEEKDAY(L$8,2)=7,"F","")))) | M12: =IF(AND($A12="sylvie",OR(WEEKDAY(M$8,2)=1,WEEKDAY(M$8,2)=4)),"R",IF(AND($A12="delphine",WEEKDAY(M$8,2)=3),"R",IF(AND($A12="nicolas",WEEKDAY(M$8,2)=1),"R",IF(WEEKDAY(M$8,2)=7,"F","")))) | N12: =IF(AND($A12="sylvie",OR(WEEKDAY(N$8,2)=1,WEEKDAY(N$8,2)=4)),"R",IF(AND($A12="delphine",WEEKDAY(N$8,2)=3),"R",IF(AND($A12="nicolas",WEEKDAY(N$8,2)=1),"R",IF(WEEKDAY(N$8,2)=7,"F","")))) -> R | O12: =IF(AND($A12="sylvie",OR(WEEKDAY(O$8,2)=1,WEEKDAY(O$8,2)=4)),"R",IF(AND($A12="delphine",WEEKDAY(O$8,2)=3),"R",IF(AND($A12="nicolas",WEEKDAY(O$8,2)=1),"R",IF(WEEKDAY(O$8,2)=7,"F","")))) | P12: =IF(AND($A12="sylvie",OR(WEEKDAY(P$8,2)=1,WEEKDAY(P$8,2)=4)),"R",IF(AND($A12="delphine",WEEKDAY(P$8,2)=3),"R",IF(AND($A12="nicolas",WEEKDAY(P$8,2)=1),"R",IF(WEEKDAY(P$8,2)=7,"F","")))) | Q12: =IF(AND($A12="sylvie",OR(WEEKDAY(Q$8,2)=1,WEEKDAY(Q$8,2)=4)),"R",IF(AND($A12="delphine",WEEKDAY(Q$8,2)=3),"R",IF(AND($A12="nicolas",WEEKDAY(Q$8,2)=1),"R",IF(WEEKDAY(Q$8,2)=7,"F","")))) | ... AF12: =IF(AND($A12="sylvie",OR(WEEKDAY(AF$8,2)=1,WEEKDAY(AF$8,2)=4)),"R",IF(AND($A12="delphine",WEEKDAY(AF$8,2)=3),"R",IF(AND($A12="nicolas",WEEKDAY(AF$8,2)=1),"R",IF(WEEKDAY(AF$8,2)=7,"F","")))) -> F | AG12: =COUNTIF(B12:AF12,"c") -> 1 | AH12: =30-AG12 -> 29
A13: coralie | B13: =IF(AND($A13="sylvie",OR(WEEKDAY(B$8,2)=1,WEEKDAY(B$8,2)=4)),"R",IF(AND($A13="delphine",WEEKDAY(B$8,2)=3),"R",IF(AND($A13="nicolas",WEEKDAY(B$8,2)=1),"R",IF(WEEKDAY(B$8,2)=7,"F","")))) | C13: =IF(AND($A13="sylvie",OR(WEEKDAY(C$8,2)=1,WEEKDAY(C$8,2)=4)),"R",IF(AND($A13="delphine",WEEKDAY(C$8,2)=3),"R",IF(AND($A13="nicolas",WEEKDAY(C$8,2)=1),"R",IF(WEEKDAY(C$8,2)=7,"F","")))) | D13: =IF(AND($A13="sylvie",OR(WEEKDAY(D$8,2)=1,WEEKDAY(D$8,2)=4)),"R",IF(AND($A13="delphine",WEEKDAY(D$8,2)=3),"R",IF(AND($A13="nicolas",WEEKDAY(D$8,2)=1),"R",IF(WEEKDAY(D$8,2)=7,"F","")))) -> F | E13: =IF(AND($A13="sylvie",OR(WEEKDAY(E$8,2)=1,WEEKDAY(E$8,2)=4)),"R",IF(AND($A13="delphine",WEEKDAY(E$8,2)=3),"R",IF(AND($A13="nicolas",WEEKDAY(E$8,2)=1),"R",IF(WEEKDAY(E$8,2)=7,"F","")))) | F13: =IF(AND($A13="sylvie",OR(WEEKDAY(F$8,2)=1,WEEKDAY(F$8,2)=4)),"R",IF(AND($A13="delphine",WEEKDAY(F$8,2)=3),"R",IF(AND($A13="nicolas",WEEKDAY(F$8,2)=1),"R",IF(WEEKDAY(F$8,2)=7,"F","")))) | G13: =IF(AND($A13="sylvie",OR(WEEKDAY(G$8,2)=1,WEEKDAY(G$8,2)=4)),"R",IF(AND($A13="delphine",WEEKDAY(G$8,2)=3),"R",IF(AND($A13="nicolas",WEEKDAY(G$8,2)=1),"R",IF(WEEKDAY(G$8,2)=7,"F","")))) | H13: =IF(AND($A13="sylvie",OR(WEEKDAY(H$8,2)=1,WEEKDAY(H$8,2)=4)),"R",IF(AND($A13="delphine",WEEKDAY(H$8,2)=3),"R",IF(AND($A13="nicolas",WEEKDAY(H$8,2)=1),"R",IF(WEEKDAY(H$8,2)=7,"F","")))) | I13: C | J13: =IF(AND($A13="sylvie",OR(WEEKDAY(J$8,2)=1,WEEKDAY(J$8,2)=4)),"R",IF(AND($A13="delphine",WEEKDAY(J$8,2)=3),"R",IF(AND($A13="nicolas",WEEKDAY(J$8,2)=1),"R",IF(WEEKDAY(J$8,2)=7,"F","")))) | K13: =IF(AND($A13="sylvie",OR(WEEKDAY(K$8,2)=1,WEEKDAY(K$8,2)=4)),"R",IF(AND($A13="delphine",WEEKDAY(K$8,2)=3),"R",IF(AND($A13="nicolas",WEEKDAY(K$8,2)=1),"R",IF(WEEKDAY(K$8,2)=7,"F","")))) -> F | L13: =IF(AND($A13="sylvie",OR(WEEKDAY(L$8,2)=1,WEEKDAY(L$8,2)=4)),"R",IF(AND($A13="delphine",WEEKDAY(L$8,2)=3),"R",IF(AND($A13="nicolas",WEEKDAY(L$8,2)=1),"R",IF(WEEKDAY(L$8,2)=7,"F","")))) | M13: =IF(AND($A13="sylvie",OR(WEEKDAY(M$8,2)=1,WEEKDAY(M$8,2)=4)),"R",IF(AND($A13="delphine",WEEKDAY(M$8,2)=3),"R",IF(AND($A13="nicolas",WEEKDAY(M$8,2)=1),"R",IF(WEEKDAY(M$8,2)=7,"F","")))) | N13: =IF(AND($A13="sylvie",OR(WEEKDAY(N$8,2)=1,WEEKDAY(N$8,2)=4)),"R",IF(AND($A13="delphine",WEEKDAY(N$8,2)=3),"R",IF(AND($A13="nicolas",WEEKDAY(N$8,2)=1),"R",IF(WEEKDAY(N$8,2)=7,"F","")))) | O13: =IF(AND($A13="sylvie",OR(WEEKDAY(O$8,2)=1,WEEKDAY(O$8,2)=4)),"R",IF(AND($A13="delphine",WEEKDAY(O$8,2)=3),"R",IF(AND($A13="nicolas",WEEKDAY(O$8,2)=1),"R",IF(WEEKDAY(O$8,2)=7,"F","")))) | P13: =IF(AND($A13="sylvie",OR(WEEKDAY(P$8,2)=1,WEEKDAY(P$8,2)=4)),"R",IF(AND($A13="delphine",WEEKDAY(P$8,2)=3),"R",IF(AND($A13="nicolas",WEEKDAY(P$8,2)=1),"R",IF(WEEKDAY(P$8,2)=7,"F","")))) | Q13: =IF(AND($A13="sylvie",OR(WEEKDAY(Q$8,2)=1,WEEKDAY(Q$8,2)=4)),"R",IF(AND($A13="delphine",WEEKDAY(Q$8,2)=3),"R",IF(AND($A13="nicolas",WEEKDAY(Q$8,2)=1),"R",IF(WEEKDAY(Q$8,2)=7,"F","")))) | ... AF13: =IF(AND($A13="sylvie",OR(WEEKDAY(AF$8,2)=1,WEEKDAY(AF$8,2)=4)),"R",IF(AND($A13="delphine",WEEKDAY(AF$8,2)=3),"R",IF(AND($A13="nicolas",WEEKDAY(AF$8,2)=1),"R",IF(WEEKDAY(AF$8,2)=7,"F","")))) -> F | AG13: =COUNTIF(B13:AF13,"c") -> 1 | AH13: =30-AG13 -> 29
A14: nicolas | B14: =IF(AND($A14="sylvie",OR(WEEKDAY(B$8,2)=1,WEEKDAY(B$8,2)=4)),"R",IF(AND($A14="delphine",WEEKDAY(B$8,2)=3),"R",IF(AND($A14="nicolas",WEEKDAY(B$8,2)=1),"R",IF(WEEKDAY(B$8,2)=7,"F","")))) | C14: =IF(AND($A14="sylvie",OR(WEEKDAY(C$8,2)=1,WEEKDAY(C$8,2)=4)),"R",IF(AND($A14="delphine",WEEKDAY(C$8,2)=3),"R",IF(AND($A14="nicolas",WEEKDAY(C$8,2)=1),"R",IF(WEEKDAY(C$8,2)=7,"F","")))) | D14: =IF(AND($A14="sylvie",OR(WEEKDAY(D$8,2)=1,WEEKDAY(D$8,2)=4)),"R",IF(AND($A14="delphine",WEEKDAY(D$8,2)=3),"R",IF(AND($A14="nicolas",WEEKDAY(D$8,2)=1),"R",IF(WEEKDAY(D$8,2)=7,"F","")))) -> F | E14: =IF(AND($A14="sylvie",OR(WEEKDAY(E$8,2)=1,WEEKDAY(E$8,2)=4)),"R",IF(AND($A14="delphine",WEEKDAY(E$8,2)=3),"R",IF(AND($A14="nicolas",WEEKDAY(E$8,2)=1),"R",IF(WEEKDAY(E$8,2)=7,"F","")))) -> R | F14: =IF(AND($A14="sylvie",OR(WEEKDAY(F$8,2)=1,WEEKDAY(F$8,2)=4)),"R",IF(AND($A14="delphine",WEEKDAY(F$8,2)=3),"R",IF(AND($A14="nicolas",WEEKDAY(F$8,2)=1),"R",IF(WEEKDAY(F$8,2)=7,"F","")))) | G14: =IF(AND($A14="sylvie",OR(WEEKDAY(G$8,2)=1,WEEKDAY(G$8,2)=4)),"R",IF(AND($A14="delphine",WEEKDAY(G$8,2)=3),"R",IF(AND($A14="nicolas",WEEKDAY(G$8,2)=1),"R",IF(WEEKDAY(G$8,2)=7,"F","")))) | H14: =IF(AND($A14="sylvie",OR(WEEKDAY(H$8,2)=1,WEEKDAY(H$8,2)=4)),"R",IF(AND($A14="delphine",WEEKDAY(H$8,2)=3),"R",IF(AND($A14="nicolas",WEEKDAY(H$8,2)=1),"R",IF(WEEKDAY(H$8,2)=7,"F","")))) | I14: C | J14: =IF(AND($A14="sylvie",OR(WEEKDAY(J$8,2)=1,WEEKDAY(J$8,2)=4)),"R",IF(AND($A14="delphine",WEEKDAY(J$8,2)=3),"R",IF(AND($A14="nicolas",WEEKDAY(J$8,2)=1),"R",IF(WEEKDAY(J$8,2)=7,"F","")))) | K14: =IF(AND($A14="sylvie",OR(WEEKDAY(K$8,2)=1,WEEKDAY(K$8,2)=4)),"R",IF(AND($A14="delphine",WEEKDAY(K$8,2)=3),"R",IF(AND($A14="nicolas",WEEKDAY(K$8,2)=1),"R",IF(WEEKDAY(K$8,2)=7,"F","")))) -> F | L14: =IF(AND($A14="sylvie",OR(WEEKDAY(L$8,2)=1,WEEKDAY(L$8,2)=4)),"R",IF(AND($A14="delphine",WEEKDAY(L$8,2)=3),"R",IF(AND($A14="nicolas",WEEKDAY(L$8,2)=1),"R",IF(WEEKDAY(L$8,2)=7,"F","")))) -> R | M14: =IF(AND($A14="sylvie",OR(WEEKDAY(M$8,2)=1,WEEKDAY(M$8,2)=4)),"R",IF(AND($A14="delphine",WEEKDAY(M$8,2)=3),"R",IF(AND($A14="nicolas",WEEKDAY(M$8,2)=1),"R",IF(WEEKDAY(M$8,2)=7,"F","")))) | N14: =IF(AND($A14="sylvie",OR(WEEKDAY(N$8,2)=1,WEEKDAY(N$8,2)=4)),"R",IF(AND($A14="delphine",WEEKDAY(N$8,2)=3),"R",IF(AND($A14="nicolas",WEEKDAY(N$8,2)=1),"R",IF(WEEKDAY(N$8,2)=7,"F","")))) | O14: =IF(AND($A14="sylvie",OR(WEEKDAY(O$8,2)=1,WEEKDAY(O$8,2)=4)),"R",IF(AND($A14="delphine",WEEKDAY(O$8,2)=3),"R",IF(AND($A14="nicolas",WEEKDAY(O$8,2)=1),"R",IF(WEEKDAY(O$8,2)=7,"F","")))) | P14: =IF(AND($A14="sylvie",OR(WEEKDAY(P$8,2)=1,WEEKDAY(P$8,2)=4)),"R",IF(AND($A14="delphine",WEEKDAY(P$8,2)=3),"R",IF(AND($A14="nicolas",WEEKDAY(P$8,2)=1),"R",IF(WEEKDAY(P$8,2)=7,"F","")))) | Q14: =IF(AND($A14="sylvie",OR(WEEKDAY(Q$8,2)=1,WEEKDAY(Q$8,2)=4)),"R",IF(AND($A14="delphine",WEEKDAY(Q$8,2)=3),"R",IF(AND($A14="nicolas",WEEKDAY(Q$8,2)=1),"R",IF(WEEKDAY(Q$8,2)=7,"F","")))) | ... AF14: =IF(AND($A14="sylvie",OR(WEEKDAY(AF$8,2)=1,WEEKDAY(AF$8,2)=4)),"R",IF(AND($A14="delphine",WEEKDAY(AF$8,2)=3),"R",IF(AND($A14="nicolas",WEEKDAY(AF$8,2)=1),"R",IF(WEEKDAY(AF$8,2)=7,"F","")))) -> F | AG14: =COUNTIF(B14:AF14,"c") -> 1 | AH14: =30-AG14 -> 29
A15: =DATE(A1,AG20,1) -> 43282
A16: zone A | B16: =B20 -> 43282 | C16: =C20 -> 43283 | D16: =D20 -> 43284 | E16: =E20 -> 43285 | F16: =F20 -> 43286 | G16: =G20 -> 43287 | H16: =H20 -> 43288 | I16: =I20 -> 43289 | ... AF16: =AF20 -> 43312
A17: zone B | B17: =B20 -> 43282 | C17: =C20 -> 43283 | D17: =D20 -> 43284 | E17: =E20 -> 43285 | F17: =F20 -> 43286 | G17: =G20 -> 43287 | H17: =H20 -> 43288 | I17: =I20 -> 43289 | ... AF17: =AF20 -> 43312
A18: zone C | B18: =B20 -> 43282 | C18: =C20 -> 43283 | D18: =D20 -> 43284 | E18: =E20 -> 43285 | F18: =F20 -> 43286 | G18: =G20 -> 43287 | H18: =H20 -> 43288 | I18: =I20 -> 43289 | ... AF18: =AF20 -> 43312
B20: =DATE(A1,AG20,1) -> 43282 | C20: =B20+1 -> 43283 | D20: =C20+1 -> 43284 | E20: =D20+1 -> 43285 | F20: =E20+1 -> 43286 | G20: =F20+1 -> 43287 | H20: =G20+1 -> 43288 | I20: =H20+1 -> 43289 | J20: =I20+1 -> 43290 | ... AF20: =AE20+1 -> 43312 | AG20: 7
B21: =DATE(A1,AG20,1) -> 43282 | C21: =B21+1 -> 43283 | D21: =C21+1 -> 43284 | E21: =D21+1 -> 43285 | F21: =E21+1 -> 43286 | G21: =F21+1 -> 43287 | H21: =G21+1 -> 43288 | I21: =H21+1 -> 43289 | J21: =I21+1 -> 43290 | ... AF21: =AE21+1 -> 43312
A22: sophie | AG22: =COUNTIF(B22:AF22,"c") -> 0 | AH22: =AH9-AG22 -> 29
A23: thomas | AG23: =COUNTIF(B23:AF23,"c") -> 0 | AH23: =AH10-AG23 -> 29
A24: sylvie | AG24: =COUNTIF(B24:AF24,"c") -> 0 | AH24: =AH11-AG24 -> 29
A25: delphine | AG25: =COUNTIF(B25:AF25,"c") -> 0 | AH25: =AH12-AG25 -> 29
A26: coralie | AG26: =COUNTIF(B26:AF26,"c") -> 0 | AH26: =AH13-AG26 -> 29
A27: nicolas | AG27: =COUNTIF(B27:AF27,"c") -> 0 | AH27: =AH14-AG27 -> 29
A28: =DATE(A1,AG33,1) -> 43313
A29: zone A | B29: =B33 -> 43313 | C29: =C33 -> 43314 | D29: =D33 -> 43315 | E29: =E33 -> 43316 | F29: =F33 -> 43317 | G29: =G33 -> 43318 | H29: =H33 -> 43319 | I29: =I33 -> 43320 | ... AF29: =AF33 -> 43343
A30: zone B | B30: =B33 -> 43313 | C30: =C33 -> 43314 | D30: =D33 -> 43315 | E30: =E33 -> 43316 | F30: =F33 -> 43317 | G30: =G33 -> 43318 | H30: =H33 -> 43319 | I30: =I33 -> 43320 | ... AF30: =AF33 -> 43343
A31: zone C | B31: =B33 -> 43313 | C31: =C33 -> 43314 | D31: =D33 -> 43315 | E31: =E33 -> 43316 | F31: =F33 -> 43317 | G31: =G33 -> 43318 | H31: =H33 -> 43319 | I31: =I33 -> 43320 | ... AF31: =AF33 -> 43343
B33: =DATE(A1,AG33,1) -> 43313 | C33: =B33+1 -> 43314 | D33: =C33+1 -> 43315 | E33: =D33+1 -> 43316 | F33: =E33+1 -> 43317 | G33: =F33+1 -> 43318 | H33: =G33+1 -> 43319 | I33: =H33+1 -> 43320 | J33: =I33+1 -> 43321 | ... AF33: =AE33+1 -> 43343 | AG33: 8
B34: =DATE(A1,AG33,1) -> 43313 | C34: =B34+1 -> 43314 | D34: =C34+1 -> 43315 | E34: =D34+1 -> 43316 | F34: =E34+1 -> 43317 | G34: =F34+1 -> 43318 | H34: =G34+1 -> 43319 | I34: =H34+1 -> 43320 | J34: =I34+1 -> 43321 | ... AF34: =AE34+1 -> 43343
A35: sophie | AG35: =COUNTIF(B35:AF35,"c") -> 0 | AH35: =AH22-AG35 -> 29
A36: thomas | AG36: =COUNTIF(B36:AF36,"c") -> 0 | AH36: =AH23-AG36 -> 29
A37: sylvie | AG37: =COUNTIF(B37:AF37,"c") -> 0 | AH37: =AH24-AG37 -> 29
A38: delphine | AG38: =COUNTIF(B38:AF38,"c") -> 0 | AH38: =AH25-AG38 -> 29
A39: coralie | AG39: =COUNTIF(B39:AF39,"c") -> 0 | AH39: =AH26-AG39 -> 29
A40: nicolas | AG40: =COUNTIF(B40:AF40,"c") -> 0 | AH40: =AH27-AG40 -> 29
A41: =DATE(A1,AG46,1) -> 43344
A42: zone A | B42: =B46 -> 43344 | C42: =C46 -> 43345 | D42: =D46 -> 43346 | E42: =E46 -> 43347 | F42: =F46 -> 43348 | G42: =G46 -> 43349 | H42: =H46 -> 43350 | I42: =I46 -> 43351 | ... AF42: =AF46 -> 43374
A43: zone B | B43: =B46 -> 43344 | C43: =C46 -> 43345 | D43: =D46 -> 43346 | E43: =E46 -> 43347 | F43: =F46 -> 43348 | G43: =G46 -> 43349 | H43: =H46 -> 43350 | I43: =I46 -> 43351 | ... AF43: =AF46 -> 43374
...

Sheet données
A2: ="jours feries pour la periode de juin " &'juin 18 - mai 19'!A1 & " à mai "&'juin 18 - mai 19'!A1+1 -> jours feries pour la periode de juin 2018 à mai 2019 | F2: zone A | H2: zone B | J2: zone C
A3: Jour de l'an | C3: =DATE('juin 18 - mai 19'!A1+1,1,1) -> 43466 | E3: pont de l'ascension n-1
A4: Pâques | C4: =FLOOR(DAY(MINUTE('juin 18 - mai 19'!A1+1/38)/2+56)&"/5/"&'juin 18 - mai 19'!A1+1,7)-34 -> 43562 | E4: vacance ete n-1 | F4: 43288 | G4: 43346 | H4: 43288 | I4: 43346 | J4: 43288 | K4: 43346
A5: Lundi de Pâques | C5: =C4+1 -> 43563
A6: Fête du travail | C6: =DATE('juin 18 - mai 19'!A1+1,5,1) -> 43586 | E6: vacance de la toussaint | F6: 43393 | G6: 43409 | H6: 43393 | I6: 43409 | J6: 43393 | K6: 43409
A7: Victoire 39/45 | C7: =DATE('juin 18 - mai 19'!A1+1,5,8) -> 43593 | E7: vacances de noel | F7: 43456 | G7: 43472 | H7: 43456 | I7: 43472 | J7: 43456 | K7: 43472
A8: Ascension | C8: =C4+39 -> 43601 | E8: vacance d'hiver | F8: 43512 | G8: 43528 | H8: 43505 | I8: 43521 | J8: 43519 | K8: 43535
A9: Pentecôte | C9: =C4+49 -> 43611 | E9: vacance de paques | F9: 43568 | G9: 43584 | H9: 43561 | I9: 43578 | J9: 43575 | K9: 43591
A10: Lundi de Pentecôte | C10: =C4+50 -> 43612 | E10: pont de l'ascension | F10: 43614 | G10: 43619 | H10: 43614 | I10: 43619 | J10: 43614 | K10: 43619
A11: Fête Nationale | C11: =DATE('juin 18 - mai 19'!A1,7,14) -> 43295 | E11: vacance d'ete | F11: 43652 | G11: 43712 | H11: 43652 | I11: 43712 | J11: 43652 | K11: 43712
A12: Assomption | C12: =DATE('juin 18 - mai 19'!A1,8,15) -> 43327
A13: Toussaint | C13: =DATE('juin 18 - mai 19'!A1,11,1) -> 43405
A14: Armistice 14/18 | C14: =DATE('juin 18 - mai 19'!A1,11,11) -> 43415 | E14: liste mercredi DELPHINE | F14: liste jeudi SYLVIE
A15: Noël | C15: =DATE('juin 18 - mai 19'!A1,12,25) -> 43459
E16: =DATE('juin 18 - mai 19'!A1,6,3)-WEEKDAY(DATE('juin 18 - mai 19'!A1,6,1)-2+7)+7 -> 43257 | F16: =DATE('juin 18 - mai 19'!A1,6,4)-WEEKDAY(DATE('juin 18 - mai 19'!A1,6,1)-2+7)+7 -> 43258
E17: =E16+7 -> 43264 | F17: =F16+7 -> 43265
E18: =E17+7 -> 43271 | F18: =F17+7 -> 43272
E19: =E18+7 -> 43278 | F19: =F18+7 -> 43279
E20: =E19+7 -> 43285 | F20: =F19+7 -> 43286
E21: =E20+7 -> 43292 | F21: =F20+7 -> 43293
E22: =E21+7 -> 43299 | F22: =F21+7 -> 43300
E23: =E22+7 -> 43306 | F23: =F22+7 -> 43307
E24: =E23+7 -> 43313 | F24: =F23+7 -> 43314
E25: =E24+7 -> 43320 | F25: =F24+7 -> 43321
E26: =E25+7 -> 43327 | F26: =F25+7 -> 43328
E27: =E26+7 -> 43334 | F27: =F26+7 -> 43335
E28: =E27+7 -> 43341 | F28: =F27+7 -> 43342
... E69: =E68+7 -> 43628 | F69: =F68+7 -> 43629

Sheet Feuil1
