Workbook
Name Année: '[1]Auto plan audit trimestrielle '!#REF!
Name Année: '[1]Auto plan audit trimestrielle '!#REF!
Name Années2: '[1]BDD automatisation '!#REF!
Name Années2: '[1]BDD automatisation '!#REF!
Name antibes: Listes!$B$2:$B$129
Name cannes: Listes!$C$2:$C$129
Name nice: Listes!$D$3:$D$129
Name Shops: '[1]BDD automatisation '!$A$2:$A$151
Name Trimestre: '[1]Auto plan audit trimestrielle '!#REF!
Name Trimestre: '[1]Auto plan audit trimestrielle '!#REF!
Name Trimestres: '[1]BDD automatisation '!#REF!
Name Trimestres: '[1]BDD automatisation '!#REF!

Sheet Trimestre 1 (2)
A1: Shop | B1: N° et Libéllé Item | C1: Evaluation (+ couleur de l'item)
A2: cannes | B2: CHAP 1 Réception
B3: Respect de la procédure de contrôle réception (fréquence, méthode, enregistrement, conclusion) | C3: =VLOOKUP(B3,Listes!$A$1:$D$129,MATCH('Trimestre 1 (2)'!$A$2,Listes!$1:$1,0),0) -> A
B4: 112-Présence d'un thermomètre en bon état vérifié et accessible en réception | C4: =VLOOKUP(B4,Listes!$A$1:$D$129,MATCH('Trimestre 1 (2)'!$A$2,Listes!$1:$1,0),0) -> A
B5: 113 - Conformité des matières 1ères livrées (T°, date, étiquetage, emballage…) et traitement des non conformes | C5: =VLOOKUP(B5,Listes!$A$1:$D$129,MATCH('Trimestre 1 (2)'!$A$2,Listes!$1:$1,0),0) -> A
B6: CHAP 2 Stockage | C6: =VLOOKUP(B6,Listes!$A$1:$D$129,MATCH('Trimestre 1 (2)'!$A$2,Listes!$1:$1,0),0) -> 0
B7: 211 - Déballage-décartonnage des matières 1ères en zone pré-définie, en absence d'enceintes froides spécifiques | C7: =VLOOKUP(B7,Listes!$A$1:$D$129,MATCH('Trimestre 1 (2)'!$A$2,Listes!$1:$1,0),0) -> A
B8: 212-Respect des conditions d'élimination des emballages-cartons | C8: =VLOOKUP(B8,Listes!$A$1:$D$129,MATCH('Trimestre 1 (2)'!$A$2,Listes!$1:$1,0),0) -> A
B9: 213-Respect de la sectorisation par catégorie des produits stockés | C9: =VLOOKUP(B9,Listes!$A$1:$D$129,MATCH('Trimestre 1 (2)'!$A$2,Listes!$1:$1,0),0) -> A
B10: 214-Stockage des produits hors sol | C10: =VLOOKUP(B10,Listes!$A$1:$D$129,MATCH('Trimestre 1 (2)'!$A$2,Listes!$1:$1,0),0) -> A
B11: 217 - Stockage satisfaisant des conditionnements et emballages | C11: =VLOOKUP(B11,Listes!$A$1:$D$129,MATCH('Trimestre 1 (2)'!$A$2,Listes!$1:$1,0),0) -> A
B12: 218 - Protection satisfaisante des produits | C12: =VLOOKUP(B12,Listes!$A$1:$D$129,MATCH('Trimestre 1 (2)'!$A$2,Listes!$1:$1,0),0) -> A
B13: 219 - Rotation des produits selon principe du FIFO | C13: =VLOOKUP(B13,Listes!$A$1:$D$129,MATCH('Trimestre 1 (2)'!$A$2,Listes!$1:$1,0),0) -> A
B14: 220 - Respect des DLC | C14: =VLOOKUP(B14,Listes!$A$1:$D$129,MATCH('Trimestre 1 (2)'!$A$2,Listes!$1:$1,0),0) -> C
... B129: 124-Nombre d'analyses de surface satisfaisantes | C129: =VLOOKUP(B129,Listes!$A$1:$D$129,MATCH('Trimestre 1 (2)'!$A$2,Listes!$1:$1,0),0) -> A

Sheet Listes
B1: antibes | C1: cannes | D1: nice
A2: CHAP 1 Réception
A3: Respect de la procédure de contrôle réception (fréquence, méthode, enregistrement, conclusion) | B3: C | C3: A | D3: B
A4: 112-Présence d'un thermomètre en bon état vérifié et accessible en réception | B4: A | C4: A | D4: x
A5: 113 - Conformité des matières 1ères livrées (T°, date, étiquetage, emballage…) et traitement des non conformes | B5: A | C5: A | D5: A
A6: CHAP 2 Stockage
A7: 211 - Déballage-décartonnage des matières 1ères en zone pré-définie, en absence d'enceintes froides spécifiques | B7: A | C7: A | D7: B
A8: 212-Respect des conditions d'élimination des emballages-cartons | B8: A | C8: A | D8: A
A9: 213-Respect de la sectorisation par catégorie des produits stockés | B9: A | C9: A | D9: A
A10: 214-Stockage des produits hors sol | B10: B | C10: A | D10: A
A11: 217 - Stockage satisfaisant des conditionnements et emballages | B11: A | C11: A | D11: A
A12: 218 - Protection satisfaisante des produits | B12: A | C12: A | D12: A
A13: 219 - Rotation des produits selon principe du FIFO | B13: A | C13: A | D13: A
A14: 220 - Respect des DLC | B14: A | C14: C | D14: A
A15: 221 - Respect des DDM | B15: A | C15: 9.2 | D15: C
A16: 222-Respect des règles de congélation des denrées sur place | B16: A | C16: A | D16: 9.2
A17: 223- Respect de la procédure de contrôle des enceintes réfrigérées (fréquence, méthode, enregistrement, conclusion) | B17: A | C17: -19.7 | D17: A
A18: 225 -Maîtrise des T° des enceintes frigorifiques positives | B18: C | C18: 0 | D18: -19.7
A19: 226- Température relevée en froid positif: | B19: 9.2 | C19: A | D19: 0
A20: 227- Maîtrise des T° des enceintes frigorifiques négatives | B20: A | C20: A | D20: A
A21: 228 -Température relevée en froid négatif: | B21: -19.7 | C21: A | D21: A
A22: CHAP 3 Prétraitement
A23: 311-Intégrité satisfaisante des boîtages | B23: A | C23: A | D23: A
A24: 312 -Respect des bonnes pratiques de déconditionnement (déboîtage, dessouvidage…) | B24: A | C24: A | D24: A
A25: 313-Respect des bonnes pratiques de décongélation | B25: A | C25: A | D25: A
A26: 314-Respect du protocole de décontamination des végétaux | B26: A | C26: A | D26: A
A27: 315-Respect des bonnes pratiques de rinçage/égouttage | B27: A | C27: A | D27: A
A28: 317-Maîtrise des temps d'attente hors froid | B28: A | C28: 0 | D28: A
A29: 319-Maîtrise des éléments de traçabilité des produits déconditionnés et décongelés(étiquette d'origine, identification...) | B29: A | C29: A | D29: 0
A30: 320- Respect des durée de vie maxi des matières 1ères déconditionnés | B30: A | C30: A | D30: A
A31: 321- Respect des durée de vie maxi des matières 1ères décongelées | B31: A | C31: A | D31: A
A32: CHAP 4 Préparation froide
A33: 412- Respect de la séparation du tranchage poissons / légumes | B33: A | C33: 3.9 | D33: B
A34: 413- Séparation satisfaisante des produits bruts et cuits | B34: A | C34: A | D34: 3.9
A35: 416- Maîtrise des temps d'attente hors froid | B35: A | C35: A | D35: A
A36: 417- Conformité des T°C des préparations froides | B36: B | C36: 0 | D36: A
A37: 418- Température relévée des préparations froides : | B37: 3.9 | C37: 0 | D37: 0
A38: 419- Identification des durées de vie maxi des encours ou produits finis si utilisation différée | B38: A | C38: 0 | D38: 0
A39: 420- Respect des durées de vie maxi des encours ou produits finis | B39: A | C39: A | D39: 0
A40: CHAP 5 Préparation chaude
A41: 524-Respect de la procédure de contrôle des huiles (fréquence, méthode, enregistrement, conclusion) | B41: 0 | C41: 0 | D41: A
A42: 525-Qualité satisfaisante des huiles de friture | B42: 0 | C42: A | D42: 0
A43: 528-Suivi et enregistrement des produits cuits | B43: A | C43: A | D43: A
A44: 529-Enregistrement du pH du riz vinaigré sur chaque lot | B44: A | C44: A | D44: A
A45: CHAP 6 DISTRIBUTION - LIBRE SERVICE
A46: 612-Protection satisfaisante des produits présentés au service | B46: A | C46: 3.6 | D46: A
A47: 616-Présence d'un support d'information visible et lisible sur les produits ayant subi une décongélation | B47: A | C47: 0 | D47: 3.6
A48: 617-Conformité des T° des meubles de distribution en froid | B48: A | C48: 0 | D48: 0
A49: 618-T° de présentation compatible pour les préparations froides | B49: A | C49: A | D49: 0
A50: 619-Température relévée des préparations froides : | B50: 3.6 | C50: A | D50: A
A51: 621-T° de présentation compatible pour les préparations chaudes | B51: 0 | C51: A | D51: A
A52: 622-Température relévée des préparations chaudes : | B52: 0 | C52: C | D52: A
A53: 623-Respect des règles de recyclage des excédents | B53: A | C53: A | D53: C
A54: 625-Identification des durées de vie maxi des excédents | B54: A | C54: A | D54: A
A55: 636-Présence de thermomètres de contrôle en état de fonctionnement sur chaque meuble froid | B55: A | C55: A | D55: A
A56: 637-Respect des limites de chargement des meubles | B56: C | C56: A | D56: A
A57: 638-Respect des DLC des produits à la vente | B57: A | C57: 0 | D57: A
A58: 639-Respect des DDM des produits à la vente | B58: A | C58: A | D58: 0
A59: 640-Conformité de l'étiquetage des produits vendus en LS | B59: A | C59: A | D59: A
A60: 641-Existence d'un support, accessible à tout moment aux consommateurs, indiquant les allergènes présents dans les produits servis. | B60: A | C60: A | D60: A
A61: CHAP 7 Préparation Commande / Livraison
A62: 713-Respect des DLC/DLUO des repas livrés | B62: A | C62: A | D62: 0
A63: 715-Maîtrise de la chaîne du froid lors de la préparation commande / livraison | B63: A | C63: A | D63: A
A64: 716-Propreté des véhicules de livraison | B64: A | C64: B | D64: A
A65: CHAP 8 Hygiène du personnel
A66: 811-Tenue de travail conforme, propre et adaptée au poste | B66: A | C66: A | D66: A
A67: 812-Usage correct des gants | B67: A | C67: A | D67: A
A68: 813-Lave mains conformes, approvisionnés et accessibles | B68: B | C68: A | D68: A
A69: 814-Respect de la procédure de lavage des mains (fréquence, modalités) | B69: A | C69: A | D69: A
A70: 815-Protection satisfaisante des plaies et infections | B70: A | C70: A | D70: A
A71: 816-Comportement adapté contre les risques de contamination des denrées | B71: A | C71: A | D71: A
A72: 817-Propreté corporelle et absence de bijoux | B72: A | C72: C | D72: A
A73: 818-Connaissance par le personnel des Bonnes Pratiques d'Hygiène et procédures HACCP | B73: A | C73: A | D73: C
A74: 819-Respect de l'interdiction de manger et fumer dans les lieux de travail | B74: A | C74: 0 | D74: A
A75: 820-Gestion satisfaisante du stockage du linge propre et sale | B75: A | C75: B | D75: 0
A76: 821-Conformité de l'armoire à pharmacie | B76: C | C76: A | D76: B
A77: 822-Présence de tenues à usage unique pour les visiteurs | B77: A | C77: A | D77: A
A78: CHAP 9 Organisation générale et maintenance
A79: 911-Absence de dégradation des locaux et équipements pouvant avoir une incidence directe sur la salubrité des aliments | B79: B | C79: A | D79: A
A80: 912-Respect des circuits denrées, personnel, déchets | B80: A | C80: A | D80: A
A81: 914-Absence de traces de ravageurs et nuisibles dans les locaux | B81: A | C81: 0 | D81: A
A82: 915-Absence de risques d'infestation par les locaux et équipements (ex : fermeture des portes extérieures, moustiquaires aux fenêtres) | B82: A | C82: 0 | D82: 0
A83: 918-Maîtrise des risques chimiques (ex : absence de produits lessiviels en surplomb de denrées, maîtrise des dosage de produits d'entretien) | B83: A | C83: A | D83: 0
A84: 920-Entreposage isolé des produits d'entretien et matériels de nettoyage | B84: A | C84: A | D84: A
A85: CHAP 10 Entretien des locaux et matériels
A86: CHAP 10.1 Méthode | B86: 0 | C86: A | D86: A
A87: 1011-Présence et respect du planning de nettoyage | B87: A | C87: A | D87: A
A88: 1012-Suivi du respect du planning de nettoyage | B88: A | C88: A | D88: A
A89: 1013-Présence de produits de nettoyage et de désinfection adaptés et référencés | B89: A | C89: A | D89: A
A90: 1014-Bonne affectation des produits d'entretien : 1 type de salissure = 1 type de surface = 1 produit d'entretien | B90: A | C90: 0 | D90: A
A91: 1015-Équipements en matériels de nettoyage conforme et adapté aux besoins | B91: A | C91: B | D91: 0
A92: 1016-Respect du TACT (T: temps d'action, A: action mécanique, C: concentration, T: température), | B92: A | C92: B | D92: B
A93: 1017-Utilisation de matériel de nettoyage adapté et propre | B93: A | C93: C | D93: B
A94: CHAP 10.2 Entretien des locaux | B94: 0 | C94: A | D94: C
A95: 1021-Propreté et rangement des locaux en zones non alimentaires (réception, locaux communs) | B95: B | C95: C | D95: A
A96: 1022-Propreté et rangement des locaux des zones alimentaires (ex : locaux de fabrication) | B96: B | C96: B | D96: C
A97: 1023-Propreté et rangement des vestiaires et sanitaires du personnel | B97: C | C97: 0 | D97: B
A98: 1024-Maîtrise des conditions d'évacuation des déchets en zones de préparation | B98: A | C98: B | D98: 0
A99: 1025-Maîtrise des conditions de stockage des déchets en zones de préparation | B99: C | C99: A | D99: B
A100: 1026-Entreposage des déchets dans local isolé, propre et aéré | B100: B | C100: A | D100: A
...
