Workbook
Name Année: '[1]Auto plan audit trimestrielle '!#REF!
Name Année: '[1]Auto plan audit trimestrielle '!#REF!
Name Années2: '[1]BDD automatisation '!#REF!
Name Années2: '[1]BDD automatisation '!#REF!
Name antibes: Listes!$B$2:$B$129
Name cannes: Listes!$C$2:$C$129
Name nice: Listes!$D$3:$D$129
Name Shops: '[1]BDD automatisation '!$A$2:$A$151
Name Trimestre: '[1]Auto plan audit trimestrielle '!#REF!
Name Trimestre: '[1]Auto plan audit trimestrielle '!#REF!
Name Trimestres: '[1]BDD automatisation '!#REF!
Name Trimestres: '[1]BDD automatisation '!#REF!

Sheet Trimestre 1 (2)
A1: Shop | B1: N° et Libéllé Item | C1: Evaluation (+ couleur de l'item)
A2: cannes | B2: CHAP 1 Réception
B3: Respect de la procédure de contrôle réception (fréquence, méthode, enregistrement, conclusion) | C3: =VLOOKUP(B3,Listes!$A$1:$D$129,MATCH('Trimestre 1 (2)'!$A$2,Listes!$1:$1,0),0) -> A
B4: 112-Présence d'un thermomètre en bon état vérifié et accessible en réception | C4: =VLOOKUP(B4,Listes!$A$1:$D$129,MATCH('Trimestre 1 (2)'!$A$2,Listes!$1:$1,0),0) -> A
B5: 113 - Conformité des matières 1ères livrées (T°, date, étiquetage, emballage…) et traitement des non conformes | C5: =VLOOKUP(B5,Listes!$A$1:$D$129,MATCH('Trimestre 1 (2)'!$A$2,Listes!$1:$1,0),0) -> A
B6: CHAP 2 Stockage | C6: =VLOOKUP(B6,Listes!$A$1:$D$129,MATCH('Trimestre 1 (2)'!$A$2,Listes!$1:$1,0),0) -> 0
B7: 211 - Déballage-décartonnage des matières 1ères en zone pré-définie, en absence d'enceintes froides spécifiques | C7: =VLOOKUP(B7,Listes!$A$1:$D$129,MATCH('Trimestre 1 (2)'!$A$2,Listes!$1:$1,0),0) -> A
B8: 212-Respect des conditions d'élimination des emballages-cartons | C8: =VLOOKUP(B8,Listes!$A$1:$D$129,MATCH('Trimestre 1 (2)'!$A$2,Listes!$1:$1,0),0) -> A
B9: 213-Respect de la sectorisation par catégorie des produits stockés | C9: =VLOOKUP(B9,Listes!$A$1:$D$129,MATCH('Trimestre 1 (2)'!$A$2,Listes!$1:$1,0),0) -> A
B10: 214-Stockage des produits hors sol | C10: =VLOOKUP(B10,Listes!$A$1:$D$129,MATCH('Trimestre 1 (2)'!$A$2,Listes!$1:$1,0),0) -> A
B11: 217 - Stockage satisfaisant des conditionnements et emballages | C11: =VLOOKUP(B11,Listes!$A$1:$D$129,MATCH('Trimestre 1 (2)'!$A$2,Listes!$1:$1,0),0) -> A
B12: 218 - Protection satisfaisante des produits | C12: =VLOOKUP(B12,Listes!$A$1:$D$129,MATCH('Trimestre 1 (2)'!$A$2,Listes!$1:$1,0),0) -> A
B13: 219 - Rotation des produits selon principe du FIFO | C13: =VLOOKUP(B13,Listes!$A$1:$D$129,MATCH('Trimestre 1 (2)'!$A$2,Listes!$1:$1,0),0) -> A
B14: 220 - Respect des DLC | C14: =VLOOKUP(B14,Listes!$A$1:$D$129,MATCH('Trimestre 1 (2)'!$A$2,Listes!$1:$1,0),0) -> C
... B129: 124-Nombre d'analyses de surface satisfaisantes | C129: =VLOOKUP(B129,Listes!$A$1:$D$129,MATCH('Trimestre 1 (2)'!$A$2,Listes!$1:$1,0),0) -> A

Sheet Listes
B1: antibes | C1: cannes | D1: nice
A2: CHAP 1 Réception
A3: Respect de la procédure de contrôle réception (fréquence, méthode, enregistrement, conclusion) | B3: C | C3: A | D3: B
A4: 112-Présence d'un thermomètre en bon état vérifié et accessible en réception | B4: A | C4: A | D4: x
A5: 113 - Conformité des matières 1ères livrées (T°, date, étiquetage, emballage…) et traitement des non conformes | B5: A | C5: A | D5: A
A6: CHAP 2 Stockage
A7: 211 - Déballage-décartonnage des matières 1ères en zone pré-définie, en absence d'enceintes froides spécifiques | B7: A | C7: A | D7: B
A8: 212-Respect des conditions d'élimination des emballages-cartons | B8: A | C8: A | D8: A
A9: 213-Respect de la sectorisation par catégorie des produits stockés | B9: A | C9: A | D9: A
A10: 214-Stockage des produits hors sol | B10: B | C10: A | D10: A
A11: 217 - Stockage satisfaisant des conditionnements et emballages | B11: A | C11: A | D11: A
A12: 218 - Protection satisfaisante des produits | B12: A | C12: A | D12: A
A13: 219 - Rotation des produits selon principe du FIFO | B13: A | C13: A | D13: A
A14: 220 - Respect des DLC | B14: A | C14: C | D14: A
A15: 221 - Respect des DDM | B15: A | C15: 9.2 | D15: C
A16: 222-Respect des règles de congélation des denrées sur place | B16: A | C16: A | D16: 9.2
A17: 223- Respect de la procédure de contrôle des enceintes réfrigérées (fréquence, méthode, enregistrement, conclusion) | B17: A | C17: -19.7 | D17: A
A18: 225 -Maîtrise des T° des enceintes frigorifiques positives | B18: C | C18: 0 | D18: -19.7
A19: 226- Température relevée en froid positif: | B19: 9.2 | C19: A | D19: 0
A20: 227- Maîtrise des T° des enceintes frigorifiques négatives | B20: A | C20: A | D20: A
A21: 228 -Température relevée en froid négatif: | B21: -19.7 | C21: A | D21: A
A22: CHAP 3 Prétraitement
A23: 311-Intégrité satisfaisante des boîtages | B23: A | C23: A | D23: A
A24: 312 -Respect des bonnes pratiques de déconditionnement (déboîtage, dessouvidage…) | B24: A | C24: A | D24: A
A25: 313-Respect des bonnes pratiques de décongélation | B25: A | C25: A | D25: A
A26: 314-Respect du protocole de décontamination des végétaux | B26: A | C26: A | D26: A
A27: 315-Respect des bonnes pratiques de rinçage/égouttage | B27: A | C27: A | D27: A
A28: 317-Maîtrise des temps d'attente hors froid | B28: A | C28: 0 | D28: A
A29: 319-Maîtrise des éléments de traçabilité des produits déconditionnés et décongelés(étiquette d'origine, identification...) | B29: A | C29: A | D29: 0
A30: 320- Respect des durée de vie maxi des matières 1ères déconditionnés | B30: A | C30: A | D30: A
A31: 321- Respect des durée de vie maxi des matières 1ères décongelées | B31: A | C31: A | D31: A
A32: CHAP 4 Préparation froide
A33: 412- Respect de la séparation du tranchage poissons / légumes | B33: A | C33: 3.9 | D33: B
A34: 413- Séparation satisfaisante des produits bruts et cuits | B34: A | C34: A | D34: 3.9
A35: 416- Maîtrise des temps d'attente hors froid | B35: A | C35: A | D35: A
A36: 417- Conformité des T°C des préparations froides | B36: B | C36: 0 | D36: A
A37: 418- Température relévée des préparations froides : | B37: 3.9 | C37: 0 | D37: 0
A38: 419- Identification des durées de vie maxi des encours ou produits finis si utilisation différée | B38: A | C38: 0 | D38: 0
A39: 420- Respect des durées de vie maxi des encours ou produits finis | B39: A | C39: A | D39: 0
A40: CHAP 5 Préparation chaude
...
