Workbook

Sheet SUIVI 2018
A1: N°* | B1: REF CLIENT* | C1: N°ORDRE* | D1: DP* | E1: DATE CHGT* | F1: EXPEDITEUR* | G1: PAYS DEP* | H1: CP DEP* | I1: VILLE DEP* | J1: DATE LIV* | K1: DESTINATAIRE* | L1: PAYS ARR* | M1: CP ARR | N1: VILLE ARR* | O1: Kms / Transit | P1: GES / Transit | Q1: NB PAL* | R1: NB PAL SOL | S1: FORMAT* | T1: POIDS (kgs)* | U1: VENTE H.T* | V1: N° Facture TOOL* | W1: ACHAT* | X1: MARGE H.T | Y1: AFFRETE 1* | Z1: AFFRETE 2* | AA1: ANOMALIE (X) | AB1: OBSERVATIONS* | AC1: NB Transits
A2: 1 | E2: 43103 | H2: 76 | J2: 43108 | M2: 08 | O2: =IF(ISBLANK(M2),"",SUMPRODUCT(('[1]Taux de GES'!$A$2:$A$35='[1]SUIVI 2018'!H2)*('[1]Taux de GES'!$B$2:$B$35='[1]SUIVI 2018'!M2)*('[1]Taux de GES'!$C$2:$C$35))) -> 1189 | P2: =IFERROR(O2*'[1]Taux de GES'!$F$3," ") -> 69.4376 | AC2: 1
A3: 1 | E3: 43103 | H3: 76 | J3: 43108 | M3: 08 | O3: =IF(ISBLANK(M3),0,IF(A3=A2,0,SUMPRODUCT(('[1]Taux de GES'!$A$2:$A$35='[1]SUIVI 2018'!H3)*('[1]Taux de GES'!$B$2:$B$35='[1]SUIVI 2018'!M3)*('[1]Taux de GES'!$C$2:$C$35)))) -> 0 | P3: =IFERROR(O3*'[1]Taux de GES'!$F$3," ") -> 0 | AC3: =IF(A3=A2, 0,1+AC2) -> 0
A4: 1 | E4: 43103 | H4: 76 | J4: 43108 | M4: 08 | O4: =IF(ISBLANK(M4),0,IF(A4=A3,0,SUMPRODUCT(('[1]Taux de GES'!$A$2:$A$35='[1]SUIVI 2018'!H4)*('[1]Taux de GES'!$B$2:$B$35='[1]SUIVI 2018'!M4)*('[1]Taux de GES'!$C$2:$C$35)))) -> 0 | P4: =IFERROR(O4*'[1]Taux de GES'!$F$3," ") -> 0 | AC4: =IF(A4=A3, 0,1+AC3) -> 0
A5: 2 | E5: 43103 | H5: 76 | J5: 43108 | M5: 08 | O5: =IF(ISBLANK(M5),0,IF(A5=A4,0,SUMPRODUCT(('[1]Taux de GES'!$A$2:$A$35='[1]SUIVI 2018'!H5)*('[1]Taux de GES'!$B$2:$B$35='[1]SUIVI 2018'!M5)*('[1]Taux de GES'!$C$2:$C$35)))) -> 1189 | P5: =IFERROR(O5*'[1]Taux de GES'!$F$3," ") -> 69.4376 | AC5: =IF(A5=A4, 0,1) -> 1
A6: 2 | E6: 43104 | H6: 76 | J6: 43109 | M6: 08 | O6: =IF(ISBLANK(M6),0,IF(A6=A5,0,SUMPRODUCT(('[1]Taux de GES'!$A$2:$A$35='[1]SUIVI 2018'!H6)*('[1]Taux de GES'!$B$2:$B$35='[1]SUIVI 2018'!M6)*('[1]Taux de GES'!$C$2:$C$35)))) -> 0 | P6: =IFERROR(O6*'[1]Taux de GES'!$F$3," ") -> 0 | AC6: =IF(A6=A5, 0,1) -> 0
A7: 3 | E7: 43108 | H7: 58 | J7: 43110 | M7: 76 | O7: =IF(ISBLANK(M7),0,IF(A7=A6,0,SUMPRODUCT(('[1]Taux de GES'!$A$2:$A$35='[1]SUIVI 2018'!H7)*('[1]Taux de GES'!$B$2:$B$35='[1]SUIVI 2018'!M7)*('[1]Taux de GES'!$C$2:$C$35)))) -> 1538 | P7: =IFERROR(O7*'[1]Taux de GES'!$F$3," ") -> 89.8192 | AC7: =IF(A7=A6, 0,1) -> 1
A8: 4 | E8: 43102 | H8: 76 | J8: 43108 | M8: 08 | O8: =IF(ISBLANK(M8),0,IF(A8=A7,0,SUMPRODUCT(('[1]Taux de GES'!$A$2:$A$35='[1]SUIVI 2018'!H8)*('[1]Taux de GES'!$B$2:$B$35='[1]SUIVI 2018'!M8)*('[1]Taux de GES'!$C$2:$C$35)))) -> 1189 | P8: =IFERROR(O8*'[1]Taux de GES'!$F$3," ") -> 69.4376 | AC8: =IF(A8=A7, 0,1) -> 1
A9: 4 | E9: 43103 | H9: 76 | J9: 43108 | M9: 08 | O9: =IF(ISBLANK(M9),0,IF(A9=A8,0,SUMPRODUCT(('[1]Taux de GES'!$A$2:$A$35='[1]SUIVI 2018'!H9)*('[1]Taux de GES'!$B$2:$B$35='[1]SUIVI 2018'!M9)*('[1]Taux de GES'!$C$2:$C$35)))) -> 0 | P9: =IFERROR(O9*'[1]Taux de GES'!$F$3," ") -> 0 | AC9: =IF(A9=A8, 0,1) -> 0
A10: 4 | E10: 43103 | H10: 76 | J10: 43108 | M10: 08 | O10: =IF(ISBLANK(M10),0,IF(A10=A9,0,SUMPRODUCT(('[1]Taux de GES'!$A$2:$A$35='[1]SUIVI 2018'!H10)*('[1]Taux de GES'!$B$2:$B$35='[1]SUIVI 2018'!M10)*('[1]Taux de GES'!$C$2:$C$35)))) -> 0 | P10: =IFERROR(O10*'[1]Taux de GES'!$F$3," ") -> 0 | AC10: =IF(A10=A9, 0,1) -> 0
A11: 5 | E11: 43105 | H11: 76 | J11: 43108 | M11: STOCK | O11: =IF(ISBLANK(M11),0,IF(A11=A10,0,SUMPRODUCT(('[1]Taux de GES'!$A$2:$A$35='[1]SUIVI 2018'!H11)*('[1]Taux de GES'!$B$2:$B$35='[1]SUIVI 2018'!M11)*('[1]Taux de GES'!$C$2:$C$35)))) -> 1171 | P11: =IFERROR(O11*'[1]Taux de GES'!$F$3," ") -> 68.3864 | AC11: =IF(A11=A10, 0,1) -> 1
A12: 6 | E12: 43104 | H12: STOCK | J12: 43105 | M12: 08 | O12: =IF(ISBLANK(M12),0,IF(A12=A11,0,SUMPRODUCT(('[1]Taux de GES'!$A$2:$A$35='[1]SUIVI 2018'!H12)*('[1]Taux de GES'!$B$2:$B$35='[1]SUIVI 2018'!M12)*('[1]Taux de GES'!$C$2:$C$35)))) -> 25.5 | P12: =IFERROR(O12*'[1]Taux de GES'!$F$3," ") -> 1.4892 | AC12: =IF(A12=A11, 0,1) -> 1
A13: 7 | E13: 43102 | H13: STOCK | J13: 43103 | M13: 08 | O13: =IF(ISBLANK(M13),0,IF(A13=A12,0,SUMPRODUCT(('[1]Taux de GES'!$A$2:$A$35='[1]SUIVI 2018'!H13)*('[1]Taux de GES'!$B$2:$B$35='[1]SUIVI 2018'!M13)*('[1]Taux de GES'!$C$2:$C$35)))) -> 25.5 | P13: =IFERROR(O13*'[1]Taux de GES'!$F$3," ") -> 1.4892 | AC13: =IF(A13=A12, 0,1) -> 1
A14: 8 | E14: 43102 | H14: STOCK | J14: 43103 | M14: 08 | O14: =IF(ISBLANK(M14),0,IF(A14=A13,0,SUMPRODUCT(('[1]Taux de GES'!$A$2:$A$35='[1]SUIVI 2018'!H14)*('[1]Taux de GES'!$B$2:$B$35='[1]SUIVI 2018'!M14)*('[1]Taux de GES'!$C$2:$C$35)))) -> 25.5 | P14: =IFERROR(O14*'[1]Taux de GES'!$F$3," ") -> 1.4892 | AC14: =IF(A14=A13, 0,1) -> 1
A15: 8 | E15: 43102 | H15: STOCK | J15: 43103 | M15: 08 | O15: =IF(ISBLANK(M15),0,IF(A15=A14,0,SUMPRODUCT(('[1]Taux de GES'!$A$2:$A$35='[1]SUIVI 2018'!H15)*('[1]Taux de GES'!$B$2:$B$35='[1]SUIVI 2018'!M15)*('[1]Taux de GES'!$C$2:$C$35)))) -> 0 | P15: =IFERROR(O15*'[1]Taux de GES'!$F$3," ") -> 0 | AC15: =IF(A15=A14, 0,1) -> 0
A16: 9 | E16: 43103 | H16: 08 | J16: 43110 | M16: 76 | O16: =IF(ISBLANK(M16),0,IF(A16=A15,0,SUMPRODUCT(('[1]Taux de GES'!$A$2:$A$35='[1]SUIVI 2018'!H16)*('[1]Taux de GES'!$B$2:$B$35='[1]SUIVI 2018'!M16)*('[1]Taux de GES'!$C$2:$C$35)))) -> 1189 | P16: =IFERROR(O16*'[1]Taux de GES'!$F$3," ") -> 69.4376 | AC16: =IF(A16=A15, 0,1) -> 1
... A117: 70 | E117: 43124 | H117: 08 | J117: 43131 | M117: 76 | O117: =IF(ISBLANK(M117),0,IF(A117=A116,0,SUMPRODUCT(('[1]Taux de GES'!$A$2:$A$35='[1]SUIVI 2018'!H117)*('[1]Taux de GES'!$B$2:$B$35='[1]SUIVI 2018'!M117)*('[1]Taux de GES'!$C$2:$C$35)))) -> 1189 | P117: =IFERROR(O117*'[1]Taux de GES'!$F$3," ") -> 69.4376 | AC117: =IF(A117=A116, 0,1) -> 1
A118: 70 | O118: =IF(ISBLANK(M118),0,IF(A118=A117,0,SUMPRODUCT(('[1]Taux de GES'!$A$2:$A$35='[1]SUIVI 2018'!H118)*('[1]Taux de GES'!$B$2:$B$35='[1]SUIVI 2018'!M118)*('[1]Taux de GES'!$C$2:$C$35)))) -> 0 | P118: =IFERROR(O118*'[1]Taux de GES'!$F$3," ") -> 0 | AC118: =IF(A118=A117, 0,1) -> 0
A119: 71 | E119: 43126 | H119: 58 | J119: 43129 | M119: 76 | O119: =IF(ISBLANK(M119),0,IF(A119=A118,0,SUMPRODUCT(('[1]Taux de GES'!$A$2:$A$35='[1]SUIVI 2018'!H119)*('[1]Taux de GES'!$B$2:$B$35='[1]SUIVI 2018'!M119)*('[1]Taux de GES'!$C$2:$C$35)))) -> 1538 | P119: =IFERROR(O119*'[1]Taux de GES'!$F$3," ") -> 89.8192 | AC119: =IF(A119=A118, 0,1) -> 1
A120: 72 | E120: 43125 | H120: 76 | J120: 43129 | M120: 28 | O120: =IF(ISBLANK(M120),0,IF(A120=A119,0,SUMPRODUCT(('[1]Taux de GES'!$A$2:$A$35='[1]SUIVI 2018'!H120)*('[1]Taux de GES'!$B$2:$B$35='[1]SUIVI 2018'!M120)*('[1]Taux de GES'!$C$2:$C$35)))) -> 1427 | P120: =IFERROR(O120*'[1]Taux de GES'!$F$3," ") -> 83.3368 | AC120: =IF(A120=A119, 0,1) -> 1
A121: 72 | E121: 43125 | H121: 76 | J121: 43129 | M121: 28 | O121: =IF(ISBLANK(M121),0,IF(A121=A120,0,SUMPRODUCT(('[1]Taux de GES'!$A$2:$A$35='[1]SUIVI 2018'!H121)*('[1]Taux de GES'!$B$2:$B$35='[1]SUIVI 2018'!M121)*('[1]Taux de GES'!$C$2:$C$35)))) -> 0 | P121: =IFERROR(O121*'[1]Taux de GES'!$F$3," ") -> 0 | AC121: =IF(A121=A120, 0,1) -> 0
A122: 72 | E122: 43125 | H122: 76 | J122: 43129 | M122: 28 | O122: =IF(ISBLANK(M122),0,IF(A122=A121,0,SUMPRODUCT(('[1]Taux de GES'!$A$2:$A$35='[1]SUIVI 2018'!H122)*('[1]Taux de GES'!$B$2:$B$35='[1]SUIVI 2018'!M122)*('[1]Taux de GES'!$C$2:$C$35)))) -> 0 | P122: =IFERROR(O122*'[1]Taux de GES'!$F$3," ") -> 0 | AC122: =IF(A122=A121, 0,1) -> 0
A123: 73 | E123: 43129 | H123: STOCK | J123: 43130 | M123: 08 | O123: =IF(ISBLANK(M123),0,IF(A123=A122,0,SUMPRODUCT(('[1]Taux de GES'!$A$2:$A$35='[1]SUIVI 2018'!H123)*('[1]Taux de GES'!$B$2:$B$35='[1]SUIVI 2018'!M123)*('[1]Taux de GES'!$C$2:$C$35)))) -> 25.5 | P123: =IFERROR(O123*'[1]Taux de GES'!$F$3," ") -> 1.4892 | AC123: =IF(A123=A122, 0,1) -> 1
A124: 73 | E124: 43129 | H124: STOCK | J124: 43130 | M124: 08 | O124: =IF(ISBLANK(M124),0,IF(A124=A123,0,SUMPRODUCT(('[1]Taux de GES'!$A$2:$A$35='[1]SUIVI 2018'!H124)*('[1]Taux de GES'!$B$2:$B$35='[1]SUIVI 2018'!M124)*('[1]Taux de GES'!$C$2:$C$35)))) -> 0 | P124: =IFERROR(O124*'[1]Taux de GES'!$F$3," ") -> 0 | AC124: =IF(A124=A123, 0,1) -> 0
A125: 73 | E125: 43129 | H125: STOCK | J125: 43130 | M125: 08 | O125: =IF(ISBLANK(M125),0,IF(A125=A124,0,SUMPRODUCT(('[1]Taux de GES'!$A$2:$A$35='[1]SUIVI 2018'!H125)*('[1]Taux de GES'!$B$2:$B$35='[1]SUIVI 2018'!M125)*('[1]Taux de GES'!$C$2:$C$35)))) -> 0 | P125: =IFERROR(O125*'[1]Taux de GES'!$F$3," ") -> 0 | AC125: =IF(A125=A124, 0,1) -> 0
A126: 73 | E126: 43129 | H126: STOCK | J126: 43130 | M126: 08 | O126: =IF(ISBLANK(M126),0,IF(A126=A125,0,SUMPRODUCT(('[1]Taux de GES'!$A$2:$A$35='[1]SUIVI 2018'!H126)*('[1]Taux de GES'!$B$2:$B$35='[1]SUIVI 2018'!M126)*('[1]Taux de GES'!$C$2:$C$35)))) -> 0 | P126: =IFERROR(O126*'[1]Taux de GES'!$F$3," ") -> 0 | AC126: =IF(A126=A125, 0,1) -> 0
A127: 74 | E127: 43129 | H127: STOCK | J127: 43130 | M127: 08 | O127: =IF(ISBLANK(M127),0,IF(A127=A126,0,SUMPRODUCT(('[1]Taux de GES'!$A$2:$A$35='[1]SUIVI 2018'!H127)*('[1]Taux de GES'!$B$2:$B$35='[1]SUIVI 2018'!M127)*('[1]Taux de GES'!$C$2:$C$35)))) -> 25.5 | P127: =IFERROR(O127*'[1]Taux de GES'!$F$3," ") -> 1.4892 | AC127: =IF(A127=A126, 0,1) -> 1
A128: 75 | E128: 43129 | H128: 76 | J128: 43132 | M128: 08 | O128: =IF(ISBLANK(M128),0,IF(A128=A127,0,SUMPRODUCT(('[1]Taux de GES'!$A$2:$A$35='[1]SUIVI 2018'!H128)*('[1]Taux de GES'!$B$2:$B$35='[1]SUIVI 2018'!M128)*('[1]Taux de GES'!$C$2:$C$35)))) -> 1189 | P128: =IFERROR(O128*'[1]Taux de GES'!$F$3," ") -> 69.4376 | AC128: =IF(A128=A127, 0,1) -> 1
A129: 75 | E129: 43129 | H129: 76 | J129: 43132 | M129: 08 | O129: =IF(ISBLANK(M129),0,IF(A129=A128,0,SUMPRODUCT(('[1]Taux de GES'!$A$2:$A$35='[1]SUIVI 2018'!H129)*('[1]Taux de GES'!$B$2:$B$35='[1]SUIVI 2018'!M129)*('[1]Taux de GES'!$C$2:$C$35)))) -> 0 | P129: =IFERROR(O129*'[1]Taux de GES'!$F$3," ") -> 0 | AC129: =IF(A129=A128, 0,1) -> 0
A130: 76 | E130: 43129 | H130: 76 | J130: 43132 | M130: 08 | O130: =IF(ISBLANK(M130),0,IF(A130=A129,0,SUMPRODUCT(('[1]Taux de GES'!$A$2:$A$35='[1]SUIVI 2018'!H130)*('[1]Taux de GES'!$B$2:$B$35='[1]SUIVI 2018'!M130)*('[1]Taux de GES'!$C$2:$C$35)))) -> 1189 | P130: =IFERROR(O130*'[1]Taux de GES'!$F$3," ") -> 69.4376 | AC130: =IF(A130=A129, 0,1) -> 1
... A160: 98 | E160: 43139 | H160: STOCK | J160: 43143 | M160: 43 | O160: =IF(ISBLANK(M160),0,IF(A160=A159,0,SUMPRODUCT(('[1]Taux de GES'!$A$2:$A$35='[1]SUIVI 2018'!H160)*('[1]Taux de GES'!$B$2:$B$35='[1]SUIVI 2018'!M160)*('[1]Taux de GES'!$C$2:$C$35)))) -> 0 | P160: =IFERROR(O160*'[1]Taux de GES'!$F$3," ") -> 0 | AC160: =IF(A160=A159, 0,1) -> 0
A161: 98 | O161: =IF(ISBLANK(M161),0,IF(A161=A160,0,SUMPRODUCT(('[1]Taux de GES'!$A$2:$A$35='[1]SUIVI 2018'!H161)*('[1]Taux de GES'!$B$2:$B$35='[1]SUIVI 2018'!M161)*('[1]Taux de GES'!$C$2:$C$35)))) -> 0 | P161: =IFERROR(O161*'[1]Taux de GES'!$F$3," ") -> 0 | AC161: =IF(A161=A160, 0,1) -> 0
A162: 99 | E162: 43143 | H162: STOCK | J162: 43144 | M162: 08 | O162: =IF(ISBLANK(M162),0,IF(A162=A161,0,SUMPRODUCT(('[1]Taux de GES'!$A$2:$A$35='[1]SUIVI 2018'!H162)*('[1]Taux de GES'!$B$2:$B$35='[1]SUIVI 2018'!M162)*('[1]Taux de GES'!$C$2:$C$35)))) -> 25.5 | P162: =IFERROR(O162*'[1]Taux de GES'!$F$3," ") -> 1.4892 | AC162: =IF(A162=A161, 0,1) -> 1
A163: 100 | E163: 43143 | H163: STOCK | J163: 43144 | M163: 08 | O163: =IF(ISBLANK(M163),0,IF(A163=A162,0,SUMPRODUCT(('[1]Taux de GES'!$A$2:$A$35='[1]SUIVI 2018'!H163)*('[1]Taux de GES'!$B$2:$B$35='[1]SUIVI 2018'!M163)*('[1]Taux de GES'!$C$2:$C$35)))) -> 25.5 | P163: =IFERROR(O163*'[1]Taux de GES'!$F$3," ") -> 1.4892 | AC163: =IF(A163=A162, 0,1) -> 1
A164: 100 | E164: 43143 | H164: STOCK | J164: 43144 | M164: 08 | O164: =IF(ISBLANK(M164),0,IF(A164=A163,0,SUMPRODUCT(('[1]Taux de GES'!$A$2:$A$35='[1]SUIVI 2018'!H164)*('[1]Taux de GES'!$B$2:$B$35='[1]SUIVI 2018'!M164)*('[1]Taux de GES'!$C$2:$C$35)))) -> 0 | P164: =IFERROR(O164*'[1]Taux de GES'!$F$3," ") -> 0 | AC164: =IF(A164=A163, 0,1) -> 0
A165: 100 | E165: 43143 | H165: STOCK | J165: 43144 | M165: 08 | O165: =IF(ISBLANK(M165),0,IF(A165=A164,0,SUMPRODUCT(('[1]Taux de GES'!$A$2:$A$35='[1]SUIVI 2018'!H165)*('[1]Taux de GES'!$B$2:$B$35='[1]SUIVI 2018'!M165)*('[1]Taux de GES'!$C$2:$C$35)))) -> 0 | P165: =IFERROR(O165*'[1]Taux de GES'!$F$3," ") -> 0 | AC165: =IF(A165=A164, 0,1) -> 0
A166: 100 | E166: 43143 | H166: STOCK | J166: 43144 | M166: 08 | O166: =IF(ISBLANK(M166),0,IF(A166=A165,0,SUMPRODUCT(('[1]Taux de GES'!$A$2:$A$35='[1]SUIVI 2018'!H166)*('[1]Taux de GES'!$B$2:$B$35='[1]SUIVI 2018'!M166)*('[1]Taux de GES'!$C$2:$C$35)))) -> 0 | P166: =IFERROR(O166*'[1]Taux de GES'!$F$3," ") -> 0 | AC166: =IF(A166=A165, 0,1) -> 0
A167: 101 | E167: 43139 | H167: 76 | J167: 43143 | M167: 08 | O167: =IF(ISBLANK(M167),0,IF(A167=A166,0,SUMPRODUCT(('[1]Taux de GES'!$A$2:$A$35='[1]SUIVI 2018'!H167)*('[1]Taux de GES'!$B$2:$B$35='[1]SUIVI 2018'!M167)*('[1]Taux de GES'!$C$2:$C$35)))) -> 1189 | P167: =IFERROR(O167*'[1]Taux de GES'!$F$3," ") -> 69.4376 | AC167: =IF(A167=A166, 0,1) -> 1
A168: 101 | E168: 43139 | H168: 76 | J168: 43143 | M168: 08 | O168: =IF(ISBLANK(M168),0,IF(A168=A167,0,SUMPRODUCT(('[1]Taux de GES'!$A$2:$A$35='[1]SUIVI 2018'!H168)*('[1]Taux de GES'!$B$2:$B$35='[1]SUIVI 2018'!M168)*('[1]Taux de GES'!$C$2:$C$35)))) -> 0 | P168: =IFERROR(O168*'[1]Taux de GES'!$F$3," ") -> 0 | AC168: =IF(A168=A167, 0,1) -> 0
A169: 102 | E169: 43140 | H169: 76 | J169: 43143 | M169: 28 | O169: =IF(ISBLANK(M169),0,IF(A169=A168,0,SUMPRODUCT(('[1]Taux de GES'!$A$2:$A$35='[1]SUIVI 2018'!H169)*('[1]Taux de GES'!$B$2:$B$35='[1]SUIVI 2018'!M169)*('[1]Taux de GES'!$C$2:$C$35)))) -> 1427 | P169: =IFERROR(O169*'[1]Taux de GES'!$F$3," ") -> 83.3368 | AC169: =IF(A169=A168, 0,1) -> 1
...

Sheet Taux de GES
A1: CP DEP | B1: CP ARR | C1: KMs | F1: Camion
A2: 45 | B2: STOCK | C2: 890 | E2: Indice Energie | F2: 0.7326
A3: 45 | B3: 08 | C3: 908 | E3: Indice GES (kg eq Co²) | F3: 0.0584
A4: 45 | B4: 28 | C4: 1124
A5: 45 | B5: 43 | C5: 989
A6: 76 | B6: STOCK | C6: 1171
A7: 76 | B7: 08 | C7: 1189
A8: 76 | B8: 28 | C8: 1427
A9: 76 | B9: 43 | C9: 1270
A10: 76 | B10: 39 | C10: 1127
A11: 76 | B11: 58 | C11: 1212
A12: 76 | B12: 59 | C12: 1265
A13: 76 | B13: 49 | C13: 378
A14: 76 | B14: 13 | C14: 1538
A15: 76 | B15: 61 | C15: 1025
... A35: 13 | B35: 76 | C35: 1538

Sheet TRANSITS ANNUELS
A1: 2018 | B1: CP DEP | C1: CP ARR | D1: 43101 | E1: 43132 | F1: 43160 | G1: 43191 | H1: 43221 | I1: 43252 | J1: 43282 | K1: 43313 | L1: 43344 | M1: 43374 | N1: 43405 | O1: 43435 | P1: Nombre de transits | Q1: Nombre de transits | R1: Share shipments | S1: CA/destination/an | T1: Share CA | U1: Achat | V1: Marge brute | W1: Km parcoururs
A2: TRANSITS SUIVANT LE LIEU DE DEPART/DESTINATION | B2: 45 | C2: STOCK | D2: =SUMPRODUCT(('SUIVI 2018'!$H$2:$H$117='TRANSITS ANNUELS'!$B2)*('SUIVI 2018'!$M$2:$M$117='TRANSITS ANNUELS'!$C2)*(MONTH('SUIVI 2018'!$J$2:$J$117)=MONTH('TRANSITS ANNUELS'!D$1))*('SUIVI 2018'!$O$2:$O$117)) -> 0 | E2: =SUMPRODUCT(('SUIVI 2018'!$H$2:$H$117='TRANSITS ANNUELS'!$B2)*('SUIVI 2018'!$M$2:$M$117='TRANSITS ANNUELS'!$C2)*(MONTH('SUIVI 2018'!$J$2:$J$117)=MONTH('TRANSITS ANNUELS'!E$1))*('SUIVI 2018'!$O$2:$O$117)) -> 0 | F2: =SUMPRODUCT(('SUIVI 2018'!$H$2:$H$117='TRANSITS ANNUELS'!$B2)*('SUIVI 2018'!$M$2:$M$117='TRANSITS ANNUELS'!$C2)*(MONTH('SUIVI 2018'!$J$2:$J$117)=MONTH('TRANSITS ANNUELS'!F$1))*('SUIVI 2018'!$O$2:$O$117)) -> 0 | G2: =SUMPRODUCT(('SUIVI 2018'!$H$2:$H$117='TRANSITS ANNUELS'!$B2)*('SUIVI 2018'!$M$2:$M$117='TRANSITS ANNUELS'!$C2)*(MONTH('SUIVI 2018'!$J$2:$J$117)=MONTH('TRANSITS ANNUELS'!G$1))*('SUIVI 2018'!$O$2:$O$117)) -> 0 | H2: =SUMPRODUCT(('SUIVI 2018'!$H$2:$H$117='TRANSITS ANNUELS'!$B2)*('SUIVI 2018'!$M$2:$M$117='TRANSITS ANNUELS'!$C2)*(MONTH('SUIVI 2018'!$J$2:$J$117)=MONTH('TRANSITS ANNUELS'!H$1))*('SUIVI 2018'!$O$2:$O$117)) -> 0 | I2: =SUMPRODUCT(('SUIVI 2018'!$H$2:$H$117='TRANSITS ANNUELS'!$B2)*('SUIVI 2018'!$M$2:$M$117='TRANSITS ANNUELS'!$C2)*(MONTH('SUIVI 2018'!$J$2:$J$117)=MONTH('TRANSITS ANNUELS'!I$1))*('SUIVI 2018'!$O$2:$O$117)) -> 0 | J2: =SUMPRODUCT(('SUIVI 2018'!$H$2:$H$117='TRANSITS ANNUELS'!$B2)*('SUIVI 2018'!$M$2:$M$117='TRANSITS ANNUELS'!$C2)*(MONTH('SUIVI 2018'!$J$2:$J$117)=MONTH('TRANSITS ANNUELS'!J$1))*('SUIVI 2018'!$O$2:$O$117)) -> 0 | K2: =SUMPRODUCT(('SUIVI 2018'!$H$2:$H$117='TRANSITS ANNUELS'!$B2)*('SUIVI 2018'!$M$2:$M$117='TRANSITS ANNUELS'!$C2)*(MONTH('SUIVI 2018'!$J$2:$J$117)=MONTH('TRANSITS ANNUELS'!K$1))*('SUIVI 2018'!$O$2:$O$117)) -> 0 | ... O2: =SUMPRODUCT(('SUIVI 2018'!$H$2:$H$117='TRANSITS ANNUELS'!$B2)*('SUIVI 2018'!$M$2:$M$117='TRANSITS ANNUELS'!$C2)*(MONTH('SUIVI 2018'!$J$2:$J$117)=MONTH('TRANSITS ANNUELS'!O$1))*('SUIVI 2018'!$O$2:$O$117)) -> 0 | P2: =SUMPRODUCT(('SUIVI 2018'!$H$2:$H$117='TRANSITS ANNUELS'!$B2)*('SUIVI 2018'!$M$2:$M$117='TRANSITS ANNUELS'!$C2)*(ISNUMBER('SUIVI 2018'!$O$2:$O$117))) -> 0 | Q2: =SUMIFS('[1]SUIVI 2018'!$AC:$AC,'[1]SUIVI 2018'!$H:$H,B2,'[1]SUIVI 2018'!$M:$M,'[1]TRANSITS ANNUELS'!C2) -> #VALUE! | R2: =IF(ISBLANK(Q2)," ",Q2/SUM($Q$2:$Q$35)) -> #VALUE!
B3: 45 | C3: 08 | D3: =SUMPRODUCT(('SUIVI 2018'!$H$2:$H$117='TRANSITS ANNUELS'!$B3)*('SUIVI 2018'!$M$2:$M$117='TRANSITS ANNUELS'!$C3)*(MONTH('SUIVI 2018'!$J$2:$J$117)=MONTH('TRANSITS ANNUELS'!D$1))*('SUIVI 2018'!$O$2:$O$117)) -> 908 | E3: =SUMPRODUCT(('SUIVI 2018'!$H$2:$H$117='TRANSITS ANNUELS'!$B3)*('SUIVI 2018'!$M$2:$M$117='TRANSITS ANNUELS'!$C3)*(MONTH('SUIVI 2018'!$J$2:$J$117)=MONTH('TRANSITS ANNUELS'!E$1))*('SUIVI 2018'!$O$2:$O$117)) -> 0 | F3: =SUMPRODUCT(('SUIVI 2018'!$H$2:$H$117='TRANSITS ANNUELS'!$B3)*('SUIVI 2018'!$M$2:$M$117='TRANSITS ANNUELS'!$C3)*(MONTH('SUIVI 2018'!$J$2:$J$117)=MONTH('TRANSITS ANNUELS'!F$1))*('SUIVI 2018'!$O$2:$O$117)) -> 0 | G3: =SUMPRODUCT(('SUIVI 2018'!$H$2:$H$117='TRANSITS ANNUELS'!$B3)*('SUIVI 2018'!$M$2:$M$117='TRANSITS ANNUELS'!$C3)*(MONTH('SUIVI 2018'!$J$2:$J$117)=MONTH('TRANSITS ANNUELS'!G$1))*('SUIVI 2018'!$O$2:$O$117)) -> 0 | H3: =SUMPRODUCT(('SUIVI 2018'!$H$2:$H$117='TRANSITS ANNUELS'!$B3)*('SUIVI 2018'!$M$2:$M$117='TRANSITS ANNUELS'!$C3)*(MONTH('SUIVI 2018'!$J$2:$J$117)=MONTH('TRANSITS ANNUELS'!H$1))*('SUIVI 2018'!$O$2:$O$117)) -> 0 | I3: =SUMPRODUCT(('SUIVI 2018'!$H$2:$H$117='TRANSITS ANNUELS'!$B3)*('SUIVI 2018'!$M$2:$M$117='TRANSITS ANNUELS'!$C3)*(MONTH('SUIVI 2018'!$J$2:$J$117)=MONTH('TRANSITS ANNUELS'!I$1))*('SUIVI 2018'!$O$2:$O$117)) -> 0 | J3: =SUMPRODUCT(('SUIVI 2018'!$H$2:$H$117='TRANSITS ANNUELS'!$B3)*('SUIVI 2018'!$M$2:$M$117='TRANSITS ANNUELS'!$C3)*(MONTH('SUIVI 2018'!$J$2:$J$117)=MONTH('TRANSITS ANNUELS'!J$1))*('SUIVI 2018'!$O$2:$O$117)) -> 0 | K3: =SUMPRODUCT(('SUIVI 2018'!$H$2:$H$117='TRANSITS ANNUELS'!$B3)*('SUIVI 2018'!$M$2:$M$117='TRANSITS ANNUELS'!$C3)*(MONTH('SUIVI 2018'!$J$2:$J$117)=MONTH('TRANSITS ANNUELS'!K$1))*('SUIVI 2018'!$O$2:$O$117)) -> 0 | ... O3: =SUMPRODUCT(('SUIVI 2018'!$H$2:$H$117='TRANSITS ANNUELS'!$B3)*('SUIVI 2018'!$M$2:$M$117='TRANSITS ANNUELS'!$C3)*(MONTH('SUIVI 2018'!$J$2:$J$117)=MONTH('TRANSITS ANNUELS'!O$1))*('SUIVI 2018'!$O$2:$O$117)) -> 0 | P3: =SUMPRODUCT(('SUIVI 2018'!$H$2:$H$117='TRANSITS ANNUELS'!$B3)*('SUIVI 2018'!$M$2:$M$117='TRANSITS ANNUELS'!$C3)*(ISNUMBER('SUIVI 2018'!$O$2:$O$117))) -> 1 | Q3: =SUMIFS('[1]SUIVI 2018'!$AC:$AC,'[1]SUIVI 2018'!$H:$H,B3,'[1]SUIVI 2018'!$M:$M,'[1]TRANSITS ANNUELS'!C3) -> #VALUE! | R3: =IF(ISBLANK(Q3)," ",Q3/SUM($Q$2:$Q$35)) -> #VALUE!
B4: 45 | C4: 28 | D4: =SUMPRODUCT(('SUIVI 2018'!$H$2:$H$117='TRANSITS ANNUELS'!$B4)*('SUIVI 2018'!$M$2:$M$117='TRANSITS ANNUELS'!$C4)*(MONTH('SUIVI 2018'!$J$2:$J$117)=MONTH('TRANSITS ANNUELS'!D$1))*('SUIVI 2018'!$O$2:$O$117)) -> 1124 | E4: =SUMPRODUCT(('SUIVI 2018'!$H$2:$H$117='TRANSITS ANNUELS'!$B4)*('SUIVI 2018'!$M$2:$M$117='TRANSITS ANNUELS'!$C4)*(MONTH('SUIVI 2018'!$J$2:$J$117)=MONTH('TRANSITS ANNUELS'!E$1))*('SUIVI 2018'!$O$2:$O$117)) -> 0 | F4: =SUMPRODUCT(('SUIVI 2018'!$H$2:$H$117='TRANSITS ANNUELS'!$B4)*('SUIVI 2018'!$M$2:$M$117='TRANSITS ANNUELS'!$C4)*(MONTH('SUIVI 2018'!$J$2:$J$117)=MONTH('TRANSITS ANNUELS'!F$1))*('SUIVI 2018'!$O$2:$O$117)) -> 0 | G4: =SUMPRODUCT(('SUIVI 2018'!$H$2:$H$117='TRANSITS ANNUELS'!$B4)*('SUIVI 2018'!$M$2:$M$117='TRANSITS ANNUELS'!$C4)*(MONTH('SUIVI 2018'!$J$2:$J$117)=MONTH('TRANSITS ANNUELS'!G$1))*('SUIVI 2018'!$O$2:$O$117)) -> 0 | H4: =SUMPRODUCT(('SUIVI 2018'!$H$2:$H$117='TRANSITS ANNUELS'!$B4)*('SUIVI 2018'!$M$2:$M$117='TRANSITS ANNUELS'!$C4)*(MONTH('SUIVI 2018'!$J$2:$J$117)=MONTH('TRANSITS ANNUELS'!H$1))*('SUIVI 2018'!$O$2:$O$117)) -> 0 | I4: =SUMPRODUCT(('SUIVI 2018'!$H$2:$H$117='TRANSITS ANNUELS'!$B4)*('SUIVI 2018'!$M$2:$M$117='TRANSITS ANNUELS'!$C4)*(MONTH('SUIVI 2018'!$J$2:$J$117)=MONTH('TRANSITS ANNUELS'!I$1))*('SUIVI 2018'!$O$2:$O$117)) -> 0 | J4: =SUMPRODUCT(('SUIVI 2018'!$H$2:$H$117='TRANSITS ANNUELS'!$B4)*('SUIVI 2018'!$M$2:$M$117='TRANSITS ANNUELS'!$C4)*(MONTH('SUIVI 2018'!$J$2:$J$117)=MONTH('TRANSITS ANNUELS'!J$1))*('SUIVI 2018'!$O$2:$O$117)) -> 0 | K4: =SUMPRODUCT(('SUIVI 2018'!$H$2:$H$117='TRANSITS ANNUELS'!$B4)*('SUIVI 2018'!$M$2:$M$117='TRANSITS ANNUELS'!$C4)*(MONTH('SUIVI 2018'!$J$2:$J$117)=MONTH('TRANSITS ANNUELS'!K$1))*('SUIVI 2018'!$O$2:$O$117)) -> 0 | ... O4: =SUMPRODUCT(('SUIVI 2018'!$H$2:$H$117='TRANSITS ANNUELS'!$B4)*('SUIVI 2018'!$M$2:$M$117='TRANSITS ANNUELS'!$C4)*(MONTH('SUIVI 2018'!$J$2:$J$117)=MONTH('TRANSITS ANNUELS'!O$1))*('SUIVI 2018'!$O$2:$O$117)) -> 0 | P4: =SUMPRODUCT(('SUIVI 2018'!$H$2:$H$117='TRANSITS ANNUELS'!$B4)*('SUIVI 2018'!$M$2:$M$117='TRANSITS ANNUELS'!$C4)*(ISNUMBER('SUIVI 2018'!$O$2:$O$117))) -> 1 | Q4: =SUMIFS('[1]SUIVI 2018'!$AC:$AC,'[1]SUIVI 2018'!$H:$H,B4,'[1]SUIVI 2018'!$M:$M,'[1]TRANSITS ANNUELS'!C4) -> #VALUE! | R4: =IF(ISBLANK(Q4)," ",Q4/SUM($Q$2:$Q$35)) -> #VALUE!
B5: 45 | C5: 43 | D5: =SUMPRODUCT(('SUIVI 2018'!$H$2:$H$117='TRANSITS ANNUELS'!$B5)*('SUIVI 2018'!$M$2:$M$117='TRANSITS ANNUELS'!$C5)*(MONTH('SUIVI 2018'!$J$2:$J$117)=MONTH('TRANSITS ANNUELS'!D$1))*('SUIVI 2018'!$O$2:$O$117)) -> 0 | E5: =SUMPRODUCT(('SUIVI 2018'!$H$2:$H$117='TRANSITS ANNUELS'!$B5)*('SUIVI 2018'!$M$2:$M$117='TRANSITS ANNUELS'!$C5)*(MONTH('SUIVI 2018'!$J$2:$J$117)=MONTH('TRANSITS ANNUELS'!E$1))*('SUIVI 2018'!$O$2:$O$117)) -> 0 | F5: =SUMPRODUCT(('SUIVI 2018'!$H$2:$H$117='TRANSITS ANNUELS'!$B5)*('SUIVI 2018'!$M$2:$M$117='TRANSITS ANNUELS'!$C5)*(MONTH('SUIVI 2018'!$J$2:$J$117)=MONTH('TRANSITS ANNUELS'!F$1))*('SUIVI 2018'!$O$2:$O$117)) -> 0 | G5: =SUMPRODUCT(('SUIVI 2018'!$H$2:$H$117='TRANSITS ANNUELS'!$B5)*('SUIVI 2018'!$M$2:$M$117='TRANSITS ANNUELS'!$C5)*(MONTH('SUIVI 2018'!$J$2:$J$117)=MONTH('TRANSITS ANNUELS'!G$1))*('SUIVI 2018'!$O$2:$O$117)) -> 0 | H5: =SUMPRODUCT(('SUIVI 2018'!$H$2:$H$117='TRANSITS ANNUELS'!$B5)*('SUIVI 2018'!$M$2:$M$117='TRANSITS ANNUELS'!$C5)*(MONTH('SUIVI 2018'!$J$2:$J$117)=MONTH('TRANSITS ANNUELS'!H$1))*('SUIVI 2018'!$O$2:$O$117)) -> 0 | I5: =SUMPRODUCT(('SUIVI 2018'!$H$2:$H$117='TRANSITS ANNUELS'!$B5)*('SUIVI 2018'!$M$2:$M$117='TRANSITS ANNUELS'!$C5)*(MONTH('SUIVI 2018'!$J$2:$J$117)=MONTH('TRANSITS ANNUELS'!I$1))*('SUIVI 2018'!$O$2:$O$117)) -> 0 | J5: =SUMPRODUCT(('SUIVI 2018'!$H$2:$H$117='TRANSITS ANNUELS'!$B5)*('SUIVI 2018'!$M$2:$M$117='TRANSITS ANNUELS'!$C5)*(MONTH('SUIVI 2018'!$J$2:$J$117)=MONTH('TRANSITS ANNUELS'!J$1))*('SUIVI 2018'!$O$2:$O$117)) -> 0 | K5: =SUMPRODUCT(('SUIVI 2018'!$H$2:$H$117='TRANSITS ANNUELS'!$B5)*('SUIVI 2018'!$M$2:$M$117='TRANSITS ANNUELS'!$C5)*(MONTH('SUIVI 2018'!$J$2:$J$117)=MONTH('TRANSITS ANNUELS'!K$1))*('SUIVI 2018'!$O$2:$O$117)) -> 0 | ... O5: =SUMPRODUCT(('SUIVI 2018'!$H$2:$H$117='TRANSITS ANNUELS'!$B5)*('SUIVI 2018'!$M$2:$M$117='TRANSITS ANNUELS'!$C5)*(MONTH('SUIVI 2018'!$J$2:$J$117)=MONTH('TRANSITS ANNUELS'!O$1))*('SUIVI 2018'!$O$2:$O$117)) -> 0 | P5: =SUMPRODUCT(('SUIVI 2018'!$H$2:$H$117='TRANSITS ANNUELS'!$B5)*('SUIVI 2018'!$M$2:$M$117='TRANSITS ANNUELS'!$C5)*(ISNUMBER('SUIVI 2018'!$O$2:$O$117))) -> 0 | Q5: =SUMIFS('[1]SUIVI 2018'!$AC:$AC,'[1]SUIVI 2018'!$H:$H,B5,'[1]SUIVI 2018'!$M:$M,'[1]TRANSITS ANNUELS'!C5) -> #VALUE! | R5: =IF(ISBLANK(Q5)," ",Q5/SUM($Q$2:$Q$35)) -> #VALUE!
B6: 76 | C6: STOCK | D6: =SUMPRODUCT(('SUIVI 2018'!$H$2:$H$117='TRANSITS ANNUELS'!$B6)*('SUIVI 2018'!$M$2:$M$117='TRANSITS ANNUELS'!$C6)*(MONTH('SUIVI 2018'!$J$2:$J$117)=MONTH('TRANSITS ANNUELS'!D$1))*('SUIVI 2018'!$O$2:$O$117)) -> 3513 | E6: =SUMPRODUCT(('SUIVI 2018'!$H$2:$H$117='TRANSITS ANNUELS'!$B6)*('SUIVI 2018'!$M$2:$M$117='TRANSITS ANNUELS'!$C6)*(MONTH('SUIVI 2018'!$J$2:$J$117)=MONTH('TRANSITS ANNUELS'!E$1))*('SUIVI 2018'!$O$2:$O$117)) -> 0 | F6: =SUMPRODUCT(('SUIVI 2018'!$H$2:$H$117='TRANSITS ANNUELS'!$B6)*('SUIVI 2018'!$M$2:$M$117='TRANSITS ANNUELS'!$C6)*(MONTH('SUIVI 2018'!$J$2:$J$117)=MONTH('TRANSITS ANNUELS'!F$1))*('SUIVI 2018'!$O$2:$O$117)) -> 0 | G6: =SUMPRODUCT(('SUIVI 2018'!$H$2:$H$117='TRANSITS ANNUELS'!$B6)*('SUIVI 2018'!$M$2:$M$117='TRANSITS ANNUELS'!$C6)*(MONTH('SUIVI 2018'!$J$2:$J$117)=MONTH('TRANSITS ANNUELS'!G$1))*('SUIVI 2018'!$O$2:$O$117)) -> 0 | H6: =SUMPRODUCT(('SUIVI 2018'!$H$2:$H$117='TRANSITS ANNUELS'!$B6)*('SUIVI 2018'!$M$2:$M$117='TRANSITS ANNUELS'!$C6)*(MONTH('SUIVI 2018'!$J$2:$J$117)=MONTH('TRANSITS ANNUELS'!H$1))*('SUIVI 2018'!$O$2:$O$117)) -> 0 | I6: =SUMPRODUCT(('SUIVI 2018'!$H$2:$H$117='TRANSITS ANNUELS'!$B6)*('SUIVI 2018'!$M$2:$M$117='TRANSITS ANNUELS'!$C6)*(MONTH('SUIVI 2018'!$J$2:$J$117)=MONTH('TRANSITS ANNUELS'!I$1))*('SUIVI 2018'!$O$2:$O$117)) -> 0 | J6: =SUMPRODUCT(('SUIVI 2018'!$H$2:$H$117='TRANSITS ANNUELS'!$B6)*('SUIVI 2018'!$M$2:$M$117='TRANSITS ANNUELS'!$C6)*(MONTH('SUIVI 2018'!$J$2:$J$117)=MONTH('TRANSITS ANNUELS'!J$1))*('SUIVI 2018'!$O$2:$O$117)) -> 0 | K6: =SUMPRODUCT(('SUIVI 2018'!$H$2:$H$117='TRANSITS ANNUELS'!$B6)*('SUIVI 2018'!$M$2:$M$117='TRANSITS ANNUELS'!$C6)*(MONTH('SUIVI 2018'!$J$2:$J$117)=MONTH('TRANSITS ANNUELS'!K$1))*('SUIVI 2018'!$O$2:$O$117)) -> 0 | ... O6: =SUMPRODUCT(('SUIVI 2018'!$H$2:$H$117='TRANSITS ANNUELS'!$B6)*('SUIVI 2018'!$M$2:$M$117='TRANSITS ANNUELS'!$C6)*(MONTH('SUIVI 2018'!$J$2:$J$117)=MONTH('TRANSITS ANNUELS'!O$1))*('SUIVI 2018'!$O$2:$O$117)) -> 0 | P6: =SUMPRODUCT(('SUIVI 2018'!$H$2:$H$117='TRANSITS ANNUELS'!$B6)*('SUIVI 2018'!$M$2:$M$117='TRANSITS ANNUELS'!$C6)*(ISNUMBER('SUIVI 2018'!$O$2:$O$117))) -> 3 | Q6: =SUMIFS('[1]SUIVI 2018'!$AC:$AC,'[1]SUIVI 2018'!$H:$H,B6,'[1]SUIVI 2018'!$M:$M,'[1]TRANSITS ANNUELS'!C6) -> #VALUE! | R6: =IF(ISBLANK(Q6)," ",Q6/SUM($Q$2:$Q$35)) -> #VALUE!
B7: 76 | C7: 08 | D7: =SUMPRODUCT(('SUIVI 2018'!$H$2:$H$117='TRANSITS ANNUELS'!$B7)*('SUIVI 2018'!$M$2:$M$117='TRANSITS ANNUELS'!$C7)*(MONTH('SUIVI 2018'!$J$2:$J$117)=MONTH('TRANSITS ANNUELS'!D$1))*('SUIVI 2018'!$O$2:$O$117)) -> 23780 | E7: =SUMPRODUCT(('SUIVI 2018'!$H$2:$H$117='TRANSITS ANNUELS'!$B7)*('SUIVI 2018'!$M$2:$M$117='TRANSITS ANNUELS'!$C7)*(MONTH('SUIVI 2018'!$J$2:$J$117)=MONTH('TRANSITS ANNUELS'!E$1))*('SUIVI 2018'!$O$2:$O$117)) -> 0 | F7: =SUMPRODUCT(('SUIVI 2018'!$H$2:$H$117='TRANSITS ANNUELS'!$B7)*('SUIVI 2018'!$M$2:$M$117='TRANSITS ANNUELS'!$C7)*(MONTH('SUIVI 2018'!$J$2:$J$117)=MONTH('TRANSITS ANNUELS'!F$1))*('SUIVI 2018'!$O$2:$O$117)) -> 0 | G7: =SUMPRODUCT(('SUIVI 2018'!$H$2:$H$117='TRANSITS ANNUELS'!$B7)*('SUIVI 2018'!$M$2:$M$117='TRANSITS ANNUELS'!$C7)*(MONTH('SUIVI 2018'!$J$2:$J$117)=MONTH('TRANSITS ANNUELS'!G$1))*('SUIVI 2018'!$O$2:$O$117)) -> 0 | H7: =SUMPRODUCT(('SUIVI 2018'!$H$2:$H$117='TRANSITS ANNUELS'!$B7)*('SUIVI 2018'!$M$2:$M$117='TRANSITS ANNUELS'!$C7)*(MONTH('SUIVI 2018'!$J$2:$J$117)=MONTH('TRANSITS ANNUELS'!H$1))*('SUIVI 2018'!$O$2:$O$117)) -> 0 | I7: =SUMPRODUCT(('SUIVI 2018'!$H$2:$H$117='TRANSITS ANNUELS'!$B7)*('SUIVI 2018'!$M$2:$M$117='TRANSITS ANNUELS'!$C7)*(MONTH('SUIVI 2018'!$J$2:$J$117)=MONTH('TRANSITS ANNUELS'!I$1))*('SUIVI 2018'!$O$2:$O$117)) -> 0 | J7: =SUMPRODUCT(('SUIVI 2018'!$H$2:$H$117='TRANSITS ANNUELS'!$B7)*('SUIVI 2018'!$M$2:$M$117='TRANSITS ANNUELS'!$C7)*(MONTH('SUIVI 2018'!$J$2:$J$117)=MONTH('TRANSITS ANNUELS'!J$1))*('SUIVI 2018'!$O$2:$O$117)) -> 0 | K7: =SUMPRODUCT(('SUIVI 2018'!$H$2:$H$117='TRANSITS ANNUELS'!$B7)*('SUIVI 2018'!$M$2:$M$117='TRANSITS ANNUELS'!$C7)*(MONTH('SUIVI 2018'!$J$2:$J$117)=MONTH('TRANSITS ANNUELS'!K$1))*('SUIVI 2018'!$O$2:$O$117)) -> 0 | ... O7: =SUMPRODUCT(('SUIVI 2018'!$H$2:$H$117='TRANSITS ANNUELS'!$B7)*('SUIVI 2018'!$M$2:$M$117='TRANSITS ANNUELS'!$C7)*(MONTH('SUIVI 2018'!$J$2:$J$117)=MONTH('TRANSITS ANNUELS'!O$1))*('SUIVI 2018'!$O$2:$O$117)) -> 0 | P7: =SUMPRODUCT(('SUIVI 2018'!$H$2:$H$117='TRANSITS ANNUELS'!$B7)*('SUIVI 2018'!$M$2:$M$117='TRANSITS ANNUELS'!$C7)*(ISNUMBER('SUIVI 2018'!$O$2:$O$117))) -> 40 | Q7: =SUMIFS('[1]SUIVI 2018'!$AC:$AC,'[1]SUIVI 2018'!$H:$H,B7,'[1]SUIVI 2018'!$M:$M,'[1]TRANSITS ANNUELS'!C7) -> #VALUE! | R7: =IF(ISBLANK(Q7)," ",Q7/SUM($Q$2:$Q$35)) -> #VALUE!
B8: 76 | C8: 28 | D8: =SUMPRODUCT(('SUIVI 2018'!$H$2:$H$117='TRANSITS ANNUELS'!$B8)*('SUIVI 2018'!$M$2:$M$117='TRANSITS ANNUELS'!$C8)*(MONTH('SUIVI 2018'!$J$2:$J$117)=MONTH('TRANSITS ANNUELS'!D$1))*('SUIVI 2018'!$O$2:$O$117)) -> 1427 | E8: =SUMPRODUCT(('SUIVI 2018'!$H$2:$H$117='TRANSITS ANNUELS'!$B8)*('SUIVI 2018'!$M$2:$M$117='TRANSITS ANNUELS'!$C8)*(MONTH('SUIVI 2018'!$J$2:$J$117)=MONTH('TRANSITS ANNUELS'!E$1))*('SUIVI 2018'!$O$2:$O$117)) -> 0 | F8: =SUMPRODUCT(('SUIVI 2018'!$H$2:$H$117='TRANSITS ANNUELS'!$B8)*('SUIVI 2018'!$M$2:$M$117='TRANSITS ANNUELS'!$C8)*(MONTH('SUIVI 2018'!$J$2:$J$117)=MONTH('TRANSITS ANNUELS'!F$1))*('SUIVI 2018'!$O$2:$O$117)) -> 0 | G8: =SUMPRODUCT(('SUIVI 2018'!$H$2:$H$117='TRANSITS ANNUELS'!$B8)*('SUIVI 2018'!$M$2:$M$117='TRANSITS ANNUELS'!$C8)*(MONTH('SUIVI 2018'!$J$2:$J$117)=MONTH('TRANSITS ANNUELS'!G$1))*('SUIVI 2018'!$O$2:$O$117)) -> 0 | H8: =SUMPRODUCT(('SUIVI 2018'!$H$2:$H$117='TRANSITS ANNUELS'!$B8)*('SUIVI 2018'!$M$2:$M$117='TRANSITS ANNUELS'!$C8)*(MONTH('SUIVI 2018'!$J$2:$J$117)=MONTH('TRANSITS ANNUELS'!H$1))*('SUIVI 2018'!$O$2:$O$117)) -> 0 | I8: =SUMPRODUCT(('SUIVI 2018'!$H$2:$H$117='TRANSITS ANNUELS'!$B8)*('SUIVI 2018'!$M$2:$M$117='TRANSITS ANNUELS'!$C8)*(MONTH('SUIVI 2018'!$J$2:$J$117)=MONTH('TRANSITS ANNUELS'!I$1))*('SUIVI 2018'!$O$2:$O$117)) -> 0 | J8: =SUMPRODUCT(('SUIVI 2018'!$H$2:$H$117='TRANSITS ANNUELS'!$B8)*('SUIVI 2018'!$M$2:$M$117='TRANSITS ANNUELS'!$C8)*(MONTH('SUIVI 2018'!$J$2:$J$117)=MONTH('TRANSITS ANNUELS'!J$1))*('SUIVI 2018'!$O$2:$O$117)) -> 0 | K8: =SUMPRODUCT(('SUIVI 2018'!$H$2:$H$117='TRANSITS ANNUELS'!$B8)*('SUIVI 2018'!$M$2:$M$117='TRANSITS ANNUELS'!$C8)*(MONTH('SUIVI 2018'!$J$2:$J$117)=MONTH('TRANSITS ANNUELS'!K$1))*('SUIVI 2018'!$O$2:$O$117)) -> 0 | ... O8: =SUMPRODUCT(('SUIVI 2018'!$H$2:$H$117='TRANSITS ANNUELS'!$B8)*('SUIVI 2018'!$M$2:$M$117='TRANSITS ANNUELS'!$C8)*(MONTH('SUIVI 2018'!$J$2:$J$117)=MONTH('TRANSITS ANNUELS'!O$1))*('SUIVI 2018'!$O$2:$O$117)) -> 0 | P8: =SUMPRODUCT(('SUIVI 2018'!$H$2:$H$117='TRANSITS ANNUELS'!$B8)*('SUIVI 2018'!$M$2:$M$117='TRANSITS ANNUELS'!$C8)*(ISNUMBER('SUIVI 2018'!$O$2:$O$117))) -> 2 | Q8: =SUMIFS('[1]SUIVI 2018'!$AC:$AC,'[1]SUIVI 2018'!$H:$H,B8,'[1]SUIVI 2018'!$M:$M,'[1]TRANSITS ANNUELS'!C8) -> #VALUE! | R8: =IF(ISBLANK(Q8)," ",Q8/SUM($Q$2:$Q$35)) -> #VALUE!
B9: 76 | C9: 43 | D9: =SUMPRODUCT(('SUIVI 2018'!$H$2:$H$117='TRANSITS ANNUELS'!$B9)*('SUIVI 2018'!$M$2:$M$117='TRANSITS ANNUELS'!$C9)*(MONTH('SUIVI 2018'!$J$2:$J$117)=MONTH('TRANSITS ANNUELS'!D$1))*('SUIVI 2018'!$O$2:$O$117)) -> 2540 | E9: =SUMPRODUCT(('SUIVI 2018'!$H$2:$H$117='TRANSITS ANNUELS'!$B9)*('SUIVI 2018'!$M$2:$M$117='TRANSITS ANNUELS'!$C9)*(MONTH('SUIVI 2018'!$J$2:$J$117)=MONTH('TRANSITS ANNUELS'!E$1))*('SUIVI 2018'!$O$2:$O$117)) -> 0 | F9: =SUMPRODUCT(('SUIVI 2018'!$H$2:$H$117='TRANSITS ANNUELS'!$B9)*('SUIVI 2018'!$M$2:$M$117='TRANSITS ANNUELS'!$C9)*(MONTH('SUIVI 2018'!$J$2:$J$117)=MONTH('TRANSITS ANNUELS'!F$1))*('SUIVI 2018'!$O$2:$O$117)) -> 0 | G9: =SUMPRODUCT(('SUIVI 2018'!$H$2:$H$117='TRANSITS ANNUELS'!$B9)*('SUIVI 2018'!$M$2:$M$117='TRANSITS ANNUELS'!$C9)*(MONTH('SUIVI 2018'!$J$2:$J$117)=MONTH('TRANSITS ANNUELS'!G$1))*('SUIVI 2018'!$O$2:$O$117)) -> 0 | H9: =SUMPRODUCT(('SUIVI 2018'!$H$2:$H$117='TRANSITS ANNUELS'!$B9)*('SUIVI 2018'!$M$2:$M$117='TRANSITS ANNUELS'!$C9)*(MONTH('SUIVI 2018'!$J$2:$J$117)=MONTH('TRANSITS ANNUELS'!H$1))*('SUIVI 2018'!$O$2:$O$117)) -> 0 | I9: =SUMPRODUCT(('SUIVI 2018'!$H$2:$H$117='TRANSITS ANNUELS'!$B9)*('SUIVI 2018'!$M$2:$M$117='TRANSITS ANNUELS'!$C9)*(MONTH('SUIVI 2018'!$J$2:$J$117)=MONTH('TRANSITS ANNUELS'!I$1))*('SUIVI 2018'!$O$2:$O$117)) -> 0 | J9: =SUMPRODUCT(('SUIVI 2018'!$H$2:$H$117='TRANSITS ANNUELS'!$B9)*('SUIVI 2018'!$M$2:$M$117='TRANSITS ANNUELS'!$C9)*(MONTH('SUIVI 2018'!$J$2:$J$117)=MONTH('TRANSITS ANNUELS'!J$1))*('SUIVI 2018'!$O$2:$O$117)) -> 0 | K9: =SUMPRODUCT(('SUIVI 2018'!$H$2:$H$117='TRANSITS ANNUELS'!$B9)*('SUIVI 2018'!$M$2:$M$117='TRANSITS ANNUELS'!$C9)*(MONTH('SUIVI 2018'!$J$2:$J$117)=MONTH('TRANSITS ANNUELS'!K$1))*('SUIVI 2018'!$O$2:$O$117)) -> 0 | ... O9: =SUMPRODUCT(('SUIVI 2018'!$H$2:$H$117='TRANSITS ANNUELS'!$B9)*('SUIVI 2018'!$M$2:$M$117='TRANSITS ANNUELS'!$C9)*(MONTH('SUIVI 2018'!$J$2:$J$117)=MONTH('TRANSITS ANNUELS'!O$1))*('SUIVI 2018'!$O$2:$O$117)) -> 0 | P9: =SUMPRODUCT(('SUIVI 2018'!$H$2:$H$117='TRANSITS ANNUELS'!$B9)*('SUIVI 2018'!$M$2:$M$117='TRANSITS ANNUELS'!$C9)*(ISNUMBER('SUIVI 2018'!$O$2:$O$117))) -> 3 | Q9: =SUMIFS('[1]SUIVI 2018'!$AC:$AC,'[1]SUIVI 2018'!$H:$H,B9,'[1]SUIVI 2018'!$M:$M,'[1]TRANSITS ANNUELS'!C9) -> #VALUE! | R9: =IF(ISBLANK(Q9)," ",Q9/SUM($Q$2:$Q$35)) -> #VALUE!
B10: 76 | C10: 39 | D10: =SUMPRODUCT(('SUIVI 2018'!$H$2:$H$117='TRANSITS ANNUELS'!$B10)*('SUIVI 2018'!$M$2:$M$117='TRANSITS ANNUELS'!$C10)*(MONTH('SUIVI 2018'!$J$2:$J$117)=MONTH('TRANSITS ANNUELS'!D$1))*('SUIVI 2018'!$O$2:$O$117)) -> 0 | E10: =SUMPRODUCT(('SUIVI 2018'!$H$2:$H$117='TRANSITS ANNUELS'!$B10)*('SUIVI 2018'!$M$2:$M$117='TRANSITS ANNUELS'!$C10)*(MONTH('SUIVI 2018'!$J$2:$J$117)=MONTH('TRANSITS ANNUELS'!E$1))*('SUIVI 2018'!$O$2:$O$117)) -> 0 | F10: =SUMPRODUCT(('SUIVI 2018'!$H$2:$H$117='TRANSITS ANNUELS'!$B10)*('SUIVI 2018'!$M$2:$M$117='TRANSITS ANNUELS'!$C10)*(MONTH('SUIVI 2018'!$J$2:$J$117)=MONTH('TRANSITS ANNUELS'!F$1))*('SUIVI 2018'!$O$2:$O$117)) -> 0 | G10: =SUMPRODUCT(('SUIVI 2018'!$H$2:$H$117='TRANSITS ANNUELS'!$B10)*('SUIVI 2018'!$M$2:$M$117='TRANSITS ANNUELS'!$C10)*(MONTH('SUIVI 2018'!$J$2:$J$117)=MONTH('TRANSITS ANNUELS'!G$1))*('SUIVI 2018'!$O$2:$O$117)) -> 0 | H10: =SUMPRODUCT(('SUIVI 2018'!$H$2:$H$117='TRANSITS ANNUELS'!$B10)*('SUIVI 2018'!$M$2:$M$117='TRANSITS ANNUELS'!$C10)*(MONTH('SUIVI 2018'!$J$2:$J$117)=MONTH('TRANSITS ANNUELS'!H$1))*('SUIVI 2018'!$O$2:$O$117)) -> 0 | I10: =SUMPRODUCT(('SUIVI 2018'!$H$2:$H$117='TRANSITS ANNUELS'!$B10)*('SUIVI 2018'!$M$2:$M$117='TRANSITS ANNUELS'!$C10)*(MONTH('SUIVI 2018'!$J$2:$J$117)=MONTH('TRANSITS ANNUELS'!I$1))*('SUIVI 2018'!$O$2:$O$117)) -> 0 | J10: =SUMPRODUCT(('SUIVI 2018'!$H$2:$H$117='TRANSITS ANNUELS'!$B10)*('SUIVI 2018'!$M$2:$M$117='TRANSITS ANNUELS'!$C10)*(MONTH('SUIVI 2018'!$J$2:$J$117)=MONTH('TRANSITS ANNUELS'!J$1))*('SUIVI 2018'!$O$2:$O$117)) -> 0 | K10: =SUMPRODUCT(('SUIVI 2018'!$H$2:$H$117='TRANSITS ANNUELS'!$B10)*('SUIVI 2018'!$M$2:$M$117='TRANSITS ANNUELS'!$C10)*(MONTH('SUIVI 2018'!$J$2:$J$117)=MONTH('TRANSITS ANNUELS'!K$1))*('SUIVI 2018'!$O$2:$O$117)) -> 0 | ... O10: =SUMPRODUCT(('SUIVI 2018'!$H$2:$H$117='TRANSITS ANNUELS'!$B10)*('SUIVI 2018'!$M$2:$M$117='TRANSITS ANNUELS'!$C10)*(MONTH('SUIVI 2018'!$J$2:$J$117)=MONTH('TRANSITS ANNUELS'!O$1))*('SUIVI 2018'!$O$2:$O$117)) -> 0 | P10: =SUMPRODUCT(('SUIVI 2018'!$H$2:$H$117='TRANSITS ANNUELS'!$B10)*('SUIVI 2018'!$M$2:$M$117='TRANSITS ANNUELS'!$C10)*(ISNUMBER('SUIVI 2018'!$O$2:$O$117))) -> 0 | Q10: =SUMIFS('[1]SUIVI 2018'!$AC:$AC,'[1]SUIVI 2018'!$H:$H,B10,'[1]SUIVI 2018'!$M:$M,'[1]TRANSITS ANNUELS'!C10) -> #VALUE! | R10: =IF(ISBLANK(Q10)," ",Q10/SUM($Q$2:$Q$35)) -> #VALUE!
B11: 76 | C11: 58 | D11: =SUMPRODUCT(('SUIVI 2018'!$H$2:$H$117='TRANSITS ANNUELS'!$B11)*('SUIVI 2018'!$M$2:$M$117='TRANSITS ANNUELS'!$C11)*(MONTH('SUIVI 2018'!$J$2:$J$117)=MONTH('TRANSITS ANNUELS'!D$1))*('SUIVI 2018'!$O$2:$O$117)) -> 7272 | E11: =SUMPRODUCT(('SUIVI 2018'!$H$2:$H$117='TRANSITS ANNUELS'!$B11)*('SUIVI 2018'!$M$2:$M$117='TRANSITS ANNUELS'!$C11)*(MONTH('SUIVI 2018'!$J$2:$J$117)=MONTH('TRANSITS ANNUELS'!E$1))*('SUIVI 2018'!$O$2:$O$117)) -> 0 | F11: =SUMPRODUCT(('SUIVI 2018'!$H$2:$H$117='TRANSITS ANNUELS'!$B11)*('SUIVI 2018'!$M$2:$M$117='TRANSITS ANNUELS'!$C11)*(MONTH('SUIVI 2018'!$J$2:$J$117)=MONTH('TRANSITS ANNUELS'!F$1))*('SUIVI 2018'!$O$2:$O$117)) -> 0 | G11: =SUMPRODUCT(('SUIVI 2018'!$H$2:$H$117='TRANSITS ANNUELS'!$B11)*('SUIVI 2018'!$M$2:$M$117='TRANSITS ANNUELS'!$C11)*(MONTH('SUIVI 2018'!$J$2:$J$117)=MONTH('TRANSITS ANNUELS'!G$1))*('SUIVI 2018'!$O$2:$O$117)) -> 0 | H11: =SUMPRODUCT(('SUIVI 2018'!$H$2:$H$117='TRANSITS ANNUELS'!$B11)*('SUIVI 2018'!$M$2:$M$117='TRANSITS ANNUELS'!$C11)*(MONTH('SUIVI 2018'!$J$2:$J$117)=MONTH('TRANSITS ANNUELS'!H$1))*('SUIVI 2018'!$O$2:$O$117)) -> 0 | I11: =SUMPRODUCT(('SUIVI 2018'!$H$2:$H$117='TRANSITS ANNUELS'!$B11)*('SUIVI 2018'!$M$2:$M$117='TRANSITS ANNUELS'!$C11)*(MONTH('SUIVI 2018'!$J$2:$J$117)=MONTH('TRANSITS ANNUELS'!I$1))*('SUIVI 2018'!$O$2:$O$117)) -> 0 | J11: =SUMPRODUCT(('SUIVI 2018'!$H$2:$H$117='TRANSITS ANNUELS'!$B11)*('SUIVI 2018'!$M$2:$M$117='TRANSITS ANNUELS'!$C11)*(MONTH('SUIVI 2018'!$J$2:$J$117)=MONTH('TRANSITS ANNUELS'!J$1))*('SUIVI 2018'!$O$2:$O$117)) -> 0 | K11: =SUMPRODUCT(('SUIVI 2018'!$H$2:$H$117='TRANSITS ANNUELS'!$B11)*('SUIVI 2018'!$M$2:$M$117='TRANSITS ANNUELS'!$C11)*(MONTH('SUIVI 2018'!$J$2:$J$117)=MONTH('TRANSITS ANNUELS'!K$1))*('SUIVI 2018'!$O$2:$O$117)) -> 0 | ... O11: =SUMPRODUCT(('SUIVI 2018'!$H$2:$H$117='TRANSITS ANNUELS'!$B11)*('SUIVI 2018'!$M$2:$M$117='TRANSITS ANNUELS'!$C11)*(MONTH('SUIVI 2018'!$J$2:$J$117)=MONTH('TRANSITS ANNUELS'!O$1))*('SUIVI 2018'!$O$2:$O$117)) -> 0 | P11: =SUMPRODUCT(('SUIVI 2018'!$H$2:$H$117='TRANSITS ANNUELS'!$B11)*('SUIVI 2018'!$M$2:$M$117='TRANSITS ANNUELS'!$C11)*(ISNUMBER('SUIVI 2018'!$O$2:$O$117))) -> 21 | Q11: =SUMIFS('[1]SUIVI 2018'!$AC:$AC,'[1]SUIVI 2018'!$H:$H,B11,'[1]SUIVI 2018'!$M:$M,'[1]TRANSITS ANNUELS'!C11) -> #VALUE! | R11: =IF(ISBLANK(Q11)," ",Q11/SUM($Q$2:$Q$35)) -> #VALUE!
B12: 76 | C12: 59 | D12: =SUMPRODUCT(('SUIVI 2018'!$H$2:$H$117='TRANSITS ANNUELS'!$B12)*('SUIVI 2018'!$M$2:$M$117='TRANSITS ANNUELS'!$C12)*(MONTH('SUIVI 2018'!$J$2:$J$117)=MONTH('TRANSITS ANNUELS'!D$1))*('SUIVI 2018'!$O$2:$O$117)) -> 0 | E12: =SUMPRODUCT(('SUIVI 2018'!$H$2:$H$117='TRANSITS ANNUELS'!$B12)*('SUIVI 2018'!$M$2:$M$117='TRANSITS ANNUELS'!$C12)*(MONTH('SUIVI 2018'!$J$2:$J$117)=MONTH('TRANSITS ANNUELS'!E$1))*('SUIVI 2018'!$O$2:$O$117)) -> 0 | F12: =SUMPRODUCT(('SUIVI 2018'!$H$2:$H$117='TRANSITS ANNUELS'!$B12)*('SUIVI 2018'!$M$2:$M$117='TRANSITS ANNUELS'!$C12)*(MONTH('SUIVI 2018'!$J$2:$J$117)=MONTH('TRANSITS ANNUELS'!F$1))*('SUIVI 2018'!$O$2:$O$117)) -> 0 | G12: =SUMPRODUCT(('SUIVI 2018'!$H$2:$H$117='TRANSITS ANNUELS'!$B12)*('SUIVI 2018'!$M$2:$M$117='TRANSITS ANNUELS'!$C12)*(MONTH('SUIVI 2018'!$J$2:$J$117)=MONTH('TRANSITS ANNUELS'!G$1))*('SUIVI 2018'!$O$2:$O$117)) -> 0 | H12: =SUMPRODUCT(('SUIVI 2018'!$H$2:$H$117='TRANSITS ANNUELS'!$B12)*('SUIVI 2018'!$M$2:$M$117='TRANSITS ANNUELS'!$C12)*(MONTH('SUIVI 2018'!$J$2:$J$117)=MONTH('TRANSITS ANNUELS'!H$1))*('SUIVI 2018'!$O$2:$O$117)) -> 0 | I12: =SUMPRODUCT(('SUIVI 2018'!$H$2:$H$117='TRANSITS ANNUELS'!$B12)*('SUIVI 2018'!$M$2:$M$117='TRANSITS ANNUELS'!$C12)*(MONTH('SUIVI 2018'!$J$2:$J$117)=MONTH('TRANSITS ANNUELS'!I$1))*('SUIVI 2018'!$O$2:$O$117)) -> 0 | J12: =SUMPRODUCT(('SUIVI 2018'!$H$2:$H$117='TRANSITS ANNUELS'!$B12)*('SUIVI 2018'!$M$2:$M$117='TRANSITS ANNUELS'!$C12)*(MONTH('SUIVI 2018'!$J$2:$J$117)=MONTH('TRANSITS ANNUELS'!J$1))*('SUIVI 2018'!$O$2:$O$117)) -> 0 | K12: =SUMPRODUCT(('SUIVI 2018'!$H$2:$H$117='TRANSITS ANNUELS'!$B12)*('SUIVI 2018'!$M$2:$M$117='TRANSITS ANNUELS'!$C12)*(MONTH('SUIVI 2018'!$J$2:$J$117)=MONTH('TRANSITS ANNUELS'!K$1))*('SUIVI 2018'!$O$2:$O$117)) -> 0 | ... O12: =SUMPRODUCT(('SUIVI 2018'!$H$2:$H$117='TRANSITS ANNUELS'!$B12)*('SUIVI 2018'!$M$2:$M$117='TRANSITS ANNUELS'!$C12)*(MONTH('SUIVI 2018'!$J$2:$J$117)=MONTH('TRANSITS ANNUELS'!O$1))*('SUIVI 2018'!$O$2:$O$117)) -> 0 | P12: =SUMPRODUCT(('SUIVI 2018'!$H$2:$H$117='TRANSITS ANNUELS'!$B12)*('SUIVI 2018'!$M$2:$M$117='TRANSITS ANNUELS'!$C12)*(ISNUMBER('SUIVI 2018'!$O$2:$O$117))) -> 0 | Q12: =SUMIFS('[1]SUIVI 2018'!$AC:$AC,'[1]SUIVI 2018'!$H:$H,B12,'[1]SUIVI 2018'!$M:$M,'[1]TRANSITS ANNUELS'!C12) -> #VALUE! | R12: =IF(ISBLANK(Q12)," ",Q12/SUM($Q$2:$Q$35)) -> #VALUE!
B13: 76 | C13: 49 | D13: =SUMPRODUCT(('SUIVI 2018'!$H$2:$H$117='TRANSITS ANNUELS'!$B13)*('SUIVI 2018'!$M$2:$M$117='TRANSITS ANNUELS'!$C13)*(MONTH('SUIVI 2018'!$J$2:$J$117)=MONTH('TRANSITS ANNUELS'!D$1))*('SUIVI 2018'!$O$2:$O$117)) -> 0 | E13: =SUMPRODUCT(('SUIVI 2018'!$H$2:$H$117='TRANSITS ANNUELS'!$B13)*('SUIVI 2018'!$M$2:$M$117='TRANSITS ANNUELS'!$C13)*(MONTH('SUIVI 2018'!$J$2:$J$117)=MONTH('TRANSITS ANNUELS'!E$1))*('SUIVI 2018'!$O$2:$O$117)) -> 0 | F13: =SUMPRODUCT(('SUIVI 2018'!$H$2:$H$117='TRANSITS ANNUELS'!$B13)*('SUIVI 2018'!$M$2:$M$117='TRANSITS ANNUELS'!$C13)*(MONTH('SUIVI 2018'!$J$2:$J$117)=MONTH('TRANSITS ANNUELS'!F$1))*('SUIVI 2018'!$O$2:$O$117)) -> 0 | G13: =SUMPRODUCT(('SUIVI 2018'!$H$2:$H$117='TRANSITS ANNUELS'!$B13)*('SUIVI 2018'!$M$2:$M$117='TRANSITS ANNUELS'!$C13)*(MONTH('SUIVI 2018'!$J$2:$J$117)=MONTH('TRANSITS ANNUELS'!G$1))*('SUIVI 2018'!$O$2:$O$117)) -> 0 | H13: =SUMPRODUCT(('SUIVI 2018'!$H$2:$H$117='TRANSITS ANNUELS'!$B13)*('SUIVI 2018'!$M$2:$M$117='TRANSITS ANNUELS'!$C13)*(MONTH('SUIVI 2018'!$J$2:$J$117)=MONTH('TRANSITS ANNUELS'!H$1))*('SUIVI 2018'!$O$2:$O$117)) -> 0 | I13: =SUMPRODUCT(('SUIVI 2018'!$H$2:$H$117='TRANSITS ANNUELS'!$B13)*('SUIVI 2018'!$M$2:$M$117='TRANSITS ANNUELS'!$C13)*(MONTH('SUIVI 2018'!$J$2:$J$117)=MONTH('TRANSITS ANNUELS'!I$1))*('SUIVI 2018'!$O$2:$O$117)) -> 0 | J13: =SUMPRODUCT(('SUIVI 2018'!$H$2:$H$117='TRANSITS ANNUELS'!$B13)*('SUIVI 2018'!$M$2:$M$117='TRANSITS ANNUELS'!$C13)*(MONTH('SUIVI 2018'!$J$2:$J$117)=MONTH('TRANSITS ANNUELS'!J$1))*('SUIVI 2018'!$O$2:$O$117)) -> 0 | K13: =SUMPRODUCT(('SUIVI 2018'!$H$2:$H$117='TRANSITS ANNUELS'!$B13)*('SUIVI 2018'!$M$2:$M$117='TRANSITS ANNUELS'!$C13)*(MONTH('SUIVI 2018'!$J$2:$J$117)=MONTH('TRANSITS ANNUELS'!K$1))*('SUIVI 2018'!$O$2:$O$117)) -> 0 | ... O13: =SUMPRODUCT(('SUIVI 2018'!$H$2:$H$117='TRANSITS ANNUELS'!$B13)*('SUIVI 2018'!$M$2:$M$117='TRANSITS ANNUELS'!$C13)*(MONTH('SUIVI 2018'!$J$2:$J$117)=MONTH('TRANSITS ANNUELS'!O$1))*('SUIVI 2018'!$O$2:$O$117)) -> 0 | P13: =SUMPRODUCT(('SUIVI 2018'!$H$2:$H$117='TRANSITS ANNUELS'!$B13)*('SUIVI 2018'!$M$2:$M$117='TRANSITS ANNUELS'!$C13)*(ISNUMBER('SUIVI 2018'!$O$2:$O$117))) -> 0 | Q13: =SUMIFS('[1]SUIVI 2018'!$AC:$AC,'[1]SUIVI 2018'!$H:$H,B13,'[1]SUIVI 2018'!$M:$M,'[1]TRANSITS ANNUELS'!C13) -> #VALUE! | R13: =IF(ISBLANK(Q13)," ",Q13/SUM($Q$2:$Q$35)) -> #VALUE!
B14: 76 | C14: 13 | D14: =SUMPRODUCT(('SUIVI 2018'!$H$2:$H$117='TRANSITS ANNUELS'!$B14)*('SUIVI 2018'!$M$2:$M$117='TRANSITS ANNUELS'!$C14)*(MONTH('SUIVI 2018'!$J$2:$J$117)=MONTH('TRANSITS ANNUELS'!D$1))*('SUIVI 2018'!$O$2:$O$117)) -> 4614 | E14: =SUMPRODUCT(('SUIVI 2018'!$H$2:$H$117='TRANSITS ANNUELS'!$B14)*('SUIVI 2018'!$M$2:$M$117='TRANSITS ANNUELS'!$C14)*(MONTH('SUIVI 2018'!$J$2:$J$117)=MONTH('TRANSITS ANNUELS'!E$1))*('SUIVI 2018'!$O$2:$O$117)) -> 0 | F14: =SUMPRODUCT(('SUIVI 2018'!$H$2:$H$117='TRANSITS ANNUELS'!$B14)*('SUIVI 2018'!$M$2:$M$117='TRANSITS ANNUELS'!$C14)*(MONTH('SUIVI 2018'!$J$2:$J$117)=MONTH('TRANSITS ANNUELS'!F$1))*('SUIVI 2018'!$O$2:$O$117)) -> 0 | G14: =SUMPRODUCT(('SUIVI 2018'!$H$2:$H$117='TRANSITS ANNUELS'!$B14)*('SUIVI 2018'!$M$2:$M$117='TRANSITS ANNUELS'!$C14)*(MONTH('SUIVI 2018'!$J$2:$J$117)=MONTH('TRANSITS ANNUELS'!G$1))*('SUIVI 2018'!$O$2:$O$117)) -> 0 | H14: =SUMPRODUCT(('SUIVI 2018'!$H$2:$H$117='TRANSITS ANNUELS'!$B14)*('SUIVI 2018'!$M$2:$M$117='TRANSITS ANNUELS'!$C14)*(MONTH('SUIVI 2018'!$J$2:$J$117)=MONTH('TRANSITS ANNUELS'!H$1))*('SUIVI 2018'!$O$2:$O$117)) -> 0 | I14: =SUMPRODUCT(('SUIVI 2018'!$H$2:$H$117='TRANSITS ANNUELS'!$B14)*('SUIVI 2018'!$M$2:$M$117='TRANSITS ANNUELS'!$C14)*(MONTH('SUIVI 2018'!$J$2:$J$117)=MONTH('TRANSITS ANNUELS'!I$1))*('SUIVI 2018'!$O$2:$O$117)) -> 0 | J14: =SUMPRODUCT(('SUIVI 2018'!$H$2:$H$117='TRANSITS ANNUELS'!$B14)*('SUIVI 2018'!$M$2:$M$117='TRANSITS ANNUELS'!$C14)*(MONTH('SUIVI 2018'!$J$2:$J$117)=MONTH('TRANSITS ANNUELS'!J$1))*('SUIVI 2018'!$O$2:$O$117)) -> 0 | K14: =SUMPRODUCT(('SUIVI 2018'!$H$2:$H$117='TRANSITS ANNUELS'!$B14)*('SUIVI 2018'!$M$2:$M$117='TRANSITS ANNUELS'!$C14)*(MONTH('SUIVI 2018'!$J$2:$J$117)=MONTH('TRANSITS ANNUELS'!K$1))*('SUIVI 2018'!$O$2:$O$117)) -> 0 | ... O14: =SUMPRODUCT(('SUIVI 2018'!$H$2:$H$117='TRANSITS ANNUELS'!$B14)*('SUIVI 2018'!$M$2:$M$117='TRANSITS ANNUELS'!$C14)*(MONTH('SUIVI 2018'!$J$2:$J$117)=MONTH('TRANSITS ANNUELS'!O$1))*('SUIVI 2018'!$O$2:$O$117)) -> 0 | P14: =SUMPRODUCT(('SUIVI 2018'!$H$2:$H$117='TRANSITS ANNUELS'!$B14)*('SUIVI 2018'!$M$2:$M$117='TRANSITS ANNUELS'!$C14)*(ISNUMBER('SUIVI 2018'!$O$2:$O$117))) -> 3 | Q14: =SUMIFS('[1]SUIVI 2018'!$AC:$AC,'[1]SUIVI 2018'!$H:$H,B14,'[1]SUIVI 2018'!$M:$M,'[1]TRANSITS ANNUELS'!C14) -> #VALUE! | R14: =IF(ISBLANK(Q14)," ",Q14/SUM($Q$2:$Q$35)) -> #VALUE!
... B35: 13 | C35: 76 | D35: =SUMPRODUCT(('SUIVI 2018'!$H$2:$H$117='TRANSITS ANNUELS'!$B35)*('SUIVI 2018'!$M$2:$M$117='TRANSITS ANNUELS'!$C35)*(MONTH('SUIVI 2018'!$J$2:$J$117)=MONTH('TRANSITS ANNUELS'!D$1))*('SUIVI 2018'!$O$2:$O$117)) -> 0 | E35: =SUMPRODUCT(('SUIVI 2018'!$H$2:$H$117='TRANSITS ANNUELS'!$B35)*('SUIVI 2018'!$M$2:$M$117='TRANSITS ANNUELS'!$C35)*(MONTH('SUIVI 2018'!$J$2:$J$117)=MONTH('TRANSITS ANNUELS'!E$1))*('SUIVI 2018'!$O$2:$O$117)) -> 0 | F35: =SUMPRODUCT(('SUIVI 2018'!$H$2:$H$117='TRANSITS ANNUELS'!$B35)*('SUIVI 2018'!$M$2:$M$117='TRANSITS ANNUELS'!$C35)*(MONTH('SUIVI 2018'!$J$2:$J$117)=MONTH('TRANSITS ANNUELS'!F$1))*('SUIVI 2018'!$O$2:$O$117)) -> 0 | G35: =SUMPRODUCT(('SUIVI 2018'!$H$2:$H$117='TRANSITS ANNUELS'!$B35)*('SUIVI 2018'!$M$2:$M$117='TRANSITS ANNUELS'!$C35)*(MONTH('SUIVI 2018'!$J$2:$J$117)=MONTH('TRANSITS ANNUELS'!G$1))*('SUIVI 2018'!$O$2:$O$117)) -> 0 | H35: =SUMPRODUCT(('SUIVI 2018'!$H$2:$H$117='TRANSITS ANNUELS'!$B35)*('SUIVI 2018'!$M$2:$M$117='TRANSITS ANNUELS'!$C35)*(MONTH('SUIVI 2018'!$J$2:$J$117)=MONTH('TRANSITS ANNUELS'!H$1))*('SUIVI 2018'!$O$2:$O$117)) -> 0 | I35: =SUMPRODUCT(('SUIVI 2018'!$H$2:$H$117='TRANSITS ANNUELS'!$B35)*('SUIVI 2018'!$M$2:$M$117='TRANSITS ANNUELS'!$C35)*(MONTH('SUIVI 2018'!$J$2:$J$117)=MONTH('TRANSITS ANNUELS'!I$1))*('SUIVI 2018'!$O$2:$O$117)) -> 0 | J35: =SUMPRODUCT(('SUIVI 2018'!$H$2:$H$117='TRANSITS ANNUELS'!$B35)*('SUIVI 2018'!$M$2:$M$117='TRANSITS ANNUELS'!$C35)*(MONTH('SUIVI 2018'!$J$2:$J$117)=MONTH('TRANSITS ANNUELS'!J$1))*('SUIVI 2018'!$O$2:$O$117)) -> 0 | K35: =SUMPRODUCT(('SUIVI 2018'!$H$2:$H$117='TRANSITS ANNUELS'!$B35)*('SUIVI 2018'!$M$2:$M$117='TRANSITS ANNUELS'!$C35)*(MONTH('SUIVI 2018'!$J$2:$J$117)=MONTH('TRANSITS ANNUELS'!K$1))*('SUIVI 2018'!$O$2:$O$117)) -> 0 | ... O35: =SUMPRODUCT(('SUIVI 2018'!$H$2:$H$117='TRANSITS ANNUELS'!$B35)*('SUIVI 2018'!$M$2:$M$117='TRANSITS ANNUELS'!$C35)*(MONTH('SUIVI 2018'!$J$2:$J$117)=MONTH('TRANSITS ANNUELS'!O$1))*('SUIVI 2018'!$O$2:$O$117)) -> 0 | P35: =SUMPRODUCT(('SUIVI 2018'!$H$2:$H$117='TRANSITS ANNUELS'!$B35)*('SUIVI 2018'!$M$2:$M$117='TRANSITS ANNUELS'!$C35)*(ISNUMBER('SUIVI 2018'!$O$2:$O$117))) -> 0 | Q35: =SUMIFS('[1]SUIVI 2018'!$AC:$AC,'[1]SUIVI 2018'!$H:$H,B35,'[1]SUIVI 2018'!$M:$M,'[1]TRANSITS ANNUELS'!C35) -> #VALUE! | R35: =IF(ISBLANK(Q35)," ",Q35/SUM($Q$2:$Q$35)) -> #VALUE!
D36: =SUM(D2:D35) -> 62877 | E36: =SUM(E2:E35) -> 907 | F36: =SUM(F2:F35) -> 0 | G36: =SUM(G2:G35) -> 0 | H36: =SUM(H2:H35) -> 0 | I36: =SUM(I2:I35) -> 0 | J36: =SUM(J2:J35) -> 0 | K36: =SUM(K2:K35) -> 0 | ... O36: =SUM(O2:O35) -> 0 | Q36: =SUM(Q2:Q35) -> #VALUE! | R36: =SUM(R2:R35) -> #VALUE! | S36: =SUM(S2:S35) -> 0 | T36: =SUM(T2:T35) -> 0 | U36: =SUM(U2:U35) -> 0 | V36: =SUM(V2:V35) -> 0 | W36: =SUM(W2:W35) -> 0
