Workbook

Sheet Régime Horaire
A2: NOM:
A3: Prénom: | G3: Régime Mensuel: | H3: =SUM(D21+D12+I12+I21+D30) -> 5.375
A5: Sem 1 | B5: Matin | C5: Après Midi | F5: Sem 3 | G5: Matin | H5: Après Midi
A6: Lundi | B6: 8:30;12:30 | C6: 13:00;17:00 | D6: 0.33333333 | F6: Lundi | G6: 8:30;12:30 | H6: 13:00;17:00 | I6: 0.33333333
A7: Mardi | B7: 8:30;12:30 | C7: 13:00;17:00 | D7: 0.33333333 | F7: Mardi | G7: 8:30;12:30 | H7: 13:00;16:30 | I7: 0.3125
A8: Mercredi | B8: 8:30;12:30 | C8: 13:00;16:30 | D8: 0.3125 | F8: Mercredi | G8: 8:30;12:30 | H8: 13:00;16:30 | I8: 0.3125
A9: Jeudi | B9: 8:30;12:30 | D9: 0.16666667 | F9: Jeudi | G9: 8:30;12:30 | I9: 0.16666667
A10: Vendredi | B10: 8:30;12:30 | C10: 13:00;16:30 | D10: 0.3125 | F10: Vendredi
A11: Samedi | F11: Samedi
A12: Total | D12: =SUM(D6:D11) -> 1.4583333 | F12: Total | I12: 0.97916667
A14: Sem 2 | B14: Matin | C14: Après Midi | F14: Sem 4 | G14: Matin | H14: Après Midi
A15: Lundi | B15: 8:30;12:30 | C15: 13:00;17:00 | D15: 0.33333333 | F15: Lundi | G15: 8:30;12:30 | H15: 13:00;17:00 | I15: 0.33333333
A16: Mardi | B16: 8:30;12:30 | C16: 13:00;16:30 | D16: 0.3125 | F16: Mardi | G16: 8:30;12:30 | H16: 13:00;16:30 | I16: 0.3125
A17: Mercredi | B17: 8:30;12:30 | C17: 13:00;16:30 | D17: 0.3125 | F17: Mercredi | G17: 8:30;12:30 | H17: 13:00;16:30 | I17: 0.3125
A18: Jeudi | B18: 8:30;12:30 | D18: 0.16666667 | F18: Jeudi | G18: 8:30;12:30 | I18: 0.16666667
A19: Vendredi | F19: Vendredi
A20: Samedi | F20: Samedi
A21: Total | D21: 0.97916667 | F21: Total | I21: 0.97916667
A23: Sem 5 | B23: Matin | C23: Après Midi
A24: Lundi | B24: 8:30;12:30 | C24: 13:00;17:00 | D24: 0.33333333
A25: Mardi | B25: 8:30;12:30 | C25: 13:00;16:30 | D25: 0.3125
A26: Mercredi | B26: 8:30;12:30 | C26: 13:00;16:30 | D26: 0.3125
A27: Jeudi | B27: 8:30;12:30 | D27: 0.16666667
A28: Vendredi | G28: Reliquat d'heures 2015: | H28: 0.41666667
A29: Samedi
A30: Total | D30: 0.97916667

Sheet M
A1: NOM : | B1: ='Régime Horaire'!B2 | F1: Relevé des horaires
A2: Prénom: | B2: ='Régime Horaire'!B3
B3: Cumul d'heures sup:* | C3: ='Régime Horaire'!H28+M!G58 -> 0.47916667
A4: * Cumul des heures supplémentaires du mois précédent, en heures-minutes
A6: Mois: | B6: 42005
A8: SEM 1 | C8: Matin | D8: Apres Midi | E8: Horaires théoriques | F8: Horaires effectués | G8: Motif
A10: Lundi | C10: 0.16666667 | D10: 0.16666667 | E10: ='Régime Horaire'!D6 -> 0.33333333 | F10: =C10+D10 -> 0.33333333
A11: Mardi | B11: =B10+1 -> 1 | C11: 0.16666667 | D11: 0.16666667 | E11: ='Régime Horaire'!D7 -> 0.33333333 | F11: =C11+D11 -> 0.33333333
A12: Mercredi | B12: =B11+1 -> 2 | C12: 0.14583333 | D12: 0.14583333 | E12: ='Régime Horaire'!D8 -> 0.3125 | F12: 0.29166667 | G12: matin retard 00:30
A13: Jeudi | B13: =B12+1 -> 3 | C13: 0.16666667 | E13: ='Régime Horaire'!D9 -> 0.16666667 | F13: =C13+D13 -> 0.16666667
A14: Vendredi | B14: =B13+1 -> 4 | C14: 0.16666667 | D14: 0.14583333 | E14: ='Régime Horaire'!D10 -> 0.3125 | F14: =C14+D14 -> 0.3125
A15: Samedi | B15: =B14+1 -> 5 | E15: ='Régime Horaire'!D11 -> 0 | F15: =C15+D15 -> 0
A16: Total | E16: =SUM(E10:E15) -> 1.4583333 | F16: =SUM(F10:F15) -> 1.4375 | G16: Heures Supplémentaires: | H16: =F16-E16 -> -0.020833333
A18: SEM 2 | C18: Matin | D18: Apres Midi | E18: Horaires théoriques | F18: Horaires effectués | G18: Motif
A20: Lundi | B20: =B15+2 -> 7 | C20: 0.16666667 | D20: 0.17708333 | E20: ='Régime Horaire'!D15 -> 0.33333333 | F20: =C20+D20 -> 0.34375 | G20: gestion RV par téléphone + 15 minutes
A21: Mardi | B21: =B20+1 -> 8 | C21: 0.16666667 | D21: 0.16666667 | E21: ='Régime Horaire'!D16 -> 0.3125 | F21: =C21+D21 -> 0.33333333
A22: Mercredi | B22: =B21+1 -> 9 | C22: 0.14583333 | D22: 0.14583333 | E22: ='Régime Horaire'!D17 -> 0.3125 | F22: =C22+D22 -> 0.29166667 | G22: matin retard 00:30
A23: Jeudi | B23: =B22+1 -> 10 | C23: 0.20833333 | E23: ='Régime Horaire'!D18 -> 0.16666667 | F23: =C23+D23 -> 0.20833333 | G23: réunion + 1h
A24: Vendredi | B24: =B23+1 -> 11 | E24: ='Régime Horaire'!D19 -> 0 | F24: =C24+D24 -> 0
A25: Samedi | B25: =B24+1 -> 12 | E25: ='Régime Horaire'!D20 -> 0 | F25: =C25+D25 -> 0
A26: Total | E26: =SUM(E20:E25) -> 1.125 | F26: =SUM(F20:F25) -> 1.1770833 | G26: Heures Supplémentaires: | H26: =F26-E26 -> 0.052083333
A28: SEM 3 | C28: Matin | D28: Apres Midi | E28: Horaires théoriques | F28: Horaires effectués | G28: Motif
A30: Lundi | B30: =B25+2 -> 14 | C30: 0.16666667 | D30: 0.17708333 | E30: ='Régime Horaire'!I6 -> 0.33333333 | F30: =C30+D30 -> 0.34375 | G30: gestion RV par téléphone + 15 minutes
A31: Mardi | B31: =B30+1 -> 15 | C31: 0.16666667 | D31: 0.16666667 | E31: ='Régime Horaire'!I7 -> 0.3125 | F31: =C31+D31 -> 0.33333333
A32: Mercredi | B32: =B31+1 -> 16 | C32: 0.14583333 | D32: 0.14583333 | E32: ='Régime Horaire'!I8 -> 0.3125 | F32: =C32+D32 -> 0.29166667 | G32: matin retard 00:30
A33: Jeudi | B33: =B32+1 -> 17 | C33: 0.16666667 | E33: ='Régime Horaire'!I9 -> 0.16666667 | F33: =C33+D33 -> 0.16666667
A34: Vendredi | B34: =B33+1 -> 18 | E34: ='Régime Horaire'!I10 -> 0 | F34: =C34+D34 -> 0
A35: Samedi | B35: =B34+1 -> 19 | E35: ='Régime Horaire'!I11 -> 0 | F35: =C35+D35 -> 0
A36: Total | E36: =SUM(E30:E35) -> 1.125 | F36: =SUM(F30:F35) -> 1.1354167 | G36: Heures Supplémentaires: | H36: =F36-E36 -> 0.010416667
A38: SEM 4 | C38: Matin | D38: Apres Midi | E38: Horaires théoriques | F38: Horaires effectués | G38: Motif
A40: Lundi | B40: =B35+2 -> 21 | C40: 0.16666667 | D40: 0.17708333 | E40: ='Régime Horaire'!I15 -> 0.33333333 | F40: =C40+D40 -> 0.34375 | G40: gestion RV par téléphone + 15 minutes
A41: Mardi | B41: =B40+1 -> 22 | C41: 0.16666667 | D41: 0.16666667 | E41: ='Régime Horaire'!I16 -> 0.3125 | F41: =C41+D41 -> 0.33333333
A42: Mercredi | B42: =B41+1 -> 23 | C42: 0.14583333 | D42: 0.14583333 | E42: ='Régime Horaire'!I17 -> 0.3125 | F42: =C42+D42 -> 0.29166667 | G42: matin retard 00:30
A43: Jeudi | B43: =B42+1 -> 24 | C43: 0.16666667 | E43: ='Régime Horaire'!I18 -> 0.16666667 | F43: =C43+D43 -> 0.16666667
A44: Vendredi | B44: =B43+1 -> 25 | E44: ='Régime Horaire'!I19 -> 0 | F44: =C44+D44 -> 0
A45: Samedi | B45: =B44+1 -> 26 | E45: ='Régime Horaire'!I20 -> 0 | F45: =C45+D45 -> 0
A46: Total | E46: =SUM(E40:E45) -> 1.125 | F46: =SUM(F40:F45) -> 1.1354167 | G46: Heures Supplémentaires: | H46: =F46-E46 -> 0.010416667
A48: SEM 5 | C48: Matin | D48: Apres Midi | E48: Horaires théoriques | F48: Horaires effectués | G48: Motif
A50: Lundi | B50: =B45+2 -> 28 | C50: 0.16666667 | D50: 0.17708333 | E50: ='Régime Horaire'!D24 -> 0.33333333 | F50: =C50+D50 -> 0.34375 | G50: gestion RV par téléphone + 15 minutes
A51: Mardi | B51: =B50+1 -> 29 | C51: 0.16666667 | D51: 0.16666667 | E51: ='Régime Horaire'!D25 -> 0.3125 | F51: =C51+D51 -> 0.33333333
...
