Workbook

Sheet REF
A1: ID Action | B1: Deadline | C1: Status | D1: Creation date | E1: Update date | F1: Is late | G1: Offer / Sub-project Project | H1: Current phase | I1: Action origin | J1: Trade | K1: Product | L1: Nombre report | M1: taskw13 | N1: taskw14 | O1: taskw15 | P1: taskw16 | Q1: taskw17 | R1: taskw19 | S1: TOP RO | T1: TOP PSA | U1: Année | V1: Date fin de phase | W1: Temps restant | X1: Levée de risque
A2: 12315 | B2: 42713 | C2: In progress | D2: 40592 | E2: 41992.394 | F2: 0 | G2: I002643/01 | H2: PSA | I2: RdP | J2: Produits | K2: FC42932S01 | L2: {=IF(IFERROR(SUM(1/COUNTIF(M2:R2,M2:R2))-1+IF(M2=B2,0,1),SUM(1/COUNTIF(N2:R2,N2:R2))-1+IF(N2=B2,0,1))<0,0,IFERROR(SUM(1/COUNTIF(M2:R2,M2:R2))-1+IF(M2=B2,0,1),SUM(1/COUNTIF(N2:R2,N2:R2))-1+IF(N2=B2,0,1)))} -> 0 | M2: =VLOOKUP($A2,taskw13!$A$2:$D$444,4,FALSE) -> 42713 | N2: =VLOOKUP($A2,taskw14!$A$2:$D$440,4,FALSE) -> 42713 | O2: =VLOOKUP($A2,taskw15!$A$2:$D$443,4,FALSE) -> 42713 | P2: =VLOOKUP($A2,taskw16!$A$2:$D$443,4,FALSE) -> 42713 | Q2: =VLOOKUP($A2,taskw17!$A$2:$D$443,4,FALSE) -> 42713 | R2: =IFERROR(VLOOKUP($A2,taskw19!$A$2:$D$443,4,FALSE),Q2) -> 42713 | S2: =IFERROR(IFERROR(IF(INDEX(DD!D:D,MATCH(G2,DD!A:A,0))=0,"Date non existante",INDEX(DD!D:D,MATCH(G2,DD!A:A,0))),IF(INDEX(DD!D:D,MATCH(G2,DD!B:B,0))=0,"Date non existante",INDEX(DD!D:D,MATCH(G2,DD!B:B,0)))),"") -> 40711 | T2: =IFERROR(IFERROR(IF(INDEX(DD!E:E,MATCH(G2,DD!A:A,0))=0,"Date non existante",INDEX(DD!E:E,MATCH(G2,DD!A:A,0))),IF(INDEX(DD!E:E,MATCH(G2,DD!B:B,0))=0,"Date non existante",INDEX(DD!E:E,MATCH(G2,DD!B:B,0)))),"") -> 40728 | U2: =IFERROR(YEAR(S2), "Date non existante") -> 2011 | V2: =IF(H2="L",INDEX(DD!N:N,MATCH(G2,DD!B:B,0)),IF(H2="DPP",INDEX(DD!C:C,MATCH(G2,DD!B:B,0)),IF(H2="PI",INDEX(DD!D:D,MATCH(G2,DD!B:B,0)),IF(H2="RO",INDEX(DD!E:E,MATCH(G2,DD!B:B,0)),IF(H2="PSA",INDEX(DD!H:H,MATCH(G2,DD!B:B,0)),IF(H2="PSB",INDEX(DD!K:K,MATCH(G2,DD!B:B,0)),IF(H2="RU",INDEX(DD!L:L,MATCH(G2,DD!B:B,0)),"NA"))))))) -> 42163 | W2: =IF(V2=0,"Non disponible",(V2-TODAY())/7) -> 2.7142857 | X2: =IF(E2>T2,"Après PSA",IF(AND(E2<T2,E2>S2),"Après TOP RO",IF(E2<S2,"Avant TOP RO","NA"))) -> Après PSA
A3: 12316 | B3: 42377 | C3: In progress | D3: 40592 | E3: 42023.386 | F3: 0 | G3: I002643/01 | H3: PSA | I3: RdP | J3: Produits | K3: FC42932S01 | L3: {=IF(IFERROR(SUM(1/COUNTIF(M3:R3,M3:R3))-1+IF(M3=B3,0,1),SUM(1/COUNTIF(N3:R3,N3:R3))-1+IF(N3=B3,0,1))<0,0,IFERROR(SUM(1/COUNTIF(M3:R3,M3:R3))-1+IF(M3=B3,0,1),SUM(1/COUNTIF(N3:R3,N3:R3))-1+IF(N3=B3,0,1)))} -> 0 | M3: =VLOOKUP($A3,taskw13!$A$2:$D$444,4,FALSE) -> 42377 | N3: =VLOOKUP($A3,taskw14!$A$2:$D$440,4,FALSE) -> 42377 | O3: =VLOOKUP($A3,taskw15!$A$2:$D$443,4,FALSE) -> 42377 | P3: =VLOOKUP($A3,taskw16!$A$2:$D$443,4,FALSE) -> 42377 | Q3: =VLOOKUP($A3,taskw17!$A$2:$D$443,4,FALSE) -> 42377 | R3: =IFERROR(VLOOKUP($A3,taskw19!$A$2:$D$443,4,FALSE),Q3) -> 42377 | S3: =IFERROR(IFERROR(IF(INDEX(DD!D:D,MATCH(G3,DD!A:A,0))=0,"Date non existante",INDEX(DD!D:D,MATCH(G3,DD!A:A,0))),IF(INDEX(DD!D:D,MATCH(G3,DD!B:B,0))=0,"Date non existante",INDEX(DD!D:D,MATCH(G3,DD!B:B,0)))),"") -> 40711 | T3: =IFERROR(IFERROR(IF(INDEX(DD!E:E,MATCH(G3,DD!A:A,0))=0,"Date non existante",INDEX(DD!E:E,MATCH(G3,DD!A:A,0))),IF(INDEX(DD!E:E,MATCH(G3,DD!B:B,0))=0,"Date non existante",INDEX(DD!E:E,MATCH(G3,DD!B:B,0)))),"") -> 40728 | U3: =IFERROR(YEAR(S3), "Date non existante") -> 2011 | V3: =IF(H3="L",INDEX(DD!N:N,MATCH(G3,DD!B:B,0)),IF(H3="DPP",INDEX(DD!C:C,MATCH(G3,DD!B:B,0)),IF(H3="PI",INDEX(DD!D:D,MATCH(G3,DD!B:B,0)),IF(H3="RO",INDEX(DD!E:E,MATCH(G3,DD!B:B,0)),IF(H3="PSA",INDEX(DD!H:H,MATCH(G3,DD!B:B,0)),IF(H3="PSB",INDEX(DD!K:K,MATCH(G3,DD!B:B,0)),IF(H3="RU",INDEX(DD!L:L,MATCH(G3,DD!B:B,0)),"NA"))))))) -> 42163 | W3: =IF(V3=0,"Non disponible",(V3-TODAY())/7) -> 2.7142857 | X3: =IF(E3>T3,"Après PSA",IF(AND(E3<T3,E3>S3),"Après TOP RO",IF(E3<S3,"Avant TOP RO","NA"))) -> Après PSA
A4: 13867 | B4: 42377 | C4: In progress | D4: 40812 | E4: 42060.29 | F4: 0 | G4: I002751/01 | H4: RU | I4: RdP | J4: Produits | K4: AT42467S03 | L4: {=IF(IFERROR(SUM(1/COUNTIF(M4:R4,M4:R4))-1+IF(M4=B4,0,1),SUM(1/COUNTIF(N4:R4,N4:R4))-1+IF(N4=B4,0,1))<0,0,IFERROR(SUM(1/COUNTIF(M4:R4,M4:R4))-1+IF(M4=B4,0,1),SUM(1/COUNTIF(N4:R4,N4:R4))-1+IF(N4=B4,0,1)))} -> 0 | M4: =VLOOKUP($A4,taskw13!$A$2:$D$444,4,FALSE) -> 42377 | N4: =VLOOKUP($A4,taskw14!$A$2:$D$440,4,FALSE) -> 42377 | O4: =VLOOKUP($A4,taskw15!$A$2:$D$443,4,FALSE) -> 42377 | P4: =VLOOKUP($A4,taskw16!$A$2:$D$443,4,FALSE) -> 42377 | Q4: =VLOOKUP($A4,taskw17!$A$2:$D$443,4,FALSE) -> 42377 | R4: =IFERROR(VLOOKUP($A4,taskw19!$A$2:$D$443,4,FALSE),Q4) -> 42377 | S4: =IFERROR(IFERROR(IF(INDEX(DD!D:D,MATCH(G4,DD!A:A,0))=0,"Date non existante",INDEX(DD!D:D,MATCH(G4,DD!A:A,0))),IF(INDEX(DD!D:D,MATCH(G4,DD!B:B,0))=0,"Date non existante",INDEX(DD!D:D,MATCH(G4,DD!B:B,0)))),"") -> 41110 | T4: =IFERROR(IFERROR(IF(INDEX(DD!E:E,MATCH(G4,DD!A:A,0))=0,"Date non existante",INDEX(DD!E:E,MATCH(G4,DD!A:A,0))),IF(INDEX(DD!E:E,MATCH(G4,DD!B:B,0))=0,"Date non existante",INDEX(DD!E:E,MATCH(G4,DD!B:B,0)))),"") -> 41705 | U4: =IFERROR(YEAR(S4), "Date non existante") -> 2012 | V4: =IF(H4="L",INDEX(DD!N:N,MATCH(G4,DD!B:B,0)),IF(H4="DPP",INDEX(DD!C:C,MATCH(G4,DD!B:B,0)),IF(H4="PI",INDEX(DD!D:D,MATCH(G4,DD!B:B,0)),IF(H4="RO",INDEX(DD!E:E,MATCH(G4,DD!B:B,0)),IF(H4="PSA",INDEX(DD!H:H,MATCH(G4,DD!B:B,0)),IF(H4="PSB",INDEX(DD!K:K,MATCH(G4,DD!B:B,0)),IF(H4="RU",INDEX(DD!L:L,MATCH(G4,DD!B:B,0)),"NA"))))))) -> 42097 | W4: =IF(V4=0,"Non disponible",(V4-TODAY())/7) -> -6.7142857 | X4: =IF(E4>T4,"Après PSA",IF(AND(E4<T4,E4>S4),"Après TOP RO",IF(E4<S4,"Avant TOP RO","NA"))) -> Après PSA
A5: 15592 | B5: 42174 | C5: In progress | D5: 41018 | E5: 41947.272 | F5: 0 | G5: I002766/01 | H5: PSA | I5: RdP | J5: Données d'entrée | K5: FC43176S01 | L5: {=IF(IFERROR(SUM(1/COUNTIF(M5:R5,M5:R5))-1+IF(M5=B5,0,1),SUM(1/COUNTIF(N5:R5,N5:R5))-1+IF(N5=B5,0,1))<0,0,IFERROR(SUM(1/COUNTIF(M5:R5,M5:R5))-1+IF(M5=B5,0,1),SUM(1/COUNTIF(N5:R5,N5:R5))-1+IF(N5=B5,0,1)))} -> 0 | M5: =VLOOKUP($A5,taskw13!$A$2:$D$444,4,FALSE) -> 42174 | N5: =VLOOKUP($A5,taskw14!$A$2:$D$440,4,FALSE) -> 42174 | O5: =VLOOKUP($A5,taskw15!$A$2:$D$443,4,FALSE) -> 42174 | P5: =VLOOKUP($A5,taskw16!$A$2:$D$443,4,FALSE) -> 42174 | Q5: =VLOOKUP($A5,taskw17!$A$2:$D$443,4,FALSE) -> 42174 | R5: =IFERROR(VLOOKUP($A5,taskw19!$A$2:$D$443,4,FALSE),Q5) -> 42174 | S5: =IFERROR(IFERROR(IF(INDEX(DD!D:D,MATCH(G5,DD!A:A,0))=0,"Date non existante",INDEX(DD!D:D,MATCH(G5,DD!A:A,0))),IF(INDEX(DD!D:D,MATCH(G5,DD!B:B,0))=0,"Date non existante",INDEX(DD!D:D,MATCH(G5,DD!B:B,0)))),"") -> 41355 | T5: =IFERROR(IFERROR(IF(INDEX(DD!E:E,MATCH(G5,DD!A:A,0))=0,"Date non existante",INDEX(DD!E:E,MATCH(G5,DD!A:A,0))),IF(INDEX(DD!E:E,MATCH(G5,DD!B:B,0))=0,"Date non existante",INDEX(DD!E:E,MATCH(G5,DD!B:B,0)))),"") -> 41372 | U5: =IFERROR(YEAR(S5), "Date non existante") -> 2013 | V5: =IF(H5="L",INDEX(DD!N:N,MATCH(G5,DD!B:B,0)),IF(H5="DPP",INDEX(DD!C:C,MATCH(G5,DD!B:B,0)),IF(H5="PI",INDEX(DD!D:D,MATCH(G5,DD!B:B,0)),IF(H5="RO",INDEX(DD!E:E,MATCH(G5,DD!B:B,0)),IF(H5="PSA",INDEX(DD!H:H,MATCH(G5,DD!B:B,0)),IF(H5="PSB",INDEX(DD!K:K,MATCH(G5,DD!B:B,0)),IF(H5="RU",INDEX(DD!L:L,MATCH(G5,DD!B:B,0)),"NA"))))))) -> 42104 | W5: =IF(V5=0,"Non disponible",(V5-TODAY())/7) -> -5.7142857 | X5: =IF(E5>T5,"Après PSA",IF(AND(E5<T5,E5>S5),"Après TOP RO",IF(E5<S5,"Avant TOP RO","NA"))) -> Après PSA
A6: 15593 | B6: 42163 | C6: In progress | D6: 41018 | E6: 41754.591 | F6: 0 | G6: I002766/01 | H6: PSA | I6: RdP | J6: Données d'entrée | K6: FC43176S01 | L6: {=IF(IFERROR(SUM(1/COUNTIF(M6:R6,M6:R6))-1+IF(M6=B6,0,1),SUM(1/COUNTIF(N6:R6,N6:R6))-1+IF(N6=B6,0,1))<0,0,IFERROR(SUM(1/COUNTIF(M6:R6,M6:R6))-1+IF(M6=B6,0,1),SUM(1/COUNTIF(N6:R6,N6:R6))-1+IF(N6=B6,0,1)))} -> 0 | M6: =VLOOKUP($A6,taskw13!$A$2:$D$444,4,FALSE) -> 42163 | N6: =VLOOKUP($A6,taskw14!$A$2:$D$440,4,FALSE) -> 42163 | O6: =VLOOKUP($A6,taskw15!$A$2:$D$443,4,FALSE) -> 42163 | P6: =VLOOKUP($A6,taskw16!$A$2:$D$443,4,FALSE) -> 42163 | Q6: =VLOOKUP($A6,taskw17!$A$2:$D$443,4,FALSE) -> 42163 | R6: =IFERROR(VLOOKUP($A6,taskw19!$A$2:$D$443,4,FALSE),Q6) -> 42163 | S6: =IFERROR(IFERROR(IF(INDEX(DD!D:D,MATCH(G6,DD!A:A,0))=0,"Date non existante",INDEX(DD!D:D,MATCH(G6,DD!A:A,0))),IF(INDEX(DD!D:D,MATCH(G6,DD!B:B,0))=0,"Date non existante",INDEX(DD!D:D,MATCH(G6,DD!B:B,0)))),"") -> 41355 | T6: =IFERROR(IFERROR(IF(INDEX(DD!E:E,MATCH(G6,DD!A:A,0))=0,"Date non existante",INDEX(DD!E:E,MATCH(G6,DD!A:A,0))),IF(INDEX(DD!E:E,MATCH(G6,DD!B:B,0))=0,"Date non existante",INDEX(DD!E:E,MATCH(G6,DD!B:B,0)))),"") -> 41372 | U6: =IFERROR(YEAR(S6), "Date non existante") -> 2013 | V6: =IF(H6="L",INDEX(DD!N:N,MATCH(G6,DD!B:B,0)),IF(H6="DPP",INDEX(DD!C:C,MATCH(G6,DD!B:B,0)),IF(H6="PI",INDEX(DD!D:D,MATCH(G6,DD!B:B,0)),IF(H6="RO",INDEX(DD!E:E,MATCH(G6,DD!B:B,0)),IF(H6="PSA",INDEX(DD!H:H,MATCH(G6,DD!B:B,0)),IF(H6="PSB",INDEX(DD!K:K,MATCH(G6,DD!B:B,0)),IF(H6="RU",INDEX(DD!L:L,MATCH(G6,DD!B:B,0)),"NA"))))))) -> 42104 | W6: =IF(V6=0,"Non disponible",(V6-TODAY())/7) -> -5.7142857 | X6: =IF(E6>T6,"Après PSA",IF(AND(E6<T6,E6>S6),"Après TOP RO",IF(E6<S6,"Avant TOP RO","NA"))) -> Après PSA
A7: 16257 | B7: 42132 | C7: In progress | D7: 41106 | E7: 41967.312 | F7: 0 | G7: I002751/01 | H7: RU | I7: RdP | J7: Données de sortie | K7: AT42467S03 | L7: {=IF(IFERROR(SUM(1/COUNTIF(M7:R7,M7:R7))-1+IF(M7=B7,0,1),SUM(1/COUNTIF(N7:R7,N7:R7))-1+IF(N7=B7,0,1))<0,0,IFERROR(SUM(1/COUNTIF(M7:R7,M7:R7))-1+IF(M7=B7,0,1),SUM(1/COUNTIF(N7:R7,N7:R7))-1+IF(N7=B7,0,1)))} -> 0 | M7: =VLOOKUP($A7,taskw13!$A$2:$D$444,4,FALSE) -> 42132 | N7: =VLOOKUP($A7,taskw14!$A$2:$D$440,4,FALSE) -> 42132 | O7: =VLOOKUP($A7,taskw15!$A$2:$D$443,4,FALSE) -> 42132 | P7: =VLOOKUP($A7,taskw16!$A$2:$D$443,4,FALSE) -> 42132 | Q7: =VLOOKUP($A7,taskw17!$A$2:$D$443,4,FALSE) -> 42132 | R7: =IFERROR(VLOOKUP($A7,taskw19!$A$2:$D$443,4,FALSE),Q7) -> 42132 | S7: =IFERROR(IFERROR(IF(INDEX(DD!D:D,MATCH(G7,DD!A:A,0))=0,"Date non existante",INDEX(DD!D:D,MATCH(G7,DD!A:A,0))),IF(INDEX(DD!D:D,MATCH(G7,DD!B:B,0))=0,"Date non existante",INDEX(DD!D:D,MATCH(G7,DD!B:B,0)))),"") -> 41110 | T7: =IFERROR(IFERROR(IF(INDEX(DD!E:E,MATCH(G7,DD!A:A,0))=0,"Date non existante",INDEX(DD!E:E,MATCH(G7,DD!A:A,0))),IF(INDEX(DD!E:E,MATCH(G7,DD!B:B,0))=0,"Date non existante",INDEX(DD!E:E,MATCH(G7,DD!B:B,0)))),"") -> 41705 | U7: =IFERROR(YEAR(S7), "Date non existante") -> 2012 | V7: =IF(H7="L",INDEX(DD!N:N,MATCH(G7,DD!B:B,0)),IF(H7="DPP",INDEX(DD!C:C,MATCH(G7,DD!B:B,0)),IF(H7="PI",INDEX(DD!D:D,MATCH(G7,DD!B:B,0)),IF(H7="RO",INDEX(DD!E:E,MATCH(G7,DD!B:B,0)),IF(H7="PSA",INDEX(DD!H:H,MATCH(G7,DD!B:B,0)),IF(H7="PSB",INDEX(DD!K:K,MATCH(G7,DD!B:B,0)),IF(H7="RU",INDEX(DD!L:L,MATCH(G7,DD!B:B,0)),"NA"))))))) -> 42097 | W7: =IF(V7=0,"Non disponible",(V7-TODAY())/7) -> -6.7142857 | X7: =IF(E7>T7,"Après PSA",IF(AND(E7<T7,E7>S7),"Après TOP RO",IF(E7<S7,"Avant TOP RO","NA"))) -> Après PSA
A8: 16503 | B8: 42160 | C8: In progress | D8: 41163 | E8: 42086.312 | F8: 0 | G8: I002766/01 | H8: PSA | I8: RdP | J8: Produits | K8: FC43176S01 | L8: {=IF(IFERROR(SUM(1/COUNTIF(M8:R8,M8:R8))-1+IF(M8=B8,0,1),SUM(1/COUNTIF(N8:R8,N8:R8))-1+IF(N8=B8,0,1))<0,0,IFERROR(SUM(1/COUNTIF(M8:R8,M8:R8))-1+IF(M8=B8,0,1),SUM(1/COUNTIF(N8:R8,N8:R8))-1+IF(N8=B8,0,1)))} -> 0 | M8: =VLOOKUP($A8,taskw13!$A$2:$D$444,4,FALSE) -> 42160 | N8: =VLOOKUP($A8,taskw14!$A$2:$D$440,4,FALSE) -> 42160 | O8: =VLOOKUP($A8,taskw15!$A$2:$D$443,4,FALSE) -> 42160 | P8: =VLOOKUP($A8,taskw16!$A$2:$D$443,4,FALSE) -> 42160 | Q8: =VLOOKUP($A8,taskw17!$A$2:$D$443,4,FALSE) -> 42160 | R8: =IFERROR(VLOOKUP($A8,taskw19!$A$2:$D$443,4,FALSE),Q8) -> 42160 | S8: =IFERROR(IFERROR(IF(INDEX(DD!D:D,MATCH(G8,DD!A:A,0))=0,"Date non existante",INDEX(DD!D:D,MATCH(G8,DD!A:A,0))),IF(INDEX(DD!D:D,MATCH(G8,DD!B:B,0))=0,"Date non existante",INDEX(DD!D:D,MATCH(G8,DD!B:B,0)))),"") -> 41355 | T8: =IFERROR(IFERROR(IF(INDEX(DD!E:E,MATCH(G8,DD!A:A,0))=0,"Date non existante",INDEX(DD!E:E,MATCH(G8,DD!A:A,0))),IF(INDEX(DD!E:E,MATCH(G8,DD!B:B,0))=0,"Date non existante",INDEX(DD!E:E,MATCH(G8,DD!B:B,0)))),"") -> 41372 | U8: =IFERROR(YEAR(S8), "Date non existante") -> 2013 | V8: =IF(H8="L",INDEX(DD!N:N,MATCH(G8,DD!B:B,0)),IF(H8="DPP",INDEX(DD!C:C,MATCH(G8,DD!B:B,0)),IF(H8="PI",INDEX(DD!D:D,MATCH(G8,DD!B:B,0)),IF(H8="RO",INDEX(DD!E:E,MATCH(G8,DD!B:B,0)),IF(H8="PSA",INDEX(DD!H:H,MATCH(G8,DD!B:B,0)),IF(H8="PSB",INDEX(DD!K:K,MATCH(G8,DD!B:B,0)),IF(H8="RU",INDEX(DD!L:L,MATCH(G8,DD!B:B,0)),"NA"))))))) -> 42104 | W8: =IF(V8=0,"Non disponible",(V8-TODAY())/7) -> -5.7142857 | X8: =IF(E8>T8,"Après PSA",IF(AND(E8<T8,E8>S8),"Après TOP RO",IF(E8<S8,"Avant TOP RO","NA"))) -> Après PSA
A9: 16505 | B9: 42188 | C9: In progress | D9: 41163 | E9: 42087.539 | F9: 0 | G9: I002766/01 | H9: PSA | I9: RdP | J9: Procédés | K9: FC43176S01 | L9: {=IF(IFERROR(SUM(1/COUNTIF(M9:R9,M9:R9))-1+IF(M9=B9,0,1),SUM(1/COUNTIF(N9:R9,N9:R9))-1+IF(N9=B9,0,1))<0,0,IFERROR(SUM(1/COUNTIF(M9:R9,M9:R9))-1+IF(M9=B9,0,1),SUM(1/COUNTIF(N9:R9,N9:R9))-1+IF(N9=B9,0,1)))} -> 0 | M9: =VLOOKUP($A9,taskw13!$A$2:$D$444,4,FALSE) -> 42188 | N9: =VLOOKUP($A9,taskw14!$A$2:$D$440,4,FALSE) -> 42188 | O9: =VLOOKUP($A9,taskw15!$A$2:$D$443,4,FALSE) -> 42188 | P9: =VLOOKUP($A9,taskw16!$A$2:$D$443,4,FALSE) -> 42188 | Q9: =VLOOKUP($A9,taskw17!$A$2:$D$443,4,FALSE) -> 42188 | R9: =IFERROR(VLOOKUP($A9,taskw19!$A$2:$D$443,4,FALSE),Q9) -> 42188 | S9: =IFERROR(IFERROR(IF(INDEX(DD!D:D,MATCH(G9,DD!A:A,0))=0,"Date non existante",INDEX(DD!D:D,MATCH(G9,DD!A:A,0))),IF(INDEX(DD!D:D,MATCH(G9,DD!B:B,0))=0,"Date non existante",INDEX(DD!D:D,MATCH(G9,DD!B:B,0)))),"") -> 41355 | T9: =IFERROR(IFERROR(IF(INDEX(DD!E:E,MATCH(G9,DD!A:A,0))=0,"Date non existante",INDEX(DD!E:E,MATCH(G9,DD!A:A,0))),IF(INDEX(DD!E:E,MATCH(G9,DD!B:B,0))=0,"Date non existante",INDEX(DD!E:E,MATCH(G9,DD!B:B,0)))),"") -> 41372 | U9: =IFERROR(YEAR(S9), "Date non existante") -> 2013 | V9: =IF(H9="L",INDEX(DD!N:N,MATCH(G9,DD!B:B,0)),IF(H9="DPP",INDEX(DD!C:C,MATCH(G9,DD!B:B,0)),IF(H9="PI",INDEX(DD!D:D,MATCH(G9,DD!B:B,0)),IF(H9="RO",INDEX(DD!E:E,MATCH(G9,DD!B:B,0)),IF(H9="PSA",INDEX(DD!H:H,MATCH(G9,DD!B:B,0)),IF(H9="PSB",INDEX(DD!K:K,MATCH(G9,DD!B:B,0)),IF(H9="RU",INDEX(DD!L:L,MATCH(G9,DD!B:B,0)),"NA"))))))) -> 42104 | W9: =IF(V9=0,"Non disponible",(V9-TODAY())/7) -> -5.7142857 | X9: =IF(E9>T9,"Après PSA",IF(AND(E9<T9,E9>S9),"Après TOP RO",IF(E9<S9,"Avant TOP RO","NA"))) -> Après PSA
A10: 16508 | B10: 42321 | C10: In progress | D10: 41163 | E10: 42095.321 | F10: 0 | G10: I002817/01 | H10: DPP | I10: RdP | J10: Données d'entrée | K10: FC43824S01 (130x230) | L10: {=IF(IFERROR(SUM(1/COUNTIF(M10:R10,M10:R10))-1+IF(M10=B10,0,1),SUM(1/COUNTIF(N10:R10,N10:R10))-1+IF(N10=B10,0,1))<0,0,IFERROR(SUM(1/COUNTIF(M10:R10,M10:R10))-1+IF(M10=B10,0,1),SUM(1/COUNTIF(N10:R10,N10:R10))-1+IF(N10=B10,0,1)))} -> 0 | M10: =VLOOKUP($A10,taskw13!$A$2:$D$444,4,FALSE) -> 42321 | N10: =VLOOKUP($A10,taskw14!$A$2:$D$440,4,FALSE) -> 42321 | O10: =VLOOKUP($A10,taskw15!$A$2:$D$443,4,FALSE) -> 42321 | P10: =VLOOKUP($A10,taskw16!$A$2:$D$443,4,FALSE) -> 42321 | Q10: =VLOOKUP($A10,taskw17!$A$2:$D$443,4,FALSE) -> 42321 | R10: =IFERROR(VLOOKUP($A10,taskw19!$A$2:$D$443,4,FALSE),Q10) -> 42321 | S10: =IFERROR(IFERROR(IF(INDEX(DD!D:D,MATCH(G10,DD!A:A,0))=0,"Date non existante",INDEX(DD!D:D,MATCH(G10,DD!A:A,0))),IF(INDEX(DD!D:D,MATCH(G10,DD!B:B,0))=0,"Date non existante",INDEX(DD!D:D,MATCH(G10,DD!B:B,0)))),"") | T10: =IFERROR(IFERROR(IF(INDEX(DD!E:E,MATCH(G10,DD!A:A,0))=0,"Date non existante",INDEX(DD!E:E,MATCH(G10,DD!A:A,0))),IF(INDEX(DD!E:E,MATCH(G10,DD!B:B,0))=0,"Date non existante",INDEX(DD!E:E,MATCH(G10,DD!B:B,0)))),"") | U10: =IFERROR(YEAR(S10), "Date non existante") -> Date non existante | V10: =IF(H10="L",INDEX(DD!N:N,MATCH(G10,DD!B:B,0)),IF(H10="DPP",INDEX(DD!C:C,MATCH(G10,DD!B:B,0)),IF(H10="PI",INDEX(DD!D:D,MATCH(G10,DD!B:B,0)),IF(H10="RO",INDEX(DD!E:E,MATCH(G10,DD!B:B,0)),IF(H10="PSA",INDEX(DD!H:H,MATCH(G10,DD!B:B,0)),IF(H10="PSB",INDEX(DD!K:K,MATCH(G10,DD!B:B,0)),IF(H10="RU",INDEX(DD!L:L,MATCH(G10,DD!B:B,0)),"NA"))))))) -> #N/A | W10: =IF(V10=0,"Non disponible",(V10-TODAY())/7) -> #N/A | X10: =IF(E10>T10,"Après PSA",IF(AND(E10<T10,E10>S10),"Après TOP RO",IF(E10<S10,"Avant TOP RO","NA"))) -> Avant TOP RO
A11: 16562 | B11: 42265 | C11: In progress | D11: 41165 | E11: 42047.283 | F11: 0 | G11: I002814/01 | H11: PSB | I11: RdP | J11: Données d'entrée | K11: NJ2224ES01(F-570720.ZL)-CA PA | L11: {=IF(IFERROR(SUM(1/COUNTIF(M11:R11,M11:R11))-1+IF(M11=B11,0,1),SUM(1/COUNTIF(N11:R11,N11:R11))-1+IF(N11=B11,0,1))<0,0,IFERROR(SUM(1/COUNTIF(M11:R11,M11:R11))-1+IF(M11=B11,0,1),SUM(1/COUNTIF(N11:R11,N11:R11))-1+IF(N11=B11,0,1)))} -> 0 | M11: =VLOOKUP($A11,taskw13!$A$2:$D$444,4,FALSE) -> 42265 | N11: =VLOOKUP($A11,taskw14!$A$2:$D$440,4,FALSE) -> 42265 | O11: =VLOOKUP($A11,taskw15!$A$2:$D$443,4,FALSE) -> 42265 | P11: =VLOOKUP($A11,taskw16!$A$2:$D$443,4,FALSE) -> 42265 | Q11: =VLOOKUP($A11,taskw17!$A$2:$D$443,4,FALSE) -> 42265 | R11: =IFERROR(VLOOKUP($A11,taskw19!$A$2:$D$443,4,FALSE),Q11) -> 42265 | S11: =IFERROR(IFERROR(IF(INDEX(DD!D:D,MATCH(G11,DD!A:A,0))=0,"Date non existante",INDEX(DD!D:D,MATCH(G11,DD!A:A,0))),IF(INDEX(DD!D:D,MATCH(G11,DD!B:B,0))=0,"Date non existante",INDEX(DD!D:D,MATCH(G11,DD!B:B,0)))),"") | T11: =IFERROR(IFERROR(IF(INDEX(DD!E:E,MATCH(G11,DD!A:A,0))=0,"Date non existante",INDEX(DD!E:E,MATCH(G11,DD!A:A,0))),IF(INDEX(DD!E:E,MATCH(G11,DD!B:B,0))=0,"Date non existante",INDEX(DD!E:E,MATCH(G11,DD!B:B,0)))),"") | U11: =IFERROR(YEAR(S11), "Date non existante") -> Date non existante | V11: =IF(H11="L",INDEX(DD!N:N,MATCH(G11,DD!B:B,0)),IF(H11="DPP",INDEX(DD!C:C,MATCH(G11,DD!B:B,0)),IF(H11="PI",INDEX(DD!D:D,MATCH(G11,DD!B:B,0)),IF(H11="RO",INDEX(DD!E:E,MATCH(G11,DD!B:B,0)),IF(H11="PSA",INDEX(DD!H:H,MATCH(G11,DD!B:B,0)),IF(H11="PSB",INDEX(DD!K:K,MATCH(G11,DD!B:B,0)),IF(H11="RU",INDEX(DD!L:L,MATCH(G11,DD!B:B,0)),"NA"))))))) -> #N/A | W11: =IF(V11=0,"Non disponible",(V11-TODAY())/7) -> #N/A | X11: =IF(E11>T11,"Après PSA",IF(AND(E11<T11,E11>S11),"Après TOP RO",IF(E11<S11,"Avant TOP RO","NA"))) -> Avant TOP RO
A12: 16735 | B12: 42251 | C12: In progress | D12: 41183 | E12: 42023.399 | F12: 0 | G12: I002766/01 | H12: PSA | I12: RdP | J12: Produits | K12: FC43176S01 | L12: {=IF(IFERROR(SUM(1/COUNTIF(M12:R12,M12:R12))-1+IF(M12=B12,0,1),SUM(1/COUNTIF(N12:R12,N12:R12))-1+IF(N12=B12,0,1))<0,0,IFERROR(SUM(1/COUNTIF(M12:R12,M12:R12))-1+IF(M12=B12,0,1),SUM(1/COUNTIF(N12:R12,N12:R12))-1+IF(N12=B12,0,1)))} -> 0 | M12: =VLOOKUP($A12,taskw13!$A$2:$D$444,4,FALSE) -> 42251 | N12: =VLOOKUP($A12,taskw14!$A$2:$D$440,4,FALSE) -> 42251 | O12: =VLOOKUP($A12,taskw15!$A$2:$D$443,4,FALSE) -> 42251 | P12: =VLOOKUP($A12,taskw16!$A$2:$D$443,4,FALSE) -> 42251 | Q12: =VLOOKUP($A12,taskw17!$A$2:$D$443,4,FALSE) -> 42251 | R12: =IFERROR(VLOOKUP($A12,taskw19!$A$2:$D$443,4,FALSE),Q12) -> 42251 | S12: =IFERROR(IFERROR(IF(INDEX(DD!D:D,MATCH(G12,DD!A:A,0))=0,"Date non existante",INDEX(DD!D:D,MATCH(G12,DD!A:A,0))),IF(INDEX(DD!D:D,MATCH(G12,DD!B:B,0))=0,"Date non existante",INDEX(DD!D:D,MATCH(G12,DD!B:B,0)))),"") -> 41355 | T12: =IFERROR(IFERROR(IF(INDEX(DD!E:E,MATCH(G12,DD!A:A,0))=0,"Date non existante",INDEX(DD!E:E,MATCH(G12,DD!A:A,0))),IF(INDEX(DD!E:E,MATCH(G12,DD!B:B,0))=0,"Date non existante",INDEX(DD!E:E,MATCH(G12,DD!B:B,0)))),"") -> 41372 | U12: =IFERROR(YEAR(S12), "Date non existante") -> 2013 | V12: =IF(H12="L",INDEX(DD!N:N,MATCH(G12,DD!B:B,0)),IF(H12="DPP",INDEX(DD!C:C,MATCH(G12,DD!B:B,0)),IF(H12="PI",INDEX(DD!D:D,MATCH(G12,DD!B:B,0)),IF(H12="RO",INDEX(DD!E:E,MATCH(G12,DD!B:B,0)),IF(H12="PSA",INDEX(DD!H:H,MATCH(G12,DD!B:B,0)),IF(H12="PSB",INDEX(DD!K:K,MATCH(G12,DD!B:B,0)),IF(H12="RU",INDEX(DD!L:L,MATCH(G12,DD!B:B,0)),"NA"))))))) -> 42104 | W12: =IF(V12=0,"Non disponible",(V12-TODAY())/7) -> -5.7142857 | X12: =IF(E12>T12,"Après PSA",IF(AND(E12<T12,E12>S12),"Après TOP RO",IF(E12<S12,"Avant TOP RO","NA"))) -> Après PSA
A13: 16736 | B13: 42097 | C13: In progress | D13: 41183 | E13: 42051.578 | F13: 1 | G13: I002766/01 | H13: PSA | I13: RdP | J13: Produits | K13: FC43176S01 | L13: {=IF(IFERROR(SUM(1/COUNTIF(M13:R13,M13:R13))-1+IF(M13=B13,0,1),SUM(1/COUNTIF(N13:R13,N13:R13))-1+IF(N13=B13,0,1))<0,0,IFERROR(SUM(1/COUNTIF(M13:R13,M13:R13))-1+IF(M13=B13,0,1),SUM(1/COUNTIF(N13:R13,N13:R13))-1+IF(N13=B13,0,1)))} -> 0 | M13: =VLOOKUP($A13,taskw13!$A$2:$D$444,4,FALSE) -> 42097 | N13: =VLOOKUP($A13,taskw14!$A$2:$D$440,4,FALSE) -> 42097 | O13: =VLOOKUP($A13,taskw15!$A$2:$D$443,4,FALSE) -> 42097 | P13: =VLOOKUP($A13,taskw16!$A$2:$D$443,4,FALSE) -> 42097 | Q13: =VLOOKUP($A13,taskw17!$A$2:$D$443,4,FALSE) -> 42097 | R13: =IFERROR(VLOOKUP($A13,taskw19!$A$2:$D$443,4,FALSE),Q13) -> 42097 | S13: =IFERROR(IFERROR(IF(INDEX(DD!D:D,MATCH(G13,DD!A:A,0))=0,"Date non existante",INDEX(DD!D:D,MATCH(G13,DD!A:A,0))),IF(INDEX(DD!D:D,MATCH(G13,DD!B:B,0))=0,"Date non existante",INDEX(DD!D:D,MATCH(G13,DD!B:B,0)))),"") -> 41355 | T13: =IFERROR(IFERROR(IF(INDEX(DD!E:E,MATCH(G13,DD!A:A,0))=0,"Date non existante",INDEX(DD!E:E,MATCH(G13,DD!A:A,0))),IF(INDEX(DD!E:E,MATCH(G13,DD!B:B,0))=0,"Date non existante",INDEX(DD!E:E,MATCH(G13,DD!B:B,0)))),"") -> 41372 | U13: =IFERROR(YEAR(S13), "Date non existante") -> 2013 | V13: =IF(H13="L",INDEX(DD!N:N,MATCH(G13,DD!B:B,0)),IF(H13="DPP",INDEX(DD!C:C,MATCH(G13,DD!B:B,0)),IF(H13="PI",INDEX(DD!D:D,MATCH(G13,DD!B:B,0)),IF(H13="RO",INDEX(DD!E:E,MATCH(G13,DD!B:B,0)),IF(H13="PSA",INDEX(DD!H:H,MATCH(G13,DD!B:B,0)),IF(H13="PSB",INDEX(DD!K:K,MATCH(G13,DD!B:B,0)),IF(H13="RU",INDEX(DD!L:L,MATCH(G13,DD!B:B,0)),"NA"))))))) -> 42104 | W13: =IF(V13=0,"Non disponible",(V13-TODAY())/7) -> -5.7142857 | X13: =IF(E13>T13,"Après PSA",IF(AND(E13<T13,E13>S13),"Après TOP RO",IF(E13<S13,"Avant TOP RO","NA"))) -> Après PSA
... A51: 20090 | B51: 42258 | C51: In progress | D51: 41603 | E51: 42095.32 | F51: 0 | G51: I002792/01 | H51: PSB | I51: RdP | J51: Données de sortie | K51: EMDFC43718S02 | L51: {=IF(IFERROR(SUM(1/COUNTIF(M51:R51,M51:R51))-1+IF(M51=B51,0,1),SUM(1/COUNTIF(N51:R51,N51:R51))-1+IF(N51=B51,0,1))<0,0,IFERROR(SUM(1/COUNTIF(M51:R51,M51:R51))-1+IF(M51=B51,0,1),SUM(1/COUNTIF(N51:R51,N51:R51))-1+IF(N51=B51,0,1)))} -> 1 | M51: =VLOOKUP($A51,taskw13!$A$2:$D$444,4,FALSE) -> 42258 | N51: =VLOOKUP($A51,taskw14!$A$2:$D$440,4,FALSE) -> #N/A | O51: =VLOOKUP($A51,taskw15!$A$2:$D$443,4,FALSE) -> 42258 | P51: =VLOOKUP($A51,taskw16!$A$2:$D$443,4,FALSE) -> #N/A | Q51: =VLOOKUP($A51,taskw17!$A$2:$D$443,4,FALSE) -> #N/A | R51: =IFERROR(VLOOKUP($A51,taskw19!$A$2:$D$443,4,FALSE),Q51) -> 42258 | S51: =IFERROR(IFERROR(IF(INDEX(DD!D:D,MATCH(G51,DD!A:A,0))=0,"Date non existante",INDEX(DD!D:D,MATCH(G51,DD!A:A,0))),IF(INDEX(DD!D:D,MATCH(G51,DD!B:B,0))=0,"Date non existante",INDEX(DD!D:D,MATCH(G51,DD!B:B,0)))),"") -> 41544 | T51: =IFERROR(IFERROR(IF(INDEX(DD!E:E,MATCH(G51,DD!A:A,0))=0,"Date non existante",INDEX(DD!E:E,MATCH(G51,DD!A:A,0))),IF(INDEX(DD!E:E,MATCH(G51,DD!B:B,0))=0,"Date non existante",INDEX(DD!E:E,MATCH(G51,DD!B:B,0)))),"") -> 41733 | U51: =IFERROR(YEAR(S51), "Date non existante") -> 2013 | V51: =IF(H51="L",INDEX(DD!N:N,MATCH(G51,DD!B:B,0)),IF(H51="DPP",INDEX(DD!C:C,MATCH(G51,DD!B:B,0)),IF(H51="PI",INDEX(DD!D:D,MATCH(G51,DD!B:B,0)),IF(H51="RO",INDEX(DD!E:E,MATCH(G51,DD!B:B,0)),IF(H51="PSA",INDEX(DD!H:H,MATCH(G51,DD!B:B,0)),IF(H51="PSB",INDEX(DD!K:K,MATCH(G51,DD!B:B,0)),IF(H51="RU",INDEX(DD!L:L,MATCH(G51,DD!B:B,0)),"NA"))))))) -> 42202 | W51: =IF(V51=0,"Non disponible",(V51-TODAY())/7) -> 8.2857143 | X51: =IF(E51>T51,"Après PSA",IF(AND(E51<T51,E51>S51),"Après TOP RO",IF(E51<S51,"Avant TOP RO","NA"))) -> Après PSA

Sheet taskw13
A1: ID Action | B1: Initial quotation | C1: Up to date quotation | D1: Deadline | E1: Status | F1: Creation date | G1: Update date | H1: Is late | I1: Offer / Sub-project Project | J1: Current phase | K1: Action origin
A2: 12315 | B2: 50 | C2: 50 | D2: 42713 | E2: In progress | F2: 40592 | G2: 41992.394 | H2: 0 | I2: I002643/01 | J2: PSA | K2: RdP
A3: 12316 | B3: 50 | C3: 50 | D3: 42377 | E3: In progress | F3: 40592 | G3: 42023.386 | H3: 0 | I3: I002643/01 | J3: PSA | K3: RdP
A4: 13867 | B4: 1 | C4: 50 | D4: 42377 | E4: In progress | F4: 40812 | G4: 42060.29 | H4: 0 | I4: I002751/01 | J4: RU | K4: RdP
A5: 15592 | B5: 50 | C5: 50 | D5: 42174 | E5: In progress | F5: 41018 | G5: 41947.272 | H5: 0 | I5: I002766/01 | J5: PSA | K5: RdP
A6: 15593 | B6: 50 | C6: 10 | D6: 42163 | E6: In progress | F6: 41018 | G6: 41754.591 | H6: 0 | I6: I002766/01 | J6: PSA | K6: RdP
A7: 16257 | B7: 50 | C7: 50 | D7: 42132 | E7: In progress | F7: 41106 | G7: 41967.312 | H7: 0 | I7: I002751/01 | J7: RU | K7: RdP
A8: 16441 | B8: 10 | C8: 10 | D8: 42117 | E8: In progress | F8: 41156 | G8: 41962.555 | H8: 0 | I8: I002595/01 | J8: PSB | K8: RdP
A9: 16503 | B9: 10 | C9: 10 | D9: 42160 | E9: In progress | F9: 41163 | G9: 42086.312 | H9: 0 | I9: I002766/01 | J9: PSA | K9: RdP
A10: 16505 | B10: 1 | C10: 10 | D10: 42188 | E10: In progress | F10: 41163 | G10: 42087.539 | H10: 0 | I10: I002766/01 | J10: PSA | K10: RdP
A11: 16508 | B11: 50 | C11: 50 | D11: 42321 | E11: In progress | F11: 41163 | G11: 42095.321 | H11: 0 | I11: I002817/01 | J11: DPP | K11: RdP
A12: 16562 | B12: 50 | C12: 50 | D12: 42265 | E12: In progress | F12: 41165 | G12: 42047.283 | H12: 0 | I12: I002814/01 | J12: PSB | K12: RdP
A13: 16603 | B13: 10 | C13: 10 | D13: 42145 | E13: In progress | F13: 41170 | G13: 41962.55 | H13: 0 | I13: I002595/01 | J13: PSB | K13: RdP
... A69: 20090 | B69: 50 | C69: 50 | D69: 42258 | E69: In progress | F69: 41603 | G69: 42095.32 | H69: 0 | I69: I002792/01 | J69: PSB | K69: RdP

Sheet taskw14
A1: ID Action | B1: Initial quotation | C1: Up to date quotation | D1: Deadline | E1: Status | F1: Creation date | G1: Update date | H1: Is late | I1: Offer / Sub-project Project
A2: 12315 | B2: 50 | C2: 50 | D2: 42713 | E2: In progress | F2: 40592 | G2: 41992.394 | H2: 0 | I2: I002643/01
A3: 12316 | B3: 50 | C3: 50 | D3: 42377 | E3: In progress | F3: 40592 | G3: 42023.386 | H3: 0 | I3: I002643/01
A4: 13867 | B4: 1 | C4: 50 | D4: 42377 | E4: In progress | F4: 40812 | G4: 42060.29 | H4: 0 | I4: I002751/01
A5: 15592 | B5: 50 | C5: 50 | D5: 42174 | E5: In progress | F5: 41018 | G5: 41947.272 | H5: 0 | I5: I002766/01
A6: 15593 | B6: 50 | C6: 10 | D6: 42163 | E6: In progress | F6: 41018 | G6: 41754.591 | H6: 0 | I6: I002766/01
A7: 16257 | B7: 50 | C7: 50 | D7: 42132 | E7: In progress | F7: 41106 | G7: 41967.312 | H7: 0 | I7: I002751/01
A8: 16441 | B8: 10 | C8: 10 | D8: 42117 | E8: In progress | F8: 41156 | G8: 41962.555 | H8: 0 | I8: I002595/01
A9: 16503 | B9: 10 | C9: 10 | D9: 42160 | E9: In progress | F9: 41163 | G9: 42086.312 | H9: 0 | I9: I002766/01
A10: 16505 | B10: 1 | C10: 10 | D10: 42188 | E10: In progress | F10: 41163 | G10: 42087.539 | H10: 0 | I10: I002766/01
A11: 16508 | B11: 50 | C11: 50 | D11: 42321 | E11: In progress | F11: 41163 | G11: 42095.321 | H11: 0 | I11: I002817/01
A12: 16562 | B12: 50 | C12: 50 | D12: 42265 | E12: In progress | F12: 41165 | G12: 42047.283 | H12: 0 | I12: I002814/01
A13: 16603 | B13: 10 | C13: 10 | D13: 42145 | E13: In progress | F13: 41170 | G13: 41962.55 | H13: 0 | I13: I002595/01
... A62: 19613 | B62: 10 | C62: 50 | D62: 42200 | E62: In progress | F62: 41551 | G62: 42069.422 | H62: 0 | I62: I002627/02

Sheet taskw15
A1: ID Action | B1: Initial quotation | C1: Up to date quotation | D1: Deadline | E1: Status | F1: Creation date | G1: Update date | H1: Is late | I1: Offer / Sub-project | J1: Current phase
A2: 12315 | B2: 50 | C2: 50 | D2: 42713 | E2: In progress | F2: 40592 | G2: 41992.394 | H2: 0 | I2: I002643/01 | J2: PSA
A3: 12316 | B3: 50 | C3: 50 | D3: 42377 | E3: In progress | F3: 40592 | G3: 42023.386 | H3: 0 | I3: I002643/01 | J3: PSA
A4: 13867 | B4: 1 | C4: 50 | D4: 42377 | E4: In progress | F4: 40812 | G4: 42060.29 | H4: 0 | I4: I002751/01 | J4: RU
A5: 15592 | B5: 50 | C5: 50 | D5: 42174 | E5: In progress | F5: 41018 | G5: 41947.272 | H5: 0 | I5: I002766/01 | J5: PSA
A6: 15593 | B6: 50 | C6: 10 | D6: 42163 | E6: In progress | F6: 41018 | G6: 41754.591 | H6: 0 | I6: I002766/01 | J6: PSA
A7: 16257 | B7: 50 | C7: 50 | D7: 42132 | E7: In progress | F7: 41106 | G7: 41967.312 | H7: 0 | I7: I002751/01 | J7: RU
A8: 16441 | B8: 10 | C8: 10 | D8: 42117 | E8: In progress | F8: 41156 | G8: 41962.555 | H8: 0 | I8: I002595/01 | J8: PSB
A9: 16503 | B9: 10 | C9: 10 | D9: 42160 | E9: In progress | F9: 41163 | G9: 42086.312 | H9: 0 | I9: I002766/01 | J9: PSA
A10: 16505 | B10: 1 | C10: 10 | D10: 42188 | E10: In progress | F10: 41163 | G10: 42087.539 | H10: 0 | I10: I002766/01 | J10: PSA
A11: 16508 | B11: 50 | C11: 50 | D11: 42321 | E11: In progress | F11: 41163 | G11: 42095.321 | H11: 0 | I11: I002817/01 | J11: DPP
A12: 16562 | B12: 50 | C12: 50 | D12: 42265 | E12: In progress | F12: 41165 | G12: 42047.283 | H12: 0 | I12: I002814/01 | J12: PSB
A13: 16603 | B13: 10 | C13: 10 | D13: 42145 | E13: In progress | F13: 41170 | G13: 41962.55 | H13: 0 | I13: I002595/01 | J13: PSB
... A97: 21052 | B97: 1 | C97: 1 | D97: 42167 | E97: In progress | F97: 41716.584 | G97: 42103.531 | H97: 0 | I97: I002644/02 | J97: DPP

Sheet taskw16
A1: ID Action | B1: Initial quotation | C1: Up to date quotation | D1: Deadline | E1: Status | F1: Creation date | G1: Update date | H1: Is late | I1: Offer / Sub-project | J1: Current phase
A2: 12315 | B2: 50 | C2: 50 | D2: 42713 | E2: In progress | F2: 40592 | G2: 41992.394 | H2: 0 | I2: I002643/01 | J2: PSA
A3: 12316 | B3: 50 | C3: 50 | D3: 42377 | E3: In progress | F3: 40592 | G3: 42023.386 | H3: 0 | I3: I002643/01 | J3: PSA
A4: 13867 | B4: 1 | C4: 50 | D4: 42377 | E4: In progress | F4: 40812 | G4: 42060.29 | H4: 0 | I4: I002751/01 | J4: RU
A5: 15592 | B5: 50 | C5: 50 | D5: 42174 | E5: In progress | F5: 41018 | G5: 41947.272 | H5: 0 | I5: I002766/01 | J5: PSA
A6: 15593 | B6: 50 | C6: 10 | D6: 42163 | E6: In progress | F6: 41018 | G6: 41754.591 | H6: 0 | I6: I002766/01 | J6: PSA
A7: 16257 | B7: 50 | C7: 50 | D7: 42132 | E7: In progress | F7: 41106 | G7: 41967.312 | H7: 0 | I7: I002751/01 | J7: RU
A8: 16441 | B8: 10 | C8: 10 | D8: 42117 | E8: In progress | F8: 41156 | G8: 41962.555 | H8: 0 | I8: I002595/01 | J8: PSB
A9: 16503 | B9: 10 | C9: 10 | D9: 42160 | E9: In progress | F9: 41163 | G9: 42086.312 | H9: 0 | I9: I002766/01 | J9: PSA
A10: 16505 | B10: 1 | C10: 10 | D10: 42188 | E10: In progress | F10: 41163 | G10: 42087.539 | H10: 0 | I10: I002766/01 | J10: PSA
A11: 16508 | B11: 50 | C11: 50 | D11: 42321 | E11: In progress | F11: 41163 | G11: 42095.321 | H11: 0 | I11: I002817/01 | J11: DPP
A12: 16562 | B12: 50 | C12: 50 | D12: 42265 | E12: In progress | F12: 41165 | G12: 42047.283 | H12: 0 | I12: I002814/01 | J12: PSB
A13: 16603 | B13: 10 | C13: 10 | D13: 42145 | E13: In progress | F13: 41170 | G13: 41962.55 | H13: 0 | I13: I002595/01 | J13: PSB
... A63: 19774 | B63: 10 | C63: 10 | D63: 41915 | E63: In progress | F63: 41563 | G63: 41885.6 | H63: 1 | I63: I001620/01 | J63: PSA

Sheet taskw17
A1: ID Action | B1: Initial quotation | C1: Up to date quotation | D1: Deadline | E1: Status | F1: Creation date | G1: Update date | H1: Is late | I1: Offer / Sub-project Project | J1: Current phase
A2: 12315 | B2: 50 | C2: 50 | D2: 42713 | E2: In progress | F2: 40592 | G2: 41992.394 | H2: 0 | I2: I002643/01 | J2: PSA
A3: 12316 | B3: 50 | C3: 50 | D3: 42377 | E3: In progress | F3: 40592 | G3: 42023.386 | H3: 0 | I3: I002643/01 | J3: PSA
A4: 13867 | B4: 1 | C4: 50 | D4: 42377 | E4: In progress | F4: 40812 | G4: 42060.29 | H4: 0 | I4: I002751/01 | J4: RU
A5: 15592 | B5: 50 | C5: 50 | D5: 42174 | E5: In progress | F5: 41018 | G5: 41947.272 | H5: 0 | I5: I002766/01 | J5: PSA
A6: 15593 | B6: 50 | C6: 10 | D6: 42163 | E6: In progress | F6: 41018 | G6: 41754.591 | H6: 0 | I6: I002766/01 | J6: PSA
A7: 16257 | B7: 50 | C7: 50 | D7: 42132 | E7: In progress | F7: 41106 | G7: 41967.312 | H7: 0 | I7: I002751/01 | J7: RU
A8: 16441 | B8: 10 | C8: 10 | D8: 42117 | E8: In progress | F8: 41156 | G8: 41962.555 | H8: 1 | I8: I002595/01 | J8: PSB
A9: 16503 | B9: 10 | C9: 10 | D9: 42160 | E9: In progress | F9: 41163 | G9: 42086.312 | H9: 0 | I9: I002766/01 | J9: PSA
A10: 16505 | B10: 1 | C10: 10 | D10: 42188 | E10: In progress | F10: 41163 | G10: 42087.539 | H10: 0 | I10: I002766/01 | J10: PSA
A11: 16508 | B11: 50 | C11: 50 | D11: 42321 | E11: In progress | F11: 41163 | G11: 42095.321 | H11: 0 | I11: I002817/01 | J11: DPP
A12: 16562 | B12: 50 | C12: 50 | D12: 42265 | E12: In progress | F12: 41165 | G12: 42047.283 | H12: 0 | I12: I002814/01 | J12: PSB
A13: 16603 | B13: 10 | C13: 10 | D13: 42145 | E13: In progress | F13: 41170 | G13: 41962.55 | H13: 0 | I13: I002595/01 | J13: PSB
... A66: 20053 | B66: 50 | C66: 50 | D66: 42263 | E66: In progress | F66: 41599 | G66: 41897.246 | H66: 0 | I66: I002817/01 | J66: DPP

Sheet taskw19
A1: ID Action | B1: Initial quotation | C1: Up to date quotation | D1: Deadline | E1: Status | F1: Creation date | G1: Update date | H1: Is late | I1: Offer / Sub-project | J1: Current phase
A2: 12315 | B2: 50 | C2: 50 | D2: 42713 | E2: In progress | F2: 40592 | G2: 41992.394 | H2: 0 | I2: I002643/01 | J2: PSA
A3: 12316 | B3: 50 | C3: 50 | D3: 42377 | E3: In progress | F3: 40592 | G3: 42023.386 | H3: 0 | I3: I002643/01 | J3: PSA
A4: 13867 | B4: 1 | C4: 50 | D4: 42377 | E4: In progress | F4: 40812 | G4: 42060.29 | H4: 0 | I4: I002751/01 | J4: RU
A5: 15592 | B5: 50 | C5: 50 | D5: 42174 | E5: In progress | F5: 41018 | G5: 41947.272 | H5: 0 | I5: I002766/01 | J5: PSA
A6: 15593 | B6: 50 | C6: 10 | D6: 42163 | E6: In progress | F6: 41018 | G6: 41754.591 | H6: 0 | I6: I002766/01 | J6: PSA
A7: 16257 | B7: 50 | C7: 50 | D7: 42132 | E7: In progress | F7: 41106 | G7: 41967.312 | H7: 0 | I7: I002751/01 | J7: RU
A8: 16441 | B8: 10 | C8: 10 | D8: 42117 | E8: In progress | F8: 41156 | G8: 41962.555 | H8: 1 | I8: I002595/01 | J8: PSB
A9: 16503 | B9: 10 | C9: 10 | D9: 42160 | E9: In progress | F9: 41163 | G9: 42086.312 | H9: 0 | I9: I002766/01 | J9: PSA
A10: 16505 | B10: 1 | C10: 10 | D10: 42188 | E10: In progress | F10: 41163 | G10: 42087.539 | H10: 0 | I10: I002766/01 | J10: PSA
A11: 16508 | B11: 50 | C11: 50 | D11: 42321 | E11: In progress | F11: 41163 | G11: 42095.321 | H11: 0 | I11: I002817/01 | J11: DPP
A12: 16562 | B12: 50 | C12: 50 | D12: 42265 | E12: In progress | F12: 41165 | G12: 42047.283 | H12: 0 | I12: I002814/01 | J12: PSB
A13: 16603 | B13: 10 | C13: 10 | D13: 42145 | E13: In progress | F13: 41170 | G13: 41962.55 | H13: 0 | I13: I002595/01 | J13: PSB
... A69: 20095 | B69: 10 | C69: 10 | D69: 42258 | E69: In progress | F69: 41603 | G69: 42095.343 | H69: 0 | I69: I002792/01 | J69: PSB

Sheet DD
A1: Offre | B1: Dossier | C1: Top EO | D1: Top RO | E1: Top PSA | F1: Livraison PSA | G1: Livraison PSA effectuée | H1: Top PSB | I1: Livraison PSB | J1: Livraison PSB effectuée | K1: Top RU | L1: Bilan Ramp up | M1: Planning Sciforma | N1: LP - Date fin | O1: DPP - Date fin | P1: PI - Date fin | Q1: RO - Date fin | R1: PSA - Date fin | S1: PSB - Date fin
A2: I002628/A2 | B2: I002628/02 | G2: 0 | M2: 0
A3: I002629/A1 | B3: I002629/01 | F3: 40908 | G3: 0 | M3: 0 | N3: 40830 | O3: 40837 | P3: 40837
A4: I002630/A1 | B4: I002630/01 | C4: 41953 | D4: 41953 | E4: 41953 | F4: 41953 | G4: 0 | H4: 41953 | L4: 41953 | M4: 0 | N4: 40501
A5: I002641/A1 | B5: I002641/01 | D5: 40515 | F5: 40971 | G5: 0 | L5: 40969 | M5: 0 | N5: 40515 | O5: 40515 | P5: 40515 | Q5: 40514 | R5: 40514
A6: I002643/A1 | B6: I002643/01 | C6: 40644 | D6: 40711 | E6: 40728 | F6: 42065 | G6: 0 | H6: 42163 | I6: 42342 | J6: 0 | K6: 42342 | L6: 42468 | M6: 0 | N6: 40634 | O6: 40718 | P6: 40718 | Q6: 40805
A7: I002644/A3 | B7: I002644/01 | D7: 41623 | F7: 41805 | G7: 0 | H7: 41805 | J7: 0 | L7: 42292 | M7: 0 | N7: 40998
A8: I002644/A5 | B8: I002644/02 | C8: 42069 | D8: 42097 | E8: 42132 | F8: 42377 | H8: 42405 | I8: 42532 | K8: 42559 | L8: 42924 | M8: 0 | N8: 41754.436
A9: I002645/A2 | B9: I002645/01 | C9: 40603 | D9: 40617 | E9: 40627 | F9: 40647 | G9: 0 | H9: 41712 | L9: 41716 | M9: 0 | N9: 40844 | O9: 41089 | P9: 41089 | Q9: 41113
A10: I002646/A3 | B10: I002646/01 | C10: 41334 | D10: 41713 | E10: 41731 | F10: 41739 | G10: 0 | H10: 41739 | L10: 42124 | M10: 0 | N10: 40844
A11: I002648/A1 | B11: I002648/01 | C11: 41162 | D11: 41222 | E11: 41260 | F11: 41299 | G11: 0 | H11: 42174 | L11: 42202 | M11: 0 | N11: 41222 | O11: 41222 | P11: 41222 | Q11: 41303
A12: I002648/A2 | B12: I002648/02 | C12: 41162 | D12: 41222 | E12: 41260 | F12: 41299 | G12: 0 | H12: 42174 | L12: 42202 | M12: 0 | N12: 41222 | O12: 41222 | P12: 41222 | Q12: 41303
A13: I002650/A1 | B13: I002650/01 | D13: 41693 | F13: 41844 | G13: 0 | H13: 41844 | J13: 0 | L13: 42240 | M13: 0 | N13: 40529 | O13: 41092
A14: I002650/A2 | B14: I002650/02 | D14: 41540 | F14: 41694 | G14: 0 | H14: 41694 | J14: 0 | L14: 42087 | M14: 0
A15: I002650/A3 | B15: I002650/03 | D15: 41540 | F15: 41694 | G15: 0 | H15: 41694 | J15: 0 | L15: 42087 | M15: 0
A16: I002650/A4 | B16: I002650/04 | D16: 41537 | F16: 41732 | G16: 0 | H16: 41732 | J16: 0 | L16: 42127 | M16: 0
A17: I002650/A5 | B17: I002650/05 | D17: 41537 | F17: 41732 | G17: 0 | H17: 41732 | J17: 0 | L17: 42127 | M17: 0
A18: I002650/A6 | B18: I002650/06 | D18: 41537 | F18: 41732 | G18: 0 | H18: 41732 | J18: 0 | L18: 42127 | M18: 0
A19: I002650/A7 | B19: I002650/07 | D19: 41425 | F19: 41648 | G19: 0 | H19: 41648 | J19: 0 | L19: 42044 | M19: 0
A20: I002653/A5 | B20: I002653/01 | C20: 40638 | D20: 40648 | E20: 40653 | F20: 41178 | G20: 0 | H20: 42069 | L20: 42314 | M20: 0 | N20: 40627 | O20: 40662 | P20: 40662 | Q20: 40688 | R20: 42062.385
A21: I002660/A1 | B21: I002660/01 | C21: 41044 | D21: 41115 | E21: 41186 | F21: 41912 | G21: 0 | H21: 41973 | I21: 42185 | J21: 0 | K21: 42384 | L21: 42170 | M21: 0 | N21: 40872 | O21: 41110 | P21: 41110 | Q21: 41176 | R21: 41845.345
A22: I002660/A2 | B22: I002660/02 | C22: 41044 | D22: 41115 | E22: 41156 | F22: 41912 | G22: 0 | H22: 41973 | I22: 42185 | J22: 0 | K22: 42384 | L22: 42444 | M22: 0 | N22: 40872 | O22: 41110 | P22: 41110 | Q22: 41176 | R22: 41845.345
A23: I002660/A3 | B23: I002660/03 | C23: 41044 | D23: 41115 | E23: 41156 | F23: 41912 | G23: 0 | H23: 41973 | I23: 42185 | J23: 0 | K23: 42384 | L23: 42444 | M23: 0 | N23: 40872 | O23: 40955 | P23: 40795 | Q23: 40795 | R23: 41845.345
A24: I002660/A4 | B24: I002660/04 | C24: 41044 | D24: 41115 | E24: 41156 | F24: 41912 | G24: 0 | H24: 42109 | I24: 42139 | J24: 0 | K24: 42262 | L24: 42415 | M24: 0 | N24: 40872 | O24: 41110 | P24: 41110 | Q24: 41176 | R24: 41845.345
A25: I002665/A1 | B25: I002665/01 | F25: 40603 | G25: 0 | H25: 40603 | L25: 41026 | M25: 0 | N25: 40585 | O25: 40634 | P25: 40634 | Q25: 40703 | R25: 40581
A26: I002668/A2 | B26: I002668/02 | C26: 41789 | D26: 41789 | E26: 42181 | F26: 42328 | G26: 0 | H26: 42384 | L26: 42545 | M26: 0 | N26: 40816 | O26: 41787.581
A27: I002668/A1 | B27: I002668/01 | C27: 41789 | D27: 41789 | E27: 42181 | F27: 42328 | G27: 0 | H27: 42384 | L27: 42545 | M27: 0 | N27: 40816 | O27: 41787.581
B28: I002688/01 | F28: 40909 | G28: 0 | M28: 0
A29: I002703/A1 | B29: I002703/01 | D29: 41059 | F29: 41339 | G29: 0 | M29: 0 | N29: 41110
A30: I002705/A1 | B30: I002705/01 | D30: 42073 | F30: 42467 | G30: 0 | H30: 42474 | L30: 42879 | M30: 0 | N30: 41096 | O30: 41292
A31: I002705/A2 | B31: I002705/02 | C31: 42156 | D31: 42156 | E31: 42156 | F31: 42767 | G31: 0 | H31: 42156 | I31: 42186 | J31: 0 | K31: 42217 | L31: 43009 | M31: 0 | N31: 41383
A32: I002718/A1 | B32: I002718/01 | D32: 40708 | F32: 40728 | G32: 0 | M32: 0 | N32: 40704 | O32: 41061 | P32: 41061 | Q32: 41068 | R32: 40690
A33: I002721/A3 | B33: I002721/01 | C33: 42151 | D33: 42271 | E33: 42261 | F33: 42282 | G33: 0 | H33: 42292 | I33: 42293 | J33: 0 | K33: 42354 | L33: 42704 | M33: 1 | N33: 42048.444
A34: I002722/A1 | B34: I002722/01 | D34: 41031 | F34: 41045 | G34: 0 | M34: 0 | N34: 40872 | O34: 41026 | P34: 41026 | Q34: 41089
B35: I002722/03 | C35: 41096 | D35: 41096 | E35: 41180 | F35: 41180 | G35: 0 | H35: 41409 | I35: 41440 | J35: 0 | K35: 42083 | L35: 42097 | M35: 0 | N35: 41061 | O35: 41096 | P35: 41096 | Q35: 41103 | R35: 41691.409
B36: I002722/02 | D36: 41068 | F36: 41120 | G36: 0 | H36: 41120 | L36: 41485 | M36: 0 | N36: 41061
A37: I002732/A1 | B37: I002732/01 | F37: 40831 | G37: 0 | M37: 0 | N37: 40795 | O37: 40808 | P37: 40793 | Q37: 40793 | R37: 40793
A38: I002733/A1 | B38: I002733/01 | E38: 41978 | F38: 42041 | K38: 42097 | L38: 42313 | M38: 0 | O38: 41985.388
A39: I002735/A1 | B39: I002735/01 | C39: 40918 | D39: 41061 | E39: 41226 | F39: 42094 | G39: 0 | H39: 42094 | I39: 42083 | J39: 0 | K39: 42137 | L39: 42257 | M39: 0 | N39: 40977 | O39: 41068 | P39: 41068 | Q39: 41193
A40: I002736/A1 | B40: I002736/01 | C40: 40953 | D40: 41061 | E40: 41260 | F40: 42094 | G40: 0 | H40: 42094 | I40: 42104 | J40: 0 | K40: 42156 | L40: 42522 | M40: 0 | N40: 40921 | O40: 41068 | P40: 41068 | Q40: 41193
...
