Workbook

Sheet référence
A1: ID Action | B1: Prénom | C1: Nom | D1: Délai | E1: Date de modification | F1: Modif délai | G1: Phase | H1: extraction | I1: extraction2 | J1: extraction3 | K1: extraction4 | L1: extraction5
A2: 1252 | B2: Alain | C2: Tension | D2: 42132 | E2: 42118 | F2: {=SUM(1/COUNTIF(INDIRECT("H" & ROW()&":"&CHAR(64+SUMPRODUCT(MAX((COLUMN($A$1:$AA$1))*($A$1:$AA$1<>""))))&ROW()),H2:INDIRECT(CHAR(64+SUMPRODUCT(MAX((COLUMN($A$1:$AA$1))*($A$1:$AA$1<>""))))&ROW())))-1+IF(H2=D2,0,1)} -> 3 | G2: 2 | H2: =VLOOKUP($A2,extraction!$A$2:$D$5,4,FALSE) -> 42170 | I2: =VLOOKUP($A2,extraction2!$A$2:$D$5,4,FALSE) -> 42200 | J2: =VLOOKUP($A2,'extraction 3'!$A$2:$D$5,4,FALSE) -> 42200 | K2: =VLOOKUP($A2,'extraction 4'!$A$2:$D$5,4,FALSE) -> 42275 | L2: =VLOOKUP($A2,extraction5!$A$2:$D$5,4,FALSE) -> 42275
A3: 1485 | B3: Mick | C3: Emmauss | D3: 42199 | E3: 42076 | F3: {=SUM(1/COUNTIF(INDIRECT("H" & ROW()&":"&CHAR(64+SUMPRODUCT(MAX((COLUMN($A$1:$AA$1))*($A$1:$AA$1<>""))))&ROW()),H3:INDIRECT(CHAR(64+SUMPRODUCT(MAX((COLUMN($A$1:$AA$1))*($A$1:$AA$1<>""))))&ROW())))-1+IF(H3=D3,0,1)} -> 1 | G3: 1 | H3: =VLOOKUP($A3,extraction!$A$2:$D$5,4,FALSE) -> 42199 | I3: =VLOOKUP($A3,extraction2!$A$2:$D$5,4,FALSE) -> 42200 | J3: =VLOOKUP($A3,'extraction 3'!$A$2:$D$5,4,FALSE) -> 42200 | K3: =VLOOKUP($A3,'extraction 4'!$A$2:$D$5,4,FALSE) -> 42200 | L3: =VLOOKUP($A3,extraction5!$A$2:$D$5,4,FALSE) -> 42200
A4: 9658 | B4: Henri | C4: Osécla | D4: 42704 | E4: 42037 | F4: {=SUM(1/COUNTIF(INDIRECT("H" & ROW()&":"&CHAR(64+SUMPRODUCT(MAX((COLUMN($A$1:$AA$1))*($A$1:$AA$1<>""))))&ROW()),H4:INDIRECT(CHAR(64+SUMPRODUCT(MAX((COLUMN($A$1:$AA$1))*($A$1:$AA$1<>""))))&ROW())))-1+IF(H4=D4,0,1)} -> 2 | G4: 3 | H4: =VLOOKUP($A4,extraction!$A$2:$D$5,4,FALSE) -> 42734 | I4: =VLOOKUP($A4,extraction2!$A$2:$D$5,4,FALSE) -> 42734 | J4: =VLOOKUP($A4,'extraction 3'!$A$2:$D$5,4,FALSE) -> 42765 | K4: =VLOOKUP($A4,'extraction 4'!$A$2:$D$5,4,FALSE) -> 42765 | L4: =VLOOKUP($A4,extraction5!$A$2:$D$5,4,FALSE) -> 42765
A5: 6232 | B5: Paul | C5: Osanmanch | D5: 42380 | E5: 42129 | F5: {=SUM(1/COUNTIF(INDIRECT("H" & ROW()&":"&CHAR(64+SUMPRODUCT(MAX((COLUMN($A$1:$AA$1))*($A$1:$AA$1<>""))))&ROW()),H5:INDIRECT(CHAR(64+SUMPRODUCT(MAX((COLUMN($A$1:$AA$1))*($A$1:$AA$1<>""))))&ROW())))-1+IF(H5=D5,0,1)} -> 2 | G5: 1 | H5: =VLOOKUP($A5,extraction!$A$2:$D$5,4,FALSE) -> 42380 | I5: =VLOOKUP($A5,extraction2!$A$2:$D$5,4,FALSE) -> 42380 | J5: =VLOOKUP($A5,'extraction 3'!$A$2:$D$5,4,FALSE) -> 42418 | K5: =VLOOKUP($A5,'extraction 4'!$A$2:$D$5,4,FALSE) -> 42418 | L5: =VLOOKUP($A5,extraction5!$A$2:$D$5,4,FALSE) -> 42480

Sheet extraction
A1: ID Action | B1: Prénom | C1: Nom | D1: Délai | E1: Date de modification | F1: Modif délai | G1: Phase
A2: 1252 | B2: Alain | C2: Tension | D2: 42170 | E2: 42129 | F2: 0 | G2: 2
A3: 1485 | B3: Mick | C3: Emmauss | D3: 42199 | E3: 42076 | F3: 0 | G3: 1
A4: 9658 | B4: Henri | C4: Osécla | D4: 42734 | E4: 42128 | F4: 0 | G4: 3
A5: 6232 | B5: Paul | C5: Osanmanch | D5: 42380 | E5: 42129 | F5: 1 | G5: 1

Sheet extraction2
A1: ID Action | B1: Prénom | C1: Nom | D1: Délai | E1: Date de modification | F1: Modif délai | G1: Phase
A2: 1252 | B2: Alain | C2: Tension | D2: 42200 | E2: 42161 | F2: 0 | G2: 2
A3: 1485 | B3: Mick | C3: Emmauss | D3: 42200 | E3: 42096 | F3: 0 | G3: 1
A4: 9658 | B4: Henri | C4: Osécla | D4: 42734 | E4: 42128 | F4: 0 | G4: 3
A5: 6232 | B5: Paul | C5: Osanmanch | D5: 42380 | E5: 42129 | F5: 0 | G5: 1

Sheet extraction 3
A1: ID Action | B1: Prénom | C1: Nom | D1: Délai | E1: Date de modification | F1: Modif délai | G1: Phase
A2: 1252 | B2: Alain | C2: Tension | D2: 42200 | E2: 42161 | F2: 0 | G2: 2
A3: 1485 | B3: Mick | C3: Emmauss | D3: 42200 | E3: 42096 | F3: 0 | G3: 1
A4: 9658 | B4: Henri | C4: Osécla | D4: 42765 | E4: 42233 | F4: 0 | G4: 3
A5: 6232 | B5: Paul | C5: Osanmanch | D5: 42418 | E5: 42190 | F5: 0 | G5: 1

Sheet extraction 4
A1: ID Action | B1: Prénom | C1: Nom | D1: Délai | E1: Date de modification | F1: Modif délai | G1: Phase
A2: 1252 | B2: Alain | C2: Tension | D2: 42275 | E2: 42198 | F2: 0 | G2: 2
A3: 1485 | B3: Mick | C3: Emmauss | D3: 42200 | E3: 42096 | F3: 0 | G3: 1
A4: 9658 | B4: Henri | C4: Osécla | D4: 42765 | E4: 42233 | F4: 0 | G4: 3
A5: 6232 | B5: Paul | C5: Osanmanch | D5: 42418 | E5: 42190 | F5: 0 | G5: 1

Sheet extraction5
A1: ID Action | B1: Prénom | C1: Nom | D1: Délai | E1: Date de modification | F1: Modif délai | G1: Phase
A2: 1252 | B2: Alain | C2: Tension | D2: 42275 | E2: 42198 | F2: 0 | G2: 2
A3: 1485 | B3: Mick | C3: Emmauss | D3: 42200 | E3: 42096 | F3: 0 | G3: 1
A4: 9658 | B4: Henri | C4: Osécla | D4: 42765 | E4: 42233 | F4: 0 | G4: 3
A5: 6232 | B5: Paul | C5: Osanmanch | D5: 42480 | E5: 42226 | F5: 0 | G5: 1
