Workbook
Name C.A.: #REF!
Name revenu: #REF!
Name Zone: planif!$A$23:$F$121
Name Zonealpha: (COUNTIF(planif!$L1048576:M,Zone)=0)*COUNTIF(Zone,">="&Zone)

Sheet Liste
A3: id | B3: Colonne1 | C3: Date | D3: Entrée | E3: Plat | F3: Légume | G3: Féculent | H3: Fromage Laitage | I3: Dessert | J3: Date2
A4: 1 | B4: Mai | C4: 44681 | D4: Salade verte aux lardons de volaille | E4: Escalope de veau champignons | G4: Boulghour lentilles vertes | H4: Yaourt nature | I4: Fruit de saison* | J4: 44681
A5: 2 | B5: Mai | C5: 44681 | D5: Pamplemousse | E5: Sauté de porc | F5: Semoule | H5: Crème aux œufs menthe ou chocolat | I5: Fruit de saison* | J5: 44681
A6: 3 | B6: Mai | C6: 44682 | D6: Champignons grecque | E6: Rôti de porc au jus brun | G6: Mogettes de Vendée | H6: Saint moret | I6: Yaourt aromatisé | J6: 44682
A7: 4 | B7: Mai | C7: 44682 | D7: Asperges | E7: Canette à l’orange | G7: Pomme noisettes | H7: Neufchâtel | I7: Fruit de saison* | J7: 44682
A8: 5 | B8: Mai | C8: 44683 | D8: Taboulé de choux fleurs | E8: Filet de poulet crème | G8: Pennes au beurre | H8: Semoule caramel | I8: Fruit de saison* | J8: 44683
A9: 6 | B9: Mai | C9: 44683 | D9: Pâté en croûte | E9: Paupiette de veau à l ancienne | G9: Riz pilaf | H9: Petits suisses | I9: Feuilletés Fruit ou amandes | J9: 44683
A10: 7 | B10: Mai | C10: 44684 | D10: Crudités avec fromage | E10: Filet de hoki meunière | F10: Épinards à la crème | H10: Chaource | I10: Gâteau breton a la framboise | J10: 44684
A11: 8 | B11: Mai | C11: 44684 | D11: Croque madame | E11: Râble de lapin | F11: Carottes persillées | H11: Edam | I11: Fruit de saison* | J11: 44684
A12: 9 | B12: Mai | C12: 44685 | D12: Salade duo crudités | E12: Emincé bœuf épices orientales | F12: Mélange world mix Marrakech | H12: Saint nectaire | I12: Fruit de saison* | J12: 44685
A13: 10 | B13: Mai | C13: 44685 | D13: Betteraves mimosa | E13: Chipolatas | F13: Purée pois cassés | H13: Crème a la vanille | I13: Fromage a tartiner | J13: 44685
A14: 11 | B14: Mai | C14: 44686 | D14: Friand fromage | E14: Galette lentille et blé cuite | F14: Haricots verts | H14: Ossau Iraty | I14: Riz au lait caramel | J14: 44686
A15: 12 | B15: Mai | C15: 44686 | D15: Salade de perles | E15: Pâtes carbonara | H15: Saint moret | I15: Fruit de saison* | J15: 44686
A16: 13 | B16: Mai | C16: 44687 | D16: Crudités avec fromage | E16: Aiguillettes de poulet crème | G16: Riz aux petits légumes | H16: Yaourt aux fruits | I16: Fruit de saison* | J16: 44687
A17: 14 | B17: Mai | C17: 44687 | D17: Salade PDT hareng | E17: Papillote de poisson | F17: Courgettes persillée | H17: Fromage blanc | I17: Entremets abricot | J17: 44687
A18: 15 | B18: Mai | C18: 44688 | D18: Betteraves Vinaigrette | E18: Sauté de bœuf provençal | G18: Boulgour lentilles vertes | H18: Reblochon | I18: Yaourt brassé | J18: 44688
A19: 16 | B19: Mai | C19: 44688 | D19: Taboulé au thé vert | E19: Filet de poulet | F19: Printanière légumes | H19: Carré frais | I19: Fruit de saison* | J19: 44688
A20: 17 | B20: Mai | C20: 44689 | D20: Macédoine de légumes | E20: Filet de lieu sauce vierge | F20: Brunoise de légumes du soleil | H20: Gélifié chocolat ou vanille | I20: Fruit de saison* | J20: 44689
A21: 18 | B21: Mai | C21: 44689 | D21: Terrine de poisson | E21: Sauté d’agneau | G21: Pommes paillasson | H21: Bleu auvergne, de causses ou Bresse | I21: Panna cotta coulis | J21: 44689
A22: 19 | B22: Mai | C22: 44690 | D22: Œuf dur mayonnaise | E22: Émincé de poulet aux champignons | G22: Potatoes et légumes poêlés | H22: Tomme | I22: Fruit de saison* | J22: 44690
A23: 20 | B23: Mai | C23: 44690 | D23: Brocolis vinaigrette | E23: Langue de bœuf tomate | G23: Pâtes | H23: Faisselle | I23: Fruit de saison* | J23: 44690
A24: 21 | B24: Mai | C24: 44691 | D24: Nems poulet | E24: Couscous | H24: Petits suisses | I24: Gâteau aux fruit(abricot, mirabelle ) | J24: 44691
A25: 22 | B25: Mai | C25: 44691 | D25: Salade piémontaise | E25: Cuisse de poulet rôtie | F25: Navets glacés | H25: Brie | I25: Fruit de saison* | J25: 44691
A26: 23 | B26: Mai | C26: 44692 | D26: Coppa de Parme | E26: Anneaux d encornets citron | F26: Fondue de poireaux | H26: Roquefort | I26: Fruit de saison* | J26: 44692
A27: 24 | B27: Mai | C27: 44692 | D27: Macédoine de légumes | E27: Paëlla maison | H27: Beaufort | I27: Crème dessert | J27: 44692
A28: 25 | B28: Mai | C28: 44693 | D28: Jambon supérieur beurre | E28: Cote de veau grillée | G28: Mini gratin pomme de terre girolles | H28: Fruit cuit (pomme caramélisée ou vanille ou groseille, poire choco,figue rôtie…) | I28: Fromage a tartiner | J28: 44693
A29: 26 | B29: Mai | C29: 44693 | D29: Cervelas | E29: Aile de raie aux capres | G29: Pommes vapeur | H29: Yaourt nature | I29: Fruit de saison* | J29: 44693
A30: 27 | B30: Mai | C30: 44694 | D30: Salade chou rouge | E30: Filet de colin pané | F30: Pois gourmands persillés | H30: Emmental | I30: Fruit de saison* | J30: 44694
A31: 28 | B31: Mai | C31: 44694 | D31: Sardines | E31: Petit salé | F31: Lentilles | H31: Cantal | I31: Yaourt aromatisé | J31: 44694
A32: 29 | B32: Mai | C32: 44695 | D32: Pizza royale | E32: Escalope dinde moutarde | F32: Courgettes sautées | H32: Fromage blanc | I32: Fontainebleau maison | J32: 44695
A33: 30 | B33: Mai | C33: 44695 | D33: Terrine de légumes | E33: Cuisse de pintade | G33: Pomme duchesse | H33: Semoule au lait | I33: Fruit de saison* | J33: 44695
D35: ici j'affiche mes menus à venir sur le mois en cours, un choix est laissé pour chaque item, tous les jours

Sheet planif
E2: 1 | F2: =VLOOKUP($A$4&"_"&$E2,$A$23:$F$167,3,FALSE) -> #N/A | G2: =VLOOKUP($A$8&"_"&$E2,$A$23:$F$167,3,FALSE) -> #N/A | I2: =VLOOKUP($A$12&"_"&$E2,$A$23:$F$167,3,FALSE) -> #N/A | L2: =IF(ROWS($1:1)<=SUM(IF(Zone<>"",1/COUNTIF(Zone,Zone))),INDIRECT(ADDRESS(MOD(MIN(IF((Zone<>"")*(COUNTIF(E$1:E1,Zone)=0),COUNTIF(Zone,"<"&Zone)*10^5+ROW(Zone))),10^5),MOD(MOD(MIN(IF((Zone<>"")*(COUNTIF(E$1:E1,Zone)=0),COUNTIF(Zone,"<"&Zone)*10^5+ROW(Zone)*10^2+COLUMN(Zone))),10^5),10^2))),"") -> #VALUE!
A3: DEBUT | B3: 3 | E3: 2 | F3: =VLOOKUP($A$8&"_"&$E3,$A$23:$F$167,3,FALSE) -> #N/A | G3: =VLOOKUP($A$8&"_"&$E3,$A$23:$F$167,3,FALSE) -> #N/A | I3: =VLOOKUP($A$12&"_"&$E3,$A$23:$F$167,3,FALSE) -> #N/A | L3: =IF(ROWS($1:2)<=SUM(IF(Zone<>"",1/COUNTIF(Zone,Zone))),INDIRECT(ADDRESS(MOD(MIN(IF((Zone<>"")*(COUNTIF(E$1:E2,Zone)=0),COUNTIF(Zone,"<"&Zone)*10^5+ROW(Zone))),10^5),MOD(MOD(MIN(IF((Zone<>"")*(COUNTIF(E$1:E2,Zone)=0),COUNTIF(Zone,"<"&Zone)*10^5+ROW(Zone)*10^2+COLUMN(Zone))),10^5),10^2))),"") -> #VALUE!
A4: 44664 | B4: =VLOOKUP(A4&"_"&E2,$A$23:$F$167,3,FALSE) -> #N/A | C4: =COUNTIF($F$2:$F$17,B4) -> 16 | E4: 3 | F4: =VLOOKUP($A$8&"_"&$E4,$A$23:$F$167,3,FALSE) -> #N/A | G4: =VLOOKUP($A$8&"_"&$E4,$A$23:$F$167,3,FALSE) -> #N/A | I4: =VLOOKUP($A$12&"_"&$E4,$A$23:$F$167,3,FALSE) -> #N/A | L4: =IF(ROWS($1:3)<=SUM(IF(Zone<>"",1/COUNTIF(Zone,Zone))),INDIRECT(ADDRESS(MOD(MIN(IF((Zone<>"")*(COUNTIF(E$1:E3,Zone)=0),COUNTIF(Zone,"<"&Zone)*10^5+ROW(Zone))),10^5),MOD(MOD(MIN(IF((Zone<>"")*(COUNTIF(E$1:E3,Zone)=0),COUNTIF(Zone,"<"&Zone)*10^5+ROW(Zone)*10^2+COLUMN(Zone))),10^5),10^2))),"") -> #VALUE! | O4: =COUNTIF($A$23:$A$134,A4) -> 0
A5: =A4 -> 44664 | B5: =VLOOKUP(A5&"_"&E3,$A$23:$F$167,3,FALSE) -> #N/A | C5: =COUNTIF($F$2:$F$17,B5) -> 16 | E5: 4 | F5: =VLOOKUP($A$8&"_"&$E5,$A$23:$F$167,3,FALSE) -> #N/A | G5: =VLOOKUP($A$8&"_"&$E5,$A$23:$F$167,3,FALSE) -> #N/A | I5: =VLOOKUP($A$12&"_"&$E5,$A$23:$F$167,3,FALSE) -> #N/A | L5: =IF(ROWS($1:4)<=SUM(IF(Zone<>"",1/COUNTIF(Zone,Zone))),INDIRECT(ADDRESS(MOD(MIN(IF((Zone<>"")*(COUNTIF(E$1:E4,Zone)=0),COUNTIF(Zone,"<"&Zone)*10^5+ROW(Zone))),10^5),MOD(MOD(MIN(IF((Zone<>"")*(COUNTIF(E$1:E4,Zone)=0),COUNTIF(Zone,"<"&Zone)*10^5+ROW(Zone)*10^2+COLUMN(Zone))),10^5),10^2))),"") -> #VALUE! | O5: =COUNTIF($A$23:$A$134,A5) -> 0
A6: =A5 -> 44664 | B6: =VLOOKUP(A6&"_"&E4,$A$23:$F$167,3,FALSE) -> #N/A | C6: =COUNTIF($F$2:$F$17,B6) -> 16 | E6: 5 | F6: =VLOOKUP($A$8&"_"&$E6,$A$23:$F$167,3,FALSE) -> #N/A | G6: =VLOOKUP($A$8&"_"&$E6,$A$23:$F$167,3,FALSE) -> #N/A | I6: =VLOOKUP($A$12&"_"&$E6,$A$23:$F$167,3,FALSE) -> #N/A | L6: =IF(ROWS($1:5)<=SUM(IF(Zone<>"",1/COUNTIF(Zone,Zone))),INDIRECT(ADDRESS(MOD(MIN(IF((Zone<>"")*(COUNTIF(E$1:E5,Zone)=0),COUNTIF(Zone,"<"&Zone)*10^5+ROW(Zone))),10^5),MOD(MOD(MIN(IF((Zone<>"")*(COUNTIF(E$1:E5,Zone)=0),COUNTIF(Zone,"<"&Zone)*10^5+ROW(Zone)*10^2+COLUMN(Zone))),10^5),10^2))),"") -> #VALUE! | O6: =COUNTIF($A$23:$A$134,A6) -> 0
A7: =A6 -> 44664 | B7: =VLOOKUP(A7&"_"&E5,$A$23:$F$167,3,FALSE) -> #N/A | C7: =COUNTIF($F$2:$F$17,B7) -> 16 | E7: 6 | F7: =VLOOKUP($A$8&"_"&$E7,$A$23:$F$167,3,FALSE) -> #N/A | G7: =VLOOKUP($A$8&"_"&$E7,$A$23:$F$167,3,FALSE) -> #N/A | I7: =VLOOKUP($A$12&"_"&$E7,$A$23:$F$167,3,FALSE) -> #N/A | L7: =IF(ROWS($1:6)<=SUM(IF(Zone<>"",1/COUNTIF(Zone,Zone))),INDIRECT(ADDRESS(MOD(MIN(IF((Zone<>"")*(COUNTIF(E$1:E6,Zone)=0),COUNTIF(Zone,"<"&Zone)*10^5+ROW(Zone))),10^5),MOD(MOD(MIN(IF((Zone<>"")*(COUNTIF(E$1:E6,Zone)=0),COUNTIF(Zone,"<"&Zone)*10^5+ROW(Zone)*10^2+COLUMN(Zone))),10^5),10^2))),"") -> #VALUE! | O7: =COUNTIF($A$23:$A$134,A7) -> 0
A8: =+$A$4+1 -> 44665 | B8: =VLOOKUP(A8&"_"&E2,$A$23:$F$167,3,FALSE) -> #N/A | C8: =COUNTIF($F$2:$F$17,B8) -> 16 | E8: 7 | F8: =VLOOKUP($A$8&"_"&$E8,$A$23:$F$167,3,FALSE) -> #N/A | G8: =VLOOKUP($A$8&"_"&$E8,$A$23:$F$167,3,FALSE) -> #N/A | I8: =VLOOKUP($A$12&"_"&$E8,$A$23:$F$167,3,FALSE) -> #N/A | L8: =IF(ROWS($1:7)<=SUM(IF(Zone<>"",1/COUNTIF(Zone,Zone))),INDIRECT(ADDRESS(MOD(MIN(IF((Zone<>"")*(COUNTIF(E$1:E7,Zone)=0),COUNTIF(Zone,"<"&Zone)*10^5+ROW(Zone))),10^5),MOD(MOD(MIN(IF((Zone<>"")*(COUNTIF(E$1:E7,Zone)=0),COUNTIF(Zone,"<"&Zone)*10^5+ROW(Zone)*10^2+COLUMN(Zone))),10^5),10^2))),"") -> #VALUE! | O8: =COUNTIF($A$23:$A$134,A8) -> 0
A9: =+$A$4+1 -> 44665 | B9: =VLOOKUP(A9&"_"&E3,$A$23:$F$167,3,FALSE) -> #N/A | C9: =COUNTIF($F$2:$F$17,B9) -> 16 | E9: 8 | F9: =VLOOKUP($A$8&"_"&$E9,$A$23:$F$167,3,FALSE) -> #N/A | G9: =VLOOKUP($A$8&"_"&$E9,$A$23:$F$167,3,FALSE) -> #N/A | I9: =VLOOKUP($A$12&"_"&$E9,$A$23:$F$167,3,FALSE) -> #N/A | L9: =IF(ROWS($1:8)<=SUM(IF(Zone<>"",1/COUNTIF(Zone,Zone))),INDIRECT(ADDRESS(MOD(MIN(IF((Zone<>"")*(COUNTIF(E$1:E8,Zone)=0),COUNTIF(Zone,"<"&Zone)*10^5+ROW(Zone))),10^5),MOD(MOD(MIN(IF((Zone<>"")*(COUNTIF(E$1:E8,Zone)=0),COUNTIF(Zone,"<"&Zone)*10^5+ROW(Zone)*10^2+COLUMN(Zone))),10^5),10^2))),"") -> #VALUE! | O9: =COUNTIF($A$23:$A$134,A9) -> 0
A10: =+$A$4+1 -> 44665 | B10: =VLOOKUP(A10&"_"&E4,$A$23:$F$167,3,FALSE) -> #N/A | C10: =COUNTIF($F$2:$F$17,B10) -> 16 | E10: 9 | F10: =VLOOKUP($A$8&"_"&$E10,$A$23:$F$167,3,FALSE) -> #N/A | G10: =VLOOKUP($A$8&"_"&$E10,$A$23:$F$167,3,FALSE) -> #N/A | I10: =VLOOKUP($A$12&"_"&$E10,$A$23:$F$167,3,FALSE) -> #N/A | L10: =IF(ROWS($1:9)<=SUM(IF(Zone<>"",1/COUNTIF(Zone,Zone))),INDIRECT(ADDRESS(MOD(MIN(IF((Zone<>"")*(COUNTIF(E$1:E9,Zone)=0),COUNTIF(Zone,"<"&Zone)*10^5+ROW(Zone))),10^5),MOD(MOD(MIN(IF((Zone<>"")*(COUNTIF(E$1:E9,Zone)=0),COUNTIF(Zone,"<"&Zone)*10^5+ROW(Zone)*10^2+COLUMN(Zone))),10^5),10^2))),"") -> #VALUE! | O10: =COUNTIF($A$23:$A$134,A10) -> 0
A11: =+$A$4+1 -> 44665 | B11: =VLOOKUP(A11&"_"&E5,$A$23:$F$167,3,FALSE) -> #N/A | C11: =COUNTIF($F$2:$F$17,B11) -> 16 | E11: 10 | F11: =VLOOKUP($A$8&"_"&$E11,$A$23:$F$167,3,FALSE) -> #N/A | G11: =VLOOKUP($A$8&"_"&$E11,$A$23:$F$167,3,FALSE) -> #N/A | I11: =VLOOKUP($A$12&"_"&$E11,$A$23:$F$167,3,FALSE) -> #N/A | L11: =IF(ROWS($1:10)<=SUM(IF(Zone<>"",1/COUNTIF(Zone,Zone))),INDIRECT(ADDRESS(MOD(MIN(IF((Zone<>"")*(COUNTIF(E$1:E10,Zone)=0),COUNTIF(Zone,"<"&Zone)*10^5+ROW(Zone))),10^5),MOD(MOD(MIN(IF((Zone<>"")*(COUNTIF(E$1:E10,Zone)=0),COUNTIF(Zone,"<"&Zone)*10^5+ROW(Zone)*10^2+COLUMN(Zone))),10^5),10^2))),"") -> #VALUE! | O11: =COUNTIF($A$23:$A$134,A11) -> 0
A12: =IF($B$3<3,"",$A$8+1) -> 44666 | B12: =VLOOKUP(A12&"_"&E2,$A$23:$F$167,3,FALSE) -> #N/A | C12: =COUNTIF($F$2:$F$17,B12) -> 16 | E12: 11 | F12: =VLOOKUP($A$8&"_"&$E12,$A$23:$F$167,3,FALSE) -> #N/A | G12: =VLOOKUP($A$8&"_"&$E12,$A$23:$F$167,3,FALSE) -> #N/A | I12: =VLOOKUP($A$12&"_"&$E12,$A$23:$F$167,3,FALSE) -> #N/A | L12: =IF(ROWS($1:11)<=SUM(IF(Zone<>"",1/COUNTIF(Zone,Zone))),INDIRECT(ADDRESS(MOD(MIN(IF((Zone<>"")*(COUNTIF(E$1:E11,Zone)=0),COUNTIF(Zone,"<"&Zone)*10^5+ROW(Zone))),10^5),MOD(MOD(MIN(IF((Zone<>"")*(COUNTIF(E$1:E11,Zone)=0),COUNTIF(Zone,"<"&Zone)*10^5+ROW(Zone)*10^2+COLUMN(Zone))),10^5),10^2))),"") -> #VALUE! | O12: =COUNTIF($A$23:$A$134,A12) -> 0
A13: =IF($B$3<3,"",$A$8+1) -> 44666 | B13: =VLOOKUP(A13&"_"&E3,$A$23:$F$167,3,FALSE) -> #N/A | C13: =COUNTIF($F$2:$F$17,B13) -> 16 | E13: 12 | F13: =VLOOKUP($A$8&"_"&$E13,$A$23:$F$167,3,FALSE) -> #N/A | G13: =VLOOKUP($A$8&"_"&$E13,$A$23:$F$167,3,FALSE) -> #N/A | I13: =VLOOKUP($A$12&"_"&$E13,$A$23:$F$167,3,FALSE) -> #N/A | L13: =IF(ROWS($1:12)<=SUM(IF(Zone<>"",1/COUNTIF(Zone,Zone))),INDIRECT(ADDRESS(MOD(MIN(IF((Zone<>"")*(COUNTIF(E$1:E12,Zone)=0),COUNTIF(Zone,"<"&Zone)*10^5+ROW(Zone))),10^5),MOD(MOD(MIN(IF((Zone<>"")*(COUNTIF(E$1:E12,Zone)=0),COUNTIF(Zone,"<"&Zone)*10^5+ROW(Zone)*10^2+COLUMN(Zone))),10^5),10^2))),"") -> #VALUE! | O13: =COUNTIF($A$23:$A$134,A13) -> 0
A14: =IF($B$3<3,"",$A$8+1) -> 44666 | B14: =VLOOKUP(A14&"_"&E4,$A$23:$F$167,3,FALSE) -> #N/A | C14: =COUNTIF($F$2:$F$17,B14) -> 16 | E14: 13 | F14: =VLOOKUP($A$8&"_"&$E14,$A$23:$F$167,3,FALSE) -> #N/A | G14: =VLOOKUP($A$8&"_"&$E14,$A$23:$F$167,3,FALSE) -> #N/A | I14: =VLOOKUP($A$12&"_"&$E14,$A$23:$F$167,3,FALSE) -> #N/A | L14: =IF(ROWS($1:13)<=SUM(IF(Zone<>"",1/COUNTIF(Zone,Zone))),INDIRECT(ADDRESS(MOD(MIN(IF((Zone<>"")*(COUNTIF(E$1:E13,Zone)=0),COUNTIF(Zone,"<"&Zone)*10^5+ROW(Zone))),10^5),MOD(MOD(MIN(IF((Zone<>"")*(COUNTIF(E$1:E13,Zone)=0),COUNTIF(Zone,"<"&Zone)*10^5+ROW(Zone)*10^2+COLUMN(Zone))),10^5),10^2))),"") -> #VALUE! | O14: =COUNTIF($A$23:$A$134,A14) -> 0
A15: =IF($B$3<3,"",$A$8+1) -> 44666 | B15: =VLOOKUP(A15&"_"&E5,$A$23:$F$167,3,FALSE) -> #N/A | C15: =COUNTIF($F$2:$F$17,B15) -> 16 | E15: 14 | F15: =VLOOKUP($A$8&"_"&$E15,$A$23:$F$167,3,FALSE) -> #N/A | G15: =VLOOKUP($A$8&"_"&$E15,$A$23:$F$167,3,FALSE) -> #N/A | I15: =VLOOKUP($A$12&"_"&$E15,$A$23:$F$167,3,FALSE) -> #N/A | L15: =IF(ROWS($1:14)<=SUM(IF(Zone<>"",1/COUNTIF(Zone,Zone))),INDIRECT(ADDRESS(MOD(MIN(IF((Zone<>"")*(COUNTIF(E$1:E14,Zone)=0),COUNTIF(Zone,"<"&Zone)*10^5+ROW(Zone))),10^5),MOD(MOD(MIN(IF((Zone<>"")*(COUNTIF(E$1:E14,Zone)=0),COUNTIF(Zone,"<"&Zone)*10^5+ROW(Zone)*10^2+COLUMN(Zone))),10^5),10^2))),"") -> #VALUE! | O15: =COUNTIF($A$23:$A$134,A15) -> 0
E16: 15 | F16: =VLOOKUP($A$8&"_"&$E16,$A$23:$F$167,3,FALSE) -> #N/A | G16: =VLOOKUP($A$8&"_"&$E16,$A$23:$F$167,3,FALSE) -> #N/A | I16: =VLOOKUP($A$12&"_"&$E16,$A$23:$F$167,3,FALSE) -> #N/A
E17: 16 | F17: =VLOOKUP($A$8&"_"&$E17,$A$23:$F$167,3,FALSE) -> #N/A | G17: =VLOOKUP($A$8&"_"&$E17,$A$23:$F$167,3,FALSE) -> #N/A | I17: =VLOOKUP($A$12&"_"&$E17,$A$23:$F$167,3,FALSE) -> #N/A
A18: les formules ci-dessus me servent juste de note, j'avais cherché à faire des rechercheV avec ID unique pour faire afficher plusieurs résultats pour une même date recherchée, sans trop de succès :)
A20: les couleurs me servent juste à séparer visuellement les jours à préparer, base de 3 fabrications/semaine
A22: Client 1
A23: 44679 | B23: Concombre crème | C23: Tortellini ricotta épinards | E23: Rondelé aux noix | F23: Fruit de saison*
A24: 44680 | B24: Salade piémontaise | C24: Dos de colin | D24: Poêlée de légumes | E24: Epoisses | F24: Crème Roumanoff (framboise)
A25: 44681 | B25: Salade verte aux lardons de volaille | C25: Escalope de veau champignons | D25: Boulghour lentilles vertes | E25: Crème aux œufs menthe | F25: Fruit de saison*
A26: 44683 | B26: Taboulé de choux fleurs | C26: Filet de poulet crème | D26: Pennes au beurre | E26: Petits suisses | F26: Feuilletés Fruit ou amandes
A27: 44684 | B27: Croque madame | C27: Filet de hoki meunière | D27: Épinards à la crème | E27: Chaource | F27: Gâteau breton a la framboise
A28: 44685 | B28: Betteraves mimosa | C28: Emincé bœuf épices orientales | D28: Mélange world mix Marrakech | E28: Crème a la vanille | F28: Fromage a tartiner
A29: 44686 | B29: Friand fromage | C29: Pâtes carbonara | E29: Saint moret | F29: Riz au lait caramel
A30: 44687 | B30: Salade PDT hareng | C30: Papillote de poisson | D30: Courgettes persillée | E30: Fromage blanc | F30: Entremets abricot
A31: 44688 | B31: Betteraves Vinaigrette | C31: Sauté de bœuf provençal | D31: Boulgour lentilles vertes | E31: Reblochon | F31: Yaourt brassé
A32: 44691 | B32: Salade piémontaise | C32: Couscous | E32: Petits suisses | F32: Gâteau aux fruit(abricot, mirabelle )
A33: 44692 | B33: Macédoine de légumes | C33: Paëlla maison | E33: Beaufort | F33: Crème dessert
A34: 44693 | B34: Cervelas | C34: Aile de raie aux capres | D34: Pommes vapeur | E34: Fruit cuit (pomme caramélisée ou vanille ou groseille, poire choco,figue rôtie…) | F34: Fromage a tartiner
A38: Client 2
A39: 44679 | B39: Concombre crème | C39: Tortellini ricotta épinards | E39: Rondelé aux noix | F39: Fruit de saison*
A40: 44680 | B40: Salade piémontaise | C40: Dos de colin | D40: Poêlée de légumes | E40: Epoisses | F40: Crème Roumanoff (framboise)
A41: 44681 | B41: Salade verte aux lardons de volaille | C41: Escalope de veau champignons | D41: Boulghour lentilles vertes | E41: Crème aux œufs menthe | F41: Fruit de saison*
A42: 44683 | B42: Taboulé de choux fleurs | C42: Filet de poulet crème | D42: Pennes au beurre | E42: Petits suisses | F42: Feuilletés Fruit ou amandes
A43: 44684 | B43: Croque madame | C43: Filet de hoki meunière | D43: Épinards à la crème | E43: Chaource | F43: Gâteau breton a la framboise
A44: 44685 | B44: Betteraves mimosa | C44: Emincé bœuf épices orientales | D44: Mélange world mix Marrakech | E44: Crème a la vanille | F44: Fromage a tartiner
A45: 44686 | B45: Friand fromage | C45: Pâtes carbonara | E45: Saint moret | F45: Riz au lait caramel
A46: 44687 | B46: Salade PDT hareng | C46: Papillote de poisson | D46: Courgettes persillée | E46: Fromage blanc | F46: Entremets abricot
...

Sheet préparations passées
A1: Client 1
A2: 44678 | B2: une entrée | C2: un plat | D2: une garniture | E2: un laitage | F2: un dessert
A9: Client 2
A10: 44677 | B10: une entrée | C10: un plat | D10: une garniture | E10: un laitage | F10: un dessert
A11: 44678 | B11: une entrée | C11: un plat | D11: une garniture | E11: un laitage | F11: un dessert

Sheet Achat
C2: A préparer pour les 3 prochains jours : | D2: 44681
B4: Nb parts
A5: Jour 1 | B5: 1 | C5: =IF(ROWS($1:$1)>COUNTIF(Liste!$J$4:$J$1257,$D$2),"",INDEX(Liste!$D:$D, MATCH($D$2,Liste!$J$4:$J$1257,0)+ROWS($2:$5)-1)) -> Salade verte aux lardons de volaille | D5: =IF(ROWS($1:$1)>COUNTIF(Liste!J$4:$J$1257,$D$2),"",INDEX(Liste!$E:$E, MATCH($D$2,Liste!$J$4:$J$1257,0)+ROWS($2:$5)-1)) -> Escalope de veau champignons | E5: =IF(ROWS($1:$1)>COUNTIF(Liste!$J$4:$J$1257,$D$2),"",INDEX(Liste!$F:$F, MATCH($D$2,Liste!$J$4:$J$1257,0)+ROWS($2:$5)-1)) | F5: =IF(ROWS($1:1)>COUNTIF(Liste!$J$4:$J$1257,$D$2),"",INDEX(Liste!G:G, MATCH($D$2,Liste!$J$4:$J$1257,0)+ROWS($2:5)-1)) -> Boulghour lentilles vertes | G5: =IF(ROWS($1:$1)>COUNTIF(Liste!$J$4:$J$1257,$D$2),"",INDEX(Liste!$H:$H, MATCH($D$2,Liste!$J$4:$J$1257,0)+ROWS($2:$5)-1)) -> Yaourt nature | H5: =IF(ROWS($1:$1)>COUNTIF(Liste!$J$4:$J$1257,$D$2),"",INDEX(Liste!$I:$I, MATCH($D$2,Liste!$J$4:$J$1257,0)+ROWS($2:$5)-1)) -> Fruit de saison*
A9: Jour 1b | B9: 1 | C9: =IF(ROWS($1:$1)>COUNTIF(Liste!$J$4:$J$1257,$D$2),"",INDEX(Liste!$D:$D, MATCH($D$2,Liste!$J$4:$J$1257,0)+ROWS($2:$6)-1)) -> Pamplemousse | D9: =IF(ROWS($1:$1)>COUNTIF(Liste!$J$4:$J$1257,$D$2),"",INDEX(Liste!$E:$E, MATCH($D$2,Liste!$J$4:$J$1257,0)+ROWS($2:$6)-1)) -> Sauté de porc | E9: =IF(ROWS($1:$1)>COUNTIF(Liste!$J$4:$J$1257,$D$2),"",INDEX(Liste!$F:$F, MATCH($D$2,Liste!$J$4:$J$1257,0)+ROWS($2:$6)-1)) -> Semoule | F9: =IF(ROWS($1:$1)>COUNTIF(Liste!$J$4:$J$1257,$D$2),"",INDEX(Liste!$G:$G, MATCH($D$2,Liste!$J$4:$J$1257,0)+ROWS($2:$6)-1)) | G9: =IF(ROWS($1:$1)>COUNTIF(Liste!$J$4:$J$1257,$D$2),"",INDEX(Liste!$H:$H, MATCH($D$2,Liste!$J$4:$J$1257,0)+ROWS($2:$6)-1)) -> Crème aux œufs menthe ou chocolat | H9: =IF(ROWS($1:$1)>COUNTIF(Liste!$J$4:$J$1257,$D$2),"",INDEX(Liste!$I:$I, MATCH($D$2,Liste!$J$4:$J$1257,0)+ROWS($2:$6)-1)) -> Fruit de saison*
A12: Jour 2 | B12: 1 | C12: =IF(ROWS($1:$1)>COUNTIF(Liste!$J$4:$J$1257,$D$2),"",INDEX(Liste!$D:$D, MATCH($D$2,Liste!$J$4:$J$1257,0)+ROWS($2:$7)-1)) -> Champignons grecque | D12: =IF(ROWS($1:$1)>COUNTIF(Liste!$J$4:$J$1257,$D$2),"",INDEX(Liste!$E:$E, MATCH($D$2,Liste!$J$4:$J$1257,0)+ROWS($2:$7)-1)) -> Rôti de porc au jus brun | E12: =IF(ROWS($1:$1)>COUNTIF(Liste!$J$4:$J$1257,$D$2),"",INDEX(Liste!$F:$F, MATCH($D$2,Liste!$J$4:$J$1257,0)+ROWS($2:$7)-1)) | F12: =IF(ROWS($1:$1)>COUNTIF(Liste!$J$4:$J$1257,$D$2),"",INDEX(Liste!$G:$G, MATCH($D$2,Liste!$J$4:$J$1257,0)+ROWS($2:$7)-1)) -> Mogettes de Vendée | G12: =IF(ROWS($1:$1)>COUNTIF(Liste!$J$4:$J$1257,$D$2),"",INDEX(Liste!$H:$H, MATCH($D$2,Liste!$J$4:$J$1257,0)+ROWS($2:$7)-1)) -> Saint moret | H12: =IF(ROWS($1:$1)>COUNTIF(Liste!$J$4:$J$1257,$D$2),"",INDEX(Liste!$I:$I, MATCH($D$2,Liste!$J$4:$J$1257,0)+ROWS($2:$7)-1)) -> Yaourt aromatisé
B14: Nb parts
A15: Jour 2b | B15: 1 | C15: =IF(ROWS($1:$1)>COUNTIF(Liste!$J$4:$J$1257,$D$2),"",INDEX(Liste!$D:$D, MATCH($D$2,Liste!$J$4:$J$1257,0)+ROWS($2:$8)-1)) -> Asperges | D15: =IF(ROWS($1:$1)>COUNTIF(Liste!$J$4:$J$1257,$D$2),"",INDEX(Liste!$E:$E, MATCH($D$2,Liste!$J$4:$J$1257,0)+ROWS($2:$8)-1)) -> Canette à l’orange | E15: =IF(ROWS($1:$1)>COUNTIF(Liste!$J$4:$J$1257,$D$2),"",INDEX(Liste!$F:$F, MATCH($D$2,Liste!$J$4:$J$1257,0)+ROWS($2:$8)-1)) -> 0 | F15: =IF(ROWS($1:$1)>COUNTIF(Liste!$J$4:$J$1257,$D$2),"",INDEX(Liste!$G:$G, MATCH($D$2,Liste!$J$4:$J$1257,0)+ROWS($2:$8)-1)) -> Pomme noisettes | G15: =IF(ROWS($1:$1)>COUNTIF(Liste!$J$4:$J$1257,$D$2),"",INDEX(Liste!$H:$H, MATCH($D$2,Liste!$J$4:$J$1257,0)+ROWS($2:$8)-1)) -> Neufchâtel | H15: =IF(ROWS($1:$1)>COUNTIF(Liste!$J$4:$J$1257,$D$2),"",INDEX(Liste!$I:$I, MATCH($D$2,Liste!$J$4:$J$1257,0)+ROWS($2:$8)-1)) -> Fruit de saison*
A19: Jour 3 | B19: 1 | C19: =IF(ROWS($1:$1)>COUNTIF(Liste!$J$4:$J$1257,$D$2),"",INDEX(Liste!$D:$D, MATCH($D$2,Liste!$J$4:$J$1257,0)+ROWS($2:$9)-1)) -> Taboulé de choux fleurs | D19: =IF(ROWS($1:$1)>COUNTIF(Liste!$J$4:$J$1257,$D$2),"",INDEX(Liste!$E:$E, MATCH($D$2,Liste!$J$4:$J$1257,0)+ROWS($2:$9)-1)) -> Filet de poulet crème | E19: =IF(ROWS($1:$1)>COUNTIF(Liste!$J$4:$J$1257,$D$2),"",INDEX(Liste!$F:$F, MATCH($D$2,Liste!$J$4:$J$1257,0)+ROWS($2:$9)-1)) | F19: =IF(ROWS($1:$1)>COUNTIF(Liste!$J$4:$J$1257,$D$2),"",INDEX(Liste!$G:$G, MATCH($D$2,Liste!$J$4:$J$1257,0)+ROWS($2:$9)-1)) -> Pennes au beurre | G19: =IF(ROWS($1:$1)>COUNTIF(Liste!$J$4:$J$1257,$D$2),"",INDEX(Liste!$H:$H, MATCH($D$2,Liste!$J$4:$J$1257,0)+ROWS($2:$9)-1)) -> Semoule caramel | H19: =IF(ROWS($1:$1)>COUNTIF(Liste!$J$4:$J$1257,$D$2),"",INDEX(Liste!$I:$I, MATCH($D$2,Liste!$J$4:$J$1257,0)+ROWS($2:$9)-1)) -> Fruit de saison*
A22: Jour 3b | B22: 1 | C22: =IF(ROWS($1:$1)>COUNTIF(Liste!$J$4:$J$1257,$D$2),"",INDEX(Liste!$D:$D, MATCH($D$2,Liste!$J$4:$J$1257,0)+ROWS($2:$10)-1)) -> Pâté en croûte | D22: =IF(ROWS($1:$1)>COUNTIF(Liste!$J$4:$J$1257,$D$2),"",INDEX(Liste!$E:$E, MATCH($D$2,Liste!$J$4:$J$1257,0)+ROWS($2:$10)-1)) -> Paupiette de veau à l ancienne | E22: =IF(ROWS($1:$1)>COUNTIF(Liste!$J$4:$J$1257,$D$2),"",INDEX(Liste!$F:$F, MATCH($D$2,Liste!$J$4:$J$1257,0)+ROWS($2:$10)-1)) -> 0 | F22: =IF(ROWS($1:$1)>COUNTIF(Liste!$J$4:$J$1257,$D$2),"",INDEX(Liste!$G:$G, MATCH($D$2,Liste!$J$4:$J$1257,0)+ROWS($2:$10)-1)) -> Riz pilaf | G22: =IF(ROWS($1:$1)>COUNTIF(Liste!$J$4:$J$1257,$D$2),"",INDEX(Liste!$H:$H, MATCH($D$2,Liste!$J$4:$J$1257,0)+ROWS($2:$10)-1)) -> Petits suisses | H22: =IF(ROWS($1:$1)>COUNTIF(Liste!$J$4:$J$1257,$D$2),"",INDEX(Liste!$I:$I, MATCH($D$2,Liste!$J$4:$J$1257,0)+ROWS($2:$10)-1)) -> Feuilletés Fruit ou amandes
C27: ici en fonction de la date, les 3 prochains jours se mettent à jour tout seul avec tous les choix possibles mais je ne me sers pas vraiment de cet onglet pas fini :)

Sheet Prépa
B2: Date | C2: 44681
B3: Préparations des : | C3: =+C2 -> 44681 | D3: =+C3+1 -> 44682 | E3: =+D3+1 -> 44683 | F3: =+E3+1 -> 44684 | G3: =+F3+1 -> 44685 | H3: =+G3+1 -> 44686 | I3: =+H3+1 -> 44687
B5: nb clients a servir | C5: =COUNTIF(planif!$A$21:$A$127,Prépa!C3) -> 7 | D5: =COUNTIF(planif!$A$21:$A$127,Prépa!D3) -> 4 | E5: =COUNTIF(planif!$A$21:$A$127,Prépa!E3) -> 6 | F5: =COUNTIF(planif!$A$21:$A$127,Prépa!F3) -> 7 | G5: =COUNTIF(planif!$A$21:$A$127,Prépa!G3) -> 7 | H5: =COUNTIF(planif!$A$21:$A$127,Prépa!H3) -> 7 | I5: =COUNTIF(planif!$A$21:$A$127,Prépa!I3) -> 7
C7: =COUNTIF(planif!$B:$F,Prépa!C8) -> 5 | D7: =COUNTIF(planif!$B:$F,Prépa!D8) -> 3 | E7: =COUNTIF(planif!$B:$F,Prépa!E8) -> 5 | F7: =COUNTIF(planif!$B:$F,Prépa!F8) -> 0 | G7: =COUNTIF(planif!$B:$F,Prépa!G8) -> 6 | H7: =COUNTIF(planif!$B:$F,Prépa!H8) -> 0 | I7: =COUNTIF(planif!$B:$F,Prépa!I8) -> 1
B8: ENTREE 1 | C8: =+Achat!C5 -> Salade verte aux lardons de volaille | D8: =+Achat!C12 -> Champignons grecque | E8: =+Achat!C19 -> Taboulé de choux fleurs | F8: =VLOOKUP($C$2+4,Tableau4[[Date]:[Dessert]],2,FALSE) -> Salade duo crudités | G8: =VLOOKUP($C$2+5,Tableau4[[Date]:[Dessert]],2,FALSE) -> Friand fromage | H8: =VLOOKUP($C$2+6,Tableau4[[Date]:[Dessert]],2,FALSE) -> Crudités avec fromage | I8: =VLOOKUP($C$2+7,Tableau4[[Date]:[Dessert]],2,FALSE) -> Betteraves Vinaigrette
C9: =COUNTIF(planif!$B:$F,Prépa!C10) -> 0 | D9: =COUNTIF(planif!$B:$F,Prépa!D10) -> 0 | E9: =COUNTIF(planif!$B:$F,Prépa!E10) -> 0
B10: ENTREE 2 | C10: =+Achat!C9 -> Pamplemousse | D10: =+Achat!C15 -> Asperges | E10: =+Achat!C22 -> Pâté en croûte
C12: =COUNTIF(planif!$B:$F,Prépa!C13) -> 6 | D12: =COUNTIF(planif!$B:$F,Prépa!D13) -> 0 | E12: =COUNTIF(planif!$B:$F,Prépa!E13) -> 6 | F12: =COUNTIF(planif!$B:$F,Prépa!F13) -> 7 | G12: =COUNTIF(planif!$B:$F,Prépa!G13) -> 0 | H12: =COUNTIF(planif!$B:$F,Prépa!H13) -> 0 | I12: =COUNTIF(planif!$B:$F,Prépa!I13) -> 1
B13: PLAT 1 | C13: =+Achat!D5 -> Escalope de veau champignons | D13: =+Achat!D12 -> Rôti de porc au jus brun | E13: =+Achat!D19 -> Filet de poulet crème | F13: =VLOOKUP($C$2+4,Tableau4[[Date]:[Dessert]],3,FALSE) -> Emincé bœuf épices orientales | G13: =VLOOKUP($C$2+5,Tableau4[[Date]:[Dessert]],3,FALSE) -> Galette lentille et blé cuite | H13: =VLOOKUP($C$2+6,Tableau4[[Date]:[Dessert]],3,FALSE) -> Aiguillettes de poulet crème | I13: =VLOOKUP($C$2+7,Tableau4[[Date]:[Dessert]],3,FALSE) -> Sauté de bœuf provençal
C14: =+Achat!E5 | D14: =+Achat!E12 | F14: =VLOOKUP($C$2+4,Tableau4[[Date]:[Dessert]],4,FALSE) -> Mélange world mix Marrakech | G14: =VLOOKUP($C$2+5,Tableau4[[Date]:[Dessert]],4,FALSE) -> Haricots verts | H14: =VLOOKUP($C$2+6,Tableau4[[Date]:[Dessert]],4,FALSE) | I14: =VLOOKUP($C$2+7,Tableau4[[Date]:[Dessert]],4,FALSE) -> 0
C15: =+Achat!F5 -> Boulghour lentilles vertes | D15: =+Achat!F12 -> Mogettes de Vendée | F15: =VLOOKUP($C$2+4,Tableau4[[Date]:[Dessert]],5,FALSE) | G15: =VLOOKUP($C$2+5,Tableau4[[Date]:[Dessert]],5,FALSE) | H15: =VLOOKUP($C$2+6,Tableau4[[Date]:[Dessert]],5,FALSE) -> Riz aux petits légumes | I15: =VLOOKUP($C$2+7,Tableau4[[Date]:[Dessert]],5,FALSE) -> Boulgour lentilles vertes
C16: =COUNTIF(planif!$B:$F,Prépa!C17) -> 0 | D16: =COUNTIF(planif!$B:$F,Prépa!D17) -> 4 | E16: =COUNTIF(planif!$B:$F,Prépa!E17) -> 0
B17: PLAT 2 | C17: =+Achat!D9 -> Sauté de porc | D17: =+Achat!D15 -> Canette à l’orange | E17: =+Achat!D22 -> Paupiette de veau à l ancienne
C18: =+Achat!E9 -> Semoule | D18: =+Achat!E15 -> 0 | E18: =+Achat!E22 -> 0
C19: =+Achat!F9 | D19: =+Achat!F15 -> Pomme noisettes | E19: =+Achat!F22 -> Riz pilaf
C21: =COUNTIF(planif!$B:$F,Prépa!C22) -> 0 | D21: =COUNTIF(planif!$B:$F,Prépa!D22) -> 3 | E21: =COUNTIF(planif!$B:$F,Prépa!E22) -> 4 | F21: =COUNTIF(planif!$B:$F,Prépa!F22) -> 0 | G21: =COUNTIF(planif!$B:$F,Prépa!G22) -> 0 | H21: =COUNTIF(planif!$B:$F,Prépa!H22) -> 0 | I21: =COUNTIF(planif!$B:$F,Prépa!I22) -> 1
B22: FROM 1 | C22: =+Achat!G5 -> Yaourt nature | D22: =+Achat!G12 -> Saint moret | E22: =+Achat!G19 -> Semoule caramel | F22: =VLOOKUP($C$2+4,Tableau4[[Date]:[Dessert]],6,FALSE) -> Saint nectaire | G22: =VLOOKUP($C$2+5,Tableau4[[Date]:[Dessert]],6,FALSE) -> Ossau Iraty | H22: =VLOOKUP($C$2+6,Tableau4[[Date]:[Dessert]],6,FALSE) -> Yaourt aux fruits | I22: =VLOOKUP($C$2+7,Tableau4[[Date]:[Dessert]],6,FALSE) -> Reblochon
C23: =COUNTIF(planif!$B:$F,Prépa!C24) -> 0 | D23: =COUNTIF(planif!$B:$F,Prépa!D24) -> 0 | E23: =COUNTIF(planif!$B:$F,Prépa!E24) -> 7
B24: FROM 2 | C24: =+Achat!G9 -> Crème aux œufs menthe ou chocolat | D24: =+Achat!G15 -> Neufchâtel | E24: =+Achat!G22 -> Petits suisses
C26: =COUNTIF(planif!$B:$F,Prépa!C27) -> 19 | D26: =COUNTIF(planif!$B:$F,Prépa!D27) -> 4 | E26: =COUNTIF(planif!$B:$F,Prépa!E27) -> 19 | F26: =COUNTIF(planif!$B:$F,Prépa!F27) -> 19 | G26: =COUNTIF(planif!$B:$F,Prépa!G27) -> 7 | H26: =COUNTIF(planif!$B:$F,Prépa!H27) -> 19 | I26: =COUNTIF(planif!$B:$F,Prépa!I27) -> 1
B27: DESSERT 1 | C27: =+Achat!H5 -> Fruit de saison* | D27: =+Achat!H12 -> Yaourt aromatisé | E27: =+Achat!H19 -> Fruit de saison* | F27: =VLOOKUP($C$2+4,Tableau4[[Date]:[Dessert]],7,FALSE) -> Fruit de saison* | G27: =VLOOKUP($C$2+5,Tableau4[[Date]:[Dessert]],7,FALSE) -> Riz au lait caramel | H27: =VLOOKUP($C$2+6,Tableau4[[Date]:[Dessert]],7,FALSE) -> Fruit de saison* | I27: =VLOOKUP($C$2+7,Tableau4[[Date]:[Dessert]],7,FALSE) -> Yaourt brassé
C28: =COUNTIF(planif!$B:$F,Prépa!C29) -> 19 | D28: =COUNTIF(planif!$B:$F,Prépa!D29) -> 19 | E28: =COUNTIF(planif!$B:$F,Prépa!E29) -> 6
B29: DESSERT 2 | C29: =+Achat!H9 -> Fruit de saison* | D29: =+Achat!H15 -> Fruit de saison* | E29: =+Achat!H22 -> Feuilletés Fruit ou amandes
C35: ici l'objectif était de compter facilement les occurrences d'un item au lieu de compter manuellement
C36: problème : source d erreur si un plat est mal orthographié, ou si la casse n'est pas respectée.
C37: De plus, je ne peux pas compter facilement (exemple les fruits) pour les 2 ou 3 prochains jours, il m'affiche 23 ici puisque je ne veux pas mettre à jour la source de donnée toutes les semaines au fur et à mesure du temps qui passe
C38: Je n'ai pas de formule ou de modèle de présentation pour avoir un décompte précis. Dans l'idéal j'aurai aimé avoir toutes les infos dans l'onglet planif ou je rentre les commandes de mes clients
