Workbook

Sheet Feuil1
I4: COMMISSION 1 | J4: COMMISSION 2 | K4: MONTANT TTC | L4: MONTANT HT | M4: CUMUL
H6: OK | I6: 600 | J6: 600 | K6: =I6+J6 -> 1200 | L6: =K6/1.2 -> 1000 | M6: =L6 -> 1000
H7: OK | I7: 600 | J7: 600 | K7: =I7+J7 -> 1200 | L7: =K7/1.2 -> 1000 | M7: =IF(Feuil1!$H7<>"",SUM(L6:L7),"") -> 2000
H8: OK | I8: 600 | J8: 600 | K8: =I8+J8 -> 1200 | L8: =K8/1.2 -> 1000 | M8: =IF(Feuil1!$H8<>"",SUM(L6:L8),"") -> 3000
H9: OK | I9: 600 | J9: 600 | K9: =I9+J9 -> 1200 | L9: =K9/1.2 -> 1000 | M9: =IF(Feuil1!$H9<>"",SUM(L6:L9),"") -> 4000
H10: OK | I10: 300 | J10: 300 | K10: =I10+J10 -> 600 | L10: =K10/1.2 -> 500 | M10: =IF(Feuil1!$H10<>"",SUM(L6:L10),"") -> 4500
H11: OK | I11: 900 | J11: 900 | K11: =I11+J11 -> 1800 | L11: =K11/1.2 -> 1500 | M11: =IF(Feuil1!$H11<>"",SUM(L6:L11),"") -> 6000
H12: OK | I12: 1250 | J12: 1250 | K12: =I12+J12 -> 2500 | L12: =K12/1.2 -> 2083.3333 | M12: =IF(Feuil1!$H12<>"",SUM(L6:L12),"") -> 8083.3333
H13: OK | I13: 1500 | J13: 1500 | K13: =I13+J13 -> 3000 | L13: =K13/1.2 -> 2500 | M13: =IF(Feuil1!$H13<>"",SUM(L6:L13),"") -> 10583.333
H14: OK | I14: 1250 | J14: 1250 | K14: =I14+J14 -> 2500 | L14: =K14/1.2 -> 2083.3333 | M14: =IF(Feuil1!$H14<>"",SUM(L6:L14),"") -> 12666.667
K15: =SUBTOTAL(109,Feuil1!$K$6:$K$14) -> 15200 | L15: =SUBTOTAL(109,Feuil1!$L$6:$L$14) -> 12666.667 | M15: =SUM(M6:M14) -> 51833.333 | N15: =(VLOOKUP(Feuil1!$L$15,E22:G29,2))*Feuil1!$L$15+(VLOOKUP(Feuil1!$L$15,E22:G29,3)) -> 10553.333
L20: TTC | M20: HT | N20: CUMUL | O20: COMM
L21: 1200 | M21: =L21/1.2 -> 1000 | N21: =M21 -> 1000 | O21: =M21*70% -> 700
E22: seuil | F22: % | G22: correctif calculé | L22: 1200 | M22: =L22/1.2 -> 1000 | N22: =M22+N21 -> 2000 | O22: =Tableau2[[#This Row],[HT]]*70% -> 700
E23: 0 | F23: 0.7 | G23: 0 | L23: 1200 | M23: =L23/1.2 -> 1000 | N23: =M23+N22 -> 3000 | O23: =Tableau2[[#This Row],[HT]]*75% -> 750
E24: 2000 | F24: 0.75 | G24: =(F23-F24)*E24+G23 -> -100 | L24: 1200 | M24: =L24/1.2 -> 1000 | N24: =M24+N23 -> 4000 | O24: =Tableau2[[#This Row],[HT]]*75% -> 750
E25: 4000 | F25: 0.8 | G25: =(F24-F25)*E25+G24 -> -300 | L25: 600 | M25: =L25/1.2 -> 500 | N25: =M25+N24 -> 4500 | O25: =Tableau2[[#This Row],[HT]]*80% -> 400
E26: 6000 | F26: 0.85 | G26: =(F25-F26)*E26+G25 -> -600 | L26: 1800 | M26: =L26/1.2 -> 1500 | N26: =M26+N25 -> 6000 | O26: =M26*80% -> 1200
E27: 8000 | F27: 0.9 | G27: =(F26-F27)*E27+G26 -> -1000 | L27: 2500 | M27: =L27/1.2 -> 2083.3333 | N27: =M27+N26 -> 8083.3333 | O27: =((2000*85%)+((Tableau2[[#This Row],[HT]]-2000)*90%)) -> 1775
E28: 10000 | F28: 0.95 | G28: =(F27-F28)*E28+G27 -> -1500 | L28: 3000 | M28: =L28/1.2 -> 2500 | N28: =M28+N27 -> 10583.333 | O28: =((2000*90%)+((Tableau2[[#This Row],[CUMUL]]-10000)*95%)) -> 2354.1667
E29: 12000 | F29: 0.98 | G29: =(F28-F29)*E29+G28 -> -1860 | L29: 2500 | M29: =L29/1.2 -> 2083.3333 | N29: =M29+N28 -> 12666.667 | O29: =((2000*95%)+((Tableau2[[#This Row],[HT]]-2000)*98%)) -> 1981.6667
L30: Total | M30: =SUBTOTAL(109,Tableau2[HT]) -> 12666.667 | N30: =SUBTOTAL(109,Tableau2[CUMUL]) -> 51833.333 | O30: =SUBTOTAL(109,Tableau2[COMM]) -> 10610.833

Sheet Feuil2
