Workbook

Sheet accueil

Sheet liste_parents
B3: Classe de | D3: 4EA | E3: Coordonnées eleves - parents
B4: 2015-2016
A6: Nom / Prénom | B6: Statut | C6: Date | D6: Parents | E6: adresse | F6: ville | G6: tel | H6: Tuteur, educateur coordonnée tél | I6: Situation Familiale
A7: a | B7: DP | C7: a | D7: a | E7: adresse | F7: a | G7: a
A8: b | C8: b | D8: b | E8: b
A9: C | B9: P | C9: c | D9: c | E9: c | F9: c | G9: c
A39: Total élèves
A40: =SUMPRODUCT((A7:A36<>"")*1) -> 3

Sheet Emargement
A1: Liste élèves
A2: Classe de | B2: =liste_parents!D3 -> 4EA
A4: Total élèves | B4: =SUMPRODUCT((A7:A36<>"")*1) -> 30
A6: =liste_parents!A6 -> Nom / Prénom | B6: Signature
A7: =liste_parents!A7 -> a
A8: =liste_parents!A8 -> b
A9: =liste_parents!A9 -> C
A10: =liste_parents!A10 -> 0
A11: =liste_parents!A11 -> 0
A12: =liste_parents!A12 -> 0
A13: =liste_parents!A13 -> 0
A14: =liste_parents!A14 -> 0
A15: =liste_parents!A15 -> 0
A16: =liste_parents!A16 -> 0
A17: =liste_parents!A17 -> 0
A18: =liste_parents!A18 -> 0
... A36: =liste_parents!A36 -> 0

Sheet presence
D1: Tableau de présence
D2: Septembre
D4: MFR | O4: Stage | Z4: Vacances | AK4: Vacances | AV4: Vacances
D5: Lundi | F5: Mardi | H5: Mercredi | J5: Jeudi | L5: Vendredi | O5: Lundi | Q5: Mardi | S5: Mercredi | U5: Jeudi | W5: Vendredi | Z5: Lundi | AB5: Mardi | AD5: Mercredi | AF5: Jeudi | AH5: Vendredi | AK5: Lundi | AM5: Mardi | AO5: Mercredi | AQ5: Jeudi | AS5: Vendredi | AV5: Lundi | AX5: Mardi | AZ5: Mercredi | BB5: Jeudi | BD5: Vendredi
D6: 1 | F6: =D6+1 -> 2 | H6: =F6+1 -> 3 | J6: =H6+1 -> 4 | L6: =J6+1 -> 5 | O6: =L6+3 -> 8 | Q6: =O6+1 -> 9 | S6: =Q6+1 -> 10 | U6: =S6+1 -> 11 | W6: =U6+1 -> 12 | Z6: =W6+3 -> 15 | AB6: =Z6+1 -> 16 | AD6: =AB6+1 -> 17 | AF6: =AD6+1 -> 18 | AH6: =AF6+1 -> 19 | AK6: =AH6+3 -> 22 | AM6: =AK6+1 -> 23 | AO6: =AM6+1 -> 24 | AQ6: =AO6+1 -> 25 | AS6: =AQ6+1 -> 26 | AV6: =AS6+3 -> 29 | AX6: =AV6+1 -> 30 | AZ6: =AX6+1 -> 31 | BB6: =AZ6+1 -> 32 | BD6: =BB6+1 -> 33
A7: Nom | B7: Statut | C7: Date | D7: M | E7: AM | F7: M | G7: AM | H7: M | I7: AM | J7: M | K7: AM | L7: M | M7: AM | O7: M | P7: AM | Q7: M | R7: AM | S7: M | T7: AM | U7: M | V7: AM | W7: M | X7: AM | Z7: M | AA7: AM | AB7: M | AC7: AM | AD7: M | AE7: AM | AF7: M | AG7: AM | AH7: M | AI7: AM | AK7: M | AL7: AM | AM7: M | AN7: AM | AO7: M | AP7: AM | AQ7: M | AR7: AM | AS7: M | AT7: AM | AV7: M | AW7: AM | AX7: M | AY7: AM | AZ7: M | BA7: AM | BB7: M | BC7: AM | BD7: M | BE7: AM | BG7: Nom | BH7: Absence | BI7: Injustifiée
A8: =liste_parents!A7 -> a | B8: =liste_parents!B7 -> DP | C8: =liste_parents!C7 -> a | D8: A | BG8: =A8 -> a | BH8: =COUNTIF(D8:BE8,"A")+BI8 -> 1 | BI8: =COUNTIF(D8:BE8,"AI") -> 0
A9: =liste_parents!A8 -> b | B9: =liste_parents!B8 -> 0 | C9: =liste_parents!C8 -> b | D9: AI | BG9: =A9 -> b
A10: =liste_parents!A9 -> C | B10: =liste_parents!B9 -> P | C10: =liste_parents!C9 -> c | D10: b | E10: b | BG10: =A10 -> C
A11: =liste_parents!A10 -> 0 | B11: =liste_parents!B10 -> 0 | C11: =liste_parents!C10 -> 0 | BG11: =A11 -> 0
A12: =liste_parents!A11 -> 0 | B12: =liste_parents!B11 -> 0 | C12: =liste_parents!C11 -> 0 | BG12: =A12 -> 0
A13: =liste_parents!A12 -> 0 | B13: =liste_parents!B12 -> 0 | C13: =liste_parents!C12 -> 0 | BG13: =A13 -> 0
A14: =liste_parents!A13 -> 0 | B14: =liste_parents!B13 -> 0 | C14: =liste_parents!C13 -> 0 | BG14: =A14 -> 0
A15: =liste_parents!A14 -> 0 | B15: =liste_parents!B14 -> 0 | C15: =liste_parents!C14 -> 0 | BG15: =A15 -> 0
A16: =liste_parents!A15 -> 0 | B16: =liste_parents!B15 -> 0 | C16: =liste_parents!C15 -> 0 | BG16: =A16 -> 0
A17: =liste_parents!A16 -> 0 | B17: =liste_parents!B16 -> 0 | C17: =liste_parents!C16 -> 0 | BG17: =A17 -> 0
A18: =liste_parents!A17 -> 0 | B18: =liste_parents!B17 -> 0 | C18: =liste_parents!C17 -> 0 | BG18: =A18 -> 0
A19: =liste_parents!A18 -> 0 | B19: =liste_parents!B18 -> 0 | C19: =liste_parents!C18 -> 0 | BG19: =A19 -> 0
A20: =liste_parents!A19 -> 0 | B20: =liste_parents!B19 -> 0 | C20: =liste_parents!C19 -> 0 | BG20: =A20 -> 0
A21: =liste_parents!A20 -> 0 | B21: =liste_parents!B20 -> 0 | C21: =liste_parents!C20 -> 0 | BG21: =A21 -> 0
A22: =liste_parents!A21 -> 0 | B22: =liste_parents!B21 -> 0 | C22: =liste_parents!C21 -> 0 | BG22: =A22 -> 0
... A34: =liste_parents!A33 -> 0 | B34: =liste_parents!B33 -> 0 | C34: =liste_parents!C33 -> 0 | BG34: =A34 -> 0
A35: =liste_parents!A34 -> 0 | B35: =liste_parents!B34 -> 0 | C35: =liste_parents!C34 -> 0 | BG35: =#REF! -> #REF!
A36: Total
