Workbook
Name An: '[1]Récap annuel'!$A$1
Name date: Avril!$C$4:$M$4
Name début: Avril!#REF!
Name F: Avril!$B$5:$M$5
Name fin: Avril!#REF!
Name Personnels: Données!$E$2:$E$58

Sheet Avril
B3: 2015 | C3: 42095 | E3: 42096 | G3: 42097 | I3: 42117 | K3: 42118 | N3: Présent | O3: Vacances | P3: Maladie | Q3: Crédit horaire | R3: ARTT | S3: Obligations familiales | T3: Retraite proCressive | U3: Formation | V3: SyndiCat | W3: ConCés pat /mat | X3: Autres | Y3: TOTAL DU MOIS
B4: NOM Prénom | C4: =C3 -> 42095 | E4: =E3 -> 42096 | G4: =C3 -> 42095 | I4: =I3 -> 42117 | K4: =K3 -> 42118
G5: =IF(WEEKDAY(3:3,2)>5,"f","") | I5: =IF(WEEKDAY(3:3,2)>5,"f","") | K5: =IF(WEEKDAY(3:3,2)>5,"f","")
B6: =Données!$E$3 -> Pierre | C6: va | D6: va | E6: va | F6: va | G6: va | H6: va | I6: va | J6: va | K6: va | L6: va | N6: =(IF(COUNTIF($C6:$L6,"")+(COUNTIF($C6:$L6,"")/2)=0,"",COUNTIF($C6:$L6,"A")+(COUNTIF($C6:$L6,"")/2))) | O6: =IF(COUNTIF($C6:$L6,"Va")+(COUNTIF($C6:$L6,"Va")/2)=0,"",COUNTIF($C6:$L6,"VaA")+(COUNTIF($C6:$L6,"Va")/2)) -> 5 | P6: =IF(COUNTIF($C6:$M6,"Ma")+(COUNTIF($C6:$M6,"Ma")/2)=0,"",COUNTIF($C6:$M6,"Maa")+(COUNTIF($C6:$M6,"Ma")/2)) | Q6: =IF(COUNTIF($C6:$M6,"Ch")+(COUNTIF($C6:$M6,"Ch")/2)=0,"",COUNTIF($C6:$M6,"Cha")+(COUNTIF($C6:$M6,"Ch")/2)) | R6: =IF(COUNTIF($C6:$M6,"Att")+(COUNTIF($C6:$M6,"Att")/2)=0,"",COUNTIF($C6:$M6,"Atta")+(COUNTIF($C6:$M6,"Att")/2)) | S6: =IF(COUNTIF($C6:$M6,"Of")+(COUNTIF($C6:$M6,"Of")/2)=0,"",COUNTIF($C6:$M6,"Ofa")+(COUNTIF($C6:$M6,"Of")/2)) | T6: =IF(COUNTIF($C6:$M6,"Ret")+(COUNTIF($C6:$M6,"Ret")/2)=0,"",COUNTIF($C6:$M6,"Reta")+(COUNTIF($C6:$M6,"Ret")/2)) | U6: =IF(COUNTIF($C6:$M6,"Fo")+(COUNTIF($C6:$M6,"Fo")/2)=0,"",COUNTIF($C6:$M6,"Foa")+(COUNTIF($C6:$M6,"Fo")/2)) | V6: =IF(COUNTIF($C6:$M6,"Sy")+(COUNTIF($C6:$M6,"Sy")/2)=0,"",COUNTIF($C6:$M6,"Sya")+(COUNTIF($C6:$M6,"Sy")/2)) | W6: =IF(COUNTIF($C6:$M6,"Par")+(COUNTIF($C6:$M6,"Par")/2)=0,"",COUNTIF($C6:$M6,"Para")+(COUNTIF($C6:$M6,"Par")/2)) | X6: =IF(COUNTIF($C6:$M6,"Au")+(COUNTIF($C6:$M6,"Au")/2)=0,"",COUNTIF($C6:$M6,"Aua")+(COUNTIF($C6:$M6,"Au")/2))
B7: =Données!$E$4 -> Jean | N7: =(IF(COUNTIF($C7:$L7,"✓")+(COUNTIF($C7:$L7,"✓")/2)=0,"",COUNTIF($C7:$L7,"✓A")+(COUNTIF($C7:$L7,"✓")/2))) | O7: =IF(COUNTIF($C7:$M7,"VA")+(COUNTIF($C7:$M7,"VA/2")/2)=0,"",COUNTIF($C7:$M7,"VA")+(COUNTIF($C7:$M7,"VA/2")/2)) | P7: =IF(COUNTIF($C7:$M7,"MA")+(COUNTIF($C7:$M7,"MA/2")/2)=0,"",COUNTIF($C7:$M7,"MA")+(COUNTIF($C7:$M7,"MA/2")/2)) | Q7: =IF(COUNTIF($C7:$M7,"CH")+(COUNTIF($C7:$M7,"CH/2")/2)=0,"",COUNTIF($C7:$M7,"CHA")+(COUNTIF($C7:$M7,"CH/2")/2)) | R7: =IF(COUNTIF($C7:$M7,"AT")+(COUNTIF($C7:$M7,"AT/2")/2)=0,"",COUNTIF($C7:$M7,"AT")+(COUNTIF($C7:$M7,"AT/2")/2)) | S7: =IF(COUNTIF($C7:$M7,"OF")+(COUNTIF($C7:$M7,"OF/2")/2)=0,"",COUNTIF($C7:$M7,"OFA")+(COUNTIF($C7:$M7,"OF/2")/2)) | T7: =IF(COUNTIF($C7:$M7,"RE")+(COUNTIF($C7:$M7,"RE/2")/2)=0,"",COUNTIF($C7:$M7,"RE")+(COUNTIF($C7:$M7,"RE/2")/2)) | U7: =IF(COUNTIF($C7:$M7,"FO")+(COUNTIF($C7:$M7,"FO/2")/2)=0,"",COUNTIF($C7:$M7,"FO")+(COUNTIF($C7:$M7,"FO/2")/2)) | V7: =IF(COUNTIF($C7:$M7,"SY")+(COUNTIF($C7:$M7,"SY/2")/2)=0,"",COUNTIF($C7:$M7,"SY")+(COUNTIF($C7:$M7,"SY/2")/2)) | W7: =IF(COUNTIF($C7:$M7,"PAR")+(COUNTIF($C7:$M7,"PAR/2")/2)=0,"",COUNTIF($C7:$M7,"PAR")+(COUNTIF($C7:$M7,"PAR/2")/2)) | X7: =IF(COUNTIF($C7:$M7,"AUT")+(COUNTIF($C7:$M7,"AUT/2")/2)=0,"",COUNTIF($C7:$M7,"AUT")+(COUNTIF($C7:$M7,"AUT/2")/2))
B8: =Données!$E$5 -> Jacques | C8: Ma | E8: Fo | N8: =(IF(COUNTIF($C8:$L8,"✓")+(COUNTIF($C8:$L8,"✓")/2)=0,"",COUNTIF($C8:$L8,"✓A")+(COUNTIF($C8:$L8,"✓")/2))) | O8: =IF(COUNTIF($C8:$M8,"VA")+(COUNTIF($C8:$M8,"VA/2")/2)=0,"",COUNTIF($C8:$M8,"VA")+(COUNTIF($C8:$M8,"VA/2")/2)) | P8: =IF(COUNTIF($C8:$M8,"MA")+(COUNTIF($C8:$M8,"MA/2")/2)=0,"",COUNTIF($C8:$M8,"MA")+(COUNTIF($C8:$M8,"MA/2")/2)) -> 1 | Q8: =IF(COUNTIF($C8:$M8,"CH")+(COUNTIF($C8:$M8,"CH/2")/2)=0,"",COUNTIF($C8:$M8,"CH")+(COUNTIF($C8:$M8,"CH/2")/2)) | R8: =IF(COUNTIF($C8:$M8,"AT")+(COUNTIF($C8:$M8,"AT/2")/2)=0,"",COUNTIF($C8:$M8,"AT")+(COUNTIF($C8:$M8,"AT/2")/2)) | S8: =IF(COUNTIF($C8:$M8,"OF")+(COUNTIF($C8:$M8,"OF/2")/2)=0,"",COUNTIF($C8:$M8,"OF")+(COUNTIF($C8:$M8,"OF/2")/2)) | T8: =IF(COUNTIF($C8:$M8,"RE")+(COUNTIF($C8:$M8,"RE/2")/2)=0,"",COUNTIF($C8:$M8,"RE")+(COUNTIF($C8:$M8,"RE/2")/2)) | U8: =IF(COUNTIF($C8:$M8,"FO")+(COUNTIF($C8:$M8,"FO/2")/2)=0,"",COUNTIF($C8:$M8,"FO")+(COUNTIF($C8:$M8,"FO/2")/2)) -> 1 | V8: =IF(COUNTIF($C8:$M8,"SY")+(COUNTIF($C8:$M8,"SY/2")/2)=0,"",COUNTIF($C8:$M8,"SY")+(COUNTIF($C8:$M8,"SY/2")/2)) | W8: =IF(COUNTIF($C8:$M8,"PAR")+(COUNTIF($C8:$M8,"PAR/2")/2)=0,"",COUNTIF($C8:$M8,"PAR")+(COUNTIF($C8:$M8,"PAR/2")/2)) | X8: =IF(COUNTIF($C8:$M8,"AUT")+(COUNTIF($C8:$M8,"AUT/2")/2)=0,"",COUNTIF($C8:$M8,"AUT")+(COUNTIF($C8:$M8,"AUT/2")/2))
B9: =Données!$E$6 -> Lucie | E9: Ch | N9: =(IF(COUNTIF($C9:$L9,"✓")+(COUNTIF($C9:$L9,"✓")/2)=0,"",COUNTIF($C9:$L9,"✓A")+(COUNTIF($C9:$L9,"✓")/2))) | O9: =IF(COUNTIF($C9:$M9,"VA")+(COUNTIF($C9:$M9,"VA/2")/2)=0,"",COUNTIF($C9:$M9,"VA")+(COUNTIF($C9:$M9,"VA/2")/2)) | P9: =IF(COUNTIF($C9:$M9,"MA")+(COUNTIF($C9:$M9,"MA/2")/2)=0,"",COUNTIF($C9:$M9,"MA")+(COUNTIF($C9:$M9,"MA/2")/2)) | Q9: =IF(COUNTIF($C9:$M9,"CH")+(COUNTIF($C9:$M9,"CH/2")/2)=0,"",COUNTIF($C9:$M9,"CH")+(COUNTIF($C9:$M9,"CH/2")/2)) -> 1 | R9: =IF(COUNTIF($C9:$M9,"AT")+(COUNTIF($C9:$M9,"AT/2")/2)=0,"",COUNTIF($C9:$M9,"AT")+(COUNTIF($C9:$M9,"AT/2")/2)) | S9: =IF(COUNTIF($C9:$M9,"OF")+(COUNTIF($C9:$M9,"OF/2")/2)=0,"",COUNTIF($C9:$M9,"OF")+(COUNTIF($C9:$M9,"OF/2")/2)) | T9: =IF(COUNTIF($C9:$M9,"RE")+(COUNTIF($C9:$M9,"RE/2")/2)=0,"",COUNTIF($C9:$M9,"RE")+(COUNTIF($C9:$M9,"RE/2")/2)) | U9: =IF(COUNTIF($C9:$M9,"FO")+(COUNTIF($C9:$M9,"FO/2")/2)=0,"",COUNTIF($C9:$M9,"FO")+(COUNTIF($C9:$M9,"FO/2")/2)) | V9: =IF(COUNTIF($C9:$M9,"SY")+(COUNTIF($C9:$M9,"SY/2")/2)=0,"",COUNTIF($C9:$M9,"SY")+(COUNTIF($C9:$M9,"SY/2")/2)) | W9: =IF(COUNTIF($C9:$M9,"PAR")+(COUNTIF($C9:$M9,"PAR/2")/2)=0,"",COUNTIF($C9:$M9,"PAR")+(COUNTIF($C9:$M9,"PAR/2")/2)) | X9: =IF(COUNTIF($C9:$M9,"AUT")+(COUNTIF($C9:$M9,"AUT/2")/2)=0,"",COUNTIF($C9:$M9,"AUT")+(COUNTIF($C9:$M9,"AUT/2")/2))
B10: =Données!$E$7 -> Marie | G10: Att | N10: =(IF(COUNTIF($C10:$L10,"✓")+(COUNTIF($C10:$L10,"✓")/2)=0,"",COUNTIF($C10:$L10,"✓A")+(COUNTIF($C10:$L10,"✓")/2))) | O10: =IF(COUNTIF($C10:$M10,"VA")+(COUNTIF($C10:$M10,"VA/2")/2)=0,"",COUNTIF($C10:$M10,"VA")+(COUNTIF($C10:$M10,"VA/2")/2)) | P10: =IF(COUNTIF($C10:$M10,"MA")+(COUNTIF($C10:$M10,"MA/2")/2)=0,"",COUNTIF($C10:$M10,"MA")+(COUNTIF($C10:$M10,"MA/2")/2)) | Q10: =IF(COUNTIF($C10:$M10,"CH")+(COUNTIF($C10:$M10,"CH/2")/2)=0,"",COUNTIF($C10:$M10,"CH")+(COUNTIF($C10:$M10,"CH/2")/2)) | R10: =IF(COUNTIF($C10:$M10,"AT")+(COUNTIF($C10:$M10,"AT/2")/2)=0,"",COUNTIF($C10:$M10,"AT")+(COUNTIF($C10:$M10,"AT/2")/2)) | S10: =IF(COUNTIF($C10:$M10,"OF")+(COUNTIF($C10:$M10,"OF/2")/2)=0,"",COUNTIF($C10:$M10,"OF")+(COUNTIF($C10:$M10,"OF/2")/2)) | T10: =IF(COUNTIF($C10:$M10,"RE")+(COUNTIF($C10:$M10,"RE/2")/2)=0,"",COUNTIF($C10:$M10,"RE")+(COUNTIF($C10:$M10,"RE/2")/2)) | U10: =IF(COUNTIF($C10:$M10,"FO")+(COUNTIF($C10:$M10,"FO/2")/2)=0,"",COUNTIF($C10:$M10,"FO")+(COUNTIF($C10:$M10,"FO/2")/2)) | V10: =IF(COUNTIF($C10:$M10,"SY")+(COUNTIF($C10:$M10,"SY/2")/2)=0,"",COUNTIF($C10:$M10,"SY")+(COUNTIF($C10:$M10,"SY/2")/2)) | W10: =IF(COUNTIF($C10:$M10,"PAR")+(COUNTIF($C10:$M10,"PAR/2")/2)=0,"",COUNTIF($C10:$M10,"PAR")+(COUNTIF($C10:$M10,"PAR/2")/2)) | X10: =IF(COUNTIF($C10:$M10,"AUT")+(COUNTIF($C10:$M10,"AUT/2")/2)=0,"",COUNTIF($C10:$M10,"AUT")+(COUNTIF($C10:$M10,"AUT/2")/2))
B11: =Données!$E$8 -> Normand | N11: =(IF(COUNTIF($C11:$L11,"✓")+(COUNTIF($C11:$L11,"✓")/2)=0,"",COUNTIF($C11:$L11,"✓A")+(COUNTIF($C11:$L11,"✓")/2))) | O11: =IF(COUNTIF($C11:$M11,"VA")+(COUNTIF($C11:$M11,"VA/2")/2)=0,"",COUNTIF($C11:$M11,"VA")+(COUNTIF($C11:$M11,"VA/2")/2)) | P11: =IF(COUNTIF($C11:$M11,"MA")+(COUNTIF($C11:$M11,"MA/2")/2)=0,"",COUNTIF($C11:$M11,"MA")+(COUNTIF($C11:$M11,"MA/2")/2)) | Q11: =IF(COUNTIF($C11:$M11,"CH")+(COUNTIF($C11:$M11,"CH/2")/2)=0,"",COUNTIF($C11:$M11,"CH")+(COUNTIF($C11:$M11,"CH/2")/2)) | R11: =IF(COUNTIF($C11:$M11,"AT")+(COUNTIF($C11:$M11,"AT/2")/2)=0,"",COUNTIF($C11:$M11,"AT")+(COUNTIF($C11:$M11,"AT/2")/2)) | S11: =IF(COUNTIF($C11:$M11,"OF")+(COUNTIF($C11:$M11,"OF/2")/2)=0,"",COUNTIF($C11:$M11,"OF")+(COUNTIF($C11:$M11,"OF/2")/2)) | T11: =IF(COUNTIF($C11:$M11,"RE")+(COUNTIF($C11:$M11,"RE/2")/2)=0,"",COUNTIF($C11:$M11,"RE")+(COUNTIF($C11:$M11,"RE/2")/2)) | U11: =IF(COUNTIF($C11:$M11,"FO")+(COUNTIF($C11:$M11,"FO/2")/2)=0,"",COUNTIF($C11:$M11,"FO")+(COUNTIF($C11:$M11,"FO/2")/2)) | V11: =IF(COUNTIF($C11:$M11,"SY")+(COUNTIF($C11:$M11,"SY/2")/2)=0,"",COUNTIF($C11:$M11,"SY")+(COUNTIF($C11:$M11,"SY/2")/2)) | W11: =IF(COUNTIF($C11:$M11,"PAR")+(COUNTIF($C11:$M11,"PAR/2")/2)=0,"",COUNTIF($C11:$M11,"PAR")+(COUNTIF($C11:$M11,"PAR/2")/2)) | X11: =IF(COUNTIF($C11:$M11,"AUT")+(COUNTIF($C11:$M11,"AUT/2")/2)=0,"",COUNTIF($C11:$M11,"AUT")+(COUNTIF($C11:$M11,"AUT/2")/2))
B12: =Données!$E$9 -> Thérèse | N12: =(IF(COUNTIF($C12:$L12,"✓")+(COUNTIF($C12:$L12,"✓")/2)=0,"",COUNTIF($C12:$L12,"✓A")+(COUNTIF($C12:$L12,"✓")/2))) | O12: =IF(COUNTIF($C12:$M12,"VA")+(COUNTIF($C12:$M12,"VA/2")/2)=0,"",COUNTIF($C12:$M12,"VA")+(COUNTIF($C12:$M12,"VA/2")/2)) | P12: =IF(COUNTIF($C12:$M12,"MA")+(COUNTIF($C12:$M12,"MA/2")/2)=0,"",COUNTIF($C12:$M12,"MA")+(COUNTIF($C12:$M12,"MA/2")/2)) | Q12: =IF(COUNTIF($C12:$M12,"CH")+(COUNTIF($C12:$M12,"CH/2")/2)=0,"",COUNTIF($C12:$M12,"CH")+(COUNTIF($C12:$M12,"CH/2")/2)) | R12: =IF(COUNTIF($C12:$M12,"AT")+(COUNTIF($C12:$M12,"AT/2")/2)=0,"",COUNTIF($C12:$M12,"AT")+(COUNTIF($C12:$M12,"AT/2")/2)) | S12: =IF(COUNTIF($C12:$M12,"OF")+(COUNTIF($C12:$M12,"OF/2")/2)=0,"",COUNTIF($C12:$M12,"OF")+(COUNTIF($C12:$M12,"OF/2")/2)) | T12: =IF(COUNTIF($C12:$M12,"RE")+(COUNTIF($C12:$M12,"RE/2")/2)=0,"",COUNTIF($C12:$M12,"RE")+(COUNTIF($C12:$M12,"RE/2")/2)) | U12: =IF(COUNTIF($C12:$M12,"FO")+(COUNTIF($C12:$M12,"FO/2")/2)=0,"",COUNTIF($C12:$M12,"FO")+(COUNTIF($C12:$M12,"FO/2")/2)) | V12: =IF(COUNTIF($C12:$M12,"SY")+(COUNTIF($C12:$M12,"SY/2")/2)=0,"",COUNTIF($C12:$M12,"SY")+(COUNTIF($C12:$M12,"SY/2")/2)) | W12: =IF(COUNTIF($C12:$M12,"PAR")+(COUNTIF($C12:$M12,"PAR/2")/2)=0,"",COUNTIF($C12:$M12,"PAR")+(COUNTIF($C12:$M12,"PAR/2")/2)) | X12: =IF(COUNTIF($C12:$M12,"AUT")+(COUNTIF($C12:$M12,"AUT/2")/2)=0,"",COUNTIF($C12:$M12,"AUT")+(COUNTIF($C12:$M12,"AUT/2")/2))
B13: =Données!$E$11 -> Manon | N13: =(IF(COUNTIF($C13:$L13,"✓")+(COUNTIF($C13:$L13,"✓")/2)=0,"",COUNTIF($C13:$L13,"✓A")+(COUNTIF($C13:$L13,"✓")/2))) | O13: =IF(COUNTIF($C13:$M13,"VA")+(COUNTIF($C13:$M13,"VA/2")/2)=0,"",COUNTIF($C13:$M13,"VA")+(COUNTIF($C13:$M13,"VA/2")/2)) | P13: =IF(COUNTIF($C13:$M13,"MA")+(COUNTIF($C13:$M13,"MA/2")/2)=0,"",COUNTIF($C13:$M13,"MA")+(COUNTIF($C13:$M13,"MA/2")/2)) | Q13: =IF(COUNTIF($C13:$M13,"CH")+(COUNTIF($C13:$M13,"CH/2")/2)=0,"",COUNTIF($C13:$M13,"CH")+(COUNTIF($C13:$M13,"CH/2")/2)) | R13: =IF(COUNTIF($C13:$M13,"AT")+(COUNTIF($C13:$M13,"AT/2")/2)=0,"",COUNTIF($C13:$M13,"AT")+(COUNTIF($C13:$M13,"AT/2")/2)) | S13: =IF(COUNTIF($C13:$M13,"OF")+(COUNTIF($C13:$M13,"OF/2")/2)=0,"",COUNTIF($C13:$M13,"OF")+(COUNTIF($C13:$M13,"OF/2")/2)) | T13: =IF(COUNTIF($C13:$M13,"RE")+(COUNTIF($C13:$M13,"RE/2")/2)=0,"",COUNTIF($C13:$M13,"RE")+(COUNTIF($C13:$M13,"RE/2")/2)) | U13: =IF(COUNTIF($C13:$M13,"FO")+(COUNTIF($C13:$M13,"FO/2")/2)=0,"",COUNTIF($C13:$M13,"FO")+(COUNTIF($C13:$M13,"FO/2")/2)) | V13: =IF(COUNTIF($C13:$M13,"SY")+(COUNTIF($C13:$M13,"SY/2")/2)=0,"",COUNTIF($C13:$M13,"SY")+(COUNTIF($C13:$M13,"SY/2")/2)) | W13: =IF(COUNTIF($C13:$M13,"PAR")+(COUNTIF($C13:$M13,"PAR/2")/2)=0,"",COUNTIF($C13:$M13,"PAR")+(COUNTIF($C13:$M13,"PAR/2")/2)) | X13: =IF(COUNTIF($C13:$M13,"AUT")+(COUNTIF($C13:$M13,"AUT/2")/2)=0,"",COUNTIF($C13:$M13,"AUT")+(COUNTIF($C13:$M13,"AUT/2")/2))
B14: =Données!$E$10 -> Simon
B15: =Données!$E$58 -> 0 | C15: * | D15: * | E15: * | F15: * | G15: * | H15: * | I15: * | J15: * | K15: * | L15: * | N15: =(IF(COUNTIF($C15:$L15,"✓")+(COUNTIF($C15:$L15,"✓")/2)=0,"",COUNTIF($C15:$L15,"✓A")+(COUNTIF($C15:$L15,"✓")/2))) | O15: =IF(COUNTIF($C15:$M15,"VA")+(COUNTIF($C15:$M15,"VA/2")/2)=0,"",COUNTIF($C15:$M15,"VA")+(COUNTIF($C15:$M15,"VA/2")/2)) | P15: =IF(COUNTIF($C15:$M15,"MA")+(COUNTIF($C15:$M15,"MA/2")/2)=0,"",COUNTIF($C15:$M15,"MA")+(COUNTIF($C15:$M15,"MA/2")/2)) | Q15: =IF(COUNTIF($C15:$M15,"CH")+(COUNTIF($C15:$M15,"CH/2")/2)=0,"",COUNTIF($C15:$M15,"CH")+(COUNTIF($C15:$M15,"CH/2")/2)) | R15: =IF(COUNTIF($C15:$M15,"AT")+(COUNTIF($C15:$M15,"AT/2")/2)=0,"",COUNTIF($C15:$M15,"AT")+(COUNTIF($C15:$M15,"AT/2")/2)) | S15: =IF(COUNTIF($C15:$M15,"OF")+(COUNTIF($C15:$M15,"OF/2")/2)=0,"",COUNTIF($C15:$M15,"OF")+(COUNTIF($C15:$M15,"OF/2")/2)) | T15: =IF(COUNTIF($C15:$M15,"RE")+(COUNTIF($C15:$M15,"RE/2")/2)=0,"",COUNTIF($C15:$M15,"RE")+(COUNTIF($C15:$M15,"RE/2")/2)) | U15: =IF(COUNTIF($C15:$M15,"FO")+(COUNTIF($C15:$M15,"FO/2")/2)=0,"",COUNTIF($C15:$M15,"FO")+(COUNTIF($C15:$M15,"FO/2")/2)) | V15: =IF(COUNTIF($C15:$M15,"SY")+(COUNTIF($C15:$M15,"SY/2")/2)=0,"",COUNTIF($C15:$M15,"SY")+(COUNTIF($C15:$M15,"SY/2")/2)) | W15: =IF(COUNTIF($C15:$M15,"PAR")+(COUNTIF($C15:$M15,"PAR/2")/2)=0,"",COUNTIF($C15:$M15,"PAR")+(COUNTIF($C15:$M15,"PAR/2")/2)) | X15: =IF(COUNTIF($C15:$M15,"AUT")+(COUNTIF($C15:$M15,"AUT/2")/2)=0,"",COUNTIF($C15:$M15,"AUT")+(COUNTIF($C15:$M15,"AUT/2")/2))
B16: =Données!$E$59 -> Présent | C16: =(IF(COUNTIF($C6:$D15,"")+(COUNTIF($C6:$D15,"")/2)=0,"",COUNTIF($C6:$D15,"A")+(COUNTIF($C6:$D15,"")/2))) -> 7.5 | E16: =(IF(COUNTIF($E6:$F15,"")+(COUNTIF($E6:$F15,"")/2)=0,"",COUNTIF($E6:$F15,"A")+(COUNTIF($E6:$F15,"")/2))) -> 7 | G16: =(IF(COUNTIF($G6:$H15,"")+(COUNTIF($G6:$H15,"")/2)=0,"",COUNTIF($G6:$H15,"A")+(COUNTIF($G6:$H15,"")/2))) -> 7.5 | I16: =(IF(COUNTIF($C6:$D15,"")+(COUNTIF($C6:$D15,"")/2)=0,"",COUNTIF($C6:$D15,"A")+(COUNTIF($C6:$D15,"")/2))) -> 7.5 | K16: =(IF(COUNTIF($C6:$D15,"")+(COUNTIF($C6:$D15,"")/2)=0,"",COUNTIF($C6:$D15,"A")+(COUNTIF($C6:$D15,"")/2))) -> 7.5
B17: =Données!$E$60 -> Vacances | C17: =(IF(COUNTIF($C6:$D15,"Va")+(COUNTIF($C6:$D15,"Va")/2)=0,"",COUNTIF($C6:$D15,"VaA")+(COUNTIF($C6:$D15,"Va")/2))) -> 1 | E17: =(IF(COUNTIF($E6:$F15,"Va")+(COUNTIF($E6:$F15,"Va")/2)=0,"",COUNTIF($E6:$F15,"VaA")+(COUNTIF($E6:$F15,"Va")/2))) -> 1 | G17: =(IF(COUNTIF($G6:$H15,"Va")+(COUNTIF($G6:$H15,"Va")/2)=0,"",COUNTIF($G6:$H15,"VaA")+(COUNTIF($G6:$H15,"Va")/2))) -> 1
B18: =Données!$E$61 -> Maladie | C18: =(IF(COUNTIF($C7:$D16,"Ma")+(COUNTIF($C7:$D16,"Ma")/2)=0,"",COUNTIF($C7:$D16,"MaA")+(COUNTIF($C7:$D16,"Ma")/2))) -> 0.5 | E18: =(IF(COUNTIF($E6:$F15,"Ma")+(COUNTIF($E6:$F15,"Ma")/2)=0,"",COUNTIF($E6:$F15,"MaA")+(COUNTIF($E6:$F15,"Ma")/2))) | G18: =(IF(COUNTIF($G6:$H15,"Ma")+(COUNTIF($G6:$H15,"Ma")/2)=0,"",COUNTIF($G6:$H15,"MaA")+(COUNTIF($G6:$H15,"Ma")/2)))
B19: =Données!$E$62 -> Crédit horaire | C19: =(IF(COUNTIF($C8:$D17,"Ch")+(COUNTIF($C8:$D17,"Ch")/2)=0,"",COUNTIF($C8:$D17,"ChA")+(COUNTIF($C8:$D17,"Ch")/2))) | E19: =(IF(COUNTIF($E6:$F15,"Ch")+(COUNTIF($E6:$F15,"Ch")/2)=0,"",COUNTIF($E6:$F15,"ChA")+(COUNTIF($E6:$F15,"Ch")/2))) -> 0.5 | G19: =(IF(COUNTIF($G6:$H15,"Ch")+(COUNTIF($G6:$H15,"Ch")/2)=0,"",COUNTIF($G6:$H15,"ChA")+(COUNTIF($G6:$H15,"Ch")/2)))
B20: =Données!$E$63 -> ARTT | C20: =(IF(COUNTIF($C9:$D18,"Att")+(COUNTIF($C9:$D18,"Att")/2)=0,"",COUNTIF($C9:$D18,"AttA")+(COUNTIF($C9:$D18,"Att")/2))) | E20: =(IF(COUNTIF($E6:$F15,"Att")+(COUNTIF($E6:$F15,"Att")/2)=0,"",COUNTIF($E6:$F15,"AttA")+(COUNTIF($E6:$F15,"Att")/2))) | G20: =(IF(COUNTIF($G6:$H15,"Att")+(COUNTIF($G6:$H15,"Att")/2)=0,"",COUNTIF($G6:$H15,"AttA")+(COUNTIF($G6:$H15,"Att")/2))) -> 0.5
B21: =Données!$E$64 -> Obligations familiales | C21: =(IF(COUNTIF($C10:$D19,"Of")+(COUNTIF($C10:$D19,"Of")/2)=0,"",COUNTIF($C10:$D19,"OfA")+(COUNTIF($C10:$D19,"Of")/2))) | E21: =(IF(COUNTIF($E6:$F15,"Of")+(COUNTIF($E6:$F15,"Of")/2)=0,"",COUNTIF($E6:$F15,"OfA")+(COUNTIF($E6:$F15,"Of")/2))) | G21: =(IF(COUNTIF($G6:$H15,"Of")+(COUNTIF($G6:$H15,"Of")/2)=0,"",COUNTIF($G6:$H15,"OfA")+(COUNTIF($G6:$H15,"Of")/2)))
B22: =Données!$E$65 -> Retraite progressive | C22: =(IF(COUNTIF($C6:$D15,"Ret")+(COUNTIF($C6:$D15,"Ret")/2)=0,"",COUNTIF($C6:$D15,"RetA")+(COUNTIF($C6:$D15,"Ret")/2))) | E22: =(IF(COUNTIF($E6:$F15,"Ret")+(COUNTIF($E6:$F15,"Ret")/2)=0,"",COUNTIF($E6:$F15,"RetA")+(COUNTIF($E6:$F15,"Ret")/2))) | G22: =(IF(COUNTIF($G6:$H15,"Ret")+(COUNTIF($G6:$H15,"Ret")/2)=0,"",COUNTIF($G6:$H15,"Reta")+(COUNTIF($G6:$H15,"Ret")/2)))
B23: =Données!$E$66 -> Formation | C23: =(IF(COUNTIF($C6:$D15,"Fo")+(COUNTIF($C6:$D15,"Fo")/2)=0,"",COUNTIF($C6:$D15,"FoA")+(COUNTIF($C6:$D15,"Fo")/2))) | E23: =(IF(COUNTIF($E6:$F15,"Fo")+(COUNTIF($E6:$F15,"Fo")/2)=0,"",COUNTIF($E6:$F15,"FoA")+(COUNTIF($E6:$F15,"Fo")/2))) -> 0.5 | G23: =(IF(COUNTIF($G6:$H15,"Fo")+(COUNTIF($G6:$H15,"Fo")/2)=0,"",COUNTIF($G6:$H15,"FoA")+(COUNTIF($G6:$H15,"Fo")/2)))
B24: =Données!$E$67 -> Syndicat | C24: =(IF(COUNTIF($C6:$D15,"Sy")+(COUNTIF($C6:$D15,"Sy")/2)=0,"",COUNTIF($C6:$D15,"SyA")+(COUNTIF($C6:$D15,"Sy")/2))) | E24: =(IF(COUNTIF($E6:$F15,"Sy")+(COUNTIF($E6:$F15,"Sy")/2)=0,"",COUNTIF($E6:$F15,"SyA")+(COUNTIF($E6:$F15,"Sy")/2))) | G24: =(IF(COUNTIF($G6:$H15,"Sy")+(COUNTIF($G6:$H15,"Sy")/2)=0,"",COUNTIF($G6:$H15,"SyA")+(COUNTIF($G6:$H15,"Sy")/2)))
B25: =Données!$E$68 -> Congés pat /mat | C25: =(IF(COUNTIF($C6:$D15,"Pa")+(COUNTIF($C6:$D15,"Pa")/2)=0,"",COUNTIF($C6:$D15,"PaA")+(COUNTIF($C6:$D15,"Pa")/2))) | E25: =(IF(COUNTIF($E6:$F15,"Pa")+(COUNTIF($E6:$F15,"Pa")/2)=0,"",COUNTIF($E6:$F15,"PaA")+(COUNTIF($E6:$F15,"Pa")/2))) | G25: =(IF(COUNTIF($G6:$H15,"Pa")+(COUNTIF($G6:$H15,"Pa")/2)=0,"",COUNTIF($G6:$H15,"PaA")+(COUNTIF($G6:$H15,"Pa")/2)))
B26: =Données!$E$69 -> Autres | C26: =(IF(COUNTIF($C6:$D15,"Au")+(COUNTIF($C6:$D15,"Au")/2)=0,"",COUNTIF($C6:$D15,"AuA")+(COUNTIF($C6:$D15,"Au")/2))) | E26: =(IF(COUNTIF($E6:$F15,"Au")+(COUNTIF($E6:$F15,"Au")/2)=0,"",COUNTIF($E6:$F15,"AuA")+(COUNTIF($E6:$F15,"Au")/2))) | G26: =(IF(COUNTIF($G6:$H15,"Au")+(COUNTIF($G6:$H15,"Au")/2)=0,"",COUNTIF($G6:$H15,"AuA")+(COUNTIF($G6:$H15,"Au")/2)))
B27: =Données!$E$70 -> Contraintes de la journée | C27: =SUM(C17:D26) -> 1.5 | E27: =SUM(E17:F26) -> 2 | G27: =SUM(G17:H26) -> 1.5 | I27: =SUM(I17:J26) -> 0 | K27: =SUM(K17:L27) -> 0 | N27: =IF(COUNTIF(#REF!,"P")+(COUNTIF(#REF!,"P/2")/2)=0,"",COUNTIF(#REF!,"P")+(COUNTIF(#REF!,"P/2")/2)) -> #REF! | O27: =IF(COUNTIF(#REF!,"VA")+(COUNTIF(#REF!,"VA/2")/2)=0,"",COUNTIF(#REF!,"VA")+(COUNTIF(#REF!,"VA/2")/2)) -> #REF! | P27: =IF(COUNTIF(#REF!,"MA")+(COUNTIF(#REF!,"MA/2")/2)=0,"",COUNTIF(#REF!,"MA")+(COUNTIF(#REF!,"MA/2")/2)) -> #REF! | Q27: =IF(COUNTIF(#REF!,"CH")+(COUNTIF(#REF!,"CH/2")/2)=0,"",COUNTIF(#REF!,"CH")+(COUNTIF(#REF!,"CH/2")/2)) -> #REF! | R27: =IF(COUNTIF(#REF!,"AT")+(COUNTIF(#REF!,"AT/2")/2)=0,"",COUNTIF(#REF!,"AT")+(COUNTIF(#REF!,"AT/2")/2)) -> #REF! | S27: =IF(COUNTIF(#REF!,"OF")+(COUNTIF(#REF!,"OF/2")/2)=0,"",COUNTIF(#REF!,"OF")+(COUNTIF(#REF!,"OF/2")/2)) -> #REF! | T27: =IF(COUNTIF(#REF!,"RE")+(COUNTIF(#REF!,"RE/2")/2)=0,"",COUNTIF(#REF!,"RE")+(COUNTIF(#REF!,"RE/2")/2)) -> #REF! | U27: =IF(COUNTIF(#REF!,"FO")+(COUNTIF(#REF!,"FO/2")/2)=0,"",COUNTIF(#REF!,"FO")+(COUNTIF(#REF!,"FO/2")/2)) -> #REF! | V27: =IF(COUNTIF(#REF!,"SY")+(COUNTIF(#REF!,"SY/2")/2)=0,"",COUNTIF(#REF!,"SY")+(COUNTIF(#REF!,"SY/2")/2)) -> #REF! | W27: =IF(COUNTIF(#REF!,"PAR")+(COUNTIF(#REF!,"PAR/2")/2)=0,"",COUNTIF(#REF!,"PAR")+(COUNTIF(#REF!,"PAR/2")/2)) -> #REF! | X27: =IF(COUNTIF(#REF!,"AUT")+(COUNTIF(#REF!,"AUT/2")/2)=0,"",COUNTIF(#REF!,"AUT")+(COUNTIF(#REF!,"AUT/2")/2)) -> #REF!

Sheet Feuil3
B2: ASSUIDITÉ DU MOIS D'AVRIL
B4: 2015 | D4: =Données!$E$3 -> Pierre | F4: =Données!$E$4 -> Jean | H4: =Données!$E$5 -> Jacques | J4: =Données!$E$6 -> Lucie | L4: =Données!$E$7 -> Marie | N4: =Données!$E$8 -> Normand | P4: =Données!$E$9 -> Thérèse | R4: =Données!$E$11 -> Manon | T4: =Données!$E$12 -> 0 | V4: =Données!$E$13 -> 0 | X4: =Données!$E$14 -> 0 | Z4: =Données!$E$15 -> 0 | AB4: =Données!$E$16 -> 0 | AD4: =Données!$E$18 -> 0 | AF4: =Données!$E$19 -> 0 | AH4: =Données!$E$20 -> 0 | AJ4: =Données!$E$22 -> 0 | AL4: =Données!$E$23 -> 0 | AN4: =Données!$E$24 -> 0 | AP4: =Données!$E$25 -> 0 | AR4: =Données!$E$26 -> 0 | AT4: =Données!$E$27 -> 0 | AV4: =Données!$E$28 -> 0 | AX4: =Données!$E$29 -> 0 | AZ4: =Données!$E$30 -> 0 | BB4: =Données!$E$31 -> 0 | BD4: =Données!$E$32 -> 0 | BF4: =Données!$E$33 -> 0 | BH4: =Données!$E$34 -> 0 | BJ4: =Données!$E$35 -> 0 | BL4: =Données!#REF! -> #REF! | BN4: =Données!#REF! -> #REF! | BP4: =Données!#REF! -> #REF! | BR4: =Données!#REF! -> #REF! | BT4: =Données!#REF! -> #REF! | BV4: =Données!$E$41 -> 0 | BX4: =Données!$E$52 -> 0 | BZ4: =Données!$E$53 -> 0 | CB4: =Données!$E$54 -> 0 | CD4: =Données!$E$55 -> 0 | CF4: =Données!$E$56 -> 0 | CH4: =Données!$E$57 -> 0 | CJ4: =Données!$E$58 -> 0 | CL4: =Données!$E$49 -> 0 | CN4: =Données!$E$37 -> 0 | CP4: =Données!$E$38 -> 0 | CR4: =Données!$E$39 -> 0 | CT4: =Données!$E$40 -> 0 | CV4: =Données!#REF! -> #REF! | CX4: =Données!#REF! -> #REF! | CZ4: =Données!#REF! -> #REF! | DB4: =Données!#REF! -> #REF! | DD4: =Données!#REF! -> #REF! | DF4: Présent | DG4: Vacances | DH4: Maladie | DI4: Crédit horaire | DJ4: ARTT | DK4: Obligations familiales | DL4: Retraite progressive | DM4: Formation | DN4: Syndicat | DO4: Congés pat /mat / par | DP4: Autres
B7: 1 | C7: avr | BJ7: M/2 | BL7: * | BM7: * | BN7: * | BO7: * | BP7: * | BQ7: * | BR7: * | BS7: * | BT7: * | BU7: * | BV7: * | BW7: * | CB7: * | CC7: * | CL7: * | CM7: * | CR7: V | CU7: M | CV7: * | CW7: * | CX7: * | CY7: * | CZ7: * | DA7: * | DB7: * | DC7: * | DD7: * | DE7: * | DF7: =IF(COUNTIF($C7:$DE7,"")+(COUNTIF($C7:$DE7,"/2")/2)=0,COUNTIF($C7:$DE7,"")+(COUNTIF($C7:$DE7,"/2")/2)) -> FALSE | DG7: =IF(COUNTIF($C7:$DE7,"VA")+(COUNTIF($C7:$DE7,"VA/2")/2)=0,"",COUNTIF($C7:$DE7,"VA")+(COUNTIF($C7:$DE7,"VA/2")/2)) | DH7: =IF(COUNTIF($C7:$DE7,"MA")+(COUNTIF($C7:$DE7,"MA/2")/2)=0,"",COUNTIF($C7:$DE7,"MA")+(COUNTIF($C7:$DE7,"MA/2")/2)) | DI7: =IF(COUNTIF($C7:$DE7,"CH")+(COUNTIF($C7:$DE7,"CH/2")/2)=0,"",COUNTIF($C7:$DE7,"CH")+(COUNTIF($C7:$DE7,"CH/2")/2)) | DJ7: =IF(COUNTIF($C7:$DE7,"AT")+(COUNTIF($C7:$DE7,"AT/2")/2)=0,"",COUNTIF($C7:$DE7,"AT")+(COUNTIF($C7:$DE7,"AT/2")/2)) | DK7: =IF(COUNTIF($C7:$DE7,"OF")+(COUNTIF($C7:$DE7,"OF/2")/2)=0,"",COUNTIF($C7:$DE7,"OF")+(COUNTIF($C7:$DE7,"OF/2")/2)) | DL7: =IF(COUNTIF($C7:$DG7,"RE")+(COUNTIF($C7:$DG7,"RE/2")/2)=0,"",COUNTIF($C7:$DG7,"RE")+(COUNTIF($C7:$DG7,"RE/2")/2)) | DM7: =IF(COUNTIF($C7:$DG7,"FO")+(COUNTIF($C7:$DG7,"FO/2")/2)=0,"",COUNTIF($C7:$DG7,"FO")+(COUNTIF($C7:$DG7,"FO/2")/2)) | DN7: =IF(COUNTIF($C7:$DG7,"SY")+(COUNTIF($C7:$DG7,"SY/2")/2)=0,"",COUNTIF($C7:$DG7,"SY")+(COUNTIF($C7:$DG7,"SY/2")/2)) | DO7: =IF(COUNTIF($C7:$DG7,"PA")+(COUNTIF($C7:$DG7,"PA/2")/2)=0,"",COUNTIF($C7:$DG7,"PA")+(COUNTIF($C7:$DG7,"PA/2")/2)) | DP7: =IF(COUNTIF($C7:$DG7,"AU")+(COUNTIF($C7:$DG7,"AU/2")/2)=0,"",COUNTIF($C7:$DG7,"AU")+(COUNTIF($C7:$DG7,"AU/2")/2))
B8: 2 | C8: avr | AJ8: V | AK8: V/2 | DF8: =IF(COUNTIF($C8:$DE8,"P")+(COUNTIF($C8:$DE8,"P/2")/2)=0,"",COUNTIF($C8:$DE8,"P")+(COUNTIF($C8:$DE8,"P/2")/2)) | DG8: =IF(COUNTIF($C8:$DE8,"VA")+(COUNTIF($C8:$DE8,"VA/2")/2)=0,"",COUNTIF($C8:$DE8,"VA")+(COUNTIF($C8:$DE8,"VA/2")/2)) | DH8: =IF(COUNTIF($C8:$DE8,"MA")+(COUNTIF($C8:$DE8,"MA/2")/2)=0,"",COUNTIF($C8:$DE8,"MA")+(COUNTIF($C8:$DE8,"MA/2")/2)) | DI8: =IF(COUNTIF($C8:$DE8,"CH")+(COUNTIF($C8:$DE8,"CH/2")/2)=0,"",COUNTIF($C8:$DE8,"CH")+(COUNTIF($C8:$DE8,"CH/2")/2)) | DJ8: =IF(COUNTIF($C8:$DE8,"AT")+(COUNTIF($C8:$DE8,"AT/2")/2)=0,"",COUNTIF($C8:$DE8,"AT")+(COUNTIF($C8:$DE8,"AT/2")/2)) | DK8: =IF(COUNTIF($C8:$DE8,"OF")+(COUNTIF($C8:$DE8,"OF/2")/2)=0,"",COUNTIF($C8:$DE8,"OF")+(COUNTIF($C8:$DE8,"OF/2")/2)) | DL8: =IF(COUNTIF($C8:$DG8,"RE")+(COUNTIF($C8:$DG8,"RE/2")/2)=0,"",COUNTIF($C8:$DG8,"RE")+(COUNTIF($C8:$DG8,"RE/2")/2)) | DM8: =IF(COUNTIF($C8:$DG8,"FO")+(COUNTIF($C8:$DG8,"FO/2")/2)=0,"",COUNTIF($C8:$DG8,"FO")+(COUNTIF($C8:$DG8,"FO/2")/2)) | DN8: =IF(COUNTIF($C8:$DG8,"SY")+(COUNTIF($C8:$DG8,"SY/2")/2)=0,"",COUNTIF($C8:$DG8,"SY")+(COUNTIF($C8:$DG8,"SY/2")/2)) | DO8: =IF(COUNTIF($C8:$DG8,"PA")+(COUNTIF($C8:$DG8,"PA/2")/2)=0,"",COUNTIF($C8:$DG8,"PA")+(COUNTIF($C8:$DG8,"PA/2")/2)) | DP8: =IF(COUNTIF($C8:$DG8,"AU")+(COUNTIF($C8:$DG8,"AU/2")/2)=0,"",COUNTIF($C8:$DG8,"AU")+(COUNTIF($C8:$DG8,"AU/2")/2))
B9: 3 | C9: avr | DF9: =IF(COUNTIF($C9:$DE9,"P")+(COUNTIF($C9:$DE9,"P/2")/2)=0,"",COUNTIF($C9:$DE9,"P")+(COUNTIF($C9:$DE9,"P/2")/2)) | DG9: =IF(COUNTIF($C9:$DE9,"VA")+(COUNTIF($C9:$DE9,"VA/2")/2)=0,"",COUNTIF($C9:$DE9,"VA")+(COUNTIF($C9:$DE9,"VA/2")/2)) | DH9: =IF(COUNTIF($C9:$DE9,"MA")+(COUNTIF($C9:$DE9,"MA/2")/2)=0,"",COUNTIF($C9:$DE9,"MA")+(COUNTIF($C9:$DE9,"MA/2")/2)) | DI9: =IF(COUNTIF($C9:$DE9,"CH")+(COUNTIF($C9:$DE9,"CH/2")/2)=0,"",COUNTIF($C9:$DE9,"CH")+(COUNTIF($C9:$DE9,"CH/2")/2)) | DJ9: =IF(COUNTIF($C9:$DE9,"AT")+(COUNTIF($C9:$DE9,"AT/2")/2)=0,"",COUNTIF($C9:$DE9,"AT")+(COUNTIF($C9:$DE9,"AT/2")/2)) | DK9: =IF(COUNTIF($C9:$DE9,"OF")+(COUNTIF($C9:$DE9,"OF/2")/2)=0,"",COUNTIF($C9:$DE9,"OF")+(COUNTIF($C9:$DE9,"OF/2")/2)) | DL9: =IF(COUNTIF($C9:$DG9,"RE")+(COUNTIF($C9:$DG9,"RE/2")/2)=0,"",COUNTIF($C9:$DG9,"RE")+(COUNTIF($C9:$DG9,"RE/2")/2)) | DM9: =IF(COUNTIF($C9:$DG9,"FO")+(COUNTIF($C9:$DG9,"FO/2")/2)=0,"",COUNTIF($C9:$DG9,"FO")+(COUNTIF($C9:$DG9,"FO/2")/2)) | DN9: =IF(COUNTIF($C9:$DG9,"SY")+(COUNTIF($C9:$DG9,"SY/2")/2)=0,"",COUNTIF($C9:$DG9,"SY")+(COUNTIF($C9:$DG9,"SY/2")/2)) | DO9: =IF(COUNTIF($C9:$DG9,"PA")+(COUNTIF($C9:$DG9,"PA/2")/2)=0,"",COUNTIF($C9:$DG9,"PA")+(COUNTIF($C9:$DG9,"PA/2")/2)) | DP9: =IF(COUNTIF($C9:$DG9,"AU")+(COUNTIF($C9:$DG9,"AU/2")/2)=0,"",COUNTIF($C9:$DG9,"AU")+(COUNTIF($C9:$DG9,"AU/2")/2)) | DV9: F
B10: 4 | C10: avr | BB10: M/2 | BC10: M | BF10: V | BI10: C/2 | BP10: F | BW10: V/2 | BZ10: M/2 | CW10: /2 | DA10: M/2 | DB10: /2 | DC10: M | DD10: /2 | DE10: /2 | DF10: =IF(COUNTIF($C10:$DE10,"")+(COUNTIF($C10:$DE10,"/2")/2)=0,"",COUNTIF($C10:$DE10,"")+(COUNTIF($C10:$DE10,"/2")/2)) -> 95 | DG10: =IF(COUNTIF($C10:$DE10,"VA")+(COUNTIF($C10:$DE10,"VA/2")/2)=0,"",COUNTIF($C10:$DE10,"VA")+(COUNTIF($C10:$DE10,"VA/2")/2)) | DH10: =IF(COUNTIF($C10:$DE10,"MA")+(COUNTIF($C10:$DE10,"MA/2")/2)=0,"",COUNTIF($C10:$DE10,"MA")+(COUNTIF($C10:$DE10,"MA/2")/2)) | DI10: =IF(COUNTIF($C10:$DE10,"CH")+(COUNTIF($C10:$DE10,"CH/2")/2)=0,"",COUNTIF($C10:$DE10,"CH")+(COUNTIF($C10:$DE10,"CH/2")/2)) | DJ10: =IF(COUNTIF($C10:$DE10,"AT")+(COUNTIF($C10:$DE10,"AT/2")/2)=0,"",COUNTIF($C10:$DE10,"AT")+(COUNTIF($C10:$DE10,"AT/2")/2)) | DK10: =IF(COUNTIF($C10:$DE10,"OF")+(COUNTIF($C10:$DE10,"OF/2")/2)=0,"",COUNTIF($C10:$DE10,"OF")+(COUNTIF($C10:$DE10,"OF/2")/2)) | DL10: =IF(COUNTIF($C10:$DG10,"RE")+(COUNTIF($C10:$DG10,"RE/2")/2)=0,"",COUNTIF($C10:$DG10,"RE")+(COUNTIF($C10:$DG10,"RE/2")/2)) | DM10: =IF(COUNTIF($C10:$DG10,"FO")+(COUNTIF($C10:$DG10,"FO/2")/2)=0,"",COUNTIF($C10:$DG10,"FO")+(COUNTIF($C10:$DG10,"FO/2")/2)) | DN10: =IF(COUNTIF($C10:$DG10,"SY")+(COUNTIF($C10:$DG10,"SY/2")/2)=0,"",COUNTIF($C10:$DG10,"SY")+(COUNTIF($C10:$DG10,"SY/2")/2)) | DO10: =IF(COUNTIF($C10:$DG10,"PA")+(COUNTIF($C10:$DG10,"PA/2")/2)=0,"",COUNTIF($C10:$DG10,"PA")+(COUNTIF($C10:$DG10,"PA/2")/2)) | DP10: =IF(COUNTIF($C10:$DG10,"AU")+(COUNTIF($C10:$DG10,"AU/2")/2)=0,"",COUNTIF($C10:$DG10,"AU")+(COUNTIF($C10:$DG10,"AU/2")/2))
B11: 5 | C11: avr | DF11: =IF(COUNTIF($C11:$DE11,"P")+(COUNTIF($C11:$DE11,"P/2")/2)=0,"",COUNTIF($C11:$DE11,"P")+(COUNTIF($C11:$DE11,"P/2")/2)) | DG11: =IF(COUNTIF($C11:$DE11,"VA")+(COUNTIF($C11:$DE11,"VA/2")/2)=0,"",COUNTIF($C11:$DE11,"VA")+(COUNTIF($C11:$DE11,"VA/2")/2)) | DH11: =IF(COUNTIF($C11:$DE11,"MA")+(COUNTIF($C11:$DE11,"MA/2")/2)=0,"",COUNTIF($C11:$DE11,"MA")+(COUNTIF($C11:$DE11,"MA/2")/2)) | DI11: =IF(COUNTIF($C11:$DE11,"CH")+(COUNTIF($C11:$DE11,"CH/2")/2)=0,"",COUNTIF($C11:$DE11,"CH")+(COUNTIF($C11:$DE11,"CH/2")/2)) | DJ11: =IF(COUNTIF($C11:$DE11,"AT")+(COUNTIF($C11:$DE11,"AT/2")/2)=0,"",COUNTIF($C11:$DE11,"AT")+(COUNTIF($C11:$DE11,"AT/2")/2)) | DK11: =IF(COUNTIF($C11:$DE11,"OF")+(COUNTIF($C11:$DE11,"OF/2")/2)=0,"",COUNTIF($C11:$DE11,"OF")+(COUNTIF($C11:$DE11,"OF/2")/2)) | DL11: =IF(COUNTIF($C11:$DG11,"RE")+(COUNTIF($C11:$DG11,"RE/2")/2)=0,"",COUNTIF($C11:$DG11,"RE")+(COUNTIF($C11:$DG11,"RE/2")/2)) | DM11: =IF(COUNTIF($C11:$DG11,"FO")+(COUNTIF($C11:$DG11,"FO/2")/2)=0,"",COUNTIF($C11:$DG11,"FO")+(COUNTIF($C11:$DG11,"FO/2")/2)) | DN11: =IF(COUNTIF($C11:$DG11,"SY")+(COUNTIF($C11:$DG11,"SY/2")/2)=0,"",COUNTIF($C11:$DG11,"SY")+(COUNTIF($C11:$DG11,"SY/2")/2)) | DO11: =IF(COUNTIF($C11:$DG11,"PA")+(COUNTIF($C11:$DG11,"PA/2")/2)=0,"",COUNTIF($C11:$DG11,"PA")+(COUNTIF($C11:$DG11,"PA/2")/2)) | DP11: =IF(COUNTIF($C11:$DG11,"AU")+(COUNTIF($C11:$DG11,"AU/2")/2)=0,"",COUNTIF($C11:$DG11,"AU")+(COUNTIF($C11:$DG11,"AU/2")/2))
B12: 6 | C12: avr | DF12: =IF(COUNTIF($C12:$DE12,"P")+(COUNTIF($C12:$DE12,"P/2")/2)=0,"",COUNTIF($C12:$DE12,"P")+(COUNTIF($C12:$DE12,"P/2")/2)) | DG12: =IF(COUNTIF($C12:$DE12,"VA")+(COUNTIF($C12:$DE12,"VA/2")/2)=0,"",COUNTIF($C12:$DE12,"VA")+(COUNTIF($C12:$DE12,"VA/2")/2)) | DH12: =IF(COUNTIF($C12:$DE12,"MA")+(COUNTIF($C12:$DE12,"MA/2")/2)=0,"",COUNTIF($C12:$DE12,"MA")+(COUNTIF($C12:$DE12,"MA/2")/2)) | DI12: =IF(COUNTIF($C12:$DE12,"CH")+(COUNTIF($C12:$DE12,"CH/2")/2)=0,"",COUNTIF($C12:$DE12,"CH")+(COUNTIF($C12:$DE12,"CH/2")/2)) | DJ12: =IF(COUNTIF($C12:$DE12,"AT")+(COUNTIF($C12:$DE12,"AT/2")/2)=0,"",COUNTIF($C12:$DE12,"AT")+(COUNTIF($C12:$DE12,"AT/2")/2)) | DK12: =IF(COUNTIF($C12:$DE12,"OF")+(COUNTIF($C12:$DE12,"OF/2")/2)=0,"",COUNTIF($C12:$DE12,"OF")+(COUNTIF($C12:$DE12,"OF/2")/2)) | DL12: =IF(COUNTIF($C12:$DG12,"RE")+(COUNTIF($C12:$DG12,"RE/2")/2)=0,"",COUNTIF($C12:$DG12,"RE")+(COUNTIF($C12:$DG12,"RE/2")/2)) | DM12: =IF(COUNTIF($C12:$DG12,"FO")+(COUNTIF($C12:$DG12,"FO/2")/2)=0,"",COUNTIF($C12:$DG12,"FO")+(COUNTIF($C12:$DG12,"FO/2")/2)) | DN12: =IF(COUNTIF($C12:$DG12,"SY")+(COUNTIF($C12:$DG12,"SY/2")/2)=0,"",COUNTIF($C12:$DG12,"SY")+(COUNTIF($C12:$DG12,"SY/2")/2)) | DO12: =IF(COUNTIF($C12:$DG12,"PA")+(COUNTIF($C12:$DG12,"PA/2")/2)=0,"",COUNTIF($C12:$DG12,"PA")+(COUNTIF($C12:$DG12,"PA/2")/2)) | DP12: =IF(COUNTIF($C12:$DG12,"AU")+(COUNTIF($C12:$DG12,"AU/2")/2)=0,"",COUNTIF($C12:$DG12,"AU")+(COUNTIF($C12:$DG12,"AU/2")/2))
B13: 7 | C13: avr | DF13: =IF(COUNTIF($C13:$DE13,"P")+(COUNTIF($C13:$DE13,"P/2")/2)=0,"",COUNTIF($C13:$DE13,"P")+(COUNTIF($C13:$DE13,"P/2")/2)) | DG13: =IF(COUNTIF($C13:$DE13,"VA")+(COUNTIF($C13:$DE13,"VA/2")/2)=0,"",COUNTIF($C13:$DE13,"VA")+(COUNTIF($C13:$DE13,"VA/2")/2)) | DH13: =IF(COUNTIF($C13:$DE13,"MA")+(COUNTIF($C13:$DE13,"MA/2")/2)=0,"",COUNTIF($C13:$DE13,"MA")+(COUNTIF($C13:$DE13,"MA/2")/2)) | DI13: =IF(COUNTIF($C13:$DE13,"CH")+(COUNTIF($C13:$DE13,"CH/2")/2)=0,"",COUNTIF($C13:$DE13,"CH")+(COUNTIF($C13:$DE13,"CH/2")/2)) | DJ13: =IF(COUNTIF($C13:$DE13,"AT")+(COUNTIF($C13:$DE13,"AT/2")/2)=0,"",COUNTIF($C13:$DE13,"AT")+(COUNTIF($C13:$DE13,"AT/2")/2)) | DK13: =IF(COUNTIF($C13:$DE13,"OF")+(COUNTIF($C13:$DE13,"OF/2")/2)=0,"",COUNTIF($C13:$DE13,"OF")+(COUNTIF($C13:$DE13,"OF/2")/2)) | DL13: =IF(COUNTIF($C13:$DG13,"RE")+(COUNTIF($C13:$DG13,"RE/2")/2)=0,"",COUNTIF($C13:$DG13,"RE")+(COUNTIF($C13:$DG13,"RE/2")/2)) | DM13: =IF(COUNTIF($C13:$DG13,"FO")+(COUNTIF($C13:$DG13,"FO/2")/2)=0,"",COUNTIF($C13:$DG13,"FO")+(COUNTIF($C13:$DG13,"FO/2")/2)) | DN13: =IF(COUNTIF($C13:$DG13,"SY")+(COUNTIF($C13:$DG13,"SY/2")/2)=0,"",COUNTIF($C13:$DG13,"SY")+(COUNTIF($C13:$DG13,"SY/2")/2)) | DO13: =IF(COUNTIF($C13:$DG13,"PA")+(COUNTIF($C13:$DG13,"PA/2")/2)=0,"",COUNTIF($C13:$DG13,"PA")+(COUNTIF($C13:$DG13,"PA/2")/2)) | DP13: =IF(COUNTIF($C13:$DG13,"AU")+(COUNTIF($C13:$DG13,"AU/2")/2)=0,"",COUNTIF($C13:$DG13,"AU")+(COUNTIF($C13:$DG13,"AU/2")/2))
B14: 8 | C14: avr | DF14: =IF(COUNTIF($C14:$DE14,"P")+(COUNTIF($C14:$DE14,"P/2")/2)=0,"",COUNTIF($C14:$DE14,"P")+(COUNTIF($C14:$DE14,"P/2")/2)) | DG14: =IF(COUNTIF($C14:$DE14,"VA")+(COUNTIF($C14:$DE14,"VA/2")/2)=0,"",COUNTIF($C14:$DE14,"VA")+(COUNTIF($C14:$DE14,"VA/2")/2)) | DH14: =IF(COUNTIF($C14:$DE14,"MA")+(COUNTIF($C14:$DE14,"MA/2")/2)=0,"",COUNTIF($C14:$DE14,"MA")+(COUNTIF($C14:$DE14,"MA/2")/2)) | DI14: =IF(COUNTIF($C14:$DE14,"CH")+(COUNTIF($C14:$DE14,"CH/2")/2)=0,"",COUNTIF($C14:$DE14,"CH")+(COUNTIF($C14:$DE14,"CH/2")/2)) | DJ14: =IF(COUNTIF($C14:$DE14,"AT")+(COUNTIF($C14:$DE14,"AT/2")/2)=0,"",COUNTIF($C14:$DE14,"AT")+(COUNTIF($C14:$DE14,"AT/2")/2)) | DK14: =IF(COUNTIF($C14:$DE14,"OF")+(COUNTIF($C14:$DE14,"OF/2")/2)=0,"",COUNTIF($C14:$DE14,"OF")+(COUNTIF($C14:$DE14,"OF/2")/2)) | DL14: =IF(COUNTIF($C14:$DG14,"RE")+(COUNTIF($C14:$DG14,"RE/2")/2)=0,"",COUNTIF($C14:$DG14,"RE")+(COUNTIF($C14:$DG14,"RE/2")/2)) | DM14: =IF(COUNTIF($C14:$DG14,"FO")+(COUNTIF($C14:$DG14,"FO/2")/2)=0,"",COUNTIF($C14:$DG14,"FO")+(COUNTIF($C14:$DG14,"FO/2")/2)) | DN14: =IF(COUNTIF($C14:$DG14,"SY")+(COUNTIF($C14:$DG14,"SY/2")/2)=0,"",COUNTIF($C14:$DG14,"SY")+(COUNTIF($C14:$DG14,"SY/2")/2)) | DO14: =IF(COUNTIF($C14:$DG14,"PA")+(COUNTIF($C14:$DG14,"PA/2")/2)=0,"",COUNTIF($C14:$DG14,"PA")+(COUNTIF($C14:$DG14,"PA/2")/2)) | DP14: =IF(COUNTIF($C14:$DG14,"AU")+(COUNTIF($C14:$DG14,"AU/2")/2)=0,"",COUNTIF($C14:$DG14,"AU")+(COUNTIF($C14:$DG14,"AU/2")/2))
B15: 9 | C15: avr | DF15: =IF(COUNTIF($C15:$DE15,"P")+(COUNTIF($C15:$DE15,"P/2")/2)=0,"",COUNTIF($C15:$DE15,"P")+(COUNTIF($C15:$DE15,"P/2")/2)) | DG15: =IF(COUNTIF($C15:$DE15,"VA")+(COUNTIF($C15:$DE15,"VA/2")/2)=0,"",COUNTIF($C15:$DE15,"VA")+(COUNTIF($C15:$DE15,"VA/2")/2)) | DH15: =IF(COUNTIF($C15:$DE15,"MA")+(COUNTIF($C15:$DE15,"MA/2")/2)=0,"",COUNTIF($C15:$DE15,"MA")+(COUNTIF($C15:$DE15,"MA/2")/2)) | DI15: =IF(COUNTIF($C15:$DE15,"CH")+(COUNTIF($C15:$DE15,"CH/2")/2)=0,"",COUNTIF($C15:$DE15,"CH")+(COUNTIF($C15:$DE15,"CH/2")/2)) | DJ15: =IF(COUNTIF($C15:$DE15,"AT")+(COUNTIF($C15:$DE15,"AT/2")/2)=0,"",COUNTIF($C15:$DE15,"AT")+(COUNTIF($C15:$DE15,"AT/2")/2)) | DK15: =IF(COUNTIF($C15:$DE15,"OF")+(COUNTIF($C15:$DE15,"OF/2")/2)=0,"",COUNTIF($C15:$DE15,"OF")+(COUNTIF($C15:$DE15,"OF/2")/2)) | DL15: =IF(COUNTIF($C15:$DG15,"RE")+(COUNTIF($C15:$DG15,"RE/2")/2)=0,"",COUNTIF($C15:$DG15,"RE")+(COUNTIF($C15:$DG15,"RE/2")/2)) | DM15: =IF(COUNTIF($C15:$DG15,"FO")+(COUNTIF($C15:$DG15,"FO/2")/2)=0,"",COUNTIF($C15:$DG15,"FO")+(COUNTIF($C15:$DG15,"FO/2")/2)) | DN15: =IF(COUNTIF($C15:$DG15,"SY")+(COUNTIF($C15:$DG15,"SY/2")/2)=0,"",COUNTIF($C15:$DG15,"SY")+(COUNTIF($C15:$DG15,"SY/2")/2)) | DO15: =IF(COUNTIF($C15:$DG15,"PA")+(COUNTIF($C15:$DG15,"PA/2")/2)=0,"",COUNTIF($C15:$DG15,"PA")+(COUNTIF($C15:$DG15,"PA/2")/2)) | DP15: =IF(COUNTIF($C15:$DG15,"AU")+(COUNTIF($C15:$DG15,"AU/2")/2)=0,"",COUNTIF($C15:$DG15,"AU")+(COUNTIF($C15:$DG15,"AU/2")/2))
B16: 10 | C16: avr | DF16: =IF(COUNTIF($C16:$DE16,"P")+(COUNTIF($C16:$DE16,"P/2")/2)=0,"",COUNTIF($C16:$DE16,"P")+(COUNTIF($C16:$DE16,"P/2")/2)) | DG16: =IF(COUNTIF($C16:$DE16,"VA")+(COUNTIF($C16:$DE16,"VA/2")/2)=0,"",COUNTIF($C16:$DE16,"VA")+(COUNTIF($C16:$DE16,"VA/2")/2)) | DH16: =IF(COUNTIF($C16:$DE16,"MA")+(COUNTIF($C16:$DE16,"MA/2")/2)=0,"",COUNTIF($C16:$DE16,"MA")+(COUNTIF($C16:$DE16,"MA/2")/2)) | DI16: =IF(COUNTIF($C16:$DE16,"CH")+(COUNTIF($C16:$DE16,"CH/2")/2)=0,"",COUNTIF($C16:$DE16,"CH")+(COUNTIF($C16:$DE16,"CH/2")/2)) | DJ16: =IF(COUNTIF($C16:$DE16,"AT")+(COUNTIF($C16:$DE16,"AT/2")/2)=0,"",COUNTIF($C16:$DE16,"AT")+(COUNTIF($C16:$DE16,"AT/2")/2)) | DK16: =IF(COUNTIF($C16:$DE16,"OF")+(COUNTIF($C16:$DE16,"OF/2")/2)=0,"",COUNTIF($C16:$DE16,"OF")+(COUNTIF($C16:$DE16,"OF/2")/2)) | DL16: =IF(COUNTIF($C16:$DG16,"RE")+(COUNTIF($C16:$DG16,"RE/2")/2)=0,"",COUNTIF($C16:$DG16,"RE")+(COUNTIF($C16:$DG16,"RE/2")/2)) | DM16: =IF(COUNTIF($C16:$DG16,"FO")+(COUNTIF($C16:$DG16,"FO/2")/2)=0,"",COUNTIF($C16:$DG16,"FO")+(COUNTIF($C16:$DG16,"FO/2")/2)) | DN16: =IF(COUNTIF($C16:$DG16,"SY")+(COUNTIF($C16:$DG16,"SY/2")/2)=0,"",COUNTIF($C16:$DG16,"SY")+(COUNTIF($C16:$DG16,"SY/2")/2)) | DO16: =IF(COUNTIF($C16:$DG16,"PA")+(COUNTIF($C16:$DG16,"PA/2")/2)=0,"",COUNTIF($C16:$DG16,"PA")+(COUNTIF($C16:$DG16,"PA/2")/2)) | DP16: =IF(COUNTIF($C16:$DG16,"AU")+(COUNTIF($C16:$DG16,"AU/2")/2)=0,"",COUNTIF($C16:$DG16,"AU")+(COUNTIF($C16:$DG16,"AU/2")/2))
B17: 11 | C17: avr | DF17: =IF(COUNTIF($C17:$DE17,"P")+(COUNTIF($C17:$DE17,"P/2")/2)=0,"",COUNTIF($C17:$DE17,"P")+(COUNTIF($C17:$DE17,"P/2")/2)) | DG17: =IF(COUNTIF($C17:$DE17,"VA")+(COUNTIF($C17:$DE17,"VA/2")/2)=0,"",COUNTIF($C17:$DE17,"VA")+(COUNTIF($C17:$DE17,"VA/2")/2)) | DH17: =IF(COUNTIF($C17:$DE17,"MA")+(COUNTIF($C17:$DE17,"MA/2")/2)=0,"",COUNTIF($C17:$DE17,"MA")+(COUNTIF($C17:$DE17,"MA/2")/2)) | DI17: =IF(COUNTIF($C17:$DE17,"CH")+(COUNTIF($C17:$DE17,"CH/2")/2)=0,"",COUNTIF($C17:$DE17,"CH")+(COUNTIF($C17:$DE17,"CH/2")/2)) | DJ17: =IF(COUNTIF($C17:$DE17,"AT")+(COUNTIF($C17:$DE17,"AT/2")/2)=0,"",COUNTIF($C17:$DE17,"AT")+(COUNTIF($C17:$DE17,"AT/2")/2)) | DK17: =IF(COUNTIF($C17:$DE17,"OF")+(COUNTIF($C17:$DE17,"OF/2")/2)=0,"",COUNTIF($C17:$DE17,"OF")+(COUNTIF($C17:$DE17,"OF/2")/2)) | DL17: =IF(COUNTIF($C17:$DG17,"RE")+(COUNTIF($C17:$DG17,"RE/2")/2)=0,"",COUNTIF($C17:$DG17,"RE")+(COUNTIF($C17:$DG17,"RE/2")/2)) | DM17: =IF(COUNTIF($C17:$DG17,"FO")+(COUNTIF($C17:$DG17,"FO/2")/2)=0,"",COUNTIF($C17:$DG17,"FO")+(COUNTIF($C17:$DG17,"FO/2")/2)) | DN17: =IF(COUNTIF($C17:$DG17,"SY")+(COUNTIF($C17:$DG17,"SY/2")/2)=0,"",COUNTIF($C17:$DG17,"SY")+(COUNTIF($C17:$DG17,"SY/2")/2)) | DO17: =IF(COUNTIF($C17:$DG17,"PA")+(COUNTIF($C17:$DG17,"PA/2")/2)=0,"",COUNTIF($C17:$DG17,"PA")+(COUNTIF($C17:$DG17,"PA/2")/2)) | DP17: =IF(COUNTIF($C17:$DG17,"AU")+(COUNTIF($C17:$DG17,"AU/2")/2)=0,"",COUNTIF($C17:$DG17,"AU")+(COUNTIF($C17:$DG17,"AU/2")/2))
B18: 12 | C18: avr | DF18: =IF(COUNTIF($C18:$DE18,"P")+(COUNTIF($C18:$DE18,"P/2")/2)=0,"",COUNTIF($C18:$DE18,"P")+(COUNTIF($C18:$DE18,"P/2")/2)) | DG18: =IF(COUNTIF($C18:$DE18,"VA")+(COUNTIF($C18:$DE18,"VA/2")/2)=0,"",COUNTIF($C18:$DE18,"VA")+(COUNTIF($C18:$DE18,"VA/2")/2)) | DH18: =IF(COUNTIF($C18:$DE18,"MA")+(COUNTIF($C18:$DE18,"MA/2")/2)=0,"",COUNTIF($C18:$DE18,"MA")+(COUNTIF($C18:$DE18,"MA/2")/2)) | DI18: =IF(COUNTIF($C18:$DE18,"CH")+(COUNTIF($C18:$DE18,"CH/2")/2)=0,"",COUNTIF($C18:$DE18,"CH")+(COUNTIF($C18:$DE18,"CH/2")/2)) | DJ18: =IF(COUNTIF($C18:$DE18,"AT")+(COUNTIF($C18:$DE18,"AT/2")/2)=0,"",COUNTIF($C18:$DE18,"AT")+(COUNTIF($C18:$DE18,"AT/2")/2)) | DK18: =IF(COUNTIF($C18:$DE18,"OF")+(COUNTIF($C18:$DE18,"OF/2")/2)=0,"",COUNTIF($C18:$DE18,"OF")+(COUNTIF($C18:$DE18,"OF/2")/2)) | DL18: =IF(COUNTIF($C18:$DG18,"RE")+(COUNTIF($C18:$DG18,"RE/2")/2)=0,"",COUNTIF($C18:$DG18,"RE")+(COUNTIF($C18:$DG18,"RE/2")/2)) | DM18: =IF(COUNTIF($C18:$DG18,"FO")+(COUNTIF($C18:$DG18,"FO/2")/2)=0,"",COUNTIF($C18:$DG18,"FO")+(COUNTIF($C18:$DG18,"FO/2")/2)) | DN18: =IF(COUNTIF($C18:$DG18,"SY")+(COUNTIF($C18:$DG18,"SY/2")/2)=0,"",COUNTIF($C18:$DG18,"SY")+(COUNTIF($C18:$DG18,"SY/2")/2)) | DO18: =IF(COUNTIF($C18:$DG18,"PA")+(COUNTIF($C18:$DG18,"PA/2")/2)=0,"",COUNTIF($C18:$DG18,"PA")+(COUNTIF($C18:$DG18,"PA/2")/2)) | DP18: =IF(COUNTIF($C18:$DG18,"AU")+(COUNTIF($C18:$DG18,"AU/2")/2)=0,"",COUNTIF($C18:$DG18,"AU")+(COUNTIF($C18:$DG18,"AU/2")/2))
B19: 13 | C19: avr | DF19: =IF(COUNTIF($C19:$DE19,"P")+(COUNTIF($C19:$DE19,"P/2")/2)=0,"",COUNTIF($C19:$DE19,"P")+(COUNTIF($C19:$DE19,"P/2")/2)) | DG19: =IF(COUNTIF($C19:$DE19,"VA")+(COUNTIF($C19:$DE19,"VA/2")/2)=0,"",COUNTIF($C19:$DE19,"VA")+(COUNTIF($C19:$DE19,"VA/2")/2)) | DH19: =IF(COUNTIF($C19:$DE19,"MA")+(COUNTIF($C19:$DE19,"MA/2")/2)=0,"",COUNTIF($C19:$DE19,"MA")+(COUNTIF($C19:$DE19,"MA/2")/2)) | DI19: =IF(COUNTIF($C19:$DE19,"CH")+(COUNTIF($C19:$DE19,"CH/2")/2)=0,"",COUNTIF($C19:$DE19,"CH")+(COUNTIF($C19:$DE19,"CH/2")/2)) | DJ19: =IF(COUNTIF($C19:$DE19,"AT")+(COUNTIF($C19:$DE19,"AT/2")/2)=0,"",COUNTIF($C19:$DE19,"AT")+(COUNTIF($C19:$DE19,"AT/2")/2)) | DK19: =IF(COUNTIF($C19:$DE19,"OF")+(COUNTIF($C19:$DE19,"OF/2")/2)=0,"",COUNTIF($C19:$DE19,"OF")+(COUNTIF($C19:$DE19,"OF/2")/2)) | DL19: =IF(COUNTIF($C19:$DG19,"RE")+(COUNTIF($C19:$DG19,"RE/2")/2)=0,"",COUNTIF($C19:$DG19,"RE")+(COUNTIF($C19:$DG19,"RE/2")/2)) | DM19: =IF(COUNTIF($C19:$DG19,"FO")+(COUNTIF($C19:$DG19,"FO/2")/2)=0,"",COUNTIF($C19:$DG19,"FO")+(COUNTIF($C19:$DG19,"FO/2")/2)) | DN19: =IF(COUNTIF($C19:$DG19,"SY")+(COUNTIF($C19:$DG19,"SY/2")/2)=0,"",COUNTIF($C19:$DG19,"SY")+(COUNTIF($C19:$DG19,"SY/2")/2)) | DO19: =IF(COUNTIF($C19:$DG19,"PA")+(COUNTIF($C19:$DG19,"PA/2")/2)=0,"",COUNTIF($C19:$DG19,"PA")+(COUNTIF($C19:$DG19,"PA/2")/2)) | DP19: =IF(COUNTIF($C19:$DG19,"AU")+(COUNTIF($C19:$DG19,"AU/2")/2)=0,"",COUNTIF($C19:$DG19,"AU")+(COUNTIF($C19:$DG19,"AU/2")/2))
B20: 14 | C20: avr | DF20: =IF(COUNTIF($C20:$DE20,"P")+(COUNTIF($C20:$DE20,"P/2")/2)=0,"",COUNTIF($C20:$DE20,"P")+(COUNTIF($C20:$DE20,"P/2")/2)) | DG20: =IF(COUNTIF($C20:$DE20,"VA")+(COUNTIF($C20:$DE20,"VA/2")/2)=0,"",COUNTIF($C20:$DE20,"VA")+(COUNTIF($C20:$DE20,"VA/2")/2)) | DH20: =IF(COUNTIF($C20:$DE20,"MA")+(COUNTIF($C20:$DE20,"MA/2")/2)=0,"",COUNTIF($C20:$DE20,"MA")+(COUNTIF($C20:$DE20,"MA/2")/2)) | DI20: =IF(COUNTIF($C20:$DE20,"CH")+(COUNTIF($C20:$DE20,"CH/2")/2)=0,"",COUNTIF($C20:$DE20,"CH")+(COUNTIF($C20:$DE20,"CH/2")/2)) | DJ20: =IF(COUNTIF($C20:$DE20,"AT")+(COUNTIF($C20:$DE20,"AT/2")/2)=0,"",COUNTIF($C20:$DE20,"AT")+(COUNTIF($C20:$DE20,"AT/2")/2)) | DK20: =IF(COUNTIF($C20:$DE20,"OF")+(COUNTIF($C20:$DE20,"OF/2")/2)=0,"",COUNTIF($C20:$DE20,"OF")+(COUNTIF($C20:$DE20,"OF/2")/2)) | DL20: =IF(COUNTIF($C20:$DG20,"RE")+(COUNTIF($C20:$DG20,"RE/2")/2)=0,"",COUNTIF($C20:$DG20,"RE")+(COUNTIF($C20:$DG20,"RE/2")/2)) | DM20: =IF(COUNTIF($C20:$DG20,"FO")+(COUNTIF($C20:$DG20,"FO/2")/2)=0,"",COUNTIF($C20:$DG20,"FO")+(COUNTIF($C20:$DG20,"FO/2")/2)) | DN20: =IF(COUNTIF($C20:$DG20,"SY")+(COUNTIF($C20:$DG20,"SY/2")/2)=0,"",COUNTIF($C20:$DG20,"SY")+(COUNTIF($C20:$DG20,"SY/2")/2)) | DO20: =IF(COUNTIF($C20:$DG20,"PA")+(COUNTIF($C20:$DG20,"PA/2")/2)=0,"",COUNTIF($C20:$DG20,"PA")+(COUNTIF($C20:$DG20,"PA/2")/2)) | DP20: =IF(COUNTIF($C20:$DG20,"AU")+(COUNTIF($C20:$DG20,"AU/2")/2)=0,"",COUNTIF($C20:$DG20,"AU")+(COUNTIF($C20:$DG20,"AU/2")/2))
B21: 15 | C21: avr | DF21: =IF(COUNTIF($C21:$DE21,"P")+(COUNTIF($C21:$DE21,"P/2")/2)=0,"",COUNTIF($C21:$DE21,"P")+(COUNTIF($C21:$DE21,"P/2")/2)) | DG21: =IF(COUNTIF($C21:$DE21,"VA")+(COUNTIF($C21:$DE21,"VA/2")/2)=0,"",COUNTIF($C21:$DE21,"VA")+(COUNTIF($C21:$DE21,"VA/2")/2)) | DH21: =IF(COUNTIF($C21:$DE21,"MA")+(COUNTIF($C21:$DE21,"MA/2")/2)=0,"",COUNTIF($C21:$DE21,"MA")+(COUNTIF($C21:$DE21,"MA/2")/2)) | DI21: =IF(COUNTIF($C21:$DE21,"CH")+(COUNTIF($C21:$DE21,"CH/2")/2)=0,"",COUNTIF($C21:$DE21,"CH")+(COUNTIF($C21:$DE21,"CH/2")/2)) | DJ21: =IF(COUNTIF($C21:$DE21,"AT")+(COUNTIF($C21:$DE21,"AT/2")/2)=0,"",COUNTIF($C21:$DE21,"AT")+(COUNTIF($C21:$DE21,"AT/2")/2)) | DK21: =IF(COUNTIF($C21:$DE21,"OF")+(COUNTIF($C21:$DE21,"OF/2")/2)=0,"",COUNTIF($C21:$DE21,"OF")+(COUNTIF($C21:$DE21,"OF/2")/2)) | DL21: =IF(COUNTIF($C21:$DG21,"RE")+(COUNTIF($C21:$DG21,"RE/2")/2)=0,"",COUNTIF($C21:$DG21,"RE")+(COUNTIF($C21:$DG21,"RE/2")/2)) | DM21: =IF(COUNTIF($C21:$DG21,"FO")+(COUNTIF($C21:$DG21,"FO/2")/2)=0,"",COUNTIF($C21:$DG21,"FO")+(COUNTIF($C21:$DG21,"FO/2")/2)) | DN21: =IF(COUNTIF($C21:$DG21,"SY")+(COUNTIF($C21:$DG21,"SY/2")/2)=0,"",COUNTIF($C21:$DG21,"SY")+(COUNTIF($C21:$DG21,"SY/2")/2)) | DO21: =IF(COUNTIF($C21:$DG21,"PA")+(COUNTIF($C21:$DG21,"PA/2")/2)=0,"",COUNTIF($C21:$DG21,"PA")+(COUNTIF($C21:$DG21,"PA/2")/2)) | DP21: =IF(COUNTIF($C21:$DG21,"AU")+(COUNTIF($C21:$DG21,"AU/2")/2)=0,"",COUNTIF($C21:$DG21,"AU")+(COUNTIF($C21:$DG21,"AU/2")/2))
B22: 16 | C22: avr | DF22: =IF(COUNTIF($C22:$DE22,"P")+(COUNTIF($C22:$DE22,"P/2")/2)=0,"",COUNTIF($C22:$DE22,"P")+(COUNTIF($C22:$DE22,"P/2")/2)) | DG22: =IF(COUNTIF($C22:$DE22,"VA")+(COUNTIF($C22:$DE22,"VA/2")/2)=0,"",COUNTIF($C22:$DE22,"VA")+(COUNTIF($C22:$DE22,"VA/2")/2)) | DH22: =IF(COUNTIF($C22:$DE22,"MA")+(COUNTIF($C22:$DE22,"MA/2")/2)=0,"",COUNTIF($C22:$DE22,"MA")+(COUNTIF($C22:$DE22,"MA/2")/2)) | DI22: =IF(COUNTIF($C22:$DE22,"CH")+(COUNTIF($C22:$DE22,"CH/2")/2)=0,"",COUNTIF($C22:$DE22,"CH")+(COUNTIF($C22:$DE22,"CH/2")/2)) | DJ22: =IF(COUNTIF($C22:$DE22,"AT")+(COUNTIF($C22:$DE22,"AT/2")/2)=0,"",COUNTIF($C22:$DE22,"AT")+(COUNTIF($C22:$DE22,"AT/2")/2)) | DK22: =IF(COUNTIF($C22:$DE22,"OF")+(COUNTIF($C22:$DE22,"OF/2")/2)=0,"",COUNTIF($C22:$DE22,"OF")+(COUNTIF($C22:$DE22,"OF/2")/2)) | DL22: =IF(COUNTIF($C22:$DG22,"RE")+(COUNTIF($C22:$DG22,"RE/2")/2)=0,"",COUNTIF($C22:$DG22,"RE")+(COUNTIF($C22:$DG22,"RE/2")/2)) | DM22: =IF(COUNTIF($C22:$DG22,"FO")+(COUNTIF($C22:$DG22,"FO/2")/2)=0,"",COUNTIF($C22:$DG22,"FO")+(COUNTIF($C22:$DG22,"FO/2")/2)) | DN22: =IF(COUNTIF($C22:$DG22,"SY")+(COUNTIF($C22:$DG22,"SY/2")/2)=0,"",COUNTIF($C22:$DG22,"SY")+(COUNTIF($C22:$DG22,"SY/2")/2)) | DO22: =IF(COUNTIF($C22:$DG22,"PA")+(COUNTIF($C22:$DG22,"PA/2")/2)=0,"",COUNTIF($C22:$DG22,"PA")+(COUNTIF($C22:$DG22,"PA/2")/2)) | DP22: =IF(COUNTIF($C22:$DG22,"AU")+(COUNTIF($C22:$DG22,"AU/2")/2)=0,"",COUNTIF($C22:$DG22,"AU")+(COUNTIF($C22:$DG22,"AU/2")/2))
... B35: 29 | C35: avr | DF35: =IF(COUNTIF($C35:$DE35,"P")+(COUNTIF($C35:$DE35,"P/2")/2)=0,"",COUNTIF($C35:$DE35,"P")+(COUNTIF($C35:$DE35,"P/2")/2)) | DG35: =IF(COUNTIF($C35:$DE35,"VA")+(COUNTIF($C35:$DE35,"VA/2")/2)=0,"",COUNTIF($C35:$DE35,"VA")+(COUNTIF($C35:$DE35,"VA/2")/2)) | DH35: =IF(COUNTIF($C35:$DE35,"MA")+(COUNTIF($C35:$DE35,"MA/2")/2)=0,"",COUNTIF($C35:$DE35,"MA")+(COUNTIF($C35:$DE35,"MA/2")/2)) | DI35: =IF(COUNTIF($C35:$DE35,"CH")+(COUNTIF($C35:$DE35,"CH/2")/2)=0,"",COUNTIF($C35:$DE35,"CH")+(COUNTIF($C35:$DE35,"CH/2")/2)) | DJ35: =IF(COUNTIF($C35:$DE35,"AT")+(COUNTIF($C35:$DE35,"AT/2")/2)=0,"",COUNTIF($C35:$DE35,"AT")+(COUNTIF($C35:$DE35,"AT/2")/2)) | DK35: =IF(COUNTIF($C35:$DE35,"OF")+(COUNTIF($C35:$DE35,"OF/2")/2)=0,"",COUNTIF($C35:$DE35,"OF")+(COUNTIF($C35:$DE35,"OF/2")/2)) | DL35: =IF(COUNTIF($C35:$DG35,"RE")+(COUNTIF($C35:$DG35,"RE/2")/2)=0,"",COUNTIF($C35:$DG35,"RE")+(COUNTIF($C35:$DG35,"RE/2")/2)) | DM35: =IF(COUNTIF($C35:$DG35,"FO")+(COUNTIF($C35:$DG35,"FO/2")/2)=0,"",COUNTIF($C35:$DG35,"FO")+(COUNTIF($C35:$DG35,"FO/2")/2)) | DN35: =IF(COUNTIF($C35:$DG35,"SY")+(COUNTIF($C35:$DG35,"SY/2")/2)=0,"",COUNTIF($C35:$DG35,"SY")+(COUNTIF($C35:$DG35,"SY/2")/2)) | DO35: =IF(COUNTIF($C35:$DG35,"PA")+(COUNTIF($C35:$DG35,"PA/2")/2)=0,"",COUNTIF($C35:$DG35,"PA")+(COUNTIF($C35:$DG35,"PA/2")/2)) | DP35: =IF(COUNTIF($C35:$DG35,"AU")+(COUNTIF($C35:$DG35,"AU/2")/2)=0,"",COUNTIF($C35:$DG35,"AU")+(COUNTIF($C35:$DG35,"AU/2")/2))
B36: 30 | C36: avr | D36: M/2 | E36: M/2 | DF36: =IF(COUNTIF($C36:$DE36,"P")+(COUNTIF($C36:$DE36,"P/2")/2)=0,"",COUNTIF($C36:$DE36,"P")+(COUNTIF($C36:$DE36,"P/2")/2)) | DG36: =IF(COUNTIF($C36:$DE36,"VA")+(COUNTIF($C36:$DE36,"VA/2")/2)=0,"",COUNTIF($C36:$DE36,"VA")+(COUNTIF($C36:$DE36,"VA/2")/2)) | DH36: =IF(COUNTIF($C36:$DE36,"MA")+(COUNTIF($C36:$DE36,"MA/2")/2)=0,"",COUNTIF($C36:$DE36,"MA")+(COUNTIF($C36:$DE36,"MA/2")/2)) | DI36: =IF(COUNTIF($C36:$DE36,"CH")+(COUNTIF($C36:$DE36,"CH/2")/2)=0,"",COUNTIF($C36:$DE36,"CH")+(COUNTIF($C36:$DE36,"CH/2")/2)) | DJ36: =IF(COUNTIF($C36:$DE36,"AT")+(COUNTIF($C36:$DE36,"AT/2")/2)=0,"",COUNTIF($C36:$DE36,"AT")+(COUNTIF($C36:$DE36,"AT/2")/2)) | DK36: =IF(COUNTIF($C36:$DE36,"OF")+(COUNTIF($C36:$DE36,"OF/2")/2)=0,"",COUNTIF($C36:$DE36,"OF")+(COUNTIF($C36:$DE36,"OF/2")/2)) | DL36: =IF(COUNTIF($C36:$DG36,"RE")+(COUNTIF($C36:$DG36,"RE/2")/2)=0,"",COUNTIF($C36:$DG36,"RE")+(COUNTIF($C36:$DG36,"RE/2")/2)) | DM36: =IF(COUNTIF($C36:$DG36,"FO")+(COUNTIF($C36:$DG36,"FO/2")/2)=0,"",COUNTIF($C36:$DG36,"FO")+(COUNTIF($C36:$DG36,"FO/2")/2)) | DN36: =IF(COUNTIF($C36:$DG36,"SY")+(COUNTIF($C36:$DG36,"SY/2")/2)=0,"",COUNTIF($C36:$DG36,"SY")+(COUNTIF($C36:$DG36,"SY/2")/2)) | DO36: =IF(COUNTIF($C36:$DG36,"PA")+(COUNTIF($C36:$DG36,"PA/2")/2)=0,"",COUNTIF($C36:$DG36,"PA")+(COUNTIF($C36:$DG36,"PA/2")/2)) | DP36: =IF(COUNTIF($C36:$DG36,"AU")+(COUNTIF($C36:$DG36,"AU/2")/2)=0,"",COUNTIF($C36:$DG36,"AU")+(COUNTIF($C36:$DG36,"AU/2")/2))
B37: 31 | C37: avr | D37: * | DF37: =IF(COUNTIF($C37:$DE37,"P")+(COUNTIF($C37:$DE37,"P/2")/2)=0,"",COUNTIF($C37:$DE37,"P")+(COUNTIF($C37:$DE37,"P/2")/2)) | DG37: =IF(COUNTIF($C37:$DE37,"VA")+(COUNTIF($C37:$DE37,"VA/2")/2)=0,"",COUNTIF($C37:$DE37,"VA")+(COUNTIF($C37:$DE37,"VA/2")/2)) | DH37: =IF(COUNTIF($C37:$DE37,"MA")+(COUNTIF($C37:$DE37,"MA/2")/2)=0,"",COUNTIF($C37:$DE37,"MA")+(COUNTIF($C37:$DE37,"MA/2")/2)) | DI37: =IF(COUNTIF($C37:$DE37,"CH")+(COUNTIF($C37:$DE37,"CH/2")/2)=0,"",COUNTIF($C37:$DE37,"CH")+(COUNTIF($C37:$DE37,"CH/2")/2)) | DJ37: =IF(COUNTIF($C37:$DE37,"AT")+(COUNTIF($C37:$DE37,"AT/2")/2)=0,"",COUNTIF($C37:$DE37,"AT")+(COUNTIF($C37:$DE37,"AT/2")/2)) | DK37: =IF(COUNTIF($C37:$DE37,"OF")+(COUNTIF($C37:$DE37,"OF/2")/2)=0,"",COUNTIF($C37:$DE37,"OF")+(COUNTIF($C37:$DE37,"OF/2")/2)) | DL37: =IF(COUNTIF($C37:$DG37,"RE")+(COUNTIF($C37:$DG37,"RE/2")/2)=0,"",COUNTIF($C37:$DG37,"RE")+(COUNTIF($C37:$DG37,"RE/2")/2)) | DM37: =IF(COUNTIF($C37:$DG37,"FO")+(COUNTIF($C37:$DG37,"FO/2")/2)=0,"",COUNTIF($C37:$DG37,"FO")+(COUNTIF($C37:$DG37,"FO/2")/2)) | DN37: =IF(COUNTIF($C37:$DG37,"SY")+(COUNTIF($C37:$DG37,"SY/2")/2)=0,"",COUNTIF($C37:$DG37,"SY")+(COUNTIF($C37:$DG37,"SY/2")/2)) | DO37: =IF(COUNTIF($C37:$DG37,"PA")+(COUNTIF($C37:$DG37,"PA/2")/2)=0,"",COUNTIF($C37:$DG37,"PA")+(COUNTIF($C37:$DG37,"PA/2")/2)) | DP37: =IF(COUNTIF($C37:$DG37,"AU")+(COUNTIF($C37:$DG37,"AU/2")/2)=0,"",COUNTIF($C37:$DG37,"AU")+(COUNTIF($C37:$DG37,"AU/2")/2))
B38: Présent | D38: =IF(COUNTIF($D7:$E37,"")+(COUNTIF($D7:$E37,"/2")/2)=0,COUNTIF($D7:$E37,"")+(COUNTIF($D7:$E37,"/2")/2)) -> FALSE
B39: Vacances
B40: Maladie | D40: =IF(COUNTIF($D7:$E37,"")+(COUNTIF($D7:$E37,"/2")/2)=0,COUNTIF($D7:$E37,"")+(COUNTIF($D7:$E37,"/2")/2)) -> FALSE
B41: Crédit horaire
B42: ARTT
B43: Obligation familiale
B44: Retraite progressive
B45: Formation
B46: Syndicat
B47: Congés pat /mat / par
B48: Autres | DF48: =IF(COUNTIF($C48:$DE48,"P")+(COUNTIF($C48:$DE48,"P/2")/2)=0,"",COUNTIF($C48:$DE48,"P")+(COUNTIF($C48:$DE48,"P/2")/2)) | DG48: =IF(COUNTIF($C48:$DE48,"VA")+(COUNTIF($C48:$DE48,"VA/2")/2)=0,"",COUNTIF($C48:$DE48,"VA")+(COUNTIF($C48:$DE48,"VA/2")/2)) | DH48: =IF(COUNTIF($C48:$DE48,"MA")+(COUNTIF($C48:$DE48,"MA/2")/2)=0,"",COUNTIF($C48:$DE48,"MA")+(COUNTIF($C48:$DE48,"MA/2")/2)) | DI48: =IF(COUNTIF($C48:$DE48,"CH")+(COUNTIF($C48:$DE48,"CH/2")/2)=0,"",COUNTIF($C48:$DE48,"CH")+(COUNTIF($C48:$DE48,"CH/2")/2)) | DJ48: =IF(COUNTIF($C48:$DE48,"AT")+(COUNTIF($C48:$DE48,"AT/2")/2)=0,"",COUNTIF($C48:$DE48,"AT")+(COUNTIF($C48:$DE48,"AT/2")/2)) | DK48: =IF(COUNTIF($C48:$DE48,"OF")+(COUNTIF($C48:$DE48,"OF/2")/2)=0,"",COUNTIF($C48:$DE48,"OF")+(COUNTIF($C48:$DE48,"OF/2")/2)) | DL48: =IF(COUNTIF($C48:$DG48,"RE")+(COUNTIF($C48:$DG48,"RE/2")/2)=0,"",COUNTIF($C48:$DG48,"RE")+(COUNTIF($C48:$DG48,"RE/2")/2)) | DM48: =IF(COUNTIF($C48:$DG48,"FO")+(COUNTIF($C48:$DG48,"FO/2")/2)=0,"",COUNTIF($C48:$DG48,"FO")+(COUNTIF($C48:$DG48,"FO/2")/2)) | DN48: =IF(COUNTIF($C48:$DG48,"SY")+(COUNTIF($C48:$DG48,"SY/2")/2)=0,"",COUNTIF($C48:$DG48,"SY")+(COUNTIF($C48:$DG48,"SY/2")/2)) | DO48: =IF(COUNTIF($C48:$DG48,"PA")+(COUNTIF($C48:$DG48,"PA/2")/2)=0,"",COUNTIF($C48:$DG48,"PA")+(COUNTIF($C48:$DG48,"PA/2")/2)) | DP48: =IF(COUNTIF($C48:$DG48,"AU")+(COUNTIF($C48:$DG48,"AU/2")/2)=0,"",COUNTIF($C48:$DG48,"AU")+(COUNTIF($C48:$DG48,"AU/2")/2))

Sheet Données
B2: MOIS | E2: Personnels :
B3: Janvier | C3: 1 | E3: Pierre
B4: Février | C4: 2 | E4: Jean | G4: Type d'absences
B5: Mars | C5: 3 | E5: Jacques | G5: * | H5: Absent
B6: Avril | C6: 4 | E6: Lucie | G6: ✓ | H6: Présent - Demi-journée
B7: Mai | C7: 5 | E7: Marie | G7: Va | H7: Vacances - Demi-journée
B8: Juin | C8: 6 | E8: Normand | G8: Ma | H8: Maladie - Demie-journée
B9: Juillet | C9: 7 | E9: Thérèse | G9: Ch | H9: Crédit horaire - Demie-journée
B10: Août | C10: 8 | E10: Simon | G10: Att | H10: ARTT - Demie-journée
B11: Septembre | C11: 9 | E11: Manon | G11: Of | H11: Obligations familiales - Demie-journée
B12: Octobre | C12: 10 | G12: Ret | H12: Retraite progressive
B13: Novembre | C13: 11 | G13: Fo | H13: Formation - Demie-journée
B14: Décembre | C14: 12 | G14: Sy | H14: Syndicat - Demie-journée
G15: Par | H15: Congé paternité, maternité, parental
G16: Au | H16: Autres: Précisez.
G18: ✓
B19: Fériés de l'année
B21: =DATE(An,1,1) -> 40544
B23: =FLOOR(DAY(MINUTE(An/38)/2+56)&"/5/"&An,7)-34 -> #VALUE!
B24: =B23+1 -> #VALUE!
B25: =B23+39 -> #VALUE!
B26: =DATE(An,5,8) -> 40671
B27: =B23+49 -> #VALUE!
B28: =B23+50 -> #VALUE!
B29: =DATE(An,7,14) -> 40738
B30: =DATE(An,8,15) -> 40770
B31: =DATE(An,11,1) -> 40848
B32: =DATE(An,11,11) -> 40858
B33: =DATE(An,12,25) -> 40902
B36: ANNÉES
B37: 2015
B38: 2016
B39: 2017
B40: 2018
B41: 2019
B42: 2020
B43: 2021
B44: 2022
B45: 2023
B46: 2024
B47: 2025
B48: 2026
... B52: 2030
E59: Présent
E60: Vacances
E61: Maladie
E62: Crédit horaire
E63: ARTT
E64: Obligations familiales
E65: Retraite progressive
E66: Formation
E67: Syndicat
E68: Congés pat /mat
E69: Autres
E70: Contraintes de la journée
