Workbook

Sheet 2014
A1: Prix HT = Prix TTC / (Taxe + 1)
A2: Prix TTC = Prix HT * (Taxe + 1) | J2: RECHERCHE v avec feuille Code Clients
A4: FACTURIER 2014
G5: Reglement
A6: Date | B6: n°de facture | C6: client | D6: montant ht | E6: 0.2 | F6: montant TTC | G6: date | H6: mode de règlement | I6: numéro | J6: N° de Client
A7: 41652 | B7: 2014JAN01 | C7: ENVENT 4U BATUC 08-01 | D7: 100 | E7: =D7*$E$6 -> 20 | F7: =D7+E7 -> 120 | G7: février | H7: cheque | J7: =IFERROR(VLOOKUP(LEFT(C7,SEARCH(" ",C7)-1),'Code clients'!$A$3:$B$21,2,FALSE),"??") -> ??
A8: 41661 | B8: 2014JAN02 | C8: TI SING STUDIO 04-01 | D8: 100 | E8: =D8*$E$6 -> 20 | F8: =D8+E8 -> 120 | G8: 41691 | H8: virement | J8: =IFERROR(VLOOKUP(LEFT(C8,SEARCH(" ",C8)-1),'Code clients'!$A$3:$B$21,2,FALSE),"??") -> 2
A9: 41661 | B9: 2014JAN03 | C9: TI BATUC 15-01 | D9: 100 | E9: =D9*$E$6 -> 20 | F9: =D9+E9 -> 120 | G9: 41754 | H9: virement | J9: =IFERROR(VLOOKUP(LEFT(C9,SEARCH(" ",C9)-1),'Code clients'!$A$3:$B$21,2,FALSE),"??") -> 2
A10: 41661 | B10: 2014JAN04 | C10: TI DANCE LIKE MICKAEL/ AFRO 17-01 | D10: 100 | E10: =D10*$E$6 -> 20 | F10: =D10+E10 -> 120 | G10: 41736 | H10: virement | J10: =IFERROR(VLOOKUP(LEFT(C10,SEARCH(" ",C10)-1),'Code clients'!$A$3:$B$21,2,FALSE),"??") -> 2
A11: 41661 | B11: 2014JAN05 | C11: LGB BATUC 08-01 | D11: 100 | E11: =D11*$E$6 -> 20 | F11: =D11+E11 -> 120 | G11: 41706 | H11: CHEQUE | J11: =IFERROR(VLOOKUP(LEFT(C11,SEARCH(" ",C11)-1),'Code clients'!$A$3:$B$21,2,FALSE),"??") -> 10
A12: 41661 | B12: 2014JAN06 | C12: PE BATUC 09-01 | D12: 100 | E12: =D12*$E$6 -> 20 | F12: =D12+E12 -> 120 | J12: =IFERROR(VLOOKUP(LEFT(C12,SEARCH(" ",C12)-1),'Code clients'!$A$3:$B$21,2,FALSE),"??") -> 1
A13: 41661 | B13: 2014JAN07 | C13: PE LIP DUB 20-01 | D13: 100 | E13: =D13*$E$6 -> 20 | F13: =D13+E13 -> 120 | J13: =IFERROR(VLOOKUP(LEFT(C13,SEARCH(" ",C13)-1),'Code clients'!$A$3:$B$21,2,FALSE),"??") -> 1
A14: 41661 | B14: 2014JAN08 | C14: CASTORAMA BATUC 23-01 | D14: 100 | E14: =D14*$E$6 -> 20 | F14: =D14+E14 -> 120 | G14: 41748 | H14: cheque | J14: =IFERROR(VLOOKUP(LEFT(C14,SEARCH(" ",C14)-1),'Code clients'!$A$3:$B$21,2,FALSE),"??") -> ??
A15: 41661 | B15: 2014JAN09 | C15: TAOS BATUC 18-01 | D15: 100 | E15: =D15*$E$6 -> 20 | F15: =D15+E15 -> 120 | G15: 41722 | H15: virement | J15: =IFERROR(VLOOKUP(LEFT(C15,SEARCH(" ",C15)-1),'Code clients'!$A$3:$B$21,2,FALSE),"??") -> 6
A16: 41668 | B16: 2014JAN10 | C16: MAD HAKA 17-01 | D16: 100 | E16: =D16*$E$6 -> 20 | F16: =D16+E16 -> 120 | G16: 41701 | H16: virement | J16: =IFERROR(VLOOKUP(LEFT(C16,SEARCH(" ",C16)-1),'Code clients'!$A$3:$B$21,2,FALSE),"??") -> 9
A17: 41668 | B17: 2014JAN11 | C17: MAD HAKA 22-01 | D17: 100 | E17: =D17*$E$6 -> 20 | F17: =D17+E17 -> 120 | G17: 41701 | H17: virement | J17: =IFERROR(VLOOKUP(LEFT(C17,SEARCH(" ",C17)-1),'Code clients'!$A$3:$B$21,2,FALSE),"??") -> 9
A18: 41668 | B18: 2014JAN12 | C18: TAOS BATUC 23-01 | D18: 100 | E18: =D18*$E$6 -> 20 | F18: =D18+E18 -> 120 | G18: 41674 | H18: virement | J18: =IFERROR(VLOOKUP(LEFT(C18,SEARCH(" ",C18)-1),'Code clients'!$A$3:$B$21,2,FALSE),"??") -> 6
A19: 41668 | B19: 2014JANV13 | C19: EDIFIABATUC 24-01 | D19: 100 | E19: =D19*$E$6 -> 20 | F19: =D19+E19 -> 120 | G19: 41698 | H19: virement | J19: =IFERROR(VLOOKUP(LEFT(C19,SEARCH(" ",C19)-1),'Code clients'!$A$3:$B$21,2,FALSE),"??") -> ??
A20: 41661 | B20: 2014JANV14 | C20: PARTNER HAKA (x2)29&30-01 | D20: 100 | E20: =D20*$E$6 -> 20 | F20: =D20+E20 -> 120 | J20: =IFERROR(VLOOKUP(LEFT(C20,SEARCH(" ",C20)-1),'Code clients'!$A$3:$B$21,2,FALSE),"??") -> ??
A21: 41668 | B21: 2014JANV15 | C21: EDIFIA HAKA Klésia 30-01 | D21: 100 | E21: =D21*$E$6 -> 20 | F21: =D21+E21 -> 120 | G21: 41698 | H21: virement | J21: =IFERROR(VLOOKUP(LEFT(C21,SEARCH(" ",C21)-1),'Code clients'!$A$3:$B$21,2,FALSE),"??") -> 12
A22: 41670 | B22: 2014JANV16 | C22: ALTERN'ACTIV COURS Pc. 28&31-01 | D22: 100 | E22: =D22*$E$6 -> 20 | F22: =D22+E22 -> 120 | G22: 41673 | H22: virement | J22: =IFERROR(VLOOKUP(LEFT(C22,SEARCH(" ",C22)-1),'Code clients'!$A$3:$B$21,2,FALSE),"??") -> ??
A23: 41686 | B23: 2014FEV01 | C23: LUDIMUS BATUC SACEM 6-02 | D23: 100 | E23: =D23*$E$6 -> 20 | F23: =D23+E23 -> 120 | G23: 41748 | H23: cheque | J23: =IFERROR(VLOOKUP(LEFT(C23,SEARCH(" ",C23)-1),'Code clients'!$A$3:$B$21,2,FALSE),"??") -> 7
A24: 41686 | B24: 2014FEV02 | C24: LGB HAKA 08-02 | D24: 100 | E24: =D24*$E$6 -> 20 | F24: =D24+E24 -> 120 | G24: 41748 | H24: cheque | J24: =IFERROR(VLOOKUP(LEFT(C24,SEARCH(" ",C24)-1),'Code clients'!$A$3:$B$21,2,FALSE),"??") -> 10
A25: 41692 | B25: 2014FEV03 | C25: TI BATUCRIVER S KING 18-02 | D25: 100 | E25: =D25*$E$6 -> 20 | F25: =D25+E25 -> 120 | G25: 41732 | H25: virement | J25: =IFERROR(VLOOKUP(LEFT(C25,SEARCH(" ",C25)-1),'Code clients'!$A$3:$B$21,2,FALSE),"??") -> 2
A26: 41696 | B26: 2014FEV04 | C26: POINT P DMO 25-02 | D26: 100 | E26: =D26*$E$6 -> 20 | F26: =D26+E26 -> 120 | G26: 41726 | H26: virement | J26: =IFERROR(VLOOKUP(LEFT(C26,SEARCH(" ",C26)-1),'Code clients'!$A$3:$B$21,2,FALSE),"??") -> ??
A27: 41705 | B27: 2014MAR01 | C27: LUDIMAS BATUC 04-03 | D27: 100 | E27: =D27*$E$6 -> 20 | F27: =D27+E27 -> 120 | G27: 41905 | H27: cheque | J27: =IFERROR(VLOOKUP(LEFT(C27,SEARCH(" ",C27)-1),'Code clients'!$A$3:$B$21,2,FALSE),"??") -> ??
A28: 41711 | B28: 2014MAR02 | C28: JAMAIS VU TAP TAP 20-03 | D28: 100 | E28: =D28*$E$6 -> 20 | F28: =D28+E28 -> 120 | G28: 41724 | H28: virement | J28: =IFERROR(VLOOKUP(LEFT(C28,SEARCH(" ",C28)-1),'Code clients'!$A$3:$B$21,2,FALSE),"??") -> ??
A29: 41711 | B29: 2014MAR03 | C29: PE BATUC VUITTON 10-03 | D29: 100 | E29: =D29*$E$6 -> 20 | F29: =D29+E29 -> 120 | J29: =IFERROR(VLOOKUP(LEFT(C29,SEARCH(" ",C29)-1),'Code clients'!$A$3:$B$21,2,FALSE),"??") -> 1
A30: 41712 | B30: 2014MAR04 | C30: TAOS HAKA 14-03 | D30: 100 | E30: =D30*$E$6 -> 20 | F30: =D30+E30 -> 120 | G30: 41746 | H30: virement | J30: =IFERROR(VLOOKUP(LEFT(C30,SEARCH(" ",C30)-1),'Code clients'!$A$3:$B$21,2,FALSE),"??") -> 6
A31: 41717 | B31: 2014MAR05 | C31: TAOS BATUC 18-03 | D31: 100 | E31: =D31*$E$6 -> 20 | F31: =D31+E31 -> 120 | G31: 41746 | H31: virement | J31: =IFERROR(VLOOKUP(LEFT(C31,SEARCH(" ",C31)-1),'Code clients'!$A$3:$B$21,2,FALSE),"??") -> 6
A32: 41717 | B32: 2014MAR06 | C32: MAD HAKA 14-03 | D32: 100 | E32: =D32*$E$6 -> 20 | F32: =D32+E32 -> 120 | G32: 41719 | H32: virement | J32: =IFERROR(VLOOKUP(LEFT(C32,SEARCH(" ",C32)-1),'Code clients'!$A$3:$B$21,2,FALSE),"??") -> 9
A33: 41725 | B33: 2014MAR07 | C33: IGS CFA TAP TAP 27-03 | D33: 100 | E33: =D33*$E$6 -> 20 | F33: =D33+E33 -> 120 | J33: =IFERROR(VLOOKUP(LEFT(C33,SEARCH(" ",C33)-1),'Code clients'!$A$3:$B$21,2,FALSE),"??") -> 11
A34: 41725 | B34: 2014MAR08 | C34: PE MOVIE CLIP MAKER 25-03 | D34: 100 | E34: =D34*$E$6 -> 20 | F34: =D34+E34 -> 120 | J34: =IFERROR(VLOOKUP(LEFT(C34,SEARCH(" ",C34)-1),'Code clients'!$A$3:$B$21,2,FALSE),"??") -> 1
A35: 41727 | B35: 2014MAR09 | C35: TI AFRO 28-03 | D35: 100 | E35: =D35*$E$6 -> 20 | F35: =D35+E35 -> 120 | G35: 41775 | H35: virement | J35: =IFERROR(VLOOKUP(LEFT(C35,SEARCH(" ",C35)-1),'Code clients'!$A$3:$B$21,2,FALSE),"??") -> 2
A36: 41734 | B36: 2014AVR01 | C36: JAMAIS VU TAP TAP RENNES | D36: 100 | E36: =D36*$E$6 -> 20 | F36: =D36+E36 -> 120 | G36: 41737 | H36: virement | J36: =IFERROR(VLOOKUP(LEFT(C36,SEARCH(" ",C36)-1),'Code clients'!$A$3:$B$21,2,FALSE),"??") -> ?? | K36: LORS DE MOT COMPOSE LA FORMULE NE MARCHE PAS
A37: 38082 | B37: 2014AVR02 | C37: TI BATUX DU 04/04 | D37: 100 | E37: =D37*$E$6 -> 20 | F37: =D37+E37 -> 120 | G37: 41775 | H37: virement | J37: =IFERROR(VLOOKUP(LEFT(C37,SEARCH(" ",C37)-1),'Code clients'!$A$3:$B$21,2,FALSE),"??") -> 2
A38: 05/04/2014 | B38: 2014AVR03 | C38: PE HAKA MONTAUBAN 11-04 | D38: 100 | E38: =D38*$E$6 -> 20 | F38: =D38+E38 -> 120 | J38: =IFERROR(VLOOKUP(LEFT(C38,SEARCH(" ",C38)-1),'Code clients'!$A$3:$B$21,2,FALSE),"??") -> 1
A39: 05/04/2014 | B39: 2014AVR04 | C39: EDI BATUC HAKA 23-24 - 04 | D39: 100 | E39: =D39*$E$6 -> 20 | F39: =D39+E39 -> 120 | G39: 41787 | H39: virement | J39: =IFERROR(VLOOKUP(LEFT(C39,SEARCH(" ",C39)-1),'Code clients'!$A$3:$B$21,2,FALSE),"??") -> ??
A40: 29/04/2014 | B40: 2014AVR05 | C40: TAOS BATUC 29-04 | D40: 100 | E40: =D40*$E$6 -> 20 | F40: =D40+E40 -> 120 | G40: 41772 | H40: virement | J40: =IFERROR(VLOOKUP(LEFT(C40,SEARCH(" ",C40)-1),'Code clients'!$A$3:$B$21,2,FALSE),"??") -> 6
A41: 29/04/2014 | B41: 2014AVR06 | C41: TAOS HAKA 9-04 | D41: 100 | E41: =D41*$E$6 -> 20 | F41: =D41+E41 -> 120 | G41: 41780 | H41: virement | J41: =IFERROR(VLOOKUP(LEFT(C41,SEARCH(" ",C41)-1),'Code clients'!$A$3:$B$21,2,FALSE),"??") -> 6
...

Sheet Code clients
A2: Agence | E2: CLIENT DIRECT
A3: PE | B3: 1 | E3: CASTORAMA
A4: TI | B4: 2 | E4: AUCHAN
A5: CBR | B5: 3 | E5: CAISSE DES DEPOTS
A6: Stratevent | B6: 4 | E6: LA POSTE
A7: OSE | B7: 5 | E7: MME CARROY COMITE DES FETES
A8: TAOS | B8: 6
A9: LUDIMUS | B9: 7
A10: OPTIMUM | B10: 8
A11: MAD | B11: 9
A12: LGB | B12: 10
A13: IGS | B13: 11
A14: EDIFIA | B14: 12
A15: BEA | B15: 13
A16: MCO | B16: 14
A17: ALTERN' ACTION | B17: 15
A18: JAMAIS VU | B18: 16
A19: MOVIDA | B19: 17
... A21: EVERSIDE | B21: 19
A22: ??

Sheet Analyse Client
C1: dans C5 je souhaite avoir la somme des montants TTC du mois par clients
A4: Code Client | B4: clients | C4: 41640 | D4: 41671 | E4: 41699 | F4: 41730 | G4: 41760 | H4: 41791 | I4: 41821 | J4: 41852 | K4: 41883 | L4: 41913 | M4: 41944 | N4: 41974 | O4: Total
A5: 1 | B5: PE | C5: =SUMPRODUCT(('2014'!J7:J131='Analyse Client'!A5)*('2014'!A7:A131='Analyse Client'!C4)*'2014'!F7:F131) -> 0
A6: 2 | B6: TI
A7: 3 | B7: CBR
A8: 4 | B8: Stratevent
A9: 5 | B9: OSE
A10: 6 | B10: TAOS
A11: 7 | B11: LUDIMUS
A12: 8 | B12: OPTIMUM
A13: 9 | B13: MAD
A14: 10 | B14: LGB
A15: 11 | B15: IGS
A16: 12 | B16: EDIFIA
A17: 13 | B17: BEA
... A23: 19 | B23: EVERSIDE
A24: ??

Sheet Feuil2

Sheet Feuil3
