Workbook

Sheet 2014
A1: Prix HT = Prix TTC / (Taxe + 1)
A2: Prix TTC = Prix HT * (Taxe + 1) | J2: RECHERCHE v avec feuille Code Clients
A4: FACTURIER 2014
G5: Reglement
A6: Date | B6: n°de facture | C6: client | D6: montant ht | E6: 0.2 | F6: montant TTC | G6: date | H6: mode de règlement | I6: numéro | J6: N° de Client
A7: 41652 | B7: 2014JAN01 | C7: ENVENT 4U BATUC 08-01 | D7: 100 | E7: =D7*$E$6 -> 20 | F7: =D7+E7 -> 120 | G7: février | H7: cheque | J7: =IFERROR(VLOOKUP(LEFT(C7,SEARCH(" ",C7)-1),'Code clients'!$A$3:$B$21,2,FALSE),"??") -> ??
A8: 41661 | B8: 2014JAN02 | C8: TI SING STUDIO 04-01 | D8: 100 | E8: =D8*$E$6 -> 20 | F8: =D8+E8 -> 120 | G8: 41691 | H8: virement | J8: =IFERROR(VLOOKUP(LEFT(C8,SEARCH(" ",C8)-1),'Code clients'!$A$3:$B$21,2,FALSE),"??") -> 2
A9: 41661 | B9: 2014JAN03 | C9: TI BATUC 15-01 | D9: 100 | E9: =D9*$E$6 -> 20 | F9: =D9+E9 -> 120 | G9: 41754 | H9: virement | J9: =IFERROR(VLOOKUP(LEFT(C9,SEARCH(" ",C9)-1),'Code clients'!$A$3:$B$21,2,FALSE),"??") -> 2
A10: 41661 | B10: 2014JAN04 | C10: TI DANCE LIKE MICKAEL/ AFRO 17-01 | D10: 100 | E10: =D10*$E$6 -> 20 | F10: =D10+E10 -> 120 | G10: 41736 | H10: virement | J10: =IFERROR(VLOOKUP(LEFT(C10,SEARCH(" ",C10)-1),'Code clients'!$A$3:$B$21,2,FALSE),"??") -> 2
A11: 41661 | B11: 2014JAN05 | C11: LGB BATUC 08-01 | D11: 100 | E11: =D11*$E$6 -> 20 | F11: =D11+E11 -> 120 | G11: 41706 | H11: CHEQUE | J11: =IFERROR(VLOOKUP(LEFT(C11,SEARCH(" ",C11)-1),'Code clients'!$A$3:$B$21,2,FALSE),"??") -> 10
A12: 41661 | B12: 2014JAN06 | C12: PE BATUC 09-01 | D12: 100 | E12: =D12*$E$6 -> 20 | F12: =D12+E12 -> 120 | J12: =IFERROR(VLOOKUP(LEFT(C12,SEARCH(" ",C12)-1),'Code clients'!$A$3:$B$21,2,FALSE),"??") -> 1
A13: 41661 | B13: 2014JAN07 | C13: PE LIP DUB 20-01 | D13: 100 | E13: =D13*$E$6 -> 20 | F13: =D13+E13 -> 120 | J13: =IFERROR(VLOOKUP(LEFT(C13,SEARCH(" ",C13)-1),'Code clients'!$A$3:$B$21,2,FALSE),"??") -> 1
A14: 41661 | B14: 2014JAN08 | C14: CASTORAMA BATUC 23-01 | D14: 100 | E14: =D14*$E$6 -> 20 | F14: =D14+E14 -> 120 | G14: 41748 | H14: cheque | J14: =IFERROR(VLOOKUP(LEFT(C14,SEARCH(" ",C14)-1),'Code clients'!$A$3:$B$21,2,FALSE),"??") -> ??
A15: 41661 | B15: 2014JAN09 | C15: TAOS BATUC 18-01 | D15: 100 | E15: =D15*$E$6 -> 20 | F15: =D15+E15 -> 120 | G15: 41722 | H15: virement | J15: =IFERROR(VLOOKUP(LEFT(C15,SEARCH(" ",C15)-1),'Code clients'!$A$3:$B$21,2,FALSE),"??") -> 6
A16: 41668 | B16: 2014JAN10 | C16: MAD HAKA 17-01 | D16: 100 | E16: =D16*$E$6 -> 20 | F16: =D16+E16 -> 120 | G16: 41701 | H16: virement | J16: =IFERROR(VLOOKUP(LEFT(C16,SEARCH(" ",C16)-1),'Code clients'!$A$3:$B$21,2,FALSE),"??") -> 9
A17: 41668 | B17: 2014JAN11 | C17: MAD HAKA 22-01 | D17: 100 | E17: =D17*$E$6 -> 20 | F17: =D17+E17 -> 120 | G17: 41701 | H17: virement | J17: =IFERROR(VLOOKUP(LEFT(C17,SEARCH(" ",C17)-1),'Code clients'!$A$3:$B$21,2,FALSE),"??") -> 9
A18: 41668 | B18: 2014JAN12 | C18: TAOS BATUC 23-01 | D18: 100 | E18: =D18*$E$6 -> 20 | F18: =D18+E18 -> 120 | G18: 41674 | H18: virement | J18: =IFERROR(VLOOKUP(LEFT(C18,SEARCH(" ",C18)-1),'Code clients'!$A$3:$B$21,2,FALSE),"??") -> 6
A19: 41668 | B19: 2014JANV13 | C19: EDIFIABATUC 24-01 | D19: 100 | E19: =D19*$E$6 -> 20 | F19: =D19+E19 -> 120 | G19: 41698 | H19: virement | J19: =IFERROR(VLOOKUP(LEFT(C19,SEARCH(" ",C19)-1),'Code clients'!$A$3:$B$21,2,FALSE),"??") -> ??
A20: 41661 | B20: 2014JANV14 | C20: PARTNER HAKA (x2)29&30-01 | D20: 100 | E20: =D20*$E$6 -> 20 | F20: =D20+E20 -> 120 | J20: =IFERROR(VLOOKUP(LEFT(C20,SEARCH(" ",C20)-1),'Code clients'!$A$3:$B$21,2,FALSE),"??") -> ??
A21: 41668 | B21: 2014JANV15 | C21: EDIFIA HAKA Klésia 30-01 | D21: 100 | E21: =D21*$E$6 -> 20 | F21: =D21+E21 -> 120 | G21: 41698 | H21: virement | J21: =IFERROR(VLOOKUP(LEFT(C21,SEARCH(" ",C21)-1),'Code clients'!$A$3:$B$21,2,FALSE),"??") -> 12
A22: 41670 | B22: 2014JANV16 | C22: ALTERN'ACTIV COURS Pc. 28&31-01 | D22: 100 | E22: =D22*$E$6 -> 20 | F22: =D22+E22 -> 120 | G22: 41673 | H22: virement | J22: =IFERROR(VLOOKUP(LEFT(C22,SEARCH(" ",C22)-1),'Code clients'!$A$3:$B$21,2,FALSE),"??") -> ??
A23: 41686 | B23: 2014FEV01 | C23: LUDIMUS BATUC SACEM 6-02 | D23: 100 | E23: =D23*$E$6 -> 20 | F23: =D23+E23 -> 120 | G23: 41748 | H23: cheque | J23: =IFERROR(VLOOKUP(LEFT(C23,SEARCH(" ",C23)-1),'Code clients'!$A$3:$B$21,2,FALSE),"??") -> 7
A24: 41686 | B24: 2014FEV02 | C24: LGB HAKA 08-02 | D24: 100 | E24: =D24*$E$6 -> 20 | F24: =D24+E24 -> 120 | G24: 41748 | H24: cheque | J24: =IFERROR(VLOOKUP(LEFT(C24,SEARCH(" ",C24)-1),'Code clients'!$A$3:$B$21,2,FALSE),"??") -> 10
A25: 41692 | B25: 2014FEV03 | C25: TI BATUCRIVER S KING 18-02 | D25: 100 | E25: =D25*$E$6 -> 20 | F25: =D25+E25 -> 120 | G25: 41732 | H25: virement | J25: =IFERROR(VLOOKUP(LEFT(C25,SEARCH(" ",C25)-1),'Code clients'!$A$3:$B$21,2,FALSE),"??") -> 2
A26: 41696 | B26: 2014FEV04 | C26: POINT P DMO 25-02 | D26: 100 | E26: =D26*$E$6 -> 20 | F26: =D26+E26 -> 120 | G26: 41726 | H26: virement | J26: =IFERROR(VLOOKUP(LEFT(C26,SEARCH(" ",C26)-1),'Code clients'!$A$3:$B$21,2,FALSE),"??") -> ??
A27: 41705 | B27: 2014MAR01 | C27: LUDIMAS BATUC 04-03 | D27: 100 | E27: =D27*$E$6 -> 20 | F27: =D27+E27 -> 120 | G27: 41905 | H27: cheque | J27: =IFERROR(VLOOKUP(LEFT(C27,SEARCH(" ",C27)-1),'Code clients'!$A$3:$B$21,2,FALSE),"??") -> ??
A28: 41711 | B28: 2014MAR02 | C28: JAMAIS VU TAP TAP 20-03 | D28: 100 | E28: =D28*$E$6 -> 20 | F28: =D28+E28 -> 120 | G28: 41724 | H28: virement | J28: =IFERROR(VLOOKUP(LEFT(C28,SEARCH(" ",C28)-1),'Code clients'!$A$3:$B$21,2,FALSE),"??") -> ??
A29: 41711 | B29: 2014MAR03 | C29: PE BATUC VUITTON 10-03 | D29: 100 | E29: =D29*$E$6 -> 20 | F29: =D29+E29 -> 120 | J29: =IFERROR(VLOOKUP(LEFT(C29,SEARCH(" ",C29)-1),'Code clients'!$A$3:$B$21,2,FALSE),"??") -> 1
A30: 41712 | B30: 2014MAR04 | C30: TAOS HAKA 14-03 | D30: 100 | E30: =D30*$E$6 -> 20 | F30: =D30+E30 -> 120 | G30: 41746 | H30: virement | J30: =IFERROR(VLOOKUP(LEFT(C30,SEARCH(" ",C30)-1),'Code clients'!$A$3:$B$21,2,FALSE),"??") -> 6
A31: 41717 | B31: 2014MAR05 | C31: TAOS BATUC 18-03 | D31: 100 | E31: =D31*$E$6 -> 20 | F31: =D31+E31 -> 120 | G31: 41746 | H31: virement | J31: =IFERROR(VLOOKUP(LEFT(C31,SEARCH(" ",C31)-1),'Code clients'!$A$3:$B$21,2,FALSE),"??") -> 6
A32: 41717 | B32: 2014MAR06 | C32: MAD HAKA 14-03 | D32: 100 | E32: =D32*$E$6 -> 20 | F32: =D32+E32 -> 120 | G32: 41719 | H32: virement | J32: =IFERROR(VLOOKUP(LEFT(C32,SEARCH(" ",C32)-1),'Code clients'!$A$3:$B$21,2,FALSE),"??") -> 9
A33: 41725 | B33: 2014MAR07 | C33: IGS CFA TAP TAP 27-03 | D33: 100 | E33: =D33*$E$6 -> 20 | F33: =D33+E33 -> 120 | J33: =IFERROR(VLOOKUP(LEFT(C33,SEARCH(" ",C33)-1),'Code clients'!$A$3:$B$21,2,FALSE),"??") -> 11
A34: 41725 | B34: 2014MAR08 | C34: PE MOVIE CLIP MAKER 25-03 | D34: 100 | E34: =D34*$E$6 -> 20 | F34: =D34+E34 -> 120 | J34: =IFERROR(VLOOKUP(LEFT(C34,SEARCH(" ",C34)-1),'Code clients'!$A$3:$B$21,2,FALSE),"??") -> 1
A35: 41727 | B35: 2014MAR09 | C35: TI AFRO 28-03 | D35: 100 | E35: =D35*$E$6 -> 20 | F35: =D35+E35 -> 120 | G35: 41775 | H35: virement | J35: =IFERROR(VLOOKUP(LEFT(C35,SEARCH(" ",C35)-1),'Code clients'!$A$3:$B$21,2,FALSE),"??") -> 2
A36: 41734 | B36: 2014AVR01 | C36: JAMAIS VU TAP TAP RENNES | D36: 100 | E36: =D36*$E$6 -> 20 | F36: =D36+E36 -> 120 | G36: 41737 | H36: virement | J36: =IFERROR(VLOOKUP(LEFT(C36,SEARCH(" ",C36)-1),'Code clients'!$A$3:$B$21,2,FALSE),"??") -> ?? | K36: LORS DE MOT COMPOSE LA FORMULE NE MARCHE PAS
A37: 38082 | B37: 2014AVR02 | C37: TI BATUX DU 04/04 | D37: 100 | E37: =D37*$E$6 -> 20 | F37: =D37+E37 -> 120 | G37: 41775 | H37: virement | J37: =IFERROR(VLOOKUP(LEFT(C37,SEARCH(" ",C37)-1),'Code clients'!$A$3:$B$21,2,FALSE),"??") -> 2
A38: 05/04/2014 | B38: 2014AVR03 | C38: PE HAKA MONTAUBAN 11-04 | D38: 100 | E38: =D38*$E$6 -> 20 | F38: =D38+E38 -> 120 | J38: =IFERROR(VLOOKUP(LEFT(C38,SEARCH(" ",C38)-1),'Code clients'!$A$3:$B$21,2,FALSE),"??") -> 1
A39: 05/04/2014 | B39: 2014AVR04 | C39: EDI BATUC HAKA 23-24 - 04 | D39: 100 | E39: =D39*$E$6 -> 20 | F39: =D39+E39 -> 120 | G39: 41787 | H39: virement | J39: =IFERROR(VLOOKUP(LEFT(C39,SEARCH(" ",C39)-1),'Code clients'!$A$3:$B$21,2,FALSE),"??") -> ??
A40: 29/04/2014 | B40: 2014AVR05 | C40: TAOS BATUC 29-04 | D40: 100 | E40: =D40*$E$6 -> 20 | F40: =D40+E40 -> 120 | G40: 41772 | H40: virement | J40: =IFERROR(VLOOKUP(LEFT(C40,SEARCH(" ",C40)-1),'Code clients'!$A$3:$B$21,2,FALSE),"??") -> 6
A41: 29/04/2014 | B41: 2014AVR06 | C41: TAOS HAKA 9-04 | D41: 100 | E41: =D41*$E$6 -> 20 | F41: =D41+E41 -> 120 | G41: 41780 | H41: virement | J41: =IFERROR(VLOOKUP(LEFT(C41,SEARCH(" ",C41)-1),'Code clients'!$A$3:$B$21,2,FALSE),"??") -> 6
A42: 29/04/2014 | B42: 2014AVR07 | C42: TI AFRO 29-04 | D42: 100 | E42: =D42*$E$6 -> 20 | F42: =D42+E42 -> 120 | H42: à vérifier | J42: =IFERROR(VLOOKUP(LEFT(C42,SEARCH(" ",C42)-1),'Code clients'!$A$3:$B$21,2,FALSE),"??") -> 2
A43: 29/04/2014 | B43: 2014AVR08 | C43: PE MOVIE CLIP28-04 | D43: 100 | E43: =D43*$E$6 -> 20 | F43: =D43+E43 -> 120 | G43: 41820 | H43: virement | J43: =IFERROR(VLOOKUP(LEFT(C43,SEARCH(" ",C43)-1),'Code clients'!$A$3:$B$21,2,FALSE),"??") -> 1
A44: 29/04/2014 | B44: 2014AVR09 | C44: MAD STREET 15-04 | D44: 100 | E44: =D44*$E$6 -> 20 | F44: =D44+E44 -> 120 | G44: 41809 | H44: virement | J44: =IFERROR(VLOOKUP(LEFT(C44,SEARCH(" ",C44)-1),'Code clients'!$A$3:$B$21,2,FALSE),"??") -> 9
A45: 29/04/2014 | B45: 2014AVR10 | C45: MAD OPEROCK 8-04 | D45: 100 | E45: =D45*$E$6 -> 20 | F45: =D45+E45 -> 120 | G45: 41796 | H45: virement | J45: =IFERROR(VLOOKUP(LEFT(C45,SEARCH(" ",C45)-1),'Code clients'!$A$3:$B$21,2,FALSE),"??") -> 9
A46: 29/04/2014 | B46: 2014AVR11 | C46: MAD BATUC 17-04 | D46: 100 | E46: =D46*$E$6 -> 20 | F46: =D46+E46 -> 120 | G46: 41822 | H46: virement | J46: =IFERROR(VLOOKUP(LEFT(C46,SEARCH(" ",C46)-1),'Code clients'!$A$3:$B$21,2,FALSE),"??") -> 9
B47: 2014MAI01 | C47: ACOMPTE MOVIDA | D47: 100 | E47: =D47*$E$6 -> 20 | F47: =D47+E47 -> 120 | G47: 41821 | H47: cheque | J47: =IFERROR(VLOOKUP(LEFT(C47,SEARCH(" ",C47)-1),'Code clients'!$A$3:$B$21,2,FALSE),"??") -> ??
A48: 23/05/2014 | B48: 2014MAI02 | C48: EDIFIA BATUC HAKA 22-23/05 | D48: 100 | E48: =D48*$E$6 -> 20 | F48: =D48+E48 -> 120 | G48: 41827 | H48: virement | J48: =IFERROR(VLOOKUP(LEFT(C48,SEARCH(" ",C48)-1),'Code clients'!$A$3:$B$21,2,FALSE),"??") -> 12
A49: 22/05/2014 | B49: 2014MAI03 | C49: STRATEVENT BATUC 22-05 | D49: 100 | E49: =D49*$E$6 -> 20 | F49: =D49+E49 -> 120 | G49: 41881 | H49: cheque | J49: =IFERROR(VLOOKUP(LEFT(C49,SEARCH(" ",C49)-1),'Code clients'!$A$3:$B$21,2,FALSE),"??") -> 4
A50: 22/05/2014 | B50: 2014MAI04 | C50: TI TEAM PERCUS | D50: 100 | E50: =D50*$E$6 -> 20 | F50: =D50+E50 -> 120 | G50: 41820 | H50: virement | J50: =IFERROR(VLOOKUP(LEFT(C50,SEARCH(" ",C50)-1),'Code clients'!$A$3:$B$21,2,FALSE),"??") -> 2
A51: 26/05/2014 | B51: 2014MAI05 | C51: BEA BATUC 21-05 | D51: 100 | E51: =D51*$E$6 -> 20 | F51: =D51+E51 -> 120 | G51: 41795 | H51: virement | J51: =IFERROR(VLOOKUP(LEFT(C51,SEARCH(" ",C51)-1),'Code clients'!$A$3:$B$21,2,FALSE),"??") -> 13
A52: 26/05/2014 | B52: 2014MAI06 | C52: AUCHAN BATUC 26-05 | D52: 100 | E52: =D52*$E$6 -> 20 | F52: =D52+E52 -> 120 | G52: 41881 | H52: cheque | J52: =IFERROR(VLOOKUP(LEFT(C52,SEARCH(" ",C52)-1),'Code clients'!$A$3:$B$21,2,FALSE),"??") -> ??
A53: 04/06/2014 | B53: 2014JUIN01-AC | C53: MCI BATUC 28-08 | D53: 100 | E53: =D53*$E$6 -> 20 | F53: =D53+E53 -> 120 | G53: 41801 | H53: virement | J53: =IFERROR(VLOOKUP(LEFT(C53,SEARCH(" ",C53)-1),'Code clients'!$A$3:$B$21,2,FALSE),"??") -> ??
A54: 30/06/2014 | B54: 2014JUIN01 | C54: PE HAKA 02-06 | D54: 100 | E54: =D54*$E$6 -> 20 | F54: =D54+E54 -> 120 | G54: 41838 | H54: virement | J54: =IFERROR(VLOOKUP(LEFT(C54,SEARCH(" ",C54)-1),'Code clients'!$A$3:$B$21,2,FALSE),"??") -> 1
A55: 30/06/2014 | B55: 2014JUIN02 | C55: EDIFIA BATUC / HAKA 3-4/06 | D55: 100 | E55: =D55*$E$6 -> 20 | F55: =D55+E55 -> 120 | G55: 41845 | H55: virement | J55: =IFERROR(VLOOKUP(LEFT(C55,SEARCH(" ",C55)-1),'Code clients'!$A$3:$B$21,2,FALSE),"??") -> 12
A56: 30/06/2014 | B56: 2014JUIN03 | C56: LUDIMUS HAKA | D56: 100 | E56: =D56*$E$6 -> 20 | F56: =D56+E56 -> 120 | G56: 41936 | H56: virement | J56: =IFERROR(VLOOKUP(LEFT(C56,SEARCH(" ",C56)-1),'Code clients'!$A$3:$B$21,2,FALSE),"??") -> 7
A57: 30/06/2014 | B57: 2014JUIN04 | C57: MCO | D57: 100 | E57: =D57*$E$6 -> 20 | F57: =D57+E57 -> 120 | G57: 41881 | H57: cheque | J57: =IFERROR(VLOOKUP(LEFT(C57,SEARCH(" ",C57)-1),'Code clients'!$A$3:$B$21,2,FALSE),"??") -> ??
A58: 30/06/2014 | B58: 2014JUIN05 | C58: TI SING STUDIO 11-06 | D58: 100 | E58: =D58*$E$6 -> 20 | F58: =D58+E58 -> 120 | H58: à vérifier | J58: =IFERROR(VLOOKUP(LEFT(C58,SEARCH(" ",C58)-1),'Code clients'!$A$3:$B$21,2,FALSE),"??") -> 2
A59: 30/06/2014 | B59: 2014JUIN06 | C59: OPTIMUM BATUC 12-06 | D59: 100 | E59: =D59*$E$6 -> 20 | F59: =D59+E59 -> 120 | G59: 41881 | H59: cheque | J59: =IFERROR(VLOOKUP(LEFT(C59,SEARCH(" ",C59)-1),'Code clients'!$A$3:$B$21,2,FALSE),"??") -> 8
A60: 30/06/2014 | B60: 2014JUIN07 | C60: TI LIP DUB | D60: 100 | E60: =D60*$E$6 -> 20 | F60: =D60+E60 -> 120 | G60: 41882 | H60: virement | J60: =IFERROR(VLOOKUP(LEFT(C60,SEARCH(" ",C60)-1),'Code clients'!$A$3:$B$21,2,FALSE),"??") -> 2
A61: 30/06/2014 | B61: 2014JUIN08 | C61: PE HAKA 17-06 | D61: 100 | E61: =D61*$E$6 -> 20 | F61: =D61+E61 -> 120 | G61: 41838 | H61: virement | J61: =IFERROR(VLOOKUP(LEFT(C61,SEARCH(" ",C61)-1),'Code clients'!$A$3:$B$21,2,FALSE),"??") -> 1
A62: 30/06/2014 | B62: 2014JUIN09 | C62: LGB HAKA 19-06 | D62: 100 | E62: =D62*$E$6 -> 20 | F62: =D62+E62 -> 120 | G62: 41905 | H62: cheque | J62: =IFERROR(VLOOKUP(LEFT(C62,SEARCH(" ",C62)-1),'Code clients'!$A$3:$B$21,2,FALSE),"??") -> 10
A63: 30/06/2014 | B63: 2014JUIN10 | C63: LGB BATUC 20-06 | D63: 100 | E63: =D63*$E$6 -> 20 | F63: =D63+E63 -> 120 | H63: cheque | J63: =IFERROR(VLOOKUP(LEFT(C63,SEARCH(" ",C63)-1),'Code clients'!$A$3:$B$21,2,FALSE),"??") -> 10
A64: 30/06/2014 | B64: 2014JUIN11 | C64: PE HAKA | D64: 100 | E64: =D64*$E$6 -> 20 | F64: =D64+E64 -> 120 | G64: 41838 | H64: virement | J64: =IFERROR(VLOOKUP(LEFT(C64,SEARCH(" ",C64)-1),'Code clients'!$A$3:$B$21,2,FALSE),"??") -> 1
A65: 30/06/2014 | B65: 2014JUIN12 | C65: PE BATUC 25-06 | D65: 100 | E65: =D65*$E$6 -> 20 | F65: =D65+E65 -> 120 | G65: 41838 | H65: virement | J65: =IFERROR(VLOOKUP(LEFT(C65,SEARCH(" ",C65)-1),'Code clients'!$A$3:$B$21,2,FALSE),"??") -> 1
A66: 30/06/2014 | B66: 2014JUIN13 | C66: TI KARAOKE 25-06 | D66: 100 | E66: =D66*$E$6 -> 20 | F66: =D66+E66 -> 120 | G66: 41893 | H66: virement | J66: =IFERROR(VLOOKUP(LEFT(C66,SEARCH(" ",C66)-1),'Code clients'!$A$3:$B$21,2,FALSE),"??") -> 2
A67: 30/06/2014 | B67: 2014JUIN14 | C67: M.LOYAL BATUC 26-06 | D67: 100 | E67: =D67*$E$6 -> 20 | F67: =D67+E67 -> 120 | G67: 41905 | H67: cheque | J67: =IFERROR(VLOOKUP(LEFT(C67,SEARCH(" ",C67)-1),'Code clients'!$A$3:$B$21,2,FALSE),"??") -> ??
A68: 30/06/2014 | B68: 2014JUIN15 | C68: PE BATUC 27-06 | D68: 100 | E68: =D68*$E$6 -> 20 | F68: =D68+E68 -> 120 | G68: 41845 | H68: virement | J68: =IFERROR(VLOOKUP(LEFT(C68,SEARCH(" ",C68)-1),'Code clients'!$A$3:$B$21,2,FALSE),"??") -> 1
A69: 30/06/2014 | B69: 2014JUIN16 | C69: MOVIDA TAP TAP 24-06 SOLDE | D69: 100 | E69: =D69*$E$6 -> 20 | F69: =D69+E69 -> 120 | G69: 41881 | H69: cheque | J69: =IFERROR(VLOOKUP(LEFT(C69,SEARCH(" ",C69)-1),'Code clients'!$A$3:$B$21,2,FALSE),"??") -> 17
A70: 30/06/2014 | B70: 2014JUIN18 | C70: MAD OPEROCK 3-06 | D70: 100 | E70: =D70*$E$6 -> 20 | F70: =D70+E70 -> 120 | G70: 41901 | H70: virement | J70: =IFERROR(VLOOKUP(LEFT(C70,SEARCH(" ",C70)-1),'Code clients'!$A$3:$B$21,2,FALSE),"??") -> 9
A71: 30/06/2014 | B71: 2014JUIN19 | C71: MAD BATUC 03-06 | D71: 100 | E71: =D71*$E$6 -> 20 | F71: =D71+E71 -> 120 | G71: 41890 | H71: virement | J71: =IFERROR(VLOOKUP(LEFT(C71,SEARCH(" ",C71)-1),'Code clients'!$A$3:$B$21,2,FALSE),"??") -> 9
A72: 30/06/2014 | B72: 2014JUIN20 | C72: TAOS BATUC 19-06 | D72: 100 | E72: =D72*$E$6 -> 20 | F72: =D72+E72 -> 120 | G72: 41838 | H72: virement | J72: =IFERROR(VLOOKUP(LEFT(C72,SEARCH(" ",C72)-1),'Code clients'!$A$3:$B$21,2,FALSE),"??") -> 6
A73: 30/06/2014 | B73: 2014JUIN21 | C73: TAOS PULSE AND VOICE 26-06 | D73: 100 | E73: =D73*$E$6 -> 20 | F73: =D73+E73 -> 120 | G73: 41834 | H73: virement | J73: =IFERROR(VLOOKUP(LEFT(C73,SEARCH(" ",C73)-1),'Code clients'!$A$3:$B$21,2,FALSE),"??") -> 6
A74: 07/07/2014 | B74: 2014JUIL01 | C74: MAD LIP DUB 03-07-2014 | D74: 100 | E74: =D74*$E$6 -> 20 | F74: =D74+E74 -> 120 | J74: =IFERROR(VLOOKUP(LEFT(C74,SEARCH(" ",C74)-1),'Code clients'!$A$3:$B$21,2,FALSE),"??") -> 9
A75: 07/07/2014 | B75: 2014JUIL02 | C75: MAD BATUC 01-07 | D75: 100 | E75: =D75*$E$6 -> 20 | F75: =D75+E75 -> 120 | G75: 41901 | H75: virement | J75: =IFERROR(VLOOKUP(LEFT(C75,SEARCH(" ",C75)-1),'Code clients'!$A$3:$B$21,2,FALSE),"??") -> 9
A76: 30/06/2014 | B76: 2014JUIL03 | C76: PE BATUC | D76: 100 | E76: =D76*$E$6 -> 20 | F76: =D76+E76 -> 120 | G76: 41845 | H76: virement | J76: =IFERROR(VLOOKUP(LEFT(C76,SEARCH(" ",C76)-1),'Code clients'!$A$3:$B$21,2,FALSE),"??") -> 1
A77: 10/07/2014 | B77: 2014JUIL04 | C77: BEA BATUC 02-07 | D77: 100 | E77: =D77*$E$6 -> 20 | F77: =D77+E77 -> 120 | G77: 41831 | H77: virement | J77: =IFERROR(VLOOKUP(LEFT(C77,SEARCH(" ",C77)-1),'Code clients'!$A$3:$B$21,2,FALSE),"??") -> 13
A78: 10/07/2014 | B78: 2014JUIL05 | C78: PE SYMPHO 03-07 | D78: 100 | E78: =D78*$E$6 -> 20 | F78: =D78+E78 -> 120 | G78: 41894 | H78: virement | J78: =IFERROR(VLOOKUP(LEFT(C78,SEARCH(" ",C78)-1),'Code clients'!$A$3:$B$21,2,FALSE),"??") -> 1
A79: 16/07/2014 | B79: 2014JUIL06 | C79: PE HAKA 16-07 | D79: 100 | E79: =D79*$E$6 -> 20 | F79: =D79+E79 -> 120 | G79: 41894 | H79: virement | J79: =IFERROR(VLOOKUP(LEFT(C79,SEARCH(" ",C79)-1),'Code clients'!$A$3:$B$21,2,FALSE),"??") -> 1
B80: 2014JUIL07 | C80: TAOS ? | D80: 100 | E80: =D80*$E$6 -> 20 | F80: =D80+E80 -> 120 | G80: 41901 | H80: virement | J80: =IFERROR(VLOOKUP(LEFT(C80,SEARCH(" ",C80)-1),'Code clients'!$A$3:$B$21,2,FALSE),"??") -> 6
A81: 11/08/2014 | B81: 2014AOUT01 | C81: HISI CALYPSO | D81: 100 | E81: =D81*$E$6 -> 20 | F81: =D81+E81 -> 120 | G81: 41897 | H81: virement | J81: =IFERROR(VLOOKUP(LEFT(C81,SEARCH(" ",C81)-1),'Code clients'!$A$3:$B$21,2,FALSE),"??") -> ??
A82: 03/09/2014 | B82: 2014AOUT02 | C82: BULLE D AIR 29-08- | D82: 100 | E82: =D82*$E$6 -> 20 | F82: =D82+E82 -> 120 | H82: à vérifier | J82: =IFERROR(VLOOKUP(LEFT(C82,SEARCH(" ",C82)-1),'Code clients'!$A$3:$B$21,2,FALSE),"??") -> ??
A83: 41889 | B83: 2014SEPT01 | C83: SAEND DIESEL 06-09 | D83: 100 | E83: =D83*$E$6 -> 20 | F83: =D83+E83 -> 120 | G83: 42354 | H83: cheque | J83: =IFERROR(VLOOKUP(LEFT(C83,SEARCH(" ",C83)-1),'Code clients'!$A$3:$B$21,2,FALSE),"??") -> ??
A84: 41892 | B84: 2014SEPT02 | C84: GECIDF CALYPSO 05-09 | D84: 100 | E84: =D84*$E$6 -> 20 | F84: =D84+E84 -> 120 | H84: cheque | J84: =IFERROR(VLOOKUP(LEFT(C84,SEARCH(" ",C84)-1),'Code clients'!$A$3:$B$21,2,FALSE),"??") -> ??
A85: 41920 | B85: 2014SEPT03 | C85: PE HAKA CERTIS 02-09 | D85: 100 | E85: =D85*$E$6 -> 20 | F85: =D85+E85 -> 120 | G85: 41936 | H85: virement | J85: =IFERROR(VLOOKUP(LEFT(C85,SEARCH(" ",C85)-1),'Code clients'!$A$3:$B$21,2,FALSE),"??") -> 1
A86: 41918 | B86: 2014SEPT05 | C86: TAOS BATUC 15-09 | D86: 100 | E86: =D86*$E$6 -> 20 | F86: =D86+E86 -> 120 | G86: 41928 | H86: virement | J86: =IFERROR(VLOOKUP(LEFT(C86,SEARCH(" ",C86)-1),'Code clients'!$A$3:$B$21,2,FALSE),"??") -> 6
A87: 41918 | B87: 2014SEPT06 | C87: SANBAO BATUC 23-09 | D87: 100 | E87: =D87*$E$6 -> 20 | F87: =D87+E87 -> 120 | G87: 41941 | H87: virement | J87: =IFERROR(VLOOKUP(LEFT(C87,SEARCH(" ",C87)-1),'Code clients'!$A$3:$B$21,2,FALSE),"??") -> ??
A88: 41918 | B88: 2014SEPT06 | C88: TAOS JEEP URBAN 22-25-09-14 | D88: 100 | E88: =D88*$E$6 -> 20 | F88: =D88+E88 -> 120 | G88: 41960 | H88: virement | J88: =IFERROR(VLOOKUP(LEFT(C88,SEARCH(" ",C88)-1),'Code clients'!$A$3:$B$21,2,FALSE),"??") -> 6
A89: 41918 | B89: 2014SEPT07 | C89: OPTIMUM SYMPHO 23-09 | D89: 100 | E89: =D89*$E$6 -> 20 | F89: =D89+E89 -> 120 | G89: 42354 | H89: cheque | J89: =IFERROR(VLOOKUP(LEFT(C89,SEARCH(" ",C89)-1),'Code clients'!$A$3:$B$21,2,FALSE),"??") -> 8
A90: 41918 | B90: 2014SEPT08 | C90: LUDIMUS BATUC 24-09 | D90: 100 | E90: =D90*$E$6 -> 20 | F90: =D90+E90 -> 120 | G90: 41936 | H90: virement | J90: =IFERROR(VLOOKUP(LEFT(C90,SEARCH(" ",C90)-1),'Code clients'!$A$3:$B$21,2,FALSE),"??") -> 7
A91: 41918 | B91: 2014SEPT09 | C91: BULLE D AIR 26-09 | D91: 100 | E91: =D91*$E$6 -> 20 | F91: =D91+E91 -> 120 | H91: à vérifier | J91: =IFERROR(VLOOKUP(LEFT(C91,SEARCH(" ",C91)-1),'Code clients'!$A$3:$B$21,2,FALSE),"??") -> ??
A92: 38266 | B92: 2014SEPT10 | C92: MAD HAKA 26-27-09 | D92: 100 | E92: =D92*$E$6 -> 20 | F92: =D92+E92 -> 120 | G92: 41925 | H92: virement | J92: =IFERROR(VLOOKUP(LEFT(C92,SEARCH(" ",C92)-1),'Code clients'!$A$3:$B$21,2,FALSE),"??") -> 9
A93: 41918 | B93: 2014SEPT11 | C93: PE MUSICLIP NIELSEN | D93: 100 | E93: =D93*$E$6 -> 20 | F93: =D93+E93 -> 120 | G93: 41939 | H93: virement | J93: =IFERROR(VLOOKUP(LEFT(C93,SEARCH(" ",C93)-1),'Code clients'!$A$3:$B$21,2,FALSE),"??") -> 1
A94: 41918 | B94: 2014SEPT12 | C94: PE CHORUS TEAM | D94: 100 | E94: =D94*$E$6 -> 20 | F94: =D94+E94 -> 120 | G94: 41948 | H94: virement | J94: =IFERROR(VLOOKUP(LEFT(C94,SEARCH(" ",C94)-1),'Code clients'!$A$3:$B$21,2,FALSE),"??") -> 1
A95: 41918 | B95: 2014SEPT13 | C95: PE BATUC 25-09 | D95: 100 | E95: =D95*$E$6 -> 20 | F95: =D95+E95 -> 120 | J95: =IFERROR(VLOOKUP(LEFT(C95,SEARCH(" ",C95)-1),'Code clients'!$A$3:$B$21,2,FALSE),"??") -> 1
A96: 41918 | B96: 2014SEPT14 | C96: LUDIMUS HAKA 25-09 | D96: 100 | E96: =D96*$E$6 -> 20 | F96: =D96+E96 -> 120 | G96: 42354 | H96: cheque | J96: =IFERROR(VLOOKUP(LEFT(C96,SEARCH(" ",C96)-1),'Code clients'!$A$3:$B$21,2,FALSE),"??") -> 7
A97: 41924 | B97: 2014OCT02 | C97: MCI BATUC 28-08 | D97: 100 | E97: =D97*$E$6 -> 20 | F97: =D97+E97 -> 120 | G97: 42361 | H97: virement | J97: =IFERROR(VLOOKUP(LEFT(C97,SEARCH(" ",C97)-1),'Code clients'!$A$3:$B$21,2,FALSE),"??") -> ??
A98: 41935 | B98: 2014OCT03 | C98: TI STREET 03-09 | D98: 100 | E98: =D98*$E$6 -> 20 | F98: =D98+E98 -> 120 | J98: =IFERROR(VLOOKUP(LEFT(C98,SEARCH(" ",C98)-1),'Code clients'!$A$3:$B$21,2,FALSE),"??") -> 2
A99: 41935 | B99: 2014OCT04 | C99: OSE TAP TAP 04-09 | D99: 100 | E99: =D99*$E$6 -> 20 | F99: =D99+E99 -> 120 | H99: cheque | J99: =IFERROR(VLOOKUP(LEFT(C99,SEARCH(" ",C99)-1),'Code clients'!$A$3:$B$21,2,FALSE),"??") -> 5
A100: 41935 | B100: 2014OCT05 | C100: OPTIMUM CALYPSO 14-10 | D100: 100 | E100: =D100*$E$6 -> 20 | F100: =D100+E100 -> 120 | J100: =IFERROR(VLOOKUP(LEFT(C100,SEARCH(" ",C100)-1),'Code clients'!$A$3:$B$21,2,FALSE),"??") -> 8
A101: 41935 | B101: 2014OCT06 | C101: BEA BATUC 14-10 | D101: 100 | E101: =D101*$E$6 -> 20 | F101: =D101+E101 -> 120 | G101: 41946 | H101: virement | J101: =IFERROR(VLOOKUP(LEFT(C101,SEARCH(" ",C101)-1),'Code clients'!$A$3:$B$21,2,FALSE),"??") -> 13
...

Sheet Code clients
A2: Agence | E2: CLIENT DIRECT
A3: PE | B3: 1 | E3: CASTORAMA
A4: TI | B4: 2 | E4: AUCHAN
A5: CBR | B5: 3 | E5: CAISSE DES DEPOTS
A6: Stratevent | B6: 4 | E6: LA POSTE
A7: OSE | B7: 5 | E7: MME CARROY COMITE DES FETES
A8: TAOS | B8: 6
A9: LUDIMUS | B9: 7
A10: OPTIMUM | B10: 8
A11: MAD | B11: 9
A12: LGB | B12: 10
A13: IGS | B13: 11
A14: EDIFIA | B14: 12
A15: BEA | B15: 13
A16: MCO | B16: 14
A17: ALTERN' ACTION | B17: 15
A18: JAMAIS VU | B18: 16
A19: MOVIDA | B19: 17
... A21: EVERSIDE | B21: 19
A22: ??

Sheet Analyse Client
C1: dans C5 je souhaite avoir la somme des montants TTC du mois par clients
A4: Code Client | B4: clients | C4: 41640 | D4: 41671 | E4: 41699 | F4: 41730 | G4: 41760 | H4: 41791 | I4: 41821 | J4: 41852 | K4: 41883 | L4: 41913 | M4: 41944 | N4: 41974 | O4: Total
A5: 1 | B5: PE | C5: =SUMPRODUCT(('2014'!J7:J131='Analyse Client'!A5)*('2014'!A7:A131='Analyse Client'!C4)*'2014'!F7:F131) -> 0
A6: 2 | B6: TI
A7: 3 | B7: CBR
A8: 4 | B8: Stratevent
A9: 5 | B9: OSE
A10: 6 | B10: TAOS
A11: 7 | B11: LUDIMUS
A12: 8 | B12: OPTIMUM
A13: 9 | B13: MAD
A14: 10 | B14: LGB
A15: 11 | B15: IGS
A16: 12 | B16: EDIFIA
A17: 13 | B17: BEA
... A23: 19 | B23: EVERSIDE
A24: ??

Sheet Feuil2

Sheet Feuil3
