Workbook
Name ChronologieNative_DATEFINREVISEE1: #N/A
Name Segment_TYPE: #N/A

Sheet Tableau de bord
B1: P | C1: E | D1: R | E1: T | F1: E
D2: M | E2: A | F2: T | G2: I | H2: E | I2: R | J2: E | K2: S
B14: Date de fabrication | C14: Nombre de fabrications | D14: Pesée | E14: Mélange | F14: Conditionnement | G14: Pesée Vs Mélange (en kg) | H14: % pesée Vs mélange | I14: Mélange Vs Conditionnement (en kg) | J14: % mélange Vs conditionnement | K14: Pesée Vs Conditionnement (en kg) | L14: % pesée Vs conditionnement | M14: Perte moyenne par fabrication (Pesée Vs Conditionnement / nombre de fabrications)
B15: avr | C15: 126 | D15: 44532.12 | E15: 44630.63 | F15: 44007.652 | G15: 98.51 | H15: 0.0022121112 | I15: -622.978 | J15: -0.01395853 | K15: -524.468 | L15: -0.011777297 | M15: =GETPIVOTDATA("Pesée Vs Conditionnement (en kg)",$B$14,"Date de fabrication",4)/GETPIVOTDATA("Nombre de fabrications",$B$14,"Date de fabrication",4) -> -4.1624444
B16: Boite plastique | C16: 13 | D16: 6172.4 | E16: 6186 | F16: 6142.2 | G16: 13.6 | H16: 0.0022033569 | I16: -43.8 | J16: -0.0070805044 | K16: -30.2 | L16: -0.0048927484 | M16: =GETPIVOTDATA("Pesée Vs Conditionnement (en kg)",$B$14,"LIGNE","Boite plastique","Date de fabrication",4)/GETPIVOTDATA("Nombre de fabrications",$B$14,"LIGNE","Boite plastique","Date de fabrication",4) -> -2.3230769
B17: OTS | C17: 61 | D17: 24068.98 | E17: 24144 | F17: 23966.985 | G17: 75.02 | H17: 0.0031168749 | I17: -177.015 | J17: -0.0073316352 | K17: -101.995 | L17: -0.0042376121 | M17: =GETPIVOTDATA("Pesée Vs Conditionnement (en kg)",$B$14,"LIGNE","OTS","Date de fabrication",4)/GETPIVOTDATA("Nombre de fabrications",$B$14,"LIGNE","OTS","Date de fabrication",4) -> -1.6720492
B18: Rovema | C18: 10 | D18: 1336.09 | E18: 1338.6 | F18: 1236.085 | G18: 2.51 | H18: 0.001878616 | I18: -102.515 | J18: -0.076583744 | K18: -100.005 | L18: -0.074849 | M18: =GETPIVOTDATA("Pesée Vs Conditionnement (en kg)",$B$14,"LIGNE","Rovema","Date de fabrication",4)/GETPIVOTDATA("Nombre de fabrications",$B$14,"LIGNE","Rovema","Date de fabrication",4) -> -10.0005
B19: Seau | C19: 2 | D19: 240 | E19: 239.9 | F19: 240 | G19: -0.1 | H19: -0.00041666667 | I19: 0.1 | J19: 0.00041684035 | K19: 0 | L19: 0 | M19: =GETPIVOTDATA("Pesée Vs Conditionnement (en kg)",$B$14,"LIGNE","Seau","Date de fabrication",4)/GETPIVOTDATA("Nombre de fabrications",$B$14,"LIGNE","Seau","Date de fabrication",4) -> 0
B20: Stick | C20: 8 | D20: 540.07 | E20: 541.43 | F20: 511.812 | G20: 1.36 | H20: 0.0025181921 | I20: -29.618 | J20: -0.054703286 | K20: -28.258 | L20: -0.052322847 | M20: =GETPIVOTDATA("Pesée Vs Conditionnement (en kg)",$B$14,"LIGNE","Stick","Date de fabrication",4)/GETPIVOTDATA("Nombre de fabrications",$B$14,"LIGNE","Stick","Date de fabrication",4) -> -3.53225
B21: Tecse | C21: 32 | D21: 12174.58 | E21: 12180.7 | F21: 11910.57 | G21: 6.12 | H21: 0.00050268675 | I21: -270.13 | J21: -0.022176886 | K21: -264.01 | L21: -0.021685348 | M21: =GETPIVOTDATA("Pesée Vs Conditionnement (en kg)",$B$14,"LIGNE","Tecse","Date de fabrication",4)/GETPIVOTDATA("Nombre de fabrications",$B$14,"LIGNE","Tecse","Date de fabrication",4) -> -8.2503125
B22: Total général | C22: 126 | D22: 44532.12 | E22: 44630.63 | F22: 44007.652 | G22: 98.51 | H22: 0.0022121112 | I22: -622.978 | J22: -0.01395853 | K22: -524.468 | L22: -0.011777297 | M22: =GETPIVOTDATA("Pesée Vs Conditionnement (en kg)",$B$14)/GETPIVOTDATA("Nombre de fabrications",$B$14) -> -4.1624444

Sheet Bd_FABRICATIONS PF
A1: DOSSIER | B1: STATUS | C1: PIECENO | D1: ENREGNO | E1: BLNO | F1: LOT | G1: LOT A PRENDRE EN COMPTE | H1: REFERENCE | I1: DESIGNATION | J1: FORMULE | K1: POIDS NET | L1: LIGNE | M1: TYPE | N1: DATEDEBUTREVISEE | O1: DATEFINREVISEE | P1: ANNEE | Q1: MOIS | R1: SEMAINE | S1: QTE_OF_ENTETE | T1: QTECDE | U1: QTEBL | V1: POIDS CONDITIONNÉ | W1: POIDS MÉLANGE | X1: POIDS PESÉE
A2: 102 | B2: 5 | C2: 40370 | D2: 674670 | E2: 45425 | F2: {=INDEX(Bd_VENTILATIONS!$G:$G,MATCH(Tab_SuiviOF[[#This Row],[REFERENCE]]&Tab_SuiviOF[[#This Row],[BLNO]],Bd_VENTILATIONS!$F:$F&Bd_VENTILATIONS!$D:$D,0))} -> B362M06-3 | G2: =IFERROR(MID(Tab_SuiviOF[[#This Row],[LOT]],1,SEARCH("-",Tab_SuiviOF[[#This Row],[LOT]])-1),Tab_SuiviOF[[#This Row],[LOT]]) -> B362M06 | H2: TOL006 | I2: =INDEX(Bd_PF!$E:$E,MATCH(Tab_SuiviOF[[#This Row],[REFERENCE]],Bd_PF!$C:$C,0)) -> Eau gélifiée parfum poire édulcoré sachet 25 g "Tonus Line" | J2: =INDEX(Bd_PF!$D:$D,MATCH(Tab_SuiviOF[[#This Row],[REFERENCE]],Bd_PF!$C:$C,0)) -> SF00634 | K2: =INDEX(Bd_PF!$I:$I,MATCH(Tab_SuiviOF[[#This Row],[REFERENCE]],Bd_PF!$C:$C,0)) -> 0.025 | L2: =INDEX(Bd_PF!$J:$J,MATCH(Tab_SuiviOF[[#This Row],[REFERENCE]],Bd_PF!$C:$C,0)) -> Rovema | M2: =INDEX(Bd_PF!$K:$K,MATCH(Tab_SuiviOF[[#This Row],[REFERENCE]],Bd_PF!$C:$C,0)) -> Produit pesé | N2: 43103 | O2: 43103 | P2: =YEAR(Tab_SuiviOF[[#This Row],[DATEFINREVISEE]]) -> 2018 | Q2: =MONTH(Tab_SuiviOF[[#This Row],[DATEFINREVISEE]]) -> 1 | R2: =WEEKNUM(Tab_SuiviOF[[#This Row],[DATEFINREVISEE]],21) -> 1 | S2: 2592 | T2: 2592 | U2: 2412 | V2: =Tab_SuiviOF[[#This Row],[QTEBL]]*Tab_SuiviOF[[#This Row],[POIDS NET]] -> 60.3 | W2: =IFERROR(INDEX(Bd_MÉLANGES!$I:$I,MATCH('Bd_FABRICATIONS PF'!$G:$G,Bd_MÉLANGES!$J:$J,0)),0) -> 0 | X2: =IFERROR(INDEX(Bd_MÉLANGES!$K:$K,MATCH(Tab_SuiviOF[[#This Row],[LOT A PRENDRE EN COMPTE]],Bd_MÉLANGES!$J:$J,0)),0) -> 0
A3: 102 | B3: 5 | C3: 40380 | D3: 674755 | E3: 45428 | F3: {=INDEX(Bd_VENTILATIONS!$G:$G,MATCH(Tab_SuiviOF[[#This Row],[REFERENCE]]&Tab_SuiviOF[[#This Row],[BLNO]],Bd_VENTILATIONS!$F:$F&Bd_VENTILATIONS!$D:$D,0))} -> B362M07-3 | G3: =IFERROR(MID(Tab_SuiviOF[[#This Row],[LOT]],1,SEARCH("-",Tab_SuiviOF[[#This Row],[LOT]])-1),Tab_SuiviOF[[#This Row],[LOT]]) -> B362M07 | H3: TOL964 | I3: =INDEX(Bd_PF!$E:$E,MATCH(Tab_SuiviOF[[#This Row],[REFERENCE]],Bd_PF!$C:$C,0)) -> Eau gélifiée parfum orange édulcoré sachet 25 g "Tonus Line" | J3: =INDEX(Bd_PF!$D:$D,MATCH(Tab_SuiviOF[[#This Row],[REFERENCE]],Bd_PF!$C:$C,0)) -> SF00726 | K3: =INDEX(Bd_PF!$I:$I,MATCH(Tab_SuiviOF[[#This Row],[REFERENCE]],Bd_PF!$C:$C,0)) -> 0.025 | L3: =INDEX(Bd_PF!$J:$J,MATCH(Tab_SuiviOF[[#This Row],[REFERENCE]],Bd_PF!$C:$C,0)) -> Rovema | M3: =INDEX(Bd_PF!$K:$K,MATCH(Tab_SuiviOF[[#This Row],[REFERENCE]],Bd_PF!$C:$C,0)) -> Produit pesé | N3: 43103 | O3: 43103 | P3: =YEAR(Tab_SuiviOF[[#This Row],[DATEFINREVISEE]]) -> 2018 | Q3: =MONTH(Tab_SuiviOF[[#This Row],[DATEFINREVISEE]]) -> 1 | R3: =WEEKNUM(Tab_SuiviOF[[#This Row],[DATEFINREVISEE]],21) -> 1 | S3: 2592 | T3: 2592 | U3: 2397 | V3: =Tab_SuiviOF[[#This Row],[QTEBL]]*Tab_SuiviOF[[#This Row],[POIDS NET]] -> 59.925 | W3: =IFERROR(INDEX(Bd_MÉLANGES!$I:$I,MATCH('Bd_FABRICATIONS PF'!$G:$G,Bd_MÉLANGES!$J:$J,0)),0) -> 0 | X3: =IFERROR(INDEX(Bd_MÉLANGES!$K:$K,MATCH(Tab_SuiviOF[[#This Row],[LOT A PRENDRE EN COMPTE]],Bd_MÉLANGES!$J:$J,0)),0) -> 0
A4: 102 | B4: 5 | C4: 40382 | D4: 674771 | E4: 45438 | F4: {=INDEX(Bd_VENTILATIONS!$G:$G,MATCH(Tab_SuiviOF[[#This Row],[REFERENCE]]&Tab_SuiviOF[[#This Row],[BLNO]],Bd_VENTILATIONS!$F:$F&Bd_VENTILATIONS!$D:$D,0))} -> B362M04-3 | G4: =IFERROR(MID(Tab_SuiviOF[[#This Row],[LOT]],1,SEARCH("-",Tab_SuiviOF[[#This Row],[LOT]])-1),Tab_SuiviOF[[#This Row],[LOT]]) -> B362M04 | H4: TOL963 | I4: =INDEX(Bd_PF!$E:$E,MATCH(Tab_SuiviOF[[#This Row],[REFERENCE]],Bd_PF!$C:$C,0)) -> Eau gélifiée parfum fruits rouges édulcoré sachet 25 g "Tonus Line" | J4: =INDEX(Bd_PF!$D:$D,MATCH(Tab_SuiviOF[[#This Row],[REFERENCE]],Bd_PF!$C:$C,0)) -> SF00724 | K4: =INDEX(Bd_PF!$I:$I,MATCH(Tab_SuiviOF[[#This Row],[REFERENCE]],Bd_PF!$C:$C,0)) -> 0.025 | L4: =INDEX(Bd_PF!$J:$J,MATCH(Tab_SuiviOF[[#This Row],[REFERENCE]],Bd_PF!$C:$C,0)) -> Rovema | M4: =INDEX(Bd_PF!$K:$K,MATCH(Tab_SuiviOF[[#This Row],[REFERENCE]],Bd_PF!$C:$C,0)) -> Produit pesé | N4: 43103 | O4: 43103 | P4: =YEAR(Tab_SuiviOF[[#This Row],[DATEFINREVISEE]]) -> 2018 | Q4: =MONTH(Tab_SuiviOF[[#This Row],[DATEFINREVISEE]]) -> 1 | R4: =WEEKNUM(Tab_SuiviOF[[#This Row],[DATEFINREVISEE]],21) -> 1 | S4: 5184 | T4: 5184 | U4: 5184 | V4: =Tab_SuiviOF[[#This Row],[QTEBL]]*Tab_SuiviOF[[#This Row],[POIDS NET]] -> 129.6 | W4: =IFERROR(INDEX(Bd_MÉLANGES!$I:$I,MATCH('Bd_FABRICATIONS PF'!$G:$G,Bd_MÉLANGES!$J:$J,0)),0) -> 0 | X4: =IFERROR(INDEX(Bd_MÉLANGES!$K:$K,MATCH(Tab_SuiviOF[[#This Row],[LOT A PRENDRE EN COMPTE]],Bd_MÉLANGES!$J:$J,0)),0) -> 0
A5: 102 | B5: 5 | C5: 40384 | D5: 674788 | E5: 45443 | F5: {=INDEX(Bd_VENTILATIONS!$G:$G,MATCH(Tab_SuiviOF[[#This Row],[REFERENCE]]&Tab_SuiviOF[[#This Row],[BLNO]],Bd_VENTILATIONS!$F:$F&Bd_VENTILATIONS!$D:$D,0))} -> A003M01-3 | G5: =IFERROR(MID(Tab_SuiviOF[[#This Row],[LOT]],1,SEARCH("-",Tab_SuiviOF[[#This Row],[LOT]])-1),Tab_SuiviOF[[#This Row],[LOT]]) -> A003M01 | H5: TOL965 | I5: =INDEX(Bd_PF!$E:$E,MATCH(Tab_SuiviOF[[#This Row],[REFERENCE]],Bd_PF!$C:$C,0)) -> Eau gélifiée parfum grenadine édulcoré sachet 25 g "Tonus Line" | J5: =INDEX(Bd_PF!$D:$D,MATCH(Tab_SuiviOF[[#This Row],[REFERENCE]],Bd_PF!$C:$C,0)) -> SF00725 | K5: =INDEX(Bd_PF!$I:$I,MATCH(Tab_SuiviOF[[#This Row],[REFERENCE]],Bd_PF!$C:$C,0)) -> 0.025 | L5: =INDEX(Bd_PF!$J:$J,MATCH(Tab_SuiviOF[[#This Row],[REFERENCE]],Bd_PF!$C:$C,0)) -> Rovema | M5: =INDEX(Bd_PF!$K:$K,MATCH(Tab_SuiviOF[[#This Row],[REFERENCE]],Bd_PF!$C:$C,0)) -> Produit pesé | N5: 43103 | O5: 43103 | P5: =YEAR(Tab_SuiviOF[[#This Row],[DATEFINREVISEE]]) -> 2018 | Q5: =MONTH(Tab_SuiviOF[[#This Row],[DATEFINREVISEE]]) -> 1 | R5: =WEEKNUM(Tab_SuiviOF[[#This Row],[DATEFINREVISEE]],21) -> 1 | S5: 5184 | T5: 5184 | U5: 4812 | V5: =Tab_SuiviOF[[#This Row],[QTEBL]]*Tab_SuiviOF[[#This Row],[POIDS NET]] -> 120.3 | W5: =IFERROR(INDEX(Bd_MÉLANGES!$I:$I,MATCH('Bd_FABRICATIONS PF'!$G:$G,Bd_MÉLANGES!$J:$J,0)),0) -> 0 | X5: =IFERROR(INDEX(Bd_MÉLANGES!$K:$K,MATCH(Tab_SuiviOF[[#This Row],[LOT A PRENDRE EN COMPTE]],Bd_MÉLANGES!$J:$J,0)),0) -> 0
A6: 102 | B6: 5 | C6: 40386 | D6: 674803 | E6: 45446 | F6: {=INDEX(Bd_VENTILATIONS!$G:$G,MATCH(Tab_SuiviOF[[#This Row],[REFERENCE]]&Tab_SuiviOF[[#This Row],[BLNO]],Bd_VENTILATIONS!$F:$F&Bd_VENTILATIONS!$D:$D,0))} -> A003M07-3 | G6: =IFERROR(MID(Tab_SuiviOF[[#This Row],[LOT]],1,SEARCH("-",Tab_SuiviOF[[#This Row],[LOT]])-1),Tab_SuiviOF[[#This Row],[LOT]]) -> A003M07 | H6: TOL082 | I6: =INDEX(Bd_PF!$E:$E,MATCH(Tab_SuiviOF[[#This Row],[REFERENCE]],Bd_PF!$C:$C,0)) -> Eau gélifiée parfum menthe édulcoré sachet 25 g "Tonus Line" | J6: =INDEX(Bd_PF!$D:$D,MATCH(Tab_SuiviOF[[#This Row],[REFERENCE]],Bd_PF!$C:$C,0)) -> SF00633 | K6: =INDEX(Bd_PF!$I:$I,MATCH(Tab_SuiviOF[[#This Row],[REFERENCE]],Bd_PF!$C:$C,0)) -> 0.025 | L6: =INDEX(Bd_PF!$J:$J,MATCH(Tab_SuiviOF[[#This Row],[REFERENCE]],Bd_PF!$C:$C,0)) -> Rovema | M6: =INDEX(Bd_PF!$K:$K,MATCH(Tab_SuiviOF[[#This Row],[REFERENCE]],Bd_PF!$C:$C,0)) -> Produit pesé | N6: 43103 | O6: 43103 | P6: =YEAR(Tab_SuiviOF[[#This Row],[DATEFINREVISEE]]) -> 2018 | Q6: =MONTH(Tab_SuiviOF[[#This Row],[DATEFINREVISEE]]) -> 1 | R6: =WEEKNUM(Tab_SuiviOF[[#This Row],[DATEFINREVISEE]],21) -> 1 | S6: 2592 | T6: 2592 | U6: 2400 | V6: =Tab_SuiviOF[[#This Row],[QTEBL]]*Tab_SuiviOF[[#This Row],[POIDS NET]] -> 60 | W6: =IFERROR(INDEX(Bd_MÉLANGES!$I:$I,MATCH('Bd_FABRICATIONS PF'!$G:$G,Bd_MÉLANGES!$J:$J,0)),0) -> 65.2 | X6: =IFERROR(INDEX(Bd_MÉLANGES!$K:$K,MATCH(Tab_SuiviOF[[#This Row],[LOT A PRENDRE EN COMPTE]],Bd_MÉLANGES!$J:$J,0)),0) -> 65.01
A7: 102 | B7: 5 | C7: 40484 | D7: 675752 | E7: 45445 | F7: {=INDEX(Bd_VENTILATIONS!$G:$G,MATCH(Tab_SuiviOF[[#This Row],[REFERENCE]]&Tab_SuiviOF[[#This Row],[BLNO]],Bd_VENTILATIONS!$F:$F&Bd_VENTILATIONS!$D:$D,0))} -> B362M01-1 | G7: =IFERROR(MID(Tab_SuiviOF[[#This Row],[LOT]],1,SEARCH("-",Tab_SuiviOF[[#This Row],[LOT]])-1),Tab_SuiviOF[[#This Row],[LOT]]) -> B362M01 | H7: TOL358 | I7: =INDEX(Bd_PF!$E:$E,MATCH(Tab_SuiviOF[[#This Row],[REFERENCE]],Bd_PF!$C:$C,0)) -> Eau gélifiée parfum nature sucré boite 800 g "Tonus Line" | J7: =INDEX(Bd_PF!$D:$D,MATCH(Tab_SuiviOF[[#This Row],[REFERENCE]],Bd_PF!$C:$C,0)) -> SF01118 | K7: =INDEX(Bd_PF!$I:$I,MATCH(Tab_SuiviOF[[#This Row],[REFERENCE]],Bd_PF!$C:$C,0)) -> 0.8 | L7: =INDEX(Bd_PF!$J:$J,MATCH(Tab_SuiviOF[[#This Row],[REFERENCE]],Bd_PF!$C:$C,0)) -> OTS | M7: =INDEX(Bd_PF!$K:$K,MATCH(Tab_SuiviOF[[#This Row],[REFERENCE]],Bd_PF!$C:$C,0)) -> Produit pesé | N7: 43103 | O7: 43103 | P7: =YEAR(Tab_SuiviOF[[#This Row],[DATEFINREVISEE]]) -> 2018 | Q7: =MONTH(Tab_SuiviOF[[#This Row],[DATEFINREVISEE]]) -> 1 | R7: =WEEKNUM(Tab_SuiviOF[[#This Row],[DATEFINREVISEE]],21) -> 1 | S7: 324 | T7: 324 | U7: 324 | V7: =Tab_SuiviOF[[#This Row],[QTEBL]]*Tab_SuiviOF[[#This Row],[POIDS NET]] -> 259.2 | W7: =IFERROR(INDEX(Bd_MÉLANGES!$I:$I,MATCH('Bd_FABRICATIONS PF'!$G:$G,Bd_MÉLANGES!$J:$J,0)),0) -> 0 | X7: =IFERROR(INDEX(Bd_MÉLANGES!$K:$K,MATCH(Tab_SuiviOF[[#This Row],[LOT A PRENDRE EN COMPTE]],Bd_MÉLANGES!$J:$J,0)),0) -> 0
A8: 102 | B8: 5 | C8: 40538 | D8: 676933 | E8: 45429 | F8: {=INDEX(Bd_VENTILATIONS!$G:$G,MATCH(Tab_SuiviOF[[#This Row],[REFERENCE]]&Tab_SuiviOF[[#This Row],[BLNO]],Bd_VENTILATIONS!$F:$F&Bd_VENTILATIONS!$D:$D,0))} -> A003R01-1 | G8: =IFERROR(MID(Tab_SuiviOF[[#This Row],[LOT]],1,SEARCH("-",Tab_SuiviOF[[#This Row],[LOT]])-1),Tab_SuiviOF[[#This Row],[LOT]]) -> A003R01 | H8: TOL058 | I8: =INDEX(Bd_PF!$E:$E,MATCH(Tab_SuiviOF[[#This Row],[REFERENCE]],Bd_PF!$C:$C,0)) -> Gel'mix+ bte 500g "TOL" | J8: =INDEX(Bd_PF!$D:$D,MATCH(Tab_SuiviOF[[#This Row],[REFERENCE]],Bd_PF!$C:$C,0)) -> SF01249 | K8: =INDEX(Bd_PF!$I:$I,MATCH(Tab_SuiviOF[[#This Row],[REFERENCE]],Bd_PF!$C:$C,0)) -> 0.5 | L8: =INDEX(Bd_PF!$J:$J,MATCH(Tab_SuiviOF[[#This Row],[REFERENCE]],Bd_PF!$C:$C,0)) -> OTS | M8: =INDEX(Bd_PF!$K:$K,MATCH(Tab_SuiviOF[[#This Row],[REFERENCE]],Bd_PF!$C:$C,0)) -> Reconditionnement | N8: 43103 | O8: 43103 | P8: =YEAR(Tab_SuiviOF[[#This Row],[DATEFINREVISEE]]) -> 2018 | Q8: =MONTH(Tab_SuiviOF[[#This Row],[DATEFINREVISEE]]) -> 1 | R8: =WEEKNUM(Tab_SuiviOF[[#This Row],[DATEFINREVISEE]],21) -> 1 | S8: 720 | T8: 720 | U8: 726 | V8: =Tab_SuiviOF[[#This Row],[QTEBL]]*Tab_SuiviOF[[#This Row],[POIDS NET]] -> 363 | W8: =IFERROR(INDEX(Bd_MÉLANGES!$I:$I,MATCH('Bd_FABRICATIONS PF'!$G:$G,Bd_MÉLANGES!$J:$J,0)),0) -> 0 | X8: =IFERROR(INDEX(Bd_MÉLANGES!$K:$K,MATCH(Tab_SuiviOF[[#This Row],[LOT A PRENDRE EN COMPTE]],Bd_MÉLANGES!$J:$J,0)),0) -> 0
A9: 102 | B9: 5 | C9: 40539 | D9: 676940 | E9: 45439 | F9: {=INDEX(Bd_VENTILATIONS!$G:$G,MATCH(Tab_SuiviOF[[#This Row],[REFERENCE]]&Tab_SuiviOF[[#This Row],[BLNO]],Bd_VENTILATIONS!$F:$F&Bd_VENTILATIONS!$D:$D,0))} -> A003R02-1 | G9: =IFERROR(MID(Tab_SuiviOF[[#This Row],[LOT]],1,SEARCH("-",Tab_SuiviOF[[#This Row],[LOT]])-1),Tab_SuiviOF[[#This Row],[LOT]]) -> A003R02 | H9: TOL058 | I9: =INDEX(Bd_PF!$E:$E,MATCH(Tab_SuiviOF[[#This Row],[REFERENCE]],Bd_PF!$C:$C,0)) -> Gel'mix+ bte 500g "TOL" | J9: =INDEX(Bd_PF!$D:$D,MATCH(Tab_SuiviOF[[#This Row],[REFERENCE]],Bd_PF!$C:$C,0)) -> SF01249 | K9: =INDEX(Bd_PF!$I:$I,MATCH(Tab_SuiviOF[[#This Row],[REFERENCE]],Bd_PF!$C:$C,0)) -> 0.5 | L9: =INDEX(Bd_PF!$J:$J,MATCH(Tab_SuiviOF[[#This Row],[REFERENCE]],Bd_PF!$C:$C,0)) -> OTS | M9: =INDEX(Bd_PF!$K:$K,MATCH(Tab_SuiviOF[[#This Row],[REFERENCE]],Bd_PF!$C:$C,0)) -> Reconditionnement | N9: 43103 | O9: 43103 | P9: =YEAR(Tab_SuiviOF[[#This Row],[DATEFINREVISEE]]) -> 2018 | Q9: =MONTH(Tab_SuiviOF[[#This Row],[DATEFINREVISEE]]) -> 1 | R9: =WEEKNUM(Tab_SuiviOF[[#This Row],[DATEFINREVISEE]],21) -> 1 | S9: 720 | T9: 720 | U9: 677 | V9: =Tab_SuiviOF[[#This Row],[QTEBL]]*Tab_SuiviOF[[#This Row],[POIDS NET]] -> 338.5 | W9: =IFERROR(INDEX(Bd_MÉLANGES!$I:$I,MATCH('Bd_FABRICATIONS PF'!$G:$G,Bd_MÉLANGES!$J:$J,0)),0) -> 0 | X9: =IFERROR(INDEX(Bd_MÉLANGES!$K:$K,MATCH(Tab_SuiviOF[[#This Row],[LOT A PRENDRE EN COMPTE]],Bd_MÉLANGES!$J:$J,0)),0) -> 0
A10: 102 | B10: 5 | C10: 40540 | D10: 676947 | E10: 45437 | F10: {=INDEX(Bd_VENTILATIONS!$G:$G,MATCH(Tab_SuiviOF[[#This Row],[REFERENCE]]&Tab_SuiviOF[[#This Row],[BLNO]],Bd_VENTILATIONS!$F:$F&Bd_VENTILATIONS!$D:$D,0))} -> B355M01-1 | G10: =IFERROR(MID(Tab_SuiviOF[[#This Row],[LOT]],1,SEARCH("-",Tab_SuiviOF[[#This Row],[LOT]])-1),Tab_SuiviOF[[#This Row],[LOT]]) -> B355M01 | H10: TOL191 | I10: =INDEX(Bd_PF!$E:$E,MATCH(Tab_SuiviOF[[#This Row],[REFERENCE]],Bd_PF!$C:$C,0)) -> Gel Ami bte 0.800 kg "TOL" | J10: =INDEX(Bd_PF!$D:$D,MATCH(Tab_SuiviOF[[#This Row],[REFERENCE]],Bd_PF!$C:$C,0)) -> SF01122 | K10: =INDEX(Bd_PF!$I:$I,MATCH(Tab_SuiviOF[[#This Row],[REFERENCE]],Bd_PF!$C:$C,0)) -> 0.8 | L10: =INDEX(Bd_PF!$J:$J,MATCH(Tab_SuiviOF[[#This Row],[REFERENCE]],Bd_PF!$C:$C,0)) -> OTS | M10: =INDEX(Bd_PF!$K:$K,MATCH(Tab_SuiviOF[[#This Row],[REFERENCE]],Bd_PF!$C:$C,0)) -> Produit pesé | N10: 43103 | O10: 43103 | P10: =YEAR(Tab_SuiviOF[[#This Row],[DATEFINREVISEE]]) -> 2018 | Q10: =MONTH(Tab_SuiviOF[[#This Row],[DATEFINREVISEE]]) -> 1 | R10: =WEEKNUM(Tab_SuiviOF[[#This Row],[DATEFINREVISEE]],21) -> 1 | S10: 529 | T10: 529 | U10: 515 | V10: =Tab_SuiviOF[[#This Row],[QTEBL]]*Tab_SuiviOF[[#This Row],[POIDS NET]] -> 412 | W10: =IFERROR(INDEX(Bd_MÉLANGES!$I:$I,MATCH('Bd_FABRICATIONS PF'!$G:$G,Bd_MÉLANGES!$J:$J,0)),0) -> 0 | X10: =IFERROR(INDEX(Bd_MÉLANGES!$K:$K,MATCH(Tab_SuiviOF[[#This Row],[LOT A PRENDRE EN COMPTE]],Bd_MÉLANGES!$J:$J,0)),0) -> 0
A11: 102 | B11: 5 | C11: 40541 | D11: 676954 | E11: 45436 | F11: {=INDEX(Bd_VENTILATIONS!$G:$G,MATCH(Tab_SuiviOF[[#This Row],[REFERENCE]]&Tab_SuiviOF[[#This Row],[BLNO]],Bd_VENTILATIONS!$F:$F&Bd_VENTILATIONS!$D:$D,0))} -> B355M02-1 | G11: =IFERROR(MID(Tab_SuiviOF[[#This Row],[LOT]],1,SEARCH("-",Tab_SuiviOF[[#This Row],[LOT]])-1),Tab_SuiviOF[[#This Row],[LOT]]) -> B355M02 | H11: TOL191 | I11: =INDEX(Bd_PF!$E:$E,MATCH(Tab_SuiviOF[[#This Row],[REFERENCE]],Bd_PF!$C:$C,0)) -> Gel Ami bte 0.800 kg "TOL" | J11: =INDEX(Bd_PF!$D:$D,MATCH(Tab_SuiviOF[[#This Row],[REFERENCE]],Bd_PF!$C:$C,0)) -> SF01122 | K11: =INDEX(Bd_PF!$I:$I,MATCH(Tab_SuiviOF[[#This Row],[REFERENCE]],Bd_PF!$C:$C,0)) -> 0.8 | L11: =INDEX(Bd_PF!$J:$J,MATCH(Tab_SuiviOF[[#This Row],[REFERENCE]],Bd_PF!$C:$C,0)) -> OTS | M11: =INDEX(Bd_PF!$K:$K,MATCH(Tab_SuiviOF[[#This Row],[REFERENCE]],Bd_PF!$C:$C,0)) -> Produit pesé | N11: 43103 | O11: 43103 | P11: =YEAR(Tab_SuiviOF[[#This Row],[DATEFINREVISEE]]) -> 2018 | Q11: =MONTH(Tab_SuiviOF[[#This Row],[DATEFINREVISEE]]) -> 1 | R11: =WEEKNUM(Tab_SuiviOF[[#This Row],[DATEFINREVISEE]],21) -> 1 | S11: 529 | T11: 529 | U11: 526 | V11: =Tab_SuiviOF[[#This Row],[QTEBL]]*Tab_SuiviOF[[#This Row],[POIDS NET]] -> 420.8 | W11: =IFERROR(INDEX(Bd_MÉLANGES!$I:$I,MATCH('Bd_FABRICATIONS PF'!$G:$G,Bd_MÉLANGES!$J:$J,0)),0) -> 0 | X11: =IFERROR(INDEX(Bd_MÉLANGES!$K:$K,MATCH(Tab_SuiviOF[[#This Row],[LOT A PRENDRE EN COMPTE]],Bd_MÉLANGES!$J:$J,0)),0) -> 0
A12: 102 | B12: 5 | C12: 40542 | D12: 676961 | E12: 45442 | F12: {=INDEX(Bd_VENTILATIONS!$G:$G,MATCH(Tab_SuiviOF[[#This Row],[REFERENCE]]&Tab_SuiviOF[[#This Row],[BLNO]],Bd_VENTILATIONS!$F:$F&Bd_VENTILATIONS!$D:$D,0))} -> B355M03-1 | G12: =IFERROR(MID(Tab_SuiviOF[[#This Row],[LOT]],1,SEARCH("-",Tab_SuiviOF[[#This Row],[LOT]])-1),Tab_SuiviOF[[#This Row],[LOT]]) -> B355M03 | H12: TOL191 | I12: =INDEX(Bd_PF!$E:$E,MATCH(Tab_SuiviOF[[#This Row],[REFERENCE]],Bd_PF!$C:$C,0)) -> Gel Ami bte 0.800 kg "TOL" | J12: =INDEX(Bd_PF!$D:$D,MATCH(Tab_SuiviOF[[#This Row],[REFERENCE]],Bd_PF!$C:$C,0)) -> SF01122 | K12: =INDEX(Bd_PF!$I:$I,MATCH(Tab_SuiviOF[[#This Row],[REFERENCE]],Bd_PF!$C:$C,0)) -> 0.8 | L12: =INDEX(Bd_PF!$J:$J,MATCH(Tab_SuiviOF[[#This Row],[REFERENCE]],Bd_PF!$C:$C,0)) -> OTS | M12: =INDEX(Bd_PF!$K:$K,MATCH(Tab_SuiviOF[[#This Row],[REFERENCE]],Bd_PF!$C:$C,0)) -> Produit pesé | N12: 43103 | O12: 43103 | P12: =YEAR(Tab_SuiviOF[[#This Row],[DATEFINREVISEE]]) -> 2018 | Q12: =MONTH(Tab_SuiviOF[[#This Row],[DATEFINREVISEE]]) -> 1 | R12: =WEEKNUM(Tab_SuiviOF[[#This Row],[DATEFINREVISEE]],21) -> 1 | S12: 529 | T12: 529 | U12: 524 | V12: =Tab_SuiviOF[[#This Row],[QTEBL]]*Tab_SuiviOF[[#This Row],[POIDS NET]] -> 419.2 | W12: =IFERROR(INDEX(Bd_MÉLANGES!$I:$I,MATCH('Bd_FABRICATIONS PF'!$G:$G,Bd_MÉLANGES!$J:$J,0)),0) -> 0 | X12: =IFERROR(INDEX(Bd_MÉLANGES!$K:$K,MATCH(Tab_SuiviOF[[#This Row],[LOT A PRENDRE EN COMPTE]],Bd_MÉLANGES!$J:$J,0)),0) -> 0
A13: 102 | B13: 5 | C13: 40543 | D13: 677593 | E13: 45435 | F13: {=INDEX(Bd_VENTILATIONS!$G:$G,MATCH(Tab_SuiviOF[[#This Row],[REFERENCE]]&Tab_SuiviOF[[#This Row],[BLNO]],Bd_VENTILATIONS!$F:$F&Bd_VENTILATIONS!$D:$D,0))} -> B355M04-2 | G13: =IFERROR(MID(Tab_SuiviOF[[#This Row],[LOT]],1,SEARCH("-",Tab_SuiviOF[[#This Row],[LOT]])-1),Tab_SuiviOF[[#This Row],[LOT]]) -> B355M04 | H13: TOL983 | I13: =INDEX(Bd_PF!$E:$E,MATCH(Tab_SuiviOF[[#This Row],[REFERENCE]],Bd_PF!$C:$C,0)) -> Gel' Ami - sac 1 kg - "Tonus Line" | J13: =INDEX(Bd_PF!$D:$D,MATCH(Tab_SuiviOF[[#This Row],[REFERENCE]],Bd_PF!$C:$C,0)) -> SF01122 | K13: =INDEX(Bd_PF!$I:$I,MATCH(Tab_SuiviOF[[#This Row],[REFERENCE]],Bd_PF!$C:$C,0)) -> 1 | L13: =INDEX(Bd_PF!$J:$J,MATCH(Tab_SuiviOF[[#This Row],[REFERENCE]],Bd_PF!$C:$C,0)) -> Tecse | M13: =INDEX(Bd_PF!$K:$K,MATCH(Tab_SuiviOF[[#This Row],[REFERENCE]],Bd_PF!$C:$C,0)) -> Produit pesé | N13: 43103 | O13: 43103 | P13: =YEAR(Tab_SuiviOF[[#This Row],[DATEFINREVISEE]]) -> 2018 | Q13: =MONTH(Tab_SuiviOF[[#This Row],[DATEFINREVISEE]]) -> 1 | R13: =WEEKNUM(Tab_SuiviOF[[#This Row],[DATEFINREVISEE]],21) -> 1 | S13: 427 | T13: 427 | U13: 420 | V13: =Tab_SuiviOF[[#This Row],[QTEBL]]*Tab_SuiviOF[[#This Row],[POIDS NET]] -> 420 | W13: =IFERROR(INDEX(Bd_MÉLANGES!$I:$I,MATCH('Bd_FABRICATIONS PF'!$G:$G,Bd_MÉLANGES!$J:$J,0)),0) -> 0 | X13: =IFERROR(INDEX(Bd_MÉLANGES!$K:$K,MATCH(Tab_SuiviOF[[#This Row],[LOT A PRENDRE EN COMPTE]],Bd_MÉLANGES!$J:$J,0)),0) -> 0
... A699: 102 | B699: 5 | C699: 42189 | D699: 696596 | E699: 46938 | F699: {=INDEX(Bd_VENTILATIONS!$G:$G,MATCH(Tab_SuiviOF[[#This Row],[REFERENCE]]&Tab_SuiviOF[[#This Row],[BLNO]],Bd_VENTILATIONS!$F:$F&Bd_VENTILATIONS!$D:$D,0))} -> A099M06-2 | G699: =IFERROR(MID(Tab_SuiviOF[[#This Row],[LOT]],1,SEARCH("-",Tab_SuiviOF[[#This Row],[LOT]])-1),Tab_SuiviOF[[#This Row],[LOT]]) -> A099M06 | H699: TOL232 | I699: =INDEX(Bd_PF!$E:$E,MATCH(Tab_SuiviOF[[#This Row],[REFERENCE]],Bd_PF!$C:$C,0)) -> Crème HP saveur fruits des bois sachet 200g "TOL" | J699: =INDEX(Bd_PF!$D:$D,MATCH(Tab_SuiviOF[[#This Row],[REFERENCE]],Bd_PF!$C:$C,0)) -> SF01243 | K699: =INDEX(Bd_PF!$I:$I,MATCH(Tab_SuiviOF[[#This Row],[REFERENCE]],Bd_PF!$C:$C,0)) -> 0.2 | L699: =INDEX(Bd_PF!$J:$J,MATCH(Tab_SuiviOF[[#This Row],[REFERENCE]],Bd_PF!$C:$C,0)) -> Tecse | M699: =INDEX(Bd_PF!$K:$K,MATCH(Tab_SuiviOF[[#This Row],[REFERENCE]],Bd_PF!$C:$C,0)) -> Produit pesé | N699: 43200 | O699: 43200 | P699: =YEAR(Tab_SuiviOF[[#This Row],[DATEFINREVISEE]]) -> 2018 | Q699: =MONTH(Tab_SuiviOF[[#This Row],[DATEFINREVISEE]]) -> 4 | R699: =WEEKNUM(Tab_SuiviOF[[#This Row],[DATEFINREVISEE]],21) -> 15 | S699: 1620 | T699: 1620 | U699: 1602 | V699: =Tab_SuiviOF[[#This Row],[QTEBL]]*Tab_SuiviOF[[#This Row],[POIDS NET]] -> 320.4 | W699: =IFERROR(INDEX(Bd_MÉLANGES!$I:$I,MATCH('Bd_FABRICATIONS PF'!$G:$G,Bd_MÉLANGES!$J:$J,0)),0) -> 324.3 | X699: =IFERROR(INDEX(Bd_MÉLANGES!$K:$K,MATCH(Tab_SuiviOF[[#This Row],[LOT A PRENDRE EN COMPTE]],Bd_MÉLANGES!$J:$J,0)),0) -> 324
A700: 102 | B700: 5 | C700: 42195 | D700: 696642 | E700: 46942 | F700: {=INDEX(Bd_VENTILATIONS!$G:$G,MATCH(Tab_SuiviOF[[#This Row],[REFERENCE]]&Tab_SuiviOF[[#This Row],[BLNO]],Bd_VENTILATIONS!$F:$F&Bd_VENTILATIONS!$D:$D,0))} -> A100M01-2 | G700: =IFERROR(MID(Tab_SuiviOF[[#This Row],[LOT]],1,SEARCH("-",Tab_SuiviOF[[#This Row],[LOT]])-1),Tab_SuiviOF[[#This Row],[LOT]]) -> A100M01 | H700: PF00218 | I700: =INDEX(Bd_PF!$E:$E,MATCH(Tab_SuiviOF[[#This Row],[REFERENCE]],Bd_PF!$C:$C,0)) -> Entremets parfum citron - sac 1 kg - "Cookalim" | J700: =INDEX(Bd_PF!$D:$D,MATCH(Tab_SuiviOF[[#This Row],[REFERENCE]],Bd_PF!$C:$C,0)) -> SF01054 | K700: =INDEX(Bd_PF!$I:$I,MATCH(Tab_SuiviOF[[#This Row],[REFERENCE]],Bd_PF!$C:$C,0)) -> 1 | L700: =INDEX(Bd_PF!$J:$J,MATCH(Tab_SuiviOF[[#This Row],[REFERENCE]],Bd_PF!$C:$C,0)) -> Tecse | M700: =INDEX(Bd_PF!$K:$K,MATCH(Tab_SuiviOF[[#This Row],[REFERENCE]],Bd_PF!$C:$C,0)) -> Produit pesé | N700: 43200 | O700: 43200 | P700: =YEAR(Tab_SuiviOF[[#This Row],[DATEFINREVISEE]]) -> 2018 | Q700: =MONTH(Tab_SuiviOF[[#This Row],[DATEFINREVISEE]]) -> 4 | R700: =WEEKNUM(Tab_SuiviOF[[#This Row],[DATEFINREVISEE]],21) -> 15 | S700: 108 | T700: 108 | U700: 103 | V700: =Tab_SuiviOF[[#This Row],[QTEBL]]*Tab_SuiviOF[[#This Row],[POIDS NET]] -> 103 | W700: 108 | X700: 108
A701: 102 | B701: 5 | C701: 42199 | D701: 696676 | E701: 46944 | F701: {=INDEX(Bd_VENTILATIONS!$G:$G,MATCH(Tab_SuiviOF[[#This Row],[REFERENCE]]&Tab_SuiviOF[[#This Row],[BLNO]],Bd_VENTILATIONS!$F:$F&Bd_VENTILATIONS!$D:$D,0))} -> A100M02-1 | G701: =IFERROR(MID(Tab_SuiviOF[[#This Row],[LOT]],1,SEARCH("-",Tab_SuiviOF[[#This Row],[LOT]])-1),Tab_SuiviOF[[#This Row],[LOT]]) -> A100M02 | H701: PF00220 | I701: =INDEX(Bd_PF!$E:$E,MATCH(Tab_SuiviOF[[#This Row],[REFERENCE]],Bd_PF!$C:$C,0)) -> Entremets parfum praliné - sac 1 kg - "Cookalim" | J701: =INDEX(Bd_PF!$D:$D,MATCH(Tab_SuiviOF[[#This Row],[REFERENCE]],Bd_PF!$C:$C,0)) -> SF01057 | K701: =INDEX(Bd_PF!$I:$I,MATCH(Tab_SuiviOF[[#This Row],[REFERENCE]],Bd_PF!$C:$C,0)) -> 1 | L701: =INDEX(Bd_PF!$J:$J,MATCH(Tab_SuiviOF[[#This Row],[REFERENCE]],Bd_PF!$C:$C,0)) -> Tecse | M701: =INDEX(Bd_PF!$K:$K,MATCH(Tab_SuiviOF[[#This Row],[REFERENCE]],Bd_PF!$C:$C,0)) -> Produit pesé | N701: 43200 | O701: 43200 | P701: =YEAR(Tab_SuiviOF[[#This Row],[DATEFINREVISEE]]) -> 2018 | Q701: =MONTH(Tab_SuiviOF[[#This Row],[DATEFINREVISEE]]) -> 4 | R701: =WEEKNUM(Tab_SuiviOF[[#This Row],[DATEFINREVISEE]],21) -> 15 | S701: 108 | T701: 108 | U701: 103 | V701: =Tab_SuiviOF[[#This Row],[QTEBL]]*Tab_SuiviOF[[#This Row],[POIDS NET]] -> 103 | W701: =IFERROR(INDEX(Bd_MÉLANGES!$I:$I,MATCH('Bd_FABRICATIONS PF'!$G:$G,Bd_MÉLANGES!$J:$J,0)),0) -> 108 | X701: =IFERROR(INDEX(Bd_MÉLANGES!$K:$K,MATCH(Tab_SuiviOF[[#This Row],[LOT A PRENDRE EN COMPTE]],Bd_MÉLANGES!$J:$J,0)),0) -> 107.99
A702: 102 | B702: 5 | C702: 42258 | D702: 697299 | E702: 46928 | F702: {=INDEX(Bd_VENTILATIONS!$G:$G,MATCH(Tab_SuiviOF[[#This Row],[REFERENCE]]&Tab_SuiviOF[[#This Row],[BLNO]],Bd_VENTILATIONS!$F:$F&Bd_VENTILATIONS!$D:$D,0))} -> A099M03-1 | G702: =IFERROR(MID(Tab_SuiviOF[[#This Row],[LOT]],1,SEARCH("-",Tab_SuiviOF[[#This Row],[LOT]])-1),Tab_SuiviOF[[#This Row],[LOT]]) -> A099M03 | H702: TOL992 | I702: =INDEX(Bd_PF!$E:$E,MATCH(Tab_SuiviOF[[#This Row],[REFERENCE]],Bd_PF!$C:$C,0)) -> Céréal'nut HP+ saveur biscuit bte 900 g (ALLERGENES) | J702: =INDEX(Bd_PF!$D:$D,MATCH(Tab_SuiviOF[[#This Row],[REFERENCE]],Bd_PF!$C:$C,0)) -> SF01220 | K702: =INDEX(Bd_PF!$I:$I,MATCH(Tab_SuiviOF[[#This Row],[REFERENCE]],Bd_PF!$C:$C,0)) -> 0.9 | L702: =INDEX(Bd_PF!$J:$J,MATCH(Tab_SuiviOF[[#This Row],[REFERENCE]],Bd_PF!$C:$C,0)) -> OTS | M702: =INDEX(Bd_PF!$K:$K,MATCH(Tab_SuiviOF[[#This Row],[REFERENCE]],Bd_PF!$C:$C,0)) -> Produit pesé | N702: 43200 | O702: 43200 | P702: =YEAR(Tab_SuiviOF[[#This Row],[DATEFINREVISEE]]) -> 2018 | Q702: =MONTH(Tab_SuiviOF[[#This Row],[DATEFINREVISEE]]) -> 4 | R702: =WEEKNUM(Tab_SuiviOF[[#This Row],[DATEFINREVISEE]],21) -> 15 | S702: 756 | T702: 756 | U702: 755 | V702: =Tab_SuiviOF[[#This Row],[QTEBL]]*Tab_SuiviOF[[#This Row],[POIDS NET]] -> 679.5 | W702: =IFERROR(INDEX(Bd_MÉLANGES!$I:$I,MATCH('Bd_FABRICATIONS PF'!$G:$G,Bd_MÉLANGES!$J:$J,0)),0) -> 684.3 | X702: =IFERROR(INDEX(Bd_MÉLANGES!$K:$K,MATCH(Tab_SuiviOF[[#This Row],[LOT A PRENDRE EN COMPTE]],Bd_MÉLANGES!$J:$J,0)),0) -> 681.02
A703: 102 | B703: 5 | C703: 42308 | D703: 698095 | E703: 46943 | F703: {=INDEX(Bd_VENTILATIONS!$G:$G,MATCH(Tab_SuiviOF[[#This Row],[REFERENCE]]&Tab_SuiviOF[[#This Row],[BLNO]],Bd_VENTILATIONS!$F:$F&Bd_VENTILATIONS!$D:$D,0))} -> A099MR04-1 | G703: =IFERROR(MID(Tab_SuiviOF[[#This Row],[LOT]],1,SEARCH("-",Tab_SuiviOF[[#This Row],[LOT]])-1),Tab_SuiviOF[[#This Row],[LOT]]) -> A099MR04 | H703: TOL990 | I703: =INDEX(Bd_PF!$E:$E,MATCH(Tab_SuiviOF[[#This Row],[REFERENCE]],Bd_PF!$C:$C,0)) -> Nutridej' céréales saveur praliné 900 g (ALLERGENES) | J703: =INDEX(Bd_PF!$D:$D,MATCH(Tab_SuiviOF[[#This Row],[REFERENCE]],Bd_PF!$C:$C,0)) -> SF01224 | K703: =INDEX(Bd_PF!$I:$I,MATCH(Tab_SuiviOF[[#This Row],[REFERENCE]],Bd_PF!$C:$C,0)) -> 0.9 | L703: =INDEX(Bd_PF!$J:$J,MATCH(Tab_SuiviOF[[#This Row],[REFERENCE]],Bd_PF!$C:$C,0)) -> OTS | M703: =INDEX(Bd_PF!$K:$K,MATCH(Tab_SuiviOF[[#This Row],[REFERENCE]],Bd_PF!$C:$C,0)) -> Produit pesé | N703: 43200 | O703: 43200 | P703: =YEAR(Tab_SuiviOF[[#This Row],[DATEFINREVISEE]]) -> 2018 | Q703: =MONTH(Tab_SuiviOF[[#This Row],[DATEFINREVISEE]]) -> 4 | R703: =WEEKNUM(Tab_SuiviOF[[#This Row],[DATEFINREVISEE]],21) -> 15 | S703: 21 | T703: 21 | U703: 21 | V703: =Tab_SuiviOF[[#This Row],[QTEBL]]*Tab_SuiviOF[[#This Row],[POIDS NET]] -> 18.9 | W703: 19 | X703: 19
A704: 102 | B704: 5 | C704: 42089 | D704: 695370 | E704: 46956 | F704: {=INDEX(Bd_VENTILATIONS!$G:$G,MATCH(Tab_SuiviOF[[#This Row],[REFERENCE]]&Tab_SuiviOF[[#This Row],[BLNO]],Bd_VENTILATIONS!$F:$F&Bd_VENTILATIONS!$D:$D,0))} -> A094M02-1 | G704: =IFERROR(MID(Tab_SuiviOF[[#This Row],[LOT]],1,SEARCH("-",Tab_SuiviOF[[#This Row],[LOT]])-1),Tab_SuiviOF[[#This Row],[LOT]]) -> A094M02 | H704: PERF00001 | I704: =INDEX(Bd_PF!$E:$E,MATCH(Tab_SuiviOF[[#This Row],[REFERENCE]],Bd_PF!$C:$C,0)) -> Bouillon de volaille 1 kg "Nutrisens Performance" | J704: =INDEX(Bd_PF!$D:$D,MATCH(Tab_SuiviOF[[#This Row],[REFERENCE]],Bd_PF!$C:$C,0)) -> SF01313 | K704: =INDEX(Bd_PF!$I:$I,MATCH(Tab_SuiviOF[[#This Row],[REFERENCE]],Bd_PF!$C:$C,0)) -> 1 | L704: =INDEX(Bd_PF!$J:$J,MATCH(Tab_SuiviOF[[#This Row],[REFERENCE]],Bd_PF!$C:$C,0)) -> OTS | M704: =INDEX(Bd_PF!$K:$K,MATCH(Tab_SuiviOF[[#This Row],[REFERENCE]],Bd_PF!$C:$C,0)) -> Produit pesé | N704: 43201 | O704: 43201 | P704: =YEAR(Tab_SuiviOF[[#This Row],[DATEFINREVISEE]]) -> 2018 | Q704: =MONTH(Tab_SuiviOF[[#This Row],[DATEFINREVISEE]]) -> 4 | R704: =WEEKNUM(Tab_SuiviOF[[#This Row],[DATEFINREVISEE]],21) -> 15 | S704: 648 | T704: 648 | U704: 643 | V704: =Tab_SuiviOF[[#This Row],[QTEBL]]*Tab_SuiviOF[[#This Row],[POIDS NET]] -> 643 | W704: =IFERROR(INDEX(Bd_MÉLANGES!$I:$I,MATCH('Bd_FABRICATIONS PF'!$G:$G,Bd_MÉLANGES!$J:$J,0)),0) -> 648.7 | X704: =IFERROR(INDEX(Bd_MÉLANGES!$K:$K,MATCH(Tab_SuiviOF[[#This Row],[LOT A PRENDRE EN COMPTE]],Bd_MÉLANGES!$J:$J,0)),0) -> 648
A705: 102 | B705: 5 | C705: 42134 | D705: 695969 | E705: 46959 | F705: {=INDEX(Bd_VENTILATIONS!$G:$G,MATCH(Tab_SuiviOF[[#This Row],[REFERENCE]]&Tab_SuiviOF[[#This Row],[BLNO]],Bd_VENTILATIONS!$F:$F&Bd_VENTILATIONS!$D:$D,0))} -> A100M04-6 | G705: =IFERROR(MID(Tab_SuiviOF[[#This Row],[LOT]],1,SEARCH("-",Tab_SuiviOF[[#This Row],[LOT]])-1),Tab_SuiviOF[[#This Row],[LOT]]) -> A100M04 | H705: BRAKE029 | I705: =INDEX(Bd_PF!$E:$E,MATCH(Tab_SuiviOF[[#This Row],[REFERENCE]],Bd_PF!$C:$C,0)) -> Fonds brun lié SANS GLUTAMATE 600G "BRAKE" | J705: =INDEX(Bd_PF!$D:$D,MATCH(Tab_SuiviOF[[#This Row],[REFERENCE]],Bd_PF!$C:$C,0)) -> SF01385 | K705: =INDEX(Bd_PF!$I:$I,MATCH(Tab_SuiviOF[[#This Row],[REFERENCE]],Bd_PF!$C:$C,0)) -> 0.6 | L705: =INDEX(Bd_PF!$J:$J,MATCH(Tab_SuiviOF[[#This Row],[REFERENCE]],Bd_PF!$C:$C,0)) -> Boite plastique | M705: =INDEX(Bd_PF!$K:$K,MATCH(Tab_SuiviOF[[#This Row],[REFERENCE]],Bd_PF!$C:$C,0)) -> Produit pesé | N705: 43201 | O705: 43201 | P705: =YEAR(Tab_SuiviOF[[#This Row],[DATEFINREVISEE]]) -> 2018 | Q705: =MONTH(Tab_SuiviOF[[#This Row],[DATEFINREVISEE]]) -> 4 | R705: =WEEKNUM(Tab_SuiviOF[[#This Row],[DATEFINREVISEE]],21) -> 15 | S705: 1152 | T705: 1152 | U705: 1151 | V705: =Tab_SuiviOF[[#This Row],[QTEBL]]*Tab_SuiviOF[[#This Row],[POIDS NET]] -> 690.6 | W705: =IFERROR(INDEX(Bd_MÉLANGES!$I:$I,MATCH('Bd_FABRICATIONS PF'!$G:$G,Bd_MÉLANGES!$J:$J,0)),0) -> 693.3 | X705: =IFERROR(INDEX(Bd_MÉLANGES!$K:$K,MATCH(Tab_SuiviOF[[#This Row],[LOT A PRENDRE EN COMPTE]],Bd_MÉLANGES!$J:$J,0)),0) -> 691.19
A706: 102 | B706: 5 | C706: 42138 | D706: 696029 | E706: 46965 | F706: {=INDEX(Bd_VENTILATIONS!$G:$G,MATCH(Tab_SuiviOF[[#This Row],[REFERENCE]]&Tab_SuiviOF[[#This Row],[BLNO]],Bd_VENTILATIONS!$F:$F&Bd_VENTILATIONS!$D:$D,0))} -> A101M02-5 | G706: =IFERROR(MID(Tab_SuiviOF[[#This Row],[LOT]],1,SEARCH("-",Tab_SuiviOF[[#This Row],[LOT]])-1),Tab_SuiviOF[[#This Row],[LOT]]) -> A101M02 | H706: BRAKE037 | I706: =INDEX(Bd_PF!$E:$E,MATCH(Tab_SuiviOF[[#This Row],[REFERENCE]],Bd_PF!$C:$C,0)) -> Jus de veau lié SANS GLUTAMATE 600G "BRAKE" | J706: =INDEX(Bd_PF!$D:$D,MATCH(Tab_SuiviOF[[#This Row],[REFERENCE]],Bd_PF!$C:$C,0)) -> SF01430 | K706: =INDEX(Bd_PF!$I:$I,MATCH(Tab_SuiviOF[[#This Row],[REFERENCE]],Bd_PF!$C:$C,0)) -> 0.6 | L706: =INDEX(Bd_PF!$J:$J,MATCH(Tab_SuiviOF[[#This Row],[REFERENCE]],Bd_PF!$C:$C,0)) -> Boite plastique | M706: =INDEX(Bd_PF!$K:$K,MATCH(Tab_SuiviOF[[#This Row],[REFERENCE]],Bd_PF!$C:$C,0)) -> Produit pesé | N706: 43201 | O706: 43201 | P706: =YEAR(Tab_SuiviOF[[#This Row],[DATEFINREVISEE]]) -> 2018 | Q706: =MONTH(Tab_SuiviOF[[#This Row],[DATEFINREVISEE]]) -> 4 | R706: =WEEKNUM(Tab_SuiviOF[[#This Row],[DATEFINREVISEE]],21) -> 15 | S706: 528 | T706: 528 | U706: 530 | V706: =Tab_SuiviOF[[#This Row],[QTEBL]]*Tab_SuiviOF[[#This Row],[POIDS NET]] -> 318 | W706: =IFERROR(INDEX(Bd_MÉLANGES!$I:$I,MATCH('Bd_FABRICATIONS PF'!$G:$G,Bd_MÉLANGES!$J:$J,0)),0) -> 319.3 | X706: =IFERROR(INDEX(Bd_MÉLANGES!$K:$K,MATCH(Tab_SuiviOF[[#This Row],[LOT A PRENDRE EN COMPTE]],Bd_MÉLANGES!$J:$J,0)),0) -> 316.82
A707: 102 | B707: 5 | C707: 42154 | D707: 696209 | E707: 46958 | F707: {=INDEX(Bd_VENTILATIONS!$G:$G,MATCH(Tab_SuiviOF[[#This Row],[REFERENCE]]&Tab_SuiviOF[[#This Row],[BLNO]],Bd_VENTILATIONS!$F:$F&Bd_VENTILATIONS!$D:$D,0))} -> A101M04-1 | G707: =IFERROR(MID(Tab_SuiviOF[[#This Row],[LOT]],1,SEARCH("-",Tab_SuiviOF[[#This Row],[LOT]])-1),Tab_SuiviOF[[#This Row],[LOT]]) -> A101M04 | H707: PF00013 | I707: =INDEX(Bd_PF!$E:$E,MATCH(Tab_SuiviOF[[#This Row],[REFERENCE]],Bd_PF!$C:$C,0)) -> Bouillon de boeuf boite 1 kg Cookalim | J707: =INDEX(Bd_PF!$D:$D,MATCH(Tab_SuiviOF[[#This Row],[REFERENCE]],Bd_PF!$C:$C,0)) -> SF00855 | K707: =INDEX(Bd_PF!$I:$I,MATCH(Tab_SuiviOF[[#This Row],[REFERENCE]],Bd_PF!$C:$C,0)) -> 1 | L707: =INDEX(Bd_PF!$J:$J,MATCH(Tab_SuiviOF[[#This Row],[REFERENCE]],Bd_PF!$C:$C,0)) -> OTS | M707: =INDEX(Bd_PF!$K:$K,MATCH(Tab_SuiviOF[[#This Row],[REFERENCE]],Bd_PF!$C:$C,0)) -> Produit pesé | N707: 43201 | O707: 43201 | P707: =YEAR(Tab_SuiviOF[[#This Row],[DATEFINREVISEE]]) -> 2018 | Q707: =MONTH(Tab_SuiviOF[[#This Row],[DATEFINREVISEE]]) -> 4 | R707: =WEEKNUM(Tab_SuiviOF[[#This Row],[DATEFINREVISEE]],21) -> 15 | S707: 180 | T707: 180 | U707: 179 | V707: =Tab_SuiviOF[[#This Row],[QTEBL]]*Tab_SuiviOF[[#This Row],[POIDS NET]] -> 179 | W707: =IFERROR(INDEX(Bd_MÉLANGES!$I:$I,MATCH('Bd_FABRICATIONS PF'!$G:$G,Bd_MÉLANGES!$J:$J,0)),0) -> 180.3 | X707: =IFERROR(INDEX(Bd_MÉLANGES!$K:$K,MATCH(Tab_SuiviOF[[#This Row],[LOT A PRENDRE EN COMPTE]],Bd_MÉLANGES!$J:$J,0)),0) -> 180
A708: 102 | B708: 5 | C708: 42183 | D708: 696544 | E708: 46964 | F708: {=INDEX(Bd_VENTILATIONS!$G:$G,MATCH(Tab_SuiviOF[[#This Row],[REFERENCE]]&Tab_SuiviOF[[#This Row],[BLNO]],Bd_VENTILATIONS!$F:$F&Bd_VENTILATIONS!$D:$D,0))} -> A101M03-1 | G708: =IFERROR(MID(Tab_SuiviOF[[#This Row],[LOT]],1,SEARCH("-",Tab_SuiviOF[[#This Row],[LOT]])-1),Tab_SuiviOF[[#This Row],[LOT]]) -> A101M03 | H708: PERF019 | I708: =INDEX(Bd_PF!$E:$E,MATCH(Tab_SuiviOF[[#This Row],[REFERENCE]],Bd_PF!$C:$C,0)) -> Jus de poulet bte 1kg "NUTRISENS PERFORMANCE" | J708: =INDEX(Bd_PF!$D:$D,MATCH(Tab_SuiviOF[[#This Row],[REFERENCE]],Bd_PF!$C:$C,0)) -> SF01335 | K708: =INDEX(Bd_PF!$I:$I,MATCH(Tab_SuiviOF[[#This Row],[REFERENCE]],Bd_PF!$C:$C,0)) -> 1 | L708: =INDEX(Bd_PF!$J:$J,MATCH(Tab_SuiviOF[[#This Row],[REFERENCE]],Bd_PF!$C:$C,0)) -> OTS | M708: =INDEX(Bd_PF!$K:$K,MATCH(Tab_SuiviOF[[#This Row],[REFERENCE]],Bd_PF!$C:$C,0)) -> Produit pesé | N708: 43201 | O708: 43201 | P708: =YEAR(Tab_SuiviOF[[#This Row],[DATEFINREVISEE]]) -> 2018 | Q708: =MONTH(Tab_SuiviOF[[#This Row],[DATEFINREVISEE]]) -> 4 | R708: =WEEKNUM(Tab_SuiviOF[[#This Row],[DATEFINREVISEE]],21) -> 15 | S708: 108 | T708: 108 | U708: 108 | V708: =Tab_SuiviOF[[#This Row],[QTEBL]]*Tab_SuiviOF[[#This Row],[POIDS NET]] -> 108 | W708: =IFERROR(INDEX(Bd_MÉLANGES!$I:$I,MATCH('Bd_FABRICATIONS PF'!$G:$G,Bd_MÉLANGES!$J:$J,0)),0) -> 108 | X708: =IFERROR(INDEX(Bd_MÉLANGES!$K:$K,MATCH(Tab_SuiviOF[[#This Row],[LOT A PRENDRE EN COMPTE]],Bd_MÉLANGES!$J:$J,0)),0) -> 108
A709: 102 | B709: 5 | C709: 42185 | D709: 696562 | E709: 46957 | F709: {=INDEX(Bd_VENTILATIONS!$G:$G,MATCH(Tab_SuiviOF[[#This Row],[REFERENCE]]&Tab_SuiviOF[[#This Row],[BLNO]],Bd_VENTILATIONS!$F:$F&Bd_VENTILATIONS!$D:$D,0))} -> A101M01-2 | G709: =IFERROR(MID(Tab_SuiviOF[[#This Row],[LOT]],1,SEARCH("-",Tab_SuiviOF[[#This Row],[LOT]])-1),Tab_SuiviOF[[#This Row],[LOT]]) -> A101M01 | H709: PERF070 | I709: =INDEX(Bd_PF!$E:$E,MATCH(Tab_SuiviOF[[#This Row],[REFERENCE]],Bd_PF!$C:$C,0)) -> Velouté d'asperge 1Kg "NUTRISENS PERFORMANCE" | J709: =INDEX(Bd_PF!$D:$D,MATCH(Tab_SuiviOF[[#This Row],[REFERENCE]],Bd_PF!$C:$C,0)) -> SF01426 | K709: =INDEX(Bd_PF!$I:$I,MATCH(Tab_SuiviOF[[#This Row],[REFERENCE]],Bd_PF!$C:$C,0)) -> 1 | L709: =INDEX(Bd_PF!$J:$J,MATCH(Tab_SuiviOF[[#This Row],[REFERENCE]],Bd_PF!$C:$C,0)) -> Tecse | M709: =INDEX(Bd_PF!$K:$K,MATCH(Tab_SuiviOF[[#This Row],[REFERENCE]],Bd_PF!$C:$C,0)) -> Produit pesé | N709: 43201 | O709: 43201 | P709: =YEAR(Tab_SuiviOF[[#This Row],[DATEFINREVISEE]]) -> 2018 | Q709: =MONTH(Tab_SuiviOF[[#This Row],[DATEFINREVISEE]]) -> 4 | R709: =WEEKNUM(Tab_SuiviOF[[#This Row],[DATEFINREVISEE]],21) -> 15 | S709: 144 | T709: 144 | U709: 137 | V709: =Tab_SuiviOF[[#This Row],[QTEBL]]*Tab_SuiviOF[[#This Row],[POIDS NET]] -> 137 | W709: =IFERROR(INDEX(Bd_MÉLANGES!$I:$I,MATCH('Bd_FABRICATIONS PF'!$G:$G,Bd_MÉLANGES!$J:$J,0)),0) -> 144.1 | X709: =IFERROR(INDEX(Bd_MÉLANGES!$K:$K,MATCH(Tab_SuiviOF[[#This Row],[LOT A PRENDRE EN COMPTE]],Bd_MÉLANGES!$J:$J,0)),0) -> 143.99
A710: 102 | B710: 5 | C710: 42215 | D710: 696910 | E710: 46952 | F710: {=INDEX(Bd_VENTILATIONS!$G:$G,MATCH(Tab_SuiviOF[[#This Row],[REFERENCE]]&Tab_SuiviOF[[#This Row],[BLNO]],Bd_VENTILATIONS!$F:$F&Bd_VENTILATIONS!$D:$D,0))} -> A100M03-1 | G710: =IFERROR(MID(Tab_SuiviOF[[#This Row],[LOT]],1,SEARCH("-",Tab_SuiviOF[[#This Row],[LOT]])-1),Tab_SuiviOF[[#This Row],[LOT]]) -> A100M03 | H710: PF00014 | I710: =INDEX(Bd_PF!$E:$E,MATCH(Tab_SuiviOF[[#This Row],[REFERENCE]],Bd_PF!$C:$C,0)) -> Bouillon de volaille boite 1 kg Cookalim | J710: =INDEX(Bd_PF!$D:$D,MATCH(Tab_SuiviOF[[#This Row],[REFERENCE]],Bd_PF!$C:$C,0)) -> SF00857 | K710: =INDEX(Bd_PF!$I:$I,MATCH(Tab_SuiviOF[[#This Row],[REFERENCE]],Bd_PF!$C:$C,0)) -> 1 | L710: =INDEX(Bd_PF!$J:$J,MATCH(Tab_SuiviOF[[#This Row],[REFERENCE]],Bd_PF!$C:$C,0)) -> OTS | M710: =INDEX(Bd_PF!$K:$K,MATCH(Tab_SuiviOF[[#This Row],[REFERENCE]],Bd_PF!$C:$C,0)) -> Produit pesé | N710: 43200 | O710: 43201 | P710: =YEAR(Tab_SuiviOF[[#This Row],[DATEFINREVISEE]]) -> 2018 | Q710: =MONTH(Tab_SuiviOF[[#This Row],[DATEFINREVISEE]]) -> 4 | R710: =WEEKNUM(Tab_SuiviOF[[#This Row],[DATEFINREVISEE]],21) -> 15 | S710: 390 | T710: 390 | U710: 384 | V710: =Tab_SuiviOF[[#This Row],[QTEBL]]*Tab_SuiviOF[[#This Row],[POIDS NET]] -> 384 | W710: =IFERROR(INDEX(Bd_MÉLANGES!$I:$I,MATCH('Bd_FABRICATIONS PF'!$G:$G,Bd_MÉLANGES!$J:$J,0)),0) -> 390.9 | X710: =IFERROR(INDEX(Bd_MÉLANGES!$K:$K,MATCH(Tab_SuiviOF[[#This Row],[LOT A PRENDRE EN COMPTE]],Bd_MÉLANGES!$J:$J,0)),0) -> 390.01
A711: 102 | B711: 5 | C711: 42217 | D711: 696928 | E711: 46953 | F711: {=INDEX(Bd_VENTILATIONS!$G:$G,MATCH(Tab_SuiviOF[[#This Row],[REFERENCE]]&Tab_SuiviOF[[#This Row],[BLNO]],Bd_VENTILATIONS!$F:$F&Bd_VENTILATIONS!$D:$D,0))} -> A100M06-1 | G711: =IFERROR(MID(Tab_SuiviOF[[#This Row],[LOT]],1,SEARCH("-",Tab_SuiviOF[[#This Row],[LOT]])-1),Tab_SuiviOF[[#This Row],[LOT]]) -> A100M06 | H711: PF00021 | I711: =INDEX(Bd_PF!$E:$E,MATCH(Tab_SuiviOF[[#This Row],[REFERENCE]],Bd_PF!$C:$C,0)) -> Jus de veau boite 0kg900 Cookalim | J711: =INDEX(Bd_PF!$D:$D,MATCH(Tab_SuiviOF[[#This Row],[REFERENCE]],Bd_PF!$C:$C,0)) -> SF00892 | K711: =INDEX(Bd_PF!$I:$I,MATCH(Tab_SuiviOF[[#This Row],[REFERENCE]],Bd_PF!$C:$C,0)) -> 0.9 | L711: =INDEX(Bd_PF!$J:$J,MATCH(Tab_SuiviOF[[#This Row],[REFERENCE]],Bd_PF!$C:$C,0)) -> OTS | M711: =INDEX(Bd_PF!$K:$K,MATCH(Tab_SuiviOF[[#This Row],[REFERENCE]],Bd_PF!$C:$C,0)) -> Produit pesé | N711: 43201 | O711: 43201 | P711: =YEAR(Tab_SuiviOF[[#This Row],[DATEFINREVISEE]]) -> 2018 | Q711: =MONTH(Tab_SuiviOF[[#This Row],[DATEFINREVISEE]]) -> 4 | R711: =WEEKNUM(Tab_SuiviOF[[#This Row],[DATEFINREVISEE]],21) -> 15 | S711: 326 | T711: 326 | U711: 323 | V711: =Tab_SuiviOF[[#This Row],[QTEBL]]*Tab_SuiviOF[[#This Row],[POIDS NET]] -> 290.7 | W711: =IFERROR(INDEX(Bd_MÉLANGES!$I:$I,MATCH('Bd_FABRICATIONS PF'!$G:$G,Bd_MÉLANGES!$J:$J,0)),0) -> 293.5 | X711: =IFERROR(INDEX(Bd_MÉLANGES!$K:$K,MATCH(Tab_SuiviOF[[#This Row],[LOT A PRENDRE EN COMPTE]],Bd_MÉLANGES!$J:$J,0)),0) -> 293.99
A712: 102 | B712: 5 | C712: 42301 | D712: 697869 | E712: 46961 | F712: {=INDEX(Bd_VENTILATIONS!$G:$G,MATCH(Tab_SuiviOF[[#This Row],[REFERENCE]]&Tab_SuiviOF[[#This Row],[BLNO]],Bd_VENTILATIONS!$F:$F&Bd_VENTILATIONS!$D:$D,0))} -> A095M01-8 | G712: =IFERROR(MID(Tab_SuiviOF[[#This Row],[LOT]],1,SEARCH("-",Tab_SuiviOF[[#This Row],[LOT]])-1),Tab_SuiviOF[[#This Row],[LOT]]) -> A095M01 | H712: PF00242 | I712: =INDEX(Bd_PF!$E:$E,MATCH(Tab_SuiviOF[[#This Row],[REFERENCE]],Bd_PF!$C:$C,0)) -> Gel clear stick 3,7G | J712: =INDEX(Bd_PF!$D:$D,MATCH(Tab_SuiviOF[[#This Row],[REFERENCE]],Bd_PF!$C:$C,0)) -> SF01381 | K712: =INDEX(Bd_PF!$I:$I,MATCH(Tab_SuiviOF[[#This Row],[REFERENCE]],Bd_PF!$C:$C,0)) -> 0.003 | L712: =INDEX(Bd_PF!$J:$J,MATCH(Tab_SuiviOF[[#This Row],[REFERENCE]],Bd_PF!$C:$C,0)) -> Stick | M712: =INDEX(Bd_PF!$K:$K,MATCH(Tab_SuiviOF[[#This Row],[REFERENCE]],Bd_PF!$C:$C,0)) -> Produit pesé | N712: 43201 | O712: 43201 | P712: =YEAR(Tab_SuiviOF[[#This Row],[DATEFINREVISEE]]) -> 2018 | Q712: =MONTH(Tab_SuiviOF[[#This Row],[DATEFINREVISEE]]) -> 4 | R712: =WEEKNUM(Tab_SuiviOF[[#This Row],[DATEFINREVISEE]],21) -> 15 | S712: 5000 | T712: 5000 | U712: 2160 | V712: =Tab_SuiviOF[[#This Row],[QTEBL]]*Tab_SuiviOF[[#This Row],[POIDS NET]] -> 6.48 | W712: 9 | X712: 9
A713: 102 | B713: 5 | C713: 42302 | D713: 697998 | E713: 46963 | F713: {=INDEX(Bd_VENTILATIONS!$G:$G,MATCH(Tab_SuiviOF[[#This Row],[REFERENCE]]&Tab_SuiviOF[[#This Row],[BLNO]],Bd_VENTILATIONS!$F:$F&Bd_VENTILATIONS!$D:$D,0))} -> A099R02-1 | G713: =IFERROR(MID(Tab_SuiviOF[[#This Row],[LOT]],1,SEARCH("-",Tab_SuiviOF[[#This Row],[LOT]])-1),Tab_SuiviOF[[#This Row],[LOT]]) -> A099R02 | H713: PF00071 | I713: =INDEX(Bd_PF!$E:$E,MATCH(Tab_SuiviOF[[#This Row],[REFERENCE]],Bd_PF!$C:$C,0)) -> Roux blanc boite 1 kg Cookalim | J713: =INDEX(Bd_PF!$D:$D,MATCH(Tab_SuiviOF[[#This Row],[REFERENCE]],Bd_PF!$C:$C,0)) -> SF00843 | K713: =INDEX(Bd_PF!$I:$I,MATCH(Tab_SuiviOF[[#This Row],[REFERENCE]],Bd_PF!$C:$C,0)) -> 1 | L713: =INDEX(Bd_PF!$J:$J,MATCH(Tab_SuiviOF[[#This Row],[REFERENCE]],Bd_PF!$C:$C,0)) -> OTS | M713: =INDEX(Bd_PF!$K:$K,MATCH(Tab_SuiviOF[[#This Row],[REFERENCE]],Bd_PF!$C:$C,0)) -> Reconditionnement | N713: 43201 | O713: 43201 | P713: =YEAR(Tab_SuiviOF[[#This Row],[DATEFINREVISEE]]) -> 2018 | Q713: =MONTH(Tab_SuiviOF[[#This Row],[DATEFINREVISEE]]) -> 4 | R713: =WEEKNUM(Tab_SuiviOF[[#This Row],[DATEFINREVISEE]],21) -> 15 | S713: 54 | T713: 54 | U713: 54 | V713: =Tab_SuiviOF[[#This Row],[QTEBL]]*Tab_SuiviOF[[#This Row],[POIDS NET]] -> 54 | W713: =IFERROR(INDEX(Bd_MÉLANGES!$I:$I,MATCH('Bd_FABRICATIONS PF'!$G:$G,Bd_MÉLANGES!$J:$J,0)),0) -> 0 | X713: =IFERROR(INDEX(Bd_MÉLANGES!$K:$K,MATCH(Tab_SuiviOF[[#This Row],[LOT A PRENDRE EN COMPTE]],Bd_MÉLANGES!$J:$J,0)),0) -> 0
A714: 102 | B714: 5 | C714: 42321 | D714: 698320 | E714: 46960 | F714: {=INDEX(Bd_VENTILATIONS!$G:$G,MATCH(Tab_SuiviOF[[#This Row],[REFERENCE]]&Tab_SuiviOF[[#This Row],[BLNO]],Bd_VENTILATIONS!$F:$F&Bd_VENTILATIONS!$D:$D,0))} -> A080M01-1 | G714: =IFERROR(MID(Tab_SuiviOF[[#This Row],[LOT]],1,SEARCH("-",Tab_SuiviOF[[#This Row],[LOT]])-1),Tab_SuiviOF[[#This Row],[LOT]]) -> A080M01 | H714: PERF013 | I714: =INDEX(Bd_PF!$E:$E,MATCH(Tab_SuiviOF[[#This Row],[REFERENCE]],Bd_PF!$C:$C,0)) -> Jus de veau lié pauvre en sodium 1 kg "Nutrisens Performance" | J714: =INDEX(Bd_PF!$D:$D,MATCH(Tab_SuiviOF[[#This Row],[REFERENCE]],Bd_PF!$C:$C,0)) -> SF01327 | K714: =INDEX(Bd_PF!$I:$I,MATCH(Tab_SuiviOF[[#This Row],[REFERENCE]],Bd_PF!$C:$C,0)) -> 1 | L714: =INDEX(Bd_PF!$J:$J,MATCH(Tab_SuiviOF[[#This Row],[REFERENCE]],Bd_PF!$C:$C,0)) -> OTS | M714: =INDEX(Bd_PF!$K:$K,MATCH(Tab_SuiviOF[[#This Row],[REFERENCE]],Bd_PF!$C:$C,0)) -> Produit pesé | N714: 43201 | O714: 43201 | P714: =YEAR(Tab_SuiviOF[[#This Row],[DATEFINREVISEE]]) -> 2018 | Q714: =MONTH(Tab_SuiviOF[[#This Row],[DATEFINREVISEE]]) -> 4 | R714: =WEEKNUM(Tab_SuiviOF[[#This Row],[DATEFINREVISEE]],21) -> 15 | S714: 252 | T714: 252 | U714: 255 | V714: =Tab_SuiviOF[[#This Row],[QTEBL]]*Tab_SuiviOF[[#This Row],[POIDS NET]] -> 255 | W714: 255 | X714: 255
A715: 102 | B715: 5 | C715: 42332 | D715: 698410 | E715: 46962 | F715: {=INDEX(Bd_VENTILATIONS!$G:$G,MATCH(Tab_SuiviOF[[#This Row],[REFERENCE]]&Tab_SuiviOF[[#This Row],[BLNO]],Bd_VENTILATIONS!$F:$F&Bd_VENTILATIONS!$D:$D,0))} -> AS15PU01-7 | G715: =IFERROR(MID(Tab_SuiviOF[[#This Row],[LOT]],1,SEARCH("-",Tab_SuiviOF[[#This Row],[LOT]])-1),Tab_SuiviOF[[#This Row],[LOT]]) -> AS15PU01 | H715: EDE103 | I715: =INDEX(Bd_PF!$E:$E,MATCH(Tab_SuiviOF[[#This Row],[REFERENCE]],Bd_PF!$C:$C,0)) -> Purée grand-mère salée sac 5 kg | J715: =INDEX(Bd_PF!$D:$D,MATCH(Tab_SuiviOF[[#This Row],[REFERENCE]],Bd_PF!$C:$C,0)) -> SF01288 | K715: =INDEX(Bd_PF!$I:$I,MATCH(Tab_SuiviOF[[#This Row],[REFERENCE]],Bd_PF!$C:$C,0)) -> 5 | L715: =INDEX(Bd_PF!$J:$J,MATCH(Tab_SuiviOF[[#This Row],[REFERENCE]],Bd_PF!$C:$C,0)) -> Purée | M715: =INDEX(Bd_PF!$K:$K,MATCH(Tab_SuiviOF[[#This Row],[REFERENCE]],Bd_PF!$C:$C,0)) -> Purée | N715: 43201 | O715: 43201 | P715: =YEAR(Tab_SuiviOF[[#This Row],[DATEFINREVISEE]]) -> 2018 | Q715: =MONTH(Tab_SuiviOF[[#This Row],[DATEFINREVISEE]]) -> 4 | R715: =WEEKNUM(Tab_SuiviOF[[#This Row],[DATEFINREVISEE]],21) -> 15 | S715: 840 | T715: 840 | U715: 833 | V715: =Tab_SuiviOF[[#This Row],[QTEBL]]*Tab_SuiviOF[[#This Row],[POIDS NET]] -> 4165 | W715: =IFERROR(INDEX(Bd_MÉLANGES!$I:$I,MATCH('Bd_FABRICATIONS PF'!$G:$G,Bd_MÉLANGES!$J:$J,0)),0) -> 0 | X715: =IFERROR(INDEX(Bd_MÉLANGES!$K:$K,MATCH(Tab_SuiviOF[[#This Row],[LOT A PRENDRE EN COMPTE]],Bd_MÉLANGES!$J:$J,0)),0) -> 0
A716: 102 | B716: 5 | C716: 42114 | D716: 695626 | E716: 46815 | F716: {=INDEX(Bd_VENTILATIONS!$G:$G,MATCH(Tab_SuiviOF[[#This Row],[REFERENCE]]&Tab_SuiviOF[[#This Row],[BLNO]],Bd_VENTILATIONS!$F:$F&Bd_VENTILATIONS!$D:$D,0))} -> A088M02 | G716: =IFERROR(MID(Tab_SuiviOF[[#This Row],[LOT]],1,SEARCH("-",Tab_SuiviOF[[#This Row],[LOT]])-1),Tab_SuiviOF[[#This Row],[LOT]]) -> A088M02 | H716: ED06 | I716: =INDEX(Bd_PF!$E:$E,MATCH(Tab_SuiviOF[[#This Row],[REFERENCE]],Bd_PF!$C:$C,0)) -> HYDRA CLEAR ED Orange V4 | J716: =INDEX(Bd_PF!$D:$D,MATCH(Tab_SuiviOF[[#This Row],[REFERENCE]],Bd_PF!$C:$C,0)) -> XMP869 | K716: =INDEX(Bd_PF!$I:$I,MATCH(Tab_SuiviOF[[#This Row],[REFERENCE]],Bd_PF!$C:$C,0)) -> 0 | L716: =INDEX(Bd_PF!$J:$J,MATCH(Tab_SuiviOF[[#This Row],[REFERENCE]],Bd_PF!$C:$C,0)) -> Pesée/mélange | M716: Reconditionnement | N716: 43178 | O716: 43202 | P716: =YEAR(Tab_SuiviOF[[#This Row],[DATEFINREVISEE]]) -> 2018 | Q716: =MONTH(Tab_SuiviOF[[#This Row],[DATEFINREVISEE]]) -> 4 | R716: =WEEKNUM(Tab_SuiviOF[[#This Row],[DATEFINREVISEE]],21) -> 15 | S716: 100 | T716: 100 | U716: 100 | V716: =Tab_SuiviOF[[#This Row],[QTEBL]]*Tab_SuiviOF[[#This Row],[POIDS NET]] -> 0 | W716: =IFERROR(INDEX(Bd_MÉLANGES!$I:$I,MATCH('Bd_FABRICATIONS PF'!$G:$G,Bd_MÉLANGES!$J:$J,0)),0) -> 0 | X716: =IFERROR(INDEX(Bd_MÉLANGES!$K:$K,MATCH(Tab_SuiviOF[[#This Row],[LOT A PRENDRE EN COMPTE]],Bd_MÉLANGES!$J:$J,0)),0) -> 0
A717: 102 | B717: 5 | C717: 42132 | D717: 695946 | E717: 46986 | F717: {=INDEX(Bd_VENTILATIONS!$G:$G,MATCH(Tab_SuiviOF[[#This Row],[REFERENCE]]&Tab_SuiviOF[[#This Row],[BLNO]],Bd_VENTILATIONS!$F:$F&Bd_VENTILATIONS!$D:$D,0))} -> A101M05-6 | G717: =IFERROR(MID(Tab_SuiviOF[[#This Row],[LOT]],1,SEARCH("-",Tab_SuiviOF[[#This Row],[LOT]])-1),Tab_SuiviOF[[#This Row],[LOT]]) -> A101M05 | H717: BRAKE034 | I717: =INDEX(Bd_PF!$E:$E,MATCH(Tab_SuiviOF[[#This Row],[REFERENCE]],Bd_PF!$C:$C,0)) -> Bouillon de légumes SANS GLUTAMATE "BRAKE" | J717: =INDEX(Bd_PF!$D:$D,MATCH(Tab_SuiviOF[[#This Row],[REFERENCE]],Bd_PF!$C:$C,0)) -> SF01390 | K717: =INDEX(Bd_PF!$I:$I,MATCH(Tab_SuiviOF[[#This Row],[REFERENCE]],Bd_PF!$C:$C,0)) -> 1.5 | L717: =INDEX(Bd_PF!$J:$J,MATCH(Tab_SuiviOF[[#This Row],[REFERENCE]],Bd_PF!$C:$C,0)) -> Boite plastique | M717: =INDEX(Bd_PF!$K:$K,MATCH(Tab_SuiviOF[[#This Row],[REFERENCE]],Bd_PF!$C:$C,0)) -> Produit pesé | N717: 43202 | O717: 43202 | P717: =YEAR(Tab_SuiviOF[[#This Row],[DATEFINREVISEE]]) -> 2018 | Q717: =MONTH(Tab_SuiviOF[[#This Row],[DATEFINREVISEE]]) -> 4 | R717: =WEEKNUM(Tab_SuiviOF[[#This Row],[DATEFINREVISEE]],21) -> 15 | S717: 150 | T717: 150 | U717: 150 | V717: =Tab_SuiviOF[[#This Row],[QTEBL]]*Tab_SuiviOF[[#This Row],[POIDS NET]] -> 225 | W717: =IFERROR(INDEX(Bd_MÉLANGES!$I:$I,MATCH('Bd_FABRICATIONS PF'!$G:$G,Bd_MÉLANGES!$J:$J,0)),0) -> 225.9 | X717: =IFERROR(INDEX(Bd_MÉLANGES!$K:$K,MATCH(Tab_SuiviOF[[#This Row],[LOT A PRENDRE EN COMPTE]],Bd_MÉLANGES!$J:$J,0)),0) -> 225.02
A718: 102 | B718: 5 | C718: 42136 | D718: 695999 | E718: 46970 | F718: {=INDEX(Bd_VENTILATIONS!$G:$G,MATCH(Tab_SuiviOF[[#This Row],[REFERENCE]]&Tab_SuiviOF[[#This Row],[BLNO]],Bd_VENTILATIONS!$F:$F&Bd_VENTILATIONS!$D:$D,0))} -> A101M06-6 | G718: =IFERROR(MID(Tab_SuiviOF[[#This Row],[LOT]],1,SEARCH("-",Tab_SuiviOF[[#This Row],[LOT]])-1),Tab_SuiviOF[[#This Row],[LOT]]) -> A101M06 | H718: BRAKE036 | I718: =INDEX(Bd_PF!$E:$E,MATCH(Tab_SuiviOF[[#This Row],[REFERENCE]],Bd_PF!$C:$C,0)) -> Fonds brun lié demi-glace SANS GLUTAMATE 600G "BRAKE" | J718: =INDEX(Bd_PF!$D:$D,MATCH(Tab_SuiviOF[[#This Row],[REFERENCE]],Bd_PF!$C:$C,0)) -> SF01429 | K718: =INDEX(Bd_PF!$I:$I,MATCH(Tab_SuiviOF[[#This Row],[REFERENCE]],Bd_PF!$C:$C,0)) -> 0.6 | L718: =INDEX(Bd_PF!$J:$J,MATCH(Tab_SuiviOF[[#This Row],[REFERENCE]],Bd_PF!$C:$C,0)) -> Boite plastique | M718: =INDEX(Bd_PF!$K:$K,MATCH(Tab_SuiviOF[[#This Row],[REFERENCE]],Bd_PF!$C:$C,0)) -> Produit pesé | N718: 43201 | O718: 43202 | P718: =YEAR(Tab_SuiviOF[[#This Row],[DATEFINREVISEE]]) -> 2018 | Q718: =MONTH(Tab_SuiviOF[[#This Row],[DATEFINREVISEE]]) -> 4 | R718: =WEEKNUM(Tab_SuiviOF[[#This Row],[DATEFINREVISEE]],21) -> 15 | S718: 384 | T718: 384 | U718: 382 | V718: =Tab_SuiviOF[[#This Row],[QTEBL]]*Tab_SuiviOF[[#This Row],[POIDS NET]] -> 229.2 | W718: =IFERROR(INDEX(Bd_MÉLANGES!$I:$I,MATCH('Bd_FABRICATIONS PF'!$G:$G,Bd_MÉLANGES!$J:$J,0)),0) -> 231.7 | X718: =IFERROR(INDEX(Bd_MÉLANGES!$K:$K,MATCH(Tab_SuiviOF[[#This Row],[LOT A PRENDRE EN COMPTE]],Bd_MÉLANGES!$J:$J,0)),0) -> 230.4
A719: 102 | B719: 5 | C719: 42140 | D719: 696057 | E719: 46979 | F719: {=INDEX(Bd_VENTILATIONS!$G:$G,MATCH(Tab_SuiviOF[[#This Row],[REFERENCE]]&Tab_SuiviOF[[#This Row],[BLNO]],Bd_VENTILATIONS!$F:$F&Bd_VENTILATIONS!$D:$D,0))} -> A101M07-6 | G719: =IFERROR(MID(Tab_SuiviOF[[#This Row],[LOT]],1,SEARCH("-",Tab_SuiviOF[[#This Row],[LOT]])-1),Tab_SuiviOF[[#This Row],[LOT]]) -> A101M07 | H719: BRAKE030 | I719: =INDEX(Bd_PF!$E:$E,MATCH(Tab_SuiviOF[[#This Row],[REFERENCE]],Bd_PF!$C:$C,0)) -> Fumet de poisson SANS GLUTAMATE 600G "BRAKE" | J719: =INDEX(Bd_PF!$D:$D,MATCH(Tab_SuiviOF[[#This Row],[REFERENCE]],Bd_PF!$C:$C,0)) -> SF01386 | K719: =INDEX(Bd_PF!$I:$I,MATCH(Tab_SuiviOF[[#This Row],[REFERENCE]],Bd_PF!$C:$C,0)) -> 0.6 | L719: =INDEX(Bd_PF!$J:$J,MATCH(Tab_SuiviOF[[#This Row],[REFERENCE]],Bd_PF!$C:$C,0)) -> Boite plastique | M719: =INDEX(Bd_PF!$K:$K,MATCH(Tab_SuiviOF[[#This Row],[REFERENCE]],Bd_PF!$C:$C,0)) -> Produit pesé | N719: 43202 | O719: 43202 | P719: =YEAR(Tab_SuiviOF[[#This Row],[DATEFINREVISEE]]) -> 2018 | Q719: =MONTH(Tab_SuiviOF[[#This Row],[DATEFINREVISEE]]) -> 4 | R719: =WEEKNUM(Tab_SuiviOF[[#This Row],[DATEFINREVISEE]],21) -> 15 | S719: 700 | T719: 700 | U719: 697 | V719: =Tab_SuiviOF[[#This Row],[QTEBL]]*Tab_SuiviOF[[#This Row],[POIDS NET]] -> 418.2 | W719: =IFERROR(INDEX(Bd_MÉLANGES!$I:$I,MATCH('Bd_FABRICATIONS PF'!$G:$G,Bd_MÉLANGES!$J:$J,0)),0) -> 421.1 | X719: =IFERROR(INDEX(Bd_MÉLANGES!$K:$K,MATCH(Tab_SuiviOF[[#This Row],[LOT A PRENDRE EN COMPTE]],Bd_MÉLANGES!$J:$J,0)),0) -> 420
A720: 102 | B720: 5 | C720: 42303 | D720: 698004 | E720: 46989 | F720: {=INDEX(Bd_VENTILATIONS!$G:$G,MATCH(Tab_SuiviOF[[#This Row],[REFERENCE]]&Tab_SuiviOF[[#This Row],[BLNO]],Bd_VENTILATIONS!$F:$F&Bd_VENTILATIONS!$D:$D,0))} -> A099R03-6 | G720: =IFERROR(MID(Tab_SuiviOF[[#This Row],[LOT]],1,SEARCH("-",Tab_SuiviOF[[#This Row],[LOT]])-1),Tab_SuiviOF[[#This Row],[LOT]]) -> A099R03 | H720: BRAKE008 | I720: =INDEX(Bd_PF!$E:$E,MATCH(Tab_SuiviOF[[#This Row],[REFERENCE]],Bd_PF!$C:$C,0)) -> Roux blanc - boite 1,5 kg | J720: =INDEX(Bd_PF!$D:$D,MATCH(Tab_SuiviOF[[#This Row],[REFERENCE]],Bd_PF!$C:$C,0)) -> SF00843 | K720: =INDEX(Bd_PF!$I:$I,MATCH(Tab_SuiviOF[[#This Row],[REFERENCE]],Bd_PF!$C:$C,0)) -> 1.5 | L720: =INDEX(Bd_PF!$J:$J,MATCH(Tab_SuiviOF[[#This Row],[REFERENCE]],Bd_PF!$C:$C,0)) -> Boite plastique | M720: =INDEX(Bd_PF!$K:$K,MATCH(Tab_SuiviOF[[#This Row],[REFERENCE]],Bd_PF!$C:$C,0)) -> Reconditionnement | N720: 43202 | O720: 43202 | P720: =YEAR(Tab_SuiviOF[[#This Row],[DATEFINREVISEE]]) -> 2018 | Q720: =MONTH(Tab_SuiviOF[[#This Row],[DATEFINREVISEE]]) -> 4 | R720: =WEEKNUM(Tab_SuiviOF[[#This Row],[DATEFINREVISEE]],21) -> 15 | S720: 432 | T720: 432 | U720: 432 | V720: =Tab_SuiviOF[[#This Row],[QTEBL]]*Tab_SuiviOF[[#This Row],[POIDS NET]] -> 648 | W720: =IFERROR(INDEX(Bd_MÉLANGES!$I:$I,MATCH('Bd_FABRICATIONS PF'!$G:$G,Bd_MÉLANGES!$J:$J,0)),0) -> 0 | X720: =IFERROR(INDEX(Bd_MÉLANGES!$K:$K,MATCH(Tab_SuiviOF[[#This Row],[LOT A PRENDRE EN COMPTE]],Bd_MÉLANGES!$J:$J,0)),0) -> 0
A721: 102 | B721: 5 | C721: 42323 | D721: 698355 | E721: 46971 | F721: {=INDEX(Bd_VENTILATIONS!$G:$G,MATCH(Tab_SuiviOF[[#This Row],[REFERENCE]]&Tab_SuiviOF[[#This Row],[BLNO]],Bd_VENTILATIONS!$F:$F&Bd_VENTILATIONS!$D:$D,0))} -> A102R01-1 | G721: =IFERROR(MID(Tab_SuiviOF[[#This Row],[LOT]],1,SEARCH("-",Tab_SuiviOF[[#This Row],[LOT]])-1),Tab_SuiviOF[[#This Row],[LOT]]) -> A102R01 | H721: TOL1066 | I721: =INDEX(Bd_PF!$E:$E,MATCH(Tab_SuiviOF[[#This Row],[REFERENCE]],Bd_PF!$C:$C,0)) -> Protipulse 550 g | J721: =INDEX(Bd_PF!$D:$D,MATCH(Tab_SuiviOF[[#This Row],[REFERENCE]],Bd_PF!$C:$C,0)) -> XMP866 | K721: =INDEX(Bd_PF!$I:$I,MATCH(Tab_SuiviOF[[#This Row],[REFERENCE]],Bd_PF!$C:$C,0)) -> 0.55 | L721: =INDEX(Bd_PF!$J:$J,MATCH(Tab_SuiviOF[[#This Row],[REFERENCE]],Bd_PF!$C:$C,0)) -> OTS | M721: =INDEX(Bd_PF!$K:$K,MATCH(Tab_SuiviOF[[#This Row],[REFERENCE]],Bd_PF!$C:$C,0)) -> Reconditionnement | N721: 43202 | O721: 43202 | P721: =YEAR(Tab_SuiviOF[[#This Row],[DATEFINREVISEE]]) -> 2018 | Q721: =MONTH(Tab_SuiviOF[[#This Row],[DATEFINREVISEE]]) -> 4 | R721: =WEEKNUM(Tab_SuiviOF[[#This Row],[DATEFINREVISEE]],21) -> 15 | S721: 854 | T721: 854 | U721: 851 | V721: =Tab_SuiviOF[[#This Row],[QTEBL]]*Tab_SuiviOF[[#This Row],[POIDS NET]] -> 468.05 | W721: =IFERROR(INDEX(Bd_MÉLANGES!$I:$I,MATCH('Bd_FABRICATIONS PF'!$G:$G,Bd_MÉLANGES!$J:$J,0)),0) -> 0 | X721: =IFERROR(INDEX(Bd_MÉLANGES!$K:$K,MATCH(Tab_SuiviOF[[#This Row],[LOT A PRENDRE EN COMPTE]],Bd_MÉLANGES!$J:$J,0)),0) -> 0
A722: 102 | B722: 5 | C722: 42324 | D722: 698362 | E722: 46978 | F722: {=INDEX(Bd_VENTILATIONS!$G:$G,MATCH(Tab_SuiviOF[[#This Row],[REFERENCE]]&Tab_SuiviOF[[#This Row],[BLNO]],Bd_VENTILATIONS!$F:$F&Bd_VENTILATIONS!$D:$D,0))} -> A102R02-1 | G722: =IFERROR(MID(Tab_SuiviOF[[#This Row],[LOT]],1,SEARCH("-",Tab_SuiviOF[[#This Row],[LOT]])-1),Tab_SuiviOF[[#This Row],[LOT]]) -> A102R02 | H722: TOL1066 | I722: =INDEX(Bd_PF!$E:$E,MATCH(Tab_SuiviOF[[#This Row],[REFERENCE]],Bd_PF!$C:$C,0)) -> Protipulse 550 g | J722: =INDEX(Bd_PF!$D:$D,MATCH(Tab_SuiviOF[[#This Row],[REFERENCE]],Bd_PF!$C:$C,0)) -> XMP866 | K722: =INDEX(Bd_PF!$I:$I,MATCH(Tab_SuiviOF[[#This Row],[REFERENCE]],Bd_PF!$C:$C,0)) -> 0.55 | L722: =INDEX(Bd_PF!$J:$J,MATCH(Tab_SuiviOF[[#This Row],[REFERENCE]],Bd_PF!$C:$C,0)) -> OTS | M722: =INDEX(Bd_PF!$K:$K,MATCH(Tab_SuiviOF[[#This Row],[REFERENCE]],Bd_PF!$C:$C,0)) -> Reconditionnement | N722: 43202 | O722: 43202 | P722: =YEAR(Tab_SuiviOF[[#This Row],[DATEFINREVISEE]]) -> 2018 | Q722: =MONTH(Tab_SuiviOF[[#This Row],[DATEFINREVISEE]]) -> 4 | R722: =WEEKNUM(Tab_SuiviOF[[#This Row],[DATEFINREVISEE]],21) -> 15 | S722: 854 | T722: 854 | U722: 846 | V722: =Tab_SuiviOF[[#This Row],[QTEBL]]*Tab_SuiviOF[[#This Row],[POIDS NET]] -> 465.3 | W722: =IFERROR(INDEX(Bd_MÉLANGES!$I:$I,MATCH('Bd_FABRICATIONS PF'!$G:$G,Bd_MÉLANGES!$J:$J,0)),0) -> 0 | X722: =IFERROR(INDEX(Bd_MÉLANGES!$K:$K,MATCH(Tab_SuiviOF[[#This Row],[LOT A PRENDRE EN COMPTE]],Bd_MÉLANGES!$J:$J,0)),0) -> 0
A723: 102 | B723: 5 | C723: 42336 | D723: 698429 | E723: 46983 | F723: {=INDEX(Bd_VENTILATIONS!$G:$G,MATCH(Tab_SuiviOF[[#This Row],[REFERENCE]]&Tab_SuiviOF[[#This Row],[BLNO]],Bd_VENTILATIONS!$F:$F&Bd_VENTILATIONS!$D:$D,0))} -> A102R03-1 | G723: =IFERROR(MID(Tab_SuiviOF[[#This Row],[LOT]],1,SEARCH("-",Tab_SuiviOF[[#This Row],[LOT]])-1),Tab_SuiviOF[[#This Row],[LOT]]) -> A102R03 | H723: TOL1066 | I723: =INDEX(Bd_PF!$E:$E,MATCH(Tab_SuiviOF[[#This Row],[REFERENCE]],Bd_PF!$C:$C,0)) -> Protipulse 550 g | J723: =INDEX(Bd_PF!$D:$D,MATCH(Tab_SuiviOF[[#This Row],[REFERENCE]],Bd_PF!$C:$C,0)) -> XMP866 | K723: =INDEX(Bd_PF!$I:$I,MATCH(Tab_SuiviOF[[#This Row],[REFERENCE]],Bd_PF!$C:$C,0)) -> 0.55 | L723: =INDEX(Bd_PF!$J:$J,MATCH(Tab_SuiviOF[[#This Row],[REFERENCE]],Bd_PF!$C:$C,0)) -> OTS | M723: =INDEX(Bd_PF!$K:$K,MATCH(Tab_SuiviOF[[#This Row],[REFERENCE]],Bd_PF!$C:$C,0)) -> Reconditionnement | N723: 43202 | O723: 43202 | P723: =YEAR(Tab_SuiviOF[[#This Row],[DATEFINREVISEE]]) -> 2018 | Q723: =MONTH(Tab_SuiviOF[[#This Row],[DATEFINREVISEE]]) -> 4 | R723: =WEEKNUM(Tab_SuiviOF[[#This Row],[DATEFINREVISEE]],21) -> 15 | S723: 854 | T723: 854 | U723: 846 | V723: =Tab_SuiviOF[[#This Row],[QTEBL]]*Tab_SuiviOF[[#This Row],[POIDS NET]] -> 465.3 | W723: =IFERROR(INDEX(Bd_MÉLANGES!$I:$I,MATCH('Bd_FABRICATIONS PF'!$G:$G,Bd_MÉLANGES!$J:$J,0)),0) -> 0 | X723: =IFERROR(INDEX(Bd_MÉLANGES!$K:$K,MATCH(Tab_SuiviOF[[#This Row],[LOT A PRENDRE EN COMPTE]],Bd_MÉLANGES!$J:$J,0)),0) -> 0
A724: 102 | B724: 5 | C724: 42382 | D724: 698823 | E724: 46976 | F724: {=INDEX(Bd_VENTILATIONS!$G:$G,MATCH(Tab_SuiviOF[[#This Row],[REFERENCE]]&Tab_SuiviOF[[#This Row],[BLNO]],Bd_VENTILATIONS!$F:$F&Bd_VENTILATIONS!$D:$D,0))} -> A088M02 | G724: =IFERROR(MID(Tab_SuiviOF[[#This Row],[LOT]],1,SEARCH("-",Tab_SuiviOF[[#This Row],[LOT]])-1),Tab_SuiviOF[[#This Row],[LOT]]) -> A088M02 | H724: ED06 | I724: =INDEX(Bd_PF!$E:$E,MATCH(Tab_SuiviOF[[#This Row],[REFERENCE]],Bd_PF!$C:$C,0)) -> HYDRA CLEAR ED Orange V4 | J724: =INDEX(Bd_PF!$D:$D,MATCH(Tab_SuiviOF[[#This Row],[REFERENCE]],Bd_PF!$C:$C,0)) -> XMP869 | K724: =INDEX(Bd_PF!$I:$I,MATCH(Tab_SuiviOF[[#This Row],[REFERENCE]],Bd_PF!$C:$C,0)) -> 0 | L724: =INDEX(Bd_PF!$J:$J,MATCH(Tab_SuiviOF[[#This Row],[REFERENCE]],Bd_PF!$C:$C,0)) -> Pesée/mélange | M724: Reconditionnement | N724: 43202 | O724: 43202 | P724: =YEAR(Tab_SuiviOF[[#This Row],[DATEFINREVISEE]]) -> 2018 | Q724: =MONTH(Tab_SuiviOF[[#This Row],[DATEFINREVISEE]]) -> 4 | R724: =WEEKNUM(Tab_SuiviOF[[#This Row],[DATEFINREVISEE]],21) -> 15 | S724: 100 | T724: 100 | U724: 100.26 | V724: =Tab_SuiviOF[[#This Row],[QTEBL]]*Tab_SuiviOF[[#This Row],[POIDS NET]] -> 0 | W724: =IFERROR(INDEX(Bd_MÉLANGES!$I:$I,MATCH('Bd_FABRICATIONS PF'!$G:$G,Bd_MÉLANGES!$J:$J,0)),0) -> 0 | X724: =IFERROR(INDEX(Bd_MÉLANGES!$K:$K,MATCH(Tab_SuiviOF[[#This Row],[LOT A PRENDRE EN COMPTE]],Bd_MÉLANGES!$J:$J,0)),0) -> 0
A725: 102 | B725: 5 | C725: 42384 | D725: 698868 | E725: 46985 | F725: {=INDEX(Bd_VENTILATIONS!$G:$G,MATCH(Tab_SuiviOF[[#This Row],[REFERENCE]]&Tab_SuiviOF[[#This Row],[BLNO]],Bd_VENTILATIONS!$F:$F&Bd_VENTILATIONS!$D:$D,0))} -> A102R04-1 | G725: =IFERROR(MID(Tab_SuiviOF[[#This Row],[LOT]],1,SEARCH("-",Tab_SuiviOF[[#This Row],[LOT]])-1),Tab_SuiviOF[[#This Row],[LOT]]) -> A102R04 | H725: TOL1066 | I725: =INDEX(Bd_PF!$E:$E,MATCH(Tab_SuiviOF[[#This Row],[REFERENCE]],Bd_PF!$C:$C,0)) -> Protipulse 550 g | J725: =INDEX(Bd_PF!$D:$D,MATCH(Tab_SuiviOF[[#This Row],[REFERENCE]],Bd_PF!$C:$C,0)) -> XMP866 | K725: =INDEX(Bd_PF!$I:$I,MATCH(Tab_SuiviOF[[#This Row],[REFERENCE]],Bd_PF!$C:$C,0)) -> 0.55 | L725: =INDEX(Bd_PF!$J:$J,MATCH(Tab_SuiviOF[[#This Row],[REFERENCE]],Bd_PF!$C:$C,0)) -> OTS | M725: =INDEX(Bd_PF!$K:$K,MATCH(Tab_SuiviOF[[#This Row],[REFERENCE]],Bd_PF!$C:$C,0)) -> Reconditionnement | N725: 43202 | O725: 43202 | P725: =YEAR(Tab_SuiviOF[[#This Row],[DATEFINREVISEE]]) -> 2018 | Q725: =MONTH(Tab_SuiviOF[[#This Row],[DATEFINREVISEE]]) -> 4 | R725: =WEEKNUM(Tab_SuiviOF[[#This Row],[DATEFINREVISEE]],21) -> 15 | S725: 854 | T725: 854 | U725: 852 | V725: =Tab_SuiviOF[[#This Row],[QTEBL]]*Tab_SuiviOF[[#This Row],[POIDS NET]] -> 468.6 | W725: =IFERROR(INDEX(Bd_MÉLANGES!$I:$I,MATCH('Bd_FABRICATIONS PF'!$G:$G,Bd_MÉLANGES!$J:$J,0)),0) -> 0 | X725: =IFERROR(INDEX(Bd_MÉLANGES!$K:$K,MATCH(Tab_SuiviOF[[#This Row],[LOT A PRENDRE EN COMPTE]],Bd_MÉLANGES!$J:$J,0)),0) -> 0
A726: 102 | B726: 5 | C726: 42388 | D726: 698918 | E726: 46988 | F726: {=INDEX(Bd_VENTILATIONS!$G:$G,MATCH(Tab_SuiviOF[[#This Row],[REFERENCE]]&Tab_SuiviOF[[#This Row],[BLNO]],Bd_VENTILATIONS!$F:$F&Bd_VENTILATIONS!$D:$D,0))} -> AS15PU01-7 | G726: =IFERROR(MID(Tab_SuiviOF[[#This Row],[LOT]],1,SEARCH("-",Tab_SuiviOF[[#This Row],[LOT]])-1),Tab_SuiviOF[[#This Row],[LOT]]) -> AS15PU01 | H726: EDE104 | I726: =INDEX(Bd_PF!$E:$E,MATCH(Tab_SuiviOF[[#This Row],[REFERENCE]],Bd_PF!$C:$C,0)) -> Purée grand-mère salée sac 15 kg | J726: =INDEX(Bd_PF!$D:$D,MATCH(Tab_SuiviOF[[#This Row],[REFERENCE]],Bd_PF!$C:$C,0)) -> SF01288 | K726: =INDEX(Bd_PF!$I:$I,MATCH(Tab_SuiviOF[[#This Row],[REFERENCE]],Bd_PF!$C:$C,0)) -> 15 | L726: =INDEX(Bd_PF!$J:$J,MATCH(Tab_SuiviOF[[#This Row],[REFERENCE]],Bd_PF!$C:$C,0)) -> Purée | M726: =INDEX(Bd_PF!$K:$K,MATCH(Tab_SuiviOF[[#This Row],[REFERENCE]],Bd_PF!$C:$C,0)) -> Purée | N726: 43202 | O726: 43202 | P726: =YEAR(Tab_SuiviOF[[#This Row],[DATEFINREVISEE]]) -> 2018 | Q726: =MONTH(Tab_SuiviOF[[#This Row],[DATEFINREVISEE]]) -> 4 | R726: =WEEKNUM(Tab_SuiviOF[[#This Row],[DATEFINREVISEE]],21) -> 15 | S726: 340 | T726: 340 | U726: 339 | V726: =Tab_SuiviOF[[#This Row],[QTEBL]]*Tab_SuiviOF[[#This Row],[POIDS NET]] -> 5085 | W726: =IFERROR(INDEX(Bd_MÉLANGES!$I:$I,MATCH('Bd_FABRICATIONS PF'!$G:$G,Bd_MÉLANGES!$J:$J,0)),0) -> 0 | X726: =IFERROR(INDEX(Bd_MÉLANGES!$K:$K,MATCH(Tab_SuiviOF[[#This Row],[LOT A PRENDRE EN COMPTE]],Bd_MÉLANGES!$J:$J,0)),0) -> 0
A727: 102 | B727: 5 | C727: 42252 | D727: 697259 | E727: 47248 | F727: {=INDEX(Bd_VENTILATIONS!$G:$G,MATCH(Tab_SuiviOF[[#This Row],[REFERENCE]]&Tab_SuiviOF[[#This Row],[BLNO]],Bd_VENTILATIONS!$F:$F&Bd_VENTILATIONS!$D:$D,0))} -> A103M01-3 | G727: =IFERROR(MID(Tab_SuiviOF[[#This Row],[LOT]],1,SEARCH("-",Tab_SuiviOF[[#This Row],[LOT]])-1),Tab_SuiviOF[[#This Row],[LOT]]) -> A103M01 | H727: TOL375 | I727: =INDEX(Bd_PF!$E:$E,MATCH(Tab_SuiviOF[[#This Row],[REFERENCE]],Bd_PF!$C:$C,0)) -> Eau gélifiée parfum fruits rouges sucré sachet 27g "Tonus Line" | J727: =INDEX(Bd_PF!$D:$D,MATCH(Tab_SuiviOF[[#This Row],[REFERENCE]],Bd_PF!$C:$C,0)) -> SF00717 | K727: =INDEX(Bd_PF!$I:$I,MATCH(Tab_SuiviOF[[#This Row],[REFERENCE]],Bd_PF!$C:$C,0)) -> 0.027 | L727: =INDEX(Bd_PF!$J:$J,MATCH(Tab_SuiviOF[[#This Row],[REFERENCE]],Bd_PF!$C:$C,0)) -> Rovema | M727: =INDEX(Bd_PF!$K:$K,MATCH(Tab_SuiviOF[[#This Row],[REFERENCE]],Bd_PF!$C:$C,0)) -> Produit pesé | N727: 43206 | O727: 43206 | P727: =YEAR(Tab_SuiviOF[[#This Row],[DATEFINREVISEE]]) -> 2018 | Q727: =MONTH(Tab_SuiviOF[[#This Row],[DATEFINREVISEE]]) -> 4 | R727: =WEEKNUM(Tab_SuiviOF[[#This Row],[DATEFINREVISEE]],21) -> 16 | S727: 3500 | T727: 3500 | U727: 3365 | V727: =Tab_SuiviOF[[#This Row],[QTEBL]]*Tab_SuiviOF[[#This Row],[POIDS NET]] -> 90.855 | W727: =IFERROR(INDEX(Bd_MÉLANGES!$I:$I,MATCH('Bd_FABRICATIONS PF'!$G:$G,Bd_MÉLANGES!$J:$J,0)),0) -> 94.1 | X727: =IFERROR(INDEX(Bd_MÉLANGES!$K:$K,MATCH(Tab_SuiviOF[[#This Row],[LOT A PRENDRE EN COMPTE]],Bd_MÉLANGES!$J:$J,0)),0) -> 93.99
A728: 102 | B728: 5 | C728: 42325 | D728: 698369 | E728: 47003 | F728: {=INDEX(Bd_VENTILATIONS!$G:$G,MATCH(Tab_SuiviOF[[#This Row],[REFERENCE]]&Tab_SuiviOF[[#This Row],[BLNO]],Bd_VENTILATIONS!$F:$F&Bd_VENTILATIONS!$D:$D,0))} -> A088M05-2 | G728: =IFERROR(MID(Tab_SuiviOF[[#This Row],[LOT]],1,SEARCH("-",Tab_SuiviOF[[#This Row],[LOT]])-1),Tab_SuiviOF[[#This Row],[LOT]]) -> A088M05 | H728: TOL983 | I728: =INDEX(Bd_PF!$E:$E,MATCH(Tab_SuiviOF[[#This Row],[REFERENCE]],Bd_PF!$C:$C,0)) -> Gel' Ami - sac 1 kg - "Tonus Line" | J728: =INDEX(Bd_PF!$D:$D,MATCH(Tab_SuiviOF[[#This Row],[REFERENCE]],Bd_PF!$C:$C,0)) -> SF01122 | K728: =INDEX(Bd_PF!$I:$I,MATCH(Tab_SuiviOF[[#This Row],[REFERENCE]],Bd_PF!$C:$C,0)) -> 1 | L728: =INDEX(Bd_PF!$J:$J,MATCH(Tab_SuiviOF[[#This Row],[REFERENCE]],Bd_PF!$C:$C,0)) -> Tecse | M728: =INDEX(Bd_PF!$K:$K,MATCH(Tab_SuiviOF[[#This Row],[REFERENCE]],Bd_PF!$C:$C,0)) -> Produit pesé | N728: 43206 | O728: 43206 | P728: =YEAR(Tab_SuiviOF[[#This Row],[DATEFINREVISEE]]) -> 2018 | Q728: =MONTH(Tab_SuiviOF[[#This Row],[DATEFINREVISEE]]) -> 4 | R728: =WEEKNUM(Tab_SuiviOF[[#This Row],[DATEFINREVISEE]],21) -> 16 | S728: 423 | T728: 423 | U728: 420 | V728: =Tab_SuiviOF[[#This Row],[QTEBL]]*Tab_SuiviOF[[#This Row],[POIDS NET]] -> 420 | W728: =IFERROR(INDEX(Bd_MÉLANGES!$I:$I,MATCH('Bd_FABRICATIONS PF'!$G:$G,Bd_MÉLANGES!$J:$J,0)),0) -> 424.3 | X728: =IFERROR(INDEX(Bd_MÉLANGES!$K:$K,MATCH(Tab_SuiviOF[[#This Row],[LOT A PRENDRE EN COMPTE]],Bd_MÉLANGES!$J:$J,0)),0) -> 423
A729: 102 | B729: 5 | C729: 42326 | D729: 698374 | E729: 47001 | F729: {=INDEX(Bd_VENTILATIONS!$G:$G,MATCH(Tab_SuiviOF[[#This Row],[REFERENCE]]&Tab_SuiviOF[[#This Row],[BLNO]],Bd_VENTILATIONS!$F:$F&Bd_VENTILATIONS!$D:$D,0))} -> A088M06-2 | G729: =IFERROR(MID(Tab_SuiviOF[[#This Row],[LOT]],1,SEARCH("-",Tab_SuiviOF[[#This Row],[LOT]])-1),Tab_SuiviOF[[#This Row],[LOT]]) -> A088M06 | H729: TOL983 | I729: =INDEX(Bd_PF!$E:$E,MATCH(Tab_SuiviOF[[#This Row],[REFERENCE]],Bd_PF!$C:$C,0)) -> Gel' Ami - sac 1 kg - "Tonus Line" | J729: =INDEX(Bd_PF!$D:$D,MATCH(Tab_SuiviOF[[#This Row],[REFERENCE]],Bd_PF!$C:$C,0)) -> SF01122 | K729: =INDEX(Bd_PF!$I:$I,MATCH(Tab_SuiviOF[[#This Row],[REFERENCE]],Bd_PF!$C:$C,0)) -> 1 | L729: =INDEX(Bd_PF!$J:$J,MATCH(Tab_SuiviOF[[#This Row],[REFERENCE]],Bd_PF!$C:$C,0)) -> Tecse | M729: =INDEX(Bd_PF!$K:$K,MATCH(Tab_SuiviOF[[#This Row],[REFERENCE]],Bd_PF!$C:$C,0)) -> Produit pesé | N729: 43206 | O729: 43206 | P729: =YEAR(Tab_SuiviOF[[#This Row],[DATEFINREVISEE]]) -> 2018 | Q729: =MONTH(Tab_SuiviOF[[#This Row],[DATEFINREVISEE]]) -> 4 | R729: =WEEKNUM(Tab_SuiviOF[[#This Row],[DATEFINREVISEE]],21) -> 16 | S729: 423 | T729: 423 | U729: 420 | V729: =Tab_SuiviOF[[#This Row],[QTEBL]]*Tab_SuiviOF[[#This Row],[POIDS NET]] -> 420 | W729: =IFERROR(INDEX(Bd_MÉLANGES!$I:$I,MATCH('Bd_FABRICATIONS PF'!$G:$G,Bd_MÉLANGES!$J:$J,0)),0) -> 423.9 | X729: =IFERROR(INDEX(Bd_MÉLANGES!$K:$K,MATCH(Tab_SuiviOF[[#This Row],[LOT A PRENDRE EN COMPTE]],Bd_MÉLANGES!$J:$J,0)),0) -> 423
A730: 102 | B730: 5 | C730: 42327 | D730: 698379 | E730: 47006 | F730: {=INDEX(Bd_VENTILATIONS!$G:$G,MATCH(Tab_SuiviOF[[#This Row],[REFERENCE]]&Tab_SuiviOF[[#This Row],[BLNO]],Bd_VENTILATIONS!$F:$F&Bd_VENTILATIONS!$D:$D,0))} -> A088M07-2 | G730: =IFERROR(MID(Tab_SuiviOF[[#This Row],[LOT]],1,SEARCH("-",Tab_SuiviOF[[#This Row],[LOT]])-1),Tab_SuiviOF[[#This Row],[LOT]]) -> A088M07 | H730: TOL983 | I730: =INDEX(Bd_PF!$E:$E,MATCH(Tab_SuiviOF[[#This Row],[REFERENCE]],Bd_PF!$C:$C,0)) -> Gel' Ami - sac 1 kg - "Tonus Line" | J730: =INDEX(Bd_PF!$D:$D,MATCH(Tab_SuiviOF[[#This Row],[REFERENCE]],Bd_PF!$C:$C,0)) -> SF01122 | K730: =INDEX(Bd_PF!$I:$I,MATCH(Tab_SuiviOF[[#This Row],[REFERENCE]],Bd_PF!$C:$C,0)) -> 1 | L730: =INDEX(Bd_PF!$J:$J,MATCH(Tab_SuiviOF[[#This Row],[REFERENCE]],Bd_PF!$C:$C,0)) -> Tecse | M730: =INDEX(Bd_PF!$K:$K,MATCH(Tab_SuiviOF[[#This Row],[REFERENCE]],Bd_PF!$C:$C,0)) -> Produit pesé | N730: 43206 | O730: 43206 | P730: =YEAR(Tab_SuiviOF[[#This Row],[DATEFINREVISEE]]) -> 2018 | Q730: =MONTH(Tab_SuiviOF[[#This Row],[DATEFINREVISEE]]) -> 4 | R730: =WEEKNUM(Tab_SuiviOF[[#This Row],[DATEFINREVISEE]],21) -> 16 | S730: 423 | T730: 423 | U730: 420 | V730: =Tab_SuiviOF[[#This Row],[QTEBL]]*Tab_SuiviOF[[#This Row],[POIDS NET]] -> 420 | W730: =IFERROR(INDEX(Bd_MÉLANGES!$I:$I,MATCH('Bd_FABRICATIONS PF'!$G:$G,Bd_MÉLANGES!$J:$J,0)),0) -> 435.1 | X730: =IFERROR(INDEX(Bd_MÉLANGES!$K:$K,MATCH(Tab_SuiviOF[[#This Row],[LOT A PRENDRE EN COMPTE]],Bd_MÉLANGES!$J:$J,0)),0) -> 423
A731: 102 | B731: 5 | C731: 42328 | D731: 698384 | E731: 47011 | F731: {=INDEX(Bd_VENTILATIONS!$G:$G,MATCH(Tab_SuiviOF[[#This Row],[REFERENCE]]&Tab_SuiviOF[[#This Row],[BLNO]],Bd_VENTILATIONS!$F:$F&Bd_VENTILATIONS!$D:$D,0))} -> A095M02-2 | G731: =IFERROR(MID(Tab_SuiviOF[[#This Row],[LOT]],1,SEARCH("-",Tab_SuiviOF[[#This Row],[LOT]])-1),Tab_SuiviOF[[#This Row],[LOT]]) -> A095M02 | H731: TOL983 | I731: =INDEX(Bd_PF!$E:$E,MATCH(Tab_SuiviOF[[#This Row],[REFERENCE]],Bd_PF!$C:$C,0)) -> Gel' Ami - sac 1 kg - "Tonus Line" | J731: =INDEX(Bd_PF!$D:$D,MATCH(Tab_SuiviOF[[#This Row],[REFERENCE]],Bd_PF!$C:$C,0)) -> SF01122 | K731: =INDEX(Bd_PF!$I:$I,MATCH(Tab_SuiviOF[[#This Row],[REFERENCE]],Bd_PF!$C:$C,0)) -> 1 | L731: =INDEX(Bd_PF!$J:$J,MATCH(Tab_SuiviOF[[#This Row],[REFERENCE]],Bd_PF!$C:$C,0)) -> Tecse | M731: =INDEX(Bd_PF!$K:$K,MATCH(Tab_SuiviOF[[#This Row],[REFERENCE]],Bd_PF!$C:$C,0)) -> Produit pesé | N731: 43206 | O731: 43206 | P731: =YEAR(Tab_SuiviOF[[#This Row],[DATEFINREVISEE]]) -> 2018 | Q731: =MONTH(Tab_SuiviOF[[#This Row],[DATEFINREVISEE]]) -> 4 | R731: =WEEKNUM(Tab_SuiviOF[[#This Row],[DATEFINREVISEE]],21) -> 16 | S731: 423 | T731: 423 | U731: 421 | V731: =Tab_SuiviOF[[#This Row],[QTEBL]]*Tab_SuiviOF[[#This Row],[POIDS NET]] -> 421 | W731: =IFERROR(INDEX(Bd_MÉLANGES!$I:$I,MATCH('Bd_FABRICATIONS PF'!$G:$G,Bd_MÉLANGES!$J:$J,0)),0) -> 410.9 | X731: =IFERROR(INDEX(Bd_MÉLANGES!$K:$K,MATCH(Tab_SuiviOF[[#This Row],[LOT A PRENDRE EN COMPTE]],Bd_MÉLANGES!$J:$J,0)),0) -> 423
A732: 102 | B732: 5 | C732: 42329 | D732: 698389 | E732: 47007 | F732: {=INDEX(Bd_VENTILATIONS!$G:$G,MATCH(Tab_SuiviOF[[#This Row],[REFERENCE]]&Tab_SuiviOF[[#This Row],[BLNO]],Bd_VENTILATIONS!$F:$F&Bd_VENTILATIONS!$D:$D,0))} -> A095M03-1 | G732: =IFERROR(MID(Tab_SuiviOF[[#This Row],[LOT]],1,SEARCH("-",Tab_SuiviOF[[#This Row],[LOT]])-1),Tab_SuiviOF[[#This Row],[LOT]]) -> A095M03 | H732: TOL191 | I732: =INDEX(Bd_PF!$E:$E,MATCH(Tab_SuiviOF[[#This Row],[REFERENCE]],Bd_PF!$C:$C,0)) -> Gel Ami bte 0.800 kg "TOL" | J732: =INDEX(Bd_PF!$D:$D,MATCH(Tab_SuiviOF[[#This Row],[REFERENCE]],Bd_PF!$C:$C,0)) -> SF01122 | K732: =INDEX(Bd_PF!$I:$I,MATCH(Tab_SuiviOF[[#This Row],[REFERENCE]],Bd_PF!$C:$C,0)) -> 0.8 | L732: =INDEX(Bd_PF!$J:$J,MATCH(Tab_SuiviOF[[#This Row],[REFERENCE]],Bd_PF!$C:$C,0)) -> OTS | M732: =INDEX(Bd_PF!$K:$K,MATCH(Tab_SuiviOF[[#This Row],[REFERENCE]],Bd_PF!$C:$C,0)) -> Produit pesé | N732: 43206 | O732: 43206 | P732: =YEAR(Tab_SuiviOF[[#This Row],[DATEFINREVISEE]]) -> 2018 | Q732: =MONTH(Tab_SuiviOF[[#This Row],[DATEFINREVISEE]]) -> 4 | R732: =WEEKNUM(Tab_SuiviOF[[#This Row],[DATEFINREVISEE]],21) -> 16 | S732: 529 | T732: 529 | U732: 530 | V732: =Tab_SuiviOF[[#This Row],[QTEBL]]*Tab_SuiviOF[[#This Row],[POIDS NET]] -> 424 | W732: =IFERROR(INDEX(Bd_MÉLANGES!$I:$I,MATCH('Bd_FABRICATIONS PF'!$G:$G,Bd_MÉLANGES!$J:$J,0)),0) -> 423.5 | X732: =IFERROR(INDEX(Bd_MÉLANGES!$K:$K,MATCH(Tab_SuiviOF[[#This Row],[LOT A PRENDRE EN COMPTE]],Bd_MÉLANGES!$J:$J,0)),0) -> 423
A733: 102 | B733: 5 | C733: 42330 | D733: 698396 | E733: 47010 | F733: {=INDEX(Bd_VENTILATIONS!$G:$G,MATCH(Tab_SuiviOF[[#This Row],[REFERENCE]]&Tab_SuiviOF[[#This Row],[BLNO]],Bd_VENTILATIONS!$F:$F&Bd_VENTILATIONS!$D:$D,0))} -> A095M04-1 | G733: =IFERROR(MID(Tab_SuiviOF[[#This Row],[LOT]],1,SEARCH("-",Tab_SuiviOF[[#This Row],[LOT]])-1),Tab_SuiviOF[[#This Row],[LOT]]) -> A095M04 | H733: TOL191 | I733: =INDEX(Bd_PF!$E:$E,MATCH(Tab_SuiviOF[[#This Row],[REFERENCE]],Bd_PF!$C:$C,0)) -> Gel Ami bte 0.800 kg "TOL" | J733: =INDEX(Bd_PF!$D:$D,MATCH(Tab_SuiviOF[[#This Row],[REFERENCE]],Bd_PF!$C:$C,0)) -> SF01122 | K733: =INDEX(Bd_PF!$I:$I,MATCH(Tab_SuiviOF[[#This Row],[REFERENCE]],Bd_PF!$C:$C,0)) -> 0.8 | L733: =INDEX(Bd_PF!$J:$J,MATCH(Tab_SuiviOF[[#This Row],[REFERENCE]],Bd_PF!$C:$C,0)) -> OTS | M733: =INDEX(Bd_PF!$K:$K,MATCH(Tab_SuiviOF[[#This Row],[REFERENCE]],Bd_PF!$C:$C,0)) -> Produit pesé | N733: 43206 | O733: 43206 | P733: =YEAR(Tab_SuiviOF[[#This Row],[DATEFINREVISEE]]) -> 2018 | Q733: =MONTH(Tab_SuiviOF[[#This Row],[DATEFINREVISEE]]) -> 4 | R733: =WEEKNUM(Tab_SuiviOF[[#This Row],[DATEFINREVISEE]],21) -> 16 | S733: 529 | T733: 529 | U733: 522 | V733: =Tab_SuiviOF[[#This Row],[QTEBL]]*Tab_SuiviOF[[#This Row],[POIDS NET]] -> 417.6 | W733: =IFERROR(INDEX(Bd_MÉLANGES!$I:$I,MATCH('Bd_FABRICATIONS PF'!$G:$G,Bd_MÉLANGES!$J:$J,0)),0) -> 423.9 | X733: =IFERROR(INDEX(Bd_MÉLANGES!$K:$K,MATCH(Tab_SuiviOF[[#This Row],[LOT A PRENDRE EN COMPTE]],Bd_MÉLANGES!$J:$J,0)),0) -> 423
A734: 102 | B734: 5 | C734: 42331 | D734: 698403 | E734: 47015 | F734: {=INDEX(Bd_VENTILATIONS!$G:$G,MATCH(Tab_SuiviOF[[#This Row],[REFERENCE]]&Tab_SuiviOF[[#This Row],[BLNO]],Bd_VENTILATIONS!$F:$F&Bd_VENTILATIONS!$D:$D,0))} -> A095M05-1 | G734: =IFERROR(MID(Tab_SuiviOF[[#This Row],[LOT]],1,SEARCH("-",Tab_SuiviOF[[#This Row],[LOT]])-1),Tab_SuiviOF[[#This Row],[LOT]]) -> A095M05 | H734: TOL191 | I734: =INDEX(Bd_PF!$E:$E,MATCH(Tab_SuiviOF[[#This Row],[REFERENCE]],Bd_PF!$C:$C,0)) -> Gel Ami bte 0.800 kg "TOL" | J734: =INDEX(Bd_PF!$D:$D,MATCH(Tab_SuiviOF[[#This Row],[REFERENCE]],Bd_PF!$C:$C,0)) -> SF01122 | K734: =INDEX(Bd_PF!$I:$I,MATCH(Tab_SuiviOF[[#This Row],[REFERENCE]],Bd_PF!$C:$C,0)) -> 0.8 | L734: =INDEX(Bd_PF!$J:$J,MATCH(Tab_SuiviOF[[#This Row],[REFERENCE]],Bd_PF!$C:$C,0)) -> OTS | M734: =INDEX(Bd_PF!$K:$K,MATCH(Tab_SuiviOF[[#This Row],[REFERENCE]],Bd_PF!$C:$C,0)) -> Produit pesé | N734: 43206 | O734: 43206 | P734: =YEAR(Tab_SuiviOF[[#This Row],[DATEFINREVISEE]]) -> 2018 | Q734: =MONTH(Tab_SuiviOF[[#This Row],[DATEFINREVISEE]]) -> 4 | R734: =WEEKNUM(Tab_SuiviOF[[#This Row],[DATEFINREVISEE]],21) -> 16 | S734: 529 | T734: 529 | U734: 547 | V734: =Tab_SuiviOF[[#This Row],[QTEBL]]*Tab_SuiviOF[[#This Row],[POIDS NET]] -> 437.6 | W734: =IFERROR(INDEX(Bd_MÉLANGES!$I:$I,MATCH('Bd_FABRICATIONS PF'!$G:$G,Bd_MÉLANGES!$J:$J,0)),0) -> 434.5 | X734: =IFERROR(INDEX(Bd_MÉLANGES!$K:$K,MATCH(Tab_SuiviOF[[#This Row],[LOT A PRENDRE EN COMPTE]],Bd_MÉLANGES!$J:$J,0)),0) -> 423
A735: 102 | B735: 5 | C735: 42387 | D735: 698904 | E735: 47004 | F735: {=INDEX(Bd_VENTILATIONS!$G:$G,MATCH(Tab_SuiviOF[[#This Row],[REFERENCE]]&Tab_SuiviOF[[#This Row],[BLNO]],Bd_VENTILATIONS!$F:$F&Bd_VENTILATIONS!$D:$D,0))} -> A106R01-1 | G735: =IFERROR(MID(Tab_SuiviOF[[#This Row],[LOT]],1,SEARCH("-",Tab_SuiviOF[[#This Row],[LOT]])-1),Tab_SuiviOF[[#This Row],[LOT]]) -> A106R01 | H735: TOL058 | I735: =INDEX(Bd_PF!$E:$E,MATCH(Tab_SuiviOF[[#This Row],[REFERENCE]],Bd_PF!$C:$C,0)) -> Gel'mix+ bte 500g "TOL" | J735: =INDEX(Bd_PF!$D:$D,MATCH(Tab_SuiviOF[[#This Row],[REFERENCE]],Bd_PF!$C:$C,0)) -> SF01249 | K735: =INDEX(Bd_PF!$I:$I,MATCH(Tab_SuiviOF[[#This Row],[REFERENCE]],Bd_PF!$C:$C,0)) -> 0.5 | L735: =INDEX(Bd_PF!$J:$J,MATCH(Tab_SuiviOF[[#This Row],[REFERENCE]],Bd_PF!$C:$C,0)) -> OTS | M735: =INDEX(Bd_PF!$K:$K,MATCH(Tab_SuiviOF[[#This Row],[REFERENCE]],Bd_PF!$C:$C,0)) -> Reconditionnement | N735: 43206 | O735: 43206 | P735: =YEAR(Tab_SuiviOF[[#This Row],[DATEFINREVISEE]]) -> 2018 | Q735: =MONTH(Tab_SuiviOF[[#This Row],[DATEFINREVISEE]]) -> 4 | R735: =WEEKNUM(Tab_SuiviOF[[#This Row],[DATEFINREVISEE]],21) -> 16 | S735: 700 | T735: 700 | U735: 704 | V735: =Tab_SuiviOF[[#This Row],[QTEBL]]*Tab_SuiviOF[[#This Row],[POIDS NET]] -> 352 | W735: =IFERROR(INDEX(Bd_MÉLANGES!$I:$I,MATCH('Bd_FABRICATIONS PF'!$G:$G,Bd_MÉLANGES!$J:$J,0)),0) -> 0 | X735: =IFERROR(INDEX(Bd_MÉLANGES!$K:$K,MATCH(Tab_SuiviOF[[#This Row],[LOT A PRENDRE EN COMPTE]],Bd_MÉLANGES!$J:$J,0)),0) -> 0
A736: 102 | B736: 5 | C736: 42389 | D736: 698944 | E736: 47005 | F736: {=INDEX(Bd_VENTILATIONS!$G:$G,MATCH(Tab_SuiviOF[[#This Row],[REFERENCE]]&Tab_SuiviOF[[#This Row],[BLNO]],Bd_VENTILATIONS!$F:$F&Bd_VENTILATIONS!$D:$D,0))} -> A106R02-1 | G736: =IFERROR(MID(Tab_SuiviOF[[#This Row],[LOT]],1,SEARCH("-",Tab_SuiviOF[[#This Row],[LOT]])-1),Tab_SuiviOF[[#This Row],[LOT]]) -> A106R02 | H736: TOL058 | I736: =INDEX(Bd_PF!$E:$E,MATCH(Tab_SuiviOF[[#This Row],[REFERENCE]],Bd_PF!$C:$C,0)) -> Gel'mix+ bte 500g "TOL" | J736: =INDEX(Bd_PF!$D:$D,MATCH(Tab_SuiviOF[[#This Row],[REFERENCE]],Bd_PF!$C:$C,0)) -> SF01249 | K736: =INDEX(Bd_PF!$I:$I,MATCH(Tab_SuiviOF[[#This Row],[REFERENCE]],Bd_PF!$C:$C,0)) -> 0.5 | L736: =INDEX(Bd_PF!$J:$J,MATCH(Tab_SuiviOF[[#This Row],[REFERENCE]],Bd_PF!$C:$C,0)) -> OTS | M736: =INDEX(Bd_PF!$K:$K,MATCH(Tab_SuiviOF[[#This Row],[REFERENCE]],Bd_PF!$C:$C,0)) -> Reconditionnement | N736: 43206 | O736: 43206 | P736: =YEAR(Tab_SuiviOF[[#This Row],[DATEFINREVISEE]]) -> 2018 | Q736: =MONTH(Tab_SuiviOF[[#This Row],[DATEFINREVISEE]]) -> 4 | R736: =WEEKNUM(Tab_SuiviOF[[#This Row],[DATEFINREVISEE]],21) -> 16 | S736: 700 | T736: 700 | U736: 704 | V736: =Tab_SuiviOF[[#This Row],[QTEBL]]*Tab_SuiviOF[[#This Row],[POIDS NET]] -> 352 | W736: =IFERROR(INDEX(Bd_MÉLANGES!$I:$I,MATCH('Bd_FABRICATIONS PF'!$G:$G,Bd_MÉLANGES!$J:$J,0)),0) -> 0 | X736: =IFERROR(INDEX(Bd_MÉLANGES!$K:$K,MATCH(Tab_SuiviOF[[#This Row],[LOT A PRENDRE EN COMPTE]],Bd_MÉLANGES!$J:$J,0)),0) -> 0
... A751: 102 | B751: 5 | C751: 42418 | D751: 699321 | E751: 47057 | F751: {=INDEX(Bd_VENTILATIONS!$G:$G,MATCH(Tab_SuiviOF[[#This Row],[REFERENCE]]&Tab_SuiviOF[[#This Row],[BLNO]],Bd_VENTILATIONS!$F:$F&Bd_VENTILATIONS!$D:$D,0))} -> A107M05-6 | G751: =IFERROR(MID(Tab_SuiviOF[[#This Row],[LOT]],1,SEARCH("-",Tab_SuiviOF[[#This Row],[LOT]])-1),Tab_SuiviOF[[#This Row],[LOT]]) -> A107M05 | H751: BRAKE038 | I751: =INDEX(Bd_PF!$E:$E,MATCH(Tab_SuiviOF[[#This Row],[REFERENCE]],Bd_PF!$C:$C,0)) -> Jus d'agneau SANS GLUTAMATE 600G "BRAKE" | J751: =INDEX(Bd_PF!$D:$D,MATCH(Tab_SuiviOF[[#This Row],[REFERENCE]],Bd_PF!$C:$C,0)) -> SF01431 | K751: =INDEX(Bd_PF!$I:$I,MATCH(Tab_SuiviOF[[#This Row],[REFERENCE]],Bd_PF!$C:$C,0)) -> 0.6 | L751: =INDEX(Bd_PF!$J:$J,MATCH(Tab_SuiviOF[[#This Row],[REFERENCE]],Bd_PF!$C:$C,0)) -> Boite plastique | M751: =INDEX(Bd_PF!$K:$K,MATCH(Tab_SuiviOF[[#This Row],[REFERENCE]],Bd_PF!$C:$C,0)) -> Produit pesé | N751: 43208 | O751: 43208 | P751: =YEAR(Tab_SuiviOF[[#This Row],[DATEFINREVISEE]]) -> 2018 | Q751: =MONTH(Tab_SuiviOF[[#This Row],[DATEFINREVISEE]]) -> 4 | R751: =WEEKNUM(Tab_SuiviOF[[#This Row],[DATEFINREVISEE]],21) -> 16 | S751: 240 | T751: 239 | U751: 236 | V751: =Tab_SuiviOF[[#This Row],[QTEBL]]*Tab_SuiviOF[[#This Row],[POIDS NET]] -> 141.6 | W751: =IFERROR(INDEX(Bd_MÉLANGES!$I:$I,MATCH('Bd_FABRICATIONS PF'!$G:$G,Bd_MÉLANGES!$J:$J,0)),0) -> 143.5 | X751: =IFERROR(INDEX(Bd_MÉLANGES!$K:$K,MATCH(Tab_SuiviOF[[#This Row],[LOT A PRENDRE EN COMPTE]],Bd_MÉLANGES!$J:$J,0)),0) -> 144
A752: 102 | B752: 5 | C752: 42427 | D752: 699566 | E752: 47049 | F752: {=INDEX(Bd_VENTILATIONS!$G:$G,MATCH(Tab_SuiviOF[[#This Row],[REFERENCE]]&Tab_SuiviOF[[#This Row],[BLNO]],Bd_VENTILATIONS!$F:$F&Bd_VENTILATIONS!$D:$D,0))} -> A107MR03-5 | G752: =IFERROR(MID(Tab_SuiviOF[[#This Row],[LOT]],1,SEARCH("-",Tab_SuiviOF[[#This Row],[LOT]])-1),Tab_SuiviOF[[#This Row],[LOT]]) -> A107MR03 | H752: PRO005 | I752: =INDEX(Bd_PF!$E:$E,MATCH(Tab_SuiviOF[[#This Row],[REFERENCE]],Bd_PF!$C:$C,0)) -> Pommes dauphines seau 10 kg "Proalim" | J752: =INDEX(Bd_PF!$D:$D,MATCH(Tab_SuiviOF[[#This Row],[REFERENCE]],Bd_PF!$C:$C,0)) -> SF00911 | K752: =INDEX(Bd_PF!$I:$I,MATCH(Tab_SuiviOF[[#This Row],[REFERENCE]],Bd_PF!$C:$C,0)) -> 10 | L752: =INDEX(Bd_PF!$J:$J,MATCH(Tab_SuiviOF[[#This Row],[REFERENCE]],Bd_PF!$C:$C,0)) -> Seau | M752: =INDEX(Bd_PF!$K:$K,MATCH(Tab_SuiviOF[[#This Row],[REFERENCE]],Bd_PF!$C:$C,0)) -> Produit pesé | N752: 43208 | O752: 43208 | P752: =YEAR(Tab_SuiviOF[[#This Row],[DATEFINREVISEE]]) -> 2018 | Q752: =MONTH(Tab_SuiviOF[[#This Row],[DATEFINREVISEE]]) -> 4 | R752: =WEEKNUM(Tab_SuiviOF[[#This Row],[DATEFINREVISEE]],21) -> 16 | S752: 15 | T752: 15 | U752: 14 | V752: =Tab_SuiviOF[[#This Row],[QTEBL]]*Tab_SuiviOF[[#This Row],[POIDS NET]] -> 140 | W752: 140 | X752: 140
A753: 102 | B753: 5 | C753: 42436 | D753: 699738 | E753: 47058 | F753: {=INDEX(Bd_VENTILATIONS!$G:$G,MATCH(Tab_SuiviOF[[#This Row],[REFERENCE]]&Tab_SuiviOF[[#This Row],[BLNO]],Bd_VENTILATIONS!$F:$F&Bd_VENTILATIONS!$D:$D,0))} -> AS16PU02-7 | G753: =IFERROR(MID(Tab_SuiviOF[[#This Row],[LOT]],1,SEARCH("-",Tab_SuiviOF[[#This Row],[LOT]])-1),Tab_SuiviOF[[#This Row],[LOT]]) -> AS16PU02 | H753: EDE106 | I753: =INDEX(Bd_PF!$E:$E,MATCH(Tab_SuiviOF[[#This Row],[REFERENCE]],Bd_PF!$C:$C,0)) -> Purée grand-mère pauvre en sodium sac 5 kg | J753: =INDEX(Bd_PF!$D:$D,MATCH(Tab_SuiviOF[[#This Row],[REFERENCE]],Bd_PF!$C:$C,0)) -> SF01287 | K753: =INDEX(Bd_PF!$I:$I,MATCH(Tab_SuiviOF[[#This Row],[REFERENCE]],Bd_PF!$C:$C,0)) -> 5 | L753: =INDEX(Bd_PF!$J:$J,MATCH(Tab_SuiviOF[[#This Row],[REFERENCE]],Bd_PF!$C:$C,0)) -> Purée | M753: =INDEX(Bd_PF!$K:$K,MATCH(Tab_SuiviOF[[#This Row],[REFERENCE]],Bd_PF!$C:$C,0)) -> Purée | N753: 43208 | O753: 43208 | P753: =YEAR(Tab_SuiviOF[[#This Row],[DATEFINREVISEE]]) -> 2018 | Q753: =MONTH(Tab_SuiviOF[[#This Row],[DATEFINREVISEE]]) -> 4 | R753: =WEEKNUM(Tab_SuiviOF[[#This Row],[DATEFINREVISEE]],21) -> 16 | S753: 540 | T753: 540 | U753: 535 | V753: =Tab_SuiviOF[[#This Row],[QTEBL]]*Tab_SuiviOF[[#This Row],[POIDS NET]] -> 2675 | W753: =IFERROR(INDEX(Bd_MÉLANGES!$I:$I,MATCH('Bd_FABRICATIONS PF'!$G:$G,Bd_MÉLANGES!$J:$J,0)),0) -> 0 | X753: =IFERROR(INDEX(Bd_MÉLANGES!$K:$K,MATCH(Tab_SuiviOF[[#This Row],[LOT A PRENDRE EN COMPTE]],Bd_MÉLANGES!$J:$J,0)),0) -> 0
A754: 102 | B754: 5 | C754: 42223 | D754: 697009 | E754: 47083 | F754: {=INDEX(Bd_VENTILATIONS!$G:$G,MATCH(Tab_SuiviOF[[#This Row],[REFERENCE]]&Tab_SuiviOF[[#This Row],[BLNO]],Bd_VENTILATIONS!$F:$F&Bd_VENTILATIONS!$D:$D,0))} -> A108M02-1 | G754: =IFERROR(MID(Tab_SuiviOF[[#This Row],[LOT]],1,SEARCH("-",Tab_SuiviOF[[#This Row],[LOT]])-1),Tab_SuiviOF[[#This Row],[LOT]]) -> A108M02 | H754: IMP033 | I754: =INDEX(Bd_PF!$E:$E,MATCH(Tab_SuiviOF[[#This Row],[REFERENCE]],Bd_PF!$C:$C,0)) -> Arômatique Cantonaise - boite 0 kg 600 - "Impact" | J754: =INDEX(Bd_PF!$D:$D,MATCH(Tab_SuiviOF[[#This Row],[REFERENCE]],Bd_PF!$C:$C,0)) -> SF00527 | K754: =INDEX(Bd_PF!$I:$I,MATCH(Tab_SuiviOF[[#This Row],[REFERENCE]],Bd_PF!$C:$C,0)) -> 0.6 | L754: =INDEX(Bd_PF!$J:$J,MATCH(Tab_SuiviOF[[#This Row],[REFERENCE]],Bd_PF!$C:$C,0)) -> OTS | M754: =INDEX(Bd_PF!$K:$K,MATCH(Tab_SuiviOF[[#This Row],[REFERENCE]],Bd_PF!$C:$C,0)) -> Produit pesé | N754: 43209 | O754: 43209 | P754: =YEAR(Tab_SuiviOF[[#This Row],[DATEFINREVISEE]]) -> 2018 | Q754: =MONTH(Tab_SuiviOF[[#This Row],[DATEFINREVISEE]]) -> 4 | R754: =WEEKNUM(Tab_SuiviOF[[#This Row],[DATEFINREVISEE]],21) -> 16 | S754: 216 | T754: 217 | U754: 218 | V754: =Tab_SuiviOF[[#This Row],[QTEBL]]*Tab_SuiviOF[[#This Row],[POIDS NET]] -> 130.8 | W754: =IFERROR(INDEX(Bd_MÉLANGES!$I:$I,MATCH('Bd_FABRICATIONS PF'!$G:$G,Bd_MÉLANGES!$J:$J,0)),0) -> 130.7 | X754: =IFERROR(INDEX(Bd_MÉLANGES!$K:$K,MATCH(Tab_SuiviOF[[#This Row],[LOT A PRENDRE EN COMPTE]],Bd_MÉLANGES!$J:$J,0)),0) -> 130
A755: 102 | B755: 5 | C755: 42235 | D755: 697146 | E755: 47077 | F755: {=INDEX(Bd_VENTILATIONS!$G:$G,MATCH(Tab_SuiviOF[[#This Row],[REFERENCE]]&Tab_SuiviOF[[#This Row],[BLNO]],Bd_VENTILATIONS!$F:$F&Bd_VENTILATIONS!$D:$D,0))} -> A107M07-1 | G755: =IFERROR(MID(Tab_SuiviOF[[#This Row],[LOT]],1,SEARCH("-",Tab_SuiviOF[[#This Row],[LOT]])-1),Tab_SuiviOF[[#This Row],[LOT]]) -> A107M07 | H755: PERF009 | I755: =INDEX(Bd_PF!$E:$E,MATCH(Tab_SuiviOF[[#This Row],[REFERENCE]],Bd_PF!$C:$C,0)) -> Fonds blanc de volaille pauvre en sodium 1 kg "Nutrisens Performance" | J755: =INDEX(Bd_PF!$D:$D,MATCH(Tab_SuiviOF[[#This Row],[REFERENCE]],Bd_PF!$C:$C,0)) -> SF01318 | K755: =INDEX(Bd_PF!$I:$I,MATCH(Tab_SuiviOF[[#This Row],[REFERENCE]],Bd_PF!$C:$C,0)) -> 1 | L755: =INDEX(Bd_PF!$J:$J,MATCH(Tab_SuiviOF[[#This Row],[REFERENCE]],Bd_PF!$C:$C,0)) -> OTS | M755: =INDEX(Bd_PF!$K:$K,MATCH(Tab_SuiviOF[[#This Row],[REFERENCE]],Bd_PF!$C:$C,0)) -> Produit pesé | N755: 43209 | O755: 43209 | P755: =YEAR(Tab_SuiviOF[[#This Row],[DATEFINREVISEE]]) -> 2018 | Q755: =MONTH(Tab_SuiviOF[[#This Row],[DATEFINREVISEE]]) -> 4 | R755: =WEEKNUM(Tab_SuiviOF[[#This Row],[DATEFINREVISEE]],21) -> 16 | S755: 324 | T755: 323 | U755: 322 | V755: =Tab_SuiviOF[[#This Row],[QTEBL]]*Tab_SuiviOF[[#This Row],[POIDS NET]] -> 322 | W755: =IFERROR(INDEX(Bd_MÉLANGES!$I:$I,MATCH('Bd_FABRICATIONS PF'!$G:$G,Bd_MÉLANGES!$J:$J,0)),0) -> 323.7 | X755: =IFERROR(INDEX(Bd_MÉLANGES!$K:$K,MATCH(Tab_SuiviOF[[#This Row],[LOT A PRENDRE EN COMPTE]],Bd_MÉLANGES!$J:$J,0)),0) -> 324
A756: 102 | B756: 5 | C756: 42237 | D756: 697169 | E756: 47072 | F756: {=INDEX(Bd_VENTILATIONS!$G:$G,MATCH(Tab_SuiviOF[[#This Row],[REFERENCE]]&Tab_SuiviOF[[#This Row],[BLNO]],Bd_VENTILATIONS!$F:$F&Bd_VENTILATIONS!$D:$D,0))} -> A107M06-1 | G756: =IFERROR(MID(Tab_SuiviOF[[#This Row],[LOT]],1,SEARCH("-",Tab_SuiviOF[[#This Row],[LOT]])-1),Tab_SuiviOF[[#This Row],[LOT]]) -> A107M06 | H756: PERF036 | I756: =INDEX(Bd_PF!$E:$E,MATCH(Tab_SuiviOF[[#This Row],[REFERENCE]],Bd_PF!$C:$C,0)) -> Bouillon de volaille pauvre en sodium"NUTRISENS PERFORMANCE" | J756: =INDEX(Bd_PF!$D:$D,MATCH(Tab_SuiviOF[[#This Row],[REFERENCE]],Bd_PF!$C:$C,0)) -> SF01354 | K756: =INDEX(Bd_PF!$I:$I,MATCH(Tab_SuiviOF[[#This Row],[REFERENCE]],Bd_PF!$C:$C,0)) -> 1 | L756: =INDEX(Bd_PF!$J:$J,MATCH(Tab_SuiviOF[[#This Row],[REFERENCE]],Bd_PF!$C:$C,0)) -> OTS | M756: =INDEX(Bd_PF!$K:$K,MATCH(Tab_SuiviOF[[#This Row],[REFERENCE]],Bd_PF!$C:$C,0)) -> Produit pesé | N756: 43209 | O756: 43209 | P756: =YEAR(Tab_SuiviOF[[#This Row],[DATEFINREVISEE]]) -> 2018 | Q756: =MONTH(Tab_SuiviOF[[#This Row],[DATEFINREVISEE]]) -> 4 | R756: =WEEKNUM(Tab_SuiviOF[[#This Row],[DATEFINREVISEE]],21) -> 16 | S756: 270 | T756: 267 | U756: 265 | V756: =Tab_SuiviOF[[#This Row],[QTEBL]]*Tab_SuiviOF[[#This Row],[POIDS NET]] -> 265 | W756: =IFERROR(INDEX(Bd_MÉLANGES!$I:$I,MATCH('Bd_FABRICATIONS PF'!$G:$G,Bd_MÉLANGES!$J:$J,0)),0) -> 267.9 | X756: =IFERROR(INDEX(Bd_MÉLANGES!$K:$K,MATCH(Tab_SuiviOF[[#This Row],[LOT A PRENDRE EN COMPTE]],Bd_MÉLANGES!$J:$J,0)),0) -> 267.84
A757: 102 | B757: 5 | C757: 42264 | D757: 697362 | E757: 47068 | F757: {=INDEX(Bd_VENTILATIONS!$G:$G,MATCH(Tab_SuiviOF[[#This Row],[REFERENCE]]&Tab_SuiviOF[[#This Row],[BLNO]],Bd_VENTILATIONS!$F:$F&Bd_VENTILATIONS!$D:$D,0))} -> A103M06-1 | G757: =IFERROR(MID(Tab_SuiviOF[[#This Row],[LOT]],1,SEARCH("-",Tab_SuiviOF[[#This Row],[LOT]])-1),Tab_SuiviOF[[#This Row],[LOT]]) -> A103M06 | H757: TOL998 | I757: =INDEX(Bd_PF!$E:$E,MATCH(Tab_SuiviOF[[#This Row],[REFERENCE]],Bd_PF!$C:$C,0)) -> Céréal'nut HP+ saveur praliné bte 900 g (ALLERGENES) | J757: =INDEX(Bd_PF!$D:$D,MATCH(Tab_SuiviOF[[#This Row],[REFERENCE]],Bd_PF!$C:$C,0)) -> SF01230 | K757: =INDEX(Bd_PF!$I:$I,MATCH(Tab_SuiviOF[[#This Row],[REFERENCE]],Bd_PF!$C:$C,0)) -> 0.9 | L757: =INDEX(Bd_PF!$J:$J,MATCH(Tab_SuiviOF[[#This Row],[REFERENCE]],Bd_PF!$C:$C,0)) -> OTS | M757: =INDEX(Bd_PF!$K:$K,MATCH(Tab_SuiviOF[[#This Row],[REFERENCE]],Bd_PF!$C:$C,0)) -> Produit pesé | N757: 43209 | O757: 43209 | P757: =YEAR(Tab_SuiviOF[[#This Row],[DATEFINREVISEE]]) -> 2018 | Q757: =MONTH(Tab_SuiviOF[[#This Row],[DATEFINREVISEE]]) -> 4 | R757: =WEEKNUM(Tab_SuiviOF[[#This Row],[DATEFINREVISEE]],21) -> 16 | S757: 756 | T757: 761 | U757: 760 | V757: =Tab_SuiviOF[[#This Row],[QTEBL]]*Tab_SuiviOF[[#This Row],[POIDS NET]] -> 684 | W757: =IFERROR(INDEX(Bd_MÉLANGES!$I:$I,MATCH('Bd_FABRICATIONS PF'!$G:$G,Bd_MÉLANGES!$J:$J,0)),0) -> 685.3 | X757: =IFERROR(INDEX(Bd_MÉLANGES!$K:$K,MATCH(Tab_SuiviOF[[#This Row],[LOT A PRENDRE EN COMPTE]],Bd_MÉLANGES!$J:$J,0)),0) -> 681.02
A758: 102 | B758: 5 | C758: 42270 | D758: 697408 | E758: 47073 | F758: {=INDEX(Bd_VENTILATIONS!$G:$G,MATCH(Tab_SuiviOF[[#This Row],[REFERENCE]]&Tab_SuiviOF[[#This Row],[BLNO]],Bd_VENTILATIONS!$F:$F&Bd_VENTILATIONS!$D:$D,0))} -> A106M07-2 | G758: =IFERROR(MID(Tab_SuiviOF[[#This Row],[LOT]],1,SEARCH("-",Tab_SuiviOF[[#This Row],[LOT]])-1),Tab_SuiviOF[[#This Row],[LOT]]) -> A106M07 | H758: TOL233 | I758: =INDEX(Bd_PF!$E:$E,MATCH(Tab_SuiviOF[[#This Row],[REFERENCE]],Bd_PF!$C:$C,0)) -> Crème HP saveur café sachet 200g "TOL" | J758: =INDEX(Bd_PF!$D:$D,MATCH(Tab_SuiviOF[[#This Row],[REFERENCE]],Bd_PF!$C:$C,0)) -> SF01242 | K758: =INDEX(Bd_PF!$I:$I,MATCH(Tab_SuiviOF[[#This Row],[REFERENCE]],Bd_PF!$C:$C,0)) -> 0.2 | L758: =INDEX(Bd_PF!$J:$J,MATCH(Tab_SuiviOF[[#This Row],[REFERENCE]],Bd_PF!$C:$C,0)) -> Tecse | M758: =INDEX(Bd_PF!$K:$K,MATCH(Tab_SuiviOF[[#This Row],[REFERENCE]],Bd_PF!$C:$C,0)) -> Produit pesé | N758: 43209 | O758: 43209 | P758: =YEAR(Tab_SuiviOF[[#This Row],[DATEFINREVISEE]]) -> 2018 | Q758: =MONTH(Tab_SuiviOF[[#This Row],[DATEFINREVISEE]]) -> 4 | R758: =WEEKNUM(Tab_SuiviOF[[#This Row],[DATEFINREVISEE]],21) -> 16 | S758: 1620 | T758: 1621 | U758: 1604 | V758: =Tab_SuiviOF[[#This Row],[QTEBL]]*Tab_SuiviOF[[#This Row],[POIDS NET]] -> 320.8 | W758: =IFERROR(INDEX(Bd_MÉLANGES!$I:$I,MATCH('Bd_FABRICATIONS PF'!$G:$G,Bd_MÉLANGES!$J:$J,0)),0) -> 324.3 | X758: =IFERROR(INDEX(Bd_MÉLANGES!$K:$K,MATCH(Tab_SuiviOF[[#This Row],[LOT A PRENDRE EN COMPTE]],Bd_MÉLANGES!$J:$J,0)),0) -> 324
A759: 102 | B759: 5 | C759: 42274 | D759: 697436 | E759: 47076 | F759: {=INDEX(Bd_VENTILATIONS!$G:$G,MATCH(Tab_SuiviOF[[#This Row],[REFERENCE]]&Tab_SuiviOF[[#This Row],[BLNO]],Bd_VENTILATIONS!$F:$F&Bd_VENTILATIONS!$D:$D,0))} -> A107M01-1 | G759: =IFERROR(MID(Tab_SuiviOF[[#This Row],[LOT]],1,SEARCH("-",Tab_SuiviOF[[#This Row],[LOT]])-1),Tab_SuiviOF[[#This Row],[LOT]]) -> A107M01 | H759: PERF008 | I759: =INDEX(Bd_PF!$E:$E,MATCH(Tab_SuiviOF[[#This Row],[REFERENCE]],Bd_PF!$C:$C,0)) -> Jus de veau lié 1 kg "Nutrisens Performance" | J759: =INDEX(Bd_PF!$D:$D,MATCH(Tab_SuiviOF[[#This Row],[REFERENCE]],Bd_PF!$C:$C,0)) -> SF01334 | K759: =INDEX(Bd_PF!$I:$I,MATCH(Tab_SuiviOF[[#This Row],[REFERENCE]],Bd_PF!$C:$C,0)) -> 1 | L759: =INDEX(Bd_PF!$J:$J,MATCH(Tab_SuiviOF[[#This Row],[REFERENCE]],Bd_PF!$C:$C,0)) -> OTS | M759: =INDEX(Bd_PF!$K:$K,MATCH(Tab_SuiviOF[[#This Row],[REFERENCE]],Bd_PF!$C:$C,0)) -> Produit pesé | N759: 43209 | O759: 43209 | P759: =YEAR(Tab_SuiviOF[[#This Row],[DATEFINREVISEE]]) -> 2018 | Q759: =MONTH(Tab_SuiviOF[[#This Row],[DATEFINREVISEE]]) -> 4 | R759: =WEEKNUM(Tab_SuiviOF[[#This Row],[DATEFINREVISEE]],21) -> 16 | S759: 324 | T759: 322 | U759: 321 | V759: =Tab_SuiviOF[[#This Row],[QTEBL]]*Tab_SuiviOF[[#This Row],[POIDS NET]] -> 321 | W759: =IFERROR(INDEX(Bd_MÉLANGES!$I:$I,MATCH('Bd_FABRICATIONS PF'!$G:$G,Bd_MÉLANGES!$J:$J,0)),0) -> 322.7 | X759: =IFERROR(INDEX(Bd_MÉLANGES!$K:$K,MATCH(Tab_SuiviOF[[#This Row],[LOT A PRENDRE EN COMPTE]],Bd_MÉLANGES!$J:$J,0)),0) -> 323.99
A760: 102 | B760: 5 | C760: 42276 | D760: 697454 | E760: 47085 | F760: {=INDEX(Bd_VENTILATIONS!$G:$G,MATCH(Tab_SuiviOF[[#This Row],[REFERENCE]]&Tab_SuiviOF[[#This Row],[BLNO]],Bd_VENTILATIONS!$F:$F&Bd_VENTILATIONS!$D:$D,0))} -> A107M02-2 | G760: =IFERROR(MID(Tab_SuiviOF[[#This Row],[LOT]],1,SEARCH("-",Tab_SuiviOF[[#This Row],[LOT]])-1),Tab_SuiviOF[[#This Row],[LOT]]) -> A107M02 | H760: TOL002 | I760: =INDEX(Bd_PF!$E:$E,MATCH(Tab_SuiviOF[[#This Row],[REFERENCE]],Bd_PF!$C:$C,0)) -> Velouté de légumes du soleil HP HC - sachet 70g - Tonus Line | J760: =INDEX(Bd_PF!$D:$D,MATCH(Tab_SuiviOF[[#This Row],[REFERENCE]],Bd_PF!$C:$C,0)) -> SF00984 | K760: =INDEX(Bd_PF!$I:$I,MATCH(Tab_SuiviOF[[#This Row],[REFERENCE]],Bd_PF!$C:$C,0)) -> 0.07 | L760: =INDEX(Bd_PF!$J:$J,MATCH(Tab_SuiviOF[[#This Row],[REFERENCE]],Bd_PF!$C:$C,0)) -> Tecse | M760: =INDEX(Bd_PF!$K:$K,MATCH(Tab_SuiviOF[[#This Row],[REFERENCE]],Bd_PF!$C:$C,0)) -> Produit pesé | N760: 43209 | O760: 43209 | P760: =YEAR(Tab_SuiviOF[[#This Row],[DATEFINREVISEE]]) -> 2018 | Q760: =MONTH(Tab_SuiviOF[[#This Row],[DATEFINREVISEE]]) -> 4 | R760: =WEEKNUM(Tab_SuiviOF[[#This Row],[DATEFINREVISEE]],21) -> 16 | S760: 2592 | T760: 5204 | U760: 5143 | V760: =Tab_SuiviOF[[#This Row],[QTEBL]]*Tab_SuiviOF[[#This Row],[POIDS NET]] -> 360.01 | W760: =IFERROR(INDEX(Bd_MÉLANGES!$I:$I,MATCH('Bd_FABRICATIONS PF'!$G:$G,Bd_MÉLANGES!$J:$J,0)),0) -> 364.3 | X760: =IFERROR(INDEX(Bd_MÉLANGES!$K:$K,MATCH(Tab_SuiviOF[[#This Row],[LOT A PRENDRE EN COMPTE]],Bd_MÉLANGES!$J:$J,0)),0) -> 362.99
A761: 102 | B761: 5 | C761: 42291 | D761: 697672 | E761: 47080 | F761: {=INDEX(Bd_VENTILATIONS!$G:$G,MATCH(Tab_SuiviOF[[#This Row],[REFERENCE]]&Tab_SuiviOF[[#This Row],[BLNO]],Bd_VENTILATIONS!$F:$F&Bd_VENTILATIONS!$D:$D,0))} -> A108M04-6 | G761: =IFERROR(MID(Tab_SuiviOF[[#This Row],[LOT]],1,SEARCH("-",Tab_SuiviOF[[#This Row],[LOT]])-1),Tab_SuiviOF[[#This Row],[LOT]]) -> A108M04 | H761: BRAKE032 | I761: =INDEX(Bd_PF!$E:$E,MATCH(Tab_SuiviOF[[#This Row],[REFERENCE]],Bd_PF!$C:$C,0)) -> Fonds de veau SANS GLUTAMATE 600G "BRAKE" | J761: =INDEX(Bd_PF!$D:$D,MATCH(Tab_SuiviOF[[#This Row],[REFERENCE]],Bd_PF!$C:$C,0)) -> SF01388 | K761: =INDEX(Bd_PF!$I:$I,MATCH(Tab_SuiviOF[[#This Row],[REFERENCE]],Bd_PF!$C:$C,0)) -> 0.6 | L761: =INDEX(Bd_PF!$J:$J,MATCH(Tab_SuiviOF[[#This Row],[REFERENCE]],Bd_PF!$C:$C,0)) -> Boite plastique | M761: =INDEX(Bd_PF!$K:$K,MATCH(Tab_SuiviOF[[#This Row],[REFERENCE]],Bd_PF!$C:$C,0)) -> Produit pesé | N761: 43209 | O761: 43209 | P761: =YEAR(Tab_SuiviOF[[#This Row],[DATEFINREVISEE]]) -> 2018 | Q761: =MONTH(Tab_SuiviOF[[#This Row],[DATEFINREVISEE]]) -> 4 | R761: =WEEKNUM(Tab_SuiviOF[[#This Row],[DATEFINREVISEE]],21) -> 16 | S761: 1152 | T761: 1151 | U761: 1143 | V761: =Tab_SuiviOF[[#This Row],[QTEBL]]*Tab_SuiviOF[[#This Row],[POIDS NET]] -> 685.8 | W761: =IFERROR(INDEX(Bd_MÉLANGES!$I:$I,MATCH('Bd_FABRICATIONS PF'!$G:$G,Bd_MÉLANGES!$J:$J,0)),0) -> 690.9 | X761: =IFERROR(INDEX(Bd_MÉLANGES!$K:$K,MATCH(Tab_SuiviOF[[#This Row],[LOT A PRENDRE EN COMPTE]],Bd_MÉLANGES!$J:$J,0)),0) -> 691.19
A762: 102 | B762: 5 | C762: 42304 | D762: 698034 | E762: 47084 | F762: {=INDEX(Bd_VENTILATIONS!$G:$G,MATCH(Tab_SuiviOF[[#This Row],[REFERENCE]]&Tab_SuiviOF[[#This Row],[BLNO]],Bd_VENTILATIONS!$F:$F&Bd_VENTILATIONS!$D:$D,0))} -> A108M01-1 | G762: =IFERROR(MID(Tab_SuiviOF[[#This Row],[LOT]],1,SEARCH("-",Tab_SuiviOF[[#This Row],[LOT]])-1),Tab_SuiviOF[[#This Row],[LOT]]) -> A108M01 | H762: IMP037 | I762: =INDEX(Bd_PF!$E:$E,MATCH(Tab_SuiviOF[[#This Row],[REFERENCE]],Bd_PF!$C:$C,0)) -> Arômatique Curry indien - boite 0 kg 600 - "Impact" | J762: =INDEX(Bd_PF!$D:$D,MATCH(Tab_SuiviOF[[#This Row],[REFERENCE]],Bd_PF!$C:$C,0)) -> SF00520 | K762: =INDEX(Bd_PF!$I:$I,MATCH(Tab_SuiviOF[[#This Row],[REFERENCE]],Bd_PF!$C:$C,0)) -> 0.6 | L762: =INDEX(Bd_PF!$J:$J,MATCH(Tab_SuiviOF[[#This Row],[REFERENCE]],Bd_PF!$C:$C,0)) -> OTS | M762: =INDEX(Bd_PF!$K:$K,MATCH(Tab_SuiviOF[[#This Row],[REFERENCE]],Bd_PF!$C:$C,0)) -> Produit pesé | N762: 43209 | O762: 43209 | P762: =YEAR(Tab_SuiviOF[[#This Row],[DATEFINREVISEE]]) -> 2018 | Q762: =MONTH(Tab_SuiviOF[[#This Row],[DATEFINREVISEE]]) -> 4 | R762: =WEEKNUM(Tab_SuiviOF[[#This Row],[DATEFINREVISEE]],21) -> 16 | S762: 108 | T762: 108 | U762: 105 | V762: =Tab_SuiviOF[[#This Row],[QTEBL]]*Tab_SuiviOF[[#This Row],[POIDS NET]] -> 63 | W762: =IFERROR(INDEX(Bd_MÉLANGES!$I:$I,MATCH('Bd_FABRICATIONS PF'!$G:$G,Bd_MÉLANGES!$J:$J,0)),0) -> 65.1 | X762: =IFERROR(INDEX(Bd_MÉLANGES!$K:$K,MATCH(Tab_SuiviOF[[#This Row],[LOT A PRENDRE EN COMPTE]],Bd_MÉLANGES!$J:$J,0)),0) -> 65.03
A763: 102 | B763: 5 | C763: 42423 | D763: 699391 | E763: 47071 | F763: {=INDEX(Bd_VENTILATIONS!$G:$G,MATCH(Tab_SuiviOF[[#This Row],[REFERENCE]]&Tab_SuiviOF[[#This Row],[BLNO]],Bd_VENTILATIONS!$F:$F&Bd_VENTILATIONS!$D:$D,0))} -> A108M03-6 | G763: =IFERROR(MID(Tab_SuiviOF[[#This Row],[LOT]],1,SEARCH("-",Tab_SuiviOF[[#This Row],[LOT]])-1),Tab_SuiviOF[[#This Row],[LOT]]) -> A108M03 | H763: BRAKE037 | I763: =INDEX(Bd_PF!$E:$E,MATCH(Tab_SuiviOF[[#This Row],[REFERENCE]],Bd_PF!$C:$C,0)) -> Jus de veau lié SANS GLUTAMATE 600G "BRAKE" | J763: =INDEX(Bd_PF!$D:$D,MATCH(Tab_SuiviOF[[#This Row],[REFERENCE]],Bd_PF!$C:$C,0)) -> SF01430 | K763: =INDEX(Bd_PF!$I:$I,MATCH(Tab_SuiviOF[[#This Row],[REFERENCE]],Bd_PF!$C:$C,0)) -> 0.6 | L763: =INDEX(Bd_PF!$J:$J,MATCH(Tab_SuiviOF[[#This Row],[REFERENCE]],Bd_PF!$C:$C,0)) -> Boite plastique | M763: =INDEX(Bd_PF!$K:$K,MATCH(Tab_SuiviOF[[#This Row],[REFERENCE]],Bd_PF!$C:$C,0)) -> Produit pesé | N763: 43209 | O763: 43209 | P763: =YEAR(Tab_SuiviOF[[#This Row],[DATEFINREVISEE]]) -> 2018 | Q763: =MONTH(Tab_SuiviOF[[#This Row],[DATEFINREVISEE]]) -> 4 | R763: =WEEKNUM(Tab_SuiviOF[[#This Row],[DATEFINREVISEE]],21) -> 16 | S763: 1152 | T763: 1156 | U763: 1147 | V763: =Tab_SuiviOF[[#This Row],[QTEBL]]*Tab_SuiviOF[[#This Row],[POIDS NET]] -> 688.2 | W763: =IFERROR(INDEX(Bd_MÉLANGES!$I:$I,MATCH('Bd_FABRICATIONS PF'!$G:$G,Bd_MÉLANGES!$J:$J,0)),0) -> 693.8 | X763: =IFERROR(INDEX(Bd_MÉLANGES!$K:$K,MATCH(Tab_SuiviOF[[#This Row],[LOT A PRENDRE EN COMPTE]],Bd_MÉLANGES!$J:$J,0)),0) -> 691.19
A764: 102 | B764: 5 | C764: 42426 | D764: 699560 | E764: 47079 | F764: {=INDEX(Bd_VENTILATIONS!$G:$G,MATCH(Tab_SuiviOF[[#This Row],[REFERENCE]]&Tab_SuiviOF[[#This Row],[BLNO]],Bd_VENTILATIONS!$F:$F&Bd_VENTILATIONS!$D:$D,0))} -> A107M03-1 | G764: =IFERROR(MID(Tab_SuiviOF[[#This Row],[LOT]],1,SEARCH("-",Tab_SuiviOF[[#This Row],[LOT]])-1),Tab_SuiviOF[[#This Row],[LOT]]) -> A107M03 | H764: PRO007 | I764: =INDEX(Bd_PF!$E:$E,MATCH(Tab_SuiviOF[[#This Row],[REFERENCE]],Bd_PF!$C:$C,0)) -> Pommes dauphines boite 0 kg 840 "Proalim" | J764: =INDEX(Bd_PF!$D:$D,MATCH(Tab_SuiviOF[[#This Row],[REFERENCE]],Bd_PF!$C:$C,0)) -> SF00911 | K764: =INDEX(Bd_PF!$I:$I,MATCH(Tab_SuiviOF[[#This Row],[REFERENCE]],Bd_PF!$C:$C,0)) -> 0.84 | L764: =INDEX(Bd_PF!$J:$J,MATCH(Tab_SuiviOF[[#This Row],[REFERENCE]],Bd_PF!$C:$C,0)) -> OTS | M764: =INDEX(Bd_PF!$K:$K,MATCH(Tab_SuiviOF[[#This Row],[REFERENCE]],Bd_PF!$C:$C,0)) -> Produit pesé | N764: 43209 | O764: 43209 | P764: =YEAR(Tab_SuiviOF[[#This Row],[DATEFINREVISEE]]) -> 2018 | Q764: =MONTH(Tab_SuiviOF[[#This Row],[DATEFINREVISEE]]) -> 4 | R764: =WEEKNUM(Tab_SuiviOF[[#This Row],[DATEFINREVISEE]],21) -> 16 | S764: 60 | T764: 60 | U764: 71 | V764: =Tab_SuiviOF[[#This Row],[QTEBL]]*Tab_SuiviOF[[#This Row],[POIDS NET]] -> 59.64 | W764: 60 | X764: 60
A765: 102 | B765: 5 | C765: 42337 | D765: 698436 | E765: 47114 | F765: {=INDEX(Bd_VENTILATIONS!$G:$G,MATCH(Tab_SuiviOF[[#This Row],[REFERENCE]]&Tab_SuiviOF[[#This Row],[BLNO]],Bd_VENTILATIONS!$F:$F&Bd_VENTILATIONS!$D:$D,0))} -> A109M07-1 | G765: =IFERROR(MID(Tab_SuiviOF[[#This Row],[LOT]],1,SEARCH("-",Tab_SuiviOF[[#This Row],[LOT]])-1),Tab_SuiviOF[[#This Row],[LOT]]) -> A109M07 | H765: TOL352 | I765: =INDEX(Bd_PF!$E:$E,MATCH(Tab_SuiviOF[[#This Row],[REFERENCE]],Bd_PF!$C:$C,0)) -> Eau gélifiée parfum ananas sucré boite 800 g "Tonus Line" | J765: =INDEX(Bd_PF!$D:$D,MATCH(Tab_SuiviOF[[#This Row],[REFERENCE]],Bd_PF!$C:$C,0)) -> SF00712 | K765: =INDEX(Bd_PF!$I:$I,MATCH(Tab_SuiviOF[[#This Row],[REFERENCE]],Bd_PF!$C:$C,0)) -> 0.8 | L765: =INDEX(Bd_PF!$J:$J,MATCH(Tab_SuiviOF[[#This Row],[REFERENCE]],Bd_PF!$C:$C,0)) -> OTS | M765: =INDEX(Bd_PF!$K:$K,MATCH(Tab_SuiviOF[[#This Row],[REFERENCE]],Bd_PF!$C:$C,0)) -> Produit pesé | N765: 43213 | O765: 43213 | P765: =YEAR(Tab_SuiviOF[[#This Row],[DATEFINREVISEE]]) -> 2018 | Q765: =MONTH(Tab_SuiviOF[[#This Row],[DATEFINREVISEE]]) -> 4 | R765: =WEEKNUM(Tab_SuiviOF[[#This Row],[DATEFINREVISEE]],21) -> 17 | S765: 648 | T765: 651 | U765: 649 | V765: =Tab_SuiviOF[[#This Row],[QTEBL]]*Tab_SuiviOF[[#This Row],[POIDS NET]] -> 519.2 | W765: =IFERROR(INDEX(Bd_MÉLANGES!$I:$I,MATCH('Bd_FABRICATIONS PF'!$G:$G,Bd_MÉLANGES!$J:$J,0)),0) -> 521.3 | X765: =IFERROR(INDEX(Bd_MÉLANGES!$K:$K,MATCH(Tab_SuiviOF[[#This Row],[LOT A PRENDRE EN COMPTE]],Bd_MÉLANGES!$J:$J,0)),0) -> 518.99
A766: 102 | B766: 5 | C766: 42439 | D766: 699822 | E766: 47105 | F766: {=INDEX(Bd_VENTILATIONS!$G:$G,MATCH(Tab_SuiviOF[[#This Row],[REFERENCE]]&Tab_SuiviOF[[#This Row],[BLNO]],Bd_VENTILATIONS!$F:$F&Bd_VENTILATIONS!$D:$D,0))} -> A102M01-2 | G766: =IFERROR(MID(Tab_SuiviOF[[#This Row],[LOT]],1,SEARCH("-",Tab_SuiviOF[[#This Row],[LOT]])-1),Tab_SuiviOF[[#This Row],[LOT]]) -> A102M01 | H766: TOL983 | I766: =INDEX(Bd_PF!$E:$E,MATCH(Tab_SuiviOF[[#This Row],[REFERENCE]],Bd_PF!$C:$C,0)) -> Gel' Ami - sac 1 kg - "Tonus Line" | J766: =INDEX(Bd_PF!$D:$D,MATCH(Tab_SuiviOF[[#This Row],[REFERENCE]],Bd_PF!$C:$C,0)) -> SF01122 | K766: =INDEX(Bd_PF!$I:$I,MATCH(Tab_SuiviOF[[#This Row],[REFERENCE]],Bd_PF!$C:$C,0)) -> 1 | L766: =INDEX(Bd_PF!$J:$J,MATCH(Tab_SuiviOF[[#This Row],[REFERENCE]],Bd_PF!$C:$C,0)) -> Tecse | M766: =INDEX(Bd_PF!$K:$K,MATCH(Tab_SuiviOF[[#This Row],[REFERENCE]],Bd_PF!$C:$C,0)) -> Produit pesé | N766: 43213 | O766: 43213 | P766: =YEAR(Tab_SuiviOF[[#This Row],[DATEFINREVISEE]]) -> 2018 | Q766: =MONTH(Tab_SuiviOF[[#This Row],[DATEFINREVISEE]]) -> 4 | R766: =WEEKNUM(Tab_SuiviOF[[#This Row],[DATEFINREVISEE]],21) -> 17 | S766: 409 | T766: 409 | U766: 410 | V766: =Tab_SuiviOF[[#This Row],[QTEBL]]*Tab_SuiviOF[[#This Row],[POIDS NET]] -> 410 | W766: =IFERROR(INDEX(Bd_MÉLANGES!$I:$I,MATCH('Bd_FABRICATIONS PF'!$G:$G,Bd_MÉLANGES!$J:$J,0)),0) -> 409.5 | X766: =IFERROR(INDEX(Bd_MÉLANGES!$K:$K,MATCH(Tab_SuiviOF[[#This Row],[LOT A PRENDRE EN COMPTE]],Bd_MÉLANGES!$J:$J,0)),0) -> 423
A767: 102 | B767: 5 | C767: 42440 | D767: 699827 | E767: 47107 | F767: {=INDEX(Bd_VENTILATIONS!$G:$G,MATCH(Tab_SuiviOF[[#This Row],[REFERENCE]]&Tab_SuiviOF[[#This Row],[BLNO]],Bd_VENTILATIONS!$F:$F&Bd_VENTILATIONS!$D:$D,0))} -> A102M02-2 | G767: =IFERROR(MID(Tab_SuiviOF[[#This Row],[LOT]],1,SEARCH("-",Tab_SuiviOF[[#This Row],[LOT]])-1),Tab_SuiviOF[[#This Row],[LOT]]) -> A102M02 | H767: TOL983 | I767: =INDEX(Bd_PF!$E:$E,MATCH(Tab_SuiviOF[[#This Row],[REFERENCE]],Bd_PF!$C:$C,0)) -> Gel' Ami - sac 1 kg - "Tonus Line" | J767: =INDEX(Bd_PF!$D:$D,MATCH(Tab_SuiviOF[[#This Row],[REFERENCE]],Bd_PF!$C:$C,0)) -> SF01122 | K767: =INDEX(Bd_PF!$I:$I,MATCH(Tab_SuiviOF[[#This Row],[REFERENCE]],Bd_PF!$C:$C,0)) -> 1 | L767: =INDEX(Bd_PF!$J:$J,MATCH(Tab_SuiviOF[[#This Row],[REFERENCE]],Bd_PF!$C:$C,0)) -> Tecse | M767: =INDEX(Bd_PF!$K:$K,MATCH(Tab_SuiviOF[[#This Row],[REFERENCE]],Bd_PF!$C:$C,0)) -> Produit pesé | N767: 43213 | O767: 43213 | P767: =YEAR(Tab_SuiviOF[[#This Row],[DATEFINREVISEE]]) -> 2018 | Q767: =MONTH(Tab_SuiviOF[[#This Row],[DATEFINREVISEE]]) -> 4 | R767: =WEEKNUM(Tab_SuiviOF[[#This Row],[DATEFINREVISEE]],21) -> 17 | S767: 422 | T767: 422 | U767: 420 | V767: =Tab_SuiviOF[[#This Row],[QTEBL]]*Tab_SuiviOF[[#This Row],[POIDS NET]] -> 420 | W767: =IFERROR(INDEX(Bd_MÉLANGES!$I:$I,MATCH('Bd_FABRICATIONS PF'!$G:$G,Bd_MÉLANGES!$J:$J,0)),0) -> 422.1 | X767: =IFERROR(INDEX(Bd_MÉLANGES!$K:$K,MATCH(Tab_SuiviOF[[#This Row],[LOT A PRENDRE EN COMPTE]],Bd_MÉLANGES!$J:$J,0)),0) -> 423
A768: 102 | B768: 5 | C768: 42441 | D768: 699839 | E768: 47112 | F768: {=INDEX(Bd_VENTILATIONS!$G:$G,MATCH(Tab_SuiviOF[[#This Row],[REFERENCE]]&Tab_SuiviOF[[#This Row],[BLNO]],Bd_VENTILATIONS!$F:$F&Bd_VENTILATIONS!$D:$D,0))} -> A102M03-2 | G768: =IFERROR(MID(Tab_SuiviOF[[#This Row],[LOT]],1,SEARCH("-",Tab_SuiviOF[[#This Row],[LOT]])-1),Tab_SuiviOF[[#This Row],[LOT]]) -> A102M03 | H768: TOL983 | I768: =INDEX(Bd_PF!$E:$E,MATCH(Tab_SuiviOF[[#This Row],[REFERENCE]],Bd_PF!$C:$C,0)) -> Gel' Ami - sac 1 kg - "Tonus Line" | J768: =INDEX(Bd_PF!$D:$D,MATCH(Tab_SuiviOF[[#This Row],[REFERENCE]],Bd_PF!$C:$C,0)) -> SF01122 | K768: =INDEX(Bd_PF!$I:$I,MATCH(Tab_SuiviOF[[#This Row],[REFERENCE]],Bd_PF!$C:$C,0)) -> 1 | L768: =INDEX(Bd_PF!$J:$J,MATCH(Tab_SuiviOF[[#This Row],[REFERENCE]],Bd_PF!$C:$C,0)) -> Tecse | M768: =INDEX(Bd_PF!$K:$K,MATCH(Tab_SuiviOF[[#This Row],[REFERENCE]],Bd_PF!$C:$C,0)) -> Produit pesé | N768: 43213 | O768: 43213 | P768: =YEAR(Tab_SuiviOF[[#This Row],[DATEFINREVISEE]]) -> 2018 | Q768: =MONTH(Tab_SuiviOF[[#This Row],[DATEFINREVISEE]]) -> 4 | R768: =WEEKNUM(Tab_SuiviOF[[#This Row],[DATEFINREVISEE]],21) -> 17 | S768: 423 | T768: 423 | U768: 420 | V768: =Tab_SuiviOF[[#This Row],[QTEBL]]*Tab_SuiviOF[[#This Row],[POIDS NET]] -> 420 | W768: =IFERROR(INDEX(Bd_MÉLANGES!$I:$I,MATCH('Bd_FABRICATIONS PF'!$G:$G,Bd_MÉLANGES!$J:$J,0)),0) -> 423.1 | X768: =IFERROR(INDEX(Bd_MÉLANGES!$K:$K,MATCH(Tab_SuiviOF[[#This Row],[LOT A PRENDRE EN COMPTE]],Bd_MÉLANGES!$J:$J,0)),0) -> 423
A769: 102 | B769: 5 | C769: 42445 | D769: 699885 | E769: 47102 | F769: {=INDEX(Bd_VENTILATIONS!$G:$G,MATCH(Tab_SuiviOF[[#This Row],[REFERENCE]]&Tab_SuiviOF[[#This Row],[BLNO]],Bd_VENTILATIONS!$F:$F&Bd_VENTILATIONS!$D:$D,0))} -> A113R04-2 | G769: =IFERROR(MID(Tab_SuiviOF[[#This Row],[LOT]],1,SEARCH("-",Tab_SuiviOF[[#This Row],[LOT]])-1),Tab_SuiviOF[[#This Row],[LOT]]) -> A113R04 | H769: TOL196 | I769: =INDEX(Bd_PF!$E:$E,MATCH(Tab_SuiviOF[[#This Row],[REFERENCE]],Bd_PF!$C:$C,0)) -> Gel'mix+ sac 1 kg "TOL" | J769: =INDEX(Bd_PF!$D:$D,MATCH(Tab_SuiviOF[[#This Row],[REFERENCE]],Bd_PF!$C:$C,0)) -> SF01249 | K769: =INDEX(Bd_PF!$I:$I,MATCH(Tab_SuiviOF[[#This Row],[REFERENCE]],Bd_PF!$C:$C,0)) -> 1 | L769: =INDEX(Bd_PF!$J:$J,MATCH(Tab_SuiviOF[[#This Row],[REFERENCE]],Bd_PF!$C:$C,0)) -> Tecse | M769: =INDEX(Bd_PF!$K:$K,MATCH(Tab_SuiviOF[[#This Row],[REFERENCE]],Bd_PF!$C:$C,0)) -> Reconditionnement | N769: 43213 | O769: 43213 | P769: =YEAR(Tab_SuiviOF[[#This Row],[DATEFINREVISEE]]) -> 2018 | Q769: =MONTH(Tab_SuiviOF[[#This Row],[DATEFINREVISEE]]) -> 4 | R769: =WEEKNUM(Tab_SuiviOF[[#This Row],[DATEFINREVISEE]],21) -> 17 | S769: 350 | T769: 350 | U769: 335 | V769: =Tab_SuiviOF[[#This Row],[QTEBL]]*Tab_SuiviOF[[#This Row],[POIDS NET]] -> 335 | W769: =IFERROR(INDEX(Bd_MÉLANGES!$I:$I,MATCH('Bd_FABRICATIONS PF'!$G:$G,Bd_MÉLANGES!$J:$J,0)),0) -> 0 | X769: =IFERROR(INDEX(Bd_MÉLANGES!$K:$K,MATCH(Tab_SuiviOF[[#This Row],[LOT A PRENDRE EN COMPTE]],Bd_MÉLANGES!$J:$J,0)),0) -> 0
A770: 102 | B770: 5 | C770: 42488 | D770: 700235 | E770: 47099 | F770: {=INDEX(Bd_VENTILATIONS!$G:$G,MATCH(Tab_SuiviOF[[#This Row],[REFERENCE]]&Tab_SuiviOF[[#This Row],[BLNO]],Bd_VENTILATIONS!$F:$F&Bd_VENTILATIONS!$D:$D,0))} -> A113R01-1 | G770: =IFERROR(MID(Tab_SuiviOF[[#This Row],[LOT]],1,SEARCH("-",Tab_SuiviOF[[#This Row],[LOT]])-1),Tab_SuiviOF[[#This Row],[LOT]]) -> A113R01 | H770: TOL972 | I770: =INDEX(Bd_PF!$E:$E,MATCH(Tab_SuiviOF[[#This Row],[REFERENCE]],Bd_PF!$C:$C,0)) -> Calorinut boîte 600g | J770: =INDEX(Bd_PF!$D:$D,MATCH(Tab_SuiviOF[[#This Row],[REFERENCE]],Bd_PF!$C:$C,0)) -> SF01123 | K770: =INDEX(Bd_PF!$I:$I,MATCH(Tab_SuiviOF[[#This Row],[REFERENCE]],Bd_PF!$C:$C,0)) -> 0.6 | L770: =INDEX(Bd_PF!$J:$J,MATCH(Tab_SuiviOF[[#This Row],[REFERENCE]],Bd_PF!$C:$C,0)) -> OTS | M770: =INDEX(Bd_PF!$K:$K,MATCH(Tab_SuiviOF[[#This Row],[REFERENCE]],Bd_PF!$C:$C,0)) -> Reconditionnement | N770: 43213 | O770: 43213 | P770: =YEAR(Tab_SuiviOF[[#This Row],[DATEFINREVISEE]]) -> 2018 | Q770: =MONTH(Tab_SuiviOF[[#This Row],[DATEFINREVISEE]]) -> 4 | R770: =WEEKNUM(Tab_SuiviOF[[#This Row],[DATEFINREVISEE]],21) -> 17 | S770: 648 | T770: 648 | U770: 660 | V770: =Tab_SuiviOF[[#This Row],[QTEBL]]*Tab_SuiviOF[[#This Row],[POIDS NET]] -> 396 | W770: =IFERROR(INDEX(Bd_MÉLANGES!$I:$I,MATCH('Bd_FABRICATIONS PF'!$G:$G,Bd_MÉLANGES!$J:$J,0)),0) -> 0 | X770: =IFERROR(INDEX(Bd_MÉLANGES!$K:$K,MATCH(Tab_SuiviOF[[#This Row],[LOT A PRENDRE EN COMPTE]],Bd_MÉLANGES!$J:$J,0)),0) -> 0
A771: 102 | B771: 5 | C771: 42489 | D771: 700242 | E771: 47108 | F771: {=INDEX(Bd_VENTILATIONS!$G:$G,MATCH(Tab_SuiviOF[[#This Row],[REFERENCE]]&Tab_SuiviOF[[#This Row],[BLNO]],Bd_VENTILATIONS!$F:$F&Bd_VENTILATIONS!$D:$D,0))} -> A113R02-1 | G771: =IFERROR(MID(Tab_SuiviOF[[#This Row],[LOT]],1,SEARCH("-",Tab_SuiviOF[[#This Row],[LOT]])-1),Tab_SuiviOF[[#This Row],[LOT]]) -> A113R02 | H771: TOL220 | I771: =INDEX(Bd_PF!$E:$E,MATCH(Tab_SuiviOF[[#This Row],[REFERENCE]],Bd_PF!$C:$C,0)) -> Gel' M bte 300g | J771: =INDEX(Bd_PF!$D:$D,MATCH(Tab_SuiviOF[[#This Row],[REFERENCE]],Bd_PF!$C:$C,0)) -> SF01117 | K771: =INDEX(Bd_PF!$I:$I,MATCH(Tab_SuiviOF[[#This Row],[REFERENCE]],Bd_PF!$C:$C,0)) -> 0.3 | L771: =INDEX(Bd_PF!$J:$J,MATCH(Tab_SuiviOF[[#This Row],[REFERENCE]],Bd_PF!$C:$C,0)) -> OTS | M771: =INDEX(Bd_PF!$K:$K,MATCH(Tab_SuiviOF[[#This Row],[REFERENCE]],Bd_PF!$C:$C,0)) -> Reconditionnement | N771: 43213 | O771: 43213 | P771: =YEAR(Tab_SuiviOF[[#This Row],[DATEFINREVISEE]]) -> 2018 | Q771: =MONTH(Tab_SuiviOF[[#This Row],[DATEFINREVISEE]]) -> 4 | R771: =WEEKNUM(Tab_SuiviOF[[#This Row],[DATEFINREVISEE]],21) -> 17 | S771: 1333 | T771: 1333 | U771: 1475 | V771: =Tab_SuiviOF[[#This Row],[QTEBL]]*Tab_SuiviOF[[#This Row],[POIDS NET]] -> 442.5 | W771: =IFERROR(INDEX(Bd_MÉLANGES!$I:$I,MATCH('Bd_FABRICATIONS PF'!$G:$G,Bd_MÉLANGES!$J:$J,0)),0) -> 0 | X771: =IFERROR(INDEX(Bd_MÉLANGES!$K:$K,MATCH(Tab_SuiviOF[[#This Row],[LOT A PRENDRE EN COMPTE]],Bd_MÉLANGES!$J:$J,0)),0) -> 0
A772: 102 | B772: 5 | C772: 42490 | D772: 700249 | E772: 47110 | F772: {=INDEX(Bd_VENTILATIONS!$G:$G,MATCH(Tab_SuiviOF[[#This Row],[REFERENCE]]&Tab_SuiviOF[[#This Row],[BLNO]],Bd_VENTILATIONS!$F:$F&Bd_VENTILATIONS!$D:$D,0))} -> A113R03-1 | G772: =IFERROR(MID(Tab_SuiviOF[[#This Row],[LOT]],1,SEARCH("-",Tab_SuiviOF[[#This Row],[LOT]])-1),Tab_SuiviOF[[#This Row],[LOT]]) -> A113R03 | H772: TOL220 | I772: =INDEX(Bd_PF!$E:$E,MATCH(Tab_SuiviOF[[#This Row],[REFERENCE]],Bd_PF!$C:$C,0)) -> Gel' M bte 300g | J772: =INDEX(Bd_PF!$D:$D,MATCH(Tab_SuiviOF[[#This Row],[REFERENCE]],Bd_PF!$C:$C,0)) -> SF01117 | K772: =INDEX(Bd_PF!$I:$I,MATCH(Tab_SuiviOF[[#This Row],[REFERENCE]],Bd_PF!$C:$C,0)) -> 0.3 | L772: =INDEX(Bd_PF!$J:$J,MATCH(Tab_SuiviOF[[#This Row],[REFERENCE]],Bd_PF!$C:$C,0)) -> OTS | M772: =INDEX(Bd_PF!$K:$K,MATCH(Tab_SuiviOF[[#This Row],[REFERENCE]],Bd_PF!$C:$C,0)) -> Reconditionnement | N772: 43213 | O772: 43213 | P772: =YEAR(Tab_SuiviOF[[#This Row],[DATEFINREVISEE]]) -> 2018 | Q772: =MONTH(Tab_SuiviOF[[#This Row],[DATEFINREVISEE]]) -> 4 | R772: =WEEKNUM(Tab_SuiviOF[[#This Row],[DATEFINREVISEE]],21) -> 17 | S772: 1333 | T772: 1333 | U772: 1471 | V772: =Tab_SuiviOF[[#This Row],[QTEBL]]*Tab_SuiviOF[[#This Row],[POIDS NET]] -> 441.3 | W772: =IFERROR(INDEX(Bd_MÉLANGES!$I:$I,MATCH('Bd_FABRICATIONS PF'!$G:$G,Bd_MÉLANGES!$J:$J,0)),0) -> 0 | X772: =IFERROR(INDEX(Bd_MÉLANGES!$K:$K,MATCH(Tab_SuiviOF[[#This Row],[LOT A PRENDRE EN COMPTE]],Bd_MÉLANGES!$J:$J,0)),0) -> 0
A773: 102 | B773: 5 | C773: 42492 | D773: 700269 | E773: 47113 | F773: {=INDEX(Bd_VENTILATIONS!$G:$G,MATCH(Tab_SuiviOF[[#This Row],[REFERENCE]]&Tab_SuiviOF[[#This Row],[BLNO]],Bd_VENTILATIONS!$F:$F&Bd_VENTILATIONS!$D:$D,0))} -> A109M03-1 | G773: =IFERROR(MID(Tab_SuiviOF[[#This Row],[LOT]],1,SEARCH("-",Tab_SuiviOF[[#This Row],[LOT]])-1),Tab_SuiviOF[[#This Row],[LOT]]) -> A109M03 | H773: PF00232 | I773: =INDEX(Bd_PF!$E:$E,MATCH(Tab_SuiviOF[[#This Row],[REFERENCE]],Bd_PF!$C:$C,0)) -> LIAISON PARFAITE Bte standard 0.500 kg | J773: =INDEX(Bd_PF!$D:$D,MATCH(Tab_SuiviOF[[#This Row],[REFERENCE]],Bd_PF!$C:$C,0)) -> SF01122 | K773: =INDEX(Bd_PF!$I:$I,MATCH(Tab_SuiviOF[[#This Row],[REFERENCE]],Bd_PF!$C:$C,0)) -> 0.5 | L773: =INDEX(Bd_PF!$J:$J,MATCH(Tab_SuiviOF[[#This Row],[REFERENCE]],Bd_PF!$C:$C,0)) -> OTS | M773: =INDEX(Bd_PF!$K:$K,MATCH(Tab_SuiviOF[[#This Row],[REFERENCE]],Bd_PF!$C:$C,0)) -> Produit pesé | N773: 43213 | O773: 43213 | P773: =YEAR(Tab_SuiviOF[[#This Row],[DATEFINREVISEE]]) -> 2018 | Q773: =MONTH(Tab_SuiviOF[[#This Row],[DATEFINREVISEE]]) -> 4 | R773: =WEEKNUM(Tab_SuiviOF[[#This Row],[DATEFINREVISEE]],21) -> 17 | S773: 108 | T773: 108 | U773: 108 | V773: =Tab_SuiviOF[[#This Row],[QTEBL]]*Tab_SuiviOF[[#This Row],[POIDS NET]] -> 54 | W773: 54 | X773: 54
A774: 102 | B774: 5 | C774: 42341 | D774: 698467 | E774: 47122 | F774: {=INDEX(Bd_VENTILATIONS!$G:$G,MATCH(Tab_SuiviOF[[#This Row],[REFERENCE]]&Tab_SuiviOF[[#This Row],[BLNO]],Bd_VENTILATIONS!$F:$F&Bd_VENTILATIONS!$D:$D,0))} -> A109M08-1 | G774: =IFERROR(MID(Tab_SuiviOF[[#This Row],[LOT]],1,SEARCH("-",Tab_SuiviOF[[#This Row],[LOT]])-1),Tab_SuiviOF[[#This Row],[LOT]]) -> A109M08 | H774: TOL360 | I774: =INDEX(Bd_PF!$E:$E,MATCH(Tab_SuiviOF[[#This Row],[REFERENCE]],Bd_PF!$C:$C,0)) -> Eau gélifiée parfum orange sucré boite 800 g "Tonus Line" | J774: =INDEX(Bd_PF!$D:$D,MATCH(Tab_SuiviOF[[#This Row],[REFERENCE]],Bd_PF!$C:$C,0)) -> SF00720 | K774: =INDEX(Bd_PF!$I:$I,MATCH(Tab_SuiviOF[[#This Row],[REFERENCE]],Bd_PF!$C:$C,0)) -> 0.8 | L774: =INDEX(Bd_PF!$J:$J,MATCH(Tab_SuiviOF[[#This Row],[REFERENCE]],Bd_PF!$C:$C,0)) -> OTS | M774: =INDEX(Bd_PF!$K:$K,MATCH(Tab_SuiviOF[[#This Row],[REFERENCE]],Bd_PF!$C:$C,0)) -> Produit pesé | N774: 43214 | O774: 43214 | P774: =YEAR(Tab_SuiviOF[[#This Row],[DATEFINREVISEE]]) -> 2018 | Q774: =MONTH(Tab_SuiviOF[[#This Row],[DATEFINREVISEE]]) -> 4 | R774: =WEEKNUM(Tab_SuiviOF[[#This Row],[DATEFINREVISEE]],21) -> 17 | S774: 519 | T774: 651 | U774: 649 | V774: =Tab_SuiviOF[[#This Row],[QTEBL]]*Tab_SuiviOF[[#This Row],[POIDS NET]] -> 519.2 | W774: =IFERROR(INDEX(Bd_MÉLANGES!$I:$I,MATCH('Bd_FABRICATIONS PF'!$G:$G,Bd_MÉLANGES!$J:$J,0)),0) -> 520.8 | X774: =IFERROR(INDEX(Bd_MÉLANGES!$K:$K,MATCH(Tab_SuiviOF[[#This Row],[LOT A PRENDRE EN COMPTE]],Bd_MÉLANGES!$J:$J,0)),0) -> 519
A775: 102 | B775: 5 | C775: 42345 | D775: 698496 | E775: 47129 | F775: {=INDEX(Bd_VENTILATIONS!$G:$G,MATCH(Tab_SuiviOF[[#This Row],[REFERENCE]]&Tab_SuiviOF[[#This Row],[BLNO]],Bd_VENTILATIONS!$F:$F&Bd_VENTILATIONS!$D:$D,0))} -> A110M03-1 | G775: =IFERROR(MID(Tab_SuiviOF[[#This Row],[LOT]],1,SEARCH("-",Tab_SuiviOF[[#This Row],[LOT]])-1),Tab_SuiviOF[[#This Row],[LOT]]) -> A110M03 | H775: TOL1004 | I775: =INDEX(Bd_PF!$E:$E,MATCH(Tab_SuiviOF[[#This Row],[REFERENCE]],Bd_PF!$C:$C,0)) -> Hydr'instant saveur grenadine avec sucre et édulc 0.600 g | J775: =INDEX(Bd_PF!$D:$D,MATCH(Tab_SuiviOF[[#This Row],[REFERENCE]],Bd_PF!$C:$C,0)) -> SF01295 | K775: =INDEX(Bd_PF!$I:$I,MATCH(Tab_SuiviOF[[#This Row],[REFERENCE]],Bd_PF!$C:$C,0)) -> 0.6 | L775: =INDEX(Bd_PF!$J:$J,MATCH(Tab_SuiviOF[[#This Row],[REFERENCE]],Bd_PF!$C:$C,0)) -> OTS | M775: =INDEX(Bd_PF!$K:$K,MATCH(Tab_SuiviOF[[#This Row],[REFERENCE]],Bd_PF!$C:$C,0)) -> Produit pesé | N775: 43214 | O775: 43214 | P775: =YEAR(Tab_SuiviOF[[#This Row],[DATEFINREVISEE]]) -> 2018 | Q775: =MONTH(Tab_SuiviOF[[#This Row],[DATEFINREVISEE]]) -> 4 | R775: =WEEKNUM(Tab_SuiviOF[[#This Row],[DATEFINREVISEE]],21) -> 17 | S775: 648 | T775: 648 | U775: 646 | V775: =Tab_SuiviOF[[#This Row],[QTEBL]]*Tab_SuiviOF[[#This Row],[POIDS NET]] -> 387.6 | W775: =IFERROR(INDEX(Bd_MÉLANGES!$I:$I,MATCH('Bd_FABRICATIONS PF'!$G:$G,Bd_MÉLANGES!$J:$J,0)),0) -> 388.9 | X775: =IFERROR(INDEX(Bd_MÉLANGES!$K:$K,MATCH(Tab_SuiviOF[[#This Row],[LOT A PRENDRE EN COMPTE]],Bd_MÉLANGES!$J:$J,0)),0) -> 388.81
A776: 102 | B776: 5 | C776: 42347 | D776: 698515 | E776: 47123 | F776: {=INDEX(Bd_VENTILATIONS!$G:$G,MATCH(Tab_SuiviOF[[#This Row],[REFERENCE]]&Tab_SuiviOF[[#This Row],[BLNO]],Bd_VENTILATIONS!$F:$F&Bd_VENTILATIONS!$D:$D,0))} -> A110M04-1 | G776: =IFERROR(MID(Tab_SuiviOF[[#This Row],[LOT]],1,SEARCH("-",Tab_SuiviOF[[#This Row],[LOT]])-1),Tab_SuiviOF[[#This Row],[LOT]]) -> A110M04 | H776: TOL356 | I776: =INDEX(Bd_PF!$E:$E,MATCH(Tab_SuiviOF[[#This Row],[REFERENCE]],Bd_PF!$C:$C,0)) -> Eau gélifiée parfum grenadine sucré boite 800 g "Tonus Line" | J776: =INDEX(Bd_PF!$D:$D,MATCH(Tab_SuiviOF[[#This Row],[REFERENCE]],Bd_PF!$C:$C,0)) -> SF00718 | K776: =INDEX(Bd_PF!$I:$I,MATCH(Tab_SuiviOF[[#This Row],[REFERENCE]],Bd_PF!$C:$C,0)) -> 0.8 | L776: =INDEX(Bd_PF!$J:$J,MATCH(Tab_SuiviOF[[#This Row],[REFERENCE]],Bd_PF!$C:$C,0)) -> OTS | M776: =INDEX(Bd_PF!$K:$K,MATCH(Tab_SuiviOF[[#This Row],[REFERENCE]],Bd_PF!$C:$C,0)) -> Produit pesé | N776: 43214 | O776: 43214 | P776: =YEAR(Tab_SuiviOF[[#This Row],[DATEFINREVISEE]]) -> 2018 | Q776: =MONTH(Tab_SuiviOF[[#This Row],[DATEFINREVISEE]]) -> 4 | R776: =WEEKNUM(Tab_SuiviOF[[#This Row],[DATEFINREVISEE]],21) -> 17 | S776: 648 | T776: 649 | U776: 649 | V776: =Tab_SuiviOF[[#This Row],[QTEBL]]*Tab_SuiviOF[[#This Row],[POIDS NET]] -> 519.2 | W776: =IFERROR(INDEX(Bd_MÉLANGES!$I:$I,MATCH('Bd_FABRICATIONS PF'!$G:$G,Bd_MÉLANGES!$J:$J,0)),0) -> 519.5 | X776: =IFERROR(INDEX(Bd_MÉLANGES!$K:$K,MATCH(Tab_SuiviOF[[#This Row],[LOT A PRENDRE EN COMPTE]],Bd_MÉLANGES!$J:$J,0)),0) -> 518.99
A777: 102 | B777: 5 | C777: 42355 | D777: 698575 | E777: 47136 | F777: {=INDEX(Bd_VENTILATIONS!$G:$G,MATCH(Tab_SuiviOF[[#This Row],[REFERENCE]]&Tab_SuiviOF[[#This Row],[BLNO]],Bd_VENTILATIONS!$F:$F&Bd_VENTILATIONS!$D:$D,0))} -> A113M04-1 | G777: =IFERROR(MID(Tab_SuiviOF[[#This Row],[LOT]],1,SEARCH("-",Tab_SuiviOF[[#This Row],[LOT]])-1),Tab_SuiviOF[[#This Row],[LOT]]) -> A113M04 | H777: TOL231 | I777: =INDEX(Bd_PF!$E:$E,MATCH(Tab_SuiviOF[[#This Row],[REFERENCE]],Bd_PF!$C:$C,0)) -> Protinut bte 0kg500 "TOL" | J777: =INDEX(Bd_PF!$D:$D,MATCH(Tab_SuiviOF[[#This Row],[REFERENCE]],Bd_PF!$C:$C,0)) -> SF00841 | K777: =INDEX(Bd_PF!$I:$I,MATCH(Tab_SuiviOF[[#This Row],[REFERENCE]],Bd_PF!$C:$C,0)) -> 0.5 | L777: =INDEX(Bd_PF!$J:$J,MATCH(Tab_SuiviOF[[#This Row],[REFERENCE]],Bd_PF!$C:$C,0)) -> OTS | M777: =INDEX(Bd_PF!$K:$K,MATCH(Tab_SuiviOF[[#This Row],[REFERENCE]],Bd_PF!$C:$C,0)) -> Produit pesé | N777: 43214 | O777: 43214 | P777: =YEAR(Tab_SuiviOF[[#This Row],[DATEFINREVISEE]]) -> 2018 | Q777: =MONTH(Tab_SuiviOF[[#This Row],[DATEFINREVISEE]]) -> 4 | R777: =WEEKNUM(Tab_SuiviOF[[#This Row],[DATEFINREVISEE]],21) -> 17 | S777: 810 | T777: 807 | U777: 798 | V777: =Tab_SuiviOF[[#This Row],[QTEBL]]*Tab_SuiviOF[[#This Row],[POIDS NET]] -> 399 | W777: =IFERROR(INDEX(Bd_MÉLANGES!$I:$I,MATCH('Bd_FABRICATIONS PF'!$G:$G,Bd_MÉLANGES!$J:$J,0)),0) -> 403.9 | X777: =IFERROR(INDEX(Bd_MÉLANGES!$K:$K,MATCH(Tab_SuiviOF[[#This Row],[LOT A PRENDRE EN COMPTE]],Bd_MÉLANGES!$J:$J,0)),0) -> 405
A778: 102 | B778: 5 | C778: 42359 | D778: 698593 | E778: 47138 | F778: {=INDEX(Bd_VENTILATIONS!$G:$G,MATCH(Tab_SuiviOF[[#This Row],[REFERENCE]]&Tab_SuiviOF[[#This Row],[BLNO]],Bd_VENTILATIONS!$F:$F&Bd_VENTILATIONS!$D:$D,0))} -> A113M05-1 | G778: =IFERROR(MID(Tab_SuiviOF[[#This Row],[LOT]],1,SEARCH("-",Tab_SuiviOF[[#This Row],[LOT]])-1),Tab_SuiviOF[[#This Row],[LOT]]) -> A113M05 | H778: TOL231 | I778: =INDEX(Bd_PF!$E:$E,MATCH(Tab_SuiviOF[[#This Row],[REFERENCE]],Bd_PF!$C:$C,0)) -> Protinut bte 0kg500 "TOL" | J778: =INDEX(Bd_PF!$D:$D,MATCH(Tab_SuiviOF[[#This Row],[REFERENCE]],Bd_PF!$C:$C,0)) -> SF00841 | K778: =INDEX(Bd_PF!$I:$I,MATCH(Tab_SuiviOF[[#This Row],[REFERENCE]],Bd_PF!$C:$C,0)) -> 0.5 | L778: =INDEX(Bd_PF!$J:$J,MATCH(Tab_SuiviOF[[#This Row],[REFERENCE]],Bd_PF!$C:$C,0)) -> OTS | M778: =INDEX(Bd_PF!$K:$K,MATCH(Tab_SuiviOF[[#This Row],[REFERENCE]],Bd_PF!$C:$C,0)) -> Produit pesé | N778: 43214 | O778: 43214 | P778: =YEAR(Tab_SuiviOF[[#This Row],[DATEFINREVISEE]]) -> 2018 | Q778: =MONTH(Tab_SuiviOF[[#This Row],[DATEFINREVISEE]]) -> 4 | R778: =WEEKNUM(Tab_SuiviOF[[#This Row],[DATEFINREVISEE]],21) -> 17 | S778: 810 | T778: 811 | U778: 809 | V778: =Tab_SuiviOF[[#This Row],[QTEBL]]*Tab_SuiviOF[[#This Row],[POIDS NET]] -> 404.5 | W778: =IFERROR(INDEX(Bd_MÉLANGES!$I:$I,MATCH('Bd_FABRICATIONS PF'!$G:$G,Bd_MÉLANGES!$J:$J,0)),0) -> 405.7 | X778: =IFERROR(INDEX(Bd_MÉLANGES!$K:$K,MATCH(Tab_SuiviOF[[#This Row],[LOT A PRENDRE EN COMPTE]],Bd_MÉLANGES!$J:$J,0)),0) -> 405
A779: 102 | B779: 5 | C779: 42366 | D779: 698639 | E779: 47124 | F779: {=INDEX(Bd_VENTILATIONS!$G:$G,MATCH(Tab_SuiviOF[[#This Row],[REFERENCE]]&Tab_SuiviOF[[#This Row],[BLNO]],Bd_VENTILATIONS!$F:$F&Bd_VENTILATIONS!$D:$D,0))} -> A110M01-1 | G779: =IFERROR(MID(Tab_SuiviOF[[#This Row],[LOT]],1,SEARCH("-",Tab_SuiviOF[[#This Row],[LOT]])-1),Tab_SuiviOF[[#This Row],[LOT]]) -> A110M01 | H779: TOL1000 | I779: =INDEX(Bd_PF!$E:$E,MATCH(Tab_SuiviOF[[#This Row],[REFERENCE]],Bd_PF!$C:$C,0)) -> Hydr'instant saveur abricot avec sucre et édulc 0.600 g | J779: =INDEX(Bd_PF!$D:$D,MATCH(Tab_SuiviOF[[#This Row],[REFERENCE]],Bd_PF!$C:$C,0)) -> SF01291 | K779: =INDEX(Bd_PF!$I:$I,MATCH(Tab_SuiviOF[[#This Row],[REFERENCE]],Bd_PF!$C:$C,0)) -> 0.6 | L779: =INDEX(Bd_PF!$J:$J,MATCH(Tab_SuiviOF[[#This Row],[REFERENCE]],Bd_PF!$C:$C,0)) -> OTS | M779: =INDEX(Bd_PF!$K:$K,MATCH(Tab_SuiviOF[[#This Row],[REFERENCE]],Bd_PF!$C:$C,0)) -> Produit pesé | N779: 43214 | O779: 43214 | P779: =YEAR(Tab_SuiviOF[[#This Row],[DATEFINREVISEE]]) -> 2018 | Q779: =MONTH(Tab_SuiviOF[[#This Row],[DATEFINREVISEE]]) -> 4 | R779: =WEEKNUM(Tab_SuiviOF[[#This Row],[DATEFINREVISEE]],21) -> 17 | S779: 324 | T779: 324 | U779: 322 | V779: =Tab_SuiviOF[[#This Row],[QTEBL]]*Tab_SuiviOF[[#This Row],[POIDS NET]] -> 193.2 | W779: =IFERROR(INDEX(Bd_MÉLANGES!$I:$I,MATCH('Bd_FABRICATIONS PF'!$G:$G,Bd_MÉLANGES!$J:$J,0)),0) -> 194.3 | X779: =IFERROR(INDEX(Bd_MÉLANGES!$K:$K,MATCH(Tab_SuiviOF[[#This Row],[LOT A PRENDRE EN COMPTE]],Bd_MÉLANGES!$J:$J,0)),0) -> 194.4
A780: 102 | B780: 5 | C780: 42368 | D780: 698659 | E780: 47130 | F780: {=INDEX(Bd_VENTILATIONS!$G:$G,MATCH(Tab_SuiviOF[[#This Row],[REFERENCE]]&Tab_SuiviOF[[#This Row],[BLNO]],Bd_VENTILATIONS!$F:$F&Bd_VENTILATIONS!$D:$D,0))} -> A113M03-1 | G780: =IFERROR(MID(Tab_SuiviOF[[#This Row],[LOT]],1,SEARCH("-",Tab_SuiviOF[[#This Row],[LOT]])-1),Tab_SuiviOF[[#This Row],[LOT]]) -> A113M03 | H780: TOL297 | I780: =INDEX(Bd_PF!$E:$E,MATCH(Tab_SuiviOF[[#This Row],[REFERENCE]],Bd_PF!$C:$C,0)) -> Gel'froid parfum menthe boite 1 kg "Tonus Line" | J780: =INDEX(Bd_PF!$D:$D,MATCH(Tab_SuiviOF[[#This Row],[REFERENCE]],Bd_PF!$C:$C,0)) -> SF01195 | K780: =INDEX(Bd_PF!$I:$I,MATCH(Tab_SuiviOF[[#This Row],[REFERENCE]],Bd_PF!$C:$C,0)) -> 1 | L780: =INDEX(Bd_PF!$J:$J,MATCH(Tab_SuiviOF[[#This Row],[REFERENCE]],Bd_PF!$C:$C,0)) -> OTS | M780: =INDEX(Bd_PF!$K:$K,MATCH(Tab_SuiviOF[[#This Row],[REFERENCE]],Bd_PF!$C:$C,0)) -> Produit pesé | N780: 43214 | O780: 43214 | P780: =YEAR(Tab_SuiviOF[[#This Row],[DATEFINREVISEE]]) -> 2018 | Q780: =MONTH(Tab_SuiviOF[[#This Row],[DATEFINREVISEE]]) -> 4 | R780: =WEEKNUM(Tab_SuiviOF[[#This Row],[DATEFINREVISEE]],21) -> 17 | S780: 324 | T780: 324 | U780: 322 | V780: =Tab_SuiviOF[[#This Row],[QTEBL]]*Tab_SuiviOF[[#This Row],[POIDS NET]] -> 322 | W780: =IFERROR(INDEX(Bd_MÉLANGES!$I:$I,MATCH('Bd_FABRICATIONS PF'!$G:$G,Bd_MÉLANGES!$J:$J,0)),0) -> 324.5 | X780: =IFERROR(INDEX(Bd_MÉLANGES!$K:$K,MATCH(Tab_SuiviOF[[#This Row],[LOT A PRENDRE EN COMPTE]],Bd_MÉLANGES!$J:$J,0)),0) -> 324.81
A781: 102 | B781: 5 | C781: 42442 | D781: 699870 | E781: 47121 | F781: {=INDEX(Bd_VENTILATIONS!$G:$G,MATCH(Tab_SuiviOF[[#This Row],[REFERENCE]]&Tab_SuiviOF[[#This Row],[BLNO]],Bd_VENTILATIONS!$F:$F&Bd_VENTILATIONS!$D:$D,0))} -> A102M04-2 | G781: =IFERROR(MID(Tab_SuiviOF[[#This Row],[LOT]],1,SEARCH("-",Tab_SuiviOF[[#This Row],[LOT]])-1),Tab_SuiviOF[[#This Row],[LOT]]) -> A102M04 | H781: TOL983 | I781: =INDEX(Bd_PF!$E:$E,MATCH(Tab_SuiviOF[[#This Row],[REFERENCE]],Bd_PF!$C:$C,0)) -> Gel' Ami - sac 1 kg - "Tonus Line" | J781: =INDEX(Bd_PF!$D:$D,MATCH(Tab_SuiviOF[[#This Row],[REFERENCE]],Bd_PF!$C:$C,0)) -> SF01122 | K781: =INDEX(Bd_PF!$I:$I,MATCH(Tab_SuiviOF[[#This Row],[REFERENCE]],Bd_PF!$C:$C,0)) -> 1 | L781: =INDEX(Bd_PF!$J:$J,MATCH(Tab_SuiviOF[[#This Row],[REFERENCE]],Bd_PF!$C:$C,0)) -> Tecse | M781: =INDEX(Bd_PF!$K:$K,MATCH(Tab_SuiviOF[[#This Row],[REFERENCE]],Bd_PF!$C:$C,0)) -> Produit pesé | N781: 43214 | O781: 43214 | P781: =YEAR(Tab_SuiviOF[[#This Row],[DATEFINREVISEE]]) -> 2018 | Q781: =MONTH(Tab_SuiviOF[[#This Row],[DATEFINREVISEE]]) -> 4 | R781: =WEEKNUM(Tab_SuiviOF[[#This Row],[DATEFINREVISEE]],21) -> 17 | S781: 433 | T781: 433 | U781: 420 | V781: =Tab_SuiviOF[[#This Row],[QTEBL]]*Tab_SuiviOF[[#This Row],[POIDS NET]] -> 420 | W781: =IFERROR(INDEX(Bd_MÉLANGES!$I:$I,MATCH('Bd_FABRICATIONS PF'!$G:$G,Bd_MÉLANGES!$J:$J,0)),0) -> 433.1 | X781: =IFERROR(INDEX(Bd_MÉLANGES!$K:$K,MATCH(Tab_SuiviOF[[#This Row],[LOT A PRENDRE EN COMPTE]],Bd_MÉLANGES!$J:$J,0)),0) -> 423
A782: 102 | B782: 5 | C782: 42443 | D782: 699875 | E782: 47120 | F782: {=INDEX(Bd_VENTILATIONS!$G:$G,MATCH(Tab_SuiviOF[[#This Row],[REFERENCE]]&Tab_SuiviOF[[#This Row],[BLNO]],Bd_VENTILATIONS!$F:$F&Bd_VENTILATIONS!$D:$D,0))} -> A109M01-2 | G782: =IFERROR(MID(Tab_SuiviOF[[#This Row],[LOT]],1,SEARCH("-",Tab_SuiviOF[[#This Row],[LOT]])-1),Tab_SuiviOF[[#This Row],[LOT]]) -> A109M01 | H782: TOL983 | I782: =INDEX(Bd_PF!$E:$E,MATCH(Tab_SuiviOF[[#This Row],[REFERENCE]],Bd_PF!$C:$C,0)) -> Gel' Ami - sac 1 kg - "Tonus Line" | J782: =INDEX(Bd_PF!$D:$D,MATCH(Tab_SuiviOF[[#This Row],[REFERENCE]],Bd_PF!$C:$C,0)) -> SF01122 | K782: =INDEX(Bd_PF!$I:$I,MATCH(Tab_SuiviOF[[#This Row],[REFERENCE]],Bd_PF!$C:$C,0)) -> 1 | L782: =INDEX(Bd_PF!$J:$J,MATCH(Tab_SuiviOF[[#This Row],[REFERENCE]],Bd_PF!$C:$C,0)) -> Tecse | M782: =INDEX(Bd_PF!$K:$K,MATCH(Tab_SuiviOF[[#This Row],[REFERENCE]],Bd_PF!$C:$C,0)) -> Produit pesé | N782: 43214 | O782: 43214 | P782: =YEAR(Tab_SuiviOF[[#This Row],[DATEFINREVISEE]]) -> 2018 | Q782: =MONTH(Tab_SuiviOF[[#This Row],[DATEFINREVISEE]]) -> 4 | R782: =WEEKNUM(Tab_SuiviOF[[#This Row],[DATEFINREVISEE]],21) -> 17 | S782: 409 | T782: 409 | U782: 410 | V782: =Tab_SuiviOF[[#This Row],[QTEBL]]*Tab_SuiviOF[[#This Row],[POIDS NET]] -> 410 | W782: =IFERROR(INDEX(Bd_MÉLANGES!$I:$I,MATCH('Bd_FABRICATIONS PF'!$G:$G,Bd_MÉLANGES!$J:$J,0)),0) -> 409.7 | X782: =IFERROR(INDEX(Bd_MÉLANGES!$K:$K,MATCH(Tab_SuiviOF[[#This Row],[LOT A PRENDRE EN COMPTE]],Bd_MÉLANGES!$J:$J,0)),0) -> 423
A783: 102 | B783: 5 | C783: 42444 | D783: 699880 | E783: 47131 | F783: {=INDEX(Bd_VENTILATIONS!$G:$G,MATCH(Tab_SuiviOF[[#This Row],[REFERENCE]]&Tab_SuiviOF[[#This Row],[BLNO]],Bd_VENTILATIONS!$F:$F&Bd_VENTILATIONS!$D:$D,0))} -> A109M02-2 | G783: =IFERROR(MID(Tab_SuiviOF[[#This Row],[LOT]],1,SEARCH("-",Tab_SuiviOF[[#This Row],[LOT]])-1),Tab_SuiviOF[[#This Row],[LOT]]) -> A109M02 | H783: TOL983 | I783: =INDEX(Bd_PF!$E:$E,MATCH(Tab_SuiviOF[[#This Row],[REFERENCE]],Bd_PF!$C:$C,0)) -> Gel' Ami - sac 1 kg - "Tonus Line" | J783: =INDEX(Bd_PF!$D:$D,MATCH(Tab_SuiviOF[[#This Row],[REFERENCE]],Bd_PF!$C:$C,0)) -> SF01122 | K783: =INDEX(Bd_PF!$I:$I,MATCH(Tab_SuiviOF[[#This Row],[REFERENCE]],Bd_PF!$C:$C,0)) -> 1 | L783: =INDEX(Bd_PF!$J:$J,MATCH(Tab_SuiviOF[[#This Row],[REFERENCE]],Bd_PF!$C:$C,0)) -> Tecse | M783: =INDEX(Bd_PF!$K:$K,MATCH(Tab_SuiviOF[[#This Row],[REFERENCE]],Bd_PF!$C:$C,0)) -> Produit pesé | N783: 43214 | O783: 43214 | P783: =YEAR(Tab_SuiviOF[[#This Row],[DATEFINREVISEE]]) -> 2018 | Q783: =MONTH(Tab_SuiviOF[[#This Row],[DATEFINREVISEE]]) -> 4 | R783: =WEEKNUM(Tab_SuiviOF[[#This Row],[DATEFINREVISEE]],21) -> 17 | S783: 421 | T783: 421 | U783: 423 | V783: =Tab_SuiviOF[[#This Row],[QTEBL]]*Tab_SuiviOF[[#This Row],[POIDS NET]] -> 423 | W783: =IFERROR(INDEX(Bd_MÉLANGES!$I:$I,MATCH('Bd_FABRICATIONS PF'!$G:$G,Bd_MÉLANGES!$J:$J,0)),0) -> 421.9 | X783: =IFERROR(INDEX(Bd_MÉLANGES!$K:$K,MATCH(Tab_SuiviOF[[#This Row],[LOT A PRENDRE EN COMPTE]],Bd_MÉLANGES!$J:$J,0)),0) -> 423
A784: 102 | B784: 5 | C784: 42491 | D784: 700262 | E784: 47143 | F784: {=INDEX(Bd_VENTILATIONS!$G:$G,MATCH(Tab_SuiviOF[[#This Row],[REFERENCE]]&Tab_SuiviOF[[#This Row],[BLNO]],Bd_VENTILATIONS!$F:$F&Bd_VENTILATIONS!$D:$D,0))} -> A095MR01-8 | G784: =IFERROR(MID(Tab_SuiviOF[[#This Row],[LOT]],1,SEARCH("-",Tab_SuiviOF[[#This Row],[LOT]])-1),Tab_SuiviOF[[#This Row],[LOT]]) -> A095MR01 | H784: PF00242 | I784: =INDEX(Bd_PF!$E:$E,MATCH(Tab_SuiviOF[[#This Row],[REFERENCE]],Bd_PF!$C:$C,0)) -> Gel clear stick 3,7G | J784: =INDEX(Bd_PF!$D:$D,MATCH(Tab_SuiviOF[[#This Row],[REFERENCE]],Bd_PF!$C:$C,0)) -> SF01381 | K784: =INDEX(Bd_PF!$I:$I,MATCH(Tab_SuiviOF[[#This Row],[REFERENCE]],Bd_PF!$C:$C,0)) -> 0.003 | L784: =INDEX(Bd_PF!$J:$J,MATCH(Tab_SuiviOF[[#This Row],[REFERENCE]],Bd_PF!$C:$C,0)) -> Stick | M784: =INDEX(Bd_PF!$K:$K,MATCH(Tab_SuiviOF[[#This Row],[REFERENCE]],Bd_PF!$C:$C,0)) -> Produit pesé | N784: 43213 | O784: 43214 | P784: =YEAR(Tab_SuiviOF[[#This Row],[DATEFINREVISEE]]) -> 2018 | Q784: =MONTH(Tab_SuiviOF[[#This Row],[DATEFINREVISEE]]) -> 4 | R784: =WEEKNUM(Tab_SuiviOF[[#This Row],[DATEFINREVISEE]],21) -> 17 | S784: 4680 | T784: 4680 | U784: 4860 | V784: =Tab_SuiviOF[[#This Row],[QTEBL]]*Tab_SuiviOF[[#This Row],[POIDS NET]] -> 14.58 | W784: 17 | X784: 17
A785: 102 | B785: 5 | C785: 42498 | D785: 700462 | E785: 47145 | F785: {=INDEX(Bd_VENTILATIONS!$G:$G,MATCH(Tab_SuiviOF[[#This Row],[REFERENCE]]&Tab_SuiviOF[[#This Row],[BLNO]],Bd_VENTILATIONS!$F:$F&Bd_VENTILATIONS!$D:$D,0))} -> A114BIO07-7 | G785: =IFERROR(MID(Tab_SuiviOF[[#This Row],[LOT]],1,SEARCH("-",Tab_SuiviOF[[#This Row],[LOT]])-1),Tab_SuiviOF[[#This Row],[LOT]]) -> A114BIO07 | H785: BIOPF001 | I785: =INDEX(Bd_PF!$E:$E,MATCH(Tab_SuiviOF[[#This Row],[REFERENCE]],Bd_PF!$C:$C,0)) -> #N/A | J785: =INDEX(Bd_PF!$D:$D,MATCH(Tab_SuiviOF[[#This Row],[REFERENCE]],Bd_PF!$C:$C,0)) -> #N/A | K785: =INDEX(Bd_PF!$I:$I,MATCH(Tab_SuiviOF[[#This Row],[REFERENCE]],Bd_PF!$C:$C,0)) -> #N/A | L785: =INDEX(Bd_PF!$J:$J,MATCH(Tab_SuiviOF[[#This Row],[REFERENCE]],Bd_PF!$C:$C,0)) -> #N/A | M785: =INDEX(Bd_PF!$K:$K,MATCH(Tab_SuiviOF[[#This Row],[REFERENCE]],Bd_PF!$C:$C,0)) -> #N/A | N785: 43214 | O785: 43214 | P785: =YEAR(Tab_SuiviOF[[#This Row],[DATEFINREVISEE]]) -> 2018 | Q785: =MONTH(Tab_SuiviOF[[#This Row],[DATEFINREVISEE]]) -> 4 | R785: =WEEKNUM(Tab_SuiviOF[[#This Row],[DATEFINREVISEE]],21) -> 17 | S785: 60 | T785: 60 | U785: 58 | V785: =Tab_SuiviOF[[#This Row],[QTEBL]]*Tab_SuiviOF[[#This Row],[POIDS NET]] -> #N/A | W785: =IFERROR(INDEX(Bd_MÉLANGES!$I:$I,MATCH('Bd_FABRICATIONS PF'!$G:$G,Bd_MÉLANGES!$J:$J,0)),0) -> 0 | X785: =IFERROR(INDEX(Bd_MÉLANGES!$K:$K,MATCH(Tab_SuiviOF[[#This Row],[LOT A PRENDRE EN COMPTE]],Bd_MÉLANGES!$J:$J,0)),0) -> 0
A786: 102 | B786: 5 | C786: 42499 | D786: 700469 | E786: 47144 | F786: {=INDEX(Bd_VENTILATIONS!$G:$G,MATCH(Tab_SuiviOF[[#This Row],[REFERENCE]]&Tab_SuiviOF[[#This Row],[BLNO]],Bd_VENTILATIONS!$F:$F&Bd_VENTILATIONS!$D:$D,0))} -> AS17PU01-7 | G786: =IFERROR(MID(Tab_SuiviOF[[#This Row],[LOT]],1,SEARCH("-",Tab_SuiviOF[[#This Row],[LOT]])-1),Tab_SuiviOF[[#This Row],[LOT]]) -> AS17PU01 | H786: EDE103 | I786: =INDEX(Bd_PF!$E:$E,MATCH(Tab_SuiviOF[[#This Row],[REFERENCE]],Bd_PF!$C:$C,0)) -> Purée grand-mère salée sac 5 kg | J786: =INDEX(Bd_PF!$D:$D,MATCH(Tab_SuiviOF[[#This Row],[REFERENCE]],Bd_PF!$C:$C,0)) -> SF01288 | K786: =INDEX(Bd_PF!$I:$I,MATCH(Tab_SuiviOF[[#This Row],[REFERENCE]],Bd_PF!$C:$C,0)) -> 5 | L786: =INDEX(Bd_PF!$J:$J,MATCH(Tab_SuiviOF[[#This Row],[REFERENCE]],Bd_PF!$C:$C,0)) -> Purée | M786: =INDEX(Bd_PF!$K:$K,MATCH(Tab_SuiviOF[[#This Row],[REFERENCE]],Bd_PF!$C:$C,0)) -> Purée | N786: 43214 | O786: 43214 | P786: =YEAR(Tab_SuiviOF[[#This Row],[DATEFINREVISEE]]) -> 2018 | Q786: =MONTH(Tab_SuiviOF[[#This Row],[DATEFINREVISEE]]) -> 4 | R786: =WEEKNUM(Tab_SuiviOF[[#This Row],[DATEFINREVISEE]],21) -> 17 | S786: 240 | T786: 240 | U786: 238 | V786: =Tab_SuiviOF[[#This Row],[QTEBL]]*Tab_SuiviOF[[#This Row],[POIDS NET]] -> 1190 | W786: =IFERROR(INDEX(Bd_MÉLANGES!$I:$I,MATCH('Bd_FABRICATIONS PF'!$G:$G,Bd_MÉLANGES!$J:$J,0)),0) -> 0 | X786: =IFERROR(INDEX(Bd_MÉLANGES!$K:$K,MATCH(Tab_SuiviOF[[#This Row],[LOT A PRENDRE EN COMPTE]],Bd_MÉLANGES!$J:$J,0)),0) -> 0
A787: 102 | B787: 5 | C787: 42351 | D787: 698545 | E787: 47148 | F787: {=INDEX(Bd_VENTILATIONS!$G:$G,MATCH(Tab_SuiviOF[[#This Row],[REFERENCE]]&Tab_SuiviOF[[#This Row],[BLNO]],Bd_VENTILATIONS!$F:$F&Bd_VENTILATIONS!$D:$D,0))} -> A110M02-2 | G787: =IFERROR(MID(Tab_SuiviOF[[#This Row],[LOT]],1,SEARCH("-",Tab_SuiviOF[[#This Row],[LOT]])-1),Tab_SuiviOF[[#This Row],[LOT]]) -> A110M02 | H787: TOL802 | I787: =INDEX(Bd_PF!$E:$E,MATCH(Tab_SuiviOF[[#This Row],[REFERENCE]],Bd_PF!$C:$C,0)) -> Eau gélifiée parfum fruits rouges sucré sachet 80g "Tonus Line" | J787: =INDEX(Bd_PF!$D:$D,MATCH(Tab_SuiviOF[[#This Row],[REFERENCE]],Bd_PF!$C:$C,0)) -> SF00717 | K787: =INDEX(Bd_PF!$I:$I,MATCH(Tab_SuiviOF[[#This Row],[REFERENCE]],Bd_PF!$C:$C,0)) -> 0.08 | L787: =INDEX(Bd_PF!$J:$J,MATCH(Tab_SuiviOF[[#This Row],[REFERENCE]],Bd_PF!$C:$C,0)) -> Tecse | M787: =INDEX(Bd_PF!$K:$K,MATCH(Tab_SuiviOF[[#This Row],[REFERENCE]],Bd_PF!$C:$C,0)) -> Produit pesé | N787: 43214 | O787: 43215 | P787: =YEAR(Tab_SuiviOF[[#This Row],[DATEFINREVISEE]]) -> 2018 | Q787: =MONTH(Tab_SuiviOF[[#This Row],[DATEFINREVISEE]]) -> 4 | R787: =WEEKNUM(Tab_SuiviOF[[#This Row],[DATEFINREVISEE]],21) -> 17 | S787: 5184 | T787: 5328 | U787: 5205 | V787: =Tab_SuiviOF[[#This Row],[QTEBL]]*Tab_SuiviOF[[#This Row],[POIDS NET]] -> 416.4 | W787: =IFERROR(INDEX(Bd_MÉLANGES!$I:$I,MATCH('Bd_FABRICATIONS PF'!$G:$G,Bd_MÉLANGES!$J:$J,0)),0) -> 426.3 | X787: =IFERROR(INDEX(Bd_MÉLANGES!$K:$K,MATCH(Tab_SuiviOF[[#This Row],[LOT A PRENDRE EN COMPTE]],Bd_MÉLANGES!$J:$J,0)),0) -> 424.99
A788: 102 | B788: 5 | C788: 42362 | D788: 698610 | E788: 47157 | F788: {=INDEX(Bd_VENTILATIONS!$G:$G,MATCH(Tab_SuiviOF[[#This Row],[REFERENCE]]&Tab_SuiviOF[[#This Row],[BLNO]],Bd_VENTILATIONS!$F:$F&Bd_VENTILATIONS!$D:$D,0))} -> A113M07-2 | G788: =IFERROR(MID(Tab_SuiviOF[[#This Row],[LOT]],1,SEARCH("-",Tab_SuiviOF[[#This Row],[LOT]])-1),Tab_SuiviOF[[#This Row],[LOT]]) -> A113M07 | H788: TOL1068 | I788: =INDEX(Bd_PF!$E:$E,MATCH(Tab_SuiviOF[[#This Row],[REFERENCE]],Bd_PF!$C:$C,0)) -> Céréales instant parfum BISCUIT avec édulcorant 650 g | J788: =INDEX(Bd_PF!$D:$D,MATCH(Tab_SuiviOF[[#This Row],[REFERENCE]],Bd_PF!$C:$C,0)) -> SF01436 | K788: =INDEX(Bd_PF!$I:$I,MATCH(Tab_SuiviOF[[#This Row],[REFERENCE]],Bd_PF!$C:$C,0)) -> 0.65 | L788: =INDEX(Bd_PF!$J:$J,MATCH(Tab_SuiviOF[[#This Row],[REFERENCE]],Bd_PF!$C:$C,0)) -> Tecse | M788: =INDEX(Bd_PF!$K:$K,MATCH(Tab_SuiviOF[[#This Row],[REFERENCE]],Bd_PF!$C:$C,0)) -> Produit pesé | N788: 43215 | O788: 43215 | P788: =YEAR(Tab_SuiviOF[[#This Row],[DATEFINREVISEE]]) -> 2018 | Q788: =MONTH(Tab_SuiviOF[[#This Row],[DATEFINREVISEE]]) -> 4 | R788: =WEEKNUM(Tab_SuiviOF[[#This Row],[DATEFINREVISEE]],21) -> 17 | S788: 972 | T788: 976 | U788: 967 | V788: =Tab_SuiviOF[[#This Row],[QTEBL]]*Tab_SuiviOF[[#This Row],[POIDS NET]] -> 628.55 | W788: =IFERROR(INDEX(Bd_MÉLANGES!$I:$I,MATCH('Bd_FABRICATIONS PF'!$G:$G,Bd_MÉLANGES!$J:$J,0)),0) -> 634.4 | X788: =IFERROR(INDEX(Bd_MÉLANGES!$K:$K,MATCH(Tab_SuiviOF[[#This Row],[LOT A PRENDRE EN COMPTE]],Bd_MÉLANGES!$J:$J,0)),0) -> 631.79
A789: 102 | B789: 5 | C789: 42372 | D789: 698690 | E789: 47152 | F789: {=INDEX(Bd_VENTILATIONS!$G:$G,MATCH(Tab_SuiviOF[[#This Row],[REFERENCE]]&Tab_SuiviOF[[#This Row],[BLNO]],Bd_VENTILATIONS!$F:$F&Bd_VENTILATIONS!$D:$D,0))} -> A114M06-1 | G789: =IFERROR(MID(Tab_SuiviOF[[#This Row],[LOT]],1,SEARCH("-",Tab_SuiviOF[[#This Row],[LOT]])-1),Tab_SuiviOF[[#This Row],[LOT]]) -> A114M06 | H789: PERF015 | I789: =INDEX(Bd_PF!$E:$E,MATCH(Tab_SuiviOF[[#This Row],[REFERENCE]],Bd_PF!$C:$C,0)) -> Bouillon de légumes - boite 1 kg "NUTRISENS PERFORMANCE" | J789: =INDEX(Bd_PF!$D:$D,MATCH(Tab_SuiviOF[[#This Row],[REFERENCE]],Bd_PF!$C:$C,0)) -> SF01312 | K789: =INDEX(Bd_PF!$I:$I,MATCH(Tab_SuiviOF[[#This Row],[REFERENCE]],Bd_PF!$C:$C,0)) -> 1 | L789: =INDEX(Bd_PF!$J:$J,MATCH(Tab_SuiviOF[[#This Row],[REFERENCE]],Bd_PF!$C:$C,0)) -> OTS | M789: =INDEX(Bd_PF!$K:$K,MATCH(Tab_SuiviOF[[#This Row],[REFERENCE]],Bd_PF!$C:$C,0)) -> Produit pesé | N789: 43215 | O789: 43215 | P789: =YEAR(Tab_SuiviOF[[#This Row],[DATEFINREVISEE]]) -> 2018 | Q789: =MONTH(Tab_SuiviOF[[#This Row],[DATEFINREVISEE]]) -> 4 | R789: =WEEKNUM(Tab_SuiviOF[[#This Row],[DATEFINREVISEE]],21) -> 17 | S789: 648 | T789: 648 | U789: 644 | V789: =Tab_SuiviOF[[#This Row],[QTEBL]]*Tab_SuiviOF[[#This Row],[POIDS NET]] -> 644 | W789: =IFERROR(INDEX(Bd_MÉLANGES!$I:$I,MATCH('Bd_FABRICATIONS PF'!$G:$G,Bd_MÉLANGES!$J:$J,0)),0) -> 647.9 | X789: =IFERROR(INDEX(Bd_MÉLANGES!$K:$K,MATCH(Tab_SuiviOF[[#This Row],[LOT A PRENDRE EN COMPTE]],Bd_MÉLANGES!$J:$J,0)),0) -> 647.99
A790: 102 | B790: 5 | C790: 42402 | D790: 699111 | E790: 47156 | F790: {=INDEX(Bd_VENTILATIONS!$G:$G,MATCH(Tab_SuiviOF[[#This Row],[REFERENCE]]&Tab_SuiviOF[[#This Row],[BLNO]],Bd_VENTILATIONS!$F:$F&Bd_VENTILATIONS!$D:$D,0))} -> A114M02-6 | G790: =IFERROR(MID(Tab_SuiviOF[[#This Row],[LOT]],1,SEARCH("-",Tab_SuiviOF[[#This Row],[LOT]])-1),Tab_SuiviOF[[#This Row],[LOT]]) -> A114M02 | H790: BRAKE029 | I790: =INDEX(Bd_PF!$E:$E,MATCH(Tab_SuiviOF[[#This Row],[REFERENCE]],Bd_PF!$C:$C,0)) -> Fonds brun lié SANS GLUTAMATE 600G "BRAKE" | J790: =INDEX(Bd_PF!$D:$D,MATCH(Tab_SuiviOF[[#This Row],[REFERENCE]],Bd_PF!$C:$C,0)) -> SF01385 | K790: =INDEX(Bd_PF!$I:$I,MATCH(Tab_SuiviOF[[#This Row],[REFERENCE]],Bd_PF!$C:$C,0)) -> 0.6 | L790: =INDEX(Bd_PF!$J:$J,MATCH(Tab_SuiviOF[[#This Row],[REFERENCE]],Bd_PF!$C:$C,0)) -> Boite plastique | M790: =INDEX(Bd_PF!$K:$K,MATCH(Tab_SuiviOF[[#This Row],[REFERENCE]],Bd_PF!$C:$C,0)) -> Produit pesé | N790: 43215 | O790: 43215 | P790: =YEAR(Tab_SuiviOF[[#This Row],[DATEFINREVISEE]]) -> 2018 | Q790: =MONTH(Tab_SuiviOF[[#This Row],[DATEFINREVISEE]]) -> 4 | R790: =WEEKNUM(Tab_SuiviOF[[#This Row],[DATEFINREVISEE]],21) -> 17 | S790: 1152 | T790: 1152 | U790: 1148 | V790: =Tab_SuiviOF[[#This Row],[QTEBL]]*Tab_SuiviOF[[#This Row],[POIDS NET]] -> 688.8 | W790: =IFERROR(INDEX(Bd_MÉLANGES!$I:$I,MATCH('Bd_FABRICATIONS PF'!$G:$G,Bd_MÉLANGES!$J:$J,0)),0) -> 692.8 | X790: =IFERROR(INDEX(Bd_MÉLANGES!$K:$K,MATCH(Tab_SuiviOF[[#This Row],[LOT A PRENDRE EN COMPTE]],Bd_MÉLANGES!$J:$J,0)),0) -> 691.19
A791: 102 | B791: 5 | C791: 42434 | D791: 699695 | E791: 47147 | F791: {=INDEX(Bd_VENTILATIONS!$G:$G,MATCH(Tab_SuiviOF[[#This Row],[REFERENCE]]&Tab_SuiviOF[[#This Row],[BLNO]],Bd_VENTILATIONS!$F:$F&Bd_VENTILATIONS!$D:$D,0))} -> A114M04-1 | G791: =IFERROR(MID(Tab_SuiviOF[[#This Row],[LOT]],1,SEARCH("-",Tab_SuiviOF[[#This Row],[LOT]])-1),Tab_SuiviOF[[#This Row],[LOT]]) -> A114M04 | H791: TOL564 | I791: =INDEX(Bd_PF!$E:$E,MATCH(Tab_SuiviOF[[#This Row],[REFERENCE]],Bd_PF!$C:$C,0)) -> Mixé jambon 2 purées bte 350 g "TOL" | J791: =INDEX(Bd_PF!$D:$D,MATCH(Tab_SuiviOF[[#This Row],[REFERENCE]],Bd_PF!$C:$C,0)) -> SF01153 | K791: =INDEX(Bd_PF!$I:$I,MATCH(Tab_SuiviOF[[#This Row],[REFERENCE]],Bd_PF!$C:$C,0)) -> 0.35 | L791: =INDEX(Bd_PF!$J:$J,MATCH(Tab_SuiviOF[[#This Row],[REFERENCE]],Bd_PF!$C:$C,0)) -> OTS | M791: =INDEX(Bd_PF!$K:$K,MATCH(Tab_SuiviOF[[#This Row],[REFERENCE]],Bd_PF!$C:$C,0)) -> Produit pesé | N791: 43215 | O791: 43215 | P791: =YEAR(Tab_SuiviOF[[#This Row],[DATEFINREVISEE]]) -> 2018 | Q791: =MONTH(Tab_SuiviOF[[#This Row],[DATEFINREVISEE]]) -> 4 | R791: =WEEKNUM(Tab_SuiviOF[[#This Row],[DATEFINREVISEE]],21) -> 17 | S791: 216 | T791: 216 | U791: 215 | V791: =Tab_SuiviOF[[#This Row],[QTEBL]]*Tab_SuiviOF[[#This Row],[POIDS NET]] -> 75.25 | W791: =IFERROR(INDEX(Bd_MÉLANGES!$I:$I,MATCH('Bd_FABRICATIONS PF'!$G:$G,Bd_MÉLANGES!$J:$J,0)),0) -> 75.9 | X791: =IFERROR(INDEX(Bd_MÉLANGES!$K:$K,MATCH(Tab_SuiviOF[[#This Row],[LOT A PRENDRE EN COMPTE]],Bd_MÉLANGES!$J:$J,0)),0) -> 71.44
A792: 102 | B792: 5 | C792: 42495 | D792: 700388 | E792: 47154 | F792: {=INDEX(Bd_VENTILATIONS!$G:$G,MATCH(Tab_SuiviOF[[#This Row],[REFERENCE]]&Tab_SuiviOF[[#This Row],[BLNO]],Bd_VENTILATIONS!$F:$F&Bd_VENTILATIONS!$D:$D,0))} -> A082MR02-2 | G792: =IFERROR(MID(Tab_SuiviOF[[#This Row],[LOT]],1,SEARCH("-",Tab_SuiviOF[[#This Row],[LOT]])-1),Tab_SuiviOF[[#This Row],[LOT]]) -> A082MR02 | H792: TOL800 | I792: =INDEX(Bd_PF!$E:$E,MATCH(Tab_SuiviOF[[#This Row],[REFERENCE]],Bd_PF!$C:$C,0)) -> Eau gélifiée parfum abricot sucré sachet 80g "Tonus Line" | J792: =INDEX(Bd_PF!$D:$D,MATCH(Tab_SuiviOF[[#This Row],[REFERENCE]],Bd_PF!$C:$C,0)) -> SF00711 | K792: =INDEX(Bd_PF!$I:$I,MATCH(Tab_SuiviOF[[#This Row],[REFERENCE]],Bd_PF!$C:$C,0)) -> 0.08 | L792: =INDEX(Bd_PF!$J:$J,MATCH(Tab_SuiviOF[[#This Row],[REFERENCE]],Bd_PF!$C:$C,0)) -> Tecse | M792: =INDEX(Bd_PF!$K:$K,MATCH(Tab_SuiviOF[[#This Row],[REFERENCE]],Bd_PF!$C:$C,0)) -> Produit pesé | N792: 43215 | O792: 43215 | P792: =YEAR(Tab_SuiviOF[[#This Row],[DATEFINREVISEE]]) -> 2018 | Q792: =MONTH(Tab_SuiviOF[[#This Row],[DATEFINREVISEE]]) -> 4 | R792: =WEEKNUM(Tab_SuiviOF[[#This Row],[DATEFINREVISEE]],21) -> 17 | S792: 5117 | T792: 5117 | U792: 3231 | V792: =Tab_SuiviOF[[#This Row],[QTEBL]]*Tab_SuiviOF[[#This Row],[POIDS NET]] -> 258.48 | W792: 259.4 | X792: 260
A793: 102 | B793: 5 | C793: 42500 | D793: 700477 | E793: 47150 | F793: {=INDEX(Bd_VENTILATIONS!$G:$G,MATCH(Tab_SuiviOF[[#This Row],[REFERENCE]]&Tab_SuiviOF[[#This Row],[BLNO]],Bd_VENTILATIONS!$F:$F&Bd_VENTILATIONS!$D:$D,0))} -> A074MR03-8 | G793: =IFERROR(MID(Tab_SuiviOF[[#This Row],[LOT]],1,SEARCH("-",Tab_SuiviOF[[#This Row],[LOT]])-1),Tab_SuiviOF[[#This Row],[LOT]]) -> A074MR03 | H793: TOL1017 | I793: =INDEX(Bd_PF!$E:$E,MATCH(Tab_SuiviOF[[#This Row],[REFERENCE]],Bd_PF!$C:$C,0)) -> Hydrinstant parf.pomme avec sucre et édulc stick 30g Tonus line | J793: =INDEX(Bd_PF!$D:$D,MATCH(Tab_SuiviOF[[#This Row],[REFERENCE]],Bd_PF!$C:$C,0)) -> SF01299 | K793: =INDEX(Bd_PF!$I:$I,MATCH(Tab_SuiviOF[[#This Row],[REFERENCE]],Bd_PF!$C:$C,0)) -> 0.03 | L793: =INDEX(Bd_PF!$J:$J,MATCH(Tab_SuiviOF[[#This Row],[REFERENCE]],Bd_PF!$C:$C,0)) -> Stick | M793: =INDEX(Bd_PF!$K:$K,MATCH(Tab_SuiviOF[[#This Row],[REFERENCE]],Bd_PF!$C:$C,0)) -> Produit pesé | N793: 43215 | O793: 43215 | P793: =YEAR(Tab_SuiviOF[[#This Row],[DATEFINREVISEE]]) -> 2018 | Q793: =MONTH(Tab_SuiviOF[[#This Row],[DATEFINREVISEE]]) -> 4 | R793: =WEEKNUM(Tab_SuiviOF[[#This Row],[DATEFINREVISEE]],21) -> 17 | S793: 2400 | T793: 2400 | U793: 2430 | V793: =Tab_SuiviOF[[#This Row],[QTEBL]]*Tab_SuiviOF[[#This Row],[POIDS NET]] -> 72.9 | W793: 75 | X793: 75
A794: 102 | B794: 5 | C794: 42502 | D794: 700595 | E794: 47158 | F794: {=INDEX(Bd_VENTILATIONS!$G:$G,MATCH(Tab_SuiviOF[[#This Row],[REFERENCE]]&Tab_SuiviOF[[#This Row],[BLNO]],Bd_VENTILATIONS!$F:$F&Bd_VENTILATIONS!$D:$D,0))} -> AS17PU01-7 | G794: =IFERROR(MID(Tab_SuiviOF[[#This Row],[LOT]],1,SEARCH("-",Tab_SuiviOF[[#This Row],[LOT]])-1),Tab_SuiviOF[[#This Row],[LOT]]) -> AS17PU01 | H794: EDE103 | I794: =INDEX(Bd_PF!$E:$E,MATCH(Tab_SuiviOF[[#This Row],[REFERENCE]],Bd_PF!$C:$C,0)) -> Purée grand-mère salée sac 5 kg | J794: =INDEX(Bd_PF!$D:$D,MATCH(Tab_SuiviOF[[#This Row],[REFERENCE]],Bd_PF!$C:$C,0)) -> SF01288 | K794: =INDEX(Bd_PF!$I:$I,MATCH(Tab_SuiviOF[[#This Row],[REFERENCE]],Bd_PF!$C:$C,0)) -> 5 | L794: =INDEX(Bd_PF!$J:$J,MATCH(Tab_SuiviOF[[#This Row],[REFERENCE]],Bd_PF!$C:$C,0)) -> Purée | M794: =INDEX(Bd_PF!$K:$K,MATCH(Tab_SuiviOF[[#This Row],[REFERENCE]],Bd_PF!$C:$C,0)) -> Purée | N794: 43215 | O794: 43215 | P794: =YEAR(Tab_SuiviOF[[#This Row],[DATEFINREVISEE]]) -> 2018 | Q794: =MONTH(Tab_SuiviOF[[#This Row],[DATEFINREVISEE]]) -> 4 | R794: =WEEKNUM(Tab_SuiviOF[[#This Row],[DATEFINREVISEE]],21) -> 17 | S794: 240 | T794: 240 | U794: 239 | V794: =Tab_SuiviOF[[#This Row],[QTEBL]]*Tab_SuiviOF[[#This Row],[POIDS NET]] -> 1195 | W794: =IFERROR(INDEX(Bd_MÉLANGES!$I:$I,MATCH('Bd_FABRICATIONS PF'!$G:$G,Bd_MÉLANGES!$J:$J,0)),0) -> 0 | X794: =IFERROR(INDEX(Bd_MÉLANGES!$K:$K,MATCH(Tab_SuiviOF[[#This Row],[LOT A PRENDRE EN COMPTE]],Bd_MÉLANGES!$J:$J,0)),0) -> 0
A795: 102 | B795: 5 | C795: 42510 | D795: 700683 | E795: 47159 | F795: {=INDEX(Bd_VENTILATIONS!$G:$G,MATCH(Tab_SuiviOF[[#This Row],[REFERENCE]]&Tab_SuiviOF[[#This Row],[BLNO]],Bd_VENTILATIONS!$F:$F&Bd_VENTILATIONS!$D:$D,0))} -> AS17PU01-7 | G795: =IFERROR(MID(Tab_SuiviOF[[#This Row],[LOT]],1,SEARCH("-",Tab_SuiviOF[[#This Row],[LOT]])-1),Tab_SuiviOF[[#This Row],[LOT]]) -> AS17PU01 | H795: EDE104 | I795: =INDEX(Bd_PF!$E:$E,MATCH(Tab_SuiviOF[[#This Row],[REFERENCE]],Bd_PF!$C:$C,0)) -> Purée grand-mère salée sac 15 kg | J795: =INDEX(Bd_PF!$D:$D,MATCH(Tab_SuiviOF[[#This Row],[REFERENCE]],Bd_PF!$C:$C,0)) -> SF01288 | K795: =INDEX(Bd_PF!$I:$I,MATCH(Tab_SuiviOF[[#This Row],[REFERENCE]],Bd_PF!$C:$C,0)) -> 15 | L795: =INDEX(Bd_PF!$J:$J,MATCH(Tab_SuiviOF[[#This Row],[REFERENCE]],Bd_PF!$C:$C,0)) -> Purée | M795: =INDEX(Bd_PF!$K:$K,MATCH(Tab_SuiviOF[[#This Row],[REFERENCE]],Bd_PF!$C:$C,0)) -> Purée | N795: 43215 | O795: 43215 | P795: =YEAR(Tab_SuiviOF[[#This Row],[DATEFINREVISEE]]) -> 2018 | Q795: =MONTH(Tab_SuiviOF[[#This Row],[DATEFINREVISEE]]) -> 4 | R795: =WEEKNUM(Tab_SuiviOF[[#This Row],[DATEFINREVISEE]],21) -> 17 | S795: 240 | T795: 240 | U795: 239 | V795: =Tab_SuiviOF[[#This Row],[QTEBL]]*Tab_SuiviOF[[#This Row],[POIDS NET]] -> 3585 | W795: =IFERROR(INDEX(Bd_MÉLANGES!$I:$I,MATCH('Bd_FABRICATIONS PF'!$G:$G,Bd_MÉLANGES!$J:$J,0)),0) -> 0 | X795: =IFERROR(INDEX(Bd_MÉLANGES!$K:$K,MATCH(Tab_SuiviOF[[#This Row],[LOT A PRENDRE EN COMPTE]],Bd_MÉLANGES!$J:$J,0)),0) -> 0
A796: 102 | B796: 5 | C796: 42364 | D796: 698624 | E796: 47164 | F796: {=INDEX(Bd_VENTILATIONS!$G:$G,MATCH(Tab_SuiviOF[[#This Row],[REFERENCE]]&Tab_SuiviOF[[#This Row],[BLNO]],Bd_VENTILATIONS!$F:$F&Bd_VENTILATIONS!$D:$D,0))} -> A113M08-2 | G796: =IFERROR(MID(Tab_SuiviOF[[#This Row],[LOT]],1,SEARCH("-",Tab_SuiviOF[[#This Row],[LOT]])-1),Tab_SuiviOF[[#This Row],[LOT]]) -> A113M08 | H796: TOL079 | I796: =INDEX(Bd_PF!$E:$E,MATCH(Tab_SuiviOF[[#This Row],[REFERENCE]],Bd_PF!$C:$C,0)) -> Céréales instant saveur cacao Tonus Line 650 g | J796: =INDEX(Bd_PF!$D:$D,MATCH(Tab_SuiviOF[[#This Row],[REFERENCE]],Bd_PF!$C:$C,0)) -> SF01238 | K796: =INDEX(Bd_PF!$I:$I,MATCH(Tab_SuiviOF[[#This Row],[REFERENCE]],Bd_PF!$C:$C,0)) -> 0.65 | L796: =INDEX(Bd_PF!$J:$J,MATCH(Tab_SuiviOF[[#This Row],[REFERENCE]],Bd_PF!$C:$C,0)) -> Tecse | M796: =INDEX(Bd_PF!$K:$K,MATCH(Tab_SuiviOF[[#This Row],[REFERENCE]],Bd_PF!$C:$C,0)) -> Produit pesé | N796: 43215 | O796: 43216 | P796: =YEAR(Tab_SuiviOF[[#This Row],[DATEFINREVISEE]]) -> 2018 | Q796: =MONTH(Tab_SuiviOF[[#This Row],[DATEFINREVISEE]]) -> 4 | R796: =WEEKNUM(Tab_SuiviOF[[#This Row],[DATEFINREVISEE]],21) -> 17 | S796: 972 | T796: 972 | U796: 956 | V796: =Tab_SuiviOF[[#This Row],[QTEBL]]*Tab_SuiviOF[[#This Row],[POIDS NET]] -> 621.4 | W796: =IFERROR(INDEX(Bd_MÉLANGES!$I:$I,MATCH('Bd_FABRICATIONS PF'!$G:$G,Bd_MÉLANGES!$J:$J,0)),0) -> 632.1 | X796: =IFERROR(INDEX(Bd_MÉLANGES!$K:$K,MATCH(Tab_SuiviOF[[#This Row],[LOT A PRENDRE EN COMPTE]],Bd_MÉLANGES!$J:$J,0)),0) -> 632
A797: 102 | B797: 5 | C797: 42374 | D797: 698708 | E797: 47163 | F797: {=INDEX(Bd_VENTILATIONS!$G:$G,MATCH(Tab_SuiviOF[[#This Row],[REFERENCE]]&Tab_SuiviOF[[#This Row],[BLNO]],Bd_VENTILATIONS!$F:$F&Bd_VENTILATIONS!$D:$D,0))} -> A114M01-5 | G797: =IFERROR(MID(Tab_SuiviOF[[#This Row],[LOT]],1,SEARCH("-",Tab_SuiviOF[[#This Row],[LOT]])-1),Tab_SuiviOF[[#This Row],[LOT]]) -> A114M01 | H797: BOV028 | I797: =INDEX(Bd_PF!$E:$E,MATCH(Tab_SuiviOF[[#This Row],[REFERENCE]],Bd_PF!$C:$C,0)) -> Fonds brun lié - seau 12 kg 500 - "La Bovida" | J797: =INDEX(Bd_PF!$D:$D,MATCH(Tab_SuiviOF[[#This Row],[REFERENCE]],Bd_PF!$C:$C,0)) -> SF00881 | K797: =INDEX(Bd_PF!$I:$I,MATCH(Tab_SuiviOF[[#This Row],[REFERENCE]],Bd_PF!$C:$C,0)) -> 12.5 | L797: =INDEX(Bd_PF!$J:$J,MATCH(Tab_SuiviOF[[#This Row],[REFERENCE]],Bd_PF!$C:$C,0)) -> Seau | M797: =INDEX(Bd_PF!$K:$K,MATCH(Tab_SuiviOF[[#This Row],[REFERENCE]],Bd_PF!$C:$C,0)) -> Produit pesé | N797: 43216 | O797: 43216 | P797: =YEAR(Tab_SuiviOF[[#This Row],[DATEFINREVISEE]]) -> 2018 | Q797: =MONTH(Tab_SuiviOF[[#This Row],[DATEFINREVISEE]]) -> 4 | R797: =WEEKNUM(Tab_SuiviOF[[#This Row],[DATEFINREVISEE]],21) -> 17 | S797: 8 | T797: 7 | U797: 8 | V797: =Tab_SuiviOF[[#This Row],[QTEBL]]*Tab_SuiviOF[[#This Row],[POIDS NET]] -> 100 | W797: =IFERROR(INDEX(Bd_MÉLANGES!$I:$I,MATCH('Bd_FABRICATIONS PF'!$G:$G,Bd_MÉLANGES!$J:$J,0)),0) -> 99.9 | X797: =IFERROR(INDEX(Bd_MÉLANGES!$K:$K,MATCH(Tab_SuiviOF[[#This Row],[LOT A PRENDRE EN COMPTE]],Bd_MÉLANGES!$J:$J,0)),0) -> 100
A798: 102 | B798: 5 | C798: 42400 | D798: 699085 | E798: 47165 | F798: {=INDEX(Bd_VENTILATIONS!$G:$G,MATCH(Tab_SuiviOF[[#This Row],[REFERENCE]]&Tab_SuiviOF[[#This Row],[BLNO]],Bd_VENTILATIONS!$F:$F&Bd_VENTILATIONS!$D:$D,0))} -> A115M01-6 | G798: =IFERROR(MID(Tab_SuiviOF[[#This Row],[LOT]],1,SEARCH("-",Tab_SuiviOF[[#This Row],[LOT]])-1),Tab_SuiviOF[[#This Row],[LOT]]) -> A115M01 | H798: BRAKE031 | I798: =INDEX(Bd_PF!$E:$E,MATCH(Tab_SuiviOF[[#This Row],[REFERENCE]],Bd_PF!$C:$C,0)) -> Fonds blanc de volaille SANS GLUTAMATE 600G "BRAKE" | J798: =INDEX(Bd_PF!$D:$D,MATCH(Tab_SuiviOF[[#This Row],[REFERENCE]],Bd_PF!$C:$C,0)) -> SF01387 | K798: =INDEX(Bd_PF!$I:$I,MATCH(Tab_SuiviOF[[#This Row],[REFERENCE]],Bd_PF!$C:$C,0)) -> 0.6 | L798: =INDEX(Bd_PF!$J:$J,MATCH(Tab_SuiviOF[[#This Row],[REFERENCE]],Bd_PF!$C:$C,0)) -> Boite plastique | M798: =INDEX(Bd_PF!$K:$K,MATCH(Tab_SuiviOF[[#This Row],[REFERENCE]],Bd_PF!$C:$C,0)) -> Produit pesé | N798: 43215 | O798: 43216 | P798: =YEAR(Tab_SuiviOF[[#This Row],[DATEFINREVISEE]]) -> 2018 | Q798: =MONTH(Tab_SuiviOF[[#This Row],[DATEFINREVISEE]]) -> 4 | R798: =WEEKNUM(Tab_SuiviOF[[#This Row],[DATEFINREVISEE]],21) -> 17 | S798: 768 | T798: 762 | U798: 756 | V798: =Tab_SuiviOF[[#This Row],[QTEBL]]*Tab_SuiviOF[[#This Row],[POIDS NET]] -> 453.6 | W798: =IFERROR(INDEX(Bd_MÉLANGES!$I:$I,MATCH('Bd_FABRICATIONS PF'!$G:$G,Bd_MÉLANGES!$J:$J,0)),0) -> 457.7 | X798: =IFERROR(INDEX(Bd_MÉLANGES!$K:$K,MATCH(Tab_SuiviOF[[#This Row],[LOT A PRENDRE EN COMPTE]],Bd_MÉLANGES!$J:$J,0)),0) -> 458.62
A799: 102 | B799: 5 | C799: 42404 | D799: 699141 | E799: 47181 | F799: {=INDEX(Bd_VENTILATIONS!$G:$G,MATCH(Tab_SuiviOF[[#This Row],[REFERENCE]]&Tab_SuiviOF[[#This Row],[BLNO]],Bd_VENTILATIONS!$F:$F&Bd_VENTILATIONS!$D:$D,0))} -> A115M02-6 | G799: =IFERROR(MID(Tab_SuiviOF[[#This Row],[LOT]],1,SEARCH("-",Tab_SuiviOF[[#This Row],[LOT]])-1),Tab_SuiviOF[[#This Row],[LOT]]) -> A115M02 | H799: BRAKE036 | I799: =INDEX(Bd_PF!$E:$E,MATCH(Tab_SuiviOF[[#This Row],[REFERENCE]],Bd_PF!$C:$C,0)) -> Fonds brun lié demi-glace SANS GLUTAMATE 600G "BRAKE" | J799: =INDEX(Bd_PF!$D:$D,MATCH(Tab_SuiviOF[[#This Row],[REFERENCE]],Bd_PF!$C:$C,0)) -> SF01429 | K799: =INDEX(Bd_PF!$I:$I,MATCH(Tab_SuiviOF[[#This Row],[REFERENCE]],Bd_PF!$C:$C,0)) -> 0.6 | L799: =INDEX(Bd_PF!$J:$J,MATCH(Tab_SuiviOF[[#This Row],[REFERENCE]],Bd_PF!$C:$C,0)) -> Boite plastique | M799: =INDEX(Bd_PF!$K:$K,MATCH(Tab_SuiviOF[[#This Row],[REFERENCE]],Bd_PF!$C:$C,0)) -> Produit pesé | N799: 43216 | O799: 43216 | P799: =YEAR(Tab_SuiviOF[[#This Row],[DATEFINREVISEE]]) -> 2018 | Q799: =MONTH(Tab_SuiviOF[[#This Row],[DATEFINREVISEE]]) -> 4 | R799: =WEEKNUM(Tab_SuiviOF[[#This Row],[DATEFINREVISEE]],21) -> 17 | S799: 384 | T799: 383 | U799: 381 | V799: =Tab_SuiviOF[[#This Row],[QTEBL]]*Tab_SuiviOF[[#This Row],[POIDS NET]] -> 228.6 | W799: =IFERROR(INDEX(Bd_MÉLANGES!$I:$I,MATCH('Bd_FABRICATIONS PF'!$G:$G,Bd_MÉLANGES!$J:$J,0)),0) -> 230.3 | X799: =IFERROR(INDEX(Bd_MÉLANGES!$K:$K,MATCH(Tab_SuiviOF[[#This Row],[LOT A PRENDRE EN COMPTE]],Bd_MÉLANGES!$J:$J,0)),0) -> 230.41
...

Sheet Bd_Lignes
B2: FAMILLESTAT_0002 | C2: LIGNES
B3: PRODPUR | C3: Purée
B4: PRODSACH | C4: Rovema
B5: PRODSEAU | C5: Seau
B6: PRODBPLA | C6: Boite plastique
B7: PRODBTE | C7: OTS
B8: PRODPEME | C8: Pesée/mélange
B9: PRODSALU | C9: Tecse
B10: PRODSTIC | C10: Stick

Sheet Bd_PF
A1: DOSSIER | B1: DATEFINVALID | C1: REFERENCE | D1: REFERENCECOMPOSANT | E1: DESIGNATION | F1: NATUREPRODUIT | G1: UNITEREFERENCE | H1: FAMILLESTAT_0002 | I1: POIDSNET | J1: LIGNES | K1: TYPE
A2: 102 | C2: BOISS001 | D2: SF01273 | E2: Boisson cacao 20 g riche en protéines avec sucre et édulcorants | F2: 2AZF | G2: SACH | H2: PRODSACH | I2: 0.02 | J2: =INDEX(Bd_Lignes!$C:$C,MATCH(Tab_PF[[#This Row],[FAMILLESTAT_0002]],Bd_Lignes!$B:$B,0)) -> Rovema | K2: =INDEX(Bd_RECONDITIONNEMENT!$F:$F,MATCH(Bd_PF!$C:$C,Bd_RECONDITIONNEMENT!$B:$B,0)) -> Produit pesé
A3: 102 | C3: BOISS002 | D3: SF01271 | E3: Boisson capuccino 20 g riche en protéines avec sucre et édulcorants | F3: 2AZF | G3: SACH | H3: PRODSACH | I3: 0.02 | J3: =INDEX(Bd_Lignes!$C:$C,MATCH(Tab_PF[[#This Row],[FAMILLESTAT_0002]],Bd_Lignes!$B:$B,0)) -> Rovema | K3: =INDEX(Bd_RECONDITIONNEMENT!$F:$F,MATCH(Bd_PF!$C:$C,Bd_RECONDITIONNEMENT!$B:$B,0)) -> Produit pesé
A4: 102 | C4: BOV024 | D4: SF00859 | E4: Court-bouillon - seau 10 kg - "La Bovida" | F4: 2ASF | G4: SEAU | H4: PRODSEAU | I4: 10 | J4: =INDEX(Bd_Lignes!$C:$C,MATCH(Tab_PF[[#This Row],[FAMILLESTAT_0002]],Bd_Lignes!$B:$B,0)) -> Seau | K4: =INDEX(Bd_RECONDITIONNEMENT!$F:$F,MATCH(Bd_PF!$C:$C,Bd_RECONDITIONNEMENT!$B:$B,0)) -> Produit pesé
A5: 102 | C5: BOV028 | D5: SF00881 | E5: Fonds brun lié - seau 12 kg 500 - "La Bovida" | F5: 2ASF | G5: SEAU | H5: PRODSEAU | I5: 12.5 | J5: =INDEX(Bd_Lignes!$C:$C,MATCH(Tab_PF[[#This Row],[FAMILLESTAT_0002]],Bd_Lignes!$B:$B,0)) -> Seau | K5: =INDEX(Bd_RECONDITIONNEMENT!$F:$F,MATCH(Bd_PF!$C:$C,Bd_RECONDITIONNEMENT!$B:$B,0)) -> Produit pesé
A6: 102 | C6: BRAKE008 | D6: SF00843 | E6: Roux blanc - boite 1,5 kg | F6: 2ASC | G6: BPGF | H6: PRODBPLA | I6: 1.5 | J6: =INDEX(Bd_Lignes!$C:$C,MATCH(Tab_PF[[#This Row],[FAMILLESTAT_0002]],Bd_Lignes!$B:$B,0)) -> Boite plastique | K6: =INDEX(Bd_RECONDITIONNEMENT!$F:$F,MATCH(Bd_PF!$C:$C,Bd_RECONDITIONNEMENT!$B:$B,0)) -> Reconditionnement
A7: 102 | C7: BRAKE008 | D7: XMP207 | E7: Roux blanc - boite 1,5 kg | F7: 2ASC | G7: BPGF | H7: PRODBPLA | I7: 1.5 | J7: =INDEX(Bd_Lignes!$C:$C,MATCH(Tab_PF[[#This Row],[FAMILLESTAT_0002]],Bd_Lignes!$B:$B,0)) -> Boite plastique | K7: =INDEX(Bd_RECONDITIONNEMENT!$F:$F,MATCH(Bd_PF!$C:$C,Bd_RECONDITIONNEMENT!$B:$B,0)) -> Reconditionnement
A8: 102 | C8: BRAKE029 | D8: SF01385 | E8: Fonds brun lié SANS GLUTAMATE 600G "BRAKE" | F8: 2SSF | G8: BPPF | H8: PRODBPLA | I8: 0.6 | J8: =INDEX(Bd_Lignes!$C:$C,MATCH(Tab_PF[[#This Row],[FAMILLESTAT_0002]],Bd_Lignes!$B:$B,0)) -> Boite plastique | K8: =INDEX(Bd_RECONDITIONNEMENT!$F:$F,MATCH(Bd_PF!$C:$C,Bd_RECONDITIONNEMENT!$B:$B,0)) -> Produit pesé
A9: 102 | C9: BRAKE030 | D9: SF01386 | E9: Fumet de poisson SANS GLUTAMATE 600G "BRAKE" | F9: 2ASF | G9: BPPF | H9: PRODBPLA | I9: 0.6 | J9: =INDEX(Bd_Lignes!$C:$C,MATCH(Tab_PF[[#This Row],[FAMILLESTAT_0002]],Bd_Lignes!$B:$B,0)) -> Boite plastique | K9: =INDEX(Bd_RECONDITIONNEMENT!$F:$F,MATCH(Bd_PF!$C:$C,Bd_RECONDITIONNEMENT!$B:$B,0)) -> Produit pesé
A10: 102 | C10: BRAKE031 | D10: SF01387 | E10: Fonds blanc de volaille SANS GLUTAMATE 600G "BRAKE" | F10: 2ASF | G10: BPPF | H10: PRODBPLA | I10: 0.6 | J10: =INDEX(Bd_Lignes!$C:$C,MATCH(Tab_PF[[#This Row],[FAMILLESTAT_0002]],Bd_Lignes!$B:$B,0)) -> Boite plastique | K10: =INDEX(Bd_RECONDITIONNEMENT!$F:$F,MATCH(Bd_PF!$C:$C,Bd_RECONDITIONNEMENT!$B:$B,0)) -> Produit pesé
A11: 102 | C11: BRAKE032 | D11: SF01388 | E11: Fonds de veau SANS GLUTAMATE 600G "BRAKE" | F11: 2ASF | G11: BPPF | H11: PRODBPLA | I11: 0.6 | J11: =INDEX(Bd_Lignes!$C:$C,MATCH(Tab_PF[[#This Row],[FAMILLESTAT_0002]],Bd_Lignes!$B:$B,0)) -> Boite plastique | K11: =INDEX(Bd_RECONDITIONNEMENT!$F:$F,MATCH(Bd_PF!$C:$C,Bd_RECONDITIONNEMENT!$B:$B,0)) -> Produit pesé
A12: 102 | C12: BRAKE033 | D12: SF01389 | E12: Bouillon de boeuf SANS GLUTAMATE 1.5KG "BRAKE" | F12: 2SSF | G12: BPGF | H12: PRODBPLA | I12: 1.5 | J12: =INDEX(Bd_Lignes!$C:$C,MATCH(Tab_PF[[#This Row],[FAMILLESTAT_0002]],Bd_Lignes!$B:$B,0)) -> Boite plastique | K12: =INDEX(Bd_RECONDITIONNEMENT!$F:$F,MATCH(Bd_PF!$C:$C,Bd_RECONDITIONNEMENT!$B:$B,0)) -> Produit pesé
A13: 102 | C13: BRAKE034 | D13: SF01390 | E13: Bouillon de légumes SANS GLUTAMATE "BRAKE" | F13: 2ASF | G13: BPGF | H13: PRODBPLA | I13: 1.5 | J13: =INDEX(Bd_Lignes!$C:$C,MATCH(Tab_PF[[#This Row],[FAMILLESTAT_0002]],Bd_Lignes!$B:$B,0)) -> Boite plastique | K13: =INDEX(Bd_RECONDITIONNEMENT!$F:$F,MATCH(Bd_PF!$C:$C,Bd_RECONDITIONNEMENT!$B:$B,0)) -> Produit pesé
... A559: 102 | C559: TOLPH0995 | D559: SF01221 | E559: Céréal'nut HP+ biscuit édulc pk 6x50g | F559: 2STD | G559: CLUS | H559: PRODSALU | I559: 0.3 | J559: =INDEX(Bd_Lignes!$C:$C,MATCH(Tab_PF[[#This Row],[FAMILLESTAT_0002]],Bd_Lignes!$B:$B,0)) -> Tecse | K559: =INDEX(Bd_RECONDITIONNEMENT!$F:$F,MATCH(Bd_PF!$C:$C,Bd_RECONDITIONNEMENT!$B:$B,0)) -> Produit pesé

Sheet Bd_SF
A1: DOSSIER | B1: REFERENCE | C1: DESIGNATION
A2: 102 | B2: SF-ESSAI INDUST | C2: Essai industriel
A3: 102 | B3: SF-TEST | C3: Eau gélifiée TEST amcasun
A4: 102 | B4: SF00001 | C4: cacao
A5: 102 | B5: SF00002 | C5: Entremets parfum cacao à froid édulcoré
A6: 102 | B6: SF00003 | C6: Entremets parfum café édulcoré à froid
A7: 102 | B7: SF00004 | C7: Entremets parfum caramel édulcoré à froid
A8: 102 | B8: SF00005 | C8: Entremets parfum citron édulcoré à froid
A9: 102 | B9: SF00006 | C9: Entremets parfum framboise édulcoré à froid
A10: 102 | B10: SF00007 | C10: Entremets parfum pistache édulcoré à froid
A11: 102 | B11: SF00008 | C11: Entremets parfum praliné édulcoré à froid
A12: 102 | B12: SF00009 | C12: Entremets parfum vanille édulcoré à froid
A13: 102 | B13: SF00010 | C13: Entremets parfum abricot édulcoré
... A823: 102 | B823: SFHYDRO080 | C823: EG édulcorée ananas GRADE 3 (3.3645 kg pour 300 litres d'EG PAE)

Sheet Bd_MÉLANGES
A1: DOSSIER | B1: STATUS | C1: PIECENO | D1: ENREGNO | E1: BLNO | F1: REFERENCE | G1: DATEDEBUTREVISEE | H1: DATEFINREVISEE | I1: QTEBL | J1: LOT | K1: QTE PESEE
A2: 102 | B2: 5 | C2: 40387 | D2: 674804 | E2: 45427 | F2: SF00633 | G2: 43098 | H2: 43103 | I2: 65.2 | J2: =INDEX(Bd_VENTILATIONS!$G:$G,MATCH(Bd_MÉLANGES!$E:$E,Bd_VENTILATIONS!$D:$D,0)) -> A003M07 | K2: =SUMIF('Bd_CONSO MP'!$F:$F,Tab_Mélanges[[#This Row],[PIECENO]],'Bd_CONSO MP'!$I:$I) -> 65.01
A3: 102 | B3: 5 | C3: 40393 | D3: 674847 | E3: 45422 | F3: SF00718 | G3: 43103 | H3: 43103 | I3: 417.6 | J3: =INDEX(Bd_VENTILATIONS!$G:$G,MATCH(Bd_MÉLANGES!$E:$E,Bd_VENTILATIONS!$D:$D,0)) -> A003M03 | K3: =SUMIF('Bd_CONSO MP'!$F:$F,Tab_Mélanges[[#This Row],[PIECENO]],'Bd_CONSO MP'!$I:$I) -> 415.01
A4: 102 | B4: 5 | C4: 40395 | D4: 674860 | E4: 45423 | F4: SF00718 | G4: 43098 | H4: 43103 | I4: 261.2 | J4: =INDEX(Bd_VENTILATIONS!$G:$G,MATCH(Bd_MÉLANGES!$E:$E,Bd_VENTILATIONS!$D:$D,0)) -> A003M04 | K4: =SUMIF('Bd_CONSO MP'!$F:$F,Tab_Mélanges[[#This Row],[PIECENO]],'Bd_CONSO MP'!$I:$I) -> 260
A5: 102 | B5: 5 | C5: 40399 | D5: 674895 | E5: 45430 | F5: SF01173 | G5: 43103 | H5: 43103 | I5: 588.2 | J5: =INDEX(Bd_VENTILATIONS!$G:$G,MATCH(Bd_MÉLANGES!$E:$E,Bd_VENTILATIONS!$D:$D,0)) -> A003M08 | K5: =SUMIF('Bd_CONSO MP'!$F:$F,Tab_Mélanges[[#This Row],[PIECENO]],'Bd_CONSO MP'!$I:$I) -> 584
A6: 102 | B6: 5 | C6: 40401 | D6: 674912 | E6: 45433 | F6: SF01228 | G6: 43103 | H6: 43103 | I6: 583.8 | J6: =INDEX(Bd_VENTILATIONS!$G:$G,MATCH(Bd_MÉLANGES!$E:$E,Bd_VENTILATIONS!$D:$D,0)) -> A003M11 | K6: =SUMIF('Bd_CONSO MP'!$F:$F,Tab_Mélanges[[#This Row],[PIECENO]],'Bd_CONSO MP'!$I:$I) -> 584
A7: 102 | B7: 5 | C7: 40405 | D7: 674954 | E7: 45432 | F7: SF01220 | G7: 43103 | H7: 43103 | I7: 689.8 | J7: =INDEX(Bd_VENTILATIONS!$G:$G,MATCH(Bd_MÉLANGES!$E:$E,Bd_VENTILATIONS!$D:$D,0)) -> A003M10 | K7: =SUMIF('Bd_CONSO MP'!$F:$F,Tab_Mélanges[[#This Row],[PIECENO]],'Bd_CONSO MP'!$I:$I) -> 681.02
A8: 102 | B8: 5 | C8: 40407 | D8: 674975 | E8: 45431 | F8: SF01220 | G8: 43103 | H8: 43103 | I8: 680.8 | J8: =INDEX(Bd_VENTILATIONS!$G:$G,MATCH(Bd_MÉLANGES!$E:$E,Bd_VENTILATIONS!$D:$D,0)) -> A003M09 | K8: =SUMIF('Bd_CONSO MP'!$F:$F,Tab_Mélanges[[#This Row],[PIECENO]],'Bd_CONSO MP'!$I:$I) -> 681.01
A9: 102 | B9: 5 | C9: 40434 | D9: 675219 | E9: 45420 | F9: SF01197 | G9: 43082 | H9: 43103 | I9: 135.6 | J9: =INDEX(Bd_VENTILATIONS!$G:$G,MATCH(Bd_MÉLANGES!$E:$E,Bd_VENTILATIONS!$D:$D,0)) -> A003M02 | K9: =SUMIF('Bd_CONSO MP'!$F:$F,Tab_Mélanges[[#This Row],[PIECENO]],'Bd_CONSO MP'!$I:$I) -> 0
A10: 102 | B10: 5 | C10: 40490 | D10: 675904 | E10: 45424 | F10: SF00717 | G10: 43103 | H10: 43103 | I10: 517 | J10: =INDEX(Bd_VENTILATIONS!$G:$G,MATCH(Bd_MÉLANGES!$E:$E,Bd_VENTILATIONS!$D:$D,0)) -> A003M05 | K10: =SUMIF('Bd_CONSO MP'!$F:$F,Tab_Mélanges[[#This Row],[PIECENO]],'Bd_CONSO MP'!$I:$I) -> 519
A11: 102 | B11: 5 | C11: 40492 | D11: 675920 | E11: 45426 | F11: SF00717 | G11: 43103 | H11: 43103 | I11: 421.2 | J11: =INDEX(Bd_VENTILATIONS!$G:$G,MATCH(Bd_MÉLANGES!$E:$E,Bd_VENTILATIONS!$D:$D,0)) -> A003M06 | K11: =SUMIF('Bd_CONSO MP'!$F:$F,Tab_Mélanges[[#This Row],[PIECENO]],'Bd_CONSO MP'!$I:$I) -> 415
A12: 102 | B12: 5 | C12: 40409 | D12: 674996 | E12: 45458 | F12: SF00946 | G12: 43104 | H12: 43104 | I12: 324 | J12: =INDEX(Bd_VENTILATIONS!$G:$G,MATCH(Bd_MÉLANGES!$E:$E,Bd_VENTILATIONS!$D:$D,0)) -> A004M07 | K12: =SUMIF('Bd_CONSO MP'!$F:$F,Tab_Mélanges[[#This Row],[PIECENO]],'Bd_CONSO MP'!$I:$I) -> 324
A13: 102 | B13: 5 | C13: 40411 | D13: 675016 | E13: 45440 | F13: SF01436 | G13: 43103 | H13: 43104 | I13: 632.8 | J13: =INDEX(Bd_VENTILATIONS!$G:$G,MATCH(Bd_MÉLANGES!$E:$E,Bd_VENTILATIONS!$D:$D,0)) -> A004M01 | K13: =SUMIF('Bd_CONSO MP'!$F:$F,Tab_Mélanges[[#This Row],[PIECENO]],'Bd_CONSO MP'!$I:$I) -> 625.8
... A612: 102 | B612: 5 | C612: 42575 | D612: 701466 | E612: 47240 | F612: SF01298 | G612: 43223 | H612: 43223 | I612: 197.05 | J612: =INDEX(Bd_VENTILATIONS!$G:$G,MATCH(Bd_MÉLANGES!$E:$E,Bd_VENTILATIONS!$D:$D,0)) -> A123M03 | K612: =SUMIF('Bd_CONSO MP'!$F:$F,Tab_Mélanges[[#This Row],[PIECENO]],'Bd_CONSO MP'!$I:$I) -> 198

Sheet Bd_VENTILATIONS
A1: DOSSIER | B1: CODEOPERATION | C1: ENREGNO | D1: PIECENO | E1: DATEBL | F1: REFERENCE | G1: SERIELOT | H1: DATEPEREMPTION | I1: QTE_VENTILATION
A2: 102 | B2: JF | C2: 674771 | D2: 45438 | E2: 43103 | F2: TOL963 | G2: B362M04-3 | H2: 43827 | I2: 5184
A3: 102 | B3: JF | C3: 674789 | D3: 45419 | E3: 43103 | F3: SF00725 | G3: A003M01 | H3: 43103 | I3: 130.6
A4: 102 | B4: JF | C4: 674804 | D4: 45427 | E4: 43103 | F4: SF00633 | G4: A003M07 | H4: 43833 | I4: 65.2
A5: 102 | B5: JF | C5: 674847 | D5: 45422 | E5: 43103 | F5: SF00718 | G5: A003M03 | H5: 43833 | I5: 417.6
A6: 102 | B6: JF | C6: 674860 | D6: 45423 | E6: 43103 | F6: SF00718 | G6: A003M04 | H6: 43833 | I6: 261.2
A7: 102 | B7: JF | C7: 675219 | D7: 45420 | E7: 43103 | F7: SF01197 | G7: A003M02 | H7: 43833 | I7: 135.6
A8: 102 | B8: JF | C8: 675752 | D8: 45445 | E8: 43103 | F8: TOL358 | G8: B362M01-1 | H8: 43827 | I8: 324
A9: 102 | B9: JF | C9: 675920 | D9: 45426 | E9: 43103 | F9: SF00717 | G9: A003M06 | H9: 43833 | I9: 421.2
A10: 102 | B10: JF | C10: 676933 | D10: 45429 | E10: 43103 | F10: TOL058 | G10: A003R01-1 | H10: 43685 | I10: 720
A11: 102 | B11: JF | C11: 676933 | D11: 45429 | E11: 43103 | F11: TOL058 | G11: A003R01-1 | H11: 43685 | I11: 6
A12: 102 | B12: JF | C12: 677646 | D12: 45425 | E12: 43103 | F12: TOL006 | G12: B362M06-3 | H12: 43827 | I12: 2412
A13: 102 | B13: JF | C13: 677654 | D13: 45428 | E13: 43103 | F13: TOL964 | G13: B362M07-3 | H13: 43827 | I13: 2397
... A123: 102 | B123: JF | C123: 679653 | D123: 45549 | E123: 43110 | F123: BRAKE036 | G123: A009M01-6 | H123: 43839 | I123: 377
A124: 102 | B124: JF | C124: 679656 | D124: 40412 | E124: 43110 | F124: TOL080 | H124: 43834 | I124: 28
A125: 102 | B125: JF | C125: 679657 | D125: 40441 | E125: 43110 | F125: BRAKE031 | H125: 43838 | I125: 8
A126: 102 | B126: JF | C126: 679658 | D126: 45560 | E126: 43111 | F126: TOL232 | G126: A004M03-2 | H126: 43834 | I126: 1564
A127: 102 | B127: JF | C127: 679660 | D127: 45561 | E127: 43111 | F127: BRAKE032 | G127: A009M02-6 | H127: 43839 | I127: 1123
A128: 102 | B128: JF | C128: 679678 | D128: 45564 | E128: 43111 | F128: BRAKE030 | G128: A009M04-6 | H128: 43839 | I128: 377
A129: 102 | B129: JF | C129: 679686 | D129: 45566 | E129: 43111 | F129: TOL097 | G129: A004M04-2 | H129: 43834 | I129: 1565
A130: 102 | B130: JF | C130: 679691 | D130: 45568 | E130: 43111 | F130: BRAKE035 | G130: A010M01-6 | H130: 43840 | I130: 375
A131: 102 | B131: JF | C131: 679752 | D131: 45572 | E131: 43111 | F131: BRAKE008 | G131: A011R01-6 | H131: 43445 | I131: 432
A132: 102 | B132: JF | C132: 679761 | D132: 45573 | E132: 43111 | F132: EDE106 | G132: AS02PU02-7 | H132: 43841 | I132: 774
A133: 102 | B133: JF | C133: 676473 | D133: 45569 | E133: 43112 | F133: SF01362 | G133: A011M13 | H133: 43841 | I133: 243.2
A134: 102 | B134: JF | C134: 678076 | D134: 45586 | E134: 43112 | F134: SF00721 | G134: A012M06 | H134: 43842 | I134: 264
A135: 102 | B135: JF | C135: 678146 | D135: 45583 | E135: 43112 | F135: SF00727 | G135: A012M03 | H135: 43842 | I135: 130
A136: 102 | B136: JF | C136: 678161 | D136: 45584 | E136: 43112 | F136: SF00722 | G136: A012M04 | H136: 43842 | I136: 130.4
A137: 102 | B137: JF | C137: 678177 | D137: 45585 | E137: 43112 | F137: SF00726 | G137: A012M05 | H137: 43842 | I137: 130.4
... A164: 102 | B164: JF | C164: 693325 | D164: 46553 | E164: 43115 | F164: BIOPF001 | G164: A015-ESSAI | H164: 43296 | I164: 51
A165: 102 | B165: JF | C165: 693332 | D165: 41913 | E165: 43115 | F165: BIOPF001 | H165: 43296 | I165: 9
A166: 102 | B166: JF | C166: 678193 | D166: 45601 | E166: 43116 | F166: SF01304 | G166: A015M06 | H166: 43845 | I166: 245.5
A167: 102 | B167: JF | C167: 678230 | D167: 45613 | E167: 43116 | F167: SF01237 | G167: A015M08 | H167: 43845 | I167: 640.8
A168: 102 | B168: JF | C168: 678243 | D168: 45596 | E168: 43116 | F168: SF01165 | G168: A015M05 | H168: 43845 | I168: 324.9
A169: 102 | B169: JF | C169: 678270 | D169: 45595 | E169: 43116 | F169: SF00841 | G169: A015M04 | H169: 43674 | I169: 407.8
A170: 102 | B170: JF | C170: 678429 | D170: 45627 | E170: 43116 | F170: SF01385 | G170: A016M05 | H170: 43846 | I170: 693.4
A171: 102 | B171: JF | C171: 678590 | D171: 45594 | E171: 43116 | F171: PREMIX00004 | G171: A015PX02 | H171: 43174 | I171: 501.2
A172: 102 | B172: JF | C172: 678644 | D172: 45621 | E172: 43116 | F172: SF01389 | G172: A016M04 | H172: 43846 | I172: 324.7
A173: 102 | B173: JF | C173: 679825 | D173: 45632 | E173: 43116 | F173: TOL983 | G173: A011M01-2 | H173: 43841 | I173: 420
A174: 102 | B174: JF | C174: 679831 | D174: 45633 | E174: 43116 | F174: TOL983 | G174: A011M02-2 | H174: 43841 | I174: 425
A175: 102 | B175: JF | C175: 679880 | D175: 45630 | E175: 43116 | F175: TOL191 | G175: A011M05-1 | H175: 43841 | I175: 551
A176: 102 | B176: JF | C176: 679915 | D176: 45606 | E176: 43116 | F176: SF01384 | G176: A015M07 | H176: 43845 | I176: 180
A177: 102 | B177: JF | C177: 679915 | D177: 45606 | E177: 43116 | F177: SF01384 | G177: A015M07 | H177: 43845 | I177: 0.3
... A1773: 102 | B1773: JF | C1773: 701931 | D1773: 47187 | E1773: 43224 | F1773: EDS13 | G1773: A117M05 | H1773: 43224 | I1773: 99.6

Sheet Bd_CONSO MP
A1: DOSSIER | B1: ENREGNO | C1: DATEBL | D1: BLNO | E1: CODEOPERATION | F1: OFNO | G1: REFERENCE | H1: DESIGNATION | I1: QTEBLSIGN
A2: 102 | B2: 674810 | C2: 43103 | D2: 45427 | E2: IF | F2: 40387 | G2: XMP741 | H2: Xanthan Satiaxane CX911 (Europe) | I2: 1.95
A3: 102 | B3: 674811 | C3: 43103 | D3: 45427 | E3: IF | F3: 40387 | G3: XMP110 | H3: Gum de tara | I3: 23.27
A4: 102 | B4: 674813 | C4: 43103 | D4: 45427 | E4: IF | F4: 40387 | G4: XMP206 | H4: Coldswell 3589 A | I4: 8.78
A5: 102 | B5: 674814 | C5: 43103 | D5: 45427 | E5: IF | F5: 40387 | G5: XMP158 | H5: Aspartame poudre E 951 | I5: 0.33
A6: 102 | B6: 674815 | C6: 43103 | D6: 45427 | E6: IF | F6: 40387 | G6: XMP135 | H6: Acésulfame K | I6: 0.2
A7: 102 | B7: 674816 | C7: 43103 | D7: 45427 | E7: IF | F7: 40387 | G7: XMP517 | H7: Riboflavine | I7: 0
A8: 102 | B8: 674817 | C8: 43103 | D8: 45427 | E8: IF | F8: 40387 | G8: XMP525 | H8: Chlorophylline cuivrique poudre Bicolor Green C4 NB5404 | I8: 0.44
A9: 102 | B9: 677652 | C9: 43103 | D9: 45427 | E9: IF | F9: 40387 | G9: XMP185 | H9: Arôme menthe 1219706327 | I9: 1.14
A10: 102 | B10: 677653 | C10: 43103 | D10: 45427 | E10: IF | F10: 40387 | G10: XMP169 | H10: Maldex G181 | I10: 28.9
A11: 102 | B11: 674853 | C11: 43103 | D11: 45422 | E11: IF | F11: 40393 | G11: XMP741 | H11: Xanthan Satiaxane CX911 (Europe) | I11: 3.32
A12: 102 | B12: 674854 | C12: 43103 | D12: 45422 | E12: IF | F12: 40393 | G12: XMP110 | H12: Gum de tara | I12: 27.81
A13: 102 | B13: 674855 | C13: 43103 | D13: 45422 | E13: IF | F13: 40393 | G13: XMP139 | H13: Sucre cristal | I13: 310.57
... A6058: 102 | B6058: 701846 | C6058: 43223 | D6058: 47250 | E6058: IF | F6058: 42614 | G6058: XMP879 | H6058: Poudre de lait 0% | I6058: 273

Sheet Bd_RECONDITIONNEMENT
A1: DOSSIER | B1: REFERENCE | C1: DESIGNATION | D1: NATUREPRODUIT | E1: DATEFINVALID | F1: TYPE
A2: 102 | B2: BIOPF001 | C2: Purée de pomme de terre BIO | D2: 2ASF | F2: Purée
A3: 102 | B3: BOISS001 | C3: Boisson cacao 20 g riche en protéines avec sucre et édulcorants | D3: 2AZF | F3: Produit pesé
A4: 102 | B4: BOISS002 | C4: Boisson capuccino 20 g riche en protéines avec sucre et édulcorants | D4: 2AZF | F4: Produit pesé
A5: 102 | B5: BOV024 | C5: Court-bouillon - seau 10 kg - "La Bovida" | D5: 2ASF | F5: Produit pesé
A6: 102 | B6: BOV028 | C6: Fonds brun lié - seau 12 kg 500 - "La Bovida" | D6: 2ASF | F6: Produit pesé
A7: 102 | B7: BRAKE008 | C7: Roux blanc - boite 1,5 kg | D7: 2ASC | F7: Reconditionnement
A8: 102 | B8: BRAKE029 | C8: Fonds brun lié SANS GLUTAMATE 600G "BRAKE" | D8: 2SSF | F8: Produit pesé
A9: 102 | B9: BRAKE030 | C9: Fumet de poisson SANS GLUTAMATE 600G "BRAKE" | D9: 2ASF | F9: Produit pesé
A10: 102 | B10: BRAKE031 | C10: Fonds blanc de volaille SANS GLUTAMATE 600G "BRAKE" | D10: 2ASF | F10: Produit pesé
A11: 102 | B11: BRAKE032 | C11: Fonds de veau SANS GLUTAMATE 600G "BRAKE" | D11: 2ASF | F11: Produit pesé
A12: 102 | B12: BRAKE033 | C12: Bouillon de boeuf SANS GLUTAMATE 1.5KG "BRAKE" | D12: 2SSF | F12: Produit pesé
A13: 102 | B13: BRAKE034 | C13: Bouillon de légumes SANS GLUTAMATE "BRAKE" | D13: 2ASF | F13: Produit pesé
... A448: 102 | B448: TOLPH0995 | C448: Céréal'nut HP+ biscuit édulc pk 6x50g | D448: 2STD | F448: Produit pesé

Sheet INFORMATIONS PARAMETRES
A1: PIECENO | B1: ="= N° OF" -> = N° OF
A3: Mise à jour | B3: ="chronométré à 5 mn" -> chronométré à 5 mn
