Workbook
Name ChronologieNative_DATEFINREVISEE1: #N/A
Name Segment_TYPE: #N/A

Sheet Tableau de bord
B1: P | C1: E | D1: R | E1: T | F1: E
D2: M | E2: A | F2: T | G2: I | H2: E | I2: R | J2: E | K2: S
B14: Date de fabrication | C14: Nombre de fabrications | D14: Pesée | E14: Mélange | F14: Conditionnement | G14: Pesée Vs Mélange (en kg) | H14: % pesée Vs mélange | I14: Mélange Vs Conditionnement (en kg) | J14: % mélange Vs conditionnement | K14: Pesée Vs Conditionnement (en kg) | L14: % pesée Vs conditionnement | M14: Perte moyenne par fabrication (Pesée Vs Conditionnement / nombre de fabrications)
B15: avr | C15: 126 | D15: 44532.12 | E15: 44630.63 | F15: 44007.652 | G15: 98.51 | H15: 0.0022121112 | I15: -622.978 | J15: -0.01395853 | K15: -524.468 | L15: -0.011777297 | M15: =GETPIVOTDATA("Pesée Vs Conditionnement (en kg)",$B$14,"Date de fabrication",4)/GETPIVOTDATA("Nombre de fabrications",$B$14,"Date de fabrication",4) -> -4.1624444
B16: Boite plastique | C16: 13 | D16: 6172.4 | E16: 6186 | F16: 6142.2 | G16: 13.6 | H16: 0.0022033569 | I16: -43.8 | J16: -0.0070805044 | K16: -30.2 | L16: -0.0048927484 | M16: =GETPIVOTDATA("Pesée Vs Conditionnement (en kg)",$B$14,"LIGNE","Boite plastique","Date de fabrication",4)/GETPIVOTDATA("Nombre de fabrications",$B$14,"LIGNE","Boite plastique","Date de fabrication",4) -> -2.3230769
B17: OTS | C17: 61 | D17: 24068.98 | E17: 24144 | F17: 23966.985 | G17: 75.02 | H17: 0.0031168749 | I17: -177.015 | J17: -0.0073316352 | K17: -101.995 | L17: -0.0042376121 | M17: =GETPIVOTDATA("Pesée Vs Conditionnement (en kg)",$B$14,"LIGNE","OTS","Date de fabrication",4)/GETPIVOTDATA("Nombre de fabrications",$B$14,"LIGNE","OTS","Date de fabrication",4) -> -1.6720492
B18: Rovema | C18: 10 | D18: 1336.09 | E18: 1338.6 | F18: 1236.085 | G18: 2.51 | H18: 0.001878616 | I18: -102.515 | J18: -0.076583744 | K18: -100.005 | L18: -0.074849 | M18: =GETPIVOTDATA("Pesée Vs Conditionnement (en kg)",$B$14,"LIGNE","Rovema","Date de fabrication",4)/GETPIVOTDATA("Nombre de fabrications",$B$14,"LIGNE","Rovema","Date de fabrication",4) -> -10.0005
B19: Seau | C19: 2 | D19: 240 | E19: 239.9 | F19: 240 | G19: -0.1 | H19: -0.00041666667 | I19: 0.1 | J19: 0.00041684035 | K19: 0 | L19: 0 | M19: =GETPIVOTDATA("Pesée Vs Conditionnement (en kg)",$B$14,"LIGNE","Seau","Date de fabrication",4)/GETPIVOTDATA("Nombre de fabrications",$B$14,"LIGNE","Seau","Date de fabrication",4) -> 0
B20: Stick | C20: 8 | D20: 540.07 | E20: 541.43 | F20: 511.812 | G20: 1.36 | H20: 0.0025181921 | I20: -29.618 | J20: -0.054703286 | K20: -28.258 | L20: -0.052322847 | M20: =GETPIVOTDATA("Pesée Vs Conditionnement (en kg)",$B$14,"LIGNE","Stick","Date de fabrication",4)/GETPIVOTDATA("Nombre de fabrications",$B$14,"LIGNE","Stick","Date de fabrication",4) -> -3.53225
B21: Tecse | C21: 32 | D21: 12174.58 | E21: 12180.7 | F21: 11910.57 | G21: 6.12 | H21: 0.00050268675 | I21: -270.13 | J21: -0.022176886 | K21: -264.01 | L21: -0.021685348 | M21: =GETPIVOTDATA("Pesée Vs Conditionnement (en kg)",$B$14,"LIGNE","Tecse","Date de fabrication",4)/GETPIVOTDATA("Nombre de fabrications",$B$14,"LIGNE","Tecse","Date de fabrication",4) -> -8.2503125
B22: Total général | C22: 126 | D22: 44532.12 | E22: 44630.63 | F22: 44007.652 | G22: 98.51 | H22: 0.0022121112 | I22: -622.978 | J22: -0.01395853 | K22: -524.468 | L22: -0.011777297 | M22: =GETPIVOTDATA("Pesée Vs Conditionnement (en kg)",$B$14)/GETPIVOTDATA("Nombre de fabrications",$B$14) -> -4.1624444

Sheet Bd_FABRICATIONS PF
A1: DOSSIER | B1: STATUS | C1: PIECENO | D1: ENREGNO | E1: BLNO | F1: LOT | G1: LOT A PRENDRE EN COMPTE | H1: REFERENCE | I1: DESIGNATION | J1: FORMULE | K1: POIDS NET | L1: LIGNE | M1: TYPE | N1: DATEDEBUTREVISEE | O1: DATEFINREVISEE | P1: ANNEE | Q1: MOIS | R1: SEMAINE | S1: QTE_OF_ENTETE | T1: QTECDE | U1: QTEBL | V1: POIDS CONDITIONNÉ | W1: POIDS MÉLANGE | X1: POIDS PESÉE
A2: 102 | B2: 5 | C2: 40370 | D2: 674670 | E2: 45425 | F2: {=INDEX(Bd_VENTILATIONS!$G:$G,MATCH(Tab_SuiviOF[[#This Row],[REFERENCE]]&Tab_SuiviOF[[#This Row],[BLNO]],Bd_VENTILATIONS!$F:$F&Bd_VENTILATIONS!$D:$D,0))} -> B362M06-3 | G2: =IFERROR(MID(Tab_SuiviOF[[#This Row],[LOT]],1,SEARCH("-",Tab_SuiviOF[[#This Row],[LOT]])-1),Tab_SuiviOF[[#This Row],[LOT]]) -> B362M06 | H2: TOL006 | I2: =INDEX(Bd_PF!$E:$E,MATCH(Tab_SuiviOF[[#This Row],[REFERENCE]],Bd_PF!$C:$C,0)) -> Eau gélifiée parfum poire édulcoré sachet 25 g "Tonus Line" | J2: =INDEX(Bd_PF!$D:$D,MATCH(Tab_SuiviOF[[#This Row],[REFERENCE]],Bd_PF!$C:$C,0)) -> SF00634 | K2: =INDEX(Bd_PF!$I:$I,MATCH(Tab_SuiviOF[[#This Row],[REFERENCE]],Bd_PF!$C:$C,0)) -> 0.025 | L2: =INDEX(Bd_PF!$J:$J,MATCH(Tab_SuiviOF[[#This Row],[REFERENCE]],Bd_PF!$C:$C,0)) -> Rovema | M2: =INDEX(Bd_PF!$K:$K,MATCH(Tab_SuiviOF[[#This Row],[REFERENCE]],Bd_PF!$C:$C,0)) -> Produit pesé | N2: 43103 | O2: 43103 | P2: =YEAR(Tab_SuiviOF[[#This Row],[DATEFINREVISEE]]) -> 2018 | Q2: =MONTH(Tab_SuiviOF[[#This Row],[DATEFINREVISEE]]) -> 1 | R2: =WEEKNUM(Tab_SuiviOF[[#This Row],[DATEFINREVISEE]],21) -> 1 | S2: 2592 | T2: 2592 | U2: 2412 | V2: =Tab_SuiviOF[[#This Row],[QTEBL]]*Tab_SuiviOF[[#This Row],[POIDS NET]] -> 60.3 | W2: =IFERROR(INDEX(Bd_MÉLANGES!$I:$I,MATCH('Bd_FABRICATIONS PF'!$G:$G,Bd_MÉLANGES!$J:$J,0)),0) -> 0 | X2: =IFERROR(INDEX(Bd_MÉLANGES!$K:$K,MATCH(Tab_SuiviOF[[#This Row],[LOT A PRENDRE EN COMPTE]],Bd_MÉLANGES!$J:$J,0)),0) -> 0
A3: 102 | B3: 5 | C3: 40380 | D3: 674755 | E3: 45428 | F3: {=INDEX(Bd_VENTILATIONS!$G:$G,MATCH(Tab_SuiviOF[[#This Row],[REFERENCE]]&Tab_SuiviOF[[#This Row],[BLNO]],Bd_VENTILATIONS!$F:$F&Bd_VENTILATIONS!$D:$D,0))} -> B362M07-3 | G3: =IFERROR(MID(Tab_SuiviOF[[#This Row],[LOT]],1,SEARCH("-",Tab_SuiviOF[[#This Row],[LOT]])-1),Tab_SuiviOF[[#This Row],[LOT]]) -> B362M07 | H3: TOL964 | I3: =INDEX(Bd_PF!$E:$E,MATCH(Tab_SuiviOF[[#This Row],[REFERENCE]],Bd_PF!$C:$C,0)) -> Eau gélifiée parfum orange édulcoré sachet 25 g "Tonus Line" | J3: =INDEX(Bd_PF!$D:$D,MATCH(Tab_SuiviOF[[#This Row],[REFERENCE]],Bd_PF!$C:$C,0)) -> SF00726 | K3: =INDEX(Bd_PF!$I:$I,MATCH(Tab_SuiviOF[[#This Row],[REFERENCE]],Bd_PF!$C:$C,0)) -> 0.025 | L3: =INDEX(Bd_PF!$J:$J,MATCH(Tab_SuiviOF[[#This Row],[REFERENCE]],Bd_PF!$C:$C,0)) -> Rovema | M3: =INDEX(Bd_PF!$K:$K,MATCH(Tab_SuiviOF[[#This Row],[REFERENCE]],Bd_PF!$C:$C,0)) -> Produit pesé | N3: 43103 | O3: 43103 | P3: =YEAR(Tab_SuiviOF[[#This Row],[DATEFINREVISEE]]) -> 2018 | Q3: =MONTH(Tab_SuiviOF[[#This Row],[DATEFINREVISEE]]) -> 1 | R3: =WEEKNUM(Tab_SuiviOF[[#This Row],[DATEFINREVISEE]],21) -> 1 | S3: 2592 | T3: 2592 | U3: 2397 | V3: =Tab_SuiviOF[[#This Row],[QTEBL]]*Tab_SuiviOF[[#This Row],[POIDS NET]] -> 59.925 | W3: =IFERROR(INDEX(Bd_MÉLANGES!$I:$I,MATCH('Bd_FABRICATIONS PF'!$G:$G,Bd_MÉLANGES!$J:$J,0)),0) -> 0 | X3: =IFERROR(INDEX(Bd_MÉLANGES!$K:$K,MATCH(Tab_SuiviOF[[#This Row],[LOT A PRENDRE EN COMPTE]],Bd_MÉLANGES!$J:$J,0)),0) -> 0
A4: 102 | B4: 5 | C4: 40382 | D4: 674771 | E4: 45438 | F4: {=INDEX(Bd_VENTILATIONS!$G:$G,MATCH(Tab_SuiviOF[[#This Row],[REFERENCE]]&Tab_SuiviOF[[#This Row],[BLNO]],Bd_VENTILATIONS!$F:$F&Bd_VENTILATIONS!$D:$D,0))} -> B362M04-3 | G4: =IFERROR(MID(Tab_SuiviOF[[#This Row],[LOT]],1,SEARCH("-",Tab_SuiviOF[[#This Row],[LOT]])-1),Tab_SuiviOF[[#This Row],[LOT]]) -> B362M04 | H4: TOL963 | I4: =INDEX(Bd_PF!$E:$E,MATCH(Tab_SuiviOF[[#This Row],[REFERENCE]],Bd_PF!$C:$C,0)) -> Eau gélifiée parfum fruits rouges édulcoré sachet 25 g "Tonus Line" | J4: =INDEX(Bd_PF!$D:$D,MATCH(Tab_SuiviOF[[#This Row],[REFERENCE]],Bd_PF!$C:$C,0)) -> SF00724 | K4: =INDEX(Bd_PF!$I:$I,MATCH(Tab_SuiviOF[[#This Row],[REFERENCE]],Bd_PF!$C:$C,0)) -> 0.025 | L4: =INDEX(Bd_PF!$J:$J,MATCH(Tab_SuiviOF[[#This Row],[REFERENCE]],Bd_PF!$C:$C,0)) -> Rovema | M4: =INDEX(Bd_PF!$K:$K,MATCH(Tab_SuiviOF[[#This Row],[REFERENCE]],Bd_PF!$C:$C,0)) -> Produit pesé | N4: 43103 | O4: 43103 | P4: =YEAR(Tab_SuiviOF[[#This Row],[DATEFINREVISEE]]) -> 2018 | Q4: =MONTH(Tab_SuiviOF[[#This Row],[DATEFINREVISEE]]) -> 1 | R4: =WEEKNUM(Tab_SuiviOF[[#This Row],[DATEFINREVISEE]],21) -> 1 | S4: 5184 | T4: 5184 | U4: 5184 | V4: =Tab_SuiviOF[[#This Row],[QTEBL]]*Tab_SuiviOF[[#This Row],[POIDS NET]] -> 129.6 | W4: =IFERROR(INDEX(Bd_MÉLANGES!$I:$I,MATCH('Bd_FABRICATIONS PF'!$G:$G,Bd_MÉLANGES!$J:$J,0)),0) -> 0 | X4: =IFERROR(INDEX(Bd_MÉLANGES!$K:$K,MATCH(Tab_SuiviOF[[#This Row],[LOT A PRENDRE EN COMPTE]],Bd_MÉLANGES!$J:$J,0)),0) -> 0
A5: 102 | B5: 5 | C5: 40384 | D5: 674788 | E5: 45443 | F5: {=INDEX(Bd_VENTILATIONS!$G:$G,MATCH(Tab_SuiviOF[[#This Row],[REFERENCE]]&Tab_SuiviOF[[#This Row],[BLNO]],Bd_VENTILATIONS!$F:$F&Bd_VENTILATIONS!$D:$D,0))} -> A003M01-3 | G5: =IFERROR(MID(Tab_SuiviOF[[#This Row],[LOT]],1,SEARCH("-",Tab_SuiviOF[[#This Row],[LOT]])-1),Tab_SuiviOF[[#This Row],[LOT]]) -> A003M01 | H5: TOL965 | I5: =INDEX(Bd_PF!$E:$E,MATCH(Tab_SuiviOF[[#This Row],[REFERENCE]],Bd_PF!$C:$C,0)) -> Eau gélifiée parfum grenadine édulcoré sachet 25 g "Tonus Line" | J5: =INDEX(Bd_PF!$D:$D,MATCH(Tab_SuiviOF[[#This Row],[REFERENCE]],Bd_PF!$C:$C,0)) -> SF00725 | K5: =INDEX(Bd_PF!$I:$I,MATCH(Tab_SuiviOF[[#This Row],[REFERENCE]],Bd_PF!$C:$C,0)) -> 0.025 | L5: =INDEX(Bd_PF!$J:$J,MATCH(Tab_SuiviOF[[#This Row],[REFERENCE]],Bd_PF!$C:$C,0)) -> Rovema | M5: =INDEX(Bd_PF!$K:$K,MATCH(Tab_SuiviOF[[#This Row],[REFERENCE]],Bd_PF!$C:$C,0)) -> Produit pesé | N5: 43103 | O5: 43103 | P5: =YEAR(Tab_SuiviOF[[#This Row],[DATEFINREVISEE]]) -> 2018 | Q5: =MONTH(Tab_SuiviOF[[#This Row],[DATEFINREVISEE]]) -> 1 | R5: =WEEKNUM(Tab_SuiviOF[[#This Row],[DATEFINREVISEE]],21) -> 1 | S5: 5184 | T5: 5184 | U5: 4812 | V5: =Tab_SuiviOF[[#This Row],[QTEBL]]*Tab_SuiviOF[[#This Row],[POIDS NET]] -> 120.3 | W5: =IFERROR(INDEX(Bd_MÉLANGES!$I:$I,MATCH('Bd_FABRICATIONS PF'!$G:$G,Bd_MÉLANGES!$J:$J,0)),0) -> 0 | X5: =IFERROR(INDEX(Bd_MÉLANGES!$K:$K,MATCH(Tab_SuiviOF[[#This Row],[LOT A PRENDRE EN COMPTE]],Bd_MÉLANGES!$J:$J,0)),0) -> 0
A6: 102 | B6: 5 | C6: 40386 | D6: 674803 | E6: 45446 | F6: {=INDEX(Bd_VENTILATIONS!$G:$G,MATCH(Tab_SuiviOF[[#This Row],[REFERENCE]]&Tab_SuiviOF[[#This Row],[BLNO]],Bd_VENTILATIONS!$F:$F&Bd_VENTILATIONS!$D:$D,0))} -> A003M07-3 | G6: =IFERROR(MID(Tab_SuiviOF[[#This Row],[LOT]],1,SEARCH("-",Tab_SuiviOF[[#This Row],[LOT]])-1),Tab_SuiviOF[[#This Row],[LOT]]) -> A003M07 | H6: TOL082 | I6: =INDEX(Bd_PF!$E:$E,MATCH(Tab_SuiviOF[[#This Row],[REFERENCE]],Bd_PF!$C:$C,0)) -> Eau gélifiée parfum menthe édulcoré sachet 25 g "Tonus Line" | J6: =INDEX(Bd_PF!$D:$D,MATCH(Tab_SuiviOF[[#This Row],[REFERENCE]],Bd_PF!$C:$C,0)) -> SF00633 | K6: =INDEX(Bd_PF!$I:$I,MATCH(Tab_SuiviOF[[#This Row],[REFERENCE]],Bd_PF!$C:$C,0)) -> 0.025 | L6: =INDEX(Bd_PF!$J:$J,MATCH(Tab_SuiviOF[[#This Row],[REFERENCE]],Bd_PF!$C:$C,0)) -> Rovema | M6: =INDEX(Bd_PF!$K:$K,MATCH(Tab_SuiviOF[[#This Row],[REFERENCE]],Bd_PF!$C:$C,0)) -> Produit pesé | N6: 43103 | O6: 43103 | P6: =YEAR(Tab_SuiviOF[[#This Row],[DATEFINREVISEE]]) -> 2018 | Q6: =MONTH(Tab_SuiviOF[[#This Row],[DATEFINREVISEE]]) -> 1 | R6: =WEEKNUM(Tab_SuiviOF[[#This Row],[DATEFINREVISEE]],21) -> 1 | S6: 2592 | T6: 2592 | U6: 2400 | V6: =Tab_SuiviOF[[#This Row],[QTEBL]]*Tab_SuiviOF[[#This Row],[POIDS NET]] -> 60 | W6: =IFERROR(INDEX(Bd_MÉLANGES!$I:$I,MATCH('Bd_FABRICATIONS PF'!$G:$G,Bd_MÉLANGES!$J:$J,0)),0) -> 65.2 | X6: =IFERROR(INDEX(Bd_MÉLANGES!$K:$K,MATCH(Tab_SuiviOF[[#This Row],[LOT A PRENDRE EN COMPTE]],Bd_MÉLANGES!$J:$J,0)),0) -> 65.01
A7: 102 | B7: 5 | C7: 40484 | D7: 675752 | E7: 45445 | F7: {=INDEX(Bd_VENTILATIONS!$G:$G,MATCH(Tab_SuiviOF[[#This Row],[REFERENCE]]&Tab_SuiviOF[[#This Row],[BLNO]],Bd_VENTILATIONS!$F:$F&Bd_VENTILATIONS!$D:$D,0))} -> B362M01-1 | G7: =IFERROR(MID(Tab_SuiviOF[[#This Row],[LOT]],1,SEARCH("-",Tab_SuiviOF[[#This Row],[LOT]])-1),Tab_SuiviOF[[#This Row],[LOT]]) -> B362M01 | H7: TOL358 | I7: =INDEX(Bd_PF!$E:$E,MATCH(Tab_SuiviOF[[#This Row],[REFERENCE]],Bd_PF!$C:$C,0)) -> Eau gélifiée parfum nature sucré boite 800 g "Tonus Line" | J7: =INDEX(Bd_PF!$D:$D,MATCH(Tab_SuiviOF[[#This Row],[REFERENCE]],Bd_PF!$C:$C,0)) -> SF01118 | K7: =INDEX(Bd_PF!$I:$I,MATCH(Tab_SuiviOF[[#This Row],[REFERENCE]],Bd_PF!$C:$C,0)) -> 0.8 | L7: =INDEX(Bd_PF!$J:$J,MATCH(Tab_SuiviOF[[#This Row],[REFERENCE]],Bd_PF!$C:$C,0)) -> OTS | M7: =INDEX(Bd_PF!$K:$K,MATCH(Tab_SuiviOF[[#This Row],[REFERENCE]],Bd_PF!$C:$C,0)) -> Produit pesé | N7: 43103 | O7: 43103 | P7: =YEAR(Tab_SuiviOF[[#This Row],[DATEFINREVISEE]]) -> 2018 | Q7: =MONTH(Tab_SuiviOF[[#This Row],[DATEFINREVISEE]]) -> 1 | R7: =WEEKNUM(Tab_SuiviOF[[#This Row],[DATEFINREVISEE]],21) -> 1 | S7: 324 | T7: 324 | U7: 324 | V7: =Tab_SuiviOF[[#This Row],[QTEBL]]*Tab_SuiviOF[[#This Row],[POIDS NET]] -> 259.2 | W7: =IFERROR(INDEX(Bd_MÉLANGES!$I:$I,MATCH('Bd_FABRICATIONS PF'!$G:$G,Bd_MÉLANGES!$J:$J,0)),0) -> 0 | X7: =IFERROR(INDEX(Bd_MÉLANGES!$K:$K,MATCH(Tab_SuiviOF[[#This Row],[LOT A PRENDRE EN COMPTE]],Bd_MÉLANGES!$J:$J,0)),0) -> 0
A8: 102 | B8: 5 | C8: 40538 | D8: 676933 | E8: 45429 | F8: {=INDEX(Bd_VENTILATIONS!$G:$G,MATCH(Tab_SuiviOF[[#This Row],[REFERENCE]]&Tab_SuiviOF[[#This Row],[BLNO]],Bd_VENTILATIONS!$F:$F&Bd_VENTILATIONS!$D:$D,0))} -> A003R01-1 | G8: =IFERROR(MID(Tab_SuiviOF[[#This Row],[LOT]],1,SEARCH("-",Tab_SuiviOF[[#This Row],[LOT]])-1),Tab_SuiviOF[[#This Row],[LOT]]) -> A003R01 | H8: TOL058 | I8: =INDEX(Bd_PF!$E:$E,MATCH(Tab_SuiviOF[[#This Row],[REFERENCE]],Bd_PF!$C:$C,0)) -> Gel'mix+ bte 500g "TOL" | J8: =INDEX(Bd_PF!$D:$D,MATCH(Tab_SuiviOF[[#This Row],[REFERENCE]],Bd_PF!$C:$C,0)) -> SF01249 | K8: =INDEX(Bd_PF!$I:$I,MATCH(Tab_SuiviOF[[#This Row],[REFERENCE]],Bd_PF!$C:$C,0)) -> 0.5 | L8: =INDEX(Bd_PF!$J:$J,MATCH(Tab_SuiviOF[[#This Row],[REFERENCE]],Bd_PF!$C:$C,0)) -> OTS | M8: =INDEX(Bd_PF!$K:$K,MATCH(Tab_SuiviOF[[#This Row],[REFERENCE]],Bd_PF!$C:$C,0)) -> Reconditionnement | N8: 43103 | O8: 43103 | P8: =YEAR(Tab_SuiviOF[[#This Row],[DATEFINREVISEE]]) -> 2018 | Q8: =MONTH(Tab_SuiviOF[[#This Row],[DATEFINREVISEE]]) -> 1 | R8: =WEEKNUM(Tab_SuiviOF[[#This Row],[DATEFINREVISEE]],21) -> 1 | S8: 720 | T8: 720 | U8: 726 | V8: =Tab_SuiviOF[[#This Row],[QTEBL]]*Tab_SuiviOF[[#This Row],[POIDS NET]] -> 363 | W8: =IFERROR(INDEX(Bd_MÉLANGES!$I:$I,MATCH('Bd_FABRICATIONS PF'!$G:$G,Bd_MÉLANGES!$J:$J,0)),0) -> 0 | X8: =IFERROR(INDEX(Bd_MÉLANGES!$K:$K,MATCH(Tab_SuiviOF[[#This Row],[LOT A PRENDRE EN COMPTE]],Bd_MÉLANGES!$J:$J,0)),0) -> 0
A9: 102 | B9: 5 | C9: 40539 | D9: 676940 | E9: 45439 | F9: {=INDEX(Bd_VENTILATIONS!$G:$G,MATCH(Tab_SuiviOF[[#This Row],[REFERENCE]]&Tab_SuiviOF[[#This Row],[BLNO]],Bd_VENTILATIONS!$F:$F&Bd_VENTILATIONS!$D:$D,0))} -> A003R02-1 | G9: =IFERROR(MID(Tab_SuiviOF[[#This Row],[LOT]],1,SEARCH("-",Tab_SuiviOF[[#This Row],[LOT]])-1),Tab_SuiviOF[[#This Row],[LOT]]) -> A003R02 | H9: TOL058 | I9: =INDEX(Bd_PF!$E:$E,MATCH(Tab_SuiviOF[[#This Row],[REFERENCE]],Bd_PF!$C:$C,0)) -> Gel'mix+ bte 500g "TOL" | J9: =INDEX(Bd_PF!$D:$D,MATCH(Tab_SuiviOF[[#This Row],[REFERENCE]],Bd_PF!$C:$C,0)) -> SF01249 | K9: =INDEX(Bd_PF!$I:$I,MATCH(Tab_SuiviOF[[#This Row],[REFERENCE]],Bd_PF!$C:$C,0)) -> 0.5 | L9: =INDEX(Bd_PF!$J:$J,MATCH(Tab_SuiviOF[[#This Row],[REFERENCE]],Bd_PF!$C:$C,0)) -> OTS | M9: =INDEX(Bd_PF!$K:$K,MATCH(Tab_SuiviOF[[#This Row],[REFERENCE]],Bd_PF!$C:$C,0)) -> Reconditionnement | N9: 43103 | O9: 43103 | P9: =YEAR(Tab_SuiviOF[[#This Row],[DATEFINREVISEE]]) -> 2018 | Q9: =MONTH(Tab_SuiviOF[[#This Row],[DATEFINREVISEE]]) -> 1 | R9: =WEEKNUM(Tab_SuiviOF[[#This Row],[DATEFINREVISEE]],21) -> 1 | S9: 720 | T9: 720 | U9: 677 | V9: =Tab_SuiviOF[[#This Row],[QTEBL]]*Tab_SuiviOF[[#This Row],[POIDS NET]] -> 338.5 | W9: =IFERROR(INDEX(Bd_MÉLANGES!$I:$I,MATCH('Bd_FABRICATIONS PF'!$G:$G,Bd_MÉLANGES!$J:$J,0)),0) -> 0 | X9: =IFERROR(INDEX(Bd_MÉLANGES!$K:$K,MATCH(Tab_SuiviOF[[#This Row],[LOT A PRENDRE EN COMPTE]],Bd_MÉLANGES!$J:$J,0)),0) -> 0
A10: 102 | B10: 5 | C10: 40540 | D10: 676947 | E10: 45437 | F10: {=INDEX(Bd_VENTILATIONS!$G:$G,MATCH(Tab_SuiviOF[[#This Row],[REFERENCE]]&Tab_SuiviOF[[#This Row],[BLNO]],Bd_VENTILATIONS!$F:$F&Bd_VENTILATIONS!$D:$D,0))} -> B355M01-1 | G10: =IFERROR(MID(Tab_SuiviOF[[#This Row],[LOT]],1,SEARCH("-",Tab_SuiviOF[[#This Row],[LOT]])-1),Tab_SuiviOF[[#This Row],[LOT]]) -> B355M01 | H10: TOL191 | I10: =INDEX(Bd_PF!$E:$E,MATCH(Tab_SuiviOF[[#This Row],[REFERENCE]],Bd_PF!$C:$C,0)) -> Gel Ami bte 0.800 kg "TOL" | J10: =INDEX(Bd_PF!$D:$D,MATCH(Tab_SuiviOF[[#This Row],[REFERENCE]],Bd_PF!$C:$C,0)) -> SF01122 | K10: =INDEX(Bd_PF!$I:$I,MATCH(Tab_SuiviOF[[#This Row],[REFERENCE]],Bd_PF!$C:$C,0)) -> 0.8 | L10: =INDEX(Bd_PF!$J:$J,MATCH(Tab_SuiviOF[[#This Row],[REFERENCE]],Bd_PF!$C:$C,0)) -> OTS | M10: =INDEX(Bd_PF!$K:$K,MATCH(Tab_SuiviOF[[#This Row],[REFERENCE]],Bd_PF!$C:$C,0)) -> Produit pesé | N10: 43103 | O10: 43103 | P10: =YEAR(Tab_SuiviOF[[#This Row],[DATEFINREVISEE]]) -> 2018 | Q10: =MONTH(Tab_SuiviOF[[#This Row],[DATEFINREVISEE]]) -> 1 | R10: =WEEKNUM(Tab_SuiviOF[[#This Row],[DATEFINREVISEE]],21) -> 1 | S10: 529 | T10: 529 | U10: 515 | V10: =Tab_SuiviOF[[#This Row],[QTEBL]]*Tab_SuiviOF[[#This Row],[POIDS NET]] -> 412 | W10: =IFERROR(INDEX(Bd_MÉLANGES!$I:$I,MATCH('Bd_FABRICATIONS PF'!$G:$G,Bd_MÉLANGES!$J:$J,0)),0) -> 0 | X10: =IFERROR(INDEX(Bd_MÉLANGES!$K:$K,MATCH(Tab_SuiviOF[[#This Row],[LOT A PRENDRE EN COMPTE]],Bd_MÉLANGES!$J:$J,0)),0) -> 0
A11: 102 | B11: 5 | C11: 40541 | D11: 676954 | E11: 45436 | F11: {=INDEX(Bd_VENTILATIONS!$G:$G,MATCH(Tab_SuiviOF[[#This Row],[REFERENCE]]&Tab_SuiviOF[[#This Row],[BLNO]],Bd_VENTILATIONS!$F:$F&Bd_VENTILATIONS!$D:$D,0))} -> B355M02-1 | G11: =IFERROR(MID(Tab_SuiviOF[[#This Row],[LOT]],1,SEARCH("-",Tab_SuiviOF[[#This Row],[LOT]])-1),Tab_SuiviOF[[#This Row],[LOT]]) -> B355M02 | H11: TOL191 | I11: =INDEX(Bd_PF!$E:$E,MATCH(Tab_SuiviOF[[#This Row],[REFERENCE]],Bd_PF!$C:$C,0)) -> Gel Ami bte 0.800 kg "TOL" | J11: =INDEX(Bd_PF!$D:$D,MATCH(Tab_SuiviOF[[#This Row],[REFERENCE]],Bd_PF!$C:$C,0)) -> SF01122 | K11: =INDEX(Bd_PF!$I:$I,MATCH(Tab_SuiviOF[[#This Row],[REFERENCE]],Bd_PF!$C:$C,0)) -> 0.8 | L11: =INDEX(Bd_PF!$J:$J,MATCH(Tab_SuiviOF[[#This Row],[REFERENCE]],Bd_PF!$C:$C,0)) -> OTS | M11: =INDEX(Bd_PF!$K:$K,MATCH(Tab_SuiviOF[[#This Row],[REFERENCE]],Bd_PF!$C:$C,0)) -> Produit pesé | N11: 43103 | O11: 43103 | P11: =YEAR(Tab_SuiviOF[[#This Row],[DATEFINREVISEE]]) -> 2018 | Q11: =MONTH(Tab_SuiviOF[[#This Row],[DATEFINREVISEE]]) -> 1 | R11: =WEEKNUM(Tab_SuiviOF[[#This Row],[DATEFINREVISEE]],21) -> 1 | S11: 529 | T11: 529 | U11: 526 | V11: =Tab_SuiviOF[[#This Row],[QTEBL]]*Tab_SuiviOF[[#This Row],[POIDS NET]] -> 420.8 | W11: =IFERROR(INDEX(Bd_MÉLANGES!$I:$I,MATCH('Bd_FABRICATIONS PF'!$G:$G,Bd_MÉLANGES!$J:$J,0)),0) -> 0 | X11: =IFERROR(INDEX(Bd_MÉLANGES!$K:$K,MATCH(Tab_SuiviOF[[#This Row],[LOT A PRENDRE EN COMPTE]],Bd_MÉLANGES!$J:$J,0)),0) -> 0
A12: 102 | B12: 5 | C12: 40542 | D12: 676961 | E12: 45442 | F12: {=INDEX(Bd_VENTILATIONS!$G:$G,MATCH(Tab_SuiviOF[[#This Row],[REFERENCE]]&Tab_SuiviOF[[#This Row],[BLNO]],Bd_VENTILATIONS!$F:$F&Bd_VENTILATIONS!$D:$D,0))} -> B355M03-1 | G12: =IFERROR(MID(Tab_SuiviOF[[#This Row],[LOT]],1,SEARCH("-",Tab_SuiviOF[[#This Row],[LOT]])-1),Tab_SuiviOF[[#This Row],[LOT]]) -> B355M03 | H12: TOL191 | I12: =INDEX(Bd_PF!$E:$E,MATCH(Tab_SuiviOF[[#This Row],[REFERENCE]],Bd_PF!$C:$C,0)) -> Gel Ami bte 0.800 kg "TOL" | J12: =INDEX(Bd_PF!$D:$D,MATCH(Tab_SuiviOF[[#This Row],[REFERENCE]],Bd_PF!$C:$C,0)) -> SF01122 | K12: =INDEX(Bd_PF!$I:$I,MATCH(Tab_SuiviOF[[#This Row],[REFERENCE]],Bd_PF!$C:$C,0)) -> 0.8 | L12: =INDEX(Bd_PF!$J:$J,MATCH(Tab_SuiviOF[[#This Row],[REFERENCE]],Bd_PF!$C:$C,0)) -> OTS | M12: =INDEX(Bd_PF!$K:$K,MATCH(Tab_SuiviOF[[#This Row],[REFERENCE]],Bd_PF!$C:$C,0)) -> Produit pesé | N12: 43103 | O12: 43103 | P12: =YEAR(Tab_SuiviOF[[#This Row],[DATEFINREVISEE]]) -> 2018 | Q12: =MONTH(Tab_SuiviOF[[#This Row],[DATEFINREVISEE]]) -> 1 | R12: =WEEKNUM(Tab_SuiviOF[[#This Row],[DATEFINREVISEE]],21) -> 1 | S12: 529 | T12: 529 | U12: 524 | V12: =Tab_SuiviOF[[#This Row],[QTEBL]]*Tab_SuiviOF[[#This Row],[POIDS NET]] -> 419.2 | W12: =IFERROR(INDEX(Bd_MÉLANGES!$I:$I,MATCH('Bd_FABRICATIONS PF'!$G:$G,Bd_MÉLANGES!$J:$J,0)),0) -> 0 | X12: =IFERROR(INDEX(Bd_MÉLANGES!$K:$K,MATCH(Tab_SuiviOF[[#This Row],[LOT A PRENDRE EN COMPTE]],Bd_MÉLANGES!$J:$J,0)),0) -> 0
A13: 102 | B13: 5 | C13: 40543 | D13: 677593 | E13: 45435 | F13: {=INDEX(Bd_VENTILATIONS!$G:$G,MATCH(Tab_SuiviOF[[#This Row],[REFERENCE]]&Tab_SuiviOF[[#This Row],[BLNO]],Bd_VENTILATIONS!$F:$F&Bd_VENTILATIONS!$D:$D,0))} -> B355M04-2 | G13: =IFERROR(MID(Tab_SuiviOF[[#This Row],[LOT]],1,SEARCH("-",Tab_SuiviOF[[#This Row],[LOT]])-1),Tab_SuiviOF[[#This Row],[LOT]]) -> B355M04 | H13: TOL983 | I13: =INDEX(Bd_PF!$E:$E,MATCH(Tab_SuiviOF[[#This Row],[REFERENCE]],Bd_PF!$C:$C,0)) -> Gel' Ami - sac 1 kg - "Tonus Line" | J13: =INDEX(Bd_PF!$D:$D,MATCH(Tab_SuiviOF[[#This Row],[REFERENCE]],Bd_PF!$C:$C,0)) -> SF01122 | K13: =INDEX(Bd_PF!$I:$I,MATCH(Tab_SuiviOF[[#This Row],[REFERENCE]],Bd_PF!$C:$C,0)) -> 1 | L13: =INDEX(Bd_PF!$J:$J,MATCH(Tab_SuiviOF[[#This Row],[REFERENCE]],Bd_PF!$C:$C,0)) -> Tecse | M13: =INDEX(Bd_PF!$K:$K,MATCH(Tab_SuiviOF[[#This Row],[REFERENCE]],Bd_PF!$C:$C,0)) -> Produit pesé | N13: 43103 | O13: 43103 | P13: =YEAR(Tab_SuiviOF[[#This Row],[DATEFINREVISEE]]) -> 2018 | Q13: =MONTH(Tab_SuiviOF[[#This Row],[DATEFINREVISEE]]) -> 1 | R13: =WEEKNUM(Tab_SuiviOF[[#This Row],[DATEFINREVISEE]],21) -> 1 | S13: 427 | T13: 427 | U13: 420 | V13: =Tab_SuiviOF[[#This Row],[QTEBL]]*Tab_SuiviOF[[#This Row],[POIDS NET]] -> 420 | W13: =IFERROR(INDEX(Bd_MÉLANGES!$I:$I,MATCH('Bd_FABRICATIONS PF'!$G:$G,Bd_MÉLANGES!$J:$J,0)),0) -> 0 | X13: =IFERROR(INDEX(Bd_MÉLANGES!$K:$K,MATCH(Tab_SuiviOF[[#This Row],[LOT A PRENDRE EN COMPTE]],Bd_MÉLANGES!$J:$J,0)),0) -> 0
... A699: 102 | B699: 5 | C699: 42189 | D699: 696596 | E699: 46938 | F699: {=INDEX(Bd_VENTILATIONS!$G:$G,MATCH(Tab_SuiviOF[[#This Row],[REFERENCE]]&Tab_SuiviOF[[#This Row],[BLNO]],Bd_VENTILATIONS!$F:$F&Bd_VENTILATIONS!$D:$D,0))} -> A099M06-2 | G699: =IFERROR(MID(Tab_SuiviOF[[#This Row],[LOT]],1,SEARCH("-",Tab_SuiviOF[[#This Row],[LOT]])-1),Tab_SuiviOF[[#This Row],[LOT]]) -> A099M06 | H699: TOL232 | I699: =INDEX(Bd_PF!$E:$E,MATCH(Tab_SuiviOF[[#This Row],[REFERENCE]],Bd_PF!$C:$C,0)) -> Crème HP saveur fruits des bois sachet 200g "TOL" | J699: =INDEX(Bd_PF!$D:$D,MATCH(Tab_SuiviOF[[#This Row],[REFERENCE]],Bd_PF!$C:$C,0)) -> SF01243 | K699: =INDEX(Bd_PF!$I:$I,MATCH(Tab_SuiviOF[[#This Row],[REFERENCE]],Bd_PF!$C:$C,0)) -> 0.2 | L699: =INDEX(Bd_PF!$J:$J,MATCH(Tab_SuiviOF[[#This Row],[REFERENCE]],Bd_PF!$C:$C,0)) -> Tecse | M699: =INDEX(Bd_PF!$K:$K,MATCH(Tab_SuiviOF[[#This Row],[REFERENCE]],Bd_PF!$C:$C,0)) -> Produit pesé | N699: 43200 | O699: 43200 | P699: =YEAR(Tab_SuiviOF[[#This Row],[DATEFINREVISEE]]) -> 2018 | Q699: =MONTH(Tab_SuiviOF[[#This Row],[DATEFINREVISEE]]) -> 4 | R699: =WEEKNUM(Tab_SuiviOF[[#This Row],[DATEFINREVISEE]],21) -> 15 | S699: 1620 | T699: 1620 | U699: 1602 | V699: =Tab_SuiviOF[[#This Row],[QTEBL]]*Tab_SuiviOF[[#This Row],[POIDS NET]] -> 320.4 | W699: =IFERROR(INDEX(Bd_MÉLANGES!$I:$I,MATCH('Bd_FABRICATIONS PF'!$G:$G,Bd_MÉLANGES!$J:$J,0)),0) -> 324.3 | X699: =IFERROR(INDEX(Bd_MÉLANGES!$K:$K,MATCH(Tab_SuiviOF[[#This Row],[LOT A PRENDRE EN COMPTE]],Bd_MÉLANGES!$J:$J,0)),0) -> 324
A700: 102 | B700: 5 | C700: 42195 | D700: 696642 | E700: 46942 | F700: {=INDEX(Bd_VENTILATIONS!$G:$G,MATCH(Tab_SuiviOF[[#This Row],[REFERENCE]]&Tab_SuiviOF[[#This Row],[BLNO]],Bd_VENTILATIONS!$F:$F&Bd_VENTILATIONS!$D:$D,0))} -> A100M01-2 | G700: =IFERROR(MID(Tab_SuiviOF[[#This Row],[LOT]],1,SEARCH("-",Tab_SuiviOF[[#This Row],[LOT]])-1),Tab_SuiviOF[[#This Row],[LOT]]) -> A100M01 | H700: PF00218 | I700: =INDEX(Bd_PF!$E:$E,MATCH(Tab_SuiviOF[[#This Row],[REFERENCE]],Bd_PF!$C:$C,0)) -> Entremets parfum citron - sac 1 kg - "Cookalim" | J700: =INDEX(Bd_PF!$D:$D,MATCH(Tab_SuiviOF[[#This Row],[REFERENCE]],Bd_PF!$C:$C,0)) -> SF01054 | K700: =INDEX(Bd_PF!$I:$I,MATCH(Tab_SuiviOF[[#This Row],[REFERENCE]],Bd_PF!$C:$C,0)) -> 1 | L700: =INDEX(Bd_PF!$J:$J,MATCH(Tab_SuiviOF[[#This Row],[REFERENCE]],Bd_PF!$C:$C,0)) -> Tecse | M700: =INDEX(Bd_PF!$K:$K,MATCH(Tab_SuiviOF[[#This Row],[REFERENCE]],Bd_PF!$C:$C,0)) -> Produit pesé | N700: 43200 | O700: 43200 | P700: =YEAR(Tab_SuiviOF[[#This Row],[DATEFINREVISEE]]) -> 2018 | Q700: =MONTH(Tab_SuiviOF[[#This Row],[DATEFINREVISEE]]) -> 4 | R700: =WEEKNUM(Tab_SuiviOF[[#This Row],[DATEFINREVISEE]],21) -> 15 | S700: 108 | T700: 108 | U700: 103 | V700: =Tab_SuiviOF[[#This Row],[QTEBL]]*Tab_SuiviOF[[#This Row],[POIDS NET]] -> 103 | W700: 108 | X700: 108
A701: 102 | B701: 5 | C701: 42199 | D701: 696676 | E701: 46944 | F701: {=INDEX(Bd_VENTILATIONS!$G:$G,MATCH(Tab_SuiviOF[[#This Row],[REFERENCE]]&Tab_SuiviOF[[#This Row],[BLNO]],Bd_VENTILATIONS!$F:$F&Bd_VENTILATIONS!$D:$D,0))} -> A100M02-1 | G701: =IFERROR(MID(Tab_SuiviOF[[#This Row],[LOT]],1,SEARCH("-",Tab_SuiviOF[[#This Row],[LOT]])-1),Tab_SuiviOF[[#This Row],[LOT]]) -> A100M02 | H701: PF00220 | I701: =INDEX(Bd_PF!$E:$E,MATCH(Tab_SuiviOF[[#This Row],[REFERENCE]],Bd_PF!$C:$C,0)) -> Entremets parfum praliné - sac 1 kg - "Cookalim" | J701: =INDEX(Bd_PF!$D:$D,MATCH(Tab_SuiviOF[[#This Row],[REFERENCE]],Bd_PF!$C:$C,0)) -> SF01057 | K701: =INDEX(Bd_PF!$I:$I,MATCH(Tab_SuiviOF[[#This Row],[REFERENCE]],Bd_PF!$C:$C,0)) -> 1 | L701: =INDEX(Bd_PF!$J:$J,MATCH(Tab_SuiviOF[[#This Row],[REFERENCE]],Bd_PF!$C:$C,0)) -> Tecse | M701: =INDEX(Bd_PF!$K:$K,MATCH(Tab_SuiviOF[[#This Row],[REFERENCE]],Bd_PF!$C:$C,0)) -> Produit pesé | N701: 43200 | O701: 43200 | P701: =YEAR(Tab_SuiviOF[[#This Row],[DATEFINREVISEE]]) -> 2018 | Q701: =MONTH(Tab_SuiviOF[[#This Row],[DATEFINREVISEE]]) -> 4 | R701: =WEEKNUM(Tab_SuiviOF[[#This Row],[DATEFINREVISEE]],21) -> 15 | S701: 108 | T701: 108 | U701: 103 | V701: =Tab_SuiviOF[[#This Row],[QTEBL]]*Tab_SuiviOF[[#This Row],[POIDS NET]] -> 103 | W701: =IFERROR(INDEX(Bd_MÉLANGES!$I:$I,MATCH('Bd_FABRICATIONS PF'!$G:$G,Bd_MÉLANGES!$J:$J,0)),0) -> 108 | X701: =IFERROR(INDEX(Bd_MÉLANGES!$K:$K,MATCH(Tab_SuiviOF[[#This Row],[LOT A PRENDRE EN COMPTE]],Bd_MÉLANGES!$J:$J,0)),0) -> 107.99
A702: 102 | B702: 5 | C702: 42258 | D702: 697299 | E702: 46928 | F702: {=INDEX(Bd_VENTILATIONS!$G:$G,MATCH(Tab_SuiviOF[[#This Row],[REFERENCE]]&Tab_SuiviOF[[#This Row],[BLNO]],Bd_VENTILATIONS!$F:$F&Bd_VENTILATIONS!$D:$D,0))} -> A099M03-1 | G702: =IFERROR(MID(Tab_SuiviOF[[#This Row],[LOT]],1,SEARCH("-",Tab_SuiviOF[[#This Row],[LOT]])-1),Tab_SuiviOF[[#This Row],[LOT]]) -> A099M03 | H702: TOL992 | I702: =INDEX(Bd_PF!$E:$E,MATCH(Tab_SuiviOF[[#This Row],[REFERENCE]],Bd_PF!$C:$C,0)) -> Céréal'nut HP+ saveur biscuit bte 900 g (ALLERGENES) | J702: =INDEX(Bd_PF!$D:$D,MATCH(Tab_SuiviOF[[#This Row],[REFERENCE]],Bd_PF!$C:$C,0)) -> SF01220 | K702: =INDEX(Bd_PF!$I:$I,MATCH(Tab_SuiviOF[[#This Row],[REFERENCE]],Bd_PF!$C:$C,0)) -> 0.9 | L702: =INDEX(Bd_PF!$J:$J,MATCH(Tab_SuiviOF[[#This Row],[REFERENCE]],Bd_PF!$C:$C,0)) -> OTS | M702: =INDEX(Bd_PF!$K:$K,MATCH(Tab_SuiviOF[[#This Row],[REFERENCE]],Bd_PF!$C:$C,0)) -> Produit pesé | N702: 43200 | O702: 43200 | P702: =YEAR(Tab_SuiviOF[[#This Row],[DATEFINREVISEE]]) -> 2018 | Q702: =MONTH(Tab_SuiviOF[[#This Row],[DATEFINREVISEE]]) -> 4 | R702: =WEEKNUM(Tab_SuiviOF[[#This Row],[DATEFINREVISEE]],21) -> 15 | S702: 756 | T702: 756 | U702: 755 | V702: =Tab_SuiviOF[[#This Row],[QTEBL]]*Tab_SuiviOF[[#This Row],[POIDS NET]] -> 679.5 | W702: =IFERROR(INDEX(Bd_MÉLANGES!$I:$I,MATCH('Bd_FABRICATIONS PF'!$G:$G,Bd_MÉLANGES!$J:$J,0)),0) -> 684.3 | X702: =IFERROR(INDEX(Bd_MÉLANGES!$K:$K,MATCH(Tab_SuiviOF[[#This Row],[LOT A PRENDRE EN COMPTE]],Bd_MÉLANGES!$J:$J,0)),0) -> 681.02
A703: 102 | B703: 5 | C703: 42308 | D703: 698095 | E703: 46943 | F703: {=INDEX(Bd_VENTILATIONS!$G:$G,MATCH(Tab_SuiviOF[[#This Row],[REFERENCE]]&Tab_SuiviOF[[#This Row],[BLNO]],Bd_VENTILATIONS!$F:$F&Bd_VENTILATIONS!$D:$D,0))} -> A099MR04-1 | G703: =IFERROR(MID(Tab_SuiviOF[[#This Row],[LOT]],1,SEARCH("-",Tab_SuiviOF[[#This Row],[LOT]])-1),Tab_SuiviOF[[#This Row],[LOT]]) -> A099MR04 | H703: TOL990 | I703: =INDEX(Bd_PF!$E:$E,MATCH(Tab_SuiviOF[[#This Row],[REFERENCE]],Bd_PF!$C:$C,0)) -> Nutridej' céréales saveur praliné 900 g (ALLERGENES) | J703: =INDEX(Bd_PF!$D:$D,MATCH(Tab_SuiviOF[[#This Row],[REFERENCE]],Bd_PF!$C:$C,0)) -> SF01224 | K703: =INDEX(Bd_PF!$I:$I,MATCH(Tab_SuiviOF[[#This Row],[REFERENCE]],Bd_PF!$C:$C,0)) -> 0.9 | L703: =INDEX(Bd_PF!$J:$J,MATCH(Tab_SuiviOF[[#This Row],[REFERENCE]],Bd_PF!$C:$C,0)) -> OTS | M703: =INDEX(Bd_PF!$K:$K,MATCH(Tab_SuiviOF[[#This Row],[REFERENCE]],Bd_PF!$C:$C,0)) -> Produit pesé | N703: 43200 | O703: 43200 | P703: =YEAR(Tab_SuiviOF[[#This Row],[DATEFINREVISEE]]) -> 2018 | Q703: =MONTH(Tab_SuiviOF[[#This Row],[DATEFINREVISEE]]) -> 4 | R703: =WEEKNUM(Tab_SuiviOF[[#This Row],[DATEFINREVISEE]],21) -> 15 | S703: 21 | T703: 21 | U703: 21 | V703: =Tab_SuiviOF[[#This Row],[QTEBL]]*Tab_SuiviOF[[#This Row],[POIDS NET]] -> 18.9 | W703: 19 | X703: 19
A704: 102 | B704: 5 | C704: 42089 | D704: 695370 | E704: 46956 | F704: {=INDEX(Bd_VENTILATIONS!$G:$G,MATCH(Tab_SuiviOF[[#This Row],[REFERENCE]]&Tab_SuiviOF[[#This Row],[BLNO]],Bd_VENTILATIONS!$F:$F&Bd_VENTILATIONS!$D:$D,0))} -> A094M02-1 | G704: =IFERROR(MID(Tab_SuiviOF[[#This Row],[LOT]],1,SEARCH("-",Tab_SuiviOF[[#This Row],[LOT]])-1),Tab_SuiviOF[[#This Row],[LOT]]) -> A094M02 | H704: PERF00001 | I704: =INDEX(Bd_PF!$E:$E,MATCH(Tab_SuiviOF[[#This Row],[REFERENCE]],Bd_PF!$C:$C,0)) -> Bouillon de volaille 1 kg "Nutrisens Performance" | J704: =INDEX(Bd_PF!$D:$D,MATCH(Tab_SuiviOF[[#This Row],[REFERENCE]],Bd_PF!$C:$C,0)) -> SF01313 | K704: =INDEX(Bd_PF!$I:$I,MATCH(Tab_SuiviOF[[#This Row],[REFERENCE]],Bd_PF!$C:$C,0)) -> 1 | L704: =INDEX(Bd_PF!$J:$J,MATCH(Tab_SuiviOF[[#This Row],[REFERENCE]],Bd_PF!$C:$C,0)) -> OTS | M704: =INDEX(Bd_PF!$K:$K,MATCH(Tab_SuiviOF[[#This Row],[REFERENCE]],Bd_PF!$C:$C,0)) -> Produit pesé | N704: 43201 | O704: 43201 | P704: =YEAR(Tab_SuiviOF[[#This Row],[DATEFINREVISEE]]) -> 2018 | Q704: =MONTH(Tab_SuiviOF[[#This Row],[DATEFINREVISEE]]) -> 4 | R704: =WEEKNUM(Tab_SuiviOF[[#This Row],[DATEFINREVISEE]],21) -> 15 | S704: 648 | T704: 648 | U704: 643 | V704: =Tab_SuiviOF[[#This Row],[QTEBL]]*Tab_SuiviOF[[#This Row],[POIDS NET]] -> 643 | W704: =IFERROR(INDEX(Bd_MÉLANGES!$I:$I,MATCH('Bd_FABRICATIONS PF'!$G:$G,Bd_MÉLANGES!$J:$J,0)),0) -> 648.7 | X704: =IFERROR(INDEX(Bd_MÉLANGES!$K:$K,MATCH(Tab_SuiviOF[[#This Row],[LOT A PRENDRE EN COMPTE]],Bd_MÉLANGES!$J:$J,0)),0) -> 648
A705: 102 | B705: 5 | C705: 42134 | D705: 695969 | E705: 46959 | F705: {=INDEX(Bd_VENTILATIONS!$G:$G,MATCH(Tab_SuiviOF[[#This Row],[REFERENCE]]&Tab_SuiviOF[[#This Row],[BLNO]],Bd_VENTILATIONS!$F:$F&Bd_VENTILATIONS!$D:$D,0))} -> A100M04-6 | G705: =IFERROR(MID(Tab_SuiviOF[[#This Row],[LOT]],1,SEARCH("-",Tab_SuiviOF[[#This Row],[LOT]])-1),Tab_SuiviOF[[#This Row],[LOT]]) -> A100M04 | H705: BRAKE029 | I705: =INDEX(Bd_PF!$E:$E,MATCH(Tab_SuiviOF[[#This Row],[REFERENCE]],Bd_PF!$C:$C,0)) -> Fonds brun lié SANS GLUTAMATE 600G "BRAKE" | J705: =INDEX(Bd_PF!$D:$D,MATCH(Tab_SuiviOF[[#This Row],[REFERENCE]],Bd_PF!$C:$C,0)) -> SF01385 | K705: =INDEX(Bd_PF!$I:$I,MATCH(Tab_SuiviOF[[#This Row],[REFERENCE]],Bd_PF!$C:$C,0)) -> 0.6 | L705: =INDEX(Bd_PF!$J:$J,MATCH(Tab_SuiviOF[[#This Row],[REFERENCE]],Bd_PF!$C:$C,0)) -> Boite plastique | M705: =INDEX(Bd_PF!$K:$K,MATCH(Tab_SuiviOF[[#This Row],[REFERENCE]],Bd_PF!$C:$C,0)) -> Produit pesé | N705: 43201 | O705: 43201 | P705: =YEAR(Tab_SuiviOF[[#This Row],[DATEFINREVISEE]]) -> 2018 | Q705: =MONTH(Tab_SuiviOF[[#This Row],[DATEFINREVISEE]]) -> 4 | R705: =WEEKNUM(Tab_SuiviOF[[#This Row],[DATEFINREVISEE]],21) -> 15 | S705: 1152 | T705: 1152 | U705: 1151 | V705: =Tab_SuiviOF[[#This Row],[QTEBL]]*Tab_SuiviOF[[#This Row],[POIDS NET]] -> 690.6 | W705: =IFERROR(INDEX(Bd_MÉLANGES!$I:$I,MATCH('Bd_FABRICATIONS PF'!$G:$G,Bd_MÉLANGES!$J:$J,0)),0) -> 693.3 | X705: =IFERROR(INDEX(Bd_MÉLANGES!$K:$K,MATCH(Tab_SuiviOF[[#This Row],[LOT A PRENDRE EN COMPTE]],Bd_MÉLANGES!$J:$J,0)),0) -> 691.19
A706: 102 | B706: 5 | C706: 42138 | D706: 696029 | E706: 46965 | F706: {=INDEX(Bd_VENTILATIONS!$G:$G,MATCH(Tab_SuiviOF[[#This Row],[REFERENCE]]&Tab_SuiviOF[[#This Row],[BLNO]],Bd_VENTILATIONS!$F:$F&Bd_VENTILATIONS!$D:$D,0))} -> A101M02-5 | G706: =IFERROR(MID(Tab_SuiviOF[[#This Row],[LOT]],1,SEARCH("-",Tab_SuiviOF[[#This Row],[LOT]])-1),Tab_SuiviOF[[#This Row],[LOT]]) -> A101M02 | H706: BRAKE037 | I706: =INDEX(Bd_PF!$E:$E,MATCH(Tab_SuiviOF[[#This Row],[REFERENCE]],Bd_PF!$C:$C,0)) -> Jus de veau lié SANS GLUTAMATE 600G "BRAKE" | J706: =INDEX(Bd_PF!$D:$D,MATCH(Tab_SuiviOF[[#This Row],[REFERENCE]],Bd_PF!$C:$C,0)) -> SF01430 | K706: =INDEX(Bd_PF!$I:$I,MATCH(Tab_SuiviOF[[#This Row],[REFERENCE]],Bd_PF!$C:$C,0)) -> 0.6 | L706: =INDEX(Bd_PF!$J:$J,MATCH(Tab_SuiviOF[[#This Row],[REFERENCE]],Bd_PF!$C:$C,0)) -> Boite plastique | M706: =INDEX(Bd_PF!$K:$K,MATCH(Tab_SuiviOF[[#This Row],[REFERENCE]],Bd_PF!$C:$C,0)) -> Produit pesé | N706: 43201 | O706: 43201 | P706: =YEAR(Tab_SuiviOF[[#This Row],[DATEFINREVISEE]]) -> 2018 | Q706: =MONTH(Tab_SuiviOF[[#This Row],[DATEFINREVISEE]]) -> 4 | R706: =WEEKNUM(Tab_SuiviOF[[#This Row],[DATEFINREVISEE]],21) -> 15 | S706: 528 | T706: 528 | U706: 530 | V706: =Tab_SuiviOF[[#This Row],[QTEBL]]*Tab_SuiviOF[[#This Row],[POIDS NET]] -> 318 | W706: =IFERROR(INDEX(Bd_MÉLANGES!$I:$I,MATCH('Bd_FABRICATIONS PF'!$G:$G,Bd_MÉLANGES!$J:$J,0)),0) -> 319.3 | X706: =IFERROR(INDEX(Bd_MÉLANGES!$K:$K,MATCH(Tab_SuiviOF[[#This Row],[LOT A PRENDRE EN COMPTE]],Bd_MÉLANGES!$J:$J,0)),0) -> 316.82
A707: 102 | B707: 5 | C707: 42154 | D707: 696209 | E707: 46958 | F707: {=INDEX(Bd_VENTILATIONS!$G:$G,MATCH(Tab_SuiviOF[[#This Row],[REFERENCE]]&Tab_SuiviOF[[#This Row],[BLNO]],Bd_VENTILATIONS!$F:$F&Bd_VENTILATIONS!$D:$D,0))} -> A101M04-1 | G707: =IFERROR(MID(Tab_SuiviOF[[#This Row],[LOT]],1,SEARCH("-",Tab_SuiviOF[[#This Row],[LOT]])-1),Tab_SuiviOF[[#This Row],[LOT]]) -> A101M04 | H707: PF00013 | I707: =INDEX(Bd_PF!$E:$E,MATCH(Tab_SuiviOF[[#This Row],[REFERENCE]],Bd_PF!$C:$C,0)) -> Bouillon de boeuf boite 1 kg Cookalim | J707: =INDEX(Bd_PF!$D:$D,MATCH(Tab_SuiviOF[[#This Row],[REFERENCE]],Bd_PF!$C:$C,0)) -> SF00855 | K707: =INDEX(Bd_PF!$I:$I,MATCH(Tab_SuiviOF[[#This Row],[REFERENCE]],Bd_PF!$C:$C,0)) -> 1 | L707: =INDEX(Bd_PF!$J:$J,MATCH(Tab_SuiviOF[[#This Row],[REFERENCE]],Bd_PF!$C:$C,0)) -> OTS | M707: =INDEX(Bd_PF!$K:$K,MATCH(Tab_SuiviOF[[#This Row],[REFERENCE]],Bd_PF!$C:$C,0)) -> Produit pesé | N707: 43201 | O707: 43201 | P707: =YEAR(Tab_SuiviOF[[#This Row],[DATEFINREVISEE]]) -> 2018 | Q707: =MONTH(Tab_SuiviOF[[#This Row],[DATEFINREVISEE]]) -> 4 | R707: =WEEKNUM(Tab_SuiviOF[[#This Row],[DATEFINREVISEE]],21) -> 15 | S707: 180 | T707: 180 | U707: 179 | V707: =Tab_SuiviOF[[#This Row],[QTEBL]]*Tab_SuiviOF[[#This Row],[POIDS NET]] -> 179 | W707: =IFERROR(INDEX(Bd_MÉLANGES!$I:$I,MATCH('Bd_FABRICATIONS PF'!$G:$G,Bd_MÉLANGES!$J:$J,0)),0) -> 180.3 | X707: =IFERROR(INDEX(Bd_MÉLANGES!$K:$K,MATCH(Tab_SuiviOF[[#This Row],[LOT A PRENDRE EN COMPTE]],Bd_MÉLANGES!$J:$J,0)),0) -> 180
A708: 102 | B708: 5 | C708: 42183 | D708: 696544 | E708: 46964 | F708: {=INDEX(Bd_VENTILATIONS!$G:$G,MATCH(Tab_SuiviOF[[#This Row],[REFERENCE]]&Tab_SuiviOF[[#This Row],[BLNO]],Bd_VENTILATIONS!$F:$F&Bd_VENTILATIONS!$D:$D,0))} -> A101M03-1 | G708: =IFERROR(MID(Tab_SuiviOF[[#This Row],[LOT]],1,SEARCH("-",Tab_SuiviOF[[#This Row],[LOT]])-1),Tab_SuiviOF[[#This Row],[LOT]]) -> A101M03 | H708: PERF019 | I708: =INDEX(Bd_PF!$E:$E,MATCH(Tab_SuiviOF[[#This Row],[REFERENCE]],Bd_PF!$C:$C,0)) -> Jus de poulet bte 1kg "NUTRISENS PERFORMANCE" | J708: =INDEX(Bd_PF!$D:$D,MATCH(Tab_SuiviOF[[#This Row],[REFERENCE]],Bd_PF!$C:$C,0)) -> SF01335 | K708: =INDEX(Bd_PF!$I:$I,MATCH(Tab_SuiviOF[[#This Row],[REFERENCE]],Bd_PF!$C:$C,0)) -> 1 | L708: =INDEX(Bd_PF!$J:$J,MATCH(Tab_SuiviOF[[#This Row],[REFERENCE]],Bd_PF!$C:$C,0)) -> OTS | M708: =INDEX(Bd_PF!$K:$K,MATCH(Tab_SuiviOF[[#This Row],[REFERENCE]],Bd_PF!$C:$C,0)) -> Produit pesé | N708: 43201 | O708: 43201 | P708: =YEAR(Tab_SuiviOF[[#This Row],[DATEFINREVISEE]]) -> 2018 | Q708: =MONTH(Tab_SuiviOF[[#This Row],[DATEFINREVISEE]]) -> 4 | R708: =WEEKNUM(Tab_SuiviOF[[#This Row],[DATEFINREVISEE]],21) -> 15 | S708: 108 | T708: 108 | U708: 108 | V708: =Tab_SuiviOF[[#This Row],[QTEBL]]*Tab_SuiviOF[[#This Row],[POIDS NET]] -> 108 | W708: =IFERROR(INDEX(Bd_MÉLANGES!$I:$I,MATCH('Bd_FABRICATIONS PF'!$G:$G,Bd_MÉLANGES!$J:$J,0)),0) -> 108 | X708: =IFERROR(INDEX(Bd_MÉLANGES!$K:$K,MATCH(Tab_SuiviOF[[#This Row],[LOT A PRENDRE EN COMPTE]],Bd_MÉLANGES!$J:$J,0)),0) -> 108
A709: 102 | B709: 5 | C709: 42185 | D709: 696562 | E709: 46957 | F709: {=INDEX(Bd_VENTILATIONS!$G:$G,MATCH(Tab_SuiviOF[[#This Row],[REFERENCE]]&Tab_SuiviOF[[#This Row],[BLNO]],Bd_VENTILATIONS!$F:$F&Bd_VENTILATIONS!$D:$D,0))} -> A101M01-2 | G709: =IFERROR(MID(Tab_SuiviOF[[#This Row],[LOT]],1,SEARCH("-",Tab_SuiviOF[[#This Row],[LOT]])-1),Tab_SuiviOF[[#This Row],[LOT]]) -> A101M01 | H709: PERF070 | I709: =INDEX(Bd_PF!$E:$E,MATCH(Tab_SuiviOF[[#This Row],[REFERENCE]],Bd_PF!$C:$C,0)) -> Velouté d'asperge 1Kg "NUTRISENS PERFORMANCE" | J709: =INDEX(Bd_PF!$D:$D,MATCH(Tab_SuiviOF[[#This Row],[REFERENCE]],Bd_PF!$C:$C,0)) -> SF01426 | K709: =INDEX(Bd_PF!$I:$I,MATCH(Tab_SuiviOF[[#This Row],[REFERENCE]],Bd_PF!$C:$C,0)) -> 1 | L709: =INDEX(Bd_PF!$J:$J,MATCH(Tab_SuiviOF[[#This Row],[REFERENCE]],Bd_PF!$C:$C,0)) -> Tecse | M709: =INDEX(Bd_PF!$K:$K,MATCH(Tab_SuiviOF[[#This Row],[REFERENCE]],Bd_PF!$C:$C,0)) -> Produit pesé | N709: 43201 | O709: 43201 | P709: =YEAR(Tab_SuiviOF[[#This Row],[DATEFINREVISEE]]) -> 2018 | Q709: =MONTH(Tab_SuiviOF[[#This Row],[DATEFINREVISEE]]) -> 4 | R709: =WEEKNUM(Tab_SuiviOF[[#This Row],[DATEFINREVISEE]],21) -> 15 | S709: 144 | T709: 144 | U709: 137 | V709: =Tab_SuiviOF[[#This Row],[QTEBL]]*Tab_SuiviOF[[#This Row],[POIDS NET]] -> 137 | W709: =IFERROR(INDEX(Bd_MÉLANGES!$I:$I,MATCH('Bd_FABRICATIONS PF'!$G:$G,Bd_MÉLANGES!$J:$J,0)),0) -> 144.1 | X709: =IFERROR(INDEX(Bd_MÉLANGES!$K:$K,MATCH(Tab_SuiviOF[[#This Row],[LOT A PRENDRE EN COMPTE]],Bd_MÉLANGES!$J:$J,0)),0) -> 143.99
A710: 102 | B710: 5 | C710: 42215 | D710: 696910 | E710: 46952 | F710: {=INDEX(Bd_VENTILATIONS!$G:$G,MATCH(Tab_SuiviOF[[#This Row],[REFERENCE]]&Tab_SuiviOF[[#This Row],[BLNO]],Bd_VENTILATIONS!$F:$F&Bd_VENTILATIONS!$D:$D,0))} -> A100M03-1 | G710: =IFERROR(MID(Tab_SuiviOF[[#This Row],[LOT]],1,SEARCH("-",Tab_SuiviOF[[#This Row],[LOT]])-1),Tab_SuiviOF[[#This Row],[LOT]]) -> A100M03 | H710: PF00014 | I710: =INDEX(Bd_PF!$E:$E,MATCH(Tab_SuiviOF[[#This Row],[REFERENCE]],Bd_PF!$C:$C,0)) -> Bouillon de volaille boite 1 kg Cookalim | J710: =INDEX(Bd_PF!$D:$D,MATCH(Tab_SuiviOF[[#This Row],[REFERENCE]],Bd_PF!$C:$C,0)) -> SF00857 | K710: =INDEX(Bd_PF!$I:$I,MATCH(Tab_SuiviOF[[#This Row],[REFERENCE]],Bd_PF!$C:$C,0)) -> 1 | L710: =INDEX(Bd_PF!$J:$J,MATCH(Tab_SuiviOF[[#This Row],[REFERENCE]],Bd_PF!$C:$C,0)) -> OTS | M710: =INDEX(Bd_PF!$K:$K,MATCH(Tab_SuiviOF[[#This Row],[REFERENCE]],Bd_PF!$C:$C,0)) -> Produit pesé | N710: 43200 | O710: 43201 | P710: =YEAR(Tab_SuiviOF[[#This Row],[DATEFINREVISEE]]) -> 2018 | Q710: =MONTH(Tab_SuiviOF[[#This Row],[DATEFINREVISEE]]) -> 4 | R710: =WEEKNUM(Tab_SuiviOF[[#This Row],[DATEFINREVISEE]],21) -> 15 | S710: 390 | T710: 390 | U710: 384 | V710: =Tab_SuiviOF[[#This Row],[QTEBL]]*Tab_SuiviOF[[#This Row],[POIDS NET]] -> 384 | W710: =IFERROR(INDEX(Bd_MÉLANGES!$I:$I,MATCH('Bd_FABRICATIONS PF'!$G:$G,Bd_MÉLANGES!$J:$J,0)),0) -> 390.9 | X710: =IFERROR(INDEX(Bd_MÉLANGES!$K:$K,MATCH(Tab_SuiviOF[[#This Row],[LOT A PRENDRE EN COMPTE]],Bd_MÉLANGES!$J:$J,0)),0) -> 390.01
A711: 102 | B711: 5 | C711: 42217 | D711: 696928 | E711: 46953 | F711: {=INDEX(Bd_VENTILATIONS!$G:$G,MATCH(Tab_SuiviOF[[#This Row],[REFERENCE]]&Tab_SuiviOF[[#This Row],[BLNO]],Bd_VENTILATIONS!$F:$F&Bd_VENTILATIONS!$D:$D,0))} -> A100M06-1 | G711: =IFERROR(MID(Tab_SuiviOF[[#This Row],[LOT]],1,SEARCH("-",Tab_SuiviOF[[#This Row],[LOT]])-1),Tab_SuiviOF[[#This Row],[LOT]]) -> A100M06 | H711: PF00021 | I711: =INDEX(Bd_PF!$E:$E,MATCH(Tab_SuiviOF[[#This Row],[REFERENCE]],Bd_PF!$C:$C,0)) -> Jus de veau boite 0kg900 Cookalim | J711: =INDEX(Bd_PF!$D:$D,MATCH(Tab_SuiviOF[[#This Row],[REFERENCE]],Bd_PF!$C:$C,0)) -> SF00892 | K711: =INDEX(Bd_PF!$I:$I,MATCH(Tab_SuiviOF[[#This Row],[REFERENCE]],Bd_PF!$C:$C,0)) -> 0.9 | L711: =INDEX(Bd_PF!$J:$J,MATCH(Tab_SuiviOF[[#This Row],[REFERENCE]],Bd_PF!$C:$C,0)) -> OTS | M711: =INDEX(Bd_PF!$K:$K,MATCH(Tab_SuiviOF[[#This Row],[REFERENCE]],Bd_PF!$C:$C,0)) -> Produit pesé | N711: 43201 | O711: 43201 | P711: =YEAR(Tab_SuiviOF[[#This Row],[DATEFINREVISEE]]) -> 2018 | Q711: =MONTH(Tab_SuiviOF[[#This Row],[DATEFINREVISEE]]) -> 4 | R711: =WEEKNUM(Tab_SuiviOF[[#This Row],[DATEFINREVISEE]],21) -> 15 | S711: 326 | T711: 326 | U711: 323 | V711: =Tab_SuiviOF[[#This Row],[QTEBL]]*Tab_SuiviOF[[#This Row],[POIDS NET]] -> 290.7 | W711: =IFERROR(INDEX(Bd_MÉLANGES!$I:$I,MATCH('Bd_FABRICATIONS PF'!$G:$G,Bd_MÉLANGES!$J:$J,0)),0) -> 293.5 | X711: =IFERROR(INDEX(Bd_MÉLANGES!$K:$K,MATCH(Tab_SuiviOF[[#This Row],[LOT A PRENDRE EN COMPTE]],Bd_MÉLANGES!$J:$J,0)),0) -> 293.99
A712: 102 | B712: 5 | C712: 42301 | D712: 697869 | E712: 46961 | F712: {=INDEX(Bd_VENTILATIONS!$G:$G,MATCH(Tab_SuiviOF[[#This Row],[REFERENCE]]&Tab_SuiviOF[[#This Row],[BLNO]],Bd_VENTILATIONS!$F:$F&Bd_VENTILATIONS!$D:$D,0))} -> A095M01-8 | G712: =IFERROR(MID(Tab_SuiviOF[[#This Row],[LOT]],1,SEARCH("-",Tab_SuiviOF[[#This Row],[LOT]])-1),Tab_SuiviOF[[#This Row],[LOT]]) -> A095M01 | H712: PF00242 | I712: =INDEX(Bd_PF!$E:$E,MATCH(Tab_SuiviOF[[#This Row],[REFERENCE]],Bd_PF!$C:$C,0)) -> Gel clear stick 3,7G | J712: =INDEX(Bd_PF!$D:$D,MATCH(Tab_SuiviOF[[#This Row],[REFERENCE]],Bd_PF!$C:$C,0)) -> SF01381 | K712: =INDEX(Bd_PF!$I:$I,MATCH(Tab_SuiviOF[[#This Row],[REFERENCE]],Bd_PF!$C:$C,0)) -> 0.003 | L712: =INDEX(Bd_PF!$J:$J,MATCH(Tab_SuiviOF[[#This Row],[REFERENCE]],Bd_PF!$C:$C,0)) -> Stick | M712: =INDEX(Bd_PF!$K:$K,MATCH(Tab_SuiviOF[[#This Row],[REFERENCE]],Bd_PF!$C:$C,0)) -> Produit pesé | N712: 43201 | O712: 43201 | P712: =YEAR(Tab_SuiviOF[[#This Row],[DATEFINREVISEE]]) -> 2018 | Q712: =MONTH(Tab_SuiviOF[[#This Row],[DATEFINREVISEE]]) -> 4 | R712: =WEEKNUM(Tab_SuiviOF[[#This Row],[DATEFINREVISEE]],21) -> 15 | S712: 5000 | T712: 5000 | U712: 2160 | V712: =Tab_SuiviOF[[#This Row],[QTEBL]]*Tab_SuiviOF[[#This Row],[POIDS NET]] -> 6.48 | W712: 9 | X712: 9
A713: 102 | B713: 5 | C713: 42302 | D713: 697998 | E713: 46963 | F713: {=INDEX(Bd_VENTILATIONS!$G:$G,MATCH(Tab_SuiviOF[[#This Row],[REFERENCE]]&Tab_SuiviOF[[#This Row],[BLNO]],Bd_VENTILATIONS!$F:$F&Bd_VENTILATIONS!$D:$D,0))} -> A099R02-1 | G713: =IFERROR(MID(Tab_SuiviOF[[#This Row],[LOT]],1,SEARCH("-",Tab_SuiviOF[[#This Row],[LOT]])-1),Tab_SuiviOF[[#This Row],[LOT]]) -> A099R02 | H713: PF00071 | I713: =INDEX(Bd_PF!$E:$E,MATCH(Tab_SuiviOF[[#This Row],[REFERENCE]],Bd_PF!$C:$C,0)) -> Roux blanc boite 1 kg Cookalim | J713: =INDEX(Bd_PF!$D:$D,MATCH(Tab_SuiviOF[[#This Row],[REFERENCE]],Bd_PF!$C:$C,0)) -> SF00843 | K713: =INDEX(Bd_PF!$I:$I,MATCH(Tab_SuiviOF[[#This Row],[REFERENCE]],Bd_PF!$C:$C,0)) -> 1 | L713: =INDEX(Bd_PF!$J:$J,MATCH(Tab_SuiviOF[[#This Row],[REFERENCE]],Bd_PF!$C:$C,0)) -> OTS | M713: =INDEX(Bd_PF!$K:$K,MATCH(Tab_SuiviOF[[#This Row],[REFERENCE]],Bd_PF!$C:$C,0)) -> Reconditionnement | N713: 43201 | O713: 43201 | P713: =YEAR(Tab_SuiviOF[[#This Row],[DATEFINREVISEE]]) -> 2018 | Q713: =MONTH(Tab_SuiviOF[[#This Row],[DATEFINREVISEE]]) -> 4 | R713: =WEEKNUM(Tab_SuiviOF[[#This Row],[DATEFINREVISEE]],21) -> 15 | S713: 54 | T713: 54 | U713: 54 | V713: =Tab_SuiviOF[[#This Row],[QTEBL]]*Tab_SuiviOF[[#This Row],[POIDS NET]] -> 54 | W713: =IFERROR(INDEX(Bd_MÉLANGES!$I:$I,MATCH('Bd_FABRICATIONS PF'!$G:$G,Bd_MÉLANGES!$J:$J,0)),0) -> 0 | X713: =IFERROR(INDEX(Bd_MÉLANGES!$K:$K,MATCH(Tab_SuiviOF[[#This Row],[LOT A PRENDRE EN COMPTE]],Bd_MÉLANGES!$J:$J,0)),0) -> 0
A714: 102 | B714: 5 | C714: 42321 | D714: 698320 | E714: 46960 | F714: {=INDEX(Bd_VENTILATIONS!$G:$G,MATCH(Tab_SuiviOF[[#This Row],[REFERENCE]]&Tab_SuiviOF[[#This Row],[BLNO]],Bd_VENTILATIONS!$F:$F&Bd_VENTILATIONS!$D:$D,0))} -> A080M01-1 | G714: =IFERROR(MID(Tab_SuiviOF[[#This Row],[LOT]],1,SEARCH("-",Tab_SuiviOF[[#This Row],[LOT]])-1),Tab_SuiviOF[[#This Row],[LOT]]) -> A080M01 | H714: PERF013 | I714: =INDEX(Bd_PF!$E:$E,MATCH(Tab_SuiviOF[[#This Row],[REFERENCE]],Bd_PF!$C:$C,0)) -> Jus de veau lié pauvre en sodium 1 kg "Nutrisens Performance" | J714: =INDEX(Bd_PF!$D:$D,MATCH(Tab_SuiviOF[[#This Row],[REFERENCE]],Bd_PF!$C:$C,0)) -> SF01327 | K714: =INDEX(Bd_PF!$I:$I,MATCH(Tab_SuiviOF[[#This Row],[REFERENCE]],Bd_PF!$C:$C,0)) -> 1 | L714: =INDEX(Bd_PF!$J:$J,MATCH(Tab_SuiviOF[[#This Row],[REFERENCE]],Bd_PF!$C:$C,0)) -> OTS | M714: =INDEX(Bd_PF!$K:$K,MATCH(Tab_SuiviOF[[#This Row],[REFERENCE]],Bd_PF!$C:$C,0)) -> Produit pesé | N714: 43201 | O714: 43201 | P714: =YEAR(Tab_SuiviOF[[#This Row],[DATEFINREVISEE]]) -> 2018 | Q714: =MONTH(Tab_SuiviOF[[#This Row],[DATEFINREVISEE]]) -> 4 | R714: =WEEKNUM(Tab_SuiviOF[[#This Row],[DATEFINREVISEE]],21) -> 15 | S714: 252 | T714: 252 | U714: 255 | V714: =Tab_SuiviOF[[#This Row],[QTEBL]]*Tab_SuiviOF[[#This Row],[POIDS NET]] -> 255 | W714: 255 | X714: 255
A715: 102 | B715: 5 | C715: 42332 | D715: 698410 | E715: 46962 | F715: {=INDEX(Bd_VENTILATIONS!$G:$G,MATCH(Tab_SuiviOF[[#This Row],[REFERENCE]]&Tab_SuiviOF[[#This Row],[BLNO]],Bd_VENTILATIONS!$F:$F&Bd_VENTILATIONS!$D:$D,0))} -> AS15PU01-7 | G715: =IFERROR(MID(Tab_SuiviOF[[#This Row],[LOT]],1,SEARCH("-",Tab_SuiviOF[[#This Row],[LOT]])-1),Tab_SuiviOF[[#This Row],[LOT]]) -> AS15PU01 | H715: EDE103 | I715: =INDEX(Bd_PF!$E:$E,MATCH(Tab_SuiviOF[[#This Row],[REFERENCE]],Bd_PF!$C:$C,0)) -> Purée grand-mère salée sac 5 kg | J715: =INDEX(Bd_PF!$D:$D,MATCH(Tab_SuiviOF[[#This Row],[REFERENCE]],Bd_PF!$C:$C,0)) -> SF01288 | K715: =INDEX(Bd_PF!$I:$I,MATCH(Tab_SuiviOF[[#This Row],[REFERENCE]],Bd_PF!$C:$C,0)) -> 5 | L715: =INDEX(Bd_PF!$J:$J,MATCH(Tab_SuiviOF[[#This Row],[REFERENCE]],Bd_PF!$C:$C,0)) -> Purée | M715: =INDEX(Bd_PF!$K:$K,MATCH(Tab_SuiviOF[[#This Row],[REFERENCE]],Bd_PF!$C:$C,0)) -> Purée | N715: 43201 | O715: 43201 | P715: =YEAR(Tab_SuiviOF[[#This Row],[DATEFINREVISEE]]) -> 2018 | Q715: =MONTH(Tab_SuiviOF[[#This Row],[DATEFINREVISEE]]) -> 4 | R715: =WEEKNUM(Tab_SuiviOF[[#This Row],[DATEFINREVISEE]],21) -> 15 | S715: 840 | T715: 840 | U715: 833 | V715: =Tab_SuiviOF[[#This Row],[QTEBL]]*Tab_SuiviOF[[#This Row],[POIDS NET]] -> 4165 | W715: =IFERROR(INDEX(Bd_MÉLANGES!$I:$I,MATCH('Bd_FABRICATIONS PF'!$G:$G,Bd_MÉLANGES!$J:$J,0)),0) -> 0 | X715: =IFERROR(INDEX(Bd_MÉLANGES!$K:$K,MATCH(Tab_SuiviOF[[#This Row],[LOT A PRENDRE EN COMPTE]],Bd_MÉLANGES!$J:$J,0)),0) -> 0
A716: 102 | B716: 5 | C716: 42114 | D716: 695626 | E716: 46815 | F716: {=INDEX(Bd_VENTILATIONS!$G:$G,MATCH(Tab_SuiviOF[[#This Row],[REFERENCE]]&Tab_SuiviOF[[#This Row],[BLNO]],Bd_VENTILATIONS!$F:$F&Bd_VENTILATIONS!$D:$D,0))} -> A088M02 | G716: =IFERROR(MID(Tab_SuiviOF[[#This Row],[LOT]],1,SEARCH("-",Tab_SuiviOF[[#This Row],[LOT]])-1),Tab_SuiviOF[[#This Row],[LOT]]) -> A088M02 | H716: ED06 | I716: =INDEX(Bd_PF!$E:$E,MATCH(Tab_SuiviOF[[#This Row],[REFERENCE]],Bd_PF!$C:$C,0)) -> HYDRA CLEAR ED Orange V4 | J716: =INDEX(Bd_PF!$D:$D,MATCH(Tab_SuiviOF[[#This Row],[REFERENCE]],Bd_PF!$C:$C,0)) -> XMP869 | K716: =INDEX(Bd_PF!$I:$I,MATCH(Tab_SuiviOF[[#This Row],[REFERENCE]],Bd_PF!$C:$C,0)) -> 0 | L716: =INDEX(Bd_PF!$J:$J,MATCH(Tab_SuiviOF[[#This Row],[REFERENCE]],Bd_PF!$C:$C,0)) -> Pesée/mélange | M716: Reconditionnement | N716: 43178 | O716: 43202 | P716: =YEAR(Tab_SuiviOF[[#This Row],[DATEFINREVISEE]]) -> 2018 | Q716: =MONTH(Tab_SuiviOF[[#This Row],[DATEFINREVISEE]]) -> 4 | R716: =WEEKNUM(Tab_SuiviOF[[#This Row],[DATEFINREVISEE]],21) -> 15 | S716: 100 | T716: 100 | U716: 100 | V716: =Tab_SuiviOF[[#This Row],[QTEBL]]*Tab_SuiviOF[[#This Row],[POIDS NET]] -> 0 | W716: =IFERROR(INDEX(Bd_MÉLANGES!$I:$I,MATCH('Bd_FABRICATIONS PF'!$G:$G,Bd_MÉLANGES!$J:$J,0)),0) -> 0 | X716: =IFERROR(INDEX(Bd_MÉLANGES!$K:$K,MATCH(Tab_SuiviOF[[#This Row],[LOT A PRENDRE EN COMPTE]],Bd_MÉLANGES!$J:$J,0)),0) -> 0
A717: 102 | B717: 5 | C717: 42132 | D717: 695946 | E717: 46986 | F717: {=INDEX(Bd_VENTILATIONS!$G:$G,MATCH(Tab_SuiviOF[[#This Row],[REFERENCE]]&Tab_SuiviOF[[#This Row],[BLNO]],Bd_VENTILATIONS!$F:$F&Bd_VENTILATIONS!$D:$D,0))} -> A101M05-6 | G717: =IFERROR(MID(Tab_SuiviOF[[#This Row],[LOT]],1,SEARCH("-",Tab_SuiviOF[[#This Row],[LOT]])-1),Tab_SuiviOF[[#This Row],[LOT]]) -> A101M05 | H717: BRAKE034 | I717: =INDEX(Bd_PF!$E:$E,MATCH(Tab_SuiviOF[[#This Row],[REFERENCE]],Bd_PF!$C:$C,0)) -> Bouillon de légumes SANS GLUTAMATE "BRAKE" | J717: =INDEX(Bd_PF!$D:$D,MATCH(Tab_SuiviOF[[#This Row],[REFERENCE]],Bd_PF!$C:$C,0)) -> SF01390 | K717: =INDEX(Bd_PF!$I:$I,MATCH(Tab_SuiviOF[[#This Row],[REFERENCE]],Bd_PF!$C:$C,0)) -> 1.5 | L717: =INDEX(Bd_PF!$J:$J,MATCH(Tab_SuiviOF[[#This Row],[REFERENCE]],Bd_PF!$C:$C,0)) -> Boite plastique | M717: =INDEX(Bd_PF!$K:$K,MATCH(Tab_SuiviOF[[#This Row],[REFERENCE]],Bd_PF!$C:$C,0)) -> Produit pesé | N717: 43202 | O717: 43202 | P717: =YEAR(Tab_SuiviOF[[#This Row],[DATEFINREVISEE]]) -> 2018 | Q717: =MONTH(Tab_SuiviOF[[#This Row],[DATEFINREVISEE]]) -> 4 | R717: =WEEKNUM(Tab_SuiviOF[[#This Row],[DATEFINREVISEE]],21) -> 15 | S717: 150 | T717: 150 | U717: 150 | V717: =Tab_SuiviOF[[#This Row],[QTEBL]]*Tab_SuiviOF[[#This Row],[POIDS NET]] -> 225 | W717: =IFERROR(INDEX(Bd_MÉLANGES!$I:$I,MATCH('Bd_FABRICATIONS PF'!$G:$G,Bd_MÉLANGES!$J:$J,0)),0) -> 225.9 | X717: =IFERROR(INDEX(Bd_MÉLANGES!$K:$K,MATCH(Tab_SuiviOF[[#This Row],[LOT A PRENDRE EN COMPTE]],Bd_MÉLANGES!$J:$J,0)),0) -> 225.02
A718: 102 | B718: 5 | C718: 42136 | D718: 695999 | E718: 46970 | F718: {=INDEX(Bd_VENTILATIONS!$G:$G,MATCH(Tab_SuiviOF[[#This Row],[REFERENCE]]&Tab_SuiviOF[[#This Row],[BLNO]],Bd_VENTILATIONS!$F:$F&Bd_VENTILATIONS!$D:$D,0))} -> A101M06-6 | G718: =IFERROR(MID(Tab_SuiviOF[[#This Row],[LOT]],1,SEARCH("-",Tab_SuiviOF[[#This Row],[LOT]])-1),Tab_SuiviOF[[#This Row],[LOT]]) -> A101M06 | H718: BRAKE036 | I718: =INDEX(Bd_PF!$E:$E,MATCH(Tab_SuiviOF[[#This Row],[REFERENCE]],Bd_PF!$C:$C,0)) -> Fonds brun lié demi-glace SANS GLUTAMATE 600G "BRAKE" | J718: =INDEX(Bd_PF!$D:$D,MATCH(Tab_SuiviOF[[#This Row],[REFERENCE]],Bd_PF!$C:$C,0)) -> SF01429 | K718: =INDEX(Bd_PF!$I:$I,MATCH(Tab_SuiviOF[[#This Row],[REFERENCE]],Bd_PF!$C:$C,0)) -> 0.6 | L718: =INDEX(Bd_PF!$J:$J,MATCH(Tab_SuiviOF[[#This Row],[REFERENCE]],Bd_PF!$C:$C,0)) -> Boite plastique | M718: =INDEX(Bd_PF!$K:$K,MATCH(Tab_SuiviOF[[#This Row],[REFERENCE]],Bd_PF!$C:$C,0)) -> Produit pesé | N718: 43201 | O718: 43202 | P718: =YEAR(Tab_SuiviOF[[#This Row],[DATEFINREVISEE]]) -> 2018 | Q718: =MONTH(Tab_SuiviOF[[#This Row],[DATEFINREVISEE]]) -> 4 | R718: =WEEKNUM(Tab_SuiviOF[[#This Row],[DATEFINREVISEE]],21) -> 15 | S718: 384 | T718: 384 | U718: 382 | V718: =Tab_SuiviOF[[#This Row],[QTEBL]]*Tab_SuiviOF[[#This Row],[POIDS NET]] -> 229.2 | W718: =IFERROR(INDEX(Bd_MÉLANGES!$I:$I,MATCH('Bd_FABRICATIONS PF'!$G:$G,Bd_MÉLANGES!$J:$J,0)),0) -> 231.7 | X718: =IFERROR(INDEX(Bd_MÉLANGES!$K:$K,MATCH(Tab_SuiviOF[[#This Row],[LOT A PRENDRE EN COMPTE]],Bd_MÉLANGES!$J:$J,0)),0) -> 230.4
A719: 102 | B719: 5 | C719: 42140 | D719: 696057 | E719: 46979 | F719: {=INDEX(Bd_VENTILATIONS!$G:$G,MATCH(Tab_SuiviOF[[#This Row],[REFERENCE]]&Tab_SuiviOF[[#This Row],[BLNO]],Bd_VENTILATIONS!$F:$F&Bd_VENTILATIONS!$D:$D,0))} -> A101M07-6 | G719: =IFERROR(MID(Tab_SuiviOF[[#This Row],[LOT]],1,SEARCH("-",Tab_SuiviOF[[#This Row],[LOT]])-1),Tab_SuiviOF[[#This Row],[LOT]]) -> A101M07 | H719: BRAKE030 | I719: =INDEX(Bd_PF!$E:$E,MATCH(Tab_SuiviOF[[#This Row],[REFERENCE]],Bd_PF!$C:$C,0)) -> Fumet de poisson SANS GLUTAMATE 600G "BRAKE" | J719: =INDEX(Bd_PF!$D:$D,MATCH(Tab_SuiviOF[[#This Row],[REFERENCE]],Bd_PF!$C:$C,0)) -> SF01386 | K719: =INDEX(Bd_PF!$I:$I,MATCH(Tab_SuiviOF[[#This Row],[REFERENCE]],Bd_PF!$C:$C,0)) -> 0.6 | L719: =INDEX(Bd_PF!$J:$J,MATCH(Tab_SuiviOF[[#This Row],[REFERENCE]],Bd_PF!$C:$C,0)) -> Boite plastique | M719: =INDEX(Bd_PF!$K:$K,MATCH(Tab_SuiviOF[[#This Row],[REFERENCE]],Bd_PF!$C:$C,0)) -> Produit pesé | N719: 43202 | O719: 43202 | P719: =YEAR(Tab_SuiviOF[[#This Row],[DATEFINREVISEE]]) -> 2018 | Q719: =MONTH(Tab_SuiviOF[[#This Row],[DATEFINREVISEE]]) -> 4 | R719: =WEEKNUM(Tab_SuiviOF[[#This Row],[DATEFINREVISEE]],21) -> 15 | S719: 700 | T719: 700 | U719: 697 | V719: =Tab_SuiviOF[[#This Row],[QTEBL]]*Tab_SuiviOF[[#This Row],[POIDS NET]] -> 418.2 | W719: =IFERROR(INDEX(Bd_MÉLANGES!$I:$I,MATCH('Bd_FABRICATIONS PF'!$G:$G,Bd_MÉLANGES!$J:$J,0)),0) -> 421.1 | X719: =IFERROR(INDEX(Bd_MÉLANGES!$K:$K,MATCH(Tab_SuiviOF[[#This Row],[LOT A PRENDRE EN COMPTE]],Bd_MÉLANGES!$J:$J,0)),0) -> 420
A720: 102 | B720: 5 | C720: 42303 | D720: 698004 | E720: 46989 | F720: {=INDEX(Bd_VENTILATIONS!$G:$G,MATCH(Tab_SuiviOF[[#This Row],[REFERENCE]]&Tab_SuiviOF[[#This Row],[BLNO]],Bd_VENTILATIONS!$F:$F&Bd_VENTILATIONS!$D:$D,0))} -> A099R03-6 | G720: =IFERROR(MID(Tab_SuiviOF[[#This Row],[LOT]],1,SEARCH("-",Tab_SuiviOF[[#This Row],[LOT]])-1),Tab_SuiviOF[[#This Row],[LOT]]) -> A099R03 | H720: BRAKE008 | I720: =INDEX(Bd_PF!$E:$E,MATCH(Tab_SuiviOF[[#This Row],[REFERENCE]],Bd_PF!$C:$C,0)) -> Roux blanc - boite 1,5 kg | J720: =INDEX(Bd_PF!$D:$D,MATCH(Tab_SuiviOF[[#This Row],[REFERENCE]],Bd_PF!$C:$C,0)) -> SF00843 | K720: =INDEX(Bd_PF!$I:$I,MATCH(Tab_SuiviOF[[#This Row],[REFERENCE]],Bd_PF!$C:$C,0)) -> 1.5 | L720: =INDEX(Bd_PF!$J:$J,MATCH(Tab_SuiviOF[[#This Row],[REFERENCE]],Bd_PF!$C:$C,0)) -> Boite plastique | M720: =INDEX(Bd_PF!$K:$K,MATCH(Tab_SuiviOF[[#This Row],[REFERENCE]],Bd_PF!$C:$C,0)) -> Reconditionnement | N720: 43202 | O720: 43202 | P720: =YEAR(Tab_SuiviOF[[#This Row],[DATEFINREVISEE]]) -> 2018 | Q720: =MONTH(Tab_SuiviOF[[#This Row],[DATEFINREVISEE]]) -> 4 | R720: =WEEKNUM(Tab_SuiviOF[[#This Row],[DATEFINREVISEE]],21) -> 15 | S720: 432 | T720: 432 | U720: 432 | V720: =Tab_SuiviOF[[#This Row],[QTEBL]]*Tab_SuiviOF[[#This Row],[POIDS NET]] -> 648 | W720: =IFERROR(INDEX(Bd_MÉLANGES!$I:$I,MATCH('Bd_FABRICATIONS PF'!$G:$G,Bd_MÉLANGES!$J:$J,0)),0) -> 0 | X720: =IFERROR(INDEX(Bd_MÉLANGES!$K:$K,MATCH(Tab_SuiviOF[[#This Row],[LOT A PRENDRE EN COMPTE]],Bd_MÉLANGES!$J:$J,0)),0) -> 0
A721: 102 | B721: 5 | C721: 42323 | D721: 698355 | E721: 46971 | F721: {=INDEX(Bd_VENTILATIONS!$G:$G,MATCH(Tab_SuiviOF[[#This Row],[REFERENCE]]&Tab_SuiviOF[[#This Row],[BLNO]],Bd_VENTILATIONS!$F:$F&Bd_VENTILATIONS!$D:$D,0))} -> A102R01-1 | G721: =IFERROR(MID(Tab_SuiviOF[[#This Row],[LOT]],1,SEARCH("-",Tab_SuiviOF[[#This Row],[LOT]])-1),Tab_SuiviOF[[#This Row],[LOT]]) -> A102R01 | H721: TOL1066 | I721: =INDEX(Bd_PF!$E:$E,MATCH(Tab_SuiviOF[[#This Row],[REFERENCE]],Bd_PF!$C:$C,0)) -> Protipulse 550 g | J721: =INDEX(Bd_PF!$D:$D,MATCH(Tab_SuiviOF[[#This Row],[REFERENCE]],Bd_PF!$C:$C,0)) -> XMP866 | K721: =INDEX(Bd_PF!$I:$I,MATCH(Tab_SuiviOF[[#This Row],[REFERENCE]],Bd_PF!$C:$C,0)) -> 0.55 | L721: =INDEX(Bd_PF!$J:$J,MATCH(Tab_SuiviOF[[#This Row],[REFERENCE]],Bd_PF!$C:$C,0)) -> OTS | M721: =INDEX(Bd_PF!$K:$K,MATCH(Tab_SuiviOF[[#This Row],[REFERENCE]],Bd_PF!$C:$C,0)) -> Reconditionnement | N721: 43202 | O721: 43202 | P721: =YEAR(Tab_SuiviOF[[#This Row],[DATEFINREVISEE]]) -> 2018 | Q721: =MONTH(Tab_SuiviOF[[#This Row],[DATEFINREVISEE]]) -> 4 | R721: =WEEKNUM(Tab_SuiviOF[[#This Row],[DATEFINREVISEE]],21) -> 15 | S721: 854 | T721: 854 | U721: 851 | V721: =Tab_SuiviOF[[#This Row],[QTEBL]]*Tab_SuiviOF[[#This Row],[POIDS NET]] -> 468.05 | W721: =IFERROR(INDEX(Bd_MÉLANGES!$I:$I,MATCH('Bd_FABRICATIONS PF'!$G:$G,Bd_MÉLANGES!$J:$J,0)),0) -> 0 | X721: =IFERROR(INDEX(Bd_MÉLANGES!$K:$K,MATCH(Tab_SuiviOF[[#This Row],[LOT A PRENDRE EN COMPTE]],Bd_MÉLANGES!$J:$J,0)),0) -> 0
A722: 102 | B722: 5 | C722: 42324 | D722: 698362 | E722: 46978 | F722: {=INDEX(Bd_VENTILATIONS!$G:$G,MATCH(Tab_SuiviOF[[#This Row],[REFERENCE]]&Tab_SuiviOF[[#This Row],[BLNO]],Bd_VENTILATIONS!$F:$F&Bd_VENTILATIONS!$D:$D,0))} -> A102R02-1 | G722: =IFERROR(MID(Tab_SuiviOF[[#This Row],[LOT]],1,SEARCH("-",Tab_SuiviOF[[#This Row],[LOT]])-1),Tab_SuiviOF[[#This Row],[LOT]]) -> A102R02 | H722: TOL1066 | I722: =INDEX(Bd_PF!$E:$E,MATCH(Tab_SuiviOF[[#This Row],[REFERENCE]],Bd_PF!$C:$C,0)) -> Protipulse 550 g | J722: =INDEX(Bd_PF!$D:$D,MATCH(Tab_SuiviOF[[#This Row],[REFERENCE]],Bd_PF!$C:$C,0)) -> XMP866 | K722: =INDEX(Bd_PF!$I:$I,MATCH(Tab_SuiviOF[[#This Row],[REFERENCE]],Bd_PF!$C:$C,0)) -> 0.55 | L722: =INDEX(Bd_PF!$J:$J,MATCH(Tab_SuiviOF[[#This Row],[REFERENCE]],Bd_PF!$C:$C,0)) -> OTS | M722: =INDEX(Bd_PF!$K:$K,MATCH(Tab_SuiviOF[[#This Row],[REFERENCE]],Bd_PF!$C:$C,0)) -> Reconditionnement | N722: 43202 | O722: 43202 | P722: =YEAR(Tab_SuiviOF[[#This Row],[DATEFINREVISEE]]) -> 2018 | Q722: =MONTH(Tab_SuiviOF[[#This Row],[DATEFINREVISEE]]) -> 4 | R722: =WEEKNUM(Tab_SuiviOF[[#This Row],[DATEFINREVISEE]],21) -> 15 | S722: 854 | T722: 854 | U722: 846 | V722: =Tab_SuiviOF[[#This Row],[QTEBL]]*Tab_SuiviOF[[#This Row],[POIDS NET]] -> 465.3 | W722: =IFERROR(INDEX(Bd_MÉLANGES!$I:$I,MATCH('Bd_FABRICATIONS PF'!$G:$G,Bd_MÉLANGES!$J:$J,0)),0) -> 0 | X722: =IFERROR(INDEX(Bd_MÉLANGES!$K:$K,MATCH(Tab_SuiviOF[[#This Row],[LOT A PRENDRE EN COMPTE]],Bd_MÉLANGES!$J:$J,0)),0) -> 0
A723: 102 | B723: 5 | C723: 42336 | D723: 698429 | E723: 46983 | F723: {=INDEX(Bd_VENTILATIONS!$G:$G,MATCH(Tab_SuiviOF[[#This Row],[REFERENCE]]&Tab_SuiviOF[[#This Row],[BLNO]],Bd_VENTILATIONS!$F:$F&Bd_VENTILATIONS!$D:$D,0))} -> A102R03-1 | G723: =IFERROR(MID(Tab_SuiviOF[[#This Row],[LOT]],1,SEARCH("-",Tab_SuiviOF[[#This Row],[LOT]])-1),Tab_SuiviOF[[#This Row],[LOT]]) -> A102R03 | H723: TOL1066 | I723: =INDEX(Bd_PF!$E:$E,MATCH(Tab_SuiviOF[[#This Row],[REFERENCE]],Bd_PF!$C:$C,0)) -> Protipulse 550 g | J723: =INDEX(Bd_PF!$D:$D,MATCH(Tab_SuiviOF[[#This Row],[REFERENCE]],Bd_PF!$C:$C,0)) -> XMP866 | K723: =INDEX(Bd_PF!$I:$I,MATCH(Tab_SuiviOF[[#This Row],[REFERENCE]],Bd_PF!$C:$C,0)) -> 0.55 | L723: =INDEX(Bd_PF!$J:$J,MATCH(Tab_SuiviOF[[#This Row],[REFERENCE]],Bd_PF!$C:$C,0)) -> OTS | M723: =INDEX(Bd_PF!$K:$K,MATCH(Tab_SuiviOF[[#This Row],[REFERENCE]],Bd_PF!$C:$C,0)) -> Reconditionnement | N723: 43202 | O723: 43202 | P723: =YEAR(Tab_SuiviOF[[#This Row],[DATEFINREVISEE]]) -> 2018 | Q723: =MONTH(Tab_SuiviOF[[#This Row],[DATEFINREVISEE]]) -> 4 | R723: =WEEKNUM(Tab_SuiviOF[[#This Row],[DATEFINREVISEE]],21) -> 15 | S723: 854 | T723: 854 | U723: 846 | V723: =Tab_SuiviOF[[#This Row],[QTEBL]]*Tab_SuiviOF[[#This Row],[POIDS NET]] -> 465.3 | W723: =IFERROR(INDEX(Bd_MÉLANGES!$I:$I,MATCH('Bd_FABRICATIONS PF'!$G:$G,Bd_MÉLANGES!$J:$J,0)),0) -> 0 | X723: =IFERROR(INDEX(Bd_MÉLANGES!$K:$K,MATCH(Tab_SuiviOF[[#This Row],[LOT A PRENDRE EN COMPTE]],Bd_MÉLANGES!$J:$J,0)),0) -> 0
A724: 102 | B724: 5 | C724: 42382 | D724: 698823 | E724: 46976 | F724: {=INDEX(Bd_VENTILATIONS!$G:$G,MATCH(Tab_SuiviOF[[#This Row],[REFERENCE]]&Tab_SuiviOF[[#This Row],[BLNO]],Bd_VENTILATIONS!$F:$F&Bd_VENTILATIONS!$D:$D,0))} -> A088M02 | G724: =IFERROR(MID(Tab_SuiviOF[[#This Row],[LOT]],1,SEARCH("-",Tab_SuiviOF[[#This Row],[LOT]])-1),Tab_SuiviOF[[#This Row],[LOT]]) -> A088M02 | H724: ED06 | I724: =INDEX(Bd_PF!$E:$E,MATCH(Tab_SuiviOF[[#This Row],[REFERENCE]],Bd_PF!$C:$C,0)) -> HYDRA CLEAR ED Orange V4 | J724: =INDEX(Bd_PF!$D:$D,MATCH(Tab_SuiviOF[[#This Row],[REFERENCE]],Bd_PF!$C:$C,0)) -> XMP869 | K724: =INDEX(Bd_PF!$I:$I,MATCH(Tab_SuiviOF[[#This Row],[REFERENCE]],Bd_PF!$C:$C,0)) -> 0 | L724: =INDEX(Bd_PF!$J:$J,MATCH(Tab_SuiviOF[[#This Row],[REFERENCE]],Bd_PF!$C:$C,0)) -> Pesée/mélange | M724: Reconditionnement | N724: 43202 | O724: 43202 | P724: =YEAR(Tab_SuiviOF[[#This Row],[DATEFINREVISEE]]) -> 2018 | Q724: =MONTH(Tab_SuiviOF[[#This Row],[DATEFINREVISEE]]) -> 4 | R724: =WEEKNUM(Tab_SuiviOF[[#This Row],[DATEFINREVISEE]],21) -> 15 | S724: 100 | T724: 100 | U724: 100.26 | V724: =Tab_SuiviOF[[#This Row],[QTEBL]]*Tab_SuiviOF[[#This Row],[POIDS NET]] -> 0 | W724: =IFERROR(INDEX(Bd_MÉLANGES!$I:$I,MATCH('Bd_FABRICATIONS PF'!$G:$G,Bd_MÉLANGES!$J:$J,0)),0) -> 0 | X724: =IFERROR(INDEX(Bd_MÉLANGES!$K:$K,MATCH(Tab_SuiviOF[[#This Row],[LOT A PRENDRE EN COMPTE]],Bd_MÉLANGES!$J:$J,0)),0) -> 0
