Workbook

Sheet Analyse Clients 2014 vs 2013
A1: PAYS | B1: SOCIETE | C1: ACHETEUR | D1: PAIEMENTS NEGOCIEES | E1: TOTAL BTLES / CLIENT | K1: AILE D'ARGENT | T1: BLANC DE LYNCH BAGES | AC1: BLASON D'ISSAN | AL1: CAILLOU BLANC DE CH. TALBOT | AU1: CARMES DE RIEUSSEC | BD1: CARRUADES DE LAFITE | BM1: CH. ANGELUS | BV1: CH. AUSONE | CE1: CH. BEAUMONT | CN1: CH. BEYCHEVELLE | CW1: CH. BRANAIRE DUCRU | DF1: CH. CALON SEGUR | DO1: CH. CANON | DX1: CH. CANTENAC BROWN | EG1: CH. CARBONNIEUX BLANC | EP1: CH. CHASSE SPLEEN | EY1: CH. CHEVAL BLANC | FH1: CH. CITRAN | FQ1: CH. CLERC MILON | FZ1: CH. CLINET | GI1: CH. COS D'ESTOURNEL Blanc | GR1: CH. COUTET | HA1: CH. D'ARMAILHAC | HJ1: CH. DU TERTRE | HS1: CH. DUCRU BEAUCAILLOU | IB1: CH. DUHART MILON | IK1: CH. DURFORT VIVENS | IT1: CH. FERRIERE | JC1: CH. FIGEAC | JL1: CH. GISCOURS | JU1: CH. GUIRAUD | KD1: CH. HAUT-BAILLY | KM1: CH. HAUT-BRION Blanc | KV1: CH. HAUT-BRION Rouge | LE1: CH. LA CONSEILLANTE | LN1: CH. LA MISSION HAUT-BRION Blanc | LW1: CH. LAFITE-ROTHSCHILD | MF1: CH. LAGRANGE | MO1: CH. LARRIVET HAUT-BRION Blanc | MX1: CH. LASCOMBES | NG1: CH. LEOVILLE BARTON | NP1: CH. LEOVILLE LAS CASES | NY1: CH. LEOVILLE POYFERRE | OH1: CH. LYNCH BAGES | OQ1: CH. MALARTIC LAGRAVIERE Blanc | OZ1: CH. MARGAUX | PI1: CH. MARQUIS DE CALON | PR1: CH. MONBOUSQUET Blanc | QA1: CH. MONT-PERAT | QJ1: CH. MONT-PERAT Blanc | QS1: CH. MONTROSE | RB1: CH. MOUTON ROTHSCHILD | RK1: CH. PALMER | RT1: CH. PAVIE | SC1: CH. PAVIE MACQUIN | SL1: CH. PHELAN SEGUR | SU1: CH. PICHON LALANDE | TD1: CH. PONTET CANET | TM1: CH. PUYGUERAUD | TV1: CH. RIEUSSEC | UE1: CH. SMITH HAUT LAFITTE Blanc | UN1: CH. SMITH HAUT LAFITTE Rouge | UW1: CH. TALBOT | VF1: CH. TOUR SAINT BONNET | VO1: CLOS DU MARQUIS | VX1: DOMAINE DE CHEVALIER Blanc | WG1: Gnde Réserve Croix Beaucaillou | WP1: LE CARILLON D'ANGELUS | WY1: LE PETIT MOUTON DE MOUTON ROTH | XH1: LES AMANTS DE MONT-PERAT | XQ1: LES ARUMS DE LAGRANGE | XZ1: PAVILLON BLANC DU CH. MARGAUX | YI1: PAVILLON ROUGE DU CH. MARGAUX | YR1: PETIT CHEVAL | ZA1: VIEUX CH. CERTAN
E2: TOTAL Achat 2013 | F2: TOTAL Chiffre 2013 | G2: TOTAL Achat 2014 | H2: TOTAL Chiffre 2014 | I2: TOTAL Achat 2014 vs 2013 | J2: TOTAL Chiffre 2014 vs 2013 | K2: Achat 2013 | L2: Prix 2013 | M2: TOTAL 2013 | N2: Achat 2014 | O2: Prix 2014 | P2: TOTAL 2014 | Q2: Achat 2014 vs 2013 | R2: Prix 2014 vs 2013 | S2: TOTAL 2014 vs 2013 | T2: Achat 2013 | U2: Prix 2013 | V2: TOTAL 2013 | W2: Achat 2014 | X2: Prix 2014 | Y2: TOTAL 2014 | Z2: Achat 2014 vs 2013 | AA2: Prix 2014 vs 2013 | AB2: TOTAL 2014 vs 2013 | AC2: Achat 2013 | AD2: Prix 2013 | AE2: TOTAL 2013 | AF2: Achat 2014 | AG2: Prix 2014 | AH2: TOTAL 2014 | AI2: Achat 2014 vs 2013 | AJ2: Prix 2014 vs 2013 | AK2: TOTAL 2014 vs 2013 | AL2: Achat 2013 | AM2: Prix 2013 | AN2: TOTAL 2013 | AO2: Achat 2014 | AP2: Prix 2014 | AQ2: TOTAL 2014 | AR2: Achat 2014 vs 2013 | AS2: Prix 2014 vs 2013 | AT2: TOTAL 2014 vs 2013 | AU2: Achat 2013 | AV2: Prix 2013 | AW2: TOTAL 2013 | AX2: Achat 2014 | AY2: Prix 2014 | AZ2: TOTAL 2014 | BA2: Achat 2014 vs 2013 | BB2: Prix 2014 vs 2013 | BC2: TOTAL 2014 vs 2013 | BD2: Achat 2013 | BE2: Prix 2013 | BF2: TOTAL 2013 | BG2: Achat 2014 | BH2: Prix 2014 | BI2: TOTAL 2014 | BJ2: Achat 2014 vs 2013 | BK2: Prix 2014 vs 2013 | BL2: TOTAL 2014 vs 2013 | BM2: Achat 2013 | BN2: Prix 2013 | BO2: TOTAL 2013 | BP2: Achat 2014 | BQ2: Prix 2014 | BR2: TOTAL 2014 | BS2: Achat 2014 vs 2013 | BT2: Prix 2014 vs 2013 | BU2: TOTAL 2014 vs 2013 | BV2: Achat 2013 | BW2: Prix 2013 | BX2: TOTAL 2013 | BY2: Achat 2014 | BZ2: Prix 2014 | CA2: TOTAL 2014 | CB2: Achat 2014 vs 2013 | CC2: Prix 2014 vs 2013 | CD2: TOTAL 2014 vs 2013 | CE2: Achat 2013 | CF2: Prix 2013 | CG2: TOTAL 2013 | CH2: Achat 2014 | CI2: Prix 2014 | CJ2: TOTAL 2014 | CK2: Achat 2014 vs 2013 | CL2: Prix 2014 vs 2013 | CM2: TOTAL 2014 vs 2013 | CN2: Achat 2013 | CO2: Prix 2013 | CP2: TOTAL 2013 | CQ2: Achat 2014 | CR2: Prix 2014 | CS2: TOTAL 2014 | CT2: Achat 2014 vs 2013 | CU2: Prix 2014 vs 2013 | CV2: TOTAL 2014 vs 2013 | CW2: Achat 2013 | CX2: Prix 2013 | CY2: TOTAL 2013 | CZ2: Achat 2014 | DA2: Prix 2014 | DB2: TOTAL 2014 | DC2: Achat 2014 vs 2013 | DD2: Prix 2014 vs 2013 | DE2: TOTAL 2014 vs 2013 | DF2: Achat 2013 | DG2: Prix 2013 | DH2: TOTAL 2013 | DI2: Achat 2014 | DJ2: Prix 2014 | DK2: TOTAL 2014 | DL2: Achat 2014 vs 2013 | DM2: Prix 2014 vs 2013 | DN2: TOTAL 2014 vs 2013 | DO2: Achat 2013 | DP2: Prix 2013 | DQ2: TOTAL 2013 | DR2: Achat 2014 | DS2: Prix 2014 | DT2: TOTAL 2014 | DU2: Achat 2014 vs 2013 | DV2: Prix 2014 vs 2013 | DW2: TOTAL 2014 vs 2013 | DX2: Achat 2013 | DY2: Prix 2013 | DZ2: TOTAL 2013 | EA2: Achat 2014 | EB2: Prix 2014 | EC2: TOTAL 2014 | ED2: Achat 2014 vs 2013 | EE2: Prix 2014 vs 2013 | EF2: TOTAL 2014 vs 2013 | EG2: Achat 2013 | EH2: Prix 2013 | EI2: TOTAL 2013 | EJ2: Achat 2014 | EK2: Prix 2014 | EL2: TOTAL 2014 | EM2: Achat 2014 vs 2013 | EN2: Prix 2014 vs 2013 | EO2: TOTAL 2014 vs 2013 | EP2: Achat 2013 | EQ2: Prix 2013 | ER2: TOTAL 2013 | ES2: Achat 2014 | ET2: Prix 2014 | EU2: TOTAL 2014 | EV2: Achat 2014 vs 2013 | EW2: Prix 2014 vs 2013 | EX2: TOTAL 2014 vs 2013 | EY2: Achat 2013 | EZ2: Prix 2013 | FA2: TOTAL 2013 | FB2: Achat 2014 | FC2: Prix 2014 | FD2: TOTAL 2014 | FE2: Achat 2014 vs 2013 | FF2: Prix 2014 vs 2013 | FG2: TOTAL 2014 vs 2013 | FH2: Achat 2013 | FI2: Prix 2013 | FJ2: TOTAL 2013 | FK2: Achat 2014 | FL2: Prix 2014 | FM2: TOTAL 2014 | FN2: Achat 2014 vs 2013 | FO2: Prix 2014 vs 2013 | FP2: TOTAL 2014 vs 2013 | FQ2: Achat 2013 | FR2: Prix 2013 | FS2: TOTAL 2013 | FT2: Achat 2014 | FU2: Prix 2014 | FV2: TOTAL 2014 | FW2: Achat 2014 vs 2013 | FX2: Prix 2014 vs 2013 | FY2: TOTAL 2014 vs 2013 | FZ2: Achat 2013 | GA2: Prix 2013 | GB2: TOTAL 2013 | GC2: Achat 2014 | GD2: Prix 2014 | GE2: TOTAL 2014 | GF2: Achat 2014 vs 2013 | GG2: Prix 2014 vs 2013 | GH2: TOTAL 2014 vs 2013 | GI2: Achat 2013 | GJ2: Prix 2013 | GK2: TOTAL 2013 | GL2: Achat 2014 | GM2: Prix 2014 | GN2: TOTAL 2014 | GO2: Achat 2014 vs 2013 | GP2: Prix 2014 vs 2013 | GQ2: TOTAL 2014 vs 2013 | GR2: Achat 2013 | GS2: Prix 2013 | GT2: TOTAL 2013 | GU2: Achat 2014 | GV2: Prix 2014 | GW2: TOTAL 2014 | GX2: Achat 2014 vs 2013 | GY2: Prix 2014 vs 2013 | GZ2: TOTAL 2014 vs 2013 | HA2: Achat 2013 | HB2: Prix 2013 | HC2: TOTAL 2013 | HD2: Achat 2014 | HE2: Prix 2014 | HF2: TOTAL 2014 | HG2: Achat 2014 vs 2013 | HH2: Prix 2014 vs 2013 | HI2: TOTAL 2014 vs 2013 | HJ2: Achat 2013 | HK2: Prix 2013 | HL2: TOTAL 2013 | HM2: Achat 2014 | HN2: Prix 2014 | HO2: TOTAL 2014 | HP2: Achat 2014 vs 2013 | HQ2: Prix 2014 vs 2013 | HR2: TOTAL 2014 vs 2013 | HS2: Achat 2013 | HT2: Prix 2013 | HU2: TOTAL 2013 | HV2: Achat 2014 | HW2: Prix 2014 | HX2: TOTAL 2014 | HY2: Achat 2014 vs 2013 | HZ2: Prix 2014 vs 2013 | IA2: TOTAL 2014 vs 2013 | IB2: Achat 2013 | IC2: Prix 2013 | ID2: TOTAL 2013 | IE2: Achat 2014 | IF2: Prix 2014 | IG2: TOTAL 2014 | IH2: Achat 2014 vs 2013 | II2: Prix 2014 vs 2013 | IJ2: TOTAL 2014 vs 2013 | IK2: Achat 2013 | IL2: Prix 2013 | IM2: TOTAL 2013 | IN2: Achat 2014 | IO2: Prix 2014 | IP2: TOTAL 2014 | IQ2: Achat 2014 vs 2013 | IR2: Prix 2014 vs 2013 | IS2: TOTAL 2014 vs 2013 | IT2: Achat 2013 | IU2: Prix 2013 | IV2: TOTAL 2013 | IW2: Achat 2014 | IX2: Prix 2014 | IY2: TOTAL 2014 | IZ2: Achat 2014 vs 2013 | JA2: Prix 2014 vs 2013 | JB2: TOTAL 2014 vs 2013 | JC2: Achat 2013 | JD2: Prix 2013 | JE2: TOTAL 2013 | JF2: Achat 2014 | JG2: Prix 2014 | JH2: TOTAL 2014 | JI2: Achat 2014 vs 2013 | JJ2: Prix 2014 vs 2013 | JK2: TOTAL 2014 vs 2013 | JL2: Achat 2013 | JM2: Prix 2013 | JN2: TOTAL 2013 | JO2: Achat 2014 | JP2: Prix 2014 | JQ2: TOTAL 2014 | JR2: Achat 2014 vs 2013 | JS2: Prix 2014 vs 2013 | JT2: TOTAL 2014 vs 2013 | JU2: Achat 2013 | JV2: Prix 2013 | JW2: TOTAL 2013 | JX2: Achat 2014 | JY2: Prix 2014 | JZ2: TOTAL 2014 | KA2: Achat 2014 vs 2013 | KB2: Prix 2014 vs 2013 | KC2: TOTAL 2014 vs 2013 | KD2: Achat 2013 | KE2: Prix 2013 | KF2: TOTAL 2013 | KG2: Achat 2014 | KH2: Prix 2014 | KI2: TOTAL 2014 | KJ2: Achat 2014 vs 2013 | KK2: Prix 2014 vs 2013 | KL2: TOTAL 2014 vs 2013 | KM2: Achat 2013 | KN2: Prix 2013 | KO2: TOTAL 2013 | KP2: Achat 2014 | KQ2: Prix 2014 | KR2: TOTAL 2014 | KS2: Achat 2014 vs 2013 | KT2: Prix 2014 vs 2013 | KU2: TOTAL 2014 vs 2013 | KV2: Achat 2013 | KW2: Prix 2013 | KX2: TOTAL 2013 | KY2: Achat 2014 | KZ2: Prix 2014 | LA2: TOTAL 2014 | LB2: Achat 2014 vs 2013 | LC2: Prix 2014 vs 2013 | LD2: TOTAL 2014 vs 2013 | LE2: Achat 2013 | LF2: Prix 2013 | LG2: TOTAL 2013 | LH2: Achat 2014 | LI2: Prix 2014 | LJ2: TOTAL 2014 | LK2: Achat 2014 vs 2013 | LL2: Prix 2014 vs 2013 | LM2: TOTAL 2014 vs 2013 | LN2: Achat 2013 | LO2: Prix 2013 | LP2: TOTAL 2013 | LQ2: Achat 2014 | LR2: Prix 2014 | LS2: TOTAL 2014 | LT2: Achat 2014 vs 2013 | LU2: Prix 2014 vs 2013 | LV2: TOTAL 2014 vs 2013 | LW2: Achat 2013 | LX2: Prix 2013 | LY2: TOTAL 2013 | LZ2: Achat 2014 | MA2: Prix 2014 | MB2: TOTAL 2014 | MC2: Achat 2014 vs 2013 | MD2: Prix 2014 vs 2013 | ME2: TOTAL 2014 vs 2013 | MF2: Achat 2013 | MG2: Prix 2013 | MH2: TOTAL 2013 | MI2: Achat 2014 | MJ2: Prix 2014 | MK2: TOTAL 2014 | ML2: Achat 2014 vs 2013 | MM2: Prix 2014 vs 2013 | MN2: TOTAL 2014 vs 2013 | MO2: Achat 2013 | MP2: Prix 2013 | MQ2: TOTAL 2013 | MR2: Achat 2014 | MS2: Prix 2014 | MT2: TOTAL 2014 | MU2: Achat 2014 vs 2013 | MV2: Prix 2014 vs 2013 | MW2: TOTAL 2014 vs 2013 | MX2: Achat 2013 | MY2: Prix 2013 | MZ2: TOTAL 2013 | NA2: Achat 2014 | NB2: Prix 2014 | NC2: TOTAL 2014 | ND2: Achat 2014 vs 2013 | NE2: Prix 2014 vs 2013 | NF2: TOTAL 2014 vs 2013 | NG2: Achat 2013 | NH2: Prix 2013 | NI2: TOTAL 2013 | NJ2: Achat 2014 | NK2: Prix 2014 | NL2: TOTAL 2014 | NM2: Achat 2014 vs 2013 | NN2: Prix 2014 vs 2013 | NO2: TOTAL 2014 vs 2013 | NP2: Achat 2013 | NQ2: Prix 2013 | NR2: TOTAL 2013 | NS2: Achat 2014 | NT2: Prix 2014 | NU2: TOTAL 2014 | NV2: Achat 2014 vs 2013 | NW2: Prix 2014 vs 2013 | NX2: TOTAL 2014 vs 2013 | NY2: Achat 2013 | NZ2: Prix 2013 | OA2: TOTAL 2013 | OB2: Achat 2014 | OC2: Prix 2014 | OD2: TOTAL 2014 | OE2: Achat 2014 vs 2013 | OF2: Prix 2014 vs 2013 | OG2: TOTAL 2014 vs 2013 | OH2: Achat 2013 | OI2: Prix 2013 | OJ2: TOTAL 2013 | OK2: Achat 2014 | OL2: Prix 2014 | OM2: TOTAL 2014 | ON2: Achat 2014 vs 2013 | OO2: Prix 2014 vs 2013 | OP2: TOTAL 2014 vs 2013 | OQ2: Achat 2013 | OR2: Prix 2013 | OS2: TOTAL 2013 | OT2: Achat 2014 | OU2: Prix 2014 | OV2: TOTAL 2014 | OW2: Achat 2014 vs 2013 | OX2: Prix 2014 vs 2013 | OY2: TOTAL 2014 vs 2013 | OZ2: Achat 2013 | PA2: Prix 2013 | PB2: TOTAL 2013 | PC2: Achat 2014 | PD2: Prix 2014 | PE2: TOTAL 2014 | PF2: Achat 2014 vs 2013 | PG2: Prix 2014 vs 2013 | PH2: TOTAL 2014 vs 2013 | PI2: Achat 2013 | PJ2: Prix 2013 | PK2: TOTAL 2013 | PL2: Achat 2014 | PM2: Prix 2014 | PN2: TOTAL 2014 | PO2: Achat 2014 vs 2013 | PP2: Prix 2014 vs 2013 | PQ2: TOTAL 2014 vs 2013 | PR2: Achat 2013 | PS2: Prix 2013 | PT2: TOTAL 2013 | PU2: Achat 2014 | PV2: Prix 2014 | PW2: TOTAL 2014 | PX2: Achat 2014 vs 2013 | PY2: Prix 2014 vs 2013 | PZ2: TOTAL 2014 vs 2013 | QA2: Achat 2013 | QB2: Prix 2013 | QC2: TOTAL 2013 | QD2: Achat 2014 | QE2: Prix 2014 | QF2: TOTAL 2014 | QG2: Achat 2014 vs 2013 | QH2: Prix 2014 vs 2013 | QI2: TOTAL 2014 vs 2013 | QJ2: Achat 2013 | QK2: Prix 2013 | QL2: TOTAL 2013 | QM2: Achat 2014 | QN2: Prix 2014 | QO2: TOTAL 2014 | QP2: Achat 2014 vs 2013 | QQ2: Prix 2014 vs 2013 | QR2: TOTAL 2014 vs 2013 | QS2: Achat 2013 | QT2: Prix 2013 | QU2: TOTAL 2013 | QV2: Achat 2014 | QW2: Prix 2014 | QX2: TOTAL 2014 | QY2: Achat 2014 vs 2013 | QZ2: Prix 2014 vs 2013 | RA2: TOTAL 2014 vs 2013 | RB2: Achat 2013 | RC2: Prix 2013 | RD2: TOTAL 2013 | RE2: Achat 2014 | RF2: Prix 2014 | RG2: TOTAL 2014 | RH2: Achat 2014 vs 2013 | RI2: Prix 2014 vs 2013 | RJ2: TOTAL 2014 vs 2013 | RK2: Achat 2013 | RL2: Prix 2013 | RM2: TOTAL 2013 | RN2: Achat 2014 | RO2: Prix 2014 | RP2: TOTAL 2014 | RQ2: Achat 2014 vs 2013 | RR2: Prix 2014 vs 2013 | RS2: TOTAL 2014 vs 2013 | RT2: Achat 2013 | RU2: Prix 2013 | RV2: TOTAL 2013 | RW2: Achat 2014 | RX2: Prix 2014 | RY2: TOTAL 2014 | RZ2: Achat 2014 vs 2013 | SA2: Prix 2014 vs 2013 | SB2: TOTAL 2014 vs 2013 | SC2: Achat 2013 | SD2: Prix 2013 | SE2: TOTAL 2013 | SF2: Achat 2014 | SG2: Prix 2014 | SH2: TOTAL 2014 | SI2: Achat 2014 vs 2013 | SJ2: Prix 2014 vs 2013 | SK2: TOTAL 2014 vs 2013 | SL2: Achat 2013 | SM2: Prix 2013 | SN2: TOTAL 2013 | SO2: Achat 2014 | SP2: Prix 2014 | SQ2: TOTAL 2014 | SR2: Achat 2014 vs 2013 | SS2: Prix 2014 vs 2013 | ST2: TOTAL 2014 vs 2013 | SU2: Achat 2013 | SV2: Prix 2013 | SW2: TOTAL 2013 | SX2: Achat 2014 | SY2: Prix 2014 | SZ2: TOTAL 2014 | TA2: Achat 2014 vs 2013 | TB2: Prix 2014 vs 2013 | TC2: TOTAL 2014 vs 2013 | TD2: Achat 2013 | TE2: Prix 2013 | TF2: TOTAL 2013 | TG2: Achat 2014 | TH2: Prix 2014 | TI2: TOTAL 2014 | TJ2: Achat 2014 vs 2013 | TK2: Prix 2014 vs 2013 | TL2: TOTAL 2014 vs 2013 | TM2: Achat 2013 | TN2: Prix 2013 | TO2: TOTAL 2013 | TP2: Achat 2014 | TQ2: Prix 2014 | TR2: TOTAL 2014 | TS2: Achat 2014 vs 2013 | TT2: Prix 2014 vs 2013 | TU2: TOTAL 2014 vs 2013 | TV2: Achat 2013 | TW2: Prix 2013 | TX2: TOTAL 2013 | TY2: Achat 2014 | TZ2: Prix 2014 | UA2: TOTAL 2014 | UB2: Achat 2014 vs 2013 | UC2: Prix 2014 vs 2013 | UD2: TOTAL 2014 vs 2013 | UE2: Achat 2013 | UF2: Prix 2013 | UG2: TOTAL 2013 | UH2: Achat 2014 | UI2: Prix 2014 | UJ2: TOTAL 2014 | UK2: Achat 2014 vs 2013 | UL2: Prix 2014 vs 2013 | UM2: TOTAL 2014 vs 2013 | UN2: Achat 2013 | UO2: Prix 2013 | UP2: TOTAL 2013 | UQ2: Achat 2014 | UR2: Prix 2014 | US2: TOTAL 2014 | UT2: Achat 2014 vs 2013 | UU2: Prix 2014 vs 2013 | UV2: TOTAL 2014 vs 2013 | UW2: Achat 2013 | UX2: Prix 2013 | UY2: TOTAL 2013 | UZ2: Achat 2014 | VA2: Prix 2014 | VB2: TOTAL 2014 | VC2: Achat 2014 vs 2013 | VD2: Prix 2014 vs 2013 | VE2: TOTAL 2014 vs 2013 | VF2: Achat 2013 | VG2: Prix 2013 | VH2: TOTAL 2013 | VI2: Achat 2014 | VJ2: Prix 2014 | VK2: TOTAL 2014 | VL2: Achat 2014 vs 2013 | VM2: Prix 2014 vs 2013 | VN2: TOTAL 2014 vs 2013 | VO2: Achat 2013 | VP2: Prix 2013 | VQ2: TOTAL 2013 | VR2: Achat 2014 | VS2: Prix 2014 | VT2: TOTAL 2014 | VU2: Achat 2014 vs 2013 | VV2: Prix 2014 vs 2013 | VW2: TOTAL 2014 vs 2013 | VX2: Achat 2013 | VY2: Prix 2013 | VZ2: TOTAL 2013 | WA2: Achat 2014 | WB2: Prix 2014 | WC2: TOTAL 2014 | WD2: Achat 2014 vs 2013 | WE2: Prix 2014 vs 2013 | WF2: TOTAL 2014 vs 2013 | WG2: Achat 2013 | WH2: Prix 2013 | WI2: TOTAL 2013 | WJ2: Achat 2014 | WK2: Prix 2014 | WL2: TOTAL 2014 | WM2: Achat 2014 vs 2013 | WN2: Prix 2014 vs 2013 | WO2: TOTAL 2014 vs 2013 | WP2: Achat 2013 | WQ2: Prix 2013 | WR2: TOTAL 2013 | WS2: Achat 2014 | WT2: Prix 2014 | WU2: TOTAL 2014 | WV2: Achat 2014 vs 2013 | WW2: Prix 2014 vs 2013 | WX2: TOTAL 2014 vs 2013 | WY2: Achat 2013 | WZ2: Prix 2013 | XA2: TOTAL 2013 | XB2: Achat 2014 | XC2: Prix 2014 | XD2: TOTAL 2014 | XE2: Achat 2014 vs 2013 | XF2: Prix 2014 vs 2013 | XG2: TOTAL 2014 vs 2013 | XH2: Achat 2013 | XI2: Prix 2013 | XJ2: TOTAL 2013 | XK2: Achat 2014 | XL2: Prix 2014 | XM2: TOTAL 2014 | XN2: Achat 2014 vs 2013 | XO2: Prix 2014 vs 2013 | XP2: TOTAL 2014 vs 2013 | XQ2: Achat 2013 | XR2: Prix 2013 | XS2: TOTAL 2013 | XT2: Achat 2014 | XU2: Prix 2014 | XV2: TOTAL 2014 | XW2: Achat 2014 vs 2013 | XX2: Prix 2014 vs 2013 | XY2: TOTAL 2014 vs 2013 | XZ2: Achat 2013 | YA2: Prix 2013 | YB2: TOTAL 2013 | YC2: Achat 2014 | YD2: Prix 2014 | YE2: TOTAL 2014 | YF2: Achat 2014 vs 2013 | YG2: Prix 2014 vs 2013 | YH2: TOTAL 2014 vs 2013 | YI2: Achat 2013 | YJ2: Prix 2013 | YK2: TOTAL 2013 | YL2: Achat 2014 | YM2: Prix 2014 | YN2: TOTAL 2014 | YO2: Achat 2014 vs 2013 | YP2: Prix 2014 vs 2013 | YQ2: TOTAL 2014 vs 2013 | YR2: Achat 2013 | YS2: Prix 2013 | YT2: TOTAL 2013 | YU2: Achat 2014 | YV2: Prix 2014 | YW2: TOTAL 2014 | YX2: Achat 2014 vs 2013 | YY2: Prix 2014 vs 2013 | YZ2: TOTAL 2014 vs 2013 | ZA2: Achat 2013 | ZB2: Prix 2013 | ZC2: TOTAL 2013 | ZD2: Achat 2014 | ZE2: Prix 2014 | ZF2: TOTAL 2014 | ZG2: Achat 2014 vs 2013 | ZH2: Prix 2014 vs 2013 | ZI2: TOTAL 2014 vs 2013
A3: x | B3: a | C3: x | D3: x | E3: =SUMIF($2:$2,"Achat 2013",3:3) -> 3876 | F3: =SUMIF($2:$2,"TOTAL 2013",3:3) -> 60720 | G3: =SUMIF($2:$2,"Achat 2014",3:3) -> 0 | H3: =SUMIF($2:$2,"TOTAL 2014",3:3) -> 0 | I3: =IF(E3<>0,((G3-E3)/E3),"") -> -1 | J3: =IF(F3<>0,((H3-F3)/F3),"") -> -1 | M3: =K3*L3 -> 0 | P3: =N3*O3 -> 0 | Q3: =IF(K3<>0,((N3-K3)/K3),"") | R3: =IF(L3<>0,((O3-L3)/L3),"") | S3: =IF(M3<>0,((P3-M3)/M3),"") | V3: =T3*U3 -> 0 | Y3: =W3*X3 -> 0 | Z3: =IF(T3<>0,((W3-T3)/T3),"") | AA3: =IF(U3<>0,((X3-U3)/U3),"") | AB3: =IF(V3<>0,((Y3-V3)/V3),"") | AE3: =AC3*AD3 -> 0 | AH3: =AF3*AG3 -> 0 | AI3: =IF(AC3<>0,((AF3-AC3)/AC3),"") | AJ3: =IF(AD3<>0,((AG3-AD3)/AD3),"") | AK3: =IF(AE3<>0,((AH3-AE3)/AE3),"") | AN3: =AL3*AM3 -> 0 | AQ3: =AO3*AP3 -> 0 | AR3: =IF(AL3<>0,((AO3-AL3)/AL3),"") | AS3: =IF(AM3<>0,((AP3-AM3)/AM3),"") | AT3: =IF(AN3<>0,((AQ3-AN3)/AN3),"") | AW3: =AU3*AV3 -> 0 | AZ3: =AX3*AY3 -> 0 | BA3: =IF(AU3<>0,((AX3-AU3)/AU3),"") | BB3: =IF(AV3<>0,((AY3-AV3)/AV3),"") | BC3: =IF(AW3<>0,((AZ3-AW3)/AW3),"") | BF3: =BD3*BE3 -> 0 | BI3: =BG3*BH3 -> 0 | BJ3: =IF(BD3<>0,((BG3-BD3)/BD3),"") | BK3: =IF(BE3<>0,((BH3-BE3)/BE3),"") | BL3: =IF(BF3<>0,((BI3-BF3)/BF3),"") | BO3: =BM3*BN3 -> 0 | BR3: =BP3*BQ3 -> 0 | BS3: =IF(BM3<>0,((BP3-BM3)/BM3),"") | BT3: =IF(BN3<>0,((BQ3-BN3)/BN3),"") | BU3: =IF(BO3<>0,((BR3-BO3)/BO3),"") | BV3: 12 | BW3: 300 | BX3: =BV3*BW3 -> 3600 | CA3: =BY3*BZ3 -> 0 | CB3: =IF(BV3<>0,((BY3-BV3)/BV3),"") -> -1 | CC3: =IF(BW3<>0,((BZ3-BW3)/BW3),"") -> -1 | CD3: =IF(BX3<>0,((CA3-BX3)/BX3),"") -> -1 | CG3: =CE3*CF3 -> 0 | CJ3: =CH3*CI3 -> 0 | CK3: =IF(CE3<>0,((CH3-CE3)/CE3),"") | CL3: =IF(CF3<>0,((CI3-CF3)/CF3),"") | CM3: =IF(CG3<>0,((CJ3-CG3)/CG3),"") | CP3: =CN3*CO3 -> 0 | CS3: =CQ3*CR3 -> 0 | CT3: =IF(CN3<>0,((CQ3-CN3)/CN3),"") | CU3: =IF(CO3<>0,((CR3-CO3)/CO3),"") | CV3: =IF(CP3<>0,((CS3-CP3)/CP3),"") | CY3: =CW3*CX3 -> 0 | DB3: =CZ3*DA3 -> 0 | DC3: =IF(CW3<>0,((CZ3-CW3)/CW3),"") | DD3: =IF(CX3<>0,((DA3-CX3)/CX3),"") | DE3: =IF(CY3<>0,((DB3-CY3)/CY3),"") | DH3: =DF3*DG3 -> 0 | DK3: =DI3*DJ3 -> 0 | DL3: =IF(DF3<>0,((DI3-DF3)/DF3),"") | DM3: =IF(DG3<>0,((DJ3-DG3)/DG3),"") | DN3: =IF(DH3<>0,((DK3-DH3)/DH3),"") | DQ3: =DO3*DP3 -> 0 | DT3: =DR3*DS3 -> 0 | DU3: =IF(DO3<>0,((DR3-DO3)/DO3),"") | DV3: =IF(DP3<>0,((DS3-DP3)/DP3),"") | DW3: =IF(DQ3<>0,((DT3-DQ3)/DQ3),"") | DZ3: =DX3*DY3 -> 0 | EC3: =EA3*EB3 -> 0 | ED3: =IF(DX3<>0,((EA3-DX3)/DX3),"") | EE3: =IF(DY3<>0,((EB3-DY3)/DY3),"") | EF3: =IF(DZ3<>0,((EC3-DZ3)/DZ3),"") | EI3: =EG3*EH3 -> 0 | EL3: =EJ3*EK3 -> 0 | EM3: =IF(EG3<>0,((EJ3-EG3)/EG3),"") | EN3: =IF(EH3<>0,((EK3-EH3)/EH3),"") | EO3: =IF(EI3<>0,((EL3-EI3)/EI3),"") | ER3: =EP3*EQ3 -> 0 | EU3: =ES3*ET3 -> 0 | EV3: =IF(EP3<>0,((ES3-EP3)/EP3),"") | EW3: =IF(EQ3<>0,((ET3-EQ3)/EQ3),"") | EX3: =IF(ER3<>0,((EU3-ER3)/ER3),"") | FA3: =EY3*EZ3 -> 0 | FD3: =FB3*FC3 -> 0 | FE3: =IF(EY3<>0,((FB3-EY3)/EY3),"") | FF3: =IF(EZ3<>0,((FC3-EZ3)/EZ3),"") | FG3: =IF(FA3<>0,((FD3-FA3)/FA3),"") | FJ3: =FH3*FI3 -> 0 | FM3: =FK3*FL3 -> 0 | FN3: =IF(FH3<>0,((FK3-FH3)/FH3),"") | FO3: =IF(FI3<>0,((FL3-FI3)/FI3),"") | FP3: =IF(FJ3<>0,((FM3-FJ3)/FJ3),"") | FS3: =FQ3*FR3 -> 0 | FV3: =FT3*FU3 -> 0 | FW3: =IF(FQ3<>0,((FT3-FQ3)/FQ3),"") | FX3: =IF(FR3<>0,((FU3-FR3)/FR3),"") | FY3: =IF(FS3<>0,((FV3-FS3)/FS3),"") | GB3: =FZ3*GA3 -> 0 | GE3: =GC3*GD3 -> 0 | GF3: =IF(FZ3<>0,((GC3-FZ3)/FZ3),"") | GG3: =IF(GA3<>0,((GD3-GA3)/GA3),"") | GH3: =IF(GB3<>0,((GE3-GB3)/GB3),"") | GK3: =GI3*GJ3 -> 0 | GN3: =GL3*GM3 -> 0 | GO3: =IF(GI3<>0,((GL3-GI3)/GI3),"") | GP3: =IF(GJ3<>0,((GM3-GJ3)/GJ3),"") | GQ3: =IF(GK3<>0,((GN3-GK3)/GK3),"") | GT3: =GR3*GS3 -> 0 | GW3: =GU3*GV3 -> 0 | GX3: =IF(GR3<>0,((GU3-GR3)/GR3),"") | GY3: =IF(GS3<>0,((GV3-GS3)/GS3),"") | GZ3: =IF(GT3<>0,((GW3-GT3)/GT3),"") | HC3: =HA3*HB3 -> 0 | HF3: =HD3*HE3 -> 0 | HG3: =IF(HA3<>0,((HD3-HA3)/HA3),"") | HH3: =IF(HB3<>0,((HE3-HB3)/HB3),"") | HI3: =IF(HC3<>0,((HF3-HC3)/HC3),"") | HL3: =HJ3*HK3 -> 0 | HO3: =HM3*HN3 -> 0 | HP3: =IF(HJ3<>0,((HM3-HJ3)/HJ3),"") | HQ3: =IF(HK3<>0,((HN3-HK3)/HK3),"") | HR3: =IF(HL3<>0,((HO3-HL3)/HL3),"") | HU3: =HS3*HT3 -> 0 | HX3: =HV3*HW3 -> 0 | HY3: =IF(HS3<>0,((HV3-HS3)/HS3),"") | HZ3: =IF(HT3<>0,((HW3-HT3)/HT3),"") | IA3: =IF(HU3<>0,((HX3-HU3)/HU3),"") | ID3: =IB3*IC3 -> 0 | IG3: =IE3*IF3 -> 0 | IH3: =IF(IB3<>0,((IE3-IB3)/IB3),"") | II3: =IF(IC3<>0,((IF3-IC3)/IC3),"") | IJ3: =IF(ID3<>0,((IG3-ID3)/ID3),"") | IM3: =IK3*IL3 -> 0 | IP3: =IN3*IO3 -> 0 | IQ3: =IF(IK3<>0,((IN3-IK3)/IK3),"") | IR3: =IF(IL3<>0,((IO3-IL3)/IL3),"") | IS3: =IF(IM3<>0,((IP3-IM3)/IM3),"") | IV3: =IT3*IU3 -> 0 | IY3: =IW3*IX3 -> 0 | IZ3: =IF(IT3<>0,((IW3-IT3)/IT3),"") | JA3: =IF(IU3<>0,((IX3-IU3)/IU3),"") | JB3: =IF(IV3<>0,((IY3-IV3)/IV3),"") | JE3: =JC3*JD3 -> 0 | JH3: =JF3*JG3 -> 0 | JI3: =IF(JC3<>0,((JF3-JC3)/JC3),"") | JJ3: =IF(JD3<>0,((JG3-JD3)/JD3),"") | JK3: =IF(JE3<>0,((JH3-JE3)/JE3),"") | JN3: =JL3*JM3 -> 0 | JQ3: =JO3*JP3 -> 0 | JR3: =IF(JL3<>0,((JO3-JL3)/JL3),"") | JS3: =IF(JM3<>0,((JP3-JM3)/JM3),"") | JT3: =IF(JN3<>0,((JQ3-JN3)/JN3),"") | JW3: =JU3*JV3 -> 0 | JZ3: =JX3*JY3 -> 0 | KA3: =IF(JU3<>0,((JX3-JU3)/JU3),"") | KB3: =IF(JV3<>0,((JY3-JV3)/JV3),"") | KC3: =IF(JW3<>0,((JZ3-JW3)/JW3),"") | KF3: =KD3*KE3 -> 0 | KI3: =KG3*KH3 -> 0 | KJ3: =IF(KD3<>0,((KG3-KD3)/KD3),"") | KK3: =IF(KE3<>0,((KH3-KE3)/KE3),"") | KL3: =IF(KF3<>0,((KI3-KF3)/KF3),"") | KO3: =KM3*KN3 -> 0 | KR3: =KP3*KQ3 -> 0 | KS3: =IF(KM3<>0,((KP3-KM3)/KM3),"") | KT3: =IF(KN3<>0,((KQ3-KN3)/KN3),"") | KU3: =IF(KO3<>0,((KR3-KO3)/KO3),"") | KX3: =KV3*KW3 -> 0 | LA3: =KY3*KZ3 -> 0 | LB3: =IF(KV3<>0,((KY3-KV3)/KV3),"") | LC3: =IF(KW3<>0,((KZ3-KW3)/KW3),"") | LD3: =IF(KX3<>0,((LA3-KX3)/KX3),"") | LG3: =LE3*LF3 -> 0 | LJ3: =LH3*LI3 -> 0 | LK3: =IF(LE3<>0,((LH3-LE3)/LE3),"") | LL3: =IF(LF3<>0,((LI3-LF3)/LF3),"") | LM3: =IF(LG3<>0,((LJ3-LG3)/LG3),"") | LP3: =LN3*LO3 -> 0 | LS3: =LQ3*LR3 -> 0 | LT3: =IF(LN3<>0,((LQ3-LN3)/LN3),"") | LU3: =IF(LO3<>0,((LR3-LO3)/LO3),"") | LV3: =IF(LP3<>0,((LS3-LP3)/LP3),"") | LY3: =LW3*LX3 -> 0 | MB3: =LZ3*MA3 -> 0 | MC3: =IF(LW3<>0,((LZ3-LW3)/LW3),"") | MD3: =IF(LX3<>0,((MA3-LX3)/LX3),"") | ME3: =IF(LY3<>0,((MB3-LY3)/LY3),"") | MH3: =MF3*MG3 -> 0 | MK3: =MI3*MJ3 -> 0 | ML3: =IF(MF3<>0,((MI3-MF3)/MF3),"") | MM3: =IF(MG3<>0,((MJ3-MG3)/MG3),"") | MN3: =IF(MH3<>0,((MK3-MH3)/MH3),"") | MQ3: =MO3*MP3 -> 0 | MT3: =MR3*MS3 -> 0 | MU3: =IF(MO3<>0,((MR3-MO3)/MO3),"") | MV3: =IF(MP3<>0,((MS3-MP3)/MP3),"") | MW3: =IF(MQ3<>0,((MT3-MQ3)/MQ3),"") | MZ3: =MX3*MY3 -> 0 | NC3: =NA3*NB3 -> 0 | ND3: =IF(MX3<>0,((NA3-MX3)/MX3),"") | NE3: =IF(MY3<>0,((NB3-MY3)/MY3),"") | NF3: =IF(MZ3<>0,((NC3-MZ3)/MZ3),"") | NI3: =NG3*NH3 -> 0 | NL3: =NJ3*NK3 -> 0 | NM3: =IF(NG3<>0,((NJ3-NG3)/NG3),"") | NN3: =IF(NH3<>0,((NK3-NH3)/NH3),"") | NO3: =IF(NI3<>0,((NL3-NI3)/NI3),"") | NR3: =NP3*NQ3 -> 0 | NU3: =NS3*NT3 -> 0 | NV3: =IF(NP3<>0,((NS3-NP3)/NP3),"") | NW3: =IF(NQ3<>0,((NT3-NQ3)/NQ3),"") | NX3: =IF(NR3<>0,((NU3-NR3)/NR3),"") | OA3: =NY3*NZ3 -> 0 | OD3: =OB3*OC3 -> 0 | OE3: =IF(NY3<>0,((OB3-NY3)/NY3),"") | OF3: =IF(NZ3<>0,((OC3-NZ3)/NZ3),"") | OG3: =IF(OA3<>0,((OD3-OA3)/OA3),"") | OJ3: =OH3*OI3 -> 0 | OM3: =OK3*OL3 -> 0 | ON3: =IF(OH3<>0,((OK3-OH3)/OH3),"") | OO3: =IF(OI3<>0,((OL3-OI3)/OI3),"") | OP3: =IF(OJ3<>0,((OM3-OJ3)/OJ3),"") | OS3: =OQ3*OR3 -> 0 | OV3: =OT3*OU3 -> 0 | OW3: =IF(OQ3<>0,((OT3-OQ3)/OQ3),"") | OX3: =IF(OR3<>0,((OU3-OR3)/OR3),"") | OY3: =IF(OS3<>0,((OV3-OS3)/OS3),"") | OZ3: 24 | PA3: 215 | PB3: =OZ3*PA3 -> 5160 | PE3: =PC3*PD3 -> 0 | PF3: =IF(OZ3<>0,((PC3-OZ3)/OZ3),"") -> -1 | PG3: =IF(PA3<>0,((PD3-PA3)/PA3),"") -> -1 | PH3: =IF(PB3<>0,((PE3-PB3)/PB3),"") -> -1 | PK3: =PI3*PJ3 -> 0 | PN3: =PL3*PM3 -> 0 | PO3: =IF(PI3<>0,((PL3-PI3)/PI3),"") | PP3: =IF(PJ3<>0,((PM3-PJ3)/PJ3),"") | PQ3: =IF(PK3<>0,((PN3-PK3)/PK3),"") | PT3: =PR3*PS3 -> 0 | PW3: =PU3*PV3 -> 0 | PX3: =IF(PR3<>0,((PU3-PR3)/PR3),"") | PY3: =IF(PS3<>0,((PV3-PS3)/PS3),"") | PZ3: =IF(PT3<>0,((PW3-PT3)/PT3),"") | QA3: 1440 | QB3: 8.5 | QC3: =QA3*QB3 -> 12240 | QF3: =QD3*QE3 -> 0 | QG3: =IF(QA3<>0,((QD3-QA3)/QA3),"") -> -1 | QH3: =IF(QB3<>0,((QE3-QB3)/QB3),"") -> -1 | QI3: =IF(QC3<>0,((QF3-QC3)/QC3),"") -> -1 | QJ3: 1200 | QK3: 6.7 | QL3: =QJ3*QK3 -> 8040 | QO3: =QM3*QN3 -> 0 | QP3: =IF(QJ3<>0,((QM3-QJ3)/QJ3),"") -> -1 | QQ3: =IF(QK3<>0,((QN3-QK3)/QK3),"") -> -1 | QR3: =IF(QL3<>0,((QO3-QL3)/QL3),"") -> -1 | QU3: =QS3*QT3 -> 0 | QX3: =QV3*QW3 -> 0 | QY3: =IF(QS3<>0,((QV3-QS3)/QS3),"") | QZ3: =IF(QT3<>0,((QW3-QT3)/QT3),"") | RA3: =IF(QU3<>0,((QX3-QU3)/QU3),"") | RD3: =RB3*RC3 -> 0 | RG3: =RE3*RF3 -> 0 | RH3: =IF(RB3<>0,((RE3-RB3)/RB3),"") | RI3: =IF(RC3<>0,((RF3-RC3)/RC3),"") | RJ3: =IF(RD3<>0,((RG3-RD3)/RD3),"") | RM3: =RK3*RL3 -> 0 | RP3: =RN3*RO3 -> 0 | RQ3: =IF(RK3<>0,((RN3-RK3)/RK3),"") | RR3: =IF(RL3<>0,((RO3-RL3)/RL3),"") | RS3: =IF(RM3<>0,((RP3-RM3)/RM3),"") | RV3: =RT3*RU3 -> 0 | RY3: =RW3*RX3 -> 0 | RZ3: =IF(RT3<>0,((RW3-RT3)/RT3),"") | SA3: =IF(RU3<>0,((RX3-RU3)/RU3),"") | SB3: =IF(RV3<>0,((RY3-RV3)/RV3),"") | SE3: =SC3*SD3 -> 0 | SH3: =SF3*SG3 -> 0 | SI3: =IF(SC3<>0,((SF3-SC3)/SC3),"") | SJ3: =IF(SD3<>0,((SG3-SD3)/SD3),"") | SK3: =IF(SE3<>0,((SH3-SE3)/SE3),"") | SN3: =SL3*SM3 -> 0 | SQ3: =SO3*SP3 -> 0 | SR3: =IF(SL3<>0,((SO3-SL3)/SL3),"") | SS3: =IF(SM3<>0,((SP3-SM3)/SM3),"") | ST3: =IF(SN3<>0,((SQ3-SN3)/SN3),"") | SW3: =SU3*SV3 -> 0 | SZ3: =SX3*SY3 -> 0 | TA3: =IF(SU3<>0,((SX3-SU3)/SU3),"") | TB3: =IF(SV3<>0,((SY3-SV3)/SV3),"") | TC3: =IF(SW3<>0,((SZ3-SW3)/SW3),"") | TF3: =TD3*TE3 -> 0 | TI3: =TG3*TH3 -> 0 | TJ3: =IF(TD3<>0,((TG3-TD3)/TD3),"") | TK3: =IF(TE3<>0,((TH3-TE3)/TE3),"") | TL3: =IF(TF3<>0,((TI3-TF3)/TF3),"") | TO3: =TM3*TN3 -> 0 | TR3: =TP3*TQ3 -> 0 | TS3: =IF(TM3<>0,((TP3-TM3)/TM3),"") | TT3: =IF(TN3<>0,((TQ3-TN3)/TN3),"") | TU3: =IF(TO3<>0,((TR3-TO3)/TO3),"") | TX3: =TV3*TW3 -> 0 | UA3: =TY3*TZ3 -> 0 | UB3: =IF(TV3<>0,((TY3-TV3)/TV3),"") | UC3: =IF(TW3<>0,((TZ3-TW3)/TW3),"") | UD3: =IF(TX3<>0,((UA3-TX3)/TX3),"") | UG3: =UE3*UF3 -> 0 | UJ3: =UH3*UI3 -> 0 | UK3: =IF(UE3<>0,((UH3-UE3)/UE3),"") | UL3: =IF(UF3<>0,((UI3-UF3)/UF3),"") | UM3: =IF(UG3<>0,((UJ3-UG3)/UG3),"") | UP3: =UN3*UO3 -> 0 | US3: =UQ3*UR3 -> 0 | UT3: =IF(UN3<>0,((UQ3-UN3)/UN3),"") | UU3: =IF(UO3<>0,((UR3-UO3)/UO3),"") | UV3: =IF(UP3<>0,((US3-UP3)/UP3),"") | UW3: 1200 | UX3: 26.4 | UY3: =UW3*UX3 -> 31680 | VB3: =UZ3*VA3 -> 0 | VC3: =IF(UW3<>0,((UZ3-UW3)/UW3),"") -> -1 | VD3: =IF(UX3<>0,((VA3-UX3)/UX3),"") -> -1 | VE3: =IF(UY3<>0,((VB3-UY3)/UY3),"") -> -1 | VH3: =VF3*VG3 -> 0 | VK3: =VI3*VJ3 -> 0 | VL3: =IF(VF3<>0,((VI3-VF3)/VF3),"") | VM3: =IF(VG3<>0,((VJ3-VG3)/VG3),"") | VN3: =IF(VH3<>0,((VK3-VH3)/VH3),"") | VQ3: =VO3*VP3 -> 0 | VT3: =VR3*VS3 -> 0 | VU3: =IF(VO3<>0,((VR3-VO3)/VO3),"") | VV3: =IF(VP3<>0,((VS3-VP3)/VP3),"") | VW3: =IF(VQ3<>0,((VT3-VQ3)/VQ3),"") | VZ3: =VX3*VY3 -> 0 | WC3: =WA3*WB3 -> 0 | WD3: =IF(VX3<>0,((WA3-VX3)/VX3),"") | WE3: =IF(VY3<>0,((WB3-VY3)/VY3),"") | WF3: =IF(VZ3<>0,((WC3-VZ3)/VZ3),"") | WI3: =WG3*WH3 -> 0 | WL3: =WJ3*WK3 -> 0 | WM3: =IF(WG3<>0,((WJ3-WG3)/WG3),"") | WN3: =IF(WH3<>0,((WK3-WH3)/WH3),"") | WO3: =IF(WI3<>0,((WL3-WI3)/WI3),"") | WR3: =WP3*WQ3 -> 0 | WU3: =WS3*WT3 -> 0 | WV3: =IF(WP3<>0,((WS3-WP3)/WP3),"") | WW3: =IF(WQ3<>0,((WT3-WQ3)/WQ3),"") | WX3: =IF(WR3<>0,((WU3-WR3)/WR3),"") | XA3: =WY3*WZ3 -> 0 | XD3: =XB3*XC3 -> 0 | XE3: =IF(WY3<>0,((XB3-WY3)/WY3),"") | XF3: =IF(WZ3<>0,((XC3-WZ3)/WZ3),"") | XG3: =IF(XA3<>0,((XD3-XA3)/XA3),"") | XJ3: =XH3*XI3 -> 0 | XM3: =XK3*XL3 -> 0 | XN3: =IF(XH3<>0,((XK3-XH3)/XH3),"") | XO3: =IF(XI3<>0,((XL3-XI3)/XI3),"") | XP3: =IF(XJ3<>0,((XM3-XJ3)/XJ3),"") | XS3: =XQ3*XR3 -> 0 | XV3: =XT3*XU3 -> 0 | XW3: =IF(XQ3<>0,((XT3-XQ3)/XQ3),"") | XX3: =IF(XR3<>0,((XU3-XR3)/XR3),"") | XY3: =IF(XS3<>0,((XV3-XS3)/XS3),"") | YB3: =XZ3*YA3 -> 0 | YE3: =YC3*YD3 -> 0 | YF3: =IF(XZ3<>0,((YC3-XZ3)/XZ3),"") | YG3: =IF(YA3<>0,((YD3-YA3)/YA3),"") | YH3: =IF(YB3<>0,((YE3-YB3)/YB3),"") | YK3: =YI3*YJ3 -> 0 | YN3: =YL3*YM3 -> 0 | YO3: =IF(YI3<>0,((YL3-YI3)/YI3),"") | YP3: =IF(YJ3<>0,((YM3-YJ3)/YJ3),"") | YQ3: =IF(YK3<>0,((YN3-YK3)/YK3),"") | YT3: =YR3*YS3 -> 0 | YW3: =YU3*YV3 -> 0 | YX3: =IF(YR3<>0,((YU3-YR3)/YR3),"") | YY3: =IF(YS3<>0,((YV3-YS3)/YS3),"") | YZ3: =IF(YT3<>0,((YW3-YT3)/YT3),"") | ZC3: =SUM(ZA3*ZB3) -> 0 | ZF3: =ZD3*ZE3 -> 0 | ZG3: =IF(ZA3<>0,((ZD3-ZA3)/ZA3),"") | ZH3: =IF(ZB3<>0,((ZE3-ZB3)/ZB3),"") | ZI3: =IF(ZC3<>0,((ZF3-ZC3)/ZC3),"")
A4: x | B4: b | C4: x | D4: x | E4: =SUMIF($2:$2,"Achat 2013",4:4) -> 0 | F4: =SUMIF($2:$2,"TOTAL 2013",4:4) -> 0 | G4: =SUMIF($2:$2,"Achat 2014",4:4) -> 0 | H4: =SUMIF($2:$2,"TOTAL 2014",4:4) -> 0 | I4: =IF(E4<>0,((G4-E4)/E4),"") | J4: =IF(F4<>0,((H4-F4)/F4),"") | M4: =K4*L4 -> 0 | P4: =N4*O4 -> 0 | Q4: =IF(K4<>0,((N4-K4)/K4),"") | R4: =IF(L4<>0,((O4-L4)/L4),"") | S4: =IF(M4<>0,((P4-M4)/M4),"") | V4: =T4*U4 -> 0 | Y4: =W4*X4 -> 0 | Z4: =IF(T4<>0,((W4-T4)/T4),"") | AA4: =IF(U4<>0,((X4-U4)/U4),"") | AB4: =IF(V4<>0,((Y4-V4)/V4),"") | AE4: =AC4*AD4 -> 0 | AH4: =AF4*AG4 -> 0 | AI4: =IF(AC4<>0,((AF4-AC4)/AC4),"") | AJ4: =IF(AD4<>0,((AG4-AD4)/AD4),"") | AK4: =IF(AE4<>0,((AH4-AE4)/AE4),"") | AN4: =AL4*AM4 -> 0 | AQ4: =AO4*AP4 -> 0 | AR4: =IF(AL4<>0,((AO4-AL4)/AL4),"") | AS4: =IF(AM4<>0,((AP4-AM4)/AM4),"") | AT4: =IF(AN4<>0,((AQ4-AN4)/AN4),"") | AW4: =AU4*AV4 -> 0 | AZ4: =AX4*AY4 -> 0 | BA4: =IF(AU4<>0,((AX4-AU4)/AU4),"") | BB4: =IF(AV4<>0,((AY4-AV4)/AV4),"") | BC4: =IF(AW4<>0,((AZ4-AW4)/AW4),"") | BF4: =BD4*BE4 -> 0 | BI4: =BG4*BH4 -> 0 | BJ4: =IF(BD4<>0,((BG4-BD4)/BD4),"") | BK4: =IF(BE4<>0,((BH4-BE4)/BE4),"") | BL4: =IF(BF4<>0,((BI4-BF4)/BF4),"") | BO4: =BM4*BN4 -> 0 | BR4: =BP4*BQ4 -> 0 | BS4: =IF(BM4<>0,((BP4-BM4)/BM4),"") | BT4: =IF(BN4<>0,((BQ4-BN4)/BN4),"") | BU4: =IF(BO4<>0,((BR4-BO4)/BO4),"") | BX4: =BV4*BW4 -> 0 | CA4: =BY4*BZ4 -> 0 | CB4: =IF(BV4<>0,((BY4-BV4)/BV4),"") | CC4: =IF(BW4<>0,((BZ4-BW4)/BW4),"") | CD4: =IF(BX4<>0,((CA4-BX4)/BX4),"") | CG4: =CE4*CF4 -> 0 | CJ4: =CH4*CI4 -> 0 | CK4: =IF(CE4<>0,((CH4-CE4)/CE4),"") | CL4: =IF(CF4<>0,((CI4-CF4)/CF4),"") | CM4: =IF(CG4<>0,((CJ4-CG4)/CG4),"") | CP4: =CN4*CO4 -> 0 | CS4: =CQ4*CR4 -> 0 | CT4: =IF(CN4<>0,((CQ4-CN4)/CN4),"") | CU4: =IF(CO4<>0,((CR4-CO4)/CO4),"") | CV4: =IF(CP4<>0,((CS4-CP4)/CP4),"") | CY4: =CW4*CX4 -> 0 | DB4: =CZ4*DA4 -> 0 | DC4: =IF(CW4<>0,((CZ4-CW4)/CW4),"") | DD4: =IF(CX4<>0,((DA4-CX4)/CX4),"") | DE4: =IF(CY4<>0,((DB4-CY4)/CY4),"") | DH4: =DF4*DG4 -> 0 | DK4: =DI4*DJ4 -> 0 | DL4: =IF(DF4<>0,((DI4-DF4)/DF4),"") | DM4: =IF(DG4<>0,((DJ4-DG4)/DG4),"") | DN4: =IF(DH4<>0,((DK4-DH4)/DH4),"") | DQ4: =DO4*DP4 -> 0 | DT4: =DR4*DS4 -> 0 | DU4: =IF(DO4<>0,((DR4-DO4)/DO4),"") | DV4: =IF(DP4<>0,((DS4-DP4)/DP4),"") | DW4: =IF(DQ4<>0,((DT4-DQ4)/DQ4),"") | DZ4: =DX4*DY4 -> 0 | EC4: =EA4*EB4 -> 0 | ED4: =IF(DX4<>0,((EA4-DX4)/DX4),"") | EE4: =IF(DY4<>0,((EB4-DY4)/DY4),"") | EF4: =IF(DZ4<>0,((EC4-DZ4)/DZ4),"") | EI4: =EG4*EH4 -> 0 | EL4: =EJ4*EK4 -> 0 | EM4: =IF(EG4<>0,((EJ4-EG4)/EG4),"") | EN4: =IF(EH4<>0,((EK4-EH4)/EH4),"") | EO4: =IF(EI4<>0,((EL4-EI4)/EI4),"") | ER4: =EP4*EQ4 -> 0 | EU4: =ES4*ET4 -> 0 | EV4: =IF(EP4<>0,((ES4-EP4)/EP4),"") | EW4: =IF(EQ4<>0,((ET4-EQ4)/EQ4),"") | EX4: =IF(ER4<>0,((EU4-ER4)/ER4),"") | FA4: =EY4*EZ4 -> 0 | FD4: =FB4*FC4 -> 0 | FE4: =IF(EY4<>0,((FB4-EY4)/EY4),"") | FF4: =IF(EZ4<>0,((FC4-EZ4)/EZ4),"") | FG4: =IF(FA4<>0,((FD4-FA4)/FA4),"") | FJ4: =FH4*FI4 -> 0 | FM4: =FK4*FL4 -> 0 | FN4: =IF(FH4<>0,((FK4-FH4)/FH4),"") | FO4: =IF(FI4<>0,((FL4-FI4)/FI4),"") | FP4: =IF(FJ4<>0,((FM4-FJ4)/FJ4),"") | FS4: =FQ4*FR4 -> 0 | FV4: =FT4*FU4 -> 0 | FW4: =IF(FQ4<>0,((FT4-FQ4)/FQ4),"") | FX4: =IF(FR4<>0,((FU4-FR4)/FR4),"") | FY4: =IF(FS4<>0,((FV4-FS4)/FS4),"") | GB4: =FZ4*GA4 -> 0 | GE4: =GC4*GD4 -> 0 | GF4: =IF(FZ4<>0,((GC4-FZ4)/FZ4),"") | GG4: =IF(GA4<>0,((GD4-GA4)/GA4),"") | GH4: =IF(GB4<>0,((GE4-GB4)/GB4),"") | GK4: =GI4*GJ4 -> 0 | GN4: =GL4*GM4 -> 0 | GO4: =IF(GI4<>0,((GL4-GI4)/GI4),"") | GP4: =IF(GJ4<>0,((GM4-GJ4)/GJ4),"") | GQ4: =IF(GK4<>0,((GN4-GK4)/GK4),"") | GT4: =GR4*GS4 -> 0 | GW4: =GU4*GV4 -> 0 | GX4: =IF(GR4<>0,((GU4-GR4)/GR4),"") | GY4: =IF(GS4<>0,((GV4-GS4)/GS4),"") | GZ4: =IF(GT4<>0,((GW4-GT4)/GT4),"") | HC4: =HA4*HB4 -> 0 | HF4: =HD4*HE4 -> 0 | HG4: =IF(HA4<>0,((HD4-HA4)/HA4),"") | HH4: =IF(HB4<>0,((HE4-HB4)/HB4),"") | HI4: =IF(HC4<>0,((HF4-HC4)/HC4),"") | HL4: =HJ4*HK4 -> 0 | HO4: =HM4*HN4 -> 0 | HP4: =IF(HJ4<>0,((HM4-HJ4)/HJ4),"") | HQ4: =IF(HK4<>0,((HN4-HK4)/HK4),"") | HR4: =IF(HL4<>0,((HO4-HL4)/HL4),"") | HU4: =HS4*HT4 -> 0 | HX4: =HV4*HW4 -> 0 | HY4: =IF(HS4<>0,((HV4-HS4)/HS4),"") | HZ4: =IF(HT4<>0,((HW4-HT4)/HT4),"") | IA4: =IF(HU4<>0,((HX4-HU4)/HU4),"") | ID4: =IB4*IC4 -> 0 | IG4: =IE4*IF4 -> 0 | IH4: =IF(IB4<>0,((IE4-IB4)/IB4),"") | II4: =IF(IC4<>0,((IF4-IC4)/IC4),"") | IJ4: =IF(ID4<>0,((IG4-ID4)/ID4),"") | IM4: =IK4*IL4 -> 0 | IP4: =IN4*IO4 -> 0 | IQ4: =IF(IK4<>0,((IN4-IK4)/IK4),"") | IR4: =IF(IL4<>0,((IO4-IL4)/IL4),"") | IS4: =IF(IM4<>0,((IP4-IM4)/IM4),"") | IV4: =IT4*IU4 -> 0 | IY4: =IW4*IX4 -> 0 | IZ4: =IF(IT4<>0,((IW4-IT4)/IT4),"") | JA4: =IF(IU4<>0,((IX4-IU4)/IU4),"") | JB4: =IF(IV4<>0,((IY4-IV4)/IV4),"") | JE4: =JC4*JD4 -> 0 | JH4: =JF4*JG4 -> 0 | JI4: =IF(JC4<>0,((JF4-JC4)/JC4),"") | JJ4: =IF(JD4<>0,((JG4-JD4)/JD4),"") | JK4: =IF(JE4<>0,((JH4-JE4)/JE4),"") | JN4: =JL4*JM4 -> 0 | JQ4: =JO4*JP4 -> 0 | JR4: =IF(JL4<>0,((JO4-JL4)/JL4),"") | JS4: =IF(JM4<>0,((JP4-JM4)/JM4),"") | JT4: =IF(JN4<>0,((JQ4-JN4)/JN4),"") | JW4: =JU4*JV4 -> 0 | JZ4: =JX4*JY4 -> 0 | KA4: =IF(JU4<>0,((JX4-JU4)/JU4),"") | KB4: =IF(JV4<>0,((JY4-JV4)/JV4),"") | KC4: =IF(JW4<>0,((JZ4-JW4)/JW4),"") | KF4: =KD4*KE4 -> 0 | KI4: =KG4*KH4 -> 0 | KJ4: =IF(KD4<>0,((KG4-KD4)/KD4),"") | KK4: =IF(KE4<>0,((KH4-KE4)/KE4),"") | KL4: =IF(KF4<>0,((KI4-KF4)/KF4),"") | KO4: =KM4*KN4 -> 0 | KR4: =KP4*KQ4 -> 0 | KS4: =IF(KM4<>0,((KP4-KM4)/KM4),"") | KT4: =IF(KN4<>0,((KQ4-KN4)/KN4),"") | KU4: =IF(KO4<>0,((KR4-KO4)/KO4),"") | KX4: =KV4*KW4 -> 0 | LA4: =KY4*KZ4 -> 0 | LB4: =IF(KV4<>0,((KY4-KV4)/KV4),"") | LC4: =IF(KW4<>0,((KZ4-KW4)/KW4),"") | LD4: =IF(KX4<>0,((LA4-KX4)/KX4),"") | LG4: =LE4*LF4 -> 0 | LJ4: =LH4*LI4 -> 0 | LK4: =IF(LE4<>0,((LH4-LE4)/LE4),"") | LL4: =IF(LF4<>0,((LI4-LF4)/LF4),"") | LM4: =IF(LG4<>0,((LJ4-LG4)/LG4),"") | LP4: =LN4*LO4 -> 0 | LS4: =LQ4*LR4 -> 0 | LT4: =IF(LN4<>0,((LQ4-LN4)/LN4),"") | LU4: =IF(LO4<>0,((LR4-LO4)/LO4),"") | LV4: =IF(LP4<>0,((LS4-LP4)/LP4),"") | LY4: =LW4*LX4 -> 0 | MB4: =LZ4*MA4 -> 0 | MC4: =IF(LW4<>0,((LZ4-LW4)/LW4),"") | MD4: =IF(LX4<>0,((MA4-LX4)/LX4),"") | ME4: =IF(LY4<>0,((MB4-LY4)/LY4),"") | MH4: =MF4*MG4 -> 0 | MK4: =MI4*MJ4 -> 0 | ML4: =IF(MF4<>0,((MI4-MF4)/MF4),"") | MM4: =IF(MG4<>0,((MJ4-MG4)/MG4),"") | MN4: =IF(MH4<>0,((MK4-MH4)/MH4),"") | MQ4: =MO4*MP4 -> 0 | MT4: =MR4*MS4 -> 0 | MU4: =IF(MO4<>0,((MR4-MO4)/MO4),"") | MV4: =IF(MP4<>0,((MS4-MP4)/MP4),"") | MW4: =IF(MQ4<>0,((MT4-MQ4)/MQ4),"") | MZ4: =MX4*MY4 -> 0 | NC4: =NA4*NB4 -> 0 | ND4: =IF(MX4<>0,((NA4-MX4)/MX4),"") | NE4: =IF(MY4<>0,((NB4-MY4)/MY4),"") | NF4: =IF(MZ4<>0,((NC4-MZ4)/MZ4),"") | NI4: =NG4*NH4 -> 0 | NL4: =NJ4*NK4 -> 0 | NM4: =IF(NG4<>0,((NJ4-NG4)/NG4),"") | NN4: =IF(NH4<>0,((NK4-NH4)/NH4),"") | NO4: =IF(NI4<>0,((NL4-NI4)/NI4),"") | NR4: =NP4*NQ4 -> 0 | NU4: =NS4*NT4 -> 0 | NV4: =IF(NP4<>0,((NS4-NP4)/NP4),"") | NW4: =IF(NQ4<>0,((NT4-NQ4)/NQ4),"") | NX4: =IF(NR4<>0,((NU4-NR4)/NR4),"") | OA4: =NY4*NZ4 -> 0 | OD4: =OB4*OC4 -> 0 | OE4: =IF(NY4<>0,((OB4-NY4)/NY4),"") | OF4: =IF(NZ4<>0,((OC4-NZ4)/NZ4),"") | OG4: =IF(OA4<>0,((OD4-OA4)/OA4),"") | OJ4: =OH4*OI4 -> 0 | OM4: =OK4*OL4 -> 0 | ON4: =IF(OH4<>0,((OK4-OH4)/OH4),"") | OO4: =IF(OI4<>0,((OL4-OI4)/OI4),"") | OP4: =IF(OJ4<>0,((OM4-OJ4)/OJ4),"") | OS4: =OQ4*OR4 -> 0 | OV4: =OT4*OU4 -> 0 | OW4: =IF(OQ4<>0,((OT4-OQ4)/OQ4),"") | OX4: =IF(OR4<>0,((OU4-OR4)/OR4),"") | OY4: =IF(OS4<>0,((OV4-OS4)/OS4),"") | PB4: =OZ4*PA4 -> 0 | PE4: =PC4*PD4 -> 0 | PF4: =IF(OZ4<>0,((PC4-OZ4)/OZ4),"") | PG4: =IF(PA4<>0,((PD4-PA4)/PA4),"") | PH4: =IF(PB4<>0,((PE4-PB4)/PB4),"") | PK4: =PI4*PJ4 -> 0 | PN4: =PL4*PM4 -> 0 | PO4: =IF(PI4<>0,((PL4-PI4)/PI4),"") | PP4: =IF(PJ4<>0,((PM4-PJ4)/PJ4),"") | PQ4: =IF(PK4<>0,((PN4-PK4)/PK4),"") | PT4: =PR4*PS4 -> 0 | PW4: =PU4*PV4 -> 0 | PX4: =IF(PR4<>0,((PU4-PR4)/PR4),"") | PY4: =IF(PS4<>0,((PV4-PS4)/PS4),"") | PZ4: =IF(PT4<>0,((PW4-PT4)/PT4),"") | QC4: =QA4*QB4 -> 0 | QF4: =QD4*QE4 -> 0 | QG4: =IF(QA4<>0,((QD4-QA4)/QA4),"") | QH4: =IF(QB4<>0,((QE4-QB4)/QB4),"") | QI4: =IF(QC4<>0,((QF4-QC4)/QC4),"") | QL4: =QJ4*QK4 -> 0 | QO4: =QM4*QN4 -> 0 | QP4: =IF(QJ4<>0,((QM4-QJ4)/QJ4),"") | QQ4: =IF(QK4<>0,((QN4-QK4)/QK4),"") | QR4: =IF(QL4<>0,((QO4-QL4)/QL4),"") | QU4: =QS4*QT4 -> 0 | QX4: =QV4*QW4 -> 0 | QY4: =IF(QS4<>0,((QV4-QS4)/QS4),"") | QZ4: =IF(QT4<>0,((QW4-QT4)/QT4),"") | RA4: =IF(QU4<>0,((QX4-QU4)/QU4),"") | RD4: =RB4*RC4 -> 0 | RG4: =RE4*RF4 -> 0 | RH4: =IF(RB4<>0,((RE4-RB4)/RB4),"") | RI4: =IF(RC4<>0,((RF4-RC4)/RC4),"") | RJ4: =IF(RD4<>0,((RG4-RD4)/RD4),"") | RM4: =RK4*RL4 -> 0 | RP4: =RN4*RO4 -> 0 | RQ4: =IF(RK4<>0,((RN4-RK4)/RK4),"") | RR4: =IF(RL4<>0,((RO4-RL4)/RL4),"") | RS4: =IF(RM4<>0,((RP4-RM4)/RM4),"") | RV4: =RT4*RU4 -> 0 | RY4: =RW4*RX4 -> 0 | RZ4: =IF(RT4<>0,((RW4-RT4)/RT4),"") | SA4: =IF(RU4<>0,((RX4-RU4)/RU4),"") | SB4: =IF(RV4<>0,((RY4-RV4)/RV4),"") | SE4: =SC4*SD4 -> 0 | SH4: =SF4*SG4 -> 0 | SI4: =IF(SC4<>0,((SF4-SC4)/SC4),"") | SJ4: =IF(SD4<>0,((SG4-SD4)/SD4),"") | SK4: =IF(SE4<>0,((SH4-SE4)/SE4),"") | SN4: =SL4*SM4 -> 0 | SQ4: =SO4*SP4 -> 0 | SR4: =IF(SL4<>0,((SO4-SL4)/SL4),"") | SS4: =IF(SM4<>0,((SP4-SM4)/SM4),"") | ST4: =IF(SN4<>0,((SQ4-SN4)/SN4),"") | SW4: =SU4*SV4 -> 0 | SZ4: =SX4*SY4 -> 0 | TA4: =IF(SU4<>0,((SX4-SU4)/SU4),"") | TB4: =IF(SV4<>0,((SY4-SV4)/SV4),"") | TC4: =IF(SW4<>0,((SZ4-SW4)/SW4),"") | TF4: =TD4*TE4 -> 0 | TI4: =TG4*TH4 -> 0 | TJ4: =IF(TD4<>0,((TG4-TD4)/TD4),"") | TK4: =IF(TE4<>0,((TH4-TE4)/TE4),"") | TL4: =IF(TF4<>0,((TI4-TF4)/TF4),"") | TO4: =TM4*TN4 -> 0 | TR4: =TP4*TQ4 -> 0 | TS4: =IF(TM4<>0,((TP4-TM4)/TM4),"") | TT4: =IF(TN4<>0,((TQ4-TN4)/TN4),"") | TU4: =IF(TO4<>0,((TR4-TO4)/TO4),"") | TX4: =TV4*TW4 -> 0 | UA4: =TY4*TZ4 -> 0 | UB4: =IF(TV4<>0,((TY4-TV4)/TV4),"") | UC4: =IF(TW4<>0,((TZ4-TW4)/TW4),"") | UD4: =IF(TX4<>0,((UA4-TX4)/TX4),"") | UG4: =UE4*UF4 -> 0 | UJ4: =UH4*UI4 -> 0 | UK4: =IF(UE4<>0,((UH4-UE4)/UE4),"") | UL4: =IF(UF4<>0,((UI4-UF4)/UF4),"") | UM4: =IF(UG4<>0,((UJ4-UG4)/UG4),"") | UP4: =UN4*UO4 -> 0 | US4: =UQ4*UR4 -> 0 | UT4: =IF(UN4<>0,((UQ4-UN4)/UN4),"") | UU4: =IF(UO4<>0,((UR4-UO4)/UO4),"") | UV4: =IF(UP4<>0,((US4-UP4)/UP4),"") | UY4: =UW4*UX4 -> 0 | VB4: =UZ4*VA4 -> 0 | VC4: =IF(UW4<>0,((UZ4-UW4)/UW4),"") | VD4: =IF(UX4<>0,((VA4-UX4)/UX4),"") | VE4: =IF(UY4<>0,((VB4-UY4)/UY4),"") | VH4: =VF4*VG4 -> 0 | VK4: =VI4*VJ4 -> 0 | VL4: =IF(VF4<>0,((VI4-VF4)/VF4),"") | VM4: =IF(VG4<>0,((VJ4-VG4)/VG4),"") | VN4: =IF(VH4<>0,((VK4-VH4)/VH4),"") | VQ4: =VO4*VP4 -> 0 | VT4: =VR4*VS4 -> 0 | VU4: =IF(VO4<>0,((VR4-VO4)/VO4),"") | VV4: =IF(VP4<>0,((VS4-VP4)/VP4),"") | VW4: =IF(VQ4<>0,((VT4-VQ4)/VQ4),"") | VZ4: =VX4*VY4 -> 0 | WC4: =WA4*WB4 -> 0 | WD4: =IF(VX4<>0,((WA4-VX4)/VX4),"") | WE4: =IF(VY4<>0,((WB4-VY4)/VY4),"") | WF4: =IF(VZ4<>0,((WC4-VZ4)/VZ4),"") | WI4: =WG4*WH4 -> 0 | WL4: =WJ4*WK4 -> 0 | WM4: =IF(WG4<>0,((WJ4-WG4)/WG4),"") | WN4: =IF(WH4<>0,((WK4-WH4)/WH4),"") | WO4: =IF(WI4<>0,((WL4-WI4)/WI4),"") | WR4: =WP4*WQ4 -> 0 | WU4: =WS4*WT4 -> 0 | WV4: =IF(WP4<>0,((WS4-WP4)/WP4),"") | WW4: =IF(WQ4<>0,((WT4-WQ4)/WQ4),"") | WX4: =IF(WR4<>0,((WU4-WR4)/WR4),"") | XA4: =WY4*WZ4 -> 0 | XD4: =XB4*XC4 -> 0 | XE4: =IF(WY4<>0,((XB4-WY4)/WY4),"") | XF4: =IF(WZ4<>0,((XC4-WZ4)/WZ4),"") | XG4: =IF(XA4<>0,((XD4-XA4)/XA4),"") | XJ4: =XH4*XI4 -> 0 | XM4: =XK4*XL4 -> 0 | XN4: =IF(XH4<>0,((XK4-XH4)/XH4),"") | XO4: =IF(XI4<>0,((XL4-XI4)/XI4),"") | XP4: =IF(XJ4<>0,((XM4-XJ4)/XJ4),"") | XS4: =XQ4*XR4 -> 0 | XV4: =XT4*XU4 -> 0 | XW4: =IF(XQ4<>0,((XT4-XQ4)/XQ4),"") | XX4: =IF(XR4<>0,((XU4-XR4)/XR4),"") | XY4: =IF(XS4<>0,((XV4-XS4)/XS4),"") | YB4: =XZ4*YA4 -> 0 | YE4: =YC4*YD4 -> 0 | YF4: =IF(XZ4<>0,((YC4-XZ4)/XZ4),"") | YG4: =IF(YA4<>0,((YD4-YA4)/YA4),"") | YH4: =IF(YB4<>0,((YE4-YB4)/YB4),"") | YK4: =YI4*YJ4 -> 0 | YN4: =YL4*YM4 -> 0 | YO4: =IF(YI4<>0,((YL4-YI4)/YI4),"") | YP4: =IF(YJ4<>0,((YM4-YJ4)/YJ4),"") | YQ4: =IF(YK4<>0,((YN4-YK4)/YK4),"") | YT4: =YR4*YS4 -> 0 | YW4: =YU4*YV4 -> 0 | YX4: =IF(YR4<>0,((YU4-YR4)/YR4),"") | YY4: =IF(YS4<>0,((YV4-YS4)/YS4),"") | YZ4: =IF(YT4<>0,((YW4-YT4)/YT4),"") | ZC4: =ZA4*ZB4 -> 0 | ZF4: =ZD4*ZE4 -> 0 | ZG4: =IF(ZA4<>0,((ZD4-ZA4)/ZA4),"") | ZH4: =IF(ZB4<>0,((ZE4-ZB4)/ZB4),"") | ZI4: =IF(ZC4<>0,((ZF4-ZC4)/ZC4),"")
A5: x | B5: c | C5: x | D5: x | E5: =SUMIF($2:$2,"Achat 2013",5:5) -> 192 | F5: =SUMIF($2:$2,"TOTAL 2013",5:5) -> 28282.8 | G5: =SUMIF($2:$2,"Achat 2014",5:5) -> 0 | H5: =SUMIF($2:$2,"TOTAL 2014",5:5) -> 0 | I5: =IF(E5<>0,((G5-E5)/E5),"") -> -1 | J5: =IF(F5<>0,((H5-F5)/F5),"") -> -1 | M5: =K5*L5 -> 0 | P5: =N5*O5 -> 0 | Q5: =IF(K5<>0,((N5-K5)/K5),"") | R5: =IF(L5<>0,((O5-L5)/L5),"") | S5: =IF(M5<>0,((P5-M5)/M5),"") | V5: =T5*U5 -> 0 | Y5: =W5*X5 -> 0 | Z5: =IF(T5<>0,((W5-T5)/T5),"") | AA5: =IF(U5<>0,((X5-U5)/U5),"") | AB5: =IF(V5<>0,((Y5-V5)/V5),"") | AE5: =AC5*AD5 -> 0 | AH5: =AF5*AG5 -> 0 | AI5: =IF(AC5<>0,((AF5-AC5)/AC5),"") | AJ5: =IF(AD5<>0,((AG5-AD5)/AD5),"") | AK5: =IF(AE5<>0,((AH5-AE5)/AE5),"") | AN5: =AL5*AM5 -> 0 | AQ5: =AO5*AP5 -> 0 | AR5: =IF(AL5<>0,((AO5-AL5)/AL5),"") | AS5: =IF(AM5<>0,((AP5-AM5)/AM5),"") | AT5: =IF(AN5<>0,((AQ5-AN5)/AN5),"") | AW5: =AU5*AV5 -> 0 | AZ5: =AX5*AY5 -> 0 | BA5: =IF(AU5<>0,((AX5-AU5)/AU5),"") | BB5: =IF(AV5<>0,((AY5-AV5)/AV5),"") | BC5: =IF(AW5<>0,((AZ5-AW5)/AW5),"") | BD5: 6 | BE5: 90 | BF5: =BD5*BE5 -> 540 | BI5: =BG5*BH5 -> 0 | BJ5: =IF(BD5<>0,((BG5-BD5)/BD5),"") -> -1 | BK5: =IF(BE5<>0,((BH5-BE5)/BE5),"") -> -1 | BL5: =IF(BF5<>0,((BI5-BF5)/BF5),"") -> -1 | BO5: =BM5*BN5 -> 0 | BR5: =BP5*BQ5 -> 0 | BS5: =IF(BM5<>0,((BP5-BM5)/BM5),"") | BT5: =IF(BN5<>0,((BQ5-BN5)/BN5),"") | BU5: =IF(BO5<>0,((BR5-BO5)/BO5),"") | BX5: =BV5*BW5 -> 0 | CA5: =BY5*BZ5 -> 0 | CB5: =IF(BV5<>0,((BY5-BV5)/BV5),"") | CC5: =IF(BW5<>0,((BZ5-BW5)/BW5),"") | CD5: =IF(BX5<>0,((CA5-BX5)/BX5),"") | CG5: =CE5*CF5 -> 0 | CJ5: =CH5*CI5 -> 0 | CK5: =IF(CE5<>0,((CH5-CE5)/CE5),"") | CL5: =IF(CF5<>0,((CI5-CF5)/CF5),"") | CM5: =IF(CG5<>0,((CJ5-CG5)/CG5),"") | CP5: =CN5*CO5 -> 0 | CS5: =CQ5*CR5 -> 0 | CT5: =IF(CN5<>0,((CQ5-CN5)/CN5),"") | CU5: =IF(CO5<>0,((CR5-CO5)/CO5),"") | CV5: =IF(CP5<>0,((CS5-CP5)/CP5),"") | CY5: =CW5*CX5 -> 0 | DB5: =CZ5*DA5 -> 0 | DC5: =IF(CW5<>0,((CZ5-CW5)/CW5),"") | DD5: =IF(CX5<>0,((DA5-CX5)/CX5),"") | DE5: =IF(CY5<>0,((DB5-CY5)/CY5),"") | DF5: 18 | DG5: 37.2 | DH5: =DF5*DG5 -> 669.6 | DK5: =DI5*DJ5 -> 0 | DL5: =IF(DF5<>0,((DI5-DF5)/DF5),"") -> -1 | DM5: =IF(DG5<>0,((DJ5-DG5)/DG5),"") -> -1 | DN5: =IF(DH5<>0,((DK5-DH5)/DH5),"") -> -1 | DQ5: =DO5*DP5 -> 0 | DT5: =DR5*DS5 -> 0 | DU5: =IF(DO5<>0,((DR5-DO5)/DO5),"") | DV5: =IF(DP5<>0,((DS5-DP5)/DP5),"") | DW5: =IF(DQ5<>0,((DT5-DQ5)/DQ5),"") | DZ5: =DX5*DY5 -> 0 | EC5: =EA5*EB5 -> 0 | ED5: =IF(DX5<>0,((EA5-DX5)/DX5),"") | EE5: =IF(DY5<>0,((EB5-DY5)/DY5),"") | EF5: =IF(DZ5<>0,((EC5-DZ5)/DZ5),"") | EI5: =EG5*EH5 -> 0 | EL5: =EJ5*EK5 -> 0 | EM5: =IF(EG5<>0,((EJ5-EG5)/EG5),"") | EN5: =IF(EH5<>0,((EK5-EH5)/EH5),"") | EO5: =IF(EI5<>0,((EL5-EI5)/EI5),"") | ER5: =EP5*EQ5 -> 0 | EU5: =ES5*ET5 -> 0 | EV5: =IF(EP5<>0,((ES5-EP5)/EP5),"") | EW5: =IF(EQ5<>0,((ET5-EQ5)/EQ5),"") | EX5: =IF(ER5<>0,((EU5-ER5)/ER5),"") | FA5: =EY5*EZ5 -> 0 | FD5: =FB5*FC5 -> 0 | FE5: =IF(EY5<>0,((FB5-EY5)/EY5),"") | FF5: =IF(EZ5<>0,((FC5-EZ5)/EZ5),"") | FG5: =IF(FA5<>0,((FD5-FA5)/FA5),"") | FJ5: =FH5*FI5 -> 0 | FM5: =FK5*FL5 -> 0 | FN5: =IF(FH5<>0,((FK5-FH5)/FH5),"") | FO5: =IF(FI5<>0,((FL5-FI5)/FI5),"") | FP5: =IF(FJ5<>0,((FM5-FJ5)/FJ5),"") | FS5: =FQ5*FR5 -> 0 | FV5: =FT5*FU5 -> 0 | FW5: =IF(FQ5<>0,((FT5-FQ5)/FQ5),"") | FX5: =IF(FR5<>0,((FU5-FR5)/FR5),"") | FY5: =IF(FS5<>0,((FV5-FS5)/FS5),"") | GB5: =FZ5*GA5 -> 0 | GE5: =GC5*GD5 -> 0 | GF5: =IF(FZ5<>0,((GC5-FZ5)/FZ5),"") | GG5: =IF(GA5<>0,((GD5-GA5)/GA5),"") | GH5: =IF(GB5<>0,((GE5-GB5)/GB5),"") | GK5: =GI5*GJ5 -> 0 | GN5: =GL5*GM5 -> 0 | GO5: =IF(GI5<>0,((GL5-GI5)/GI5),"") | GP5: =IF(GJ5<>0,((GM5-GJ5)/GJ5),"") | GQ5: =IF(GK5<>0,((GN5-GK5)/GK5),"") | GT5: =GR5*GS5 -> 0 | GW5: =GU5*GV5 -> 0 | GX5: =IF(GR5<>0,((GU5-GR5)/GR5),"") | GY5: =IF(GS5<>0,((GV5-GS5)/GS5),"") | GZ5: =IF(GT5<>0,((GW5-GT5)/GT5),"") | HC5: =HA5*HB5 -> 0 | HF5: =HD5*HE5 -> 0 | HG5: =IF(HA5<>0,((HD5-HA5)/HA5),"") | HH5: =IF(HB5<>0,((HE5-HB5)/HB5),"") | HI5: =IF(HC5<>0,((HF5-HC5)/HC5),"") | HL5: =HJ5*HK5 -> 0 | HO5: =HM5*HN5 -> 0 | HP5: =IF(HJ5<>0,((HM5-HJ5)/HJ5),"") | HQ5: =IF(HK5<>0,((HN5-HK5)/HK5),"") | HR5: =IF(HL5<>0,((HO5-HL5)/HL5),"") | HU5: =HS5*HT5 -> 0 | HX5: =HV5*HW5 -> 0 | HY5: =IF(HS5<>0,((HV5-HS5)/HS5),"") | HZ5: =IF(HT5<>0,((HW5-HT5)/HT5),"") | IA5: =IF(HU5<>0,((HX5-HU5)/HU5),"") | ID5: =IB5*IC5 -> 0 | IG5: =IE5*IF5 -> 0 | IH5: =IF(IB5<>0,((IE5-IB5)/IB5),"") | II5: =IF(IC5<>0,((IF5-IC5)/IC5),"") | IJ5: =IF(ID5<>0,((IG5-ID5)/ID5),"") | IM5: =IK5*IL5 -> 0 | IP5: =IN5*IO5 -> 0 | IQ5: =IF(IK5<>0,((IN5-IK5)/IK5),"") | IR5: =IF(IL5<>0,((IO5-IL5)/IL5),"") | IS5: =IF(IM5<>0,((IP5-IM5)/IM5),"") | IV5: =IT5*IU5 -> 0 | IY5: =IW5*IX5 -> 0 | IZ5: =IF(IT5<>0,((IW5-IT5)/IT5),"") | JA5: =IF(IU5<>0,((IX5-IU5)/IU5),"") | JB5: =IF(IV5<>0,((IY5-IV5)/IV5),"") | JE5: =JC5*JD5 -> 0 | JH5: =JF5*JG5 -> 0 | JI5: =IF(JC5<>0,((JF5-JC5)/JC5),"") | JJ5: =IF(JD5<>0,((JG5-JD5)/JD5),"") | JK5: =IF(JE5<>0,((JH5-JE5)/JE5),"") | JN5: =JL5*JM5 -> 0 | JQ5: =JO5*JP5 -> 0 | JR5: =IF(JL5<>0,((JO5-JL5)/JL5),"") | JS5: =IF(JM5<>0,((JP5-JM5)/JM5),"") | JT5: =IF(JN5<>0,((JQ5-JN5)/JN5),"") | JW5: =JU5*JV5 -> 0 | JZ5: =JX5*JY5 -> 0 | KA5: =IF(JU5<>0,((JX5-JU5)/JU5),"") | KB5: =IF(JV5<>0,((JY5-JV5)/JV5),"") | KC5: =IF(JW5<>0,((JZ5-JW5)/JW5),"") | KF5: =KD5*KE5 -> 0 | KI5: =KG5*KH5 -> 0 | KJ5: =IF(KD5<>0,((KG5-KD5)/KD5),"") | KK5: =IF(KE5<>0,((KH5-KE5)/KE5),"") | KL5: =IF(KF5<>0,((KI5-KF5)/KF5),"") | KM5: 12 | KN5: 600 | KO5: =KM5*KN5 -> 7200 | KR5: =KP5*KQ5 -> 0 | KS5: =IF(KM5<>0,((KP5-KM5)/KM5),"") -> -1 | KT5: =IF(KN5<>0,((KQ5-KN5)/KN5),"") -> -1 | KU5: =IF(KO5<>0,((KR5-KO5)/KO5),"") -> -1 | KX5: =KV5*KW5 -> 0 | LA5: =KY5*KZ5 -> 0 | LB5: =IF(KV5<>0,((KY5-KV5)/KV5),"") | LC5: =IF(KW5<>0,((KZ5-KW5)/KW5),"") | LD5: =IF(KX5<>0,((LA5-KX5)/KX5),"") | LG5: =LE5*LF5 -> 0 | LJ5: =LH5*LI5 -> 0 | LK5: =IF(LE5<>0,((LH5-LE5)/LE5),"") | LL5: =IF(LF5<>0,((LI5-LF5)/LF5),"") | LM5: =IF(LG5<>0,((LJ5-LG5)/LG5),"") | LN5: 12 | LO5: 480 | LP5: =LN5*LO5 -> 5760 | LS5: =LQ5*LR5 -> 0 | LT5: =IF(LN5<>0,((LQ5-LN5)/LN5),"") -> -1 | LU5: =IF(LO5<>0,((LR5-LO5)/LO5),"") -> -1 | LV5: =IF(LP5<>0,((LS5-LP5)/LP5),"") -> -1 | LW5: 24 | LX5: 288 | LY5: =LW5*LX5 -> 6912 | MB5: =LZ5*MA5 -> 0 | MC5: =IF(LW5<>0,((LZ5-LW5)/LW5),"") -> -1 | MD5: =IF(LX5<>0,((MA5-LX5)/LX5),"") -> -1 | ME5: =IF(LY5<>0,((MB5-LY5)/LY5),"") -> -1 | MH5: =MF5*MG5 -> 0 | MK5: =MI5*MJ5 -> 0 | ML5: =IF(MF5<>0,((MI5-MF5)/MF5),"") | MM5: =IF(MG5<>0,((MJ5-MG5)/MG5),"") | MN5: =IF(MH5<>0,((MK5-MH5)/MH5),"") | MQ5: =MO5*MP5 -> 0 | MT5: =MR5*MS5 -> 0 | MU5: =IF(MO5<>0,((MR5-MO5)/MO5),"") | MV5: =IF(MP5<>0,((MS5-MP5)/MP5),"") | MW5: =IF(MQ5<>0,((MT5-MQ5)/MQ5),"") | MZ5: =MX5*MY5 -> 0 | NC5: =NA5*NB5 -> 0 | ND5: =IF(MX5<>0,((NA5-MX5)/MX5),"") | NE5: =IF(MY5<>0,((NB5-MY5)/MY5),"") | NF5: =IF(MZ5<>0,((NC5-MZ5)/MZ5),"") | NI5: =NG5*NH5 -> 0 | NL5: =NJ5*NK5 -> 0 | NM5: =IF(NG5<>0,((NJ5-NG5)/NG5),"") | NN5: =IF(NH5<>0,((NK5-NH5)/NH5),"") | NO5: =IF(NI5<>0,((NL5-NI5)/NI5),"") | NR5: =NP5*NQ5 -> 0 | NU5: =NS5*NT5 -> 0 | NV5: =IF(NP5<>0,((NS5-NP5)/NP5),"") | NW5: =IF(NQ5<>0,((NT5-NQ5)/NQ5),"") | NX5: =IF(NR5<>0,((NU5-NR5)/NR5),"") | OA5: =NY5*NZ5 -> 0 | OD5: =OB5*OC5 -> 0 | OE5: =IF(NY5<>0,((OB5-NY5)/NY5),"") | OF5: =IF(NZ5<>0,((OC5-NZ5)/NZ5),"") | OG5: =IF(OA5<>0,((OD5-OA5)/OA5),"") | OH5: 78 | OI5: 50 | OJ5: =OH5*OI5 -> 3900 | OM5: =OK5*OL5 -> 0 | ON5: =IF(OH5<>0,((OK5-OH5)/OH5),"") -> -1 | OO5: =IF(OI5<>0,((OL5-OI5)/OI5),"") -> -1 | OP5: =IF(OJ5<>0,((OM5-OJ5)/OJ5),"") -> -1 | OS5: =OQ5*OR5 -> 0 | OV5: =OT5*OU5 -> 0 | OW5: =IF(OQ5<>0,((OT5-OQ5)/OQ5),"") | OX5: =IF(OR5<>0,((OU5-OR5)/OR5),"") | OY5: =IF(OS5<>0,((OV5-OS5)/OS5),"") | OZ5: 6 | PA5: 215 | PB5: =OZ5*PA5 -> 1290 | PE5: =PC5*PD5 -> 0 | PF5: =IF(OZ5<>0,((PC5-OZ5)/OZ5),"") -> -1 | PG5: =IF(PA5<>0,((PD5-PA5)/PA5),"") -> -1 | PH5: =IF(PB5<>0,((PE5-PB5)/PB5),"") -> -1 | PK5: =PI5*PJ5 -> 0 | PN5: =PL5*PM5 -> 0 | PO5: =IF(PI5<>0,((PL5-PI5)/PI5),"") | PP5: =IF(PJ5<>0,((PM5-PJ5)/PJ5),"") | PQ5: =IF(PK5<>0,((PN5-PK5)/PK5),"") | PT5: =PR5*PS5 -> 0 | PW5: =PU5*PV5 -> 0 | PX5: =IF(PR5<>0,((PU5-PR5)/PR5),"") | PY5: =IF(PS5<>0,((PV5-PS5)/PS5),"") | PZ5: =IF(PT5<>0,((PW5-PT5)/PT5),"") | QC5: =QA5*QB5 -> 0 | QF5: =QD5*QE5 -> 0 | QG5: =IF(QA5<>0,((QD5-QA5)/QA5),"") | QH5: =IF(QB5<>0,((QE5-QB5)/QB5),"") | QI5: =IF(QC5<>0,((QF5-QC5)/QC5),"") | QL5: =QJ5*QK5 -> 0 | QO5: =QM5*QN5 -> 0 | QP5: =IF(QJ5<>0,((QM5-QJ5)/QJ5),"") | QQ5: =IF(QK5<>0,((QN5-QK5)/QK5),"") | QR5: =IF(QL5<>0,((QO5-QL5)/QL5),"") | QU5: =QS5*QT5 -> 0 | QX5: =QV5*QW5 -> 0 | QY5: =IF(QS5<>0,((QV5-QS5)/QS5),"") | QZ5: =IF(QT5<>0,((QW5-QT5)/QT5),"") | RA5: =IF(QU5<>0,((QX5-QU5)/QU5),"") | RD5: =RB5*RC5 -> 0 | RG5: =RE5*RF5 -> 0 | RH5: =IF(RB5<>0,((RE5-RB5)/RB5),"") | RI5: =IF(RC5<>0,((RF5-RC5)/RC5),"") | RJ5: =IF(RD5<>0,((RG5-RD5)/RD5),"") | RM5: =RK5*RL5 -> 0 | RP5: =RN5*RO5 -> 0 | RQ5: =IF(RK5<>0,((RN5-RK5)/RK5),"") | RR5: =IF(RL5<>0,((RO5-RL5)/RL5),"") | RS5: =IF(RM5<>0,((RP5-RM5)/RM5),"") | RV5: =RT5*RU5 -> 0 | RY5: =RW5*RX5 -> 0 | RZ5: =IF(RT5<>0,((RW5-RT5)/RT5),"") | SA5: =IF(RU5<>0,((RX5-RU5)/RU5),"") | SB5: =IF(RV5<>0,((RY5-RV5)/RV5),"") | SE5: =SC5*SD5 -> 0 | SH5: =SF5*SG5 -> 0 | SI5: =IF(SC5<>0,((SF5-SC5)/SC5),"") | SJ5: =IF(SD5<>0,((SG5-SD5)/SD5),"") | SK5: =IF(SE5<>0,((SH5-SE5)/SE5),"") | SN5: =SL5*SM5 -> 0 | SQ5: =SO5*SP5 -> 0 | SR5: =IF(SL5<>0,((SO5-SL5)/SL5),"") | SS5: =IF(SM5<>0,((SP5-SM5)/SM5),"") | ST5: =IF(SN5<>0,((SQ5-SN5)/SN5),"") | SU5: 12 | SV5: 57.6 | SW5: =SU5*SV5 -> 691.2 | SZ5: =SX5*SY5 -> 0 | TA5: =IF(SU5<>0,((SX5-SU5)/SU5),"") -> -1 | TB5: =IF(SV5<>0,((SY5-SV5)/SV5),"") -> -1 | TC5: =IF(SW5<>0,((SZ5-SW5)/SW5),"") -> -1 | TF5: =TD5*TE5 -> 0 | TI5: =TG5*TH5 -> 0 | TJ5: =IF(TD5<>0,((TG5-TD5)/TD5),"") | TK5: =IF(TE5<>0,((TH5-TE5)/TE5),"") | TL5: =IF(TF5<>0,((TI5-TF5)/TF5),"") | TO5: =TM5*TN5 -> 0 | TR5: =TP5*TQ5 -> 0 | TS5: =IF(TM5<>0,((TP5-TM5)/TM5),"") | TT5: =IF(TN5<>0,((TQ5-TN5)/TN5),"") | TU5: =IF(TO5<>0,((TR5-TO5)/TO5),"") | TX5: =TV5*TW5 -> 0 | UA5: =TY5*TZ5 -> 0 | UB5: =IF(TV5<>0,((TY5-TV5)/TV5),"") | UC5: =IF(TW5<>0,((TZ5-TW5)/TW5),"") | UD5: =IF(TX5<>0,((UA5-TX5)/TX5),"") | UG5: =UE5*UF5 -> 0 | UJ5: =UH5*UI5 -> 0 | UK5: =IF(UE5<>0,((UH5-UE5)/UE5),"") | UL5: =IF(UF5<>0,((UI5-UF5)/UF5),"") | UM5: =IF(UG5<>0,((UJ5-UG5)/UG5),"") | UP5: =UN5*UO5 -> 0 | US5: =UQ5*UR5 -> 0 | UT5: =IF(UN5<>0,((UQ5-UN5)/UN5),"") | UU5: =IF(UO5<>0,((UR5-UO5)/UO5),"") | UV5: =IF(UP5<>0,((US5-UP5)/UP5),"") | UY5: =UW5*UX5 -> 0 | VB5: =UZ5*VA5 -> 0 | VC5: =IF(UW5<>0,((UZ5-UW5)/UW5),"") | VD5: =IF(UX5<>0,((VA5-UX5)/UX5),"") | VE5: =IF(UY5<>0,((VB5-UY5)/UY5),"") | VH5: =VF5*VG5 -> 0 | VK5: =VI5*VJ5 -> 0 | VL5: =IF(VF5<>0,((VI5-VF5)/VF5),"") | VM5: =IF(VG5<>0,((VJ5-VG5)/VG5),"") | VN5: =IF(VH5<>0,((VK5-VH5)/VH5),"") | VQ5: =VO5*VP5 -> 0 | VT5: =VR5*VS5 -> 0 | VU5: =IF(VO5<>0,((VR5-VO5)/VO5),"") | VV5: =IF(VP5<>0,((VS5-VP5)/VP5),"") | VW5: =IF(VQ5<>0,((VT5-VQ5)/VQ5),"") | VX5: 24 | VY5: 55 | VZ5: =VX5*VY5 -> 1320 | WC5: =WA5*WB5 -> 0 | WD5: =IF(VX5<>0,((WA5-VX5)/VX5),"") -> -1 | WE5: =IF(VY5<>0,((WB5-VY5)/VY5),"") -> -1 | WF5: =IF(VZ5<>0,((WC5-VZ5)/VZ5),"") -> -1 | WI5: =WG5*WH5 -> 0 | WL5: =WJ5*WK5 -> 0 | WM5: =IF(WG5<>0,((WJ5-WG5)/WG5),"") | WN5: =IF(WH5<>0,((WK5-WH5)/WH5),"") | WO5: =IF(WI5<>0,((WL5-WI5)/WI5),"") | WR5: =WP5*WQ5 -> 0 | WU5: =WS5*WT5 -> 0 | WV5: =IF(WP5<>0,((WS5-WP5)/WP5),"") | WW5: =IF(WQ5<>0,((WT5-WQ5)/WQ5),"") | WX5: =IF(WR5<>0,((WU5-WR5)/WR5),"") | XA5: =WY5*WZ5 -> 0 | XD5: =XB5*XC5 -> 0 | XE5: =IF(WY5<>0,((XB5-WY5)/WY5),"") | XF5: =IF(WZ5<>0,((XC5-WZ5)/WZ5),"") | XG5: =IF(XA5<>0,((XD5-XA5)/XA5),"") | XJ5: =XH5*XI5 -> 0 | XM5: =XK5*XL5 -> 0 | XN5: =IF(XH5<>0,((XK5-XH5)/XH5),"") | XO5: =IF(XI5<>0,((XL5-XI5)/XI5),"") | XP5: =IF(XJ5<>0,((XM5-XJ5)/XJ5),"") | XS5: =XQ5*XR5 -> 0 | XV5: =XT5*XU5 -> 0 | XW5: =IF(XQ5<>0,((XT5-XQ5)/XQ5),"") | XX5: =IF(XR5<>0,((XU5-XR5)/XR5),"") | XY5: =IF(XS5<>0,((XV5-XS5)/XS5),"") | YB5: =XZ5*YA5 -> 0 | YE5: =YC5*YD5 -> 0 | YF5: =IF(XZ5<>0,((YC5-XZ5)/XZ5),"") | YG5: =IF(YA5<>0,((YD5-YA5)/YA5),"") | YH5: =IF(YB5<>0,((YE5-YB5)/YB5),"") | YK5: =YI5*YJ5 -> 0 | YN5: =YL5*YM5 -> 0 | YO5: =IF(YI5<>0,((YL5-YI5)/YI5),"") | YP5: =IF(YJ5<>0,((YM5-YJ5)/YJ5),"") | YQ5: =IF(YK5<>0,((YN5-YK5)/YK5),"") | YT5: =YR5*YS5 -> 0 | YW5: =YU5*YV5 -> 0 | YX5: =IF(YR5<>0,((YU5-YR5)/YR5),"") | YY5: =IF(YS5<>0,((YV5-YS5)/YS5),"") | YZ5: =IF(YT5<>0,((YW5-YT5)/YT5),"") | ZC5: =ZA5*ZB5 -> 0 | ZF5: =ZD5*ZE5 -> 0 | ZG5: =IF(ZA5<>0,((ZD5-ZA5)/ZA5),"") | ZH5: =IF(ZB5<>0,((ZE5-ZB5)/ZB5),"") | ZI5: =IF(ZC5<>0,((ZF5-ZC5)/ZC5),"")
A6: x | B6: d | C6: x | D6: x | E6: =SUMIF($2:$2,"Achat 2013",6:6) -> 69 | F6: =SUMIF($2:$2,"TOTAL 2013",6:6) -> 9084 | G6: =SUMIF($2:$2,"Achat 2014",6:6) -> 0 | H6: =SUMIF($2:$2,"TOTAL 2014",6:6) -> 0 | I6: =IF(E6<>0,((G6-E6)/E6),"") -> -1 | J6: =IF(F6<>0,((H6-F6)/F6),"") -> -1 | M6: =K6*L6 -> 0 | P6: =N6*O6 -> 0 | Q6: =IF(K6<>0,((N6-K6)/K6),"") | R6: =IF(L6<>0,((O6-L6)/L6),"") | S6: =IF(M6<>0,((P6-M6)/M6),"") | V6: =T6*U6 -> 0 | Y6: =W6*X6 -> 0 | Z6: =IF(T6<>0,((W6-T6)/T6),"") | AA6: =IF(U6<>0,((X6-U6)/U6),"") | AB6: =IF(V6<>0,((Y6-V6)/V6),"") | AE6: =AC6*AD6 -> 0 | AH6: =AF6*AG6 -> 0 | AI6: =IF(AC6<>0,((AF6-AC6)/AC6),"") | AJ6: =IF(AD6<>0,((AG6-AD6)/AD6),"") | AK6: =IF(AE6<>0,((AH6-AE6)/AE6),"") | AN6: =AL6*AM6 -> 0 | AQ6: =AO6*AP6 -> 0 | AR6: =IF(AL6<>0,((AO6-AL6)/AL6),"") | AS6: =IF(AM6<>0,((AP6-AM6)/AM6),"") | AT6: =IF(AN6<>0,((AQ6-AN6)/AN6),"") | AW6: =AU6*AV6 -> 0 | AZ6: =AX6*AY6 -> 0 | BA6: =IF(AU6<>0,((AX6-AU6)/AU6),"") | BB6: =IF(AV6<>0,((AY6-AV6)/AV6),"") | BC6: =IF(AW6<>0,((AZ6-AW6)/AW6),"") | BF6: =BD6*BE6 -> 0 | BI6: =BG6*BH6 -> 0 | BJ6: =IF(BD6<>0,((BG6-BD6)/BD6),"") | BK6: =IF(BE6<>0,((BH6-BE6)/BE6),"") | BL6: =IF(BF6<>0,((BI6-BF6)/BF6),"") | BO6: =BM6*BN6 -> 0 | BR6: =BP6*BQ6 -> 0 | BS6: =IF(BM6<>0,((BP6-BM6)/BM6),"") | BT6: =IF(BN6<>0,((BQ6-BN6)/BN6),"") | BU6: =IF(BO6<>0,((BR6-BO6)/BO6),"") | BX6: =BV6*BW6 -> 0 | CA6: =BY6*BZ6 -> 0 | CB6: =IF(BV6<>0,((BY6-BV6)/BV6),"") | CC6: =IF(BW6<>0,((BZ6-BW6)/BW6),"") | CD6: =IF(BX6<>0,((CA6-BX6)/BX6),"") | CG6: =CE6*CF6 -> 0 | CJ6: =CH6*CI6 -> 0 | CK6: =IF(CE6<>0,((CH6-CE6)/CE6),"") | CL6: =IF(CF6<>0,((CI6-CF6)/CF6),"") | CM6: =IF(CG6<>0,((CJ6-CG6)/CG6),"") | CP6: =CN6*CO6 -> 0 | CS6: =CQ6*CR6 -> 0 | CT6: =IF(CN6<>0,((CQ6-CN6)/CN6),"") | CU6: =IF(CO6<>0,((CR6-CO6)/CO6),"") | CV6: =IF(CP6<>0,((CS6-CP6)/CP6),"") | CY6: =CW6*CX6 -> 0 | DB6: =CZ6*DA6 -> 0 | DC6: =IF(CW6<>0,((CZ6-CW6)/CW6),"") | DD6: =IF(CX6<>0,((DA6-CX6)/CX6),"") | DE6: =IF(CY6<>0,((DB6-CY6)/CY6),"") | DH6: =DF6*DG6 -> 0 | DK6: =DI6*DJ6 -> 0 | DL6: =IF(DF6<>0,((DI6-DF6)/DF6),"") | DM6: =IF(DG6<>0,((DJ6-DG6)/DG6),"") | DN6: =IF(DH6<>0,((DK6-DH6)/DH6),"") | DQ6: =DO6*DP6 -> 0 | DT6: =DR6*DS6 -> 0 | DU6: =IF(DO6<>0,((DR6-DO6)/DO6),"") | DV6: =IF(DP6<>0,((DS6-DP6)/DP6),"") | DW6: =IF(DQ6<>0,((DT6-DQ6)/DQ6),"") | DZ6: =DX6*DY6 -> 0 | EC6: =EA6*EB6 -> 0 | ED6: =IF(DX6<>0,((EA6-DX6)/DX6),"") | EE6: =IF(DY6<>0,((EB6-DY6)/DY6),"") | EF6: =IF(DZ6<>0,((EC6-DZ6)/DZ6),"") | EI6: =EG6*EH6 -> 0 | EL6: =EJ6*EK6 -> 0 | EM6: =IF(EG6<>0,((EJ6-EG6)/EG6),"") | EN6: =IF(EH6<>0,((EK6-EH6)/EH6),"") | EO6: =IF(EI6<>0,((EL6-EI6)/EI6),"") | ER6: =EP6*EQ6 -> 0 | EU6: =ES6*ET6 -> 0 | EV6: =IF(EP6<>0,((ES6-EP6)/EP6),"") | EW6: =IF(EQ6<>0,((ET6-EQ6)/EQ6),"") | EX6: =IF(ER6<>0,((EU6-ER6)/ER6),"") | FA6: =EY6*EZ6 -> 0 | FD6: =FB6*FC6 -> 0 | FE6: =IF(EY6<>0,((FB6-EY6)/EY6),"") | FF6: =IF(EZ6<>0,((FC6-EZ6)/EZ6),"") | FG6: =IF(FA6<>0,((FD6-FA6)/FA6),"") | FJ6: =FH6*FI6 -> 0 | FM6: =FK6*FL6 -> 0 | FN6: =IF(FH6<>0,((FK6-FH6)/FH6),"") | FO6: =IF(FI6<>0,((FL6-FI6)/FI6),"") | FP6: =IF(FJ6<>0,((FM6-FJ6)/FJ6),"") | FS6: =FQ6*FR6 -> 0 | FV6: =FT6*FU6 -> 0 | FW6: =IF(FQ6<>0,((FT6-FQ6)/FQ6),"") | FX6: =IF(FR6<>0,((FU6-FR6)/FR6),"") | FY6: =IF(FS6<>0,((FV6-FS6)/FS6),"") | GB6: =FZ6*GA6 -> 0 | GE6: =GC6*GD6 -> 0 | GF6: =IF(FZ6<>0,((GC6-FZ6)/FZ6),"") | GG6: =IF(GA6<>0,((GD6-GA6)/GA6),"") | GH6: =IF(GB6<>0,((GE6-GB6)/GB6),"") | GK6: =GI6*GJ6 -> 0 | GN6: =GL6*GM6 -> 0 | GO6: =IF(GI6<>0,((GL6-GI6)/GI6),"") | GP6: =IF(GJ6<>0,((GM6-GJ6)/GJ6),"") | GQ6: =IF(GK6<>0,((GN6-GK6)/GK6),"") | GT6: =GR6*GS6 -> 0 | GW6: =GU6*GV6 -> 0 | GX6: =IF(GR6<>0,((GU6-GR6)/GR6),"") | GY6: =IF(GS6<>0,((GV6-GS6)/GS6),"") | GZ6: =IF(GT6<>0,((GW6-GT6)/GT6),"") | HC6: =HA6*HB6 -> 0 | HF6: =HD6*HE6 -> 0 | HG6: =IF(HA6<>0,((HD6-HA6)/HA6),"") | HH6: =IF(HB6<>0,((HE6-HB6)/HB6),"") | HI6: =IF(HC6<>0,((HF6-HC6)/HC6),"") | HL6: =HJ6*HK6 -> 0 | HO6: =HM6*HN6 -> 0 | HP6: =IF(HJ6<>0,((HM6-HJ6)/HJ6),"") | HQ6: =IF(HK6<>0,((HN6-HK6)/HK6),"") | HR6: =IF(HL6<>0,((HO6-HL6)/HL6),"") | HU6: =HS6*HT6 -> 0 | HX6: =HV6*HW6 -> 0 | HY6: =IF(HS6<>0,((HV6-HS6)/HS6),"") | HZ6: =IF(HT6<>0,((HW6-HT6)/HT6),"") | IA6: =IF(HU6<>0,((HX6-HU6)/HU6),"") | ID6: =IB6*IC6 -> 0 | IG6: =IE6*IF6 -> 0 | IH6: =IF(IB6<>0,((IE6-IB6)/IB6),"") | II6: =IF(IC6<>0,((IF6-IC6)/IC6),"") | IJ6: =IF(ID6<>0,((IG6-ID6)/ID6),"") | IM6: =IK6*IL6 -> 0 | IP6: =IN6*IO6 -> 0 | IQ6: =IF(IK6<>0,((IN6-IK6)/IK6),"") | IR6: =IF(IL6<>0,((IO6-IL6)/IL6),"") | IS6: =IF(IM6<>0,((IP6-IM6)/IM6),"") | IV6: =IT6*IU6 -> 0 | IY6: =IW6*IX6 -> 0 | IZ6: =IF(IT6<>0,((IW6-IT6)/IT6),"") | JA6: =IF(IU6<>0,((IX6-IU6)/IU6),"") | JB6: =IF(IV6<>0,((IY6-IV6)/IV6),"") | JE6: =JC6*JD6 -> 0 | JH6: =JF6*JG6 -> 0 | JI6: =IF(JC6<>0,((JF6-JC6)/JC6),"") | JJ6: =IF(JD6<>0,((JG6-JD6)/JD6),"") | JK6: =IF(JE6<>0,((JH6-JE6)/JE6),"") | JN6: =JL6*JM6 -> 0 | JQ6: =JO6*JP6 -> 0 | JR6: =IF(JL6<>0,((JO6-JL6)/JL6),"") | JS6: =IF(JM6<>0,((JP6-JM6)/JM6),"") | JT6: =IF(JN6<>0,((JQ6-JN6)/JN6),"") | JW6: =JU6*JV6 -> 0 | JZ6: =JX6*JY6 -> 0 | KA6: =IF(JU6<>0,((JX6-JU6)/JU6),"") | KB6: =IF(JV6<>0,((JY6-JV6)/JV6),"") | KC6: =IF(JW6<>0,((JZ6-JW6)/JW6),"") | KF6: =KD6*KE6 -> 0 | KI6: =KG6*KH6 -> 0 | KJ6: =IF(KD6<>0,((KG6-KD6)/KD6),"") | KK6: =IF(KE6<>0,((KH6-KE6)/KE6),"") | KL6: =IF(KF6<>0,((KI6-KF6)/KF6),"") | KO6: =KM6*KN6 -> 0 | KR6: =KP6*KQ6 -> 0 | KS6: =IF(KM6<>0,((KP6-KM6)/KM6),"") | KT6: =IF(KN6<>0,((KQ6-KN6)/KN6),"") | KU6: =IF(KO6<>0,((KR6-KO6)/KO6),"") | KX6: =KV6*KW6 -> 0 | LA6: =KY6*KZ6 -> 0 | LB6: =IF(KV6<>0,((KY6-KV6)/KV6),"") | LC6: =IF(KW6<>0,((KZ6-KW6)/KW6),"") | LD6: =IF(KX6<>0,((LA6-KX6)/KX6),"") | LE6: 36 | LF6: 57 | LG6: =LE6*LF6 -> 2052 | LJ6: =LH6*LI6 -> 0 | LK6: =IF(LE6<>0,((LH6-LE6)/LE6),"") -> -1 | LL6: =IF(LF6<>0,((LI6-LF6)/LF6),"") -> -1 | LM6: =IF(LG6<>0,((LJ6-LG6)/LG6),"") -> -1 | LP6: =LN6*LO6 -> 0 | LS6: =LQ6*LR6 -> 0 | LT6: =IF(LN6<>0,((LQ6-LN6)/LN6),"") | LU6: =IF(LO6<>0,((LR6-LO6)/LO6),"") | LV6: =IF(LP6<>0,((LS6-LP6)/LP6),"") | LW6: 6 | LX6: 288 | LY6: =LW6*LX6 -> 1728 | MB6: =LZ6*MA6 -> 0 | MC6: =IF(LW6<>0,((LZ6-LW6)/LW6),"") -> -1 | MD6: =IF(LX6<>0,((MA6-LX6)/LX6),"") -> -1 | ME6: =IF(LY6<>0,((MB6-LY6)/LY6),"") -> -1 | MH6: =MF6*MG6 -> 0 | MK6: =MI6*MJ6 -> 0 | ML6: =IF(MF6<>0,((MI6-MF6)/MF6),"") | MM6: =IF(MG6<>0,((MJ6-MG6)/MG6),"") | MN6: =IF(MH6<>0,((MK6-MH6)/MH6),"") | MQ6: =MO6*MP6 -> 0 | MT6: =MR6*MS6 -> 0 | MU6: =IF(MO6<>0,((MR6-MO6)/MO6),"") | MV6: =IF(MP6<>0,((MS6-MP6)/MP6),"") | MW6: =IF(MQ6<>0,((MT6-MQ6)/MQ6),"") | MZ6: =MX6*MY6 -> 0 | NC6: =NA6*NB6 -> 0 | ND6: =IF(MX6<>0,((NA6-MX6)/MX6),"") | NE6: =IF(MY6<>0,((NB6-MY6)/MY6),"") | NF6: =IF(MZ6<>0,((NC6-MZ6)/MZ6),"") | NI6: =NG6*NH6 -> 0 | NL6: =NJ6*NK6 -> 0 | NM6: =IF(NG6<>0,((NJ6-NG6)/NG6),"") | NN6: =IF(NH6<>0,((NK6-NH6)/NH6),"") | NO6: =IF(NI6<>0,((NL6-NI6)/NI6),"") | NR6: =NP6*NQ6 -> 0 | NU6: =NS6*NT6 -> 0 | NV6: =IF(NP6<>0,((NS6-NP6)/NP6),"") | NW6: =IF(NQ6<>0,((NT6-NQ6)/NQ6),"") | NX6: =IF(NR6<>0,((NU6-NR6)/NR6),"") | OA6: =NY6*NZ6 -> 0 | OD6: =OB6*OC6 -> 0 | OE6: =IF(NY6<>0,((OB6-NY6)/NY6),"") | OF6: =IF(NZ6<>0,((OC6-NZ6)/NZ6),"") | OG6: =IF(OA6<>0,((OD6-OA6)/OA6),"") | OJ6: =OH6*OI6 -> 0 | OM6: =OK6*OL6 -> 0 | ON6: =IF(OH6<>0,((OK6-OH6)/OH6),"") | OO6: =IF(OI6<>0,((OL6-OI6)/OI6),"") | OP6: =IF(OJ6<>0,((OM6-OJ6)/OJ6),"") | OS6: =OQ6*OR6 -> 0 | OV6: =OT6*OU6 -> 0 | OW6: =IF(OQ6<>0,((OT6-OQ6)/OQ6),"") | OX6: =IF(OR6<>0,((OU6-OR6)/OR6),"") | OY6: =IF(OS6<>0,((OV6-OS6)/OS6),"") | OZ6: 24 | PA6: 215 | PB6: =OZ6*PA6 -> 5160 | PE6: =PC6*PD6 -> 0 | PF6: =IF(OZ6<>0,((PC6-OZ6)/OZ6),"") -> -1 | PG6: =IF(PA6<>0,((PD6-PA6)/PA6),"") -> -1 | PH6: =IF(PB6<>0,((PE6-PB6)/PB6),"") -> -1 | PK6: =PI6*PJ6 -> 0 | PN6: =PL6*PM6 -> 0 | PO6: =IF(PI6<>0,((PL6-PI6)/PI6),"") | PP6: =IF(PJ6<>0,((PM6-PJ6)/PJ6),"") | PQ6: =IF(PK6<>0,((PN6-PK6)/PK6),"") | PT6: =PR6*PS6 -> 0 | PW6: =PU6*PV6 -> 0 | PX6: =IF(PR6<>0,((PU6-PR6)/PR6),"") | PY6: =IF(PS6<>0,((PV6-PS6)/PS6),"") | PZ6: =IF(PT6<>0,((PW6-PT6)/PT6),"") | QC6: =QA6*QB6 -> 0 | QF6: =QD6*QE6 -> 0 | QG6: =IF(QA6<>0,((QD6-QA6)/QA6),"") | QH6: =IF(QB6<>0,((QE6-QB6)/QB6),"") | QI6: =IF(QC6<>0,((QF6-QC6)/QC6),"") | QL6: =QJ6*QK6 -> 0 | QO6: =QM6*QN6 -> 0 | QP6: =IF(QJ6<>0,((QM6-QJ6)/QJ6),"") | QQ6: =IF(QK6<>0,((QN6-QK6)/QK6),"") | QR6: =IF(QL6<>0,((QO6-QL6)/QL6),"") | QU6: =QS6*QT6 -> 0 | QX6: =QV6*QW6 -> 0 | QY6: =IF(QS6<>0,((QV6-QS6)/QS6),"") | QZ6: =IF(QT6<>0,((QW6-QT6)/QT6),"") | RA6: =IF(QU6<>0,((QX6-QU6)/QU6),"") | RD6: =RB6*RC6 -> 0 | RG6: =RE6*RF6 -> 0 | RH6: =IF(RB6<>0,((RE6-RB6)/RB6),"") | RI6: =IF(RC6<>0,((RF6-RC6)/RC6),"") | RJ6: =IF(RD6<>0,((RG6-RD6)/RD6),"") | RM6: =RK6*RL6 -> 0 | RP6: =RN6*RO6 -> 0 | RQ6: =IF(RK6<>0,((RN6-RK6)/RK6),"") | RR6: =IF(RL6<>0,((RO6-RL6)/RL6),"") | RS6: =IF(RM6<>0,((RP6-RM6)/RM6),"") | RV6: =RT6*RU6 -> 0 | RY6: =RW6*RX6 -> 0 | RZ6: =IF(RT6<>0,((RW6-RT6)/RT6),"") | SA6: =IF(RU6<>0,((RX6-RU6)/RU6),"") | SB6: =IF(RV6<>0,((RY6-RV6)/RV6),"") | SE6: =SC6*SD6 -> 0 | SH6: =SF6*SG6 -> 0 | SI6: =IF(SC6<>0,((SF6-SC6)/SC6),"") | SJ6: =IF(SD6<>0,((SG6-SD6)/SD6),"") | SK6: =IF(SE6<>0,((SH6-SE6)/SE6),"") | SN6: =SL6*SM6 -> 0 | SQ6: =SO6*SP6 -> 0 | SR6: =IF(SL6<>0,((SO6-SL6)/SL6),"") | SS6: =IF(SM6<>0,((SP6-SM6)/SM6),"") | ST6: =IF(SN6<>0,((SQ6-SN6)/SN6),"") | SW6: =SU6*SV6 -> 0 | SZ6: =SX6*SY6 -> 0 | TA6: =IF(SU6<>0,((SX6-SU6)/SU6),"") | TB6: =IF(SV6<>0,((SY6-SV6)/SV6),"") | TC6: =IF(SW6<>0,((SZ6-SW6)/SW6),"") | TF6: =TD6*TE6 -> 0 | TI6: =TG6*TH6 -> 0 | TJ6: =IF(TD6<>0,((TG6-TD6)/TD6),"") | TK6: =IF(TE6<>0,((TH6-TE6)/TE6),"") | TL6: =IF(TF6<>0,((TI6-TF6)/TF6),"") | TO6: =TM6*TN6 -> 0 | TR6: =TP6*TQ6 -> 0 | TS6: =IF(TM6<>0,((TP6-TM6)/TM6),"") | TT6: =IF(TN6<>0,((TQ6-TN6)/TN6),"") | TU6: =IF(TO6<>0,((TR6-TO6)/TO6),"") | TV6: 3 | TW6: 48 | TX6: =TV6*TW6 -> 144 | UA6: =TY6*TZ6 -> 0 | UB6: =IF(TV6<>0,((TY6-TV6)/TV6),"") -> -1 | UC6: =IF(TW6<>0,((TZ6-TW6)/TW6),"") -> -1 | UD6: =IF(TX6<>0,((UA6-TX6)/TX6),"") -> -1 | UG6: =UE6*UF6 -> 0 | UJ6: =UH6*UI6 -> 0 | UK6: =IF(UE6<>0,((UH6-UE6)/UE6),"") | UL6: =IF(UF6<>0,((UI6-UF6)/UF6),"") | UM6: =IF(UG6<>0,((UJ6-UG6)/UG6),"") | UP6: =UN6*UO6 -> 0 | US6: =UQ6*UR6 -> 0 | UT6: =IF(UN6<>0,((UQ6-UN6)/UN6),"") | UU6: =IF(UO6<>0,((UR6-UO6)/UO6),"") | UV6: =IF(UP6<>0,((US6-UP6)/UP6),"") | UY6: =UW6*UX6 -> 0 | VB6: =UZ6*VA6 -> 0 | VC6: =IF(UW6<>0,((UZ6-UW6)/UW6),"") | VD6: =IF(UX6<>0,((VA6-UX6)/UX6),"") | VE6: =IF(UY6<>0,((VB6-UY6)/UY6),"") | VH6: =VF6*VG6 -> 0 | VK6: =VI6*VJ6 -> 0 | VL6: =IF(VF6<>0,((VI6-VF6)/VF6),"") | VM6: =IF(VG6<>0,((VJ6-VG6)/VG6),"") | VN6: =IF(VH6<>0,((VK6-VH6)/VH6),"") | VQ6: =VO6*VP6 -> 0 | VT6: =VR6*VS6 -> 0 | VU6: =IF(VO6<>0,((VR6-VO6)/VO6),"") | VV6: =IF(VP6<>0,((VS6-VP6)/VP6),"") | VW6: =IF(VQ6<>0,((VT6-VQ6)/VQ6),"") | VZ6: =VX6*VY6 -> 0 | WC6: =WA6*WB6 -> 0 | WD6: =IF(VX6<>0,((WA6-VX6)/VX6),"") | WE6: =IF(VY6<>0,((WB6-VY6)/VY6),"") | WF6: =IF(VZ6<>0,((WC6-VZ6)/VZ6),"") | WI6: =WG6*WH6 -> 0 | WL6: =WJ6*WK6 -> 0 | WM6: =IF(WG6<>0,((WJ6-WG6)/WG6),"") | WN6: =IF(WH6<>0,((WK6-WH6)/WH6),"") | WO6: =IF(WI6<>0,((WL6-WI6)/WI6),"") | WR6: =WP6*WQ6 -> 0 | WU6: =WS6*WT6 -> 0 | WV6: =IF(WP6<>0,((WS6-WP6)/WP6),"") | WW6: =IF(WQ6<>0,((WT6-WQ6)/WQ6),"") | WX6: =IF(WR6<>0,((WU6-WR6)/WR6),"") | XA6: =WY6*WZ6 -> 0 | XD6: =XB6*XC6 -> 0 | XE6: =IF(WY6<>0,((XB6-WY6)/WY6),"") | XF6: =IF(WZ6<>0,((XC6-WZ6)/WZ6),"") | XG6: =IF(XA6<>0,((XD6-XA6)/XA6),"") | XJ6: =XH6*XI6 -> 0 | XM6: =XK6*XL6 -> 0 | XN6: =IF(XH6<>0,((XK6-XH6)/XH6),"") | XO6: =IF(XI6<>0,((XL6-XI6)/XI6),"") | XP6: =IF(XJ6<>0,((XM6-XJ6)/XJ6),"") | XS6: =XQ6*XR6 -> 0 | XV6: =XT6*XU6 -> 0 | XW6: =IF(XQ6<>0,((XT6-XQ6)/XQ6),"") | XX6: =IF(XR6<>0,((XU6-XR6)/XR6),"") | XY6: =IF(XS6<>0,((XV6-XS6)/XS6),"") | YB6: =XZ6*YA6 -> 0 | YE6: =YC6*YD6 -> 0 | YF6: =IF(XZ6<>0,((YC6-XZ6)/XZ6),"") | YG6: =IF(YA6<>0,((YD6-YA6)/YA6),"") | YH6: =IF(YB6<>0,((YE6-YB6)/YB6),"") | YK6: =YI6*YJ6 -> 0 | YN6: =YL6*YM6 -> 0 | YO6: =IF(YI6<>0,((YL6-YI6)/YI6),"") | YP6: =IF(YJ6<>0,((YM6-YJ6)/YJ6),"") | YQ6: =IF(YK6<>0,((YN6-YK6)/YK6),"") | YT6: =YR6*YS6 -> 0 | YW6: =YU6*YV6 -> 0 | YX6: =IF(YR6<>0,((YU6-YR6)/YR6),"") | YY6: =IF(YS6<>0,((YV6-YS6)/YS6),"") | YZ6: =IF(YT6<>0,((YW6-YT6)/YT6),"") | ZC6: =ZA6*ZB6 -> 0 | ZF6: =ZD6*ZE6 -> 0 | ZG6: =IF(ZA6<>0,((ZD6-ZA6)/ZA6),"") | ZH6: =IF(ZB6<>0,((ZE6-ZB6)/ZB6),"") | ZI6: =IF(ZC6<>0,((ZF6-ZC6)/ZC6),"")
A7: x | B7: e | C7: x | D7: x | E7: =SUMIF($2:$2,"Achat 2013",7:7) -> 0 | F7: =SUMIF($2:$2,"TOTAL 2013",7:7) -> 0 | G7: =SUMIF($2:$2,"Achat 2014",7:7) -> 0 | H7: =SUMIF($2:$2,"TOTAL 2014",7:7) -> 0 | I7: =IF(E7<>0,((G7-E7)/E7),"") | J7: =IF(F7<>0,((H7-F7)/F7),"") | M7: =K7*L7 -> 0 | P7: =N7*O7 -> 0 | Q7: =IF(K7<>0,((N7-K7)/K7),"") | R7: =IF(L7<>0,((O7-L7)/L7),"") | S7: =IF(M7<>0,((P7-M7)/M7),"") | V7: =T7*U7 -> 0 | Y7: =W7*X7 -> 0 | Z7: =IF(T7<>0,((W7-T7)/T7),"") | AA7: =IF(U7<>0,((X7-U7)/U7),"") | AB7: =IF(V7<>0,((Y7-V7)/V7),"") | AE7: =AC7*AD7 -> 0 | AH7: =AF7*AG7 -> 0 | AI7: =IF(AC7<>0,((AF7-AC7)/AC7),"") | AJ7: =IF(AD7<>0,((AG7-AD7)/AD7),"") | AK7: =IF(AE7<>0,((AH7-AE7)/AE7),"") | AN7: =AL7*AM7 -> 0 | AQ7: =AO7*AP7 -> 0 | AR7: =IF(AL7<>0,((AO7-AL7)/AL7),"") | AS7: =IF(AM7<>0,((AP7-AM7)/AM7),"") | AT7: =IF(AN7<>0,((AQ7-AN7)/AN7),"") | AW7: =AU7*AV7 -> 0 | AZ7: =AX7*AY7 -> 0 | BA7: =IF(AU7<>0,((AX7-AU7)/AU7),"") | BB7: =IF(AV7<>0,((AY7-AV7)/AV7),"") | BC7: =IF(AW7<>0,((AZ7-AW7)/AW7),"") | BF7: =BD7*BE7 -> 0 | BI7: =BG7*BH7 -> 0 | BJ7: =IF(BD7<>0,((BG7-BD7)/BD7),"") | BK7: =IF(BE7<>0,((BH7-BE7)/BE7),"") | BL7: =IF(BF7<>0,((BI7-BF7)/BF7),"") | BO7: =BM7*BN7 -> 0 | BR7: =BP7*BQ7 -> 0 | BS7: =IF(BM7<>0,((BP7-BM7)/BM7),"") | BT7: =IF(BN7<>0,((BQ7-BN7)/BN7),"") | BU7: =IF(BO7<>0,((BR7-BO7)/BO7),"") | BX7: =BV7*BW7 -> 0 | CA7: =BY7*BZ7 -> 0 | CB7: =IF(BV7<>0,((BY7-BV7)/BV7),"") | CC7: =IF(BW7<>0,((BZ7-BW7)/BW7),"") | CD7: =IF(BX7<>0,((CA7-BX7)/BX7),"") | CG7: =CE7*CF7 -> 0 | CJ7: =CH7*CI7 -> 0 | CK7: =IF(CE7<>0,((CH7-CE7)/CE7),"") | CL7: =IF(CF7<>0,((CI7-CF7)/CF7),"") | CM7: =IF(CG7<>0,((CJ7-CG7)/CG7),"") | CP7: =CN7*CO7 -> 0 | CS7: =CQ7*CR7 -> 0 | CT7: =IF(CN7<>0,((CQ7-CN7)/CN7),"") | CU7: =IF(CO7<>0,((CR7-CO7)/CO7),"") | CV7: =IF(CP7<>0,((CS7-CP7)/CP7),"") | CY7: =CW7*CX7 -> 0 | DB7: =CZ7*DA7 -> 0 | DC7: =IF(CW7<>0,((CZ7-CW7)/CW7),"") | DD7: =IF(CX7<>0,((DA7-CX7)/CX7),"") | DE7: =IF(CY7<>0,((DB7-CY7)/CY7),"") | DH7: =DF7*DG7 -> 0 | DK7: =DI7*DJ7 -> 0 | DL7: =IF(DF7<>0,((DI7-DF7)/DF7),"") | DM7: =IF(DG7<>0,((DJ7-DG7)/DG7),"") | DN7: =IF(DH7<>0,((DK7-DH7)/DH7),"") | DQ7: =DO7*DP7 -> 0 | DT7: =DR7*DS7 -> 0 | DU7: =IF(DO7<>0,((DR7-DO7)/DO7),"") | DV7: =IF(DP7<>0,((DS7-DP7)/DP7),"") | DW7: =IF(DQ7<>0,((DT7-DQ7)/DQ7),"") | DZ7: =DX7*DY7 -> 0 | EC7: =EA7*EB7 -> 0 | ED7: =IF(DX7<>0,((EA7-DX7)/DX7),"") | EE7: =IF(DY7<>0,((EB7-DY7)/DY7),"") | EF7: =IF(DZ7<>0,((EC7-DZ7)/DZ7),"") | EI7: =EG7*EH7 -> 0 | EL7: =EJ7*EK7 -> 0 | EM7: =IF(EG7<>0,((EJ7-EG7)/EG7),"") | EN7: =IF(EH7<>0,((EK7-EH7)/EH7),"") | EO7: =IF(EI7<>0,((EL7-EI7)/EI7),"") | ER7: =EP7*EQ7 -> 0 | EU7: =ES7*ET7 -> 0 | EV7: =IF(EP7<>0,((ES7-EP7)/EP7),"") | EW7: =IF(EQ7<>0,((ET7-EQ7)/EQ7),"") | EX7: =IF(ER7<>0,((EU7-ER7)/ER7),"") | FA7: =EY7*EZ7 -> 0 | FD7: =FB7*FC7 -> 0 | FE7: =IF(EY7<>0,((FB7-EY7)/EY7),"") | FF7: =IF(EZ7<>0,((FC7-EZ7)/EZ7),"") | FG7: =IF(FA7<>0,((FD7-FA7)/FA7),"") | FJ7: =FH7*FI7 -> 0 | FM7: =FK7*FL7 -> 0 | FN7: =IF(FH7<>0,((FK7-FH7)/FH7),"") | FO7: =IF(FI7<>0,((FL7-FI7)/FI7),"") | FP7: =IF(FJ7<>0,((FM7-FJ7)/FJ7),"") | FS7: =FQ7*FR7 -> 0 | FV7: =FT7*FU7 -> 0 | FW7: =IF(FQ7<>0,((FT7-FQ7)/FQ7),"") | FX7: =IF(FR7<>0,((FU7-FR7)/FR7),"") | FY7: =IF(FS7<>0,((FV7-FS7)/FS7),"") | GB7: =FZ7*GA7 -> 0 | GE7: =GC7*GD7 -> 0 | GF7: =IF(FZ7<>0,((GC7-FZ7)/FZ7),"") | GG7: =IF(GA7<>0,((GD7-GA7)/GA7),"") | GH7: =IF(GB7<>0,((GE7-GB7)/GB7),"") | GK7: =GI7*GJ7 -> 0 | GN7: =GL7*GM7 -> 0 | GO7: =IF(GI7<>0,((GL7-GI7)/GI7),"") | GP7: =IF(GJ7<>0,((GM7-GJ7)/GJ7),"") | GQ7: =IF(GK7<>0,((GN7-GK7)/GK7),"") | GT7: =GR7*GS7 -> 0 | GW7: =GU7*GV7 -> 0 | GX7: =IF(GR7<>0,((GU7-GR7)/GR7),"") | GY7: =IF(GS7<>0,((GV7-GS7)/GS7),"") | GZ7: =IF(GT7<>0,((GW7-GT7)/GT7),"") | HC7: =HA7*HB7 -> 0 | HF7: =HD7*HE7 -> 0 | HG7: =IF(HA7<>0,((HD7-HA7)/HA7),"") | HH7: =IF(HB7<>0,((HE7-HB7)/HB7),"") | HI7: =IF(HC7<>0,((HF7-HC7)/HC7),"") | HL7: =HJ7*HK7 -> 0 | HO7: =HM7*HN7 -> 0 | HP7: =IF(HJ7<>0,((HM7-HJ7)/HJ7),"") | HQ7: =IF(HK7<>0,((HN7-HK7)/HK7),"") | HR7: =IF(HL7<>0,((HO7-HL7)/HL7),"") | HU7: =HS7*HT7 -> 0 | HX7: =HV7*HW7 -> 0 | HY7: =IF(HS7<>0,((HV7-HS7)/HS7),"") | HZ7: =IF(HT7<>0,((HW7-HT7)/HT7),"") | IA7: =IF(HU7<>0,((HX7-HU7)/HU7),"") | ID7: =IB7*IC7 -> 0 | IG7: =IE7*IF7 -> 0 | IH7: =IF(IB7<>0,((IE7-IB7)/IB7),"") | II7: =IF(IC7<>0,((IF7-IC7)/IC7),"") | IJ7: =IF(ID7<>0,((IG7-ID7)/ID7),"") | IM7: =IK7*IL7 -> 0 | IP7: =IN7*IO7 -> 0 | IQ7: =IF(IK7<>0,((IN7-IK7)/IK7),"") | IR7: =IF(IL7<>0,((IO7-IL7)/IL7),"") | IS7: =IF(IM7<>0,((IP7-IM7)/IM7),"") | IV7: =IT7*IU7 -> 0 | IY7: =IW7*IX7 -> 0 | IZ7: =IF(IT7<>0,((IW7-IT7)/IT7),"") | JA7: =IF(IU7<>0,((IX7-IU7)/IU7),"") | JB7: =IF(IV7<>0,((IY7-IV7)/IV7),"") | JE7: =JC7*JD7 -> 0 | JH7: =JF7*JG7 -> 0 | JI7: =IF(JC7<>0,((JF7-JC7)/JC7),"") | JJ7: =IF(JD7<>0,((JG7-JD7)/JD7),"") | JK7: =IF(JE7<>0,((JH7-JE7)/JE7),"") | JN7: =JL7*JM7 -> 0 | JQ7: =JO7*JP7 -> 0 | JR7: =IF(JL7<>0,((JO7-JL7)/JL7),"") | JS7: =IF(JM7<>0,((JP7-JM7)/JM7),"") | JT7: =IF(JN7<>0,((JQ7-JN7)/JN7),"") | JW7: =JU7*JV7 -> 0 | JZ7: =JX7*JY7 -> 0 | KA7: =IF(JU7<>0,((JX7-JU7)/JU7),"") | KB7: =IF(JV7<>0,((JY7-JV7)/JV7),"") | KC7: =IF(JW7<>0,((JZ7-JW7)/JW7),"") | KF7: =KD7*KE7 -> 0 | KI7: =KG7*KH7 -> 0 | KJ7: =IF(KD7<>0,((KG7-KD7)/KD7),"") | KK7: =IF(KE7<>0,((KH7-KE7)/KE7),"") | KL7: =IF(KF7<>0,((KI7-KF7)/KF7),"") | KO7: =KM7*KN7 -> 0 | KR7: =KP7*KQ7 -> 0 | KS7: =IF(KM7<>0,((KP7-KM7)/KM7),"") | KT7: =IF(KN7<>0,((KQ7-KN7)/KN7),"") | KU7: =IF(KO7<>0,((KR7-KO7)/KO7),"") | KX7: =KV7*KW7 -> 0 | LA7: =KY7*KZ7 -> 0 | LB7: =IF(KV7<>0,((KY7-KV7)/KV7),"") | LC7: =IF(KW7<>0,((KZ7-KW7)/KW7),"") | LD7: =IF(KX7<>0,((LA7-KX7)/KX7),"") | LG7: =LE7*LF7 -> 0 | LJ7: =LH7*LI7 -> 0 | LK7: =IF(LE7<>0,((LH7-LE7)/LE7),"") | LL7: =IF(LF7<>0,((LI7-LF7)/LF7),"") | LM7: =IF(LG7<>0,((LJ7-LG7)/LG7),"") | LP7: =LN7*LO7 -> 0 | LS7: =LQ7*LR7 -> 0 | LT7: =IF(LN7<>0,((LQ7-LN7)/LN7),"") | LU7: =IF(LO7<>0,((LR7-LO7)/LO7),"") | LV7: =IF(LP7<>0,((LS7-LP7)/LP7),"") | LY7: =LW7*LX7 -> 0 | MB7: =LZ7*MA7 -> 0 | MC7: =IF(LW7<>0,((LZ7-LW7)/LW7),"") | MD7: =IF(LX7<>0,((MA7-LX7)/LX7),"") | ME7: =IF(LY7<>0,((MB7-LY7)/LY7),"") | MH7: =MF7*MG7 -> 0 | MK7: =MI7*MJ7 -> 0 | ML7: =IF(MF7<>0,((MI7-MF7)/MF7),"") | MM7: =IF(MG7<>0,((MJ7-MG7)/MG7),"") | MN7: =IF(MH7<>0,((MK7-MH7)/MH7),"") | MQ7: =MO7*MP7 -> 0 | MT7: =MR7*MS7 -> 0 | MU7: =IF(MO7<>0,((MR7-MO7)/MO7),"") | MV7: =IF(MP7<>0,((MS7-MP7)/MP7),"") | MW7: =IF(MQ7<>0,((MT7-MQ7)/MQ7),"") | MZ7: =MX7*MY7 -> 0 | NC7: =NA7*NB7 -> 0 | ND7: =IF(MX7<>0,((NA7-MX7)/MX7),"") | NE7: =IF(MY7<>0,((NB7-MY7)/MY7),"") | NF7: =IF(MZ7<>0,((NC7-MZ7)/MZ7),"") | NI7: =NG7*NH7 -> 0 | NL7: =NJ7*NK7 -> 0 | NM7: =IF(NG7<>0,((NJ7-NG7)/NG7),"") | NN7: =IF(NH7<>0,((NK7-NH7)/NH7),"") | NO7: =IF(NI7<>0,((NL7-NI7)/NI7),"") | NR7: =NP7*NQ7 -> 0 | NU7: =NS7*NT7 -> 0 | NV7: =IF(NP7<>0,((NS7-NP7)/NP7),"") | NW7: =IF(NQ7<>0,((NT7-NQ7)/NQ7),"") | NX7: =IF(NR7<>0,((NU7-NR7)/NR7),"") | OA7: =NY7*NZ7 -> 0 | OD7: =OB7*OC7 -> 0 | OE7: =IF(NY7<>0,((OB7-NY7)/NY7),"") | OF7: =IF(NZ7<>0,((OC7-NZ7)/NZ7),"") | OG7: =IF(OA7<>0,((OD7-OA7)/OA7),"") | OJ7: =OH7*OI7 -> 0 | OM7: =OK7*OL7 -> 0 | ON7: =IF(OH7<>0,((OK7-OH7)/OH7),"") | OO7: =IF(OI7<>0,((OL7-OI7)/OI7),"") | OP7: =IF(OJ7<>0,((OM7-OJ7)/OJ7),"") | OS7: =OQ7*OR7 -> 0 | OV7: =OT7*OU7 -> 0 | OW7: =IF(OQ7<>0,((OT7-OQ7)/OQ7),"") | OX7: =IF(OR7<>0,((OU7-OR7)/OR7),"") | OY7: =IF(OS7<>0,((OV7-OS7)/OS7),"") | PB7: =OZ7*PA7 -> 0 | PE7: =PC7*PD7 -> 0 | PF7: =IF(OZ7<>0,((PC7-OZ7)/OZ7),"") | PG7: =IF(PA7<>0,((PD7-PA7)/PA7),"") | PH7: =IF(PB7<>0,((PE7-PB7)/PB7),"") | PK7: =PI7*PJ7 -> 0 | PN7: =PL7*PM7 -> 0 | PO7: =IF(PI7<>0,((PL7-PI7)/PI7),"") | PP7: =IF(PJ7<>0,((PM7-PJ7)/PJ7),"") | PQ7: =IF(PK7<>0,((PN7-PK7)/PK7),"") | PT7: =PR7*PS7 -> 0 | PW7: =PU7*PV7 -> 0 | PX7: =IF(PR7<>0,((PU7-PR7)/PR7),"") | PY7: =IF(PS7<>0,((PV7-PS7)/PS7),"") | PZ7: =IF(PT7<>0,((PW7-PT7)/PT7),"") | QC7: =QA7*QB7 -> 0 | QF7: =QD7*QE7 -> 0 | QG7: =IF(QA7<>0,((QD7-QA7)/QA7),"") | QH7: =IF(QB7<>0,((QE7-QB7)/QB7),"") | QI7: =IF(QC7<>0,((QF7-QC7)/QC7),"") | QL7: =QJ7*QK7 -> 0 | QO7: =QM7*QN7 -> 0 | QP7: =IF(QJ7<>0,((QM7-QJ7)/QJ7),"") | QQ7: =IF(QK7<>0,((QN7-QK7)/QK7),"") | QR7: =IF(QL7<>0,((QO7-QL7)/QL7),"") | QU7: =QS7*QT7 -> 0 | QX7: =QV7*QW7 -> 0 | QY7: =IF(QS7<>0,((QV7-QS7)/QS7),"") | QZ7: =IF(QT7<>0,((QW7-QT7)/QT7),"") | RA7: =IF(QU7<>0,((QX7-QU7)/QU7),"") | RD7: =RB7*RC7 -> 0 | RG7: =RE7*RF7 -> 0 | RH7: =IF(RB7<>0,((RE7-RB7)/RB7),"") | RI7: =IF(RC7<>0,((RF7-RC7)/RC7),"") | RJ7: =IF(RD7<>0,((RG7-RD7)/RD7),"") | RM7: =RK7*RL7 -> 0 | RP7: =RN7*RO7 -> 0 | RQ7: =IF(RK7<>0,((RN7-RK7)/RK7),"") | RR7: =IF(RL7<>0,((RO7-RL7)/RL7),"") | RS7: =IF(RM7<>0,((RP7-RM7)/RM7),"") | RV7: =RT7*RU7 -> 0 | RY7: =RW7*RX7 -> 0 | RZ7: =IF(RT7<>0,((RW7-RT7)/RT7),"") | SA7: =IF(RU7<>0,((RX7-RU7)/RU7),"") | SB7: =IF(RV7<>0,((RY7-RV7)/RV7),"") | SE7: =SC7*SD7 -> 0 | SH7: =SF7*SG7 -> 0 | SI7: =IF(SC7<>0,((SF7-SC7)/SC7),"") | SJ7: =IF(SD7<>0,((SG7-SD7)/SD7),"") | SK7: =IF(SE7<>0,((SH7-SE7)/SE7),"") | SN7: =SL7*SM7 -> 0 | SQ7: =SO7*SP7 -> 0 | SR7: =IF(SL7<>0,((SO7-SL7)/SL7),"") | SS7: =IF(SM7<>0,((SP7-SM7)/SM7),"") | ST7: =IF(SN7<>0,((SQ7-SN7)/SN7),"") | SW7: =SU7*SV7 -> 0 | SZ7: =SX7*SY7 -> 0 | TA7: =IF(SU7<>0,((SX7-SU7)/SU7),"") | TB7: =IF(SV7<>0,((SY7-SV7)/SV7),"") | TC7: =IF(SW7<>0,((SZ7-SW7)/SW7),"") | TF7: =TD7*TE7 -> 0 | TI7: =TG7*TH7 -> 0 | TJ7: =IF(TD7<>0,((TG7-TD7)/TD7),"") | TK7: =IF(TE7<>0,((TH7-TE7)/TE7),"") | TL7: =IF(TF7<>0,((TI7-TF7)/TF7),"") | TO7: =TM7*TN7 -> 0 | TR7: =TP7*TQ7 -> 0 | TS7: =IF(TM7<>0,((TP7-TM7)/TM7),"") | TT7: =IF(TN7<>0,((TQ7-TN7)/TN7),"") | TU7: =IF(TO7<>0,((TR7-TO7)/TO7),"") | TX7: =TV7*TW7 -> 0 | UA7: =TY7*TZ7 -> 0 | UB7: =IF(TV7<>0,((TY7-TV7)/TV7),"") | UC7: =IF(TW7<>0,((TZ7-TW7)/TW7),"") | UD7: =IF(TX7<>0,((UA7-TX7)/TX7),"") | UG7: =UE7*UF7 -> 0 | UJ7: =UH7*UI7 -> 0 | UK7: =IF(UE7<>0,((UH7-UE7)/UE7),"") | UL7: =IF(UF7<>0,((UI7-UF7)/UF7),"") | UM7: =IF(UG7<>0,((UJ7-UG7)/UG7),"") | UP7: =UN7*UO7 -> 0 | US7: =UQ7*UR7 -> 0 | UT7: =IF(UN7<>0,((UQ7-UN7)/UN7),"") | UU7: =IF(UO7<>0,((UR7-UO7)/UO7),"") | UV7: =IF(UP7<>0,((US7-UP7)/UP7),"") | UY7: =UW7*UX7 -> 0 | VB7: =UZ7*VA7 -> 0 | VC7: =IF(UW7<>0,((UZ7-UW7)/UW7),"") | VD7: =IF(UX7<>0,((VA7-UX7)/UX7),"") | VE7: =IF(UY7<>0,((VB7-UY7)/UY7),"") | VH7: =VF7*VG7 -> 0 | VK7: =VI7*VJ7 -> 0 | VL7: =IF(VF7<>0,((VI7-VF7)/VF7),"") | VM7: =IF(VG7<>0,((VJ7-VG7)/VG7),"") | VN7: =IF(VH7<>0,((VK7-VH7)/VH7),"") | VQ7: =VO7*VP7 -> 0 | VT7: =VR7*VS7 -> 0 | VU7: =IF(VO7<>0,((VR7-VO7)/VO7),"") | VV7: =IF(VP7<>0,((VS7-VP7)/VP7),"") | VW7: =IF(VQ7<>0,((VT7-VQ7)/VQ7),"") | VZ7: =VX7*VY7 -> 0 | WC7: =WA7*WB7 -> 0 | WD7: =IF(VX7<>0,((WA7-VX7)/VX7),"") | WE7: =IF(VY7<>0,((WB7-VY7)/VY7),"") | WF7: =IF(VZ7<>0,((WC7-VZ7)/VZ7),"") | WI7: =WG7*WH7 -> 0 | WL7: =WJ7*WK7 -> 0 | WM7: =IF(WG7<>0,((WJ7-WG7)/WG7),"") | WN7: =IF(WH7<>0,((WK7-WH7)/WH7),"") | WO7: =IF(WI7<>0,((WL7-WI7)/WI7),"") | WR7: =WP7*WQ7 -> 0 | WU7: =WS7*WT7 -> 0 | WV7: =IF(WP7<>0,((WS7-WP7)/WP7),"") | WW7: =IF(WQ7<>0,((WT7-WQ7)/WQ7),"") | WX7: =IF(WR7<>0,((WU7-WR7)/WR7),"") | XA7: =WY7*WZ7 -> 0 | XD7: =XB7*XC7 -> 0 | XE7: =IF(WY7<>0,((XB7-WY7)/WY7),"") | XF7: =IF(WZ7<>0,((XC7-WZ7)/WZ7),"") | XG7: =IF(XA7<>0,((XD7-XA7)/XA7),"") | XJ7: =XH7*XI7 -> 0 | XM7: =XK7*XL7 -> 0 | XN7: =IF(XH7<>0,((XK7-XH7)/XH7),"") | XO7: =IF(XI7<>0,((XL7-XI7)/XI7),"") | XP7: =IF(XJ7<>0,((XM7-XJ7)/XJ7),"") | XS7: =XQ7*XR7 -> 0 | XV7: =XT7*XU7 -> 0 | XW7: =IF(XQ7<>0,((XT7-XQ7)/XQ7),"") | XX7: =IF(XR7<>0,((XU7-XR7)/XR7),"") | XY7: =IF(XS7<>0,((XV7-XS7)/XS7),"") | YB7: =XZ7*YA7 -> 0 | YE7: =YC7*YD7 -> 0 | YF7: =IF(XZ7<>0,((YC7-XZ7)/XZ7),"") | YG7: =IF(YA7<>0,((YD7-YA7)/YA7),"") | YH7: =IF(YB7<>0,((YE7-YB7)/YB7),"") | YK7: =YI7*YJ7 -> 0 | YN7: =YL7*YM7 -> 0 | YO7: =IF(YI7<>0,((YL7-YI7)/YI7),"") | YP7: =IF(YJ7<>0,((YM7-YJ7)/YJ7),"") | YQ7: =IF(YK7<>0,((YN7-YK7)/YK7),"") | YT7: =YR7*YS7 -> 0 | YW7: =YU7*YV7 -> 0 | YX7: =IF(YR7<>0,((YU7-YR7)/YR7),"") | YY7: =IF(YS7<>0,((YV7-YS7)/YS7),"") | YZ7: =IF(YT7<>0,((YW7-YT7)/YT7),"") | ZC7: =ZA7*ZB7 -> 0 | ZF7: =ZD7*ZE7 -> 0 | ZG7: =IF(ZA7<>0,((ZD7-ZA7)/ZA7),"") | ZH7: =IF(ZB7<>0,((ZE7-ZB7)/ZB7),"") | ZI7: =IF(ZC7<>0,((ZF7-ZC7)/ZC7),"")
A8: x | B8: f | C8: x | D8: x | E8: =SUMIF($2:$2,"Achat 2013",8:8) -> 552 | F8: =SUMIF($2:$2,"TOTAL 2013",8:8) -> 46782 | G8: =SUMIF($2:$2,"Achat 2014",8:8) -> 0 | H8: =SUMIF($2:$2,"TOTAL 2014",8:8) -> 0 | I8: =IF(E8<>0,((G8-E8)/E8),"") -> -1 | J8: =IF(F8<>0,((H8-F8)/F8),"") -> -1 | M8: =K8*L8 -> 0 | P8: =N8*O8 -> 0 | Q8: =IF(K8<>0,((N8-K8)/K8),"") | R8: =IF(L8<>0,((O8-L8)/L8),"") | S8: =IF(M8<>0,((P8-M8)/M8),"") | V8: =T8*U8 -> 0 | Y8: =W8*X8 -> 0 | Z8: =IF(T8<>0,((W8-T8)/T8),"") | AA8: =IF(U8<>0,((X8-U8)/U8),"") | AB8: =IF(V8<>0,((Y8-V8)/V8),"") | AE8: =AC8*AD8 -> 0 | AH8: =AF8*AG8 -> 0 | AI8: =IF(AC8<>0,((AF8-AC8)/AC8),"") | AJ8: =IF(AD8<>0,((AG8-AD8)/AD8),"") | AK8: =IF(AE8<>0,((AH8-AE8)/AE8),"") | AN8: =AL8*AM8 -> 0 | AQ8: =AO8*AP8 -> 0 | AR8: =IF(AL8<>0,((AO8-AL8)/AL8),"") | AS8: =IF(AM8<>0,((AP8-AM8)/AM8),"") | AT8: =IF(AN8<>0,((AQ8-AN8)/AN8),"") | AU8: 60 | AV8: 14.5 | AW8: =AU8*AV8 -> 870 | AZ8: =AX8*AY8 -> 0 | BA8: =IF(AU8<>0,((AX8-AU8)/AU8),"") -> -1 | BB8: =IF(AV8<>0,((AY8-AV8)/AV8),"") -> -1 | BC8: =IF(AW8<>0,((AZ8-AW8)/AW8),"") -> -1 | BD8: 30 | BE8: 90 | BF8: =BD8*BE8 -> 2700 | BI8: =BG8*BH8 -> 0 | BJ8: =IF(BD8<>0,((BG8-BD8)/BD8),"") -> -1 | BK8: =IF(BE8<>0,((BH8-BE8)/BE8),"") -> -1 | BL8: =IF(BF8<>0,((BI8-BF8)/BF8),"") -> -1 | BO8: =BM8*BN8 -> 0 | BR8: =BP8*BQ8 -> 0 | BS8: =IF(BM8<>0,((BP8-BM8)/BM8),"") | BT8: =IF(BN8<>0,((BQ8-BN8)/BN8),"") | BU8: =IF(BO8<>0,((BR8-BO8)/BO8),"") | BX8: =BV8*BW8 -> 0 | CA8: =BY8*BZ8 -> 0 | CB8: =IF(BV8<>0,((BY8-BV8)/BV8),"") | CC8: =IF(BW8<>0,((BZ8-BW8)/BW8),"") | CD8: =IF(BX8<>0,((CA8-BX8)/BX8),"") | CG8: =CE8*CF8 -> 0 | CJ8: =CH8*CI8 -> 0 | CK8: =IF(CE8<>0,((CH8-CE8)/CE8),"") | CL8: =IF(CF8<>0,((CI8-CF8)/CF8),"") | CM8: =IF(CG8<>0,((CJ8-CG8)/CG8),"") | CP8: =CN8*CO8 -> 0 | CS8: =CQ8*CR8 -> 0 | CT8: =IF(CN8<>0,((CQ8-CN8)/CN8),"") | CU8: =IF(CO8<>0,((CR8-CO8)/CO8),"") | CV8: =IF(CP8<>0,((CS8-CP8)/CP8),"") | CY8: =CW8*CX8 -> 0 | DB8: =CZ8*DA8 -> 0 | DC8: =IF(CW8<>0,((CZ8-CW8)/CW8),"") | DD8: =IF(CX8<>0,((DA8-CX8)/CX8),"") | DE8: =IF(CY8<>0,((DB8-CY8)/CY8),"") | DH8: =DF8*DG8 -> 0 | DK8: =DI8*DJ8 -> 0 | DL8: =IF(DF8<>0,((DI8-DF8)/DF8),"") | DM8: =IF(DG8<>0,((DJ8-DG8)/DG8),"") | DN8: =IF(DH8<>0,((DK8-DH8)/DH8),"") | DQ8: =DO8*DP8 -> 0 | DT8: =DR8*DS8 -> 0 | DU8: =IF(DO8<>0,((DR8-DO8)/DO8),"") | DV8: =IF(DP8<>0,((DS8-DP8)/DP8),"") | DW8: =IF(DQ8<>0,((DT8-DQ8)/DQ8),"") | DZ8: =DX8*DY8 -> 0 | EC8: =EA8*EB8 -> 0 | ED8: =IF(DX8<>0,((EA8-DX8)/DX8),"") | EE8: =IF(DY8<>0,((EB8-DY8)/DY8),"") | EF8: =IF(DZ8<>0,((EC8-DZ8)/DZ8),"") | EI8: =EG8*EH8 -> 0 | EL8: =EJ8*EK8 -> 0 | EM8: =IF(EG8<>0,((EJ8-EG8)/EG8),"") | EN8: =IF(EH8<>0,((EK8-EH8)/EH8),"") | EO8: =IF(EI8<>0,((EL8-EI8)/EI8),"") | ER8: =EP8*EQ8 -> 0 | EU8: =ES8*ET8 -> 0 | EV8: =IF(EP8<>0,((ES8-EP8)/EP8),"") | EW8: =IF(EQ8<>0,((ET8-EQ8)/EQ8),"") | EX8: =IF(ER8<>0,((EU8-ER8)/ER8),"") | FA8: =EY8*EZ8 -> 0 | FD8: =FB8*FC8 -> 0 | FE8: =IF(EY8<>0,((FB8-EY8)/EY8),"") | FF8: =IF(EZ8<>0,((FC8-EZ8)/EZ8),"") | FG8: =IF(FA8<>0,((FD8-FA8)/FA8),"") | FJ8: =FH8*FI8 -> 0 | FM8: =FK8*FL8 -> 0 | FN8: =IF(FH8<>0,((FK8-FH8)/FH8),"") | FO8: =IF(FI8<>0,((FL8-FI8)/FI8),"") | FP8: =IF(FJ8<>0,((FM8-FJ8)/FJ8),"") | FS8: =FQ8*FR8 -> 0 | FV8: =FT8*FU8 -> 0 | FW8: =IF(FQ8<>0,((FT8-FQ8)/FQ8),"") | FX8: =IF(FR8<>0,((FU8-FR8)/FR8),"") | FY8: =IF(FS8<>0,((FV8-FS8)/FS8),"") | FZ8: 60 | GA8: 39 | GB8: =FZ8*GA8 -> 2340 | GE8: =GC8*GD8 -> 0 | GF8: =IF(FZ8<>0,((GC8-FZ8)/FZ8),"") -> -1 | GG8: =IF(GA8<>0,((GD8-GA8)/GA8),"") -> -1 | GH8: =IF(GB8<>0,((GE8-GB8)/GB8),"") -> -1 | GK8: =GI8*GJ8 -> 0 | GN8: =GL8*GM8 -> 0 | GO8: =IF(GI8<>0,((GL8-GI8)/GI8),"") | GP8: =IF(GJ8<>0,((GM8-GJ8)/GJ8),"") | GQ8: =IF(GK8<>0,((GN8-GK8)/GK8),"") | GT8: =GR8*GS8 -> 0 | GW8: =GU8*GV8 -> 0 | GX8: =IF(GR8<>0,((GU8-GR8)/GR8),"") | GY8: =IF(GS8<>0,((GV8-GS8)/GS8),"") | GZ8: =IF(GT8<>0,((GW8-GT8)/GT8),"") | HC8: =HA8*HB8 -> 0 | HF8: =HD8*HE8 -> 0 | HG8: =IF(HA8<>0,((HD8-HA8)/HA8),"") | HH8: =IF(HB8<>0,((HE8-HB8)/HB8),"") | HI8: =IF(HC8<>0,((HF8-HC8)/HC8),"") | HL8: =HJ8*HK8 -> 0 | HO8: =HM8*HN8 -> 0 | HP8: =IF(HJ8<>0,((HM8-HJ8)/HJ8),"") | HQ8: =IF(HK8<>0,((HN8-HK8)/HK8),"") | HR8: =IF(HL8<>0,((HO8-HL8)/HL8),"") | HU8: =HS8*HT8 -> 0 | HX8: =HV8*HW8 -> 0 | HY8: =IF(HS8<>0,((HV8-HS8)/HS8),"") | HZ8: =IF(HT8<>0,((HW8-HT8)/HT8),"") | IA8: =IF(HU8<>0,((HX8-HU8)/HU8),"") | IB8: 30 | IC8: 48 | ID8: =IB8*IC8 -> 1440 | IG8: =IE8*IF8 -> 0 | IH8: =IF(IB8<>0,((IE8-IB8)/IB8),"") -> -1 | II8: =IF(IC8<>0,((IF8-IC8)/IC8),"") -> -1 | IJ8: =IF(ID8<>0,((IG8-ID8)/ID8),"") -> -1 | IM8: =IK8*IL8 -> 0 | IP8: =IN8*IO8 -> 0 | IQ8: =IF(IK8<>0,((IN8-IK8)/IK8),"") | IR8: =IF(IL8<>0,((IO8-IL8)/IL8),"") | IS8: =IF(IM8<>0,((IP8-IM8)/IM8),"") | IV8: =IT8*IU8 -> 0 | IY8: =IW8*IX8 -> 0 | IZ8: =IF(IT8<>0,((IW8-IT8)/IT8),"") | JA8: =IF(IU8<>0,((IX8-IU8)/IU8),"") | JB8: =IF(IV8<>0,((IY8-IV8)/IV8),"") | JE8: =JC8*JD8 -> 0 | JH8: =JF8*JG8 -> 0 | JI8: =IF(JC8<>0,((JF8-JC8)/JC8),"") | JJ8: =IF(JD8<>0,((JG8-JD8)/JD8),"") | JK8: =IF(JE8<>0,((JH8-JE8)/JE8),"") | JN8: =JL8*JM8 -> 0 | JQ8: =JO8*JP8 -> 0 | JR8: =IF(JL8<>0,((JO8-JL8)/JL8),"") | JS8: =IF(JM8<>0,((JP8-JM8)/JM8),"") | JT8: =IF(JN8<>0,((JQ8-JN8)/JN8),"") | JW8: =JU8*JV8 -> 0 | JZ8: =JX8*JY8 -> 0 | KA8: =IF(JU8<>0,((JX8-JU8)/JU8),"") | KB8: =IF(JV8<>0,((JY8-JV8)/JV8),"") | KC8: =IF(JW8<>0,((JZ8-JW8)/JW8),"") | KF8: =KD8*KE8 -> 0 | KI8: =KG8*KH8 -> 0 | KJ8: =IF(KD8<>0,((KG8-KD8)/KD8),"") | KK8: =IF(KE8<>0,((KH8-KE8)/KE8),"") | KL8: =IF(KF8<>0,((KI8-KF8)/KF8),"") | KO8: =KM8*KN8 -> 0 | KR8: =KP8*KQ8 -> 0 | KS8: =IF(KM8<>0,((KP8-KM8)/KM8),"") | KT8: =IF(KN8<>0,((KQ8-KN8)/KN8),"") | KU8: =IF(KO8<>0,((KR8-KO8)/KO8),"") | KX8: =KV8*KW8 -> 0 | LA8: =KY8*KZ8 -> 0 | LB8: =IF(KV8<>0,((KY8-KV8)/KV8),"") | LC8: =IF(KW8<>0,((KZ8-KW8)/KW8),"") | LD8: =IF(KX8<>0,((LA8-KX8)/KX8),"") | LG8: =LE8*LF8 -> 0 | LJ8: =LH8*LI8 -> 0 | LK8: =IF(LE8<>0,((LH8-LE8)/LE8),"") | LL8: =IF(LF8<>0,((LI8-LF8)/LF8),"") | LM8: =IF(LG8<>0,((LJ8-LG8)/LG8),"") | LP8: =LN8*LO8 -> 0 | LS8: =LQ8*LR8 -> 0 | LT8: =IF(LN8<>0,((LQ8-LN8)/LN8),"") | LU8: =IF(LO8<>0,((LR8-LO8)/LO8),"") | LV8: =IF(LP8<>0,((LS8-LP8)/LP8),"") | LW8: 60 | LX8: 288 | LY8: =LW8*LX8 -> 17280 | MB8: =LZ8*MA8 -> 0 | MC8: =IF(LW8<>0,((LZ8-LW8)/LW8),"") -> -1 | MD8: =IF(LX8<>0,((MA8-LX8)/LX8),"") -> -1 | ME8: =IF(LY8<>0,((MB8-LY8)/LY8),"") -> -1 | MH8: =MF8*MG8 -> 0 | MK8: =MI8*MJ8 -> 0 | ML8: =IF(MF8<>0,((MI8-MF8)/MF8),"") | MM8: =IF(MG8<>0,((MJ8-MG8)/MG8),"") | MN8: =IF(MH8<>0,((MK8-MH8)/MH8),"") | MQ8: =MO8*MP8 -> 0 | MT8: =MR8*MS8 -> 0 | MU8: =IF(MO8<>0,((MR8-MO8)/MO8),"") | MV8: =IF(MP8<>0,((MS8-MP8)/MP8),"") | MW8: =IF(MQ8<>0,((MT8-MQ8)/MQ8),"") | MZ8: =MX8*MY8 -> 0 | NC8: =NA8*NB8 -> 0 | ND8: =IF(MX8<>0,((NA8-MX8)/MX8),"") | NE8: =IF(MY8<>0,((NB8-MY8)/MY8),"") | NF8: =IF(MZ8<>0,((NC8-MZ8)/MZ8),"") | NI8: =NG8*NH8 -> 0 | NL8: =NJ8*NK8 -> 0 | NM8: =IF(NG8<>0,((NJ8-NG8)/NG8),"") | NN8: =IF(NH8<>0,((NK8-NH8)/NH8),"") | NO8: =IF(NI8<>0,((NL8-NI8)/NI8),"") | NR8: =NP8*NQ8 -> 0 | NU8: =NS8*NT8 -> 0 | NV8: =IF(NP8<>0,((NS8-NP8)/NP8),"") | NW8: =IF(NQ8<>0,((NT8-NQ8)/NQ8),"") | NX8: =IF(NR8<>0,((NU8-NR8)/NR8),"") | OA8: =NY8*NZ8 -> 0 | OD8: =OB8*OC8 -> 0 | OE8: =IF(NY8<>0,((OB8-NY8)/NY8),"") | OF8: =IF(NZ8<>0,((OC8-NZ8)/NZ8),"") | OG8: =IF(OA8<>0,((OD8-OA8)/OA8),"") | OH8: 60 | OI8: 50 | OJ8: =OH8*OI8 -> 3000 | OM8: =OK8*OL8 -> 0 | ON8: =IF(OH8<>0,((OK8-OH8)/OH8),"") -> -1 | OO8: =IF(OI8<>0,((OL8-OI8)/OI8),"") -> -1 | OP8: =IF(OJ8<>0,((OM8-OJ8)/OJ8),"") -> -1 | OS8: =OQ8*OR8 -> 0 | OV8: =OT8*OU8 -> 0 | OW8: =IF(OQ8<>0,((OT8-OQ8)/OQ8),"") | OX8: =IF(OR8<>0,((OU8-OR8)/OR8),"") | OY8: =IF(OS8<>0,((OV8-OS8)/OS8),"") | OZ8: 24 | PA8: 215 | PB8: =OZ8*PA8 -> 5160 | PE8: =PC8*PD8 -> 0 | PF8: =IF(OZ8<>0,((PC8-OZ8)/OZ8),"") -> -1 | PG8: =IF(PA8<>0,((PD8-PA8)/PA8),"") -> -1 | PH8: =IF(PB8<>0,((PE8-PB8)/PB8),"") -> -1 | PK8: =PI8*PJ8 -> 0 | PN8: =PL8*PM8 -> 0 | PO8: =IF(PI8<>0,((PL8-PI8)/PI8),"") | PP8: =IF(PJ8<>0,((PM8-PJ8)/PJ8),"") | PQ8: =IF(PK8<>0,((PN8-PK8)/PK8),"") | PT8: =PR8*PS8 -> 0 | PW8: =PU8*PV8 -> 0 | PX8: =IF(PR8<>0,((PU8-PR8)/PR8),"") | PY8: =IF(PS8<>0,((PV8-PS8)/PS8),"") | PZ8: =IF(PT8<>0,((PW8-PT8)/PT8),"") | QC8: =QA8*QB8 -> 0 | QF8: =QD8*QE8 -> 0 | QG8: =IF(QA8<>0,((QD8-QA8)/QA8),"") | QH8: =IF(QB8<>0,((QE8-QB8)/QB8),"") | QI8: =IF(QC8<>0,((QF8-QC8)/QC8),"") | QL8: =QJ8*QK8 -> 0 | QO8: =QM8*QN8 -> 0 | QP8: =IF(QJ8<>0,((QM8-QJ8)/QJ8),"") | QQ8: =IF(QK8<>0,((QN8-QK8)/QK8),"") | QR8: =IF(QL8<>0,((QO8-QL8)/QL8),"") | QU8: =QS8*QT8 -> 0 | QX8: =QV8*QW8 -> 0 | QY8: =IF(QS8<>0,((QV8-QS8)/QS8),"") | QZ8: =IF(QT8<>0,((QW8-QT8)/QT8),"") | RA8: =IF(QU8<>0,((QX8-QU8)/QU8),"") | RD8: =RB8*RC8 -> 0 | RG8: =RE8*RF8 -> 0 | RH8: =IF(RB8<>0,((RE8-RB8)/RB8),"") | RI8: =IF(RC8<>0,((RF8-RC8)/RC8),"") | RJ8: =IF(RD8<>0,((RG8-RD8)/RD8),"") | RM8: =RK8*RL8 -> 0 | RP8: =RN8*RO8 -> 0 | RQ8: =IF(RK8<>0,((RN8-RK8)/RK8),"") | RR8: =IF(RL8<>0,((RO8-RL8)/RL8),"") | RS8: =IF(RM8<>0,((RP8-RM8)/RM8),"") | RV8: =RT8*RU8 -> 0 | RY8: =RW8*RX8 -> 0 | RZ8: =IF(RT8<>0,((RW8-RT8)/RT8),"") | SA8: =IF(RU8<>0,((RX8-RU8)/RU8),"") | SB8: =IF(RV8<>0,((RY8-RV8)/RV8),"") | SE8: =SC8*SD8 -> 0 | SH8: =SF8*SG8 -> 0 | SI8: =IF(SC8<>0,((SF8-SC8)/SC8),"") | SJ8: =IF(SD8<>0,((SG8-SD8)/SD8),"") | SK8: =IF(SE8<>0,((SH8-SE8)/SE8),"") | SN8: =SL8*SM8 -> 0 | SQ8: =SO8*SP8 -> 0 | SR8: =IF(SL8<>0,((SO8-SL8)/SL8),"") | SS8: =IF(SM8<>0,((SP8-SM8)/SM8),"") | ST8: =IF(SN8<>0,((SQ8-SN8)/SN8),"") | SW8: =SU8*SV8 -> 0 | SZ8: =SX8*SY8 -> 0 | TA8: =IF(SU8<>0,((SX8-SU8)/SU8),"") | TB8: =IF(SV8<>0,((SY8-SV8)/SV8),"") | TC8: =IF(SW8<>0,((SZ8-SW8)/SW8),"") | TD8: 60 | TE8: 60 | TF8: =TD8*TE8 -> 3600 | TI8: =TG8*TH8 -> 0 | TJ8: =IF(TD8<>0,((TG8-TD8)/TD8),"") -> -1 | TK8: =IF(TE8<>0,((TH8-TE8)/TE8),"") -> -1 | TL8: =IF(TF8<>0,((TI8-TF8)/TF8),"") -> -1 | TO8: =TM8*TN8 -> 0 | TR8: =TP8*TQ8 -> 0 | TS8: =IF(TM8<>0,((TP8-TM8)/TM8),"") | TT8: =IF(TN8<>0,((TQ8-TN8)/TN8),"") | TU8: =IF(TO8<>0,((TR8-TO8)/TO8),"") | TV8: 24 | TW8: 48 | TX8: =TV8*TW8 -> 1152 | UA8: =TY8*TZ8 -> 0 | UB8: =IF(TV8<>0,((TY8-TV8)/TV8),"") -> -1 | UC8: =IF(TW8<>0,((TZ8-TW8)/TW8),"") -> -1 | UD8: =IF(TX8<>0,((UA8-TX8)/TX8),"") -> -1 | UE8: 24 | UF8: 55 | UG8: =UE8*UF8 -> 1320 | UJ8: =UH8*UI8 -> 0 | UK8: =IF(UE8<>0,((UH8-UE8)/UE8),"") -> -1 | UL8: =IF(UF8<>0,((UI8-UF8)/UF8),"") -> -1 | UM8: =IF(UG8<>0,((UJ8-UG8)/UG8),"") -> -1 | UP8: =UN8*UO8 -> 0 | US8: =UQ8*UR8 -> 0 | UT8: =IF(UN8<>0,((UQ8-UN8)/UN8),"") | UU8: =IF(UO8<>0,((UR8-UO8)/UO8),"") | UV8: =IF(UP8<>0,((US8-UP8)/UP8),"") | UY8: =UW8*UX8 -> 0 | VB8: =UZ8*VA8 -> 0 | VC8: =IF(UW8<>0,((UZ8-UW8)/UW8),"") | VD8: =IF(UX8<>0,((VA8-UX8)/UX8),"") | VE8: =IF(UY8<>0,((VB8-UY8)/UY8),"") | VH8: =VF8*VG8 -> 0 | VK8: =VI8*VJ8 -> 0 | VL8: =IF(VF8<>0,((VI8-VF8)/VF8),"") | VM8: =IF(VG8<>0,((VJ8-VG8)/VG8),"") | VN8: =IF(VH8<>0,((VK8-VH8)/VH8),"") | VQ8: =VO8*VP8 -> 0 | VT8: =VR8*VS8 -> 0 | VU8: =IF(VO8<>0,((VR8-VO8)/VO8),"") | VV8: =IF(VP8<>0,((VS8-VP8)/VP8),"") | VW8: =IF(VQ8<>0,((VT8-VQ8)/VQ8),"") | VZ8: =VX8*VY8 -> 0 | WC8: =WA8*WB8 -> 0 | WD8: =IF(VX8<>0,((WA8-VX8)/VX8),"") | WE8: =IF(VY8<>0,((WB8-VY8)/VY8),"") | WF8: =IF(VZ8<>0,((WC8-VZ8)/VZ8),"") | WI8: =WG8*WH8 -> 0 | WL8: =WJ8*WK8 -> 0 | WM8: =IF(WG8<>0,((WJ8-WG8)/WG8),"") | WN8: =IF(WH8<>0,((WK8-WH8)/WH8),"") | WO8: =IF(WI8<>0,((WL8-WI8)/WI8),"") | WR8: =WP8*WQ8 -> 0 | WU8: =WS8*WT8 -> 0 | WV8: =IF(WP8<>0,((WS8-WP8)/WP8),"") | WW8: =IF(WQ8<>0,((WT8-WQ8)/WQ8),"") | WX8: =IF(WR8<>0,((WU8-WR8)/WR8),"") | WY8: 120 | WZ8: 66 | XA8: =WY8*WZ8 -> 7920 | XD8: =XB8*XC8 -> 0 | XE8: =IF(WY8<>0,((XB8-WY8)/WY8),"") -> -1 | XF8: =IF(WZ8<>0,((XC8-WZ8)/WZ8),"") -> -1 | XG8: =IF(XA8<>0,((XD8-XA8)/XA8),"") -> -1 | XJ8: =XH8*XI8 -> 0 | XM8: =XK8*XL8 -> 0 | XN8: =IF(XH8<>0,((XK8-XH8)/XH8),"") | XO8: =IF(XI8<>0,((XL8-XI8)/XI8),"") | XP8: =IF(XJ8<>0,((XM8-XJ8)/XJ8),"") | XS8: =XQ8*XR8 -> 0 | XV8: =XT8*XU8 -> 0 | XW8: =IF(XQ8<>0,((XT8-XQ8)/XQ8),"") | XX8: =IF(XR8<>0,((XU8-XR8)/XR8),"") | XY8: =IF(XS8<>0,((XV8-XS8)/XS8),"") | YB8: =XZ8*YA8 -> 0 | YE8: =YC8*YD8 -> 0 | YF8: =IF(XZ8<>0,((YC8-XZ8)/XZ8),"") | YG8: =IF(YA8<>0,((YD8-YA8)/YA8),"") | YH8: =IF(YB8<>0,((YE8-YB8)/YB8),"") | YK8: =YI8*YJ8 -> 0 | YN8: =YL8*YM8 -> 0 | YO8: =IF(YI8<>0,((YL8-YI8)/YI8),"") | YP8: =IF(YJ8<>0,((YM8-YJ8)/YJ8),"") | YQ8: =IF(YK8<>0,((YN8-YK8)/YK8),"") | YT8: =YR8*YS8 -> 0 | YW8: =YU8*YV8 -> 0 | YX8: =IF(YR8<>0,((YU8-YR8)/YR8),"") | YY8: =IF(YS8<>0,((YV8-YS8)/YS8),"") | YZ8: =IF(YT8<>0,((YW8-YT8)/YT8),"") | ZC8: =ZA8*ZB8 -> 0 | ZF8: =ZD8*ZE8 -> 0 | ZG8: =IF(ZA8<>0,((ZD8-ZA8)/ZA8),"") | ZH8: =IF(ZB8<>0,((ZE8-ZB8)/ZB8),"") | ZI8: =IF(ZC8<>0,((ZF8-ZC8)/ZC8),"")
A9: x | B9: g | C9: x | D9: x | E9: =SUMIF($2:$2,"Achat 2013",9:9) -> 0 | F9: =SUMIF($2:$2,"TOTAL 2013",9:9) -> 0 | G9: =SUMIF($2:$2,"Achat 2014",9:9) -> 0 | H9: =SUMIF($2:$2,"TOTAL 2014",9:9) -> 0 | I9: =IF(E9<>0,((G9-E9)/E9),"") | J9: =IF(F9<>0,((H9-F9)/F9),"") | M9: =K9*L9 -> 0 | P9: =N9*O9 -> 0 | Q9: =IF(K9<>0,((N9-K9)/K9),"") | R9: =IF(L9<>0,((O9-L9)/L9),"") | S9: =IF(M9<>0,((P9-M9)/M9),"") | V9: =T9*U9 -> 0 | Y9: =W9*X9 -> 0 | Z9: =IF(T9<>0,((W9-T9)/T9),"") | AA9: =IF(U9<>0,((X9-U9)/U9),"") | AB9: =IF(V9<>0,((Y9-V9)/V9),"") | AE9: =AC9*AD9 -> 0 | AH9: =AF9*AG9 -> 0 | AI9: =IF(AC9<>0,((AF9-AC9)/AC9),"") | AJ9: =IF(AD9<>0,((AG9-AD9)/AD9),"") | AK9: =IF(AE9<>0,((AH9-AE9)/AE9),"") | AN9: =AL9*AM9 -> 0 | AQ9: =AO9*AP9 -> 0 | AR9: =IF(AL9<>0,((AO9-AL9)/AL9),"") | AS9: =IF(AM9<>0,((AP9-AM9)/AM9),"") | AT9: =IF(AN9<>0,((AQ9-AN9)/AN9),"") | AW9: =AU9*AV9 -> 0 | AZ9: =AX9*AY9 -> 0 | BA9: =IF(AU9<>0,((AX9-AU9)/AU9),"") | BB9: =IF(AV9<>0,((AY9-AV9)/AV9),"") | BC9: =IF(AW9<>0,((AZ9-AW9)/AW9),"") | BF9: =BD9*BE9 -> 0 | BI9: =BG9*BH9 -> 0 | BJ9: =IF(BD9<>0,((BG9-BD9)/BD9),"") | BK9: =IF(BE9<>0,((BH9-BE9)/BE9),"") | BL9: =IF(BF9<>0,((BI9-BF9)/BF9),"") | BO9: =BM9*BN9 -> 0 | BR9: =BP9*BQ9 -> 0 | BS9: =IF(BM9<>0,((BP9-BM9)/BM9),"") | BT9: =IF(BN9<>0,((BQ9-BN9)/BN9),"") | BU9: =IF(BO9<>0,((BR9-BO9)/BO9),"") | BX9: =BV9*BW9 -> 0 | CA9: =BY9*BZ9 -> 0 | CB9: =IF(BV9<>0,((BY9-BV9)/BV9),"") | CC9: =IF(BW9<>0,((BZ9-BW9)/BW9),"") | CD9: =IF(BX9<>0,((CA9-BX9)/BX9),"") | CG9: =CE9*CF9 -> 0 | CJ9: =CH9*CI9 -> 0 | CK9: =IF(CE9<>0,((CH9-CE9)/CE9),"") | CL9: =IF(CF9<>0,((CI9-CF9)/CF9),"") | CM9: =IF(CG9<>0,((CJ9-CG9)/CG9),"") | CP9: =CN9*CO9 -> 0 | CS9: =CQ9*CR9 -> 0 | CT9: =IF(CN9<>0,((CQ9-CN9)/CN9),"") | CU9: =IF(CO9<>0,((CR9-CO9)/CO9),"") | CV9: =IF(CP9<>0,((CS9-CP9)/CP9),"") | CY9: =CW9*CX9 -> 0 | DB9: =CZ9*DA9 -> 0 | DC9: =IF(CW9<>0,((CZ9-CW9)/CW9),"") | DD9: =IF(CX9<>0,((DA9-CX9)/CX9),"") | DE9: =IF(CY9<>0,((DB9-CY9)/CY9),"") | DH9: =DF9*DG9 -> 0 | DK9: =DI9*DJ9 -> 0 | DL9: =IF(DF9<>0,((DI9-DF9)/DF9),"") | DM9: =IF(DG9<>0,((DJ9-DG9)/DG9),"") | DN9: =IF(DH9<>0,((DK9-DH9)/DH9),"") | DQ9: =DO9*DP9 -> 0 | DT9: =DR9*DS9 -> 0 | DU9: =IF(DO9<>0,((DR9-DO9)/DO9),"") | DV9: =IF(DP9<>0,((DS9-DP9)/DP9),"") | DW9: =IF(DQ9<>0,((DT9-DQ9)/DQ9),"") | DZ9: =DX9*DY9 -> 0 | EC9: =EA9*EB9 -> 0 | ED9: =IF(DX9<>0,((EA9-DX9)/DX9),"") | EE9: =IF(DY9<>0,((EB9-DY9)/DY9),"") | EF9: =IF(DZ9<>0,((EC9-DZ9)/DZ9),"") | EI9: =EG9*EH9 -> 0 | EL9: =EJ9*EK9 -> 0 | EM9: =IF(EG9<>0,((EJ9-EG9)/EG9),"") | EN9: =IF(EH9<>0,((EK9-EH9)/EH9),"") | EO9: =IF(EI9<>0,((EL9-EI9)/EI9),"") | ER9: =EP9*EQ9 -> 0 | EU9: =ES9*ET9 -> 0 | EV9: =IF(EP9<>0,((ES9-EP9)/EP9),"") | EW9: =IF(EQ9<>0,((ET9-EQ9)/EQ9),"") | EX9: =IF(ER9<>0,((EU9-ER9)/ER9),"") | FA9: =EY9*EZ9 -> 0 | FD9: =FB9*FC9 -> 0 | FE9: =IF(EY9<>0,((FB9-EY9)/EY9),"") | FF9: =IF(EZ9<>0,((FC9-EZ9)/EZ9),"") | FG9: =IF(FA9<>0,((FD9-FA9)/FA9),"") | FJ9: =FH9*FI9 -> 0 | FM9: =FK9*FL9 -> 0 | FN9: =IF(FH9<>0,((FK9-FH9)/FH9),"") | FO9: =IF(FI9<>0,((FL9-FI9)/FI9),"") | FP9: =IF(FJ9<>0,((FM9-FJ9)/FJ9),"") | FS9: =FQ9*FR9 -> 0 | FV9: =FT9*FU9 -> 0 | FW9: =IF(FQ9<>0,((FT9-FQ9)/FQ9),"") | FX9: =IF(FR9<>0,((FU9-FR9)/FR9),"") | FY9: =IF(FS9<>0,((FV9-FS9)/FS9),"") | GB9: =FZ9*GA9 -> 0 | GE9: =GC9*GD9 -> 0 | GF9: =IF(FZ9<>0,((GC9-FZ9)/FZ9),"") | GG9: =IF(GA9<>0,((GD9-GA9)/GA9),"") | GH9: =IF(GB9<>0,((GE9-GB9)/GB9),"") | GK9: =GI9*GJ9 -> 0 | GN9: =GL9*GM9 -> 0 | GO9: =IF(GI9<>0,((GL9-GI9)/GI9),"") | GP9: =IF(GJ9<>0,((GM9-GJ9)/GJ9),"") | GQ9: =IF(GK9<>0,((GN9-GK9)/GK9),"") | GT9: =GR9*GS9 -> 0 | GW9: =GU9*GV9 -> 0 | GX9: =IF(GR9<>0,((GU9-GR9)/GR9),"") | GY9: =IF(GS9<>0,((GV9-GS9)/GS9),"") | GZ9: =IF(GT9<>0,((GW9-GT9)/GT9),"") | HC9: =HA9*HB9 -> 0 | HF9: =HD9*HE9 -> 0 | HG9: =IF(HA9<>0,((HD9-HA9)/HA9),"") | HH9: =IF(HB9<>0,((HE9-HB9)/HB9),"") | HI9: =IF(HC9<>0,((HF9-HC9)/HC9),"") | HL9: =HJ9*HK9 -> 0 | HO9: =HM9*HN9 -> 0 | HP9: =IF(HJ9<>0,((HM9-HJ9)/HJ9),"") | HQ9: =IF(HK9<>0,((HN9-HK9)/HK9),"") | HR9: =IF(HL9<>0,((HO9-HL9)/HL9),"") | HU9: =HS9*HT9 -> 0 | HX9: =HV9*HW9 -> 0 | HY9: =IF(HS9<>0,((HV9-HS9)/HS9),"") | HZ9: =IF(HT9<>0,((HW9-HT9)/HT9),"") | IA9: =IF(HU9<>0,((HX9-HU9)/HU9),"") | ID9: =IB9*IC9 -> 0 | IG9: =IE9*IF9 -> 0 | IH9: =IF(IB9<>0,((IE9-IB9)/IB9),"") | II9: =IF(IC9<>0,((IF9-IC9)/IC9),"") | IJ9: =IF(ID9<>0,((IG9-ID9)/ID9),"") | IM9: =IK9*IL9 -> 0 | IP9: =IN9*IO9 -> 0 | IQ9: =IF(IK9<>0,((IN9-IK9)/IK9),"") | IR9: =IF(IL9<>0,((IO9-IL9)/IL9),"") | IS9: =IF(IM9<>0,((IP9-IM9)/IM9),"") | IV9: =IT9*IU9 -> 0 | IY9: =IW9*IX9 -> 0 | IZ9: =IF(IT9<>0,((IW9-IT9)/IT9),"") | JA9: =IF(IU9<>0,((IX9-IU9)/IU9),"") | JB9: =IF(IV9<>0,((IY9-IV9)/IV9),"") | JE9: =JC9*JD9 -> 0 | JH9: =JF9*JG9 -> 0 | JI9: =IF(JC9<>0,((JF9-JC9)/JC9),"") | JJ9: =IF(JD9<>0,((JG9-JD9)/JD9),"") | JK9: =IF(JE9<>0,((JH9-JE9)/JE9),"") | JN9: =JL9*JM9 -> 0 | JQ9: =JO9*JP9 -> 0 | JR9: =IF(JL9<>0,((JO9-JL9)/JL9),"") | JS9: =IF(JM9<>0,((JP9-JM9)/JM9),"") | JT9: =IF(JN9<>0,((JQ9-JN9)/JN9),"") | JW9: =JU9*JV9 -> 0 | JZ9: =JX9*JY9 -> 0 | KA9: =IF(JU9<>0,((JX9-JU9)/JU9),"") | KB9: =IF(JV9<>0,((JY9-JV9)/JV9),"") | KC9: =IF(JW9<>0,((JZ9-JW9)/JW9),"") | KF9: =KD9*KE9 -> 0 | KI9: =KG9*KH9 -> 0 | KJ9: =IF(KD9<>0,((KG9-KD9)/KD9),"") | KK9: =IF(KE9<>0,((KH9-KE9)/KE9),"") | KL9: =IF(KF9<>0,((KI9-KF9)/KF9),"") | KO9: =KM9*KN9 -> 0 | KR9: =KP9*KQ9 -> 0 | KS9: =IF(KM9<>0,((KP9-KM9)/KM9),"") | KT9: =IF(KN9<>0,((KQ9-KN9)/KN9),"") | KU9: =IF(KO9<>0,((KR9-KO9)/KO9),"") | KX9: =KV9*KW9 -> 0 | LA9: =KY9*KZ9 -> 0 | LB9: =IF(KV9<>0,((KY9-KV9)/KV9),"") | LC9: =IF(KW9<>0,((KZ9-KW9)/KW9),"") | LD9: =IF(KX9<>0,((LA9-KX9)/KX9),"") | LG9: =LE9*LF9 -> 0 | LJ9: =LH9*LI9 -> 0 | LK9: =IF(LE9<>0,((LH9-LE9)/LE9),"") | LL9: =IF(LF9<>0,((LI9-LF9)/LF9),"") | LM9: =IF(LG9<>0,((LJ9-LG9)/LG9),"") | LP9: =LN9*LO9 -> 0 | LS9: =LQ9*LR9 -> 0 | LT9: =IF(LN9<>0,((LQ9-LN9)/LN9),"") | LU9: =IF(LO9<>0,((LR9-LO9)/LO9),"") | LV9: =IF(LP9<>0,((LS9-LP9)/LP9),"") | LY9: =LW9*LX9 -> 0 | MB9: =LZ9*MA9 -> 0 | MC9: =IF(LW9<>0,((LZ9-LW9)/LW9),"") | MD9: =IF(LX9<>0,((MA9-LX9)/LX9),"") | ME9: =IF(LY9<>0,((MB9-LY9)/LY9),"") | MH9: =MF9*MG9 -> 0 | MK9: =MI9*MJ9 -> 0 | ML9: =IF(MF9<>0,((MI9-MF9)/MF9),"") | MM9: =IF(MG9<>0,((MJ9-MG9)/MG9),"") | MN9: =IF(MH9<>0,((MK9-MH9)/MH9),"") | MQ9: =MO9*MP9 -> 0 | MT9: =MR9*MS9 -> 0 | MU9: =IF(MO9<>0,((MR9-MO9)/MO9),"") | MV9: =IF(MP9<>0,((MS9-MP9)/MP9),"") | MW9: =IF(MQ9<>0,((MT9-MQ9)/MQ9),"") | MZ9: =MX9*MY9 -> 0 | NC9: =NA9*NB9 -> 0 | ND9: =IF(MX9<>0,((NA9-MX9)/MX9),"") | NE9: =IF(MY9<>0,((NB9-MY9)/MY9),"") | NF9: =IF(MZ9<>0,((NC9-MZ9)/MZ9),"") | NI9: =NG9*NH9 -> 0 | NL9: =NJ9*NK9 -> 0 | NM9: =IF(NG9<>0,((NJ9-NG9)/NG9),"") | NN9: =IF(NH9<>0,((NK9-NH9)/NH9),"") | NO9: =IF(NI9<>0,((NL9-NI9)/NI9),"") | NR9: =NP9*NQ9 -> 0 | NU9: =NS9*NT9 -> 0 | NV9: =IF(NP9<>0,((NS9-NP9)/NP9),"") | NW9: =IF(NQ9<>0,((NT9-NQ9)/NQ9),"") | NX9: =IF(NR9<>0,((NU9-NR9)/NR9),"") | OA9: =NY9*NZ9 -> 0 | OD9: =OB9*OC9 -> 0 | OE9: =IF(NY9<>0,((OB9-NY9)/NY9),"") | OF9: =IF(NZ9<>0,((OC9-NZ9)/NZ9),"") | OG9: =IF(OA9<>0,((OD9-OA9)/OA9),"") | OJ9: =OH9*OI9 -> 0 | OM9: =OK9*OL9 -> 0 | ON9: =IF(OH9<>0,((OK9-OH9)/OH9),"") | OO9: =IF(OI9<>0,((OL9-OI9)/OI9),"") | OP9: =IF(OJ9<>0,((OM9-OJ9)/OJ9),"") | OS9: =OQ9*OR9 -> 0 | OV9: =OT9*OU9 -> 0 | OW9: =IF(OQ9<>0,((OT9-OQ9)/OQ9),"") | OX9: =IF(OR9<>0,((OU9-OR9)/OR9),"") | OY9: =IF(OS9<>0,((OV9-OS9)/OS9),"") | PB9: =OZ9*PA9 -> 0 | PE9: =PC9*PD9 -> 0 | PF9: =IF(OZ9<>0,((PC9-OZ9)/OZ9),"") | PG9: =IF(PA9<>0,((PD9-PA9)/PA9),"") | PH9: =IF(PB9<>0,((PE9-PB9)/PB9),"") | PK9: =PI9*PJ9 -> 0 | PN9: =PL9*PM9 -> 0 | PO9: =IF(PI9<>0,((PL9-PI9)/PI9),"") | PP9: =IF(PJ9<>0,((PM9-PJ9)/PJ9),"") | PQ9: =IF(PK9<>0,((PN9-PK9)/PK9),"") | PT9: =PR9*PS9 -> 0 | PW9: =PU9*PV9 -> 0 | PX9: =IF(PR9<>0,((PU9-PR9)/PR9),"") | PY9: =IF(PS9<>0,((PV9-PS9)/PS9),"") | PZ9: =IF(PT9<>0,((PW9-PT9)/PT9),"") | QC9: =QA9*QB9 -> 0 | QF9: =QD9*QE9 -> 0 | QG9: =IF(QA9<>0,((QD9-QA9)/QA9),"") | QH9: =IF(QB9<>0,((QE9-QB9)/QB9),"") | QI9: =IF(QC9<>0,((QF9-QC9)/QC9),"") | QL9: =QJ9*QK9 -> 0 | QO9: =QM9*QN9 -> 0 | QP9: =IF(QJ9<>0,((QM9-QJ9)/QJ9),"") | QQ9: =IF(QK9<>0,((QN9-QK9)/QK9),"") | QR9: =IF(QL9<>0,((QO9-QL9)/QL9),"") | QU9: =QS9*QT9 -> 0 | QX9: =QV9*QW9 -> 0 | QY9: =IF(QS9<>0,((QV9-QS9)/QS9),"") | QZ9: =IF(QT9<>0,((QW9-QT9)/QT9),"") | RA9: =IF(QU9<>0,((QX9-QU9)/QU9),"") | RD9: =RB9*RC9 -> 0 | RG9: =RE9*RF9 -> 0 | RH9: =IF(RB9<>0,((RE9-RB9)/RB9),"") | RI9: =IF(RC9<>0,((RF9-RC9)/RC9),"") | RJ9: =IF(RD9<>0,((RG9-RD9)/RD9),"") | RM9: =RK9*RL9 -> 0 | RP9: =RN9*RO9 -> 0 | RQ9: =IF(RK9<>0,((RN9-RK9)/RK9),"") | RR9: =IF(RL9<>0,((RO9-RL9)/RL9),"") | RS9: =IF(RM9<>0,((RP9-RM9)/RM9),"") | RV9: =RT9*RU9 -> 0 | RY9: =RW9*RX9 -> 0 | RZ9: =IF(RT9<>0,((RW9-RT9)/RT9),"") | SA9: =IF(RU9<>0,((RX9-RU9)/RU9),"") | SB9: =IF(RV9<>0,((RY9-RV9)/RV9),"") | SE9: =SC9*SD9 -> 0 | SH9: =SF9*SG9 -> 0 | SI9: =IF(SC9<>0,((SF9-SC9)/SC9),"") | SJ9: =IF(SD9<>0,((SG9-SD9)/SD9),"") | SK9: =IF(SE9<>0,((SH9-SE9)/SE9),"") | SN9: =SL9*SM9 -> 0 | SQ9: =SO9*SP9 -> 0 | SR9: =IF(SL9<>0,((SO9-SL9)/SL9),"") | SS9: =IF(SM9<>0,((SP9-SM9)/SM9),"") | ST9: =IF(SN9<>0,((SQ9-SN9)/SN9),"") | SW9: =SU9*SV9 -> 0 | SZ9: =SX9*SY9 -> 0 | TA9: =IF(SU9<>0,((SX9-SU9)/SU9),"") | TB9: =IF(SV9<>0,((SY9-SV9)/SV9),"") | TC9: =IF(SW9<>0,((SZ9-SW9)/SW9),"") | TF9: =TD9*TE9 -> 0 | TI9: =TG9*TH9 -> 0 | TJ9: =IF(TD9<>0,((TG9-TD9)/TD9),"") | TK9: =IF(TE9<>0,((TH9-TE9)/TE9),"") | TL9: =IF(TF9<>0,((TI9-TF9)/TF9),"") | TO9: =TM9*TN9 -> 0 | TR9: =TP9*TQ9 -> 0 | TS9: =IF(TM9<>0,((TP9-TM9)/TM9),"") | TT9: =IF(TN9<>0,((TQ9-TN9)/TN9),"") | TU9: =IF(TO9<>0,((TR9-TO9)/TO9),"") | TX9: =TV9*TW9 -> 0 | UA9: =TY9*TZ9 -> 0 | UB9: =IF(TV9<>0,((TY9-TV9)/TV9),"") | UC9: =IF(TW9<>0,((TZ9-TW9)/TW9),"") | UD9: =IF(TX9<>0,((UA9-TX9)/TX9),"") | UG9: =UE9*UF9 -> 0 | UJ9: =UH9*UI9 -> 0 | UK9: =IF(UE9<>0,((UH9-UE9)/UE9),"") | UL9: =IF(UF9<>0,((UI9-UF9)/UF9),"") | UM9: =IF(UG9<>0,((UJ9-UG9)/UG9),"") | UP9: =UN9*UO9 -> 0 | US9: =UQ9*UR9 -> 0 | UT9: =IF(UN9<>0,((UQ9-UN9)/UN9),"") | UU9: =IF(UO9<>0,((UR9-UO9)/UO9),"") | UV9: =IF(UP9<>0,((US9-UP9)/UP9),"") | UY9: =UW9*UX9 -> 0 | VB9: =UZ9*VA9 -> 0 | VC9: =IF(UW9<>0,((UZ9-UW9)/UW9),"") | VD9: =IF(UX9<>0,((VA9-UX9)/UX9),"") | VE9: =IF(UY9<>0,((VB9-UY9)/UY9),"") | VH9: =VF9*VG9 -> 0 | VK9: =VI9*VJ9 -> 0 | VL9: =IF(VF9<>0,((VI9-VF9)/VF9),"") | VM9: =IF(VG9<>0,((VJ9-VG9)/VG9),"") | VN9: =IF(VH9<>0,((VK9-VH9)/VH9),"") | VQ9: =VO9*VP9 -> 0 | VT9: =VR9*VS9 -> 0 | VU9: =IF(VO9<>0,((VR9-VO9)/VO9),"") | VV9: =IF(VP9<>0,((VS9-VP9)/VP9),"") | VW9: =IF(VQ9<>0,((VT9-VQ9)/VQ9),"") | VZ9: =VX9*VY9 -> 0 | WC9: =WA9*WB9 -> 0 | WD9: =IF(VX9<>0,((WA9-VX9)/VX9),"") | WE9: =IF(VY9<>0,((WB9-VY9)/VY9),"") | WF9: =IF(VZ9<>0,((WC9-VZ9)/VZ9),"") | WI9: =WG9*WH9 -> 0 | WL9: =WJ9*WK9 -> 0 | WM9: =IF(WG9<>0,((WJ9-WG9)/WG9),"") | WN9: =IF(WH9<>0,((WK9-WH9)/WH9),"") | WO9: =IF(WI9<>0,((WL9-WI9)/WI9),"") | WR9: =WP9*WQ9 -> 0 | WU9: =WS9*WT9 -> 0 | WV9: =IF(WP9<>0,((WS9-WP9)/WP9),"") | WW9: =IF(WQ9<>0,((WT9-WQ9)/WQ9),"") | WX9: =IF(WR9<>0,((WU9-WR9)/WR9),"") | XA9: =WY9*WZ9 -> 0 | XD9: =XB9*XC9 -> 0 | XE9: =IF(WY9<>0,((XB9-WY9)/WY9),"") | XF9: =IF(WZ9<>0,((XC9-WZ9)/WZ9),"") | XG9: =IF(XA9<>0,((XD9-XA9)/XA9),"") | XJ9: =XH9*XI9 -> 0 | XM9: =XK9*XL9 -> 0 | XN9: =IF(XH9<>0,((XK9-XH9)/XH9),"") | XO9: =IF(XI9<>0,((XL9-XI9)/XI9),"") | XP9: =IF(XJ9<>0,((XM9-XJ9)/XJ9),"") | XS9: =XQ9*XR9 -> 0 | XV9: =XT9*XU9 -> 0 | XW9: =IF(XQ9<>0,((XT9-XQ9)/XQ9),"") | XX9: =IF(XR9<>0,((XU9-XR9)/XR9),"") | XY9: =IF(XS9<>0,((XV9-XS9)/XS9),"") | YB9: =XZ9*YA9 -> 0 | YE9: =YC9*YD9 -> 0 | YF9: =IF(XZ9<>0,((YC9-XZ9)/XZ9),"") | YG9: =IF(YA9<>0,((YD9-YA9)/YA9),"") | YH9: =IF(YB9<>0,((YE9-YB9)/YB9),"") | YK9: =YI9*YJ9 -> 0 | YN9: =YL9*YM9 -> 0 | YO9: =IF(YI9<>0,((YL9-YI9)/YI9),"") | YP9: =IF(YJ9<>0,((YM9-YJ9)/YJ9),"") | YQ9: =IF(YK9<>0,((YN9-YK9)/YK9),"") | YT9: =YR9*YS9 -> 0 | YW9: =YU9*YV9 -> 0 | YX9: =IF(YR9<>0,((YU9-YR9)/YR9),"") | YY9: =IF(YS9<>0,((YV9-YS9)/YS9),"") | YZ9: =IF(YT9<>0,((YW9-YT9)/YT9),"") | ZC9: =ZA9*ZB9 -> 0 | ZF9: =ZD9*ZE9 -> 0 | ZG9: =IF(ZA9<>0,((ZD9-ZA9)/ZA9),"") | ZH9: =IF(ZB9<>0,((ZE9-ZB9)/ZB9),"") | ZI9: =IF(ZC9<>0,((ZF9-ZC9)/ZC9),"")
A10: x | B10: h | C10: x | D10: x | E10: =SUMIF($2:$2,"Achat 2013",10:10) -> 114 | F10: =SUMIF($2:$2,"TOTAL 2013",10:10) -> 7692 | G10: =SUMIF($2:$2,"Achat 2014",10:10) -> 0 | H10: =SUMIF($2:$2,"TOTAL 2014",10:10) -> 0 | I10: =IF(E10<>0,((G10-E10)/E10),"") -> -1 | J10: =IF(F10<>0,((H10-F10)/F10),"") -> -1 | M10: =K10*L10 -> 0 | P10: =N10*O10 -> 0 | Q10: =IF(K10<>0,((N10-K10)/K10),"") | R10: =IF(L10<>0,((O10-L10)/L10),"") | S10: =IF(M10<>0,((P10-M10)/M10),"") | V10: =T10*U10 -> 0 | Y10: =W10*X10 -> 0 | Z10: =IF(T10<>0,((W10-T10)/T10),"") | AA10: =IF(U10<>0,((X10-U10)/U10),"") | AB10: =IF(V10<>0,((Y10-V10)/V10),"") | AE10: =AC10*AD10 -> 0 | AH10: =AF10*AG10 -> 0 | AI10: =IF(AC10<>0,((AF10-AC10)/AC10),"") | AJ10: =IF(AD10<>0,((AG10-AD10)/AD10),"") | AK10: =IF(AE10<>0,((AH10-AE10)/AE10),"") | AN10: =AL10*AM10 -> 0 | AQ10: =AO10*AP10 -> 0 | AR10: =IF(AL10<>0,((AO10-AL10)/AL10),"") | AS10: =IF(AM10<>0,((AP10-AM10)/AM10),"") | AT10: =IF(AN10<>0,((AQ10-AN10)/AN10),"") | AW10: =AU10*AV10 -> 0 | AZ10: =AX10*AY10 -> 0 | BA10: =IF(AU10<>0,((AX10-AU10)/AU10),"") | BB10: =IF(AV10<>0,((AY10-AV10)/AV10),"") | BC10: =IF(AW10<>0,((AZ10-AW10)/AW10),"") | BF10: =BD10*BE10 -> 0 | BI10: =BG10*BH10 -> 0 | BJ10: =IF(BD10<>0,((BG10-BD10)/BD10),"") | BK10: =IF(BE10<>0,((BH10-BE10)/BE10),"") | BL10: =IF(BF10<>0,((BI10-BF10)/BF10),"") | BO10: =BM10*BN10 -> 0 | BR10: =BP10*BQ10 -> 0 | BS10: =IF(BM10<>0,((BP10-BM10)/BM10),"") | BT10: =IF(BN10<>0,((BQ10-BN10)/BN10),"") | BU10: =IF(BO10<>0,((BR10-BO10)/BO10),"") | BX10: =BV10*BW10 -> 0 | CA10: =BY10*BZ10 -> 0 | CB10: =IF(BV10<>0,((BY10-BV10)/BV10),"") | CC10: =IF(BW10<>0,((BZ10-BW10)/BW10),"") | CD10: =IF(BX10<>0,((CA10-BX10)/BX10),"") | CG10: =CE10*CF10 -> 0 | CJ10: =CH10*CI10 -> 0 | CK10: =IF(CE10<>0,((CH10-CE10)/CE10),"") | CL10: =IF(CF10<>0,((CI10-CF10)/CF10),"") | CM10: =IF(CG10<>0,((CJ10-CG10)/CG10),"") | CP10: =CN10*CO10 -> 0 | CS10: =CQ10*CR10 -> 0 | CT10: =IF(CN10<>0,((CQ10-CN10)/CN10),"") | CU10: =IF(CO10<>0,((CR10-CO10)/CO10),"") | CV10: =IF(CP10<>0,((CS10-CP10)/CP10),"") | CY10: =CW10*CX10 -> 0 | DB10: =CZ10*DA10 -> 0 | DC10: =IF(CW10<>0,((CZ10-CW10)/CW10),"") | DD10: =IF(CX10<>0,((DA10-CX10)/CX10),"") | DE10: =IF(CY10<>0,((DB10-CY10)/CY10),"") | DH10: =DF10*DG10 -> 0 | DK10: =DI10*DJ10 -> 0 | DL10: =IF(DF10<>0,((DI10-DF10)/DF10),"") | DM10: =IF(DG10<>0,((DJ10-DG10)/DG10),"") | DN10: =IF(DH10<>0,((DK10-DH10)/DH10),"") | DQ10: =DO10*DP10 -> 0 | DT10: =DR10*DS10 -> 0 | DU10: =IF(DO10<>0,((DR10-DO10)/DO10),"") | DV10: =IF(DP10<>0,((DS10-DP10)/DP10),"") | DW10: =IF(DQ10<>0,((DT10-DQ10)/DQ10),"") | DZ10: =DX10*DY10 -> 0 | EC10: =EA10*EB10 -> 0 | ED10: =IF(DX10<>0,((EA10-DX10)/DX10),"") | EE10: =IF(DY10<>0,((EB10-DY10)/DY10),"") | EF10: =IF(DZ10<>0,((EC10-DZ10)/DZ10),"") | EI10: =EG10*EH10 -> 0 | EL10: =EJ10*EK10 -> 0 | EM10: =IF(EG10<>0,((EJ10-EG10)/EG10),"") | EN10: =IF(EH10<>0,((EK10-EH10)/EH10),"") | EO10: =IF(EI10<>0,((EL10-EI10)/EI10),"") | ER10: =EP10*EQ10 -> 0 | EU10: =ES10*ET10 -> 0 | EV10: =IF(EP10<>0,((ES10-EP10)/EP10),"") | EW10: =IF(EQ10<>0,((ET10-EQ10)/EQ10),"") | EX10: =IF(ER10<>0,((EU10-ER10)/ER10),"") | FA10: =EY10*EZ10 -> 0 | FD10: =FB10*FC10 -> 0 | FE10: =IF(EY10<>0,((FB10-EY10)/EY10),"") | FF10: =IF(EZ10<>0,((FC10-EZ10)/EZ10),"") | FG10: =IF(FA10<>0,((FD10-FA10)/FA10),"") | FJ10: =FH10*FI10 -> 0 | FM10: =FK10*FL10 -> 0 | FN10: =IF(FH10<>0,((FK10-FH10)/FH10),"") | FO10: =IF(FI10<>0,((FL10-FI10)/FI10),"") | FP10: =IF(FJ10<>0,((FM10-FJ10)/FJ10),"") | FS10: =FQ10*FR10 -> 0 | FV10: =FT10*FU10 -> 0 | FW10: =IF(FQ10<>0,((FT10-FQ10)/FQ10),"") | FX10: =IF(FR10<>0,((FU10-FR10)/FR10),"") | FY10: =IF(FS10<>0,((FV10-FS10)/FS10),"") | GB10: =FZ10*GA10 -> 0 | GE10: =GC10*GD10 -> 0 | GF10: =IF(FZ10<>0,((GC10-FZ10)/FZ10),"") | GG10: =IF(GA10<>0,((GD10-GA10)/GA10),"") | GH10: =IF(GB10<>0,((GE10-GB10)/GB10),"") | GK10: =GI10*GJ10 -> 0 | GN10: =GL10*GM10 -> 0 | GO10: =IF(GI10<>0,((GL10-GI10)/GI10),"") | GP10: =IF(GJ10<>0,((GM10-GJ10)/GJ10),"") | GQ10: =IF(GK10<>0,((GN10-GK10)/GK10),"") | GT10: =GR10*GS10 -> 0 | GW10: =GU10*GV10 -> 0 | GX10: =IF(GR10<>0,((GU10-GR10)/GR10),"") | GY10: =IF(GS10<>0,((GV10-GS10)/GS10),"") | GZ10: =IF(GT10<>0,((GW10-GT10)/GT10),"") | HC10: =HA10*HB10 -> 0 | HF10: =HD10*HE10 -> 0 | HG10: =IF(HA10<>0,((HD10-HA10)/HA10),"") | HH10: =IF(HB10<>0,((HE10-HB10)/HB10),"") | HI10: =IF(HC10<>0,((HF10-HC10)/HC10),"") | HL10: =HJ10*HK10 -> 0 | HO10: =HM10*HN10 -> 0 | HP10: =IF(HJ10<>0,((HM10-HJ10)/HJ10),"") | HQ10: =IF(HK10<>0,((HN10-HK10)/HK10),"") | HR10: =IF(HL10<>0,((HO10-HL10)/HL10),"") | HU10: =HS10*HT10 -> 0 | HX10: =HV10*HW10 -> 0 | HY10: =IF(HS10<>0,((HV10-HS10)/HS10),"") | HZ10: =IF(HT10<>0,((HW10-HT10)/HT10),"") | IA10: =IF(HU10<>0,((HX10-HU10)/HU10),"") | ID10: =IB10*IC10 -> 0 | IG10: =IE10*IF10 -> 0 | IH10: =IF(IB10<>0,((IE10-IB10)/IB10),"") | II10: =IF(IC10<>0,((IF10-IC10)/IC10),"") | IJ10: =IF(ID10<>0,((IG10-ID10)/ID10),"") | IM10: =IK10*IL10 -> 0 | IP10: =IN10*IO10 -> 0 | IQ10: =IF(IK10<>0,((IN10-IK10)/IK10),"") | IR10: =IF(IL10<>0,((IO10-IL10)/IL10),"") | IS10: =IF(IM10<>0,((IP10-IM10)/IM10),"") | IV10: =IT10*IU10 -> 0 | IY10: =IW10*IX10 -> 0 | IZ10: =IF(IT10<>0,((IW10-IT10)/IT10),"") | JA10: =IF(IU10<>0,((IX10-IU10)/IU10),"") | JB10: =IF(IV10<>0,((IY10-IV10)/IV10),"") | JE10: =JC10*JD10 -> 0 | JH10: =JF10*JG10 -> 0 | JI10: =IF(JC10<>0,((JF10-JC10)/JC10),"") | JJ10: =IF(JD10<>0,((JG10-JD10)/JD10),"") | JK10: =IF(JE10<>0,((JH10-JE10)/JE10),"") | JN10: =JL10*JM10 -> 0 | JQ10: =JO10*JP10 -> 0 | JR10: =IF(JL10<>0,((JO10-JL10)/JL10),"") | JS10: =IF(JM10<>0,((JP10-JM10)/JM10),"") | JT10: =IF(JN10<>0,((JQ10-JN10)/JN10),"") | JW10: =JU10*JV10 -> 0 | JZ10: =JX10*JY10 -> 0 | KA10: =IF(JU10<>0,((JX10-JU10)/JU10),"") | KB10: =IF(JV10<>0,((JY10-JV10)/JV10),"") | KC10: =IF(JW10<>0,((JZ10-JW10)/JW10),"") | KF10: =KD10*KE10 -> 0 | KI10: =KG10*KH10 -> 0 | KJ10: =IF(KD10<>0,((KG10-KD10)/KD10),"") | KK10: =IF(KE10<>0,((KH10-KE10)/KE10),"") | KL10: =IF(KF10<>0,((KI10-KF10)/KF10),"") | KO10: =KM10*KN10 -> 0 | KR10: =KP10*KQ10 -> 0 | KS10: =IF(KM10<>0,((KP10-KM10)/KM10),"") | KT10: =IF(KN10<>0,((KQ10-KN10)/KN10),"") | KU10: =IF(KO10<>0,((KR10-KO10)/KO10),"") | KX10: =KV10*KW10 -> 0 | LA10: =KY10*KZ10 -> 0 | LB10: =IF(KV10<>0,((KY10-KV10)/KV10),"") | LC10: =IF(KW10<>0,((KZ10-KW10)/KW10),"") | LD10: =IF(KX10<>0,((LA10-KX10)/KX10),"") | LG10: =LE10*LF10 -> 0 | LJ10: =LH10*LI10 -> 0 | LK10: =IF(LE10<>0,((LH10-LE10)/LE10),"") | LL10: =IF(LF10<>0,((LI10-LF10)/LF10),"") | LM10: =IF(LG10<>0,((LJ10-LG10)/LG10),"") | LP10: =LN10*LO10 -> 0 | LS10: =LQ10*LR10 -> 0 | LT10: =IF(LN10<>0,((LQ10-LN10)/LN10),"") | LU10: =IF(LO10<>0,((LR10-LO10)/LO10),"") | LV10: =IF(LP10<>0,((LS10-LP10)/LP10),"") | LW10: 6 | LX10: 288 | LY10: =LW10*LX10 -> 1728 | MB10: =LZ10*MA10 -> 0 | MC10: =IF(LW10<>0,((LZ10-LW10)/LW10),"") -> -1 | MD10: =IF(LX10<>0,((MA10-LX10)/LX10),"") -> -1 | ME10: =IF(LY10<>0,((MB10-LY10)/LY10),"") -> -1 | MH10: =MF10*MG10 -> 0 | MK10: =MI10*MJ10 -> 0 | ML10: =IF(MF10<>0,((MI10-MF10)/MF10),"") | MM10: =IF(MG10<>0,((MJ10-MG10)/MG10),"") | MN10: =IF(MH10<>0,((MK10-MH10)/MH10),"") | MQ10: =MO10*MP10 -> 0 | MT10: =MR10*MS10 -> 0 | MU10: =IF(MO10<>0,((MR10-MO10)/MO10),"") | MV10: =IF(MP10<>0,((MS10-MP10)/MP10),"") | MW10: =IF(MQ10<>0,((MT10-MQ10)/MQ10),"") | MZ10: =MX10*MY10 -> 0 | NC10: =NA10*NB10 -> 0 | ND10: =IF(MX10<>0,((NA10-MX10)/MX10),"") | NE10: =IF(MY10<>0,((NB10-MY10)/MY10),"") | NF10: =IF(MZ10<>0,((NC10-MZ10)/MZ10),"") | NI10: =NG10*NH10 -> 0 | NL10: =NJ10*NK10 -> 0 | NM10: =IF(NG10<>0,((NJ10-NG10)/NG10),"") | NN10: =IF(NH10<>0,((NK10-NH10)/NH10),"") | NO10: =IF(NI10<>0,((NL10-NI10)/NI10),"") | NR10: =NP10*NQ10 -> 0 | NU10: =NS10*NT10 -> 0 | NV10: =IF(NP10<>0,((NS10-NP10)/NP10),"") | NW10: =IF(NQ10<>0,((NT10-NQ10)/NQ10),"") | NX10: =IF(NR10<>0,((NU10-NR10)/NR10),"") | OA10: =NY10*NZ10 -> 0 | OD10: =OB10*OC10 -> 0 | OE10: =IF(NY10<>0,((OB10-NY10)/NY10),"") | OF10: =IF(NZ10<>0,((OC10-NZ10)/NZ10),"") | OG10: =IF(OA10<>0,((OD10-OA10)/OA10),"") | OH10: 36 | OI10: 50 | OJ10: =OH10*OI10 -> 1800 | OM10: =OK10*OL10 -> 0 | ON10: =IF(OH10<>0,((OK10-OH10)/OH10),"") -> -1 | OO10: =IF(OI10<>0,((OL10-OI10)/OI10),"") -> -1 | OP10: =IF(OJ10<>0,((OM10-OJ10)/OJ10),"") -> -1 | OS10: =OQ10*OR10 -> 0 | OV10: =OT10*OU10 -> 0 | OW10: =IF(OQ10<>0,((OT10-OQ10)/OQ10),"") | OX10: =IF(OR10<>0,((OU10-OR10)/OR10),"") | OY10: =IF(OS10<>0,((OV10-OS10)/OS10),"") | OZ10: 6 | PA10: 215 | PB10: =OZ10*PA10 -> 1290 | PE10: =PC10*PD10 -> 0 | PF10: =IF(OZ10<>0,((PC10-OZ10)/OZ10),"") -> -1 | PG10: =IF(PA10<>0,((PD10-PA10)/PA10),"") -> -1 | PH10: =IF(PB10<>0,((PE10-PB10)/PB10),"") -> -1 | PK10: =PI10*PJ10 -> 0 | PN10: =PL10*PM10 -> 0 | PO10: =IF(PI10<>0,((PL10-PI10)/PI10),"") | PP10: =IF(PJ10<>0,((PM10-PJ10)/PJ10),"") | PQ10: =IF(PK10<>0,((PN10-PK10)/PK10),"") | PT10: =PR10*PS10 -> 0 | PW10: =PU10*PV10 -> 0 | PX10: =IF(PR10<>0,((PU10-PR10)/PR10),"") | PY10: =IF(PS10<>0,((PV10-PS10)/PS10),"") | PZ10: =IF(PT10<>0,((PW10-PT10)/PT10),"") | QC10: =QA10*QB10 -> 0 | QF10: =QD10*QE10 -> 0 | QG10: =IF(QA10<>0,((QD10-QA10)/QA10),"") | QH10: =IF(QB10<>0,((QE10-QB10)/QB10),"") | QI10: =IF(QC10<>0,((QF10-QC10)/QC10),"") | QL10: =QJ10*QK10 -> 0 | QO10: =QM10*QN10 -> 0 | QP10: =IF(QJ10<>0,((QM10-QJ10)/QJ10),"") | QQ10: =IF(QK10<>0,((QN10-QK10)/QK10),"") | QR10: =IF(QL10<>0,((QO10-QL10)/QL10),"") | QU10: =QS10*QT10 -> 0 | QX10: =QV10*QW10 -> 0 | QY10: =IF(QS10<>0,((QV10-QS10)/QS10),"") | QZ10: =IF(QT10<>0,((QW10-QT10)/QT10),"") | RA10: =IF(QU10<>0,((QX10-QU10)/QU10),"") | RB10: 6 | RC10: 215 | RD10: =RB10*RC10 -> 1290 | RG10: =RE10*RF10 -> 0 | RH10: =IF(RB10<>0,((RE10-RB10)/RB10),"") -> -1 | RI10: =IF(RC10<>0,((RF10-RC10)/RC10),"") -> -1 | RJ10: =IF(RD10<>0,((RG10-RD10)/RD10),"") -> -1 | RM10: =RK10*RL10 -> 0 | RP10: =RN10*RO10 -> 0 | RQ10: =IF(RK10<>0,((RN10-RK10)/RK10),"") | RR10: =IF(RL10<>0,((RO10-RL10)/RL10),"") | RS10: =IF(RM10<>0,((RP10-RM10)/RM10),"") | RV10: =RT10*RU10 -> 0 | RY10: =RW10*RX10 -> 0 | RZ10: =IF(RT10<>0,((RW10-RT10)/RT10),"") | SA10: =IF(RU10<>0,((RX10-RU10)/RU10),"") | SB10: =IF(RV10<>0,((RY10-RV10)/RV10),"") | SE10: =SC10*SD10 -> 0 | SH10: =SF10*SG10 -> 0 | SI10: =IF(SC10<>0,((SF10-SC10)/SC10),"") | SJ10: =IF(SD10<>0,((SG10-SD10)/SD10),"") | SK10: =IF(SE10<>0,((SH10-SE10)/SE10),"") | SN10: =SL10*SM10 -> 0 | SQ10: =SO10*SP10 -> 0 | SR10: =IF(SL10<>0,((SO10-SL10)/SL10),"") | SS10: =IF(SM10<>0,((SP10-SM10)/SM10),"") | ST10: =IF(SN10<>0,((SQ10-SN10)/SN10),"") | SW10: =SU10*SV10 -> 0 | SZ10: =SX10*SY10 -> 0 | TA10: =IF(SU10<>0,((SX10-SU10)/SU10),"") | TB10: =IF(SV10<>0,((SY10-SV10)/SV10),"") | TC10: =IF(SW10<>0,((SZ10-SW10)/SW10),"") | TF10: =TD10*TE10 -> 0 | TI10: =TG10*TH10 -> 0 | TJ10: =IF(TD10<>0,((TG10-TD10)/TD10),"") | TK10: =IF(TE10<>0,((TH10-TE10)/TE10),"") | TL10: =IF(TF10<>0,((TI10-TF10)/TF10),"") | TO10: =TM10*TN10 -> 0 | TR10: =TP10*TQ10 -> 0 | TS10: =IF(TM10<>0,((TP10-TM10)/TM10),"") | TT10: =IF(TN10<>0,((TQ10-TN10)/TN10),"") | TU10: =IF(TO10<>0,((TR10-TO10)/TO10),"") | TX10: =TV10*TW10 -> 0 | UA10: =TY10*TZ10 -> 0 | UB10: =IF(TV10<>0,((TY10-TV10)/TV10),"") | UC10: =IF(TW10<>0,((TZ10-TW10)/TW10),"") | UD10: =IF(TX10<>0,((UA10-TX10)/TX10),"") | UG10: =UE10*UF10 -> 0 | UJ10: =UH10*UI10 -> 0 | UK10: =IF(UE10<>0,((UH10-UE10)/UE10),"") | UL10: =IF(UF10<>0,((UI10-UF10)/UF10),"") | UM10: =IF(UG10<>0,((UJ10-UG10)/UG10),"") | UP10: =UN10*UO10 -> 0 | US10: =UQ10*UR10 -> 0 | UT10: =IF(UN10<>0,((UQ10-UN10)/UN10),"") | UU10: =IF(UO10<>0,((UR10-UO10)/UO10),"") | UV10: =IF(UP10<>0,((US10-UP10)/UP10),"") | UW10: 60 | UX10: 26.4 | UY10: =UW10*UX10 -> 1584 | VB10: =UZ10*VA10 -> 0 | VC10: =IF(UW10<>0,((UZ10-UW10)/UW10),"") -> -1 | VD10: =IF(UX10<>0,((VA10-UX10)/UX10),"") -> -1 | VE10: =IF(UY10<>0,((VB10-UY10)/UY10),"") -> -1 | VH10: =VF10*VG10 -> 0 | VK10: =VI10*VJ10 -> 0 | VL10: =IF(VF10<>0,((VI10-VF10)/VF10),"") | VM10: =IF(VG10<>0,((VJ10-VG10)/VG10),"") | VN10: =IF(VH10<>0,((VK10-VH10)/VH10),"") | VQ10: =VO10*VP10 -> 0 | VT10: =VR10*VS10 -> 0 | VU10: =IF(VO10<>0,((VR10-VO10)/VO10),"") | VV10: =IF(VP10<>0,((VS10-VP10)/VP10),"") | VW10: =IF(VQ10<>0,((VT10-VQ10)/VQ10),"") | VZ10: =VX10*VY10 -> 0 | WC10: =WA10*WB10 -> 0 | WD10: =IF(VX10<>0,((WA10-VX10)/VX10),"") | WE10: =IF(VY10<>0,((WB10-VY10)/VY10),"") | WF10: =IF(VZ10<>0,((WC10-VZ10)/VZ10),"") | WI10: =WG10*WH10 -> 0 | WL10: =WJ10*WK10 -> 0 | WM10: =IF(WG10<>0,((WJ10-WG10)/WG10),"") | WN10: =IF(WH10<>0,((WK10-WH10)/WH10),"") | WO10: =IF(WI10<>0,((WL10-WI10)/WI10),"") | WR10: =WP10*WQ10 -> 0 | WU10: =WS10*WT10 -> 0 | WV10: =IF(WP10<>0,((WS10-WP10)/WP10),"") | WW10: =IF(WQ10<>0,((WT10-WQ10)/WQ10),"") | WX10: =IF(WR10<>0,((WU10-WR10)/WR10),"") | XA10: =WY10*WZ10 -> 0 | XD10: =XB10*XC10 -> 0 | XE10: =IF(WY10<>0,((XB10-WY10)/WY10),"") | XF10: =IF(WZ10<>0,((XC10-WZ10)/WZ10),"") | XG10: =IF(XA10<>0,((XD10-XA10)/XA10),"") | XJ10: =XH10*XI10 -> 0 | XM10: =XK10*XL10 -> 0 | XN10: =IF(XH10<>0,((XK10-XH10)/XH10),"") | XO10: =IF(XI10<>0,((XL10-XI10)/XI10),"") | XP10: =IF(XJ10<>0,((XM10-XJ10)/XJ10),"") | XS10: =XQ10*XR10 -> 0 | XV10: =XT10*XU10 -> 0 | XW10: =IF(XQ10<>0,((XT10-XQ10)/XQ10),"") | XX10: =IF(XR10<>0,((XU10-XR10)/XR10),"") | XY10: =IF(XS10<>0,((XV10-XS10)/XS10),"") | YB10: =XZ10*YA10 -> 0 | YE10: =YC10*YD10 -> 0 | YF10: =IF(XZ10<>0,((YC10-XZ10)/XZ10),"") | YG10: =IF(YA10<>0,((YD10-YA10)/YA10),"") | YH10: =IF(YB10<>0,((YE10-YB10)/YB10),"") | YK10: =YI10*YJ10 -> 0 | YN10: =YL10*YM10 -> 0 | YO10: =IF(YI10<>0,((YL10-YI10)/YI10),"") | YP10: =IF(YJ10<>0,((YM10-YJ10)/YJ10),"") | YQ10: =IF(YK10<>0,((YN10-YK10)/YK10),"") | YT10: =YR10*YS10 -> 0 | YW10: =YU10*YV10 -> 0 | YX10: =IF(YR10<>0,((YU10-YR10)/YR10),"") | YY10: =IF(YS10<>0,((YV10-YS10)/YS10),"") | YZ10: =IF(YT10<>0,((YW10-YT10)/YT10),"") | ZC10: =ZA10*ZB10 -> 0 | ZF10: =ZD10*ZE10 -> 0 | ZG10: =IF(ZA10<>0,((ZD10-ZA10)/ZA10),"") | ZH10: =IF(ZB10<>0,((ZE10-ZB10)/ZB10),"") | ZI10: =IF(ZC10<>0,((ZF10-ZC10)/ZC10),"")
A11: x | B11: i | C11: x | D11: x | E11: =SUMIF($2:$2,"Achat 2013",11:11) -> 660 | F11: =SUMIF($2:$2,"TOTAL 2013",11:11) -> 40931.4 | G11: =SUMIF($2:$2,"Achat 2014",11:11) -> 0 | H11: =SUMIF($2:$2,"TOTAL 2014",11:11) -> 0 | I11: =IF(E11<>0,((G11-E11)/E11),"") -> -1 | J11: =IF(F11<>0,((H11-F11)/F11),"") -> -1 | M11: =K11*L11 -> 0 | P11: =N11*O11 -> 0 | Q11: =IF(K11<>0,((N11-K11)/K11),"") | R11: =IF(L11<>0,((O11-L11)/L11),"") | S11: =IF(M11<>0,((P11-M11)/M11),"") | V11: =T11*U11 -> 0 | Y11: =W11*X11 -> 0 | Z11: =IF(T11<>0,((W11-T11)/T11),"") | AA11: =IF(U11<>0,((X11-U11)/U11),"") | AB11: =IF(V11<>0,((Y11-V11)/V11),"") | AC11: 300 | AD11: 13.8 | AE11: =AC11*AD11 -> 4140 | AH11: =AF11*AG11 -> 0 | AI11: =IF(AC11<>0,((AF11-AC11)/AC11),"") -> -1 | AJ11: =IF(AD11<>0,((AG11-AD11)/AD11),"") -> -1 | AK11: =IF(AE11<>0,((AH11-AE11)/AE11),"") -> -1 | AN11: =AL11*AM11 -> 0 | AQ11: =AO11*AP11 -> 0 | AR11: =IF(AL11<>0,((AO11-AL11)/AL11),"") | AS11: =IF(AM11<>0,((AP11-AM11)/AM11),"") | AT11: =IF(AN11<>0,((AQ11-AN11)/AN11),"") | AW11: =AU11*AV11 -> 0 | AZ11: =AX11*AY11 -> 0 | BA11: =IF(AU11<>0,((AX11-AU11)/AU11),"") | BB11: =IF(AV11<>0,((AY11-AV11)/AV11),"") | BC11: =IF(AW11<>0,((AZ11-AW11)/AW11),"") | BF11: =BD11*BE11 -> 0 | BI11: =BG11*BH11 -> 0 | BJ11: =IF(BD11<>0,((BG11-BD11)/BD11),"") | BK11: =IF(BE11<>0,((BH11-BE11)/BE11),"") | BL11: =IF(BF11<>0,((BI11-BF11)/BF11),"") | BO11: =BM11*BN11 -> 0 | BR11: =BP11*BQ11 -> 0 | BS11: =IF(BM11<>0,((BP11-BM11)/BM11),"") | BT11: =IF(BN11<>0,((BQ11-BN11)/BN11),"") | BU11: =IF(BO11<>0,((BR11-BO11)/BO11),"") | BX11: =BV11*BW11 -> 0 | CA11: =BY11*BZ11 -> 0 | CB11: =IF(BV11<>0,((BY11-BV11)/BV11),"") | CC11: =IF(BW11<>0,((BZ11-BW11)/BW11),"") | CD11: =IF(BX11<>0,((CA11-BX11)/BX11),"") | CG11: =CE11*CF11 -> 0 | CJ11: =CH11*CI11 -> 0 | CK11: =IF(CE11<>0,((CH11-CE11)/CE11),"") | CL11: =IF(CF11<>0,((CI11-CF11)/CF11),"") | CM11: =IF(CG11<>0,((CJ11-CG11)/CG11),"") | CN11: 36 | CO11: 38.4 | CP11: =CN11*CO11 -> 1382.4 | CS11: =CQ11*CR11 -> 0 | CT11: =IF(CN11<>0,((CQ11-CN11)/CN11),"") -> -1 | CU11: =IF(CO11<>0,((CR11-CO11)/CO11),"") -> -1 | CV11: =IF(CP11<>0,((CS11-CP11)/CP11),"") -> -1 | CY11: =CW11*CX11 -> 0 | DB11: =CZ11*DA11 -> 0 | DC11: =IF(CW11<>0,((CZ11-CW11)/CW11),"") | DD11: =IF(CX11<>0,((DA11-CX11)/CX11),"") | DE11: =IF(CY11<>0,((DB11-CY11)/CY11),"") | DF11: 60 | DG11: 37.2 | DH11: =DF11*DG11 -> 2232 | DK11: =DI11*DJ11 -> 0 | DL11: =IF(DF11<>0,((DI11-DF11)/DF11),"") -> -1 | DM11: =IF(DG11<>0,((DJ11-DG11)/DG11),"") -> -1 | DN11: =IF(DH11<>0,((DK11-DH11)/DH11),"") -> -1 | DQ11: =DO11*DP11 -> 0 | DT11: =DR11*DS11 -> 0 | DU11: =IF(DO11<>0,((DR11-DO11)/DO11),"") | DV11: =IF(DP11<>0,((DS11-DP11)/DP11),"") | DW11: =IF(DQ11<>0,((DT11-DQ11)/DQ11),"") | DZ11: =DX11*DY11 -> 0 | EC11: =EA11*EB11 -> 0 | ED11: =IF(DX11<>0,((EA11-DX11)/DX11),"") | EE11: =IF(DY11<>0,((EB11-DY11)/DY11),"") | EF11: =IF(DZ11<>0,((EC11-DZ11)/DZ11),"") | EI11: =EG11*EH11 -> 0 | EL11: =EJ11*EK11 -> 0 | EM11: =IF(EG11<>0,((EJ11-EG11)/EG11),"") | EN11: =IF(EH11<>0,((EK11-EH11)/EH11),"") | EO11: =IF(EI11<>0,((EL11-EI11)/EI11),"") | ER11: =EP11*EQ11 -> 0 | EU11: =ES11*ET11 -> 0 | EV11: =IF(EP11<>0,((ES11-EP11)/EP11),"") | EW11: =IF(EQ11<>0,((ET11-EQ11)/EQ11),"") | EX11: =IF(ER11<>0,((EU11-ER11)/ER11),"") | FA11: =EY11*EZ11 -> 0 | FD11: =FB11*FC11 -> 0 | FE11: =IF(EY11<>0,((FB11-EY11)/EY11),"") | FF11: =IF(EZ11<>0,((FC11-EZ11)/EZ11),"") | FG11: =IF(FA11<>0,((FD11-FA11)/FA11),"") | FJ11: =FH11*FI11 -> 0 | FM11: =FK11*FL11 -> 0 | FN11: =IF(FH11<>0,((FK11-FH11)/FH11),"") | FO11: =IF(FI11<>0,((FL11-FI11)/FI11),"") | FP11: =IF(FJ11<>0,((FM11-FJ11)/FJ11),"") | FS11: =FQ11*FR11 -> 0 | FV11: =FT11*FU11 -> 0 | FW11: =IF(FQ11<>0,((FT11-FQ11)/FQ11),"") | FX11: =IF(FR11<>0,((FU11-FR11)/FR11),"") | FY11: =IF(FS11<>0,((FV11-FS11)/FS11),"") | GB11: =FZ11*GA11 -> 0 | GE11: =GC11*GD11 -> 0 | GF11: =IF(FZ11<>0,((GC11-FZ11)/FZ11),"") | GG11: =IF(GA11<>0,((GD11-GA11)/GA11),"") | GH11: =IF(GB11<>0,((GE11-GB11)/GB11),"") | GK11: =GI11*GJ11 -> 0 | GN11: =GL11*GM11 -> 0 | GO11: =IF(GI11<>0,((GL11-GI11)/GI11),"") | GP11: =IF(GJ11<>0,((GM11-GJ11)/GJ11),"") | GQ11: =IF(GK11<>0,((GN11-GK11)/GK11),"") | GT11: =GR11*GS11 -> 0 | GW11: =GU11*GV11 -> 0 | GX11: =IF(GR11<>0,((GU11-GR11)/GR11),"") | GY11: =IF(GS11<>0,((GV11-GS11)/GS11),"") | GZ11: =IF(GT11<>0,((GW11-GT11)/GT11),"") | HC11: =HA11*HB11 -> 0 | HF11: =HD11*HE11 -> 0 | HG11: =IF(HA11<>0,((HD11-HA11)/HA11),"") | HH11: =IF(HB11<>0,((HE11-HB11)/HB11),"") | HI11: =IF(HC11<>0,((HF11-HC11)/HC11),"") | HL11: =HJ11*HK11 -> 0 | HO11: =HM11*HN11 -> 0 | HP11: =IF(HJ11<>0,((HM11-HJ11)/HJ11),"") | HQ11: =IF(HK11<>0,((HN11-HK11)/HK11),"") | HR11: =IF(HL11<>0,((HO11-HL11)/HL11),"") | HU11: =HS11*HT11 -> 0 | HX11: =HV11*HW11 -> 0 | HY11: =IF(HS11<>0,((HV11-HS11)/HS11),"") | HZ11: =IF(HT11<>0,((HW11-HT11)/HT11),"") | IA11: =IF(HU11<>0,((HX11-HU11)/HU11),"") | ID11: =IB11*IC11 -> 0 | IG11: =IE11*IF11 -> 0 | IH11: =IF(IB11<>0,((IE11-IB11)/IB11),"") | II11: =IF(IC11<>0,((IF11-IC11)/IC11),"") | IJ11: =IF(ID11<>0,((IG11-ID11)/ID11),"") | IM11: =IK11*IL11 -> 0 | IP11: =IN11*IO11 -> 0 | IQ11: =IF(IK11<>0,((IN11-IK11)/IK11),"") | IR11: =IF(IL11<>0,((IO11-IL11)/IL11),"") | IS11: =IF(IM11<>0,((IP11-IM11)/IM11),"") | IV11: =IT11*IU11 -> 0 | IY11: =IW11*IX11 -> 0 | IZ11: =IF(IT11<>0,((IW11-IT11)/IT11),"") | JA11: =IF(IU11<>0,((IX11-IU11)/IU11),"") | JB11: =IF(IV11<>0,((IY11-IV11)/IV11),"") | JE11: =JC11*JD11 -> 0 | JH11: =JF11*JG11 -> 0 | JI11: =IF(JC11<>0,((JF11-JC11)/JC11),"") | JJ11: =IF(JD11<>0,((JG11-JD11)/JD11),"") | JK11: =IF(JE11<>0,((JH11-JE11)/JE11),"") | JL11: 60 | JM11: 24.95 | JN11: =JL11*JM11 -> 1497 | JQ11: =JO11*JP11 -> 0 | JR11: =IF(JL11<>0,((JO11-JL11)/JL11),"") -> -1 | JS11: =IF(JM11<>0,((JP11-JM11)/JM11),"") -> -1 | JT11: =IF(JN11<>0,((JQ11-JN11)/JN11),"") -> -1 | JW11: =JU11*JV11 -> 0 | JZ11: =JX11*JY11 -> 0 | KA11: =IF(JU11<>0,((JX11-JU11)/JU11),"") | KB11: =IF(JV11<>0,((JY11-JV11)/JV11),"") | KC11: =IF(JW11<>0,((JZ11-JW11)/JW11),"") | KF11: =KD11*KE11 -> 0 | KI11: =KG11*KH11 -> 0 | KJ11: =IF(KD11<>0,((KG11-KD11)/KD11),"") | KK11: =IF(KE11<>0,((KH11-KE11)/KE11),"") | KL11: =IF(KF11<>0,((KI11-KF11)/KF11),"") | KO11: =KM11*KN11 -> 0 | KR11: =KP11*KQ11 -> 0 | KS11: =IF(KM11<>0,((KP11-KM11)/KM11),"") | KT11: =IF(KN11<>0,((KQ11-KN11)/KN11),"") | KU11: =IF(KO11<>0,((KR11-KO11)/KO11),"") | KX11: =KV11*KW11 -> 0 | LA11: =KY11*KZ11 -> 0 | LB11: =IF(KV11<>0,((KY11-KV11)/KV11),"") | LC11: =IF(KW11<>0,((KZ11-KW11)/KW11),"") | LD11: =IF(KX11<>0,((LA11-KX11)/KX11),"") | LG11: =LE11*LF11 -> 0 | LJ11: =LH11*LI11 -> 0 | LK11: =IF(LE11<>0,((LH11-LE11)/LE11),"") | LL11: =IF(LF11<>0,((LI11-LF11)/LF11),"") | LM11: =IF(LG11<>0,((LJ11-LG11)/LG11),"") | LP11: =LN11*LO11 -> 0 | LS11: =LQ11*LR11 -> 0 | LT11: =IF(LN11<>0,((LQ11-LN11)/LN11),"") | LU11: =IF(LO11<>0,((LR11-LO11)/LO11),"") | LV11: =IF(LP11<>0,((LS11-LP11)/LP11),"") | LY11: =LW11*LX11 -> 0 | MB11: =LZ11*MA11 -> 0 | MC11: =IF(LW11<>0,((LZ11-LW11)/LW11),"") | MD11: =IF(LX11<>0,((MA11-LX11)/LX11),"") | ME11: =IF(LY11<>0,((MB11-LY11)/LY11),"") | MH11: =MF11*MG11 -> 0 | MK11: =MI11*MJ11 -> 0 | ML11: =IF(MF11<>0,((MI11-MF11)/MF11),"") | MM11: =IF(MG11<>0,((MJ11-MG11)/MG11),"") | MN11: =IF(MH11<>0,((MK11-MH11)/MH11),"") | MQ11: =MO11*MP11 -> 0 | MT11: =MR11*MS11 -> 0 | MU11: =IF(MO11<>0,((MR11-MO11)/MO11),"") | MV11: =IF(MP11<>0,((MS11-MP11)/MP11),"") | MW11: =IF(MQ11<>0,((MT11-MQ11)/MQ11),"") | MZ11: =MX11*MY11 -> 0 | NC11: =NA11*NB11 -> 0 | ND11: =IF(MX11<>0,((NA11-MX11)/MX11),"") | NE11: =IF(MY11<>0,((NB11-MY11)/MY11),"") | NF11: =IF(MZ11<>0,((NC11-MZ11)/MZ11),"") | NI11: =NG11*NH11 -> 0 | NL11: =NJ11*NK11 -> 0 | NM11: =IF(NG11<>0,((NJ11-NG11)/NG11),"") | NN11: =IF(NH11<>0,((NK11-NH11)/NH11),"") | NO11: =IF(NI11<>0,((NL11-NI11)/NI11),"") | NP11: 36 | NQ11: 79 | NR11: =NP11*NQ11 -> 2844 | NU11: =NS11*NT11 -> 0 | NV11: =IF(NP11<>0,((NS11-NP11)/NP11),"") -> -1 | NW11: =IF(NQ11<>0,((NT11-NQ11)/NQ11),"") -> -1 | NX11: =IF(NR11<>0,((NU11-NR11)/NR11),"") -> -1 | OA11: =NY11*NZ11 -> 0 | OD11: =OB11*OC11 -> 0 | OE11: =IF(NY11<>0,((OB11-NY11)/NY11),"") | OF11: =IF(NZ11<>0,((OC11-NZ11)/NZ11),"") | OG11: =IF(OA11<>0,((OD11-OA11)/OA11),"") | OJ11: =OH11*OI11 -> 0 | OM11: =OK11*OL11 -> 0 | ON11: =IF(OH11<>0,((OK11-OH11)/OH11),"") | OO11: =IF(OI11<>0,((OL11-OI11)/OI11),"") | OP11: =IF(OJ11<>0,((OM11-OJ11)/OJ11),"") | OS11: =OQ11*OR11 -> 0 | OV11: =OT11*OU11 -> 0 | OW11: =IF(OQ11<>0,((OT11-OQ11)/OQ11),"") | OX11: =IF(OR11<>0,((OU11-OR11)/OR11),"") | OY11: =IF(OS11<>0,((OV11-OS11)/OS11),"") | PB11: =OZ11*PA11 -> 0 | PE11: =PC11*PD11 -> 0 | PF11: =IF(OZ11<>0,((PC11-OZ11)/OZ11),"") | PG11: =IF(PA11<>0,((PD11-PA11)/PA11),"") | PH11: =IF(PB11<>0,((PE11-PB11)/PB11),"") | PK11: =PI11*PJ11 -> 0 | PN11: =PL11*PM11 -> 0 | PO11: =IF(PI11<>0,((PL11-PI11)/PI11),"") | PP11: =IF(PJ11<>0,((PM11-PJ11)/PJ11),"") | PQ11: =IF(PK11<>0,((PN11-PK11)/PK11),"") | PT11: =PR11*PS11 -> 0 | PW11: =PU11*PV11 -> 0 | PX11: =IF(PR11<>0,((PU11-PR11)/PR11),"") | PY11: =IF(PS11<>0,((PV11-PS11)/PS11),"") | PZ11: =IF(PT11<>0,((PW11-PT11)/PT11),"") | QC11: =QA11*QB11 -> 0 | QF11: =QD11*QE11 -> 0 | QG11: =IF(QA11<>0,((QD11-QA11)/QA11),"") | QH11: =IF(QB11<>0,((QE11-QB11)/QB11),"") | QI11: =IF(QC11<>0,((QF11-QC11)/QC11),"") | QL11: =QJ11*QK11 -> 0 | QO11: =QM11*QN11 -> 0 | QP11: =IF(QJ11<>0,((QM11-QJ11)/QJ11),"") | QQ11: =IF(QK11<>0,((QN11-QK11)/QK11),"") | QR11: =IF(QL11<>0,((QO11-QL11)/QL11),"") | QU11: =QS11*QT11 -> 0 | QX11: =QV11*QW11 -> 0 | QY11: =IF(QS11<>0,((QV11-QS11)/QS11),"") | QZ11: =IF(QT11<>0,((QW11-QT11)/QT11),"") | RA11: =IF(QU11<>0,((QX11-QU11)/QU11),"") | RB11: 120 | RC11: 215 | RD11: =RB11*RC11 -> 25800 | RG11: =RE11*RF11 -> 0 | RH11: =IF(RB11<>0,((RE11-RB11)/RB11),"") -> -1 | RI11: =IF(RC11<>0,((RF11-RC11)/RC11),"") -> -1 | RJ11: =IF(RD11<>0,((RG11-RD11)/RD11),"") -> -1 | RM11: =RK11*RL11 -> 0 | RP11: =RN11*RO11 -> 0 | RQ11: =IF(RK11<>0,((RN11-RK11)/RK11),"") | RR11: =IF(RL11<>0,((RO11-RL11)/RL11),"") | RS11: =IF(RM11<>0,((RP11-RM11)/RM11),"") | RV11: =RT11*RU11 -> 0 | RY11: =RW11*RX11 -> 0 | RZ11: =IF(RT11<>0,((RW11-RT11)/RT11),"") | SA11: =IF(RU11<>0,((RX11-RU11)/RU11),"") | SB11: =IF(RV11<>0,((RY11-RV11)/RV11),"") | SE11: =SC11*SD11 -> 0 | SH11: =SF11*SG11 -> 0 | SI11: =IF(SC11<>0,((SF11-SC11)/SC11),"") | SJ11: =IF(SD11<>0,((SG11-SD11)/SD11),"") | SK11: =IF(SE11<>0,((SH11-SE11)/SE11),"") | SN11: =SL11*SM11 -> 0 | SQ11: =SO11*SP11 -> 0 | SR11: =IF(SL11<>0,((SO11-SL11)/SL11),"") | SS11: =IF(SM11<>0,((SP11-SM11)/SM11),"") | ST11: =IF(SN11<>0,((SQ11-SN11)/SN11),"") | SW11: =SU11*SV11 -> 0 | SZ11: =SX11*SY11 -> 0 | TA11: =IF(SU11<>0,((SX11-SU11)/SU11),"") | TB11: =IF(SV11<>0,((SY11-SV11)/SV11),"") | TC11: =IF(SW11<>0,((SZ11-SW11)/SW11),"") | TF11: =TD11*TE11 -> 0 | TI11: =TG11*TH11 -> 0 | TJ11: =IF(TD11<>0,((TG11-TD11)/TD11),"") | TK11: =IF(TE11<>0,((TH11-TE11)/TE11),"") | TL11: =IF(TF11<>0,((TI11-TF11)/TF11),"") | TO11: =TM11*TN11 -> 0 | TR11: =TP11*TQ11 -> 0 | TS11: =IF(TM11<>0,((TP11-TM11)/TM11),"") | TT11: =IF(TN11<>0,((TQ11-TN11)/TN11),"") | TU11: =IF(TO11<>0,((TR11-TO11)/TO11),"") | TX11: =TV11*TW11 -> 0 | UA11: =TY11*TZ11 -> 0 | UB11: =IF(TV11<>0,((TY11-TV11)/TV11),"") | UC11: =IF(TW11<>0,((TZ11-TW11)/TW11),"") | UD11: =IF(TX11<>0,((UA11-TX11)/TX11),"") | UE11: 12 | UF11: 55 | UG11: =UE11*UF11 -> 660 | UJ11: =UH11*UI11 -> 0 | UK11: =IF(UE11<>0,((UH11-UE11)/UE11),"") -> -1 | UL11: =IF(UF11<>0,((UI11-UF11)/UF11),"") -> -1 | UM11: =IF(UG11<>0,((UJ11-UG11)/UG11),"") -> -1 | UP11: =UN11*UO11 -> 0 | US11: =UQ11*UR11 -> 0 | UT11: =IF(UN11<>0,((UQ11-UN11)/UN11),"") | UU11: =IF(UO11<>0,((UR11-UO11)/UO11),"") | UV11: =IF(UP11<>0,((US11-UP11)/UP11),"") | UY11: =UW11*UX11 -> 0 | VB11: =UZ11*VA11 -> 0 | VC11: =IF(UW11<>0,((UZ11-UW11)/UW11),"") | VD11: =IF(UX11<>0,((VA11-UX11)/UX11),"") | VE11: =IF(UY11<>0,((VB11-UY11)/UY11),"") | VH11: =VF11*VG11 -> 0 | VK11: =VI11*VJ11 -> 0 | VL11: =IF(VF11<>0,((VI11-VF11)/VF11),"") | VM11: =IF(VG11<>0,((VJ11-VG11)/VG11),"") | VN11: =IF(VH11<>0,((VK11-VH11)/VH11),"") | VQ11: =VO11*VP11 -> 0 | VT11: =VR11*VS11 -> 0 | VU11: =IF(VO11<>0,((VR11-VO11)/VO11),"") | VV11: =IF(VP11<>0,((VS11-VP11)/VP11),"") | VW11: =IF(VQ11<>0,((VT11-VQ11)/VQ11),"") | VZ11: =VX11*VY11 -> 0 | WC11: =WA11*WB11 -> 0 | WD11: =IF(VX11<>0,((WA11-VX11)/VX11),"") | WE11: =IF(VY11<>0,((WB11-VY11)/VY11),"") | WF11: =IF(VZ11<>0,((WC11-VZ11)/VZ11),"") | WI11: =WG11*WH11 -> 0 | WL11: =WJ11*WK11 -> 0 | WM11: =IF(WG11<>0,((WJ11-WG11)/WG11),"") | WN11: =IF(WH11<>0,((WK11-WH11)/WH11),"") | WO11: =IF(WI11<>0,((WL11-WI11)/WI11),"") | WR11: =WP11*WQ11 -> 0 | WU11: =WS11*WT11 -> 0 | WV11: =IF(WP11<>0,((WS11-WP11)/WP11),"") | WW11: =IF(WQ11<>0,((WT11-WQ11)/WQ11),"") | WX11: =IF(WR11<>0,((WU11-WR11)/WR11),"") | WY11: 36 | WZ11: 66 | XA11: =WY11*WZ11 -> 2376 | XD11: =XB11*XC11 -> 0 | XE11: =IF(WY11<>0,((XB11-WY11)/WY11),"") -> -1 | XF11: =IF(WZ11<>0,((XC11-WZ11)/WZ11),"") -> -1 | XG11: =IF(XA11<>0,((XD11-XA11)/XA11),"") -> -1 | XJ11: =XH11*XI11 -> 0 | XM11: =XK11*XL11 -> 0 | XN11: =IF(XH11<>0,((XK11-XH11)/XH11),"") | XO11: =IF(XI11<>0,((XL11-XI11)/XI11),"") | XP11: =IF(XJ11<>0,((XM11-XJ11)/XJ11),"") | XS11: =XQ11*XR11 -> 0 | XV11: =XT11*XU11 -> 0 | XW11: =IF(XQ11<>0,((XT11-XQ11)/XQ11),"") | XX11: =IF(XR11<>0,((XU11-XR11)/XR11),"") | XY11: =IF(XS11<>0,((XV11-XS11)/XS11),"") | YB11: =XZ11*YA11 -> 0 | YE11: =YC11*YD11 -> 0 | YF11: =IF(XZ11<>0,((YC11-XZ11)/XZ11),"") | YG11: =IF(YA11<>0,((YD11-YA11)/YA11),"") | YH11: =IF(YB11<>0,((YE11-YB11)/YB11),"") | YK11: =YI11*YJ11 -> 0 | YN11: =YL11*YM11 -> 0 | YO11: =IF(YI11<>0,((YL11-YI11)/YI11),"") | YP11: =IF(YJ11<>0,((YM11-YJ11)/YJ11),"") | YQ11: =IF(YK11<>0,((YN11-YK11)/YK11),"") | YT11: =YR11*YS11 -> 0 | YW11: =YU11*YV11 -> 0 | YX11: =IF(YR11<>0,((YU11-YR11)/YR11),"") | YY11: =IF(YS11<>0,((YV11-YS11)/YS11),"") | YZ11: =IF(YT11<>0,((YW11-YT11)/YT11),"") | ZC11: =ZA11*ZB11 -> 0 | ZF11: =ZD11*ZE11 -> 0 | ZG11: =IF(ZA11<>0,((ZD11-ZA11)/ZA11),"") | ZH11: =IF(ZB11<>0,((ZE11-ZB11)/ZB11),"") | ZI11: =IF(ZC11<>0,((ZF11-ZC11)/ZC11),"")
A12: x | B12: j | C12: x | D12: x | E12: =SUMIF($2:$2,"Achat 2013",12:12) -> 0 | F12: =SUMIF($2:$2,"TOTAL 2013",12:12) -> 0 | G12: =SUMIF($2:$2,"Achat 2014",12:12) -> 0 | H12: =SUMIF($2:$2,"TOTAL 2014",12:12) -> 0 | I12: =IF(E12<>0,((G12-E12)/E12),"") | J12: =IF(F12<>0,((H12-F12)/F12),"") | M12: =K12*L12 -> 0 | P12: =N12*O12 -> 0 | Q12: =IF(K12<>0,((N12-K12)/K12),"") | R12: =IF(L12<>0,((O12-L12)/L12),"") | S12: =IF(M12<>0,((P12-M12)/M12),"") | V12: =T12*U12 -> 0 | Y12: =W12*X12 -> 0 | Z12: =IF(T12<>0,((W12-T12)/T12),"") | AA12: =IF(U12<>0,((X12-U12)/U12),"") | AB12: =IF(V12<>0,((Y12-V12)/V12),"") | AE12: =AC12*AD12 -> 0 | AH12: =AF12*AG12 -> 0 | AI12: =IF(AC12<>0,((AF12-AC12)/AC12),"") | AJ12: =IF(AD12<>0,((AG12-AD12)/AD12),"") | AK12: =IF(AE12<>0,((AH12-AE12)/AE12),"") | AN12: =AL12*AM12 -> 0 | AQ12: =AO12*AP12 -> 0 | AR12: =IF(AL12<>0,((AO12-AL12)/AL12),"") | AS12: =IF(AM12<>0,((AP12-AM12)/AM12),"") | AT12: =IF(AN12<>0,((AQ12-AN12)/AN12),"") | AW12: =AU12*AV12 -> 0 | AZ12: =AX12*AY12 -> 0 | BA12: =IF(AU12<>0,((AX12-AU12)/AU12),"") | BB12: =IF(AV12<>0,((AY12-AV12)/AV12),"") | BC12: =IF(AW12<>0,((AZ12-AW12)/AW12),"") | BF12: =BD12*BE12 -> 0 | BI12: =BG12*BH12 -> 0 | BJ12: =IF(BD12<>0,((BG12-BD12)/BD12),"") | BK12: =IF(BE12<>0,((BH12-BE12)/BE12),"") | BL12: =IF(BF12<>0,((BI12-BF12)/BF12),"") | BO12: =BM12*BN12 -> 0 | BR12: =BP12*BQ12 -> 0 | BS12: =IF(BM12<>0,((BP12-BM12)/BM12),"") | BT12: =IF(BN12<>0,((BQ12-BN12)/BN12),"") | BU12: =IF(BO12<>0,((BR12-BO12)/BO12),"") | BX12: =BV12*BW12 -> 0 | CA12: =BY12*BZ12 -> 0 | CB12: =IF(BV12<>0,((BY12-BV12)/BV12),"") | CC12: =IF(BW12<>0,((BZ12-BW12)/BW12),"") | CD12: =IF(BX12<>0,((CA12-BX12)/BX12),"") | CG12: =CE12*CF12 -> 0 | CJ12: =CH12*CI12 -> 0 | CK12: =IF(CE12<>0,((CH12-CE12)/CE12),"") | CL12: =IF(CF12<>0,((CI12-CF12)/CF12),"") | CM12: =IF(CG12<>0,((CJ12-CG12)/CG12),"") | CP12: =CN12*CO12 -> 0 | CS12: =CQ12*CR12 -> 0 | CT12: =IF(CN12<>0,((CQ12-CN12)/CN12),"") | CU12: =IF(CO12<>0,((CR12-CO12)/CO12),"") | CV12: =IF(CP12<>0,((CS12-CP12)/CP12),"") | CY12: =CW12*CX12 -> 0 | DB12: =CZ12*DA12 -> 0 | DC12: =IF(CW12<>0,((CZ12-CW12)/CW12),"") | DD12: =IF(CX12<>0,((DA12-CX12)/CX12),"") | DE12: =IF(CY12<>0,((DB12-CY12)/CY12),"") | DH12: =DF12*DG12 -> 0 | DK12: =DI12*DJ12 -> 0 | DL12: =IF(DF12<>0,((DI12-DF12)/DF12),"") | DM12: =IF(DG12<>0,((DJ12-DG12)/DG12),"") | DN12: =IF(DH12<>0,((DK12-DH12)/DH12),"") | DQ12: =DO12*DP12 -> 0 | DT12: =DR12*DS12 -> 0 | DU12: =IF(DO12<>0,((DR12-DO12)/DO12),"") | DV12: =IF(DP12<>0,((DS12-DP12)/DP12),"") | DW12: =IF(DQ12<>0,((DT12-DQ12)/DQ12),"") | DZ12: =DX12*DY12 -> 0 | EC12: =EA12*EB12 -> 0 | ED12: =IF(DX12<>0,((EA12-DX12)/DX12),"") | EE12: =IF(DY12<>0,((EB12-DY12)/DY12),"") | EF12: =IF(DZ12<>0,((EC12-DZ12)/DZ12),"") | EI12: =EG12*EH12 -> 0 | EL12: =EJ12*EK12 -> 0 | EM12: =IF(EG12<>0,((EJ12-EG12)/EG12),"") | EN12: =IF(EH12<>0,((EK12-EH12)/EH12),"") | EO12: =IF(EI12<>0,((EL12-EI12)/EI12),"") | ER12: =EP12*EQ12 -> 0 | EU12: =ES12*ET12 -> 0 | EV12: =IF(EP12<>0,((ES12-EP12)/EP12),"") | EW12: =IF(EQ12<>0,((ET12-EQ12)/EQ12),"") | EX12: =IF(ER12<>0,((EU12-ER12)/ER12),"") | FA12: =EY12*EZ12 -> 0 | FD12: =FB12*FC12 -> 0 | FE12: =IF(EY12<>0,((FB12-EY12)/EY12),"") | FF12: =IF(EZ12<>0,((FC12-EZ12)/EZ12),"") | FG12: =IF(FA12<>0,((FD12-FA12)/FA12),"") | FJ12: =FH12*FI12 -> 0 | FM12: =FK12*FL12 -> 0 | FN12: =IF(FH12<>0,((FK12-FH12)/FH12),"") | FO12: =IF(FI12<>0,((FL12-FI12)/FI12),"") | FP12: =IF(FJ12<>0,((FM12-FJ12)/FJ12),"") | FS12: =FQ12*FR12 -> 0 | FV12: =FT12*FU12 -> 0 | FW12: =IF(FQ12<>0,((FT12-FQ12)/FQ12),"") | FX12: =IF(FR12<>0,((FU12-FR12)/FR12),"") | FY12: =IF(FS12<>0,((FV12-FS12)/FS12),"") | GB12: =FZ12*GA12 -> 0 | GE12: =GC12*GD12 -> 0 | GF12: =IF(FZ12<>0,((GC12-FZ12)/FZ12),"") | GG12: =IF(GA12<>0,((GD12-GA12)/GA12),"") | GH12: =IF(GB12<>0,((GE12-GB12)/GB12),"") | GK12: =GI12*GJ12 -> 0 | GN12: =GL12*GM12 -> 0 | GO12: =IF(GI12<>0,((GL12-GI12)/GI12),"") | GP12: =IF(GJ12<>0,((GM12-GJ12)/GJ12),"") | GQ12: =IF(GK12<>0,((GN12-GK12)/GK12),"") | GT12: =GR12*GS12 -> 0 | GW12: =GU12*GV12 -> 0 | GX12: =IF(GR12<>0,((GU12-GR12)/GR12),"") | GY12: =IF(GS12<>0,((GV12-GS12)/GS12),"") | GZ12: =IF(GT12<>0,((GW12-GT12)/GT12),"") | HC12: =HA12*HB12 -> 0 | HF12: =HD12*HE12 -> 0 | HG12: =IF(HA12<>0,((HD12-HA12)/HA12),"") | HH12: =IF(HB12<>0,((HE12-HB12)/HB12),"") | HI12: =IF(HC12<>0,((HF12-HC12)/HC12),"") | HL12: =HJ12*HK12 -> 0 | HO12: =HM12*HN12 -> 0 | HP12: =IF(HJ12<>0,((HM12-HJ12)/HJ12),"") | HQ12: =IF(HK12<>0,((HN12-HK12)/HK12),"") | HR12: =IF(HL12<>0,((HO12-HL12)/HL12),"") | HU12: =HS12*HT12 -> 0 | HX12: =HV12*HW12 -> 0 | HY12: =IF(HS12<>0,((HV12-HS12)/HS12),"") | HZ12: =IF(HT12<>0,((HW12-HT12)/HT12),"") | IA12: =IF(HU12<>0,((HX12-HU12)/HU12),"") | ID12: =IB12*IC12 -> 0 | IG12: =IE12*IF12 -> 0 | IH12: =IF(IB12<>0,((IE12-IB12)/IB12),"") | II12: =IF(IC12<>0,((IF12-IC12)/IC12),"") | IJ12: =IF(ID12<>0,((IG12-ID12)/ID12),"") | IM12: =IK12*IL12 -> 0 | IP12: =IN12*IO12 -> 0 | IQ12: =IF(IK12<>0,((IN12-IK12)/IK12),"") | IR12: =IF(IL12<>0,((IO12-IL12)/IL12),"") | IS12: =IF(IM12<>0,((IP12-IM12)/IM12),"") | IV12: =IT12*IU12 -> 0 | IY12: =IW12*IX12 -> 0 | IZ12: =IF(IT12<>0,((IW12-IT12)/IT12),"") | JA12: =IF(IU12<>0,((IX12-IU12)/IU12),"") | JB12: =IF(IV12<>0,((IY12-IV12)/IV12),"") | JE12: =JC12*JD12 -> 0 | JH12: =JF12*JG12 -> 0 | JI12: =IF(JC12<>0,((JF12-JC12)/JC12),"") | JJ12: =IF(JD12<>0,((JG12-JD12)/JD12),"") | JK12: =IF(JE12<>0,((JH12-JE12)/JE12),"") | JN12: =JL12*JM12 -> 0 | JQ12: =JO12*JP12 -> 0 | JR12: =IF(JL12<>0,((JO12-JL12)/JL12),"") | JS12: =IF(JM12<>0,((JP12-JM12)/JM12),"") | JT12: =IF(JN12<>0,((JQ12-JN12)/JN12),"") | JW12: =JU12*JV12 -> 0 | JZ12: =JX12*JY12 -> 0 | KA12: =IF(JU12<>0,((JX12-JU12)/JU12),"") | KB12: =IF(JV12<>0,((JY12-JV12)/JV12),"") | KC12: =IF(JW12<>0,((JZ12-JW12)/JW12),"") | KF12: =KD12*KE12 -> 0 | KI12: =KG12*KH12 -> 0 | KJ12: =IF(KD12<>0,((KG12-KD12)/KD12),"") | KK12: =IF(KE12<>0,((KH12-KE12)/KE12),"") | KL12: =IF(KF12<>0,((KI12-KF12)/KF12),"") | KO12: =KM12*KN12 -> 0 | KR12: =KP12*KQ12 -> 0 | KS12: =IF(KM12<>0,((KP12-KM12)/KM12),"") | KT12: =IF(KN12<>0,((KQ12-KN12)/KN12),"") | KU12: =IF(KO12<>0,((KR12-KO12)/KO12),"") | KX12: =KV12*KW12 -> 0 | LA12: =KY12*KZ12 -> 0 | LB12: =IF(KV12<>0,((KY12-KV12)/KV12),"") | LC12: =IF(KW12<>0,((KZ12-KW12)/KW12),"") | LD12: =IF(KX12<>0,((LA12-KX12)/KX12),"") | LG12: =LE12*LF12 -> 0 | LJ12: =LH12*LI12 -> 0 | LK12: =IF(LE12<>0,((LH12-LE12)/LE12),"") | LL12: =IF(LF12<>0,((LI12-LF12)/LF12),"") | LM12: =IF(LG12<>0,((LJ12-LG12)/LG12),"") | LP12: =LN12*LO12 -> 0 | LS12: =LQ12*LR12 -> 0 | LT12: =IF(LN12<>0,((LQ12-LN12)/LN12),"") | LU12: =IF(LO12<>0,((LR12-LO12)/LO12),"") | LV12: =IF(LP12<>0,((LS12-LP12)/LP12),"") | LY12: =LW12*LX12 -> 0 | MB12: =LZ12*MA12 -> 0 | MC12: =IF(LW12<>0,((LZ12-LW12)/LW12),"") | MD12: =IF(LX12<>0,((MA12-LX12)/LX12),"") | ME12: =IF(LY12<>0,((MB12-LY12)/LY12),"") | MH12: =MF12*MG12 -> 0 | MK12: =MI12*MJ12 -> 0 | ML12: =IF(MF12<>0,((MI12-MF12)/MF12),"") | MM12: =IF(MG12<>0,((MJ12-MG12)/MG12),"") | MN12: =IF(MH12<>0,((MK12-MH12)/MH12),"") | MQ12: =MO12*MP12 -> 0 | MT12: =MR12*MS12 -> 0 | MU12: =IF(MO12<>0,((MR12-MO12)/MO12),"") | MV12: =IF(MP12<>0,((MS12-MP12)/MP12),"") | MW12: =IF(MQ12<>0,((MT12-MQ12)/MQ12),"") | MZ12: =MX12*MY12 -> 0 | NC12: =NA12*NB12 -> 0 | ND12: =IF(MX12<>0,((NA12-MX12)/MX12),"") | NE12: =IF(MY12<>0,((NB12-MY12)/MY12),"") | NF12: =IF(MZ12<>0,((NC12-MZ12)/MZ12),"") | NI12: =NG12*NH12 -> 0 | NL12: =NJ12*NK12 -> 0 | NM12: =IF(NG12<>0,((NJ12-NG12)/NG12),"") | NN12: =IF(NH12<>0,((NK12-NH12)/NH12),"") | NO12: =IF(NI12<>0,((NL12-NI12)/NI12),"") | NR12: =NP12*NQ12 -> 0 | NU12: =NS12*NT12 -> 0 | NV12: =IF(NP12<>0,((NS12-NP12)/NP12),"") | NW12: =IF(NQ12<>0,((NT12-NQ12)/NQ12),"") | NX12: =IF(NR12<>0,((NU12-NR12)/NR12),"") | OA12: =NY12*NZ12 -> 0 | OD12: =OB12*OC12 -> 0 | OE12: =IF(NY12<>0,((OB12-NY12)/NY12),"") | OF12: =IF(NZ12<>0,((OC12-NZ12)/NZ12),"") | OG12: =IF(OA12<>0,((OD12-OA12)/OA12),"") | OJ12: =OH12*OI12 -> 0 | OM12: =OK12*OL12 -> 0 | ON12: =IF(OH12<>0,((OK12-OH12)/OH12),"") | OO12: =IF(OI12<>0,((OL12-OI12)/OI12),"") | OP12: =IF(OJ12<>0,((OM12-OJ12)/OJ12),"") | OS12: =OQ12*OR12 -> 0 | OV12: =OT12*OU12 -> 0 | OW12: =IF(OQ12<>0,((OT12-OQ12)/OQ12),"") | OX12: =IF(OR12<>0,((OU12-OR12)/OR12),"") | OY12: =IF(OS12<>0,((OV12-OS12)/OS12),"") | PB12: =OZ12*PA12 -> 0 | PE12: =PC12*PD12 -> 0 | PF12: =IF(OZ12<>0,((PC12-OZ12)/OZ12),"") | PG12: =IF(PA12<>0,((PD12-PA12)/PA12),"") | PH12: =IF(PB12<>0,((PE12-PB12)/PB12),"") | PK12: =PI12*PJ12 -> 0 | PN12: =PL12*PM12 -> 0 | PO12: =IF(PI12<>0,((PL12-PI12)/PI12),"") | PP12: =IF(PJ12<>0,((PM12-PJ12)/PJ12),"") | PQ12: =IF(PK12<>0,((PN12-PK12)/PK12),"") | PT12: =PR12*PS12 -> 0 | PW12: =PU12*PV12 -> 0 | PX12: =IF(PR12<>0,((PU12-PR12)/PR12),"") | PY12: =IF(PS12<>0,((PV12-PS12)/PS12),"") | PZ12: =IF(PT12<>0,((PW12-PT12)/PT12),"") | QC12: =QA12*QB12 -> 0 | QF12: =QD12*QE12 -> 0 | QG12: =IF(QA12<>0,((QD12-QA12)/QA12),"") | QH12: =IF(QB12<>0,((QE12-QB12)/QB12),"") | QI12: =IF(QC12<>0,((QF12-QC12)/QC12),"") | QL12: =QJ12*QK12 -> 0 | QO12: =QM12*QN12 -> 0 | QP12: =IF(QJ12<>0,((QM12-QJ12)/QJ12),"") | QQ12: =IF(QK12<>0,((QN12-QK12)/QK12),"") | QR12: =IF(QL12<>0,((QO12-QL12)/QL12),"") | QU12: =QS12*QT12 -> 0 | QX12: =QV12*QW12 -> 0 | QY12: =IF(QS12<>0,((QV12-QS12)/QS12),"") | QZ12: =IF(QT12<>0,((QW12-QT12)/QT12),"") | RA12: =IF(QU12<>0,((QX12-QU12)/QU12),"") | RD12: =RB12*RC12 -> 0 | RG12: =RE12*RF12 -> 0 | RH12: =IF(RB12<>0,((RE12-RB12)/RB12),"") | RI12: =IF(RC12<>0,((RF12-RC12)/RC12),"") | RJ12: =IF(RD12<>0,((RG12-RD12)/RD12),"") | RM12: =RK12*RL12 -> 0 | RP12: =RN12*RO12 -> 0 | RQ12: =IF(RK12<>0,((RN12-RK12)/RK12),"") | RR12: =IF(RL12<>0,((RO12-RL12)/RL12),"") | RS12: =IF(RM12<>0,((RP12-RM12)/RM12),"") | RV12: =RT12*RU12 -> 0 | RY12: =RW12*RX12 -> 0 | RZ12: =IF(RT12<>0,((RW12-RT12)/RT12),"") | SA12: =IF(RU12<>0,((RX12-RU12)/RU12),"") | SB12: =IF(RV12<>0,((RY12-RV12)/RV12),"") | SE12: =SC12*SD12 -> 0 | SH12: =SF12*SG12 -> 0 | SI12: =IF(SC12<>0,((SF12-SC12)/SC12),"") | SJ12: =IF(SD12<>0,((SG12-SD12)/SD12),"") | SK12: =IF(SE12<>0,((SH12-SE12)/SE12),"") | SN12: =SL12*SM12 -> 0 | SQ12: =SO12*SP12 -> 0 | SR12: =IF(SL12<>0,((SO12-SL12)/SL12),"") | SS12: =IF(SM12<>0,((SP12-SM12)/SM12),"") | ST12: =IF(SN12<>0,((SQ12-SN12)/SN12),"") | SW12: =SU12*SV12 -> 0 | SZ12: =SX12*SY12 -> 0 | TA12: =IF(SU12<>0,((SX12-SU12)/SU12),"") | TB12: =IF(SV12<>0,((SY12-SV12)/SV12),"") | TC12: =IF(SW12<>0,((SZ12-SW12)/SW12),"") | TF12: =TD12*TE12 -> 0 | TI12: =TG12*TH12 -> 0 | TJ12: =IF(TD12<>0,((TG12-TD12)/TD12),"") | TK12: =IF(TE12<>0,((TH12-TE12)/TE12),"") | TL12: =IF(TF12<>0,((TI12-TF12)/TF12),"") | TO12: =TM12*TN12 -> 0 | TR12: =TP12*TQ12 -> 0 | TS12: =IF(TM12<>0,((TP12-TM12)/TM12),"") | TT12: =IF(TN12<>0,((TQ12-TN12)/TN12),"") | TU12: =IF(TO12<>0,((TR12-TO12)/TO12),"") | TX12: =TV12*TW12 -> 0 | UA12: =TY12*TZ12 -> 0 | UB12: =IF(TV12<>0,((TY12-TV12)/TV12),"") | UC12: =IF(TW12<>0,((TZ12-TW12)/TW12),"") | UD12: =IF(TX12<>0,((UA12-TX12)/TX12),"") | UG12: =UE12*UF12 -> 0 | UJ12: =UH12*UI12 -> 0 | UK12: =IF(UE12<>0,((UH12-UE12)/UE12),"") | UL12: =IF(UF12<>0,((UI12-UF12)/UF12),"") | UM12: =IF(UG12<>0,((UJ12-UG12)/UG12),"") | UP12: =UN12*UO12 -> 0 | US12: =UQ12*UR12 -> 0 | UT12: =IF(UN12<>0,((UQ12-UN12)/UN12),"") | UU12: =IF(UO12<>0,((UR12-UO12)/UO12),"") | UV12: =IF(UP12<>0,((US12-UP12)/UP12),"") | UY12: =UW12*UX12 -> 0 | VB12: =UZ12*VA12 -> 0 | VC12: =IF(UW12<>0,((UZ12-UW12)/UW12),"") | VD12: =IF(UX12<>0,((VA12-UX12)/UX12),"") | VE12: =IF(UY12<>0,((VB12-UY12)/UY12),"") | VH12: =VF12*VG12 -> 0 | VK12: =VI12*VJ12 -> 0 | VL12: =IF(VF12<>0,((VI12-VF12)/VF12),"") | VM12: =IF(VG12<>0,((VJ12-VG12)/VG12),"") | VN12: =IF(VH12<>0,((VK12-VH12)/VH12),"") | VQ12: =VO12*VP12 -> 0 | VT12: =VR12*VS12 -> 0 | VU12: =IF(VO12<>0,((VR12-VO12)/VO12),"") | VV12: =IF(VP12<>0,((VS12-VP12)/VP12),"") | VW12: =IF(VQ12<>0,((VT12-VQ12)/VQ12),"") | VZ12: =VX12*VY12 -> 0 | WC12: =WA12*WB12 -> 0 | WD12: =IF(VX12<>0,((WA12-VX12)/VX12),"") | WE12: =IF(VY12<>0,((WB12-VY12)/VY12),"") | WF12: =IF(VZ12<>0,((WC12-VZ12)/VZ12),"") | WI12: =WG12*WH12 -> 0 | WL12: =WJ12*WK12 -> 0 | WM12: =IF(WG12<>0,((WJ12-WG12)/WG12),"") | WN12: =IF(WH12<>0,((WK12-WH12)/WH12),"") | WO12: =IF(WI12<>0,((WL12-WI12)/WI12),"") | WR12: =WP12*WQ12 -> 0 | WU12: =WS12*WT12 -> 0 | WV12: =IF(WP12<>0,((WS12-WP12)/WP12),"") | WW12: =IF(WQ12<>0,((WT12-WQ12)/WQ12),"") | WX12: =IF(WR12<>0,((WU12-WR12)/WR12),"") | XA12: =WY12*WZ12 -> 0 | XD12: =XB12*XC12 -> 0 | XE12: =IF(WY12<>0,((XB12-WY12)/WY12),"") | XF12: =IF(WZ12<>0,((XC12-WZ12)/WZ12),"") | XG12: =IF(XA12<>0,((XD12-XA12)/XA12),"") | XJ12: =XH12*XI12 -> 0 | XM12: =XK12*XL12 -> 0 | XN12: =IF(XH12<>0,((XK12-XH12)/XH12),"") | XO12: =IF(XI12<>0,((XL12-XI12)/XI12),"") | XP12: =IF(XJ12<>0,((XM12-XJ12)/XJ12),"") | XS12: =XQ12*XR12 -> 0 | XV12: =XT12*XU12 -> 0 | XW12: =IF(XQ12<>0,((XT12-XQ12)/XQ12),"") | XX12: =IF(XR12<>0,((XU12-XR12)/XR12),"") | XY12: =IF(XS12<>0,((XV12-XS12)/XS12),"") | YB12: =XZ12*YA12 -> 0 | YE12: =YC12*YD12 -> 0 | YF12: =IF(XZ12<>0,((YC12-XZ12)/XZ12),"") | YG12: =IF(YA12<>0,((YD12-YA12)/YA12),"") | YH12: =IF(YB12<>0,((YE12-YB12)/YB12),"") | YK12: =YI12*YJ12 -> 0 | YN12: =YL12*YM12 -> 0 | YO12: =IF(YI12<>0,((YL12-YI12)/YI12),"") | YP12: =IF(YJ12<>0,((YM12-YJ12)/YJ12),"") | YQ12: =IF(YK12<>0,((YN12-YK12)/YK12),"") | YT12: =YR12*YS12 -> 0 | YW12: =YU12*YV12 -> 0 | YX12: =IF(YR12<>0,((YU12-YR12)/YR12),"") | YY12: =IF(YS12<>0,((YV12-YS12)/YS12),"") | YZ12: =IF(YT12<>0,((YW12-YT12)/YT12),"") | ZC12: =ZA12*ZB12 -> 0 | ZF12: =ZD12*ZE12 -> 0 | ZG12: =IF(ZA12<>0,((ZD12-ZA12)/ZA12),"") | ZH12: =IF(ZB12<>0,((ZE12-ZB12)/ZB12),"") | ZI12: =IF(ZC12<>0,((ZF12-ZC12)/ZC12),"")
A13: x | B13: k | C13: x | D13: x | E13: =SUMIF($2:$2,"Achat 2013",13:13) -> 360 | F13: =SUMIF($2:$2,"TOTAL 2013",13:13) -> 24607.2 | G13: =SUMIF($2:$2,"Achat 2014",13:13) -> 0 | H13: =SUMIF($2:$2,"TOTAL 2014",13:13) -> 0 | I13: =IF(E13<>0,((G13-E13)/E13),"") -> -1 | J13: =IF(F13<>0,((H13-F13)/F13),"") -> -1 | M13: =K13*L13 -> 0 | P13: =N13*O13 -> 0 | Q13: =IF(K13<>0,((N13-K13)/K13),"") | R13: =IF(L13<>0,((O13-L13)/L13),"") | S13: =IF(M13<>0,((P13-M13)/M13),"") | V13: =T13*U13 -> 0 | Y13: =W13*X13 -> 0 | Z13: =IF(T13<>0,((W13-T13)/T13),"") | AA13: =IF(U13<>0,((X13-U13)/U13),"") | AB13: =IF(V13<>0,((Y13-V13)/V13),"") | AE13: =AC13*AD13 -> 0 | AH13: =AF13*AG13 -> 0 | AI13: =IF(AC13<>0,((AF13-AC13)/AC13),"") | AJ13: =IF(AD13<>0,((AG13-AD13)/AD13),"") | AK13: =IF(AE13<>0,((AH13-AE13)/AE13),"") | AN13: =AL13*AM13 -> 0 | AQ13: =AO13*AP13 -> 0 | AR13: =IF(AL13<>0,((AO13-AL13)/AL13),"") | AS13: =IF(AM13<>0,((AP13-AM13)/AM13),"") | AT13: =IF(AN13<>0,((AQ13-AN13)/AN13),"") | AW13: =AU13*AV13 -> 0 | AZ13: =AX13*AY13 -> 0 | BA13: =IF(AU13<>0,((AX13-AU13)/AU13),"") | BB13: =IF(AV13<>0,((AY13-AV13)/AV13),"") | BC13: =IF(AW13<>0,((AZ13-AW13)/AW13),"") | BF13: =BD13*BE13 -> 0 | BI13: =BG13*BH13 -> 0 | BJ13: =IF(BD13<>0,((BG13-BD13)/BD13),"") | BK13: =IF(BE13<>0,((BH13-BE13)/BE13),"") | BL13: =IF(BF13<>0,((BI13-BF13)/BF13),"") | BO13: =BM13*BN13 -> 0 | BR13: =BP13*BQ13 -> 0 | BS13: =IF(BM13<>0,((BP13-BM13)/BM13),"") | BT13: =IF(BN13<>0,((BQ13-BN13)/BN13),"") | BU13: =IF(BO13<>0,((BR13-BO13)/BO13),"") | BX13: =BV13*BW13 -> 0 | CA13: =BY13*BZ13 -> 0 | CB13: =IF(BV13<>0,((BY13-BV13)/BV13),"") | CC13: =IF(BW13<>0,((BZ13-BW13)/BW13),"") | CD13: =IF(BX13<>0,((CA13-BX13)/BX13),"") | CG13: =CE13*CF13 -> 0 | CJ13: =CH13*CI13 -> 0 | CK13: =IF(CE13<>0,((CH13-CE13)/CE13),"") | CL13: =IF(CF13<>0,((CI13-CF13)/CF13),"") | CM13: =IF(CG13<>0,((CJ13-CG13)/CG13),"") | CP13: =CN13*CO13 -> 0 | CS13: =CQ13*CR13 -> 0 | CT13: =IF(CN13<>0,((CQ13-CN13)/CN13),"") | CU13: =IF(CO13<>0,((CR13-CO13)/CO13),"") | CV13: =IF(CP13<>0,((CS13-CP13)/CP13),"") | CY13: =CW13*CX13 -> 0 | DB13: =CZ13*DA13 -> 0 | DC13: =IF(CW13<>0,((CZ13-CW13)/CW13),"") | DD13: =IF(CX13<>0,((DA13-CX13)/CX13),"") | DE13: =IF(CY13<>0,((DB13-CY13)/CY13),"") | DF13: 276 | DG13: 37.2 | DH13: =DF13*DG13 -> 10267.2 | DK13: =DI13*DJ13 -> 0 | DL13: =IF(DF13<>0,((DI13-DF13)/DF13),"") -> -1 | DM13: =IF(DG13<>0,((DJ13-DG13)/DG13),"") -> -1 | DN13: =IF(DH13<>0,((DK13-DH13)/DH13),"") -> -1 | DQ13: =DO13*DP13 -> 0 | DT13: =DR13*DS13 -> 0 | DU13: =IF(DO13<>0,((DR13-DO13)/DO13),"") | DV13: =IF(DP13<>0,((DS13-DP13)/DP13),"") | DW13: =IF(DQ13<>0,((DT13-DQ13)/DQ13),"") | DZ13: =DX13*DY13 -> 0 | EC13: =EA13*EB13 -> 0 | ED13: =IF(DX13<>0,((EA13-DX13)/DX13),"") | EE13: =IF(DY13<>0,((EB13-DY13)/DY13),"") | EF13: =IF(DZ13<>0,((EC13-DZ13)/DZ13),"") | EI13: =EG13*EH13 -> 0 | EL13: =EJ13*EK13 -> 0 | EM13: =IF(EG13<>0,((EJ13-EG13)/EG13),"") | EN13: =IF(EH13<>0,((EK13-EH13)/EH13),"") | EO13: =IF(EI13<>0,((EL13-EI13)/EI13),"") | ER13: =EP13*EQ13 -> 0 | EU13: =ES13*ET13 -> 0 | EV13: =IF(EP13<>0,((ES13-EP13)/EP13),"") | EW13: =IF(EQ13<>0,((ET13-EQ13)/EQ13),"") | EX13: =IF(ER13<>0,((EU13-ER13)/ER13),"") | FA13: =EY13*EZ13 -> 0 | FD13: =FB13*FC13 -> 0 | FE13: =IF(EY13<>0,((FB13-EY13)/EY13),"") | FF13: =IF(EZ13<>0,((FC13-EZ13)/EZ13),"") | FG13: =IF(FA13<>0,((FD13-FA13)/FA13),"") | FJ13: =FH13*FI13 -> 0 | FM13: =FK13*FL13 -> 0 | FN13: =IF(FH13<>0,((FK13-FH13)/FH13),"") | FO13: =IF(FI13<>0,((FL13-FI13)/FI13),"") | FP13: =IF(FJ13<>0,((FM13-FJ13)/FJ13),"") | FS13: =FQ13*FR13 -> 0 | FV13: =FT13*FU13 -> 0 | FW13: =IF(FQ13<>0,((FT13-FQ13)/FQ13),"") | FX13: =IF(FR13<>0,((FU13-FR13)/FR13),"") | FY13: =IF(FS13<>0,((FV13-FS13)/FS13),"") | GB13: =FZ13*GA13 -> 0 | GE13: =GC13*GD13 -> 0 | GF13: =IF(FZ13<>0,((GC13-FZ13)/FZ13),"") | GG13: =IF(GA13<>0,((GD13-GA13)/GA13),"") | GH13: =IF(GB13<>0,((GE13-GB13)/GB13),"") | GK13: =GI13*GJ13 -> 0 | GN13: =GL13*GM13 -> 0 | GO13: =IF(GI13<>0,((GL13-GI13)/GI13),"") | GP13: =IF(GJ13<>0,((GM13-GJ13)/GJ13),"") | GQ13: =IF(GK13<>0,((GN13-GK13)/GK13),"") | GT13: =GR13*GS13 -> 0 | GW13: =GU13*GV13 -> 0 | GX13: =IF(GR13<>0,((GU13-GR13)/GR13),"") | GY13: =IF(GS13<>0,((GV13-GS13)/GS13),"") | GZ13: =IF(GT13<>0,((GW13-GT13)/GT13),"") | HC13: =HA13*HB13 -> 0 | HF13: =HD13*HE13 -> 0 | HG13: =IF(HA13<>0,((HD13-HA13)/HA13),"") | HH13: =IF(HB13<>0,((HE13-HB13)/HB13),"") | HI13: =IF(HC13<>0,((HF13-HC13)/HC13),"") | HL13: =HJ13*HK13 -> 0 | HO13: =HM13*HN13 -> 0 | HP13: =IF(HJ13<>0,((HM13-HJ13)/HJ13),"") | HQ13: =IF(HK13<>0,((HN13-HK13)/HK13),"") | HR13: =IF(HL13<>0,((HO13-HL13)/HL13),"") | HU13: =HS13*HT13 -> 0 | HX13: =HV13*HW13 -> 0 | HY13: =IF(HS13<>0,((HV13-HS13)/HS13),"") | HZ13: =IF(HT13<>0,((HW13-HT13)/HT13),"") | IA13: =IF(HU13<>0,((HX13-HU13)/HU13),"") | ID13: =IB13*IC13 -> 0 | IG13: =IE13*IF13 -> 0 | IH13: =IF(IB13<>0,((IE13-IB13)/IB13),"") | II13: =IF(IC13<>0,((IF13-IC13)/IC13),"") | IJ13: =IF(ID13<>0,((IG13-ID13)/ID13),"") | IM13: =IK13*IL13 -> 0 | IP13: =IN13*IO13 -> 0 | IQ13: =IF(IK13<>0,((IN13-IK13)/IK13),"") | IR13: =IF(IL13<>0,((IO13-IL13)/IL13),"") | IS13: =IF(IM13<>0,((IP13-IM13)/IM13),"") | IV13: =IT13*IU13 -> 0 | IY13: =IW13*IX13 -> 0 | IZ13: =IF(IT13<>0,((IW13-IT13)/IT13),"") | JA13: =IF(IU13<>0,((IX13-IU13)/IU13),"") | JB13: =IF(IV13<>0,((IY13-IV13)/IV13),"") | JE13: =JC13*JD13 -> 0 | JH13: =JF13*JG13 -> 0 | JI13: =IF(JC13<>0,((JF13-JC13)/JC13),"") | JJ13: =IF(JD13<>0,((JG13-JD13)/JD13),"") | JK13: =IF(JE13<>0,((JH13-JE13)/JE13),"") | JN13: =JL13*JM13 -> 0 | JQ13: =JO13*JP13 -> 0 | JR13: =IF(JL13<>0,((JO13-JL13)/JL13),"") | JS13: =IF(JM13<>0,((JP13-JM13)/JM13),"") | JT13: =IF(JN13<>0,((JQ13-JN13)/JN13),"") | JW13: =JU13*JV13 -> 0 | JZ13: =JX13*JY13 -> 0 | KA13: =IF(JU13<>0,((JX13-JU13)/JU13),"") | KB13: =IF(JV13<>0,((JY13-JV13)/JV13),"") | KC13: =IF(JW13<>0,((JZ13-JW13)/JW13),"") | KF13: =KD13*KE13 -> 0 | KI13: =KG13*KH13 -> 0 | KJ13: =IF(KD13<>0,((KG13-KD13)/KD13),"") | KK13: =IF(KE13<>0,((KH13-KE13)/KE13),"") | KL13: =IF(KF13<>0,((KI13-KF13)/KF13),"") | KO13: =KM13*KN13 -> 0 | KR13: =KP13*KQ13 -> 0 | KS13: =IF(KM13<>0,((KP13-KM13)/KM13),"") | KT13: =IF(KN13<>0,((KQ13-KN13)/KN13),"") | KU13: =IF(KO13<>0,((KR13-KO13)/KO13),"") | KX13: =KV13*KW13 -> 0 | LA13: =KY13*KZ13 -> 0 | LB13: =IF(KV13<>0,((KY13-KV13)/KV13),"") | LC13: =IF(KW13<>0,((KZ13-KW13)/KW13),"") | LD13: =IF(KX13<>0,((LA13-KX13)/KX13),"") | LG13: =LE13*LF13 -> 0 | LJ13: =LH13*LI13 -> 0 | LK13: =IF(LE13<>0,((LH13-LE13)/LE13),"") | LL13: =IF(LF13<>0,((LI13-LF13)/LF13),"") | LM13: =IF(LG13<>0,((LJ13-LG13)/LG13),"") | LP13: =LN13*LO13 -> 0 | LS13: =LQ13*LR13 -> 0 | LT13: =IF(LN13<>0,((LQ13-LN13)/LN13),"") | LU13: =IF(LO13<>0,((LR13-LO13)/LO13),"") | LV13: =IF(LP13<>0,((LS13-LP13)/LP13),"") | LY13: =LW13*LX13 -> 0 | MB13: =LZ13*MA13 -> 0 | MC13: =IF(LW13<>0,((LZ13-LW13)/LW13),"") | MD13: =IF(LX13<>0,((MA13-LX13)/LX13),"") | ME13: =IF(LY13<>0,((MB13-LY13)/LY13),"") | MH13: =MF13*MG13 -> 0 | MK13: =MI13*MJ13 -> 0 | ML13: =IF(MF13<>0,((MI13-MF13)/MF13),"") | MM13: =IF(MG13<>0,((MJ13-MG13)/MG13),"") | MN13: =IF(MH13<>0,((MK13-MH13)/MH13),"") | MQ13: =MO13*MP13 -> 0 | MT13: =MR13*MS13 -> 0 | MU13: =IF(MO13<>0,((MR13-MO13)/MO13),"") | MV13: =IF(MP13<>0,((MS13-MP13)/MP13),"") | MW13: =IF(MQ13<>0,((MT13-MQ13)/MQ13),"") | MZ13: =MX13*MY13 -> 0 | NC13: =NA13*NB13 -> 0 | ND13: =IF(MX13<>0,((NA13-MX13)/MX13),"") | NE13: =IF(MY13<>0,((NB13-MY13)/MY13),"") | NF13: =IF(MZ13<>0,((NC13-MZ13)/MZ13),"") | NI13: =NG13*NH13 -> 0 | NL13: =NJ13*NK13 -> 0 | NM13: =IF(NG13<>0,((NJ13-NG13)/NG13),"") | NN13: =IF(NH13<>0,((NK13-NH13)/NH13),"") | NO13: =IF(NI13<>0,((NL13-NI13)/NI13),"") | NR13: =NP13*NQ13 -> 0 | NU13: =NS13*NT13 -> 0 | NV13: =IF(NP13<>0,((NS13-NP13)/NP13),"") | NW13: =IF(NQ13<>0,((NT13-NQ13)/NQ13),"") | NX13: =IF(NR13<>0,((NU13-NR13)/NR13),"") | OA13: =NY13*NZ13 -> 0 | OD13: =OB13*OC13 -> 0 | OE13: =IF(NY13<>0,((OB13-NY13)/NY13),"") | OF13: =IF(NZ13<>0,((OC13-NZ13)/NZ13),"") | OG13: =IF(OA13<>0,((OD13-OA13)/OA13),"") | OJ13: =OH13*OI13 -> 0 | OM13: =OK13*OL13 -> 0 | ON13: =IF(OH13<>0,((OK13-OH13)/OH13),"") | OO13: =IF(OI13<>0,((OL13-OI13)/OI13),"") | OP13: =IF(OJ13<>0,((OM13-OJ13)/OJ13),"") | OS13: =OQ13*OR13 -> 0 | OV13: =OT13*OU13 -> 0 | OW13: =IF(OQ13<>0,((OT13-OQ13)/OQ13),"") | OX13: =IF(OR13<>0,((OU13-OR13)/OR13),"") | OY13: =IF(OS13<>0,((OV13-OS13)/OS13),"") | PB13: =OZ13*PA13 -> 0 | PE13: =PC13*PD13 -> 0 | PF13: =IF(OZ13<>0,((PC13-OZ13)/OZ13),"") | PG13: =IF(PA13<>0,((PD13-PA13)/PA13),"") | PH13: =IF(PB13<>0,((PE13-PB13)/PB13),"") | PK13: =PI13*PJ13 -> 0 | PN13: =PL13*PM13 -> 0 | PO13: =IF(PI13<>0,((PL13-PI13)/PI13),"") | PP13: =IF(PJ13<>0,((PM13-PJ13)/PJ13),"") | PQ13: =IF(PK13<>0,((PN13-PK13)/PK13),"") | PT13: =PR13*PS13 -> 0 | PW13: =PU13*PV13 -> 0 | PX13: =IF(PR13<>0,((PU13-PR13)/PR13),"") | PY13: =IF(PS13<>0,((PV13-PS13)/PS13),"") | PZ13: =IF(PT13<>0,((PW13-PT13)/PT13),"") | QC13: =QA13*QB13 -> 0 | QF13: =QD13*QE13 -> 0 | QG13: =IF(QA13<>0,((QD13-QA13)/QA13),"") | QH13: =IF(QB13<>0,((QE13-QB13)/QB13),"") | QI13: =IF(QC13<>0,((QF13-QC13)/QC13),"") | QL13: =QJ13*QK13 -> 0 | QO13: =QM13*QN13 -> 0 | QP13: =IF(QJ13<>0,((QM13-QJ13)/QJ13),"") | QQ13: =IF(QK13<>0,((QN13-QK13)/QK13),"") | QR13: =IF(QL13<>0,((QO13-QL13)/QL13),"") | QU13: =QS13*QT13 -> 0 | QX13: =QV13*QW13 -> 0 | QY13: =IF(QS13<>0,((QV13-QS13)/QS13),"") | QZ13: =IF(QT13<>0,((QW13-QT13)/QT13),"") | RA13: =IF(QU13<>0,((QX13-QU13)/QU13),"") | RB13: 60 | RC13: 215 | RD13: =RB13*RC13 -> 12900 | RG13: =RE13*RF13 -> 0 | RH13: =IF(RB13<>0,((RE13-RB13)/RB13),"") -> -1 | RI13: =IF(RC13<>0,((RF13-RC13)/RC13),"") -> -1 | RJ13: =IF(RD13<>0,((RG13-RD13)/RD13),"") -> -1 | RM13: =RK13*RL13 -> 0 | RP13: =RN13*RO13 -> 0 | RQ13: =IF(RK13<>0,((RN13-RK13)/RK13),"") | RR13: =IF(RL13<>0,((RO13-RL13)/RL13),"") | RS13: =IF(RM13<>0,((RP13-RM13)/RM13),"") | RV13: =RT13*RU13 -> 0 | RY13: =RW13*RX13 -> 0 | RZ13: =IF(RT13<>0,((RW13-RT13)/RT13),"") | SA13: =IF(RU13<>0,((RX13-RU13)/RU13),"") | SB13: =IF(RV13<>0,((RY13-RV13)/RV13),"") | SE13: =SC13*SD13 -> 0 | SH13: =SF13*SG13 -> 0 | SI13: =IF(SC13<>0,((SF13-SC13)/SC13),"") | SJ13: =IF(SD13<>0,((SG13-SD13)/SD13),"") | SK13: =IF(SE13<>0,((SH13-SE13)/SE13),"") | SN13: =SL13*SM13 -> 0 | SQ13: =SO13*SP13 -> 0 | SR13: =IF(SL13<>0,((SO13-SL13)/SL13),"") | SS13: =IF(SM13<>0,((SP13-SM13)/SM13),"") | ST13: =IF(SN13<>0,((SQ13-SN13)/SN13),"") | SW13: =SU13*SV13 -> 0 | SZ13: =SX13*SY13 -> 0 | TA13: =IF(SU13<>0,((SX13-SU13)/SU13),"") | TB13: =IF(SV13<>0,((SY13-SV13)/SV13),"") | TC13: =IF(SW13<>0,((SZ13-SW13)/SW13),"") | TD13: 24 | TE13: 60 | TF13: =TD13*TE13 -> 1440 | TI13: =TG13*TH13 -> 0 | TJ13: =IF(TD13<>0,((TG13-TD13)/TD13),"") -> -1 | TK13: =IF(TE13<>0,((TH13-TE13)/TE13),"") -> -1 | TL13: =IF(TF13<>0,((TI13-TF13)/TF13),"") -> -1 | TO13: =TM13*TN13 -> 0 | TR13: =TP13*TQ13 -> 0 | TS13: =IF(TM13<>0,((TP13-TM13)/TM13),"") | TT13: =IF(TN13<>0,((TQ13-TN13)/TN13),"") | TU13: =IF(TO13<>0,((TR13-TO13)/TO13),"") | TX13: =TV13*TW13 -> 0 | UA13: =TY13*TZ13 -> 0 | UB13: =IF(TV13<>0,((TY13-TV13)/TV13),"") | UC13: =IF(TW13<>0,((TZ13-TW13)/TW13),"") | UD13: =IF(TX13<>0,((UA13-TX13)/TX13),"") | UG13: =UE13*UF13 -> 0 | UJ13: =UH13*UI13 -> 0 | UK13: =IF(UE13<>0,((UH13-UE13)/UE13),"") | UL13: =IF(UF13<>0,((UI13-UF13)/UF13),"") | UM13: =IF(UG13<>0,((UJ13-UG13)/UG13),"") | UP13: =UN13*UO13 -> 0 | US13: =UQ13*UR13 -> 0 | UT13: =IF(UN13<>0,((UQ13-UN13)/UN13),"") | UU13: =IF(UO13<>0,((UR13-UO13)/UO13),"") | UV13: =IF(UP13<>0,((US13-UP13)/UP13),"") | UY13: =UW13*UX13 -> 0 | VB13: =UZ13*VA13 -> 0 | VC13: =IF(UW13<>0,((UZ13-UW13)/UW13),"") | VD13: =IF(UX13<>0,((VA13-UX13)/UX13),"") | VE13: =IF(UY13<>0,((VB13-UY13)/UY13),"") | VH13: =VF13*VG13 -> 0 | VK13: =VI13*VJ13 -> 0 | VL13: =IF(VF13<>0,((VI13-VF13)/VF13),"") | VM13: =IF(VG13<>0,((VJ13-VG13)/VG13),"") | VN13: =IF(VH13<>0,((VK13-VH13)/VH13),"") | VQ13: =VO13*VP13 -> 0 | VT13: =VR13*VS13 -> 0 | VU13: =IF(VO13<>0,((VR13-VO13)/VO13),"") | VV13: =IF(VP13<>0,((VS13-VP13)/VP13),"") | VW13: =IF(VQ13<>0,((VT13-VQ13)/VQ13),"") | VZ13: =VX13*VY13 -> 0 | WC13: =WA13*WB13 -> 0 | WD13: =IF(VX13<>0,((WA13-VX13)/VX13),"") | WE13: =IF(VY13<>0,((WB13-VY13)/VY13),"") | WF13: =IF(VZ13<>0,((WC13-VZ13)/VZ13),"") | WI13: =WG13*WH13 -> 0 | WL13: =WJ13*WK13 -> 0 | WM13: =IF(WG13<>0,((WJ13-WG13)/WG13),"") | WN13: =IF(WH13<>0,((WK13-WH13)/WH13),"") | WO13: =IF(WI13<>0,((WL13-WI13)/WI13),"") | WR13: =WP13*WQ13 -> 0 | WU13: =WS13*WT13 -> 0 | WV13: =IF(WP13<>0,((WS13-WP13)/WP13),"") | WW13: =IF(WQ13<>0,((WT13-WQ13)/WQ13),"") | WX13: =IF(WR13<>0,((WU13-WR13)/WR13),"") | XA13: =WY13*WZ13 -> 0 | XD13: =XB13*XC13 -> 0 | XE13: =IF(WY13<>0,((XB13-WY13)/WY13),"") | XF13: =IF(WZ13<>0,((XC13-WZ13)/WZ13),"") | XG13: =IF(XA13<>0,((XD13-XA13)/XA13),"") | XJ13: =XH13*XI13 -> 0 | XM13: =XK13*XL13 -> 0 | XN13: =IF(XH13<>0,((XK13-XH13)/XH13),"") | XO13: =IF(XI13<>0,((XL13-XI13)/XI13),"") | XP13: =IF(XJ13<>0,((XM13-XJ13)/XJ13),"") | XS13: =XQ13*XR13 -> 0 | XV13: =XT13*XU13 -> 0 | XW13: =IF(XQ13<>0,((XT13-XQ13)/XQ13),"") | XX13: =IF(XR13<>0,((XU13-XR13)/XR13),"") | XY13: =IF(XS13<>0,((XV13-XS13)/XS13),"") | YB13: =XZ13*YA13 -> 0 | YE13: =YC13*YD13 -> 0 | YF13: =IF(XZ13<>0,((YC13-XZ13)/XZ13),"") | YG13: =IF(YA13<>0,((YD13-YA13)/YA13),"") | YH13: =IF(YB13<>0,((YE13-YB13)/YB13),"") | YK13: =YI13*YJ13 -> 0 | YN13: =YL13*YM13 -> 0 | YO13: =IF(YI13<>0,((YL13-YI13)/YI13),"") | YP13: =IF(YJ13<>0,((YM13-YJ13)/YJ13),"") | YQ13: =IF(YK13<>0,((YN13-YK13)/YK13),"") | YT13: =YR13*YS13 -> 0 | YW13: =YU13*YV13 -> 0 | YX13: =IF(YR13<>0,((YU13-YR13)/YR13),"") | YY13: =IF(YS13<>0,((YV13-YS13)/YS13),"") | YZ13: =IF(YT13<>0,((YW13-YT13)/YT13),"") | ZC13: =ZA13*ZB13 -> 0 | ZF13: =ZD13*ZE13 -> 0 | ZG13: =IF(ZA13<>0,((ZD13-ZA13)/ZA13),"") | ZH13: =IF(ZB13<>0,((ZE13-ZB13)/ZB13),"") | ZI13: =IF(ZC13<>0,((ZF13-ZC13)/ZC13),"")
A14: x | B14: l | C14: x | D14: x | E14: =SUMIF($2:$2,"Achat 2013",14:14) -> 48 | F14: =SUMIF($2:$2,"TOTAL 2013",14:14) -> 1785.6 | G14: =SUMIF($2:$2,"Achat 2014",14:14) -> 0 | H14: =SUMIF($2:$2,"TOTAL 2014",14:14) -> 0 | I14: =IF(E14<>0,((G14-E14)/E14),"") -> -1 | J14: =IF(F14<>0,((H14-F14)/F14),"") -> -1 | M14: =K14*L14 -> 0 | P14: =N14*O14 -> 0 | Q14: =IF(K14<>0,((N14-K14)/K14),"") | R14: =IF(L14<>0,((O14-L14)/L14),"") | S14: =IF(M14<>0,((P14-M14)/M14),"") | V14: =T14*U14 -> 0 | Y14: =W14*X14 -> 0 | Z14: =IF(T14<>0,((W14-T14)/T14),"") | AA14: =IF(U14<>0,((X14-U14)/U14),"") | AB14: =IF(V14<>0,((Y14-V14)/V14),"") | AE14: =AC14*AD14 -> 0 | AH14: =AF14*AG14 -> 0 | AI14: =IF(AC14<>0,((AF14-AC14)/AC14),"") | AJ14: =IF(AD14<>0,((AG14-AD14)/AD14),"") | AK14: =IF(AE14<>0,((AH14-AE14)/AE14),"") | AN14: =AL14*AM14 -> 0 | AQ14: =AO14*AP14 -> 0 | AR14: =IF(AL14<>0,((AO14-AL14)/AL14),"") | AS14: =IF(AM14<>0,((AP14-AM14)/AM14),"") | AT14: =IF(AN14<>0,((AQ14-AN14)/AN14),"") | AW14: =AU14*AV14 -> 0 | AZ14: =AX14*AY14 -> 0 | BA14: =IF(AU14<>0,((AX14-AU14)/AU14),"") | BB14: =IF(AV14<>0,((AY14-AV14)/AV14),"") | BC14: =IF(AW14<>0,((AZ14-AW14)/AW14),"") | BF14: =BD14*BE14 -> 0 | BI14: =BG14*BH14 -> 0 | BJ14: =IF(BD14<>0,((BG14-BD14)/BD14),"") | BK14: =IF(BE14<>0,((BH14-BE14)/BE14),"") | BL14: =IF(BF14<>0,((BI14-BF14)/BF14),"") | BO14: =BM14*BN14 -> 0 | BR14: =BP14*BQ14 -> 0 | BS14: =IF(BM14<>0,((BP14-BM14)/BM14),"") | BT14: =IF(BN14<>0,((BQ14-BN14)/BN14),"") | BU14: =IF(BO14<>0,((BR14-BO14)/BO14),"") | BX14: =BV14*BW14 -> 0 | CA14: =BY14*BZ14 -> 0 | CB14: =IF(BV14<>0,((BY14-BV14)/BV14),"") | CC14: =IF(BW14<>0,((BZ14-BW14)/BW14),"") | CD14: =IF(BX14<>0,((CA14-BX14)/BX14),"") | CG14: =CE14*CF14 -> 0 | CJ14: =CH14*CI14 -> 0 | CK14: =IF(CE14<>0,((CH14-CE14)/CE14),"") | CL14: =IF(CF14<>0,((CI14-CF14)/CF14),"") | CM14: =IF(CG14<>0,((CJ14-CG14)/CG14),"") | CP14: =CN14*CO14 -> 0 | CS14: =CQ14*CR14 -> 0 | CT14: =IF(CN14<>0,((CQ14-CN14)/CN14),"") | CU14: =IF(CO14<>0,((CR14-CO14)/CO14),"") | CV14: =IF(CP14<>0,((CS14-CP14)/CP14),"") | CY14: =CW14*CX14 -> 0 | DB14: =CZ14*DA14 -> 0 | DC14: =IF(CW14<>0,((CZ14-CW14)/CW14),"") | DD14: =IF(CX14<>0,((DA14-CX14)/CX14),"") | DE14: =IF(CY14<>0,((DB14-CY14)/CY14),"") | DF14: 48 | DG14: 37.2 | DH14: =DF14*DG14 -> 1785.6 | DK14: =DI14*DJ14 -> 0 | DL14: =IF(DF14<>0,((DI14-DF14)/DF14),"") -> -1 | DM14: =IF(DG14<>0,((DJ14-DG14)/DG14),"") -> -1 | DN14: =IF(DH14<>0,((DK14-DH14)/DH14),"") -> -1 | DQ14: =DO14*DP14 -> 0 | DT14: =DR14*DS14 -> 0 | DU14: =IF(DO14<>0,((DR14-DO14)/DO14),"") | DV14: =IF(DP14<>0,((DS14-DP14)/DP14),"") | DW14: =IF(DQ14<>0,((DT14-DQ14)/DQ14),"") | DZ14: =DX14*DY14 -> 0 | EC14: =EA14*EB14 -> 0 | ED14: =IF(DX14<>0,((EA14-DX14)/DX14),"") | EE14: =IF(DY14<>0,((EB14-DY14)/DY14),"") | EF14: =IF(DZ14<>0,((EC14-DZ14)/DZ14),"") | EI14: =EG14*EH14 -> 0 | EL14: =EJ14*EK14 -> 0 | EM14: =IF(EG14<>0,((EJ14-EG14)/EG14),"") | EN14: =IF(EH14<>0,((EK14-EH14)/EH14),"") | EO14: =IF(EI14<>0,((EL14-EI14)/EI14),"") | ER14: =EP14*EQ14 -> 0 | EU14: =ES14*ET14 -> 0 | EV14: =IF(EP14<>0,((ES14-EP14)/EP14),"") | EW14: =IF(EQ14<>0,((ET14-EQ14)/EQ14),"") | EX14: =IF(ER14<>0,((EU14-ER14)/ER14),"") | FA14: =EY14*EZ14 -> 0 | FD14: =FB14*FC14 -> 0 | FE14: =IF(EY14<>0,((FB14-EY14)/EY14),"") | FF14: =IF(EZ14<>0,((FC14-EZ14)/EZ14),"") | FG14: =IF(FA14<>0,((FD14-FA14)/FA14),"") | FJ14: =FH14*FI14 -> 0 | FM14: =FK14*FL14 -> 0 | FN14: =IF(FH14<>0,((FK14-FH14)/FH14),"") | FO14: =IF(FI14<>0,((FL14-FI14)/FI14),"") | FP14: =IF(FJ14<>0,((FM14-FJ14)/FJ14),"") | FS14: =FQ14*FR14 -> 0 | FV14: =FT14*FU14 -> 0 | FW14: =IF(FQ14<>0,((FT14-FQ14)/FQ14),"") | FX14: =IF(FR14<>0,((FU14-FR14)/FR14),"") | FY14: =IF(FS14<>0,((FV14-FS14)/FS14),"") | GB14: =FZ14*GA14 -> 0 | GE14: =GC14*GD14 -> 0 | GF14: =IF(FZ14<>0,((GC14-FZ14)/FZ14),"") | GG14: =IF(GA14<>0,((GD14-GA14)/GA14),"") | GH14: =IF(GB14<>0,((GE14-GB14)/GB14),"") | GK14: =GI14*GJ14 -> 0 | GN14: =GL14*GM14 -> 0 | GO14: =IF(GI14<>0,((GL14-GI14)/GI14),"") | GP14: =IF(GJ14<>0,((GM14-GJ14)/GJ14),"") | GQ14: =IF(GK14<>0,((GN14-GK14)/GK14),"") | GT14: =GR14*GS14 -> 0 | GW14: =GU14*GV14 -> 0 | GX14: =IF(GR14<>0,((GU14-GR14)/GR14),"") | GY14: =IF(GS14<>0,((GV14-GS14)/GS14),"") | GZ14: =IF(GT14<>0,((GW14-GT14)/GT14),"") | HC14: =HA14*HB14 -> 0 | HF14: =HD14*HE14 -> 0 | HG14: =IF(HA14<>0,((HD14-HA14)/HA14),"") | HH14: =IF(HB14<>0,((HE14-HB14)/HB14),"") | HI14: =IF(HC14<>0,((HF14-HC14)/HC14),"") | HL14: =HJ14*HK14 -> 0 | HO14: =HM14*HN14 -> 0 | HP14: =IF(HJ14<>0,((HM14-HJ14)/HJ14),"") | HQ14: =IF(HK14<>0,((HN14-HK14)/HK14),"") | HR14: =IF(HL14<>0,((HO14-HL14)/HL14),"") | HU14: =HS14*HT14 -> 0 | HX14: =HV14*HW14 -> 0 | HY14: =IF(HS14<>0,((HV14-HS14)/HS14),"") | HZ14: =IF(HT14<>0,((HW14-HT14)/HT14),"") | IA14: =IF(HU14<>0,((HX14-HU14)/HU14),"") | ID14: =IB14*IC14 -> 0 | IG14: =IE14*IF14 -> 0 | IH14: =IF(IB14<>0,((IE14-IB14)/IB14),"") | II14: =IF(IC14<>0,((IF14-IC14)/IC14),"") | IJ14: =IF(ID14<>0,((IG14-ID14)/ID14),"") | IM14: =IK14*IL14 -> 0 | IP14: =IN14*IO14 -> 0 | IQ14: =IF(IK14<>0,((IN14-IK14)/IK14),"") | IR14: =IF(IL14<>0,((IO14-IL14)/IL14),"") | IS14: =IF(IM14<>0,((IP14-IM14)/IM14),"") | IV14: =IT14*IU14 -> 0 | IY14: =IW14*IX14 -> 0 | IZ14: =IF(IT14<>0,((IW14-IT14)/IT14),"") | JA14: =IF(IU14<>0,((IX14-IU14)/IU14),"") | JB14: =IF(IV14<>0,((IY14-IV14)/IV14),"") | JE14: =JC14*JD14 -> 0 | JH14: =JF14*JG14 -> 0 | JI14: =IF(JC14<>0,((JF14-JC14)/JC14),"") | JJ14: =IF(JD14<>0,((JG14-JD14)/JD14),"") | JK14: =IF(JE14<>0,((JH14-JE14)/JE14),"") | JN14: =JL14*JM14 -> 0 | JQ14: =JO14*JP14 -> 0 | JR14: =IF(JL14<>0,((JO14-JL14)/JL14),"") | JS14: =IF(JM14<>0,((JP14-JM14)/JM14),"") | JT14: =IF(JN14<>0,((JQ14-JN14)/JN14),"") | JW14: =JU14*JV14 -> 0 | JZ14: =JX14*JY14 -> 0 | KA14: =IF(JU14<>0,((JX14-JU14)/JU14),"") | KB14: =IF(JV14<>0,((JY14-JV14)/JV14),"") | KC14: =IF(JW14<>0,((JZ14-JW14)/JW14),"") | KF14: =KD14*KE14 -> 0 | KI14: =KG14*KH14 -> 0 | KJ14: =IF(KD14<>0,((KG14-KD14)/KD14),"") | KK14: =IF(KE14<>0,((KH14-KE14)/KE14),"") | KL14: =IF(KF14<>0,((KI14-KF14)/KF14),"") | KO14: =KM14*KN14 -> 0 | KR14: =KP14*KQ14 -> 0 | KS14: =IF(KM14<>0,((KP14-KM14)/KM14),"") | KT14: =IF(KN14<>0,((KQ14-KN14)/KN14),"") | KU14: =IF(KO14<>0,((KR14-KO14)/KO14),"") | KX14: =KV14*KW14 -> 0 | LA14: =KY14*KZ14 -> 0 | LB14: =IF(KV14<>0,((KY14-KV14)/KV14),"") | LC14: =IF(KW14<>0,((KZ14-KW14)/KW14),"") | LD14: =IF(KX14<>0,((LA14-KX14)/KX14),"") | LG14: =LE14*LF14 -> 0 | LJ14: =LH14*LI14 -> 0 | LK14: =IF(LE14<>0,((LH14-LE14)/LE14),"") | LL14: =IF(LF14<>0,((LI14-LF14)/LF14),"") | LM14: =IF(LG14<>0,((LJ14-LG14)/LG14),"") | LP14: =LN14*LO14 -> 0 | LS14: =LQ14*LR14 -> 0 | LT14: =IF(LN14<>0,((LQ14-LN14)/LN14),"") | LU14: =IF(LO14<>0,((LR14-LO14)/LO14),"") | LV14: =IF(LP14<>0,((LS14-LP14)/LP14),"") | LY14: =LW14*LX14 -> 0 | MB14: =LZ14*MA14 -> 0 | MC14: =IF(LW14<>0,((LZ14-LW14)/LW14),"") | MD14: =IF(LX14<>0,((MA14-LX14)/LX14),"") | ME14: =IF(LY14<>0,((MB14-LY14)/LY14),"") | MH14: =MF14*MG14 -> 0 | MK14: =MI14*MJ14 -> 0 | ML14: =IF(MF14<>0,((MI14-MF14)/MF14),"") | MM14: =IF(MG14<>0,((MJ14-MG14)/MG14),"") | MN14: =IF(MH14<>0,((MK14-MH14)/MH14),"") | MQ14: =MO14*MP14 -> 0 | MT14: =MR14*MS14 -> 0 | MU14: =IF(MO14<>0,((MR14-MO14)/MO14),"") | MV14: =IF(MP14<>0,((MS14-MP14)/MP14),"") | MW14: =IF(MQ14<>0,((MT14-MQ14)/MQ14),"") | MZ14: =MX14*MY14 -> 0 | NC14: =NA14*NB14 -> 0 | ND14: =IF(MX14<>0,((NA14-MX14)/MX14),"") | NE14: =IF(MY14<>0,((NB14-MY14)/MY14),"") | NF14: =IF(MZ14<>0,((NC14-MZ14)/MZ14),"") | NI14: =NG14*NH14 -> 0 | NL14: =NJ14*NK14 -> 0 | NM14: =IF(NG14<>0,((NJ14-NG14)/NG14),"") | NN14: =IF(NH14<>0,((NK14-NH14)/NH14),"") | NO14: =IF(NI14<>0,((NL14-NI14)/NI14),"") | NR14: =NP14*NQ14 -> 0 | NU14: =NS14*NT14 -> 0 | NV14: =IF(NP14<>0,((NS14-NP14)/NP14),"") | NW14: =IF(NQ14<>0,((NT14-NQ14)/NQ14),"") | NX14: =IF(NR14<>0,((NU14-NR14)/NR14),"") | OA14: =NY14*NZ14 -> 0 | OD14: =OB14*OC14 -> 0 | OE14: =IF(NY14<>0,((OB14-NY14)/NY14),"") | OF14: =IF(NZ14<>0,((OC14-NZ14)/NZ14),"") | OG14: =IF(OA14<>0,((OD14-OA14)/OA14),"") | OJ14: =OH14*OI14 -> 0 | OM14: =OK14*OL14 -> 0 | ON14: =IF(OH14<>0,((OK14-OH14)/OH14),"") | OO14: =IF(OI14<>0,((OL14-OI14)/OI14),"") | OP14: =IF(OJ14<>0,((OM14-OJ14)/OJ14),"") | OS14: =OQ14*OR14 -> 0 | OV14: =OT14*OU14 -> 0 | OW14: =IF(OQ14<>0,((OT14-OQ14)/OQ14),"") | OX14: =IF(OR14<>0,((OU14-OR14)/OR14),"") | OY14: =IF(OS14<>0,((OV14-OS14)/OS14),"") | PB14: =OZ14*PA14 -> 0 | PE14: =PC14*PD14 -> 0 | PF14: =IF(OZ14<>0,((PC14-OZ14)/OZ14),"") | PG14: =IF(PA14<>0,((PD14-PA14)/PA14),"") | PH14: =IF(PB14<>0,((PE14-PB14)/PB14),"") | PK14: =PI14*PJ14 -> 0 | PN14: =PL14*PM14 -> 0 | PO14: =IF(PI14<>0,((PL14-PI14)/PI14),"") | PP14: =IF(PJ14<>0,((PM14-PJ14)/PJ14),"") | PQ14: =IF(PK14<>0,((PN14-PK14)/PK14),"") | PT14: =PR14*PS14 -> 0 | PW14: =PU14*PV14 -> 0 | PX14: =IF(PR14<>0,((PU14-PR14)/PR14),"") | PY14: =IF(PS14<>0,((PV14-PS14)/PS14),"") | PZ14: =IF(PT14<>0,((PW14-PT14)/PT14),"") | QC14: =QA14*QB14 -> 0 | QF14: =QD14*QE14 -> 0 | QG14: =IF(QA14<>0,((QD14-QA14)/QA14),"") | QH14: =IF(QB14<>0,((QE14-QB14)/QB14),"") | QI14: =IF(QC14<>0,((QF14-QC14)/QC14),"") | QL14: =QJ14*QK14 -> 0 | QO14: =QM14*QN14 -> 0 | QP14: =IF(QJ14<>0,((QM14-QJ14)/QJ14),"") | QQ14: =IF(QK14<>0,((QN14-QK14)/QK14),"") | QR14: =IF(QL14<>0,((QO14-QL14)/QL14),"") | QU14: =QS14*QT14 -> 0 | QX14: =QV14*QW14 -> 0 | QY14: =IF(QS14<>0,((QV14-QS14)/QS14),"") | QZ14: =IF(QT14<>0,((QW14-QT14)/QT14),"") | RA14: =IF(QU14<>0,((QX14-QU14)/QU14),"") | RD14: =RB14*RC14 -> 0 | RG14: =RE14*RF14 -> 0 | RH14: =IF(RB14<>0,((RE14-RB14)/RB14),"") | RI14: =IF(RC14<>0,((RF14-RC14)/RC14),"") | RJ14: =IF(RD14<>0,((RG14-RD14)/RD14),"") | RM14: =RK14*RL14 -> 0 | RP14: =RN14*RO14 -> 0 | RQ14: =IF(RK14<>0,((RN14-RK14)/RK14),"") | RR14: =IF(RL14<>0,((RO14-RL14)/RL14),"") | RS14: =IF(RM14<>0,((RP14-RM14)/RM14),"") | RV14: =RT14*RU14 -> 0 | RY14: =RW14*RX14 -> 0 | RZ14: =IF(RT14<>0,((RW14-RT14)/RT14),"") | SA14: =IF(RU14<>0,((RX14-RU14)/RU14),"") | SB14: =IF(RV14<>0,((RY14-RV14)/RV14),"") | SE14: =SC14*SD14 -> 0 | SH14: =SF14*SG14 -> 0 | SI14: =IF(SC14<>0,((SF14-SC14)/SC14),"") | SJ14: =IF(SD14<>0,((SG14-SD14)/SD14),"") | SK14: =IF(SE14<>0,((SH14-SE14)/SE14),"") | SN14: =SL14*SM14 -> 0 | SQ14: =SO14*SP14 -> 0 | SR14: =IF(SL14<>0,((SO14-SL14)/SL14),"") | SS14: =IF(SM14<>0,((SP14-SM14)/SM14),"") | ST14: =IF(SN14<>0,((SQ14-SN14)/SN14),"") | SW14: =SU14*SV14 -> 0 | SZ14: =SX14*SY14 -> 0 | TA14: =IF(SU14<>0,((SX14-SU14)/SU14),"") | TB14: =IF(SV14<>0,((SY14-SV14)/SV14),"") | TC14: =IF(SW14<>0,((SZ14-SW14)/SW14),"") | TF14: =TD14*TE14 -> 0 | TI14: =TG14*TH14 -> 0 | TJ14: =IF(TD14<>0,((TG14-TD14)/TD14),"") | TK14: =IF(TE14<>0,((TH14-TE14)/TE14),"") | TL14: =IF(TF14<>0,((TI14-TF14)/TF14),"") | TO14: =TM14*TN14 -> 0 | TR14: =TP14*TQ14 -> 0 | TS14: =IF(TM14<>0,((TP14-TM14)/TM14),"") | TT14: =IF(TN14<>0,((TQ14-TN14)/TN14),"") | TU14: =IF(TO14<>0,((TR14-TO14)/TO14),"") | TX14: =TV14*TW14 -> 0 | UA14: =TY14*TZ14 -> 0 | UB14: =IF(TV14<>0,((TY14-TV14)/TV14),"") | UC14: =IF(TW14<>0,((TZ14-TW14)/TW14),"") | UD14: =IF(TX14<>0,((UA14-TX14)/TX14),"") | UG14: =UE14*UF14 -> 0 | UJ14: =UH14*UI14 -> 0 | UK14: =IF(UE14<>0,((UH14-UE14)/UE14),"") | UL14: =IF(UF14<>0,((UI14-UF14)/UF14),"") | UM14: =IF(UG14<>0,((UJ14-UG14)/UG14),"") | UP14: =UN14*UO14 -> 0 | US14: =UQ14*UR14 -> 0 | UT14: =IF(UN14<>0,((UQ14-UN14)/UN14),"") | UU14: =IF(UO14<>0,((UR14-UO14)/UO14),"") | UV14: =IF(UP14<>0,((US14-UP14)/UP14),"") | UY14: =UW14*UX14 -> 0 | VB14: =UZ14*VA14 -> 0 | VC14: =IF(UW14<>0,((UZ14-UW14)/UW14),"") | VD14: =IF(UX14<>0,((VA14-UX14)/UX14),"") | VE14: =IF(UY14<>0,((VB14-UY14)/UY14),"") | VH14: =VF14*VG14 -> 0 | VK14: =VI14*VJ14 -> 0 | VL14: =IF(VF14<>0,((VI14-VF14)/VF14),"") | VM14: =IF(VG14<>0,((VJ14-VG14)/VG14),"") | VN14: =IF(VH14<>0,((VK14-VH14)/VH14),"") | VQ14: =VO14*VP14 -> 0 | VT14: =VR14*VS14 -> 0 | VU14: =IF(VO14<>0,((VR14-VO14)/VO14),"") | VV14: =IF(VP14<>0,((VS14-VP14)/VP14),"") | VW14: =IF(VQ14<>0,((VT14-VQ14)/VQ14),"") | VZ14: =VX14*VY14 -> 0 | WC14: =WA14*WB14 -> 0 | WD14: =IF(VX14<>0,((WA14-VX14)/VX14),"") | WE14: =IF(VY14<>0,((WB14-VY14)/VY14),"") | WF14: =IF(VZ14<>0,((WC14-VZ14)/VZ14),"") | WI14: =WG14*WH14 -> 0 | WL14: =WJ14*WK14 -> 0 | WM14: =IF(WG14<>0,((WJ14-WG14)/WG14),"") | WN14: =IF(WH14<>0,((WK14-WH14)/WH14),"") | WO14: =IF(WI14<>0,((WL14-WI14)/WI14),"") | WR14: =WP14*WQ14 -> 0 | WU14: =WS14*WT14 -> 0 | WV14: =IF(WP14<>0,((WS14-WP14)/WP14),"") | WW14: =IF(WQ14<>0,((WT14-WQ14)/WQ14),"") | WX14: =IF(WR14<>0,((WU14-WR14)/WR14),"") | XA14: =WY14*WZ14 -> 0 | XD14: =XB14*XC14 -> 0 | XE14: =IF(WY14<>0,((XB14-WY14)/WY14),"") | XF14: =IF(WZ14<>0,((XC14-WZ14)/WZ14),"") | XG14: =IF(XA14<>0,((XD14-XA14)/XA14),"") | XJ14: =XH14*XI14 -> 0 | XM14: =XK14*XL14 -> 0 | XN14: =IF(XH14<>0,((XK14-XH14)/XH14),"") | XO14: =IF(XI14<>0,((XL14-XI14)/XI14),"") | XP14: =IF(XJ14<>0,((XM14-XJ14)/XJ14),"") | XS14: =XQ14*XR14 -> 0 | XV14: =XT14*XU14 -> 0 | XW14: =IF(XQ14<>0,((XT14-XQ14)/XQ14),"") | XX14: =IF(XR14<>0,((XU14-XR14)/XR14),"") | XY14: =IF(XS14<>0,((XV14-XS14)/XS14),"") | YB14: =XZ14*YA14 -> 0 | YE14: =YC14*YD14 -> 0 | YF14: =IF(XZ14<>0,((YC14-XZ14)/XZ14),"") | YG14: =IF(YA14<>0,((YD14-YA14)/YA14),"") | YH14: =IF(YB14<>0,((YE14-YB14)/YB14),"") | YK14: =YI14*YJ14 -> 0 | YN14: =YL14*YM14 -> 0 | YO14: =IF(YI14<>0,((YL14-YI14)/YI14),"") | YP14: =IF(YJ14<>0,((YM14-YJ14)/YJ14),"") | YQ14: =IF(YK14<>0,((YN14-YK14)/YK14),"") | YT14: =YR14*YS14 -> 0 | YW14: =YU14*YV14 -> 0 | YX14: =IF(YR14<>0,((YU14-YR14)/YR14),"") | YY14: =IF(YS14<>0,((YV14-YS14)/YS14),"") | YZ14: =IF(YT14<>0,((YW14-YT14)/YT14),"") | ZC14: =ZA14*ZB14 -> 0 | ZF14: =ZD14*ZE14 -> 0 | ZG14: =IF(ZA14<>0,((ZD14-ZA14)/ZA14),"") | ZH14: =IF(ZB14<>0,((ZE14-ZB14)/ZB14),"") | ZI14: =IF(ZC14<>0,((ZF14-ZC14)/ZC14),"")
A15: x | B15: m | C15: x | D15: x | E15: =SUMIF($2:$2,"Achat 2013",15:15) -> 20634 | F15: =SUMIF($2:$2,"TOTAL 2013",15:15) -> 314165.4 | G15: =SUMIF($2:$2,"Achat 2014",15:15) -> 0 | H15: =SUMIF($2:$2,"TOTAL 2014",15:15) -> 0 | I15: =IF(E15<>0,((G15-E15)/E15),"") -> -1 | J15: =IF(F15<>0,((H15-F15)/F15),"") -> -1 | K15: 420 | L15: 48 | M15: =K15*L15 -> 20160 | P15: =N15*O15 -> 0 | Q15: =IF(K15<>0,((N15-K15)/K15),"") -> -1 | R15: =IF(L15<>0,((O15-L15)/L15),"") -> -1 | S15: =IF(M15<>0,((P15-M15)/M15),"") -> -1 | T15: 30 | U15: 21.6 | V15: =T15*U15 -> 648 | Y15: =W15*X15 -> 0 | Z15: =IF(T15<>0,((W15-T15)/T15),"") -> -1 | AA15: =IF(U15<>0,((X15-U15)/U15),"") -> -1 | AB15: =IF(V15<>0,((Y15-V15)/V15),"") -> -1 | AC15: 240 | AD15: 13.8 | AE15: =AC15*AD15 -> 3312 | AH15: =AF15*AG15 -> 0 | AI15: =IF(AC15<>0,((AF15-AC15)/AC15),"") -> -1 | AJ15: =IF(AD15<>0,((AG15-AD15)/AD15),"") -> -1 | AK15: =IF(AE15<>0,((AH15-AE15)/AE15),"") -> -1 | AL15: 648 | AM15: 15.6 | AN15: =AL15*AM15 -> 10108.8 | AQ15: =AO15*AP15 -> 0 | AR15: =IF(AL15<>0,((AO15-AL15)/AL15),"") -> -1 | AS15: =IF(AM15<>0,((AP15-AM15)/AM15),"") -> -1 | AT15: =IF(AN15<>0,((AQ15-AN15)/AN15),"") -> -1 | AU15: 240 | AV15: 14.5 | AW15: =AU15*AV15 -> 3480 | AZ15: =AX15*AY15 -> 0 | BA15: =IF(AU15<>0,((AX15-AU15)/AU15),"") -> -1 | BB15: =IF(AV15<>0,((AY15-AV15)/AV15),"") -> -1 | BC15: =IF(AW15<>0,((AZ15-AW15)/AW15),"") -> -1 | BD15: 132 | BE15: 90 | BF15: =BD15*BE15 -> 11880 | BI15: =BG15*BH15 -> 0 | BJ15: =IF(BD15<>0,((BG15-BD15)/BD15),"") -> -1 | BK15: =IF(BE15<>0,((BH15-BE15)/BE15),"") -> -1 | BL15: =IF(BF15<>0,((BI15-BF15)/BF15),"") -> -1 | BO15: =BM15*BN15 -> 0 | BR15: =BP15*BQ15 -> 0 | BS15: =IF(BM15<>0,((BP15-BM15)/BM15),"") | BT15: =IF(BN15<>0,((BQ15-BN15)/BN15),"") | BU15: =IF(BO15<>0,((BR15-BO15)/BO15),"") | BX15: =BV15*BW15 -> 0 | CA15: =BY15*BZ15 -> 0 | CB15: =IF(BV15<>0,((BY15-BV15)/BV15),"") | CC15: =IF(BW15<>0,((BZ15-BW15)/BW15),"") | CD15: =IF(BX15<>0,((CA15-BX15)/BX15),"") | CE15: 6000 | CF15: 7.2 | CG15: =CE15*CF15 -> 43200 | CJ15: =CH15*CI15 -> 0 | CK15: =IF(CE15<>0,((CH15-CE15)/CE15),"") -> -1 | CL15: =IF(CF15<>0,((CI15-CF15)/CF15),"") -> -1 | CM15: =IF(CG15<>0,((CJ15-CG15)/CG15),"") -> -1 | CP15: =CN15*CO15 -> 0 | CS15: =CQ15*CR15 -> 0 | CT15: =IF(CN15<>0,((CQ15-CN15)/CN15),"") | CU15: =IF(CO15<>0,((CR15-CO15)/CO15),"") | CV15: =IF(CP15<>0,((CS15-CP15)/CP15),"") | CY15: =CW15*CX15 -> 0 | DB15: =CZ15*DA15 -> 0 | DC15: =IF(CW15<>0,((CZ15-CW15)/CW15),"") | DD15: =IF(CX15<>0,((DA15-CX15)/CX15),"") | DE15: =IF(CY15<>0,((DB15-CY15)/CY15),"") | DF15: 534 | DG15: 37.2 | DH15: =DF15*DG15 -> 19864.8 | DK15: =DI15*DJ15 -> 0 | DL15: =IF(DF15<>0,((DI15-DF15)/DF15),"") -> -1 | DM15: =IF(DG15<>0,((DJ15-DG15)/DG15),"") -> -1 | DN15: =IF(DH15<>0,((DK15-DH15)/DH15),"") -> -1 | DQ15: =DO15*DP15 -> 0 | DT15: =DR15*DS15 -> 0 | DU15: =IF(DO15<>0,((DR15-DO15)/DO15),"") | DV15: =IF(DP15<>0,((DS15-DP15)/DP15),"") | DW15: =IF(DQ15<>0,((DT15-DQ15)/DQ15),"") | DZ15: =DX15*DY15 -> 0 | EC15: =EA15*EB15 -> 0 | ED15: =IF(DX15<>0,((EA15-DX15)/DX15),"") | EE15: =IF(DY15<>0,((EB15-DY15)/DY15),"") | EF15: =IF(DZ15<>0,((EC15-DZ15)/DZ15),"") | EG15: 258 | EH15: 18.9 | EI15: =EG15*EH15 -> 4876.2 | EL15: =EJ15*EK15 -> 0 | EM15: =IF(EG15<>0,((EJ15-EG15)/EG15),"") -> -1 | EN15: =IF(EH15<>0,((EK15-EH15)/EH15),"") -> -1 | EO15: =IF(EI15<>0,((EL15-EI15)/EI15),"") -> -1 | EP15: 60 | EQ15: 16.2 | ER15: =EP15*EQ15 -> 972 | EU15: =ES15*ET15 -> 0 | EV15: =IF(EP15<>0,((ES15-EP15)/EP15),"") -> -1 | EW15: =IF(EQ15<>0,((ET15-EQ15)/EQ15),"") -> -1 | EX15: =IF(ER15<>0,((EU15-ER15)/ER15),"") -> -1 | FA15: =EY15*EZ15 -> 0 | FD15: =FB15*FC15 -> 0 | FE15: =IF(EY15<>0,((FB15-EY15)/EY15),"") | FF15: =IF(EZ15<>0,((FC15-EZ15)/EZ15),"") | FG15: =IF(FA15<>0,((FD15-FA15)/FA15),"") | FJ15: =FH15*FI15 -> 0 | FM15: =FK15*FL15 -> 0 | FN15: =IF(FH15<>0,((FK15-FH15)/FH15),"") | FO15: =IF(FI15<>0,((FL15-FI15)/FI15),"") | FP15: =IF(FJ15<>0,((FM15-FJ15)/FJ15),"") | FS15: =FQ15*FR15 -> 0 | FV15: =FT15*FU15 -> 0 | FW15: =IF(FQ15<>0,((FT15-FQ15)/FQ15),"") | FX15: =IF(FR15<>0,((FU15-FR15)/FR15),"") | FY15: =IF(FS15<>0,((FV15-FS15)/FS15),"") | GB15: =FZ15*GA15 -> 0 | GE15: =GC15*GD15 -> 0 | GF15: =IF(FZ15<>0,((GC15-FZ15)/FZ15),"") | GG15: =IF(GA15<>0,((GD15-GA15)/GA15),"") | GH15: =IF(GB15<>0,((GE15-GB15)/GB15),"") | GI15: 180 | GJ15: 44 | GK15: =GI15*GJ15 -> 7920 | GN15: =GL15*GM15 -> 0 | GO15: =IF(GI15<>0,((GL15-GI15)/GI15),"") -> -1 | GP15: =IF(GJ15<>0,((GM15-GJ15)/GJ15),"") -> -1 | GQ15: =IF(GK15<>0,((GN15-GK15)/GK15),"") -> -1 | GT15: =GR15*GS15 -> 0 | GW15: =GU15*GV15 -> 0 | GX15: =IF(GR15<>0,((GU15-GR15)/GR15),"") | GY15: =IF(GS15<>0,((GV15-GS15)/GS15),"") | GZ15: =IF(GT15<>0,((GW15-GT15)/GT15),"") | HA15: 360 | HB15: 22.8 | HC15: =HA15*HB15 -> 8208 | HF15: =HD15*HE15 -> 0 | HG15: =IF(HA15<>0,((HD15-HA15)/HA15),"") -> -1 | HH15: =IF(HB15<>0,((HE15-HB15)/HB15),"") -> -1 | HI15: =IF(HC15<>0,((HF15-HC15)/HC15),"") -> -1 | HL15: =HJ15*HK15 -> 0 | HO15: =HM15*HN15 -> 0 | HP15: =IF(HJ15<>0,((HM15-HJ15)/HJ15),"") | HQ15: =IF(HK15<>0,((HN15-HK15)/HK15),"") | HR15: =IF(HL15<>0,((HO15-HL15)/HL15),"") | HU15: =HS15*HT15 -> 0 | HX15: =HV15*HW15 -> 0 | HY15: =IF(HS15<>0,((HV15-HS15)/HS15),"") | HZ15: =IF(HT15<>0,((HW15-HT15)/HT15),"") | IA15: =IF(HU15<>0,((HX15-HU15)/HU15),"") | ID15: =IB15*IC15 -> 0 | IG15: =IE15*IF15 -> 0 | IH15: =IF(IB15<>0,((IE15-IB15)/IB15),"") | II15: =IF(IC15<>0,((IF15-IC15)/IC15),"") | IJ15: =IF(ID15<>0,((IG15-ID15)/ID15),"") | IM15: =IK15*IL15 -> 0 | IP15: =IN15*IO15 -> 0 | IQ15: =IF(IK15<>0,((IN15-IK15)/IK15),"") | IR15: =IF(IL15<>0,((IO15-IL15)/IL15),"") | IS15: =IF(IM15<>0,((IP15-IM15)/IM15),"") | IT15: 240 | IU15: 17.7 | IV15: =IT15*IU15 -> 4248 | IY15: =IW15*IX15 -> 0 | IZ15: =IF(IT15<>0,((IW15-IT15)/IT15),"") -> -1 | JA15: =IF(IU15<>0,((IX15-IU15)/IU15),"") -> -1 | JB15: =IF(IV15<>0,((IY15-IV15)/IV15),"") -> -1 | JE15: =JC15*JD15 -> 0 | JH15: =JF15*JG15 -> 0 | JI15: =IF(JC15<>0,((JF15-JC15)/JC15),"") | JJ15: =IF(JD15<>0,((JG15-JD15)/JD15),"") | JK15: =IF(JE15<>0,((JH15-JE15)/JE15),"") | JL15: 240 | JM15: 24.95 | JN15: =JL15*JM15 -> 5988 | JQ15: =JO15*JP15 -> 0 | JR15: =IF(JL15<>0,((JO15-JL15)/JL15),"") -> -1 | JS15: =IF(JM15<>0,((JP15-JM15)/JM15),"") -> -1 | JT15: =IF(JN15<>0,((JQ15-JN15)/JN15),"") -> -1 | JW15: =JU15*JV15 -> 0 | JZ15: =JX15*JY15 -> 0 | KA15: =IF(JU15<>0,((JX15-JU15)/JU15),"") | KB15: =IF(JV15<>0,((JY15-JV15)/JV15),"") | KC15: =IF(JW15<>0,((JZ15-JW15)/JW15),"") | KF15: =KD15*KE15 -> 0 | KI15: =KG15*KH15 -> 0 | KJ15: =IF(KD15<>0,((KG15-KD15)/KD15),"") | KK15: =IF(KE15<>0,((KH15-KE15)/KE15),"") | KL15: =IF(KF15<>0,((KI15-KF15)/KF15),"") | KO15: =KM15*KN15 -> 0 | KR15: =KP15*KQ15 -> 0 | KS15: =IF(KM15<>0,((KP15-KM15)/KM15),"") | KT15: =IF(KN15<>0,((KQ15-KN15)/KN15),"") | KU15: =IF(KO15<>0,((KR15-KO15)/KO15),"") | KV15: 36 | KW15: 215 | KX15: =KV15*KW15 -> 7740 | LA15: =KY15*KZ15 -> 0 | LB15: =IF(KV15<>0,((KY15-KV15)/KV15),"") -> -1 | LC15: =IF(KW15<>0,((KZ15-KW15)/KW15),"") -> -1 | LD15: =IF(KX15<>0,((LA15-KX15)/KX15),"") -> -1 | LG15: =LE15*LF15 -> 0 | LJ15: =LH15*LI15 -> 0 | LK15: =IF(LE15<>0,((LH15-LE15)/LE15),"") | LL15: =IF(LF15<>0,((LI15-LF15)/LF15),"") | LM15: =IF(LG15<>0,((LJ15-LG15)/LG15),"") | LP15: =LN15*LO15 -> 0 | LS15: =LQ15*LR15 -> 0 | LT15: =IF(LN15<>0,((LQ15-LN15)/LN15),"") | LU15: =IF(LO15<>0,((LR15-LO15)/LO15),"") | LV15: =IF(LP15<>0,((LS15-LP15)/LP15),"") | LW15: 24 | LX15: 288 | LY15: =LW15*LX15 -> 6912 | MB15: =LZ15*MA15 -> 0 | MC15: =IF(LW15<>0,((LZ15-LW15)/LW15),"") -> -1 | MD15: =IF(LX15<>0,((MA15-LX15)/LX15),"") -> -1 | ME15: =IF(LY15<>0,((MB15-LY15)/LY15),"") -> -1 | MF15: 756 | MG15: 22.8 | MH15: =MF15*MG15 -> 17236.8 | MK15: =MI15*MJ15 -> 0 | ML15: =IF(MF15<>0,((MI15-MF15)/MF15),"") -> -1 | MM15: =IF(MG15<>0,((MJ15-MG15)/MG15),"") -> -1 | MN15: =IF(MH15<>0,((MK15-MH15)/MH15),"") -> -1 | MQ15: =MO15*MP15 -> 0 | MT15: =MR15*MS15 -> 0 | MU15: =IF(MO15<>0,((MR15-MO15)/MO15),"") | MV15: =IF(MP15<>0,((MS15-MP15)/MP15),"") | MW15: =IF(MQ15<>0,((MT15-MQ15)/MQ15),"") | MZ15: =MX15*MY15 -> 0 | NC15: =NA15*NB15 -> 0 | ND15: =IF(MX15<>0,((NA15-MX15)/MX15),"") | NE15: =IF(MY15<>0,((NB15-MY15)/MY15),"") | NF15: =IF(MZ15<>0,((NC15-MZ15)/MZ15),"") | NI15: =NG15*NH15 -> 0 | NL15: =NJ15*NK15 -> 0 | NM15: =IF(NG15<>0,((NJ15-NG15)/NG15),"") | NN15: =IF(NH15<>0,((NK15-NH15)/NH15),"") | NO15: =IF(NI15<>0,((NL15-NI15)/NI15),"") | NR15: =NP15*NQ15 -> 0 | NU15: =NS15*NT15 -> 0 | NV15: =IF(NP15<>0,((NS15-NP15)/NP15),"") | NW15: =IF(NQ15<>0,((NT15-NQ15)/NQ15),"") | NX15: =IF(NR15<>0,((NU15-NR15)/NR15),"") | OA15: =NY15*NZ15 -> 0 | OD15: =OB15*OC15 -> 0 | OE15: =IF(NY15<>0,((OB15-NY15)/NY15),"") | OF15: =IF(NZ15<>0,((OC15-NZ15)/NZ15),"") | OG15: =IF(OA15<>0,((OD15-OA15)/OA15),"") | OJ15: =OH15*OI15 -> 0 | OM15: =OK15*OL15 -> 0 | ON15: =IF(OH15<>0,((OK15-OH15)/OH15),"") | OO15: =IF(OI15<>0,((OL15-OI15)/OI15),"") | OP15: =IF(OJ15<>0,((OM15-OJ15)/OJ15),"") | OS15: =OQ15*OR15 -> 0 | OV15: =OT15*OU15 -> 0 | OW15: =IF(OQ15<>0,((OT15-OQ15)/OQ15),"") | OX15: =IF(OR15<>0,((OU15-OR15)/OR15),"") | OY15: =IF(OS15<>0,((OV15-OS15)/OS15),"") | OZ15: 24 | PA15: 215 | PB15: =OZ15*PA15 -> 5160 | PE15: =PC15*PD15 -> 0 | PF15: =IF(OZ15<>0,((PC15-OZ15)/OZ15),"") -> -1 | PG15: =IF(PA15<>0,((PD15-PA15)/PA15),"") -> -1 | PH15: =IF(PB15<>0,((PE15-PB15)/PB15),"") -> -1 | PI15: 1800 | PJ15: 13.2 | PK15: =PI15*PJ15 -> 23760 | PN15: =PL15*PM15 -> 0 | PO15: =IF(PI15<>0,((PL15-PI15)/PI15),"") -> -1 | PP15: =IF(PJ15<>0,((PM15-PJ15)/PJ15),"") -> -1 | PQ15: =IF(PK15<>0,((PN15-PK15)/PK15),"") -> -1 | PT15: =PR15*PS15 -> 0 | PW15: =PU15*PV15 -> 0 | PX15: =IF(PR15<>0,((PU15-PR15)/PR15),"") | PY15: =IF(PS15<>0,((PV15-PS15)/PS15),"") | PZ15: =IF(PT15<>0,((PW15-PT15)/PT15),"") | QA15: 1692 | QB15: 8.5 | QC15: =QA15*QB15 -> 14382 | QF15: =QD15*QE15 -> 0 | QG15: =IF(QA15<>0,((QD15-QA15)/QA15),"") -> -1 | QH15: =IF(QB15<>0,((QE15-QB15)/QB15),"") -> -1 | QI15: =IF(QC15<>0,((QF15-QC15)/QC15),"") -> -1 | QJ15: 504 | QK15: 6.7 | QL15: =QJ15*QK15 -> 3376.8 | QO15: =QM15*QN15 -> 0 | QP15: =IF(QJ15<>0,((QM15-QJ15)/QJ15),"") -> -1 | QQ15: =IF(QK15<>0,((QN15-QK15)/QK15),"") -> -1 | QR15: =IF(QL15<>0,((QO15-QL15)/QL15),"") -> -1 | QU15: =QS15*QT15 -> 0 | QX15: =QV15*QW15 -> 0 | QY15: =IF(QS15<>0,((QV15-QS15)/QS15),"") | QZ15: =IF(QT15<>0,((QW15-QT15)/QT15),"") | RA15: =IF(QU15<>0,((QX15-QU15)/QU15),"") | RB15: 60 | RC15: 215 | RD15: =RB15*RC15 -> 12900 | RG15: =RE15*RF15 -> 0 | RH15: =IF(RB15<>0,((RE15-RB15)/RB15),"") -> -1 | RI15: =IF(RC15<>0,((RF15-RC15)/RC15),"") -> -1 | RJ15: =IF(RD15<>0,((RG15-RD15)/RD15),"") -> -1 | RM15: =RK15*RL15 -> 0 | RP15: =RN15*RO15 -> 0 | RQ15: =IF(RK15<>0,((RN15-RK15)/RK15),"") | RR15: =IF(RL15<>0,((RO15-RL15)/RL15),"") | RS15: =IF(RM15<>0,((RP15-RM15)/RM15),"") | RV15: =RT15*RU15 -> 0 | RY15: =RW15*RX15 -> 0 | RZ15: =IF(RT15<>0,((RW15-RT15)/RT15),"") | SA15: =IF(RU15<>0,((RX15-RU15)/RU15),"") | SB15: =IF(RV15<>0,((RY15-RV15)/RV15),"") | SE15: =SC15*SD15 -> 0 | SH15: =SF15*SG15 -> 0 | SI15: =IF(SC15<>0,((SF15-SC15)/SC15),"") | SJ15: =IF(SD15<>0,((SG15-SD15)/SD15),"") | SK15: =IF(SE15<>0,((SH15-SE15)/SE15),"") | SN15: =SL15*SM15 -> 0 | SQ15: =SO15*SP15 -> 0 | SR15: =IF(SL15<>0,((SO15-SL15)/SL15),"") | SS15: =IF(SM15<>0,((SP15-SM15)/SM15),"") | ST15: =IF(SN15<>0,((SQ15-SN15)/SN15),"") | SW15: =SU15*SV15 -> 0 | SZ15: =SX15*SY15 -> 0 | TA15: =IF(SU15<>0,((SX15-SU15)/SU15),"") | TB15: =IF(SV15<>0,((SY15-SV15)/SV15),"") | TC15: =IF(SW15<>0,((SZ15-SW15)/SW15),"") | TF15: =TD15*TE15 -> 0 | TI15: =TG15*TH15 -> 0 | TJ15: =IF(TD15<>0,((TG15-TD15)/TD15),"") | TK15: =IF(TE15<>0,((TH15-TE15)/TE15),"") | TL15: =IF(TF15<>0,((TI15-TF15)/TF15),"") | TM15: 3600 | TN15: 7.5 | TO15: =TM15*TN15 -> 27000 | TR15: =TP15*TQ15 -> 0 | TS15: =IF(TM15<>0,((TP15-TM15)/TM15),"") -> -1 | TT15: =IF(TN15<>0,((TQ15-TN15)/TN15),"") -> -1 | TU15: =IF(TO15<>0,((TR15-TO15)/TO15),"") -> -1 | TX15: =TV15*TW15 -> 0 | UA15: =TY15*TZ15 -> 0 | UB15: =IF(TV15<>0,((TY15-TV15)/TV15),"") | UC15: =IF(TW15<>0,((TZ15-TW15)/TW15),"") | UD15: =IF(TX15<>0,((UA15-TX15)/TX15),"") | UG15: =UE15*UF15 -> 0 | UJ15: =UH15*UI15 -> 0 | UK15: =IF(UE15<>0,((UH15-UE15)/UE15),"") | UL15: =IF(UF15<>0,((UI15-UF15)/UF15),"") | UM15: =IF(UG15<>0,((UJ15-UG15)/UG15),"") | UP15: =UN15*UO15 -> 0 | US15: =UQ15*UR15 -> 0 | UT15: =IF(UN15<>0,((UQ15-UN15)/UN15),"") | UU15: =IF(UO15<>0,((UR15-UO15)/UO15),"") | UV15: =IF(UP15<>0,((US15-UP15)/UP15),"") | UY15: =UW15*UX15 -> 0 | VB15: =UZ15*VA15 -> 0 | VC15: =IF(UW15<>0,((UZ15-UW15)/UW15),"") | VD15: =IF(UX15<>0,((VA15-UX15)/UX15),"") | VE15: =IF(UY15<>0,((VB15-UY15)/UY15),"") | VF15: 1800 | VG15: 6 | VH15: =VF15*VG15 -> 10800 | VK15: =VI15*VJ15 -> 0 | VL15: =IF(VF15<>0,((VI15-VF15)/VF15),"") -> -1 | VM15: =IF(VG15<>0,((VJ15-VG15)/VG15),"") -> -1 | VN15: =IF(VH15<>0,((VK15-VH15)/VH15),"") -> -1 | VO15: 240 | VP15: 27 | VQ15: =VO15*VP15 -> 6480 | VT15: =VR15*VS15 -> 0 | VU15: =IF(VO15<>0,((VR15-VO15)/VO15),"") -> -1 | VV15: =IF(VP15<>0,((VS15-VP15)/VP15),"") -> -1 | VW15: =IF(VQ15<>0,((VT15-VQ15)/VQ15),"") -> -1 | VZ15: =VX15*VY15 -> 0 | WC15: =WA15*WB15 -> 0 | WD15: =IF(VX15<>0,((WA15-VX15)/VX15),"") | WE15: =IF(VY15<>0,((WB15-VY15)/VY15),"") | WF15: =IF(VZ15<>0,((WC15-VZ15)/VZ15),"") | WI15: =WG15*WH15 -> 0 | WL15: =WJ15*WK15 -> 0 | WM15: =IF(WG15<>0,((WJ15-WG15)/WG15),"") | WN15: =IF(WH15<>0,((WK15-WH15)/WH15),"") | WO15: =IF(WI15<>0,((WL15-WI15)/WI15),"") | WR15: =WP15*WQ15 -> 0 | WU15: =WS15*WT15 -> 0 | WV15: =IF(WP15<>0,((WS15-WP15)/WP15),"") | WW15: =IF(WQ15<>0,((WT15-WQ15)/WQ15),"") | WX15: =IF(WR15<>0,((WU15-WR15)/WR15),"") | WY15: 240 | WZ15: 66 | XA15: =WY15*WZ15 -> 15840 | XD15: =XB15*XC15 -> 0 | XE15: =IF(WY15<>0,((XB15-WY15)/WY15),"") -> -1 | XF15: =IF(WZ15<>0,((XC15-WZ15)/WZ15),"") -> -1 | XG15: =IF(XA15<>0,((XD15-XA15)/XA15),"") -> -1 | XJ15: =XH15*XI15 -> 0 | XM15: =XK15*XL15 -> 0 | XN15: =IF(XH15<>0,((XK15-XH15)/XH15),"") | XO15: =IF(XI15<>0,((XL15-XI15)/XI15),"") | XP15: =IF(XJ15<>0,((XM15-XJ15)/XJ15),"") | XQ15: 36 | XR15: 12 | XS15: =XQ15*XR15 -> 432 | XV15: =XT15*XU15 -> 0 | XW15: =IF(XQ15<>0,((XT15-XQ15)/XQ15),"") -> -1 | XX15: =IF(XR15<>0,((XU15-XR15)/XR15),"") -> -1 | XY15: =IF(XS15<>0,((XV15-XS15)/XS15),"") -> -1 | YB15: =XZ15*YA15 -> 0 | YE15: =YC15*YD15 -> 0 | YF15: =IF(XZ15<>0,((YC15-XZ15)/XZ15),"") | YG15: =IF(YA15<>0,((YD15-YA15)/YA15),"") | YH15: =IF(YB15<>0,((YE15-YB15)/YB15),"") | YI15: 240 | YJ15: 72 | YK15: =YI15*YJ15 -> 17280 | YN15: =YL15*YM15 -> 0 | YO15: =IF(YI15<>0,((YL15-YI15)/YI15),"") -> -1 | YP15: =IF(YJ15<>0,((YM15-YJ15)/YJ15),"") -> -1 | YQ15: =IF(YK15<>0,((YN15-YK15)/YK15),"") -> -1 | YT15: =YR15*YS15 -> 0 | YW15: =YU15*YV15 -> 0 | YX15: =IF(YR15<>0,((YU15-YR15)/YR15),"") | YY15: =IF(YS15<>0,((YV15-YS15)/YS15),"") | YZ15: =IF(YT15<>0,((YW15-YT15)/YT15),"") | ZC15: =ZA15*ZB15 -> 0 | ZF15: =ZD15*ZE15 -> 0 | ZG15: =IF(ZA15<>0,((ZD15-ZA15)/ZA15),"") | ZH15: =IF(ZB15<>0,((ZE15-ZB15)/ZB15),"") | ZI15: =IF(ZC15<>0,((ZF15-ZC15)/ZC15),"")
A16: x | B16: n | C16: x | D16: x | E16: =SUMIF($2:$2,"Achat 2013",16:16) -> 4560 | F16: =SUMIF($2:$2,"TOTAL 2013",16:16) -> 38760 | G16: =SUMIF($2:$2,"Achat 2014",16:16) -> 0 | H16: =SUMIF($2:$2,"TOTAL 2014",16:16) -> 0 | I16: =IF(E16<>0,((G16-E16)/E16),"") -> -1 | J16: =IF(F16<>0,((H16-F16)/F16),"") -> -1 | M16: =K16*L16 -> 0 | P16: =N16*O16 -> 0 | Q16: =IF(K16<>0,((N16-K16)/K16),"") | R16: =IF(L16<>0,((O16-L16)/L16),"") | S16: =IF(M16<>0,((P16-M16)/M16),"") | V16: =T16*U16 -> 0 | Y16: =W16*X16 -> 0 | Z16: =IF(T16<>0,((W16-T16)/T16),"") | AA16: =IF(U16<>0,((X16-U16)/U16),"") | AB16: =IF(V16<>0,((Y16-V16)/V16),"") | AE16: =AC16*AD16 -> 0 | AH16: =AF16*AG16 -> 0 | AI16: =IF(AC16<>0,((AF16-AC16)/AC16),"") | AJ16: =IF(AD16<>0,((AG16-AD16)/AD16),"") | AK16: =IF(AE16<>0,((AH16-AE16)/AE16),"") | AN16: =AL16*AM16 -> 0 | AQ16: =AO16*AP16 -> 0 | AR16: =IF(AL16<>0,((AO16-AL16)/AL16),"") | AS16: =IF(AM16<>0,((AP16-AM16)/AM16),"") | AT16: =IF(AN16<>0,((AQ16-AN16)/AN16),"") | AW16: =AU16*AV16 -> 0 | AZ16: =AX16*AY16 -> 0 | BA16: =IF(AU16<>0,((AX16-AU16)/AU16),"") | BB16: =IF(AV16<>0,((AY16-AV16)/AV16),"") | BC16: =IF(AW16<>0,((AZ16-AW16)/AW16),"") | BF16: =BD16*BE16 -> 0 | BI16: =BG16*BH16 -> 0 | BJ16: =IF(BD16<>0,((BG16-BD16)/BD16),"") | BK16: =IF(BE16<>0,((BH16-BE16)/BE16),"") | BL16: =IF(BF16<>0,((BI16-BF16)/BF16),"") | BO16: =BM16*BN16 -> 0 | BR16: =BP16*BQ16 -> 0 | BS16: =IF(BM16<>0,((BP16-BM16)/BM16),"") | BT16: =IF(BN16<>0,((BQ16-BN16)/BN16),"") | BU16: =IF(BO16<>0,((BR16-BO16)/BO16),"") | BX16: =BV16*BW16 -> 0 | CA16: =BY16*BZ16 -> 0 | CB16: =IF(BV16<>0,((BY16-BV16)/BV16),"") | CC16: =IF(BW16<>0,((BZ16-BW16)/BW16),"") | CD16: =IF(BX16<>0,((CA16-BX16)/BX16),"") | CG16: =CE16*CF16 -> 0 | CJ16: =CH16*CI16 -> 0 | CK16: =IF(CE16<>0,((CH16-CE16)/CE16),"") | CL16: =IF(CF16<>0,((CI16-CF16)/CF16),"") | CM16: =IF(CG16<>0,((CJ16-CG16)/CG16),"") | CP16: =CN16*CO16 -> 0 | CS16: =CQ16*CR16 -> 0 | CT16: =IF(CN16<>0,((CQ16-CN16)/CN16),"") | CU16: =IF(CO16<>0,((CR16-CO16)/CO16),"") | CV16: =IF(CP16<>0,((CS16-CP16)/CP16),"") | CY16: =CW16*CX16 -> 0 | DB16: =CZ16*DA16 -> 0 | DC16: =IF(CW16<>0,((CZ16-CW16)/CW16),"") | DD16: =IF(CX16<>0,((DA16-CX16)/CX16),"") | DE16: =IF(CY16<>0,((DB16-CY16)/CY16),"") | DH16: =DF16*DG16 -> 0 | DK16: =DI16*DJ16 -> 0 | DL16: =IF(DF16<>0,((DI16-DF16)/DF16),"") | DM16: =IF(DG16<>0,((DJ16-DG16)/DG16),"") | DN16: =IF(DH16<>0,((DK16-DH16)/DH16),"") | DQ16: =DO16*DP16 -> 0 | DT16: =DR16*DS16 -> 0 | DU16: =IF(DO16<>0,((DR16-DO16)/DO16),"") | DV16: =IF(DP16<>0,((DS16-DP16)/DP16),"") | DW16: =IF(DQ16<>0,((DT16-DQ16)/DQ16),"") | DZ16: =DX16*DY16 -> 0 | EC16: =EA16*EB16 -> 0 | ED16: =IF(DX16<>0,((EA16-DX16)/DX16),"") | EE16: =IF(DY16<>0,((EB16-DY16)/DY16),"") | EF16: =IF(DZ16<>0,((EC16-DZ16)/DZ16),"") | EI16: =EG16*EH16 -> 0 | EL16: =EJ16*EK16 -> 0 | EM16: =IF(EG16<>0,((EJ16-EG16)/EG16),"") | EN16: =IF(EH16<>0,((EK16-EH16)/EH16),"") | EO16: =IF(EI16<>0,((EL16-EI16)/EI16),"") | ER16: =EP16*EQ16 -> 0 | EU16: =ES16*ET16 -> 0 | EV16: =IF(EP16<>0,((ES16-EP16)/EP16),"") | EW16: =IF(EQ16<>0,((ET16-EQ16)/EQ16),"") | EX16: =IF(ER16<>0,((EU16-ER16)/ER16),"") | FA16: =EY16*EZ16 -> 0 | FD16: =FB16*FC16 -> 0 | FE16: =IF(EY16<>0,((FB16-EY16)/EY16),"") | FF16: =IF(EZ16<>0,((FC16-EZ16)/EZ16),"") | FG16: =IF(FA16<>0,((FD16-FA16)/FA16),"") | FJ16: =FH16*FI16 -> 0 | FM16: =FK16*FL16 -> 0 | FN16: =IF(FH16<>0,((FK16-FH16)/FH16),"") | FO16: =IF(FI16<>0,((FL16-FI16)/FI16),"") | FP16: =IF(FJ16<>0,((FM16-FJ16)/FJ16),"") | FS16: =FQ16*FR16 -> 0 | FV16: =FT16*FU16 -> 0 | FW16: =IF(FQ16<>0,((FT16-FQ16)/FQ16),"") | FX16: =IF(FR16<>0,((FU16-FR16)/FR16),"") | FY16: =IF(FS16<>0,((FV16-FS16)/FS16),"") | GB16: =FZ16*GA16 -> 0 | GE16: =GC16*GD16 -> 0 | GF16: =IF(FZ16<>0,((GC16-FZ16)/FZ16),"") | GG16: =IF(GA16<>0,((GD16-GA16)/GA16),"") | GH16: =IF(GB16<>0,((GE16-GB16)/GB16),"") | GK16: =GI16*GJ16 -> 0 | GN16: =GL16*GM16 -> 0 | GO16: =IF(GI16<>0,((GL16-GI16)/GI16),"") | GP16: =IF(GJ16<>0,((GM16-GJ16)/GJ16),"") | GQ16: =IF(GK16<>0,((GN16-GK16)/GK16),"") | GT16: =GR16*GS16 -> 0 | GW16: =GU16*GV16 -> 0 | GX16: =IF(GR16<>0,((GU16-GR16)/GR16),"") | GY16: =IF(GS16<>0,((GV16-GS16)/GS16),"") | GZ16: =IF(GT16<>0,((GW16-GT16)/GT16),"") | HC16: =HA16*HB16 -> 0 | HF16: =HD16*HE16 -> 0 | HG16: =IF(HA16<>0,((HD16-HA16)/HA16),"") | HH16: =IF(HB16<>0,((HE16-HB16)/HB16),"") | HI16: =IF(HC16<>0,((HF16-HC16)/HC16),"") | HL16: =HJ16*HK16 -> 0 | HO16: =HM16*HN16 -> 0 | HP16: =IF(HJ16<>0,((HM16-HJ16)/HJ16),"") | HQ16: =IF(HK16<>0,((HN16-HK16)/HK16),"") | HR16: =IF(HL16<>0,((HO16-HL16)/HL16),"") | HU16: =HS16*HT16 -> 0 | HX16: =HV16*HW16 -> 0 | HY16: =IF(HS16<>0,((HV16-HS16)/HS16),"") | HZ16: =IF(HT16<>0,((HW16-HT16)/HT16),"") | IA16: =IF(HU16<>0,((HX16-HU16)/HU16),"") | ID16: =IB16*IC16 -> 0 | IG16: =IE16*IF16 -> 0 | IH16: =IF(IB16<>0,((IE16-IB16)/IB16),"") | II16: =IF(IC16<>0,((IF16-IC16)/IC16),"") | IJ16: =IF(ID16<>0,((IG16-ID16)/ID16),"") | IM16: =IK16*IL16 -> 0 | IP16: =IN16*IO16 -> 0 | IQ16: =IF(IK16<>0,((IN16-IK16)/IK16),"") | IR16: =IF(IL16<>0,((IO16-IL16)/IL16),"") | IS16: =IF(IM16<>0,((IP16-IM16)/IM16),"") | IV16: =IT16*IU16 -> 0 | IY16: =IW16*IX16 -> 0 | IZ16: =IF(IT16<>0,((IW16-IT16)/IT16),"") | JA16: =IF(IU16<>0,((IX16-IU16)/IU16),"") | JB16: =IF(IV16<>0,((IY16-IV16)/IV16),"") | JE16: =JC16*JD16 -> 0 | JH16: =JF16*JG16 -> 0 | JI16: =IF(JC16<>0,((JF16-JC16)/JC16),"") | JJ16: =IF(JD16<>0,((JG16-JD16)/JD16),"") | JK16: =IF(JE16<>0,((JH16-JE16)/JE16),"") | JN16: =JL16*JM16 -> 0 | JQ16: =JO16*JP16 -> 0 | JR16: =IF(JL16<>0,((JO16-JL16)/JL16),"") | JS16: =IF(JM16<>0,((JP16-JM16)/JM16),"") | JT16: =IF(JN16<>0,((JQ16-JN16)/JN16),"") | JW16: =JU16*JV16 -> 0 | JZ16: =JX16*JY16 -> 0 | KA16: =IF(JU16<>0,((JX16-JU16)/JU16),"") | KB16: =IF(JV16<>0,((JY16-JV16)/JV16),"") | KC16: =IF(JW16<>0,((JZ16-JW16)/JW16),"") | KF16: =KD16*KE16 -> 0 | KI16: =KG16*KH16 -> 0 | KJ16: =IF(KD16<>0,((KG16-KD16)/KD16),"") | KK16: =IF(KE16<>0,((KH16-KE16)/KE16),"") | KL16: =IF(KF16<>0,((KI16-KF16)/KF16),"") | KO16: =KM16*KN16 -> 0 | KR16: =KP16*KQ16 -> 0 | KS16: =IF(KM16<>0,((KP16-KM16)/KM16),"") | KT16: =IF(KN16<>0,((KQ16-KN16)/KN16),"") | KU16: =IF(KO16<>0,((KR16-KO16)/KO16),"") | KX16: =KV16*KW16 -> 0 | LA16: =KY16*KZ16 -> 0 | LB16: =IF(KV16<>0,((KY16-KV16)/KV16),"") | LC16: =IF(KW16<>0,((KZ16-KW16)/KW16),"") | LD16: =IF(KX16<>0,((LA16-KX16)/KX16),"") | LG16: =LE16*LF16 -> 0 | LJ16: =LH16*LI16 -> 0 | LK16: =IF(LE16<>0,((LH16-LE16)/LE16),"") | LL16: =IF(LF16<>0,((LI16-LF16)/LF16),"") | LM16: =IF(LG16<>0,((LJ16-LG16)/LG16),"") | LP16: =LN16*LO16 -> 0 | LS16: =LQ16*LR16 -> 0 | LT16: =IF(LN16<>0,((LQ16-LN16)/LN16),"") | LU16: =IF(LO16<>0,((LR16-LO16)/LO16),"") | LV16: =IF(LP16<>0,((LS16-LP16)/LP16),"") | LY16: =LW16*LX16 -> 0 | MB16: =LZ16*MA16 -> 0 | MC16: =IF(LW16<>0,((LZ16-LW16)/LW16),"") | MD16: =IF(LX16<>0,((MA16-LX16)/LX16),"") | ME16: =IF(LY16<>0,((MB16-LY16)/LY16),"") | MH16: =MF16*MG16 -> 0 | MK16: =MI16*MJ16 -> 0 | ML16: =IF(MF16<>0,((MI16-MF16)/MF16),"") | MM16: =IF(MG16<>0,((MJ16-MG16)/MG16),"") | MN16: =IF(MH16<>0,((MK16-MH16)/MH16),"") | MQ16: =MO16*MP16 -> 0 | MT16: =MR16*MS16 -> 0 | MU16: =IF(MO16<>0,((MR16-MO16)/MO16),"") | MV16: =IF(MP16<>0,((MS16-MP16)/MP16),"") | MW16: =IF(MQ16<>0,((MT16-MQ16)/MQ16),"") | MZ16: =MX16*MY16 -> 0 | NC16: =NA16*NB16 -> 0 | ND16: =IF(MX16<>0,((NA16-MX16)/MX16),"") | NE16: =IF(MY16<>0,((NB16-MY16)/MY16),"") | NF16: =IF(MZ16<>0,((NC16-MZ16)/MZ16),"") | NI16: =NG16*NH16 -> 0 | NL16: =NJ16*NK16 -> 0 | NM16: =IF(NG16<>0,((NJ16-NG16)/NG16),"") | NN16: =IF(NH16<>0,((NK16-NH16)/NH16),"") | NO16: =IF(NI16<>0,((NL16-NI16)/NI16),"") | NR16: =NP16*NQ16 -> 0 | NU16: =NS16*NT16 -> 0 | NV16: =IF(NP16<>0,((NS16-NP16)/NP16),"") | NW16: =IF(NQ16<>0,((NT16-NQ16)/NQ16),"") | NX16: =IF(NR16<>0,((NU16-NR16)/NR16),"") | OA16: =NY16*NZ16 -> 0 | OD16: =OB16*OC16 -> 0 | OE16: =IF(NY16<>0,((OB16-NY16)/NY16),"") | OF16: =IF(NZ16<>0,((OC16-NZ16)/NZ16),"") | OG16: =IF(OA16<>0,((OD16-OA16)/OA16),"") | OJ16: =OH16*OI16 -> 0 | OM16: =OK16*OL16 -> 0 | ON16: =IF(OH16<>0,((OK16-OH16)/OH16),"") | OO16: =IF(OI16<>0,((OL16-OI16)/OI16),"") | OP16: =IF(OJ16<>0,((OM16-OJ16)/OJ16),"") | OS16: =OQ16*OR16 -> 0 | OV16: =OT16*OU16 -> 0 | OW16: =IF(OQ16<>0,((OT16-OQ16)/OQ16),"") | OX16: =IF(OR16<>0,((OU16-OR16)/OR16),"") | OY16: =IF(OS16<>0,((OV16-OS16)/OS16),"") | PB16: =OZ16*PA16 -> 0 | PE16: =PC16*PD16 -> 0 | PF16: =IF(OZ16<>0,((PC16-OZ16)/OZ16),"") | PG16: =IF(PA16<>0,((PD16-PA16)/PA16),"") | PH16: =IF(PB16<>0,((PE16-PB16)/PB16),"") | PK16: =PI16*PJ16 -> 0 | PN16: =PL16*PM16 -> 0 | PO16: =IF(PI16<>0,((PL16-PI16)/PI16),"") | PP16: =IF(PJ16<>0,((PM16-PJ16)/PJ16),"") | PQ16: =IF(PK16<>0,((PN16-PK16)/PK16),"") | PT16: =PR16*PS16 -> 0 | PW16: =PU16*PV16 -> 0 | PX16: =IF(PR16<>0,((PU16-PR16)/PR16),"") | PY16: =IF(PS16<>0,((PV16-PS16)/PS16),"") | PZ16: =IF(PT16<>0,((PW16-PT16)/PT16),"") | QC16: =QA16*QB16 -> 0 | QF16: =QD16*QE16 -> 0 | QG16: =IF(QA16<>0,((QD16-QA16)/QA16),"") | QH16: =IF(QB16<>0,((QE16-QB16)/QB16),"") | QI16: =IF(QC16<>0,((QF16-QC16)/QC16),"") | QL16: =QJ16*QK16 -> 0 | QO16: =QM16*QN16 -> 0 | QP16: =IF(QJ16<>0,((QM16-QJ16)/QJ16),"") | QQ16: =IF(QK16<>0,((QN16-QK16)/QK16),"") | QR16: =IF(QL16<>0,((QO16-QL16)/QL16),"") | QU16: =QS16*QT16 -> 0 | QX16: =QV16*QW16 -> 0 | QY16: =IF(QS16<>0,((QV16-QS16)/QS16),"") | QZ16: =IF(QT16<>0,((QW16-QT16)/QT16),"") | RA16: =IF(QU16<>0,((QX16-QU16)/QU16),"") | RD16: =RB16*RC16 -> 0 | RG16: =RE16*RF16 -> 0 | RH16: =IF(RB16<>0,((RE16-RB16)/RB16),"") | RI16: =IF(RC16<>0,((RF16-RC16)/RC16),"") | RJ16: =IF(RD16<>0,((RG16-RD16)/RD16),"") | RM16: =RK16*RL16 -> 0 | RP16: =RN16*RO16 -> 0 | RQ16: =IF(RK16<>0,((RN16-RK16)/RK16),"") | RR16: =IF(RL16<>0,((RO16-RL16)/RL16),"") | RS16: =IF(RM16<>0,((RP16-RM16)/RM16),"") | RV16: =RT16*RU16 -> 0 | RY16: =RW16*RX16 -> 0 | RZ16: =IF(RT16<>0,((RW16-RT16)/RT16),"") | SA16: =IF(RU16<>0,((RX16-RU16)/RU16),"") | SB16: =IF(RV16<>0,((RY16-RV16)/RV16),"") | SE16: =SC16*SD16 -> 0 | SH16: =SF16*SG16 -> 0 | SI16: =IF(SC16<>0,((SF16-SC16)/SC16),"") | SJ16: =IF(SD16<>0,((SG16-SD16)/SD16),"") | SK16: =IF(SE16<>0,((SH16-SE16)/SE16),"") | SN16: =SL16*SM16 -> 0 | SQ16: =SO16*SP16 -> 0 | SR16: =IF(SL16<>0,((SO16-SL16)/SL16),"") | SS16: =IF(SM16<>0,((SP16-SM16)/SM16),"") | ST16: =IF(SN16<>0,((SQ16-SN16)/SN16),"") | SW16: =SU16*SV16 -> 0 | SZ16: =SX16*SY16 -> 0 | TA16: =IF(SU16<>0,((SX16-SU16)/SU16),"") | TB16: =IF(SV16<>0,((SY16-SV16)/SV16),"") | TC16: =IF(SW16<>0,((SZ16-SW16)/SW16),"") | TF16: =TD16*TE16 -> 0 | TI16: =TG16*TH16 -> 0 | TJ16: =IF(TD16<>0,((TG16-TD16)/TD16),"") | TK16: =IF(TE16<>0,((TH16-TE16)/TE16),"") | TL16: =IF(TF16<>0,((TI16-TF16)/TF16),"") | TO16: =TM16*TN16 -> 0 | TR16: =TP16*TQ16 -> 0 | TS16: =IF(TM16<>0,((TP16-TM16)/TM16),"") | TT16: =IF(TN16<>0,((TQ16-TN16)/TN16),"") | TU16: =IF(TO16<>0,((TR16-TO16)/TO16),"") | TX16: =TV16*TW16 -> 0 | UA16: =TY16*TZ16 -> 0 | UB16: =IF(TV16<>0,((TY16-TV16)/TV16),"") | UC16: =IF(TW16<>0,((TZ16-TW16)/TW16),"") | UD16: =IF(TX16<>0,((UA16-TX16)/TX16),"") | UG16: =UE16*UF16 -> 0 | UJ16: =UH16*UI16 -> 0 | UK16: =IF(UE16<>0,((UH16-UE16)/UE16),"") | UL16: =IF(UF16<>0,((UI16-UF16)/UF16),"") | UM16: =IF(UG16<>0,((UJ16-UG16)/UG16),"") | UP16: =UN16*UO16 -> 0 | US16: =UQ16*UR16 -> 0 | UT16: =IF(UN16<>0,((UQ16-UN16)/UN16),"") | UU16: =IF(UO16<>0,((UR16-UO16)/UO16),"") | UV16: =IF(UP16<>0,((US16-UP16)/UP16),"") | UY16: =UW16*UX16 -> 0 | VB16: =UZ16*VA16 -> 0 | VC16: =IF(UW16<>0,((UZ16-UW16)/UW16),"") | VD16: =IF(UX16<>0,((VA16-UX16)/UX16),"") | VE16: =IF(UY16<>0,((VB16-UY16)/UY16),"") | VH16: =VF16*VG16 -> 0 | VK16: =VI16*VJ16 -> 0 | VL16: =IF(VF16<>0,((VI16-VF16)/VF16),"") | VM16: =IF(VG16<>0,((VJ16-VG16)/VG16),"") | VN16: =IF(VH16<>0,((VK16-VH16)/VH16),"") | VQ16: =VO16*VP16 -> 0 | VT16: =VR16*VS16 -> 0 | VU16: =IF(VO16<>0,((VR16-VO16)/VO16),"") | VV16: =IF(VP16<>0,((VS16-VP16)/VP16),"") | VW16: =IF(VQ16<>0,((VT16-VQ16)/VQ16),"") | VZ16: =VX16*VY16 -> 0 | WC16: =WA16*WB16 -> 0 | WD16: =IF(VX16<>0,((WA16-VX16)/VX16),"") | WE16: =IF(VY16<>0,((WB16-VY16)/VY16),"") | WF16: =IF(VZ16<>0,((WC16-VZ16)/VZ16),"") | WI16: =WG16*WH16 -> 0 | WL16: =WJ16*WK16 -> 0 | WM16: =IF(WG16<>0,((WJ16-WG16)/WG16),"") | WN16: =IF(WH16<>0,((WK16-WH16)/WH16),"") | WO16: =IF(WI16<>0,((WL16-WI16)/WI16),"") | WR16: =WP16*WQ16 -> 0 | WU16: =WS16*WT16 -> 0 | WV16: =IF(WP16<>0,((WS16-WP16)/WP16),"") | WW16: =IF(WQ16<>0,((WT16-WQ16)/WQ16),"") | WX16: =IF(WR16<>0,((WU16-WR16)/WR16),"") | XA16: =WY16*WZ16 -> 0 | XD16: =XB16*XC16 -> 0 | XE16: =IF(WY16<>0,((XB16-WY16)/WY16),"") | XF16: =IF(WZ16<>0,((XC16-WZ16)/WZ16),"") | XG16: =IF(XA16<>0,((XD16-XA16)/XA16),"") | XH16: 4560 | XI16: 8.5 | XJ16: =XH16*XI16 -> 38760 | XM16: =XK16*XL16 -> 0 | XN16: =IF(XH16<>0,((XK16-XH16)/XH16),"") -> -1 | XO16: =IF(XI16<>0,((XL16-XI16)/XI16),"") -> -1 | XP16: =IF(XJ16<>0,((XM16-XJ16)/XJ16),"") -> -1 | XS16: =XQ16*XR16 -> 0 | XV16: =XT16*XU16 -> 0 | XW16: =IF(XQ16<>0,((XT16-XQ16)/XQ16),"") | XX16: =IF(XR16<>0,((XU16-XR16)/XR16),"") | XY16: =IF(XS16<>0,((XV16-XS16)/XS16),"") | YB16: =XZ16*YA16 -> 0 | YE16: =YC16*YD16 -> 0 | YF16: =IF(XZ16<>0,((YC16-XZ16)/XZ16),"") | YG16: =IF(YA16<>0,((YD16-YA16)/YA16),"") | YH16: =IF(YB16<>0,((YE16-YB16)/YB16),"") | YK16: =YI16*YJ16 -> 0 | YN16: =YL16*YM16 -> 0 | YO16: =IF(YI16<>0,((YL16-YI16)/YI16),"") | YP16: =IF(YJ16<>0,((YM16-YJ16)/YJ16),"") | YQ16: =IF(YK16<>0,((YN16-YK16)/YK16),"") | YT16: =YR16*YS16 -> 0 | YW16: =YU16*YV16 -> 0 | YX16: =IF(YR16<>0,((YU16-YR16)/YR16),"") | YY16: =IF(YS16<>0,((YV16-YS16)/YS16),"") | YZ16: =IF(YT16<>0,((YW16-YT16)/YT16),"") | ZC16: =ZA16*ZB16 -> 0 | ZF16: =ZD16*ZE16 -> 0 | ZG16: =IF(ZA16<>0,((ZD16-ZA16)/ZA16),"") | ZH16: =IF(ZB16<>0,((ZE16-ZB16)/ZB16),"") | ZI16: =IF(ZC16<>0,((ZF16-ZC16)/ZC16),"")
