Workbook

Sheet Analyse Clients 2014 vs 2013
A1: PAYS | B1: SOCIETE | C1: ACHETEUR | D1: PAIEMENTS NEGOCIEES | E1: TOTAL BTLES / CLIENT | K1: AILE D'ARGENT | T1: BLANC DE LYNCH BAGES | AC1: BLASON D'ISSAN | AL1: CAILLOU BLANC DE CH. TALBOT | AU1: CARMES DE RIEUSSEC | BD1: CARRUADES DE LAFITE | BM1: CH. ANGELUS | BV1: CH. AUSONE | CE1: CH. BEAUMONT | CN1: CH. BEYCHEVELLE | CW1: CH. BRANAIRE DUCRU | DF1: CH. CALON SEGUR | DO1: CH. CANON | DX1: CH. CANTENAC BROWN | EG1: CH. CARBONNIEUX BLANC | EP1: CH. CHASSE SPLEEN | EY1: CH. CHEVAL BLANC | FH1: CH. CITRAN | FQ1: CH. CLERC MILON | FZ1: CH. CLINET | GI1: CH. COS D'ESTOURNEL Blanc | GR1: CH. COUTET | HA1: CH. D'ARMAILHAC | HJ1: CH. DU TERTRE | HS1: CH. DUCRU BEAUCAILLOU | IB1: CH. DUHART MILON | IK1: CH. DURFORT VIVENS | IT1: CH. FERRIERE | JC1: CH. FIGEAC | JL1: CH. GISCOURS | JU1: CH. GUIRAUD | KD1: CH. HAUT-BAILLY | KM1: CH. HAUT-BRION Blanc | KV1: CH. HAUT-BRION Rouge | LE1: CH. LA CONSEILLANTE | LN1: CH. LA MISSION HAUT-BRION Blanc | LW1: CH. LAFITE-ROTHSCHILD | MF1: CH. LAGRANGE | MO1: CH. LARRIVET HAUT-BRION Blanc | MX1: CH. LASCOMBES | NG1: CH. LEOVILLE BARTON | NP1: CH. LEOVILLE LAS CASES | NY1: CH. LEOVILLE POYFERRE | OH1: CH. LYNCH BAGES | OQ1: CH. MALARTIC LAGRAVIERE Blanc | OZ1: CH. MARGAUX | PI1: CH. MARQUIS DE CALON | PR1: CH. MONBOUSQUET Blanc | QA1: CH. MONT-PERAT | QJ1: CH. MONT-PERAT Blanc | QS1: CH. MONTROSE | RB1: CH. MOUTON ROTHSCHILD | RK1: CH. PALMER | RT1: CH. PAVIE | SC1: CH. PAVIE MACQUIN | SL1: CH. PHELAN SEGUR | SU1: CH. PICHON LALANDE | TD1: CH. PONTET CANET | TM1: CH. PUYGUERAUD | TV1: CH. RIEUSSEC | UE1: CH. SMITH HAUT LAFITTE Blanc | UN1: CH. SMITH HAUT LAFITTE Rouge | UW1: CH. TALBOT | VF1: CH. TOUR SAINT BONNET | VO1: CLOS DU MARQUIS | VX1: DOMAINE DE CHEVALIER Blanc | WG1: Gnde Réserve Croix Beaucaillou | WP1: LE CARILLON D'ANGELUS | WY1: LE PETIT MOUTON DE MOUTON ROTH | XH1: LES AMANTS DE MONT-PERAT | XQ1: LES ARUMS DE LAGRANGE | XZ1: PAVILLON BLANC DU CH. MARGAUX | YI1: PAVILLON ROUGE DU CH. MARGAUX | YR1: PETIT CHEVAL | ZA1: VIEUX CH. CERTAN
E2: TOTAL Achat 2013 | F2: TOTAL Chiffre 2013 | G2: TOTAL Achat 2014 | H2: TOTAL Chiffre 2014 | I2: TOTAL Achat 2014 vs 2013 | J2: TOTAL Chiffre 2014 vs 2013 | K2: Achat 2013 | L2: Prix 2013 | M2: TOTAL 2013 | N2: Achat 2014 | O2: Prix 2014 | P2: TOTAL 2014 | Q2: Achat 2014 vs 2013 | R2: Prix 2014 vs 2013 | S2: TOTAL 2014 vs 2013 | T2: Achat 2013 | U2: Prix 2013 | V2: TOTAL 2013 | W2: Achat 2014 | X2: Prix 2014 | Y2: TOTAL 2014 | Z2: Achat 2014 vs 2013 | AA2: Prix 2014 vs 2013 | AB2: TOTAL 2014 vs 2013 | AC2: Achat 2013 | AD2: Prix 2013 | AE2: TOTAL 2013 | AF2: Achat 2014 | AG2: Prix 2014 | AH2: TOTAL 2014 | AI2: Achat 2014 vs 2013 | AJ2: Prix 2014 vs 2013 | AK2: TOTAL 2014 vs 2013 | AL2: Achat 2013 | AM2: Prix 2013 | AN2: TOTAL 2013 | AO2: Achat 2014 | AP2: Prix 2014 | AQ2: TOTAL 2014 | AR2: Achat 2014 vs 2013 | AS2: Prix 2014 vs 2013 | AT2: TOTAL 2014 vs 2013 | AU2: Achat 2013 | AV2: Prix 2013 | AW2: TOTAL 2013 | AX2: Achat 2014 | AY2: Prix 2014 | AZ2: TOTAL 2014 | BA2: Achat 2014 vs 2013 | BB2: Prix 2014 vs 2013 | BC2: TOTAL 2014 vs 2013 | BD2: Achat 2013 | BE2: Prix 2013 | BF2: TOTAL 2013 | BG2: Achat 2014 | BH2: Prix 2014 | BI2: TOTAL 2014 | BJ2: Achat 2014 vs 2013 | BK2: Prix 2014 vs 2013 | BL2: TOTAL 2014 vs 2013 | BM2: Achat 2013 | BN2: Prix 2013 | BO2: TOTAL 2013 | BP2: Achat 2014 | BQ2: Prix 2014 | BR2: TOTAL 2014 | BS2: Achat 2014 vs 2013 | BT2: Prix 2014 vs 2013 | BU2: TOTAL 2014 vs 2013 | BV2: Achat 2013 | BW2: Prix 2013 | BX2: TOTAL 2013 | BY2: Achat 2014 | BZ2: Prix 2014 | CA2: TOTAL 2014 | CB2: Achat 2014 vs 2013 | CC2: Prix 2014 vs 2013 | CD2: TOTAL 2014 vs 2013 | CE2: Achat 2013 | CF2: Prix 2013 | CG2: TOTAL 2013 | CH2: Achat 2014 | CI2: Prix 2014 | CJ2: TOTAL 2014 | CK2: Achat 2014 vs 2013 | CL2: Prix 2014 vs 2013 | CM2: TOTAL 2014 vs 2013 | CN2: Achat 2013 | CO2: Prix 2013 | CP2: TOTAL 2013 | CQ2: Achat 2014 | CR2: Prix 2014 | CS2: TOTAL 2014 | CT2: Achat 2014 vs 2013 | CU2: Prix 2014 vs 2013 | CV2: TOTAL 2014 vs 2013 | CW2: Achat 2013 | CX2: Prix 2013 | CY2: TOTAL 2013 | CZ2: Achat 2014 | DA2: Prix 2014 | DB2: TOTAL 2014 | DC2: Achat 2014 vs 2013 | DD2: Prix 2014 vs 2013 | DE2: TOTAL 2014 vs 2013 | DF2: Achat 2013 | DG2: Prix 2013 | DH2: TOTAL 2013 | DI2: Achat 2014 | DJ2: Prix 2014 | DK2: TOTAL 2014 | DL2: Achat 2014 vs 2013 | DM2: Prix 2014 vs 2013 | DN2: TOTAL 2014 vs 2013 | DO2: Achat 2013 | DP2: Prix 2013 | DQ2: TOTAL 2013 | DR2: Achat 2014 | DS2: Prix 2014 | DT2: TOTAL 2014 | DU2: Achat 2014 vs 2013 | DV2: Prix 2014 vs 2013 | DW2: TOTAL 2014 vs 2013 | DX2: Achat 2013 | DY2: Prix 2013 | DZ2: TOTAL 2013 | EA2: Achat 2014 | EB2: Prix 2014 | EC2: TOTAL 2014 | ED2: Achat 2014 vs 2013 | EE2: Prix 2014 vs 2013 | EF2: TOTAL 2014 vs 2013 | EG2: Achat 2013 | EH2: Prix 2013 | EI2: TOTAL 2013 | EJ2: Achat 2014 | EK2: Prix 2014 | EL2: TOTAL 2014 | EM2: Achat 2014 vs 2013 | EN2: Prix 2014 vs 2013 | EO2: TOTAL 2014 vs 2013 | EP2: Achat 2013 | EQ2: Prix 2013 | ER2: TOTAL 2013 | ES2: Achat 2014 | ET2: Prix 2014 | EU2: TOTAL 2014 | EV2: Achat 2014 vs 2013 | EW2: Prix 2014 vs 2013 | EX2: TOTAL 2014 vs 2013 | EY2: Achat 2013 | EZ2: Prix 2013 | FA2: TOTAL 2013 | FB2: Achat 2014 | FC2: Prix 2014 | FD2: TOTAL 2014 | FE2: Achat 2014 vs 2013 | FF2: Prix 2014 vs 2013 | FG2: TOTAL 2014 vs 2013 | FH2: Achat 2013 | FI2: Prix 2013 | FJ2: TOTAL 2013 | FK2: Achat 2014 | FL2: Prix 2014 | FM2: TOTAL 2014 | FN2: Achat 2014 vs 2013 | FO2: Prix 2014 vs 2013 | FP2: TOTAL 2014 vs 2013 | FQ2: Achat 2013 | FR2: Prix 2013 | FS2: TOTAL 2013 | FT2: Achat 2014 | FU2: Prix 2014 | FV2: TOTAL 2014 | FW2: Achat 2014 vs 2013 | FX2: Prix 2014 vs 2013 | FY2: TOTAL 2014 vs 2013 | FZ2: Achat 2013 | GA2: Prix 2013 | GB2: TOTAL 2013 | GC2: Achat 2014 | GD2: Prix 2014 | GE2: TOTAL 2014 | GF2: Achat 2014 vs 2013 | GG2: Prix 2014 vs 2013 | GH2: TOTAL 2014 vs 2013 | GI2: Achat 2013 | GJ2: Prix 2013 | GK2: TOTAL 2013 | GL2: Achat 2014 | GM2: Prix 2014 | GN2: TOTAL 2014 | GO2: Achat 2014 vs 2013 | GP2: Prix 2014 vs 2013 | GQ2: TOTAL 2014 vs 2013 | GR2: Achat 2013 | GS2: Prix 2013 | GT2: TOTAL 2013 | GU2: Achat 2014 | GV2: Prix 2014 | GW2: TOTAL 2014 | GX2: Achat 2014 vs 2013 | GY2: Prix 2014 vs 2013 | GZ2: TOTAL 2014 vs 2013 | HA2: Achat 2013 | HB2: Prix 2013 | HC2: TOTAL 2013 | HD2: Achat 2014 | HE2: Prix 2014 | HF2: TOTAL 2014 | HG2: Achat 2014 vs 2013 | HH2: Prix 2014 vs 2013 | HI2: TOTAL 2014 vs 2013 | HJ2: Achat 2013 | HK2: Prix 2013 | HL2: TOTAL 2013 | HM2: Achat 2014 | HN2: Prix 2014 | HO2: TOTAL 2014 | HP2: Achat 2014 vs 2013 | HQ2: Prix 2014 vs 2013 | HR2: TOTAL 2014 vs 2013 | HS2: Achat 2013 | HT2: Prix 2013 | HU2: TOTAL 2013 | HV2: Achat 2014 | HW2: Prix 2014 | HX2: TOTAL 2014 | HY2: Achat 2014 vs 2013 | HZ2: Prix 2014 vs 2013 | IA2: TOTAL 2014 vs 2013 | IB2: Achat 2013 | IC2: Prix 2013 | ID2: TOTAL 2013 | IE2: Achat 2014 | IF2: Prix 2014 | IG2: TOTAL 2014 | IH2: Achat 2014 vs 2013 | II2: Prix 2014 vs 2013 | IJ2: TOTAL 2014 vs 2013 | IK2: Achat 2013 | IL2: Prix 2013 | IM2: TOTAL 2013 | IN2: Achat 2014 | IO2: Prix 2014 | IP2: TOTAL 2014 | IQ2: Achat 2014 vs 2013 | IR2: Prix 2014 vs 2013 | IS2: TOTAL 2014 vs 2013 | IT2: Achat 2013 | IU2: Prix 2013 | IV2: TOTAL 2013 | IW2: Achat 2014 | IX2: Prix 2014 | IY2: TOTAL 2014 | IZ2: Achat 2014 vs 2013 | JA2: Prix 2014 vs 2013 | JB2: TOTAL 2014 vs 2013 | JC2: Achat 2013 | JD2: Prix 2013 | JE2: TOTAL 2013 | JF2: Achat 2014 | JG2: Prix 2014 | JH2: TOTAL 2014 | JI2: Achat 2014 vs 2013 | JJ2: Prix 2014 vs 2013 | JK2: TOTAL 2014 vs 2013 | JL2: Achat 2013 | JM2: Prix 2013 | JN2: TOTAL 2013 | JO2: Achat 2014 | JP2: Prix 2014 | JQ2: TOTAL 2014 | JR2: Achat 2014 vs 2013 | JS2: Prix 2014 vs 2013 | JT2: TOTAL 2014 vs 2013 | JU2: Achat 2013 | JV2: Prix 2013 | JW2: TOTAL 2013 | JX2: Achat 2014 | JY2: Prix 2014 | JZ2: TOTAL 2014 | KA2: Achat 2014 vs 2013 | KB2: Prix 2014 vs 2013 | KC2: TOTAL 2014 vs 2013 | KD2: Achat 2013 | KE2: Prix 2013 | KF2: TOTAL 2013 | KG2: Achat 2014 | KH2: Prix 2014 | KI2: TOTAL 2014 | KJ2: Achat 2014 vs 2013 | KK2: Prix 2014 vs 2013 | KL2: TOTAL 2014 vs 2013 | KM2: Achat 2013 | KN2: Prix 2013 | KO2: TOTAL 2013 | KP2: Achat 2014 | KQ2: Prix 2014 | KR2: TOTAL 2014 | KS2: Achat 2014 vs 2013 | KT2: Prix 2014 vs 2013 | KU2: TOTAL 2014 vs 2013 | KV2: Achat 2013 | KW2: Prix 2013 | KX2: TOTAL 2013 | KY2: Achat 2014 | KZ2: Prix 2014 | LA2: TOTAL 2014 | LB2: Achat 2014 vs 2013 | LC2: Prix 2014 vs 2013 | LD2: TOTAL 2014 vs 2013 | LE2: Achat 2013 | LF2: Prix 2013 | LG2: TOTAL 2013 | LH2: Achat 2014 | LI2: Prix 2014 | LJ2: TOTAL 2014 | LK2: Achat 2014 vs 2013 | LL2: Prix 2014 vs 2013 | LM2: TOTAL 2014 vs 2013 | LN2: Achat 2013 | LO2: Prix 2013 | LP2: TOTAL 2013 | LQ2: Achat 2014 | LR2: Prix 2014 | LS2: TOTAL 2014 | LT2: Achat 2014 vs 2013 | LU2: Prix 2014 vs 2013 | LV2: TOTAL 2014 vs 2013 | LW2: Achat 2013 | LX2: Prix 2013 | LY2: TOTAL 2013 | LZ2: Achat 2014 | MA2: Prix 2014 | MB2: TOTAL 2014 | MC2: Achat 2014 vs 2013 | MD2: Prix 2014 vs 2013 | ME2: TOTAL 2014 vs 2013 | MF2: Achat 2013 | MG2: Prix 2013 | MH2: TOTAL 2013 | MI2: Achat 2014 | MJ2: Prix 2014 | MK2: TOTAL 2014 | ML2: Achat 2014 vs 2013 | MM2: Prix 2014 vs 2013 | MN2: TOTAL 2014 vs 2013 | MO2: Achat 2013 | MP2: Prix 2013 | MQ2: TOTAL 2013 | MR2: Achat 2014 | MS2: Prix 2014 | MT2: TOTAL 2014 | MU2: Achat 2014 vs 2013 | MV2: Prix 2014 vs 2013 | MW2: TOTAL 2014 vs 2013 | MX2: Achat 2013 | MY2: Prix 2013 | MZ2: TOTAL 2013 | NA2: Achat 2014 | NB2: Prix 2014 | NC2: TOTAL 2014 | ND2: Achat 2014 vs 2013 | NE2: Prix 2014 vs 2013 | NF2: TOTAL 2014 vs 2013 | NG2: Achat 2013 | NH2: Prix 2013 | NI2: TOTAL 2013 | NJ2: Achat 2014 | NK2: Prix 2014 | NL2: TOTAL 2014 | NM2: Achat 2014 vs 2013 | NN2: Prix 2014 vs 2013 | NO2: TOTAL 2014 vs 2013 | NP2: Achat 2013 | NQ2: Prix 2013 | NR2: TOTAL 2013 | NS2: Achat 2014 | NT2: Prix 2014 | NU2: TOTAL 2014 | NV2: Achat 2014 vs 2013 | NW2: Prix 2014 vs 2013 | NX2: TOTAL 2014 vs 2013 | NY2: Achat 2013 | NZ2: Prix 2013 | OA2: TOTAL 2013 | OB2: Achat 2014 | OC2: Prix 2014 | OD2: TOTAL 2014 | OE2: Achat 2014 vs 2013 | OF2: Prix 2014 vs 2013 | OG2: TOTAL 2014 vs 2013 | OH2: Achat 2013 | OI2: Prix 2013 | OJ2: TOTAL 2013 | OK2: Achat 2014 | OL2: Prix 2014 | OM2: TOTAL 2014 | ON2: Achat 2014 vs 2013 | OO2: Prix 2014 vs 2013 | OP2: TOTAL 2014 vs 2013 | OQ2: Achat 2013 | OR2: Prix 2013 | OS2: TOTAL 2013 | OT2: Achat 2014 | OU2: Prix 2014 | OV2: TOTAL 2014 | OW2: Achat 2014 vs 2013 | OX2: Prix 2014 vs 2013 | OY2: TOTAL 2014 vs 2013 | OZ2: Achat 2013 | PA2: Prix 2013 | PB2: TOTAL 2013 | PC2: Achat 2014 | PD2: Prix 2014 | PE2: TOTAL 2014 | PF2: Achat 2014 vs 2013 | PG2: Prix 2014 vs 2013 | PH2: TOTAL 2014 vs 2013 | PI2: Achat 2013 | PJ2: Prix 2013 | PK2: TOTAL 2013 | PL2: Achat 2014 | PM2: Prix 2014 | PN2: TOTAL 2014 | PO2: Achat 2014 vs 2013 | PP2: Prix 2014 vs 2013 | PQ2: TOTAL 2014 vs 2013 | PR2: Achat 2013 | PS2: Prix 2013 | PT2: TOTAL 2013 | PU2: Achat 2014 | PV2: Prix 2014 | PW2: TOTAL 2014 | PX2: Achat 2014 vs 2013 | PY2: Prix 2014 vs 2013 | PZ2: TOTAL 2014 vs 2013 | QA2: Achat 2013 | QB2: Prix 2013 | QC2: TOTAL 2013 | QD2: Achat 2014 | QE2: Prix 2014 | QF2: TOTAL 2014 | QG2: Achat 2014 vs 2013 | QH2: Prix 2014 vs 2013 | QI2: TOTAL 2014 vs 2013 | QJ2: Achat 2013 | QK2: Prix 2013 | QL2: TOTAL 2013 | QM2: Achat 2014 | QN2: Prix 2014 | QO2: TOTAL 2014 | QP2: Achat 2014 vs 2013 | QQ2: Prix 2014 vs 2013 | QR2: TOTAL 2014 vs 2013 | QS2: Achat 2013 | QT2: Prix 2013 | QU2: TOTAL 2013 | QV2: Achat 2014 | QW2: Prix 2014 | QX2: TOTAL 2014 | QY2: Achat 2014 vs 2013 | QZ2: Prix 2014 vs 2013 | RA2: TOTAL 2014 vs 2013 | RB2: Achat 2013 | RC2: Prix 2013 | RD2: TOTAL 2013 | RE2: Achat 2014 | RF2: Prix 2014 | RG2: TOTAL 2014 | RH2: Achat 2014 vs 2013 | RI2: Prix 2014 vs 2013 | RJ2: TOTAL 2014 vs 2013 | RK2: Achat 2013 | RL2: Prix 2013 | RM2: TOTAL 2013 | RN2: Achat 2014 | RO2: Prix 2014 | RP2: TOTAL 2014 | RQ2: Achat 2014 vs 2013 | RR2: Prix 2014 vs 2013 | RS2: TOTAL 2014 vs 2013 | RT2: Achat 2013 | RU2: Prix 2013 | RV2: TOTAL 2013 | RW2: Achat 2014 | RX2: Prix 2014 | RY2: TOTAL 2014 | RZ2: Achat 2014 vs 2013 | SA2: Prix 2014 vs 2013 | SB2: TOTAL 2014 vs 2013 | SC2: Achat 2013 | SD2: Prix 2013 | SE2: TOTAL 2013 | SF2: Achat 2014 | SG2: Prix 2014 | SH2: TOTAL 2014 | SI2: Achat 2014 vs 2013 | SJ2: Prix 2014 vs 2013 | SK2: TOTAL 2014 vs 2013 | SL2: Achat 2013 | SM2: Prix 2013 | SN2: TOTAL 2013 | SO2: Achat 2014 | SP2: Prix 2014 | SQ2: TOTAL 2014 | SR2: Achat 2014 vs 2013 | SS2: Prix 2014 vs 2013 | ST2: TOTAL 2014 vs 2013 | SU2: Achat 2013 | SV2: Prix 2013 | SW2: TOTAL 2013 | SX2: Achat 2014 | SY2: Prix 2014 | SZ2: TOTAL 2014 | TA2: Achat 2014 vs 2013 | TB2: Prix 2014 vs 2013 | TC2: TOTAL 2014 vs 2013 | TD2: Achat 2013 | TE2: Prix 2013 | TF2: TOTAL 2013 | TG2: Achat 2014 | TH2: Prix 2014 | TI2: TOTAL 2014 | TJ2: Achat 2014 vs 2013 | TK2: Prix 2014 vs 2013 | TL2: TOTAL 2014 vs 2013 | TM2: Achat 2013 | TN2: Prix 2013 | TO2: TOTAL 2013 | TP2: Achat 2014 | TQ2: Prix 2014 | TR2: TOTAL 2014 | TS2: Achat 2014 vs 2013 | TT2: Prix 2014 vs 2013 | TU2: TOTAL 2014 vs 2013 | TV2: Achat 2013 | TW2: Prix 2013 | TX2: TOTAL 2013 | TY2: Achat 2014 | TZ2: Prix 2014 | UA2: TOTAL 2014 | UB2: Achat 2014 vs 2013 | UC2: Prix 2014 vs 2013 | UD2: TOTAL 2014 vs 2013 | UE2: Achat 2013 | UF2: Prix 2013 | UG2: TOTAL 2013 | UH2: Achat 2014 | UI2: Prix 2014 | UJ2: TOTAL 2014 | UK2: Achat 2014 vs 2013 | UL2: Prix 2014 vs 2013 | UM2: TOTAL 2014 vs 2013 | UN2: Achat 2013 | UO2: Prix 2013 | UP2: TOTAL 2013 | UQ2: Achat 2014 | UR2: Prix 2014 | US2: TOTAL 2014 | UT2: Achat 2014 vs 2013 | UU2: Prix 2014 vs 2013 | UV2: TOTAL 2014 vs 2013 | UW2: Achat 2013 | UX2: Prix 2013 | UY2: TOTAL 2013 | UZ2: Achat 2014 | VA2: Prix 2014 | VB2: TOTAL 2014 | VC2: Achat 2014 vs 2013 | VD2: Prix 2014 vs 2013 | VE2: TOTAL 2014 vs 2013 | VF2: Achat 2013 | VG2: Prix 2013 | VH2: TOTAL 2013 | VI2: Achat 2014 | VJ2: Prix 2014 | VK2: TOTAL 2014 | VL2: Achat 2014 vs 2013 | VM2: Prix 2014 vs 2013 | VN2: TOTAL 2014 vs 2013 | VO2: Achat 2013 | VP2: Prix 2013 | VQ2: TOTAL 2013 | VR2: Achat 2014 | VS2: Prix 2014 | VT2: TOTAL 2014 | VU2: Achat 2014 vs 2013 | VV2: Prix 2014 vs 2013 | VW2: TOTAL 2014 vs 2013 | VX2: Achat 2013 | VY2: Prix 2013 | VZ2: TOTAL 2013 | WA2: Achat 2014 | WB2: Prix 2014 | WC2: TOTAL 2014 | WD2: Achat 2014 vs 2013 | WE2: Prix 2014 vs 2013 | WF2: TOTAL 2014 vs 2013 | WG2: Achat 2013 | WH2: Prix 2013 | WI2: TOTAL 2013 | WJ2: Achat 2014 | WK2: Prix 2014 | WL2: TOTAL 2014 | WM2: Achat 2014 vs 2013 | WN2: Prix 2014 vs 2013 | WO2: TOTAL 2014 vs 2013 | WP2: Achat 2013 | WQ2: Prix 2013 | WR2: TOTAL 2013 | WS2: Achat 2014 | WT2: Prix 2014 | WU2: TOTAL 2014 | WV2: Achat 2014 vs 2013 | WW2: Prix 2014 vs 2013 | WX2: TOTAL 2014 vs 2013 | WY2: Achat 2013 | WZ2: Prix 2013 | XA2: TOTAL 2013 | XB2: Achat 2014 | XC2: Prix 2014 | XD2: TOTAL 2014 | XE2: Achat 2014 vs 2013 | XF2: Prix 2014 vs 2013 | XG2: TOTAL 2014 vs 2013 | XH2: Achat 2013 | XI2: Prix 2013 | XJ2: TOTAL 2013 | XK2: Achat 2014 | XL2: Prix 2014 | XM2: TOTAL 2014 | XN2: Achat 2014 vs 2013 | XO2: Prix 2014 vs 2013 | XP2: TOTAL 2014 vs 2013 | XQ2: Achat 2013 | XR2: Prix 2013 | XS2: TOTAL 2013 | XT2: Achat 2014 | XU2: Prix 2014 | XV2: TOTAL 2014 | XW2: Achat 2014 vs 2013 | XX2: Prix 2014 vs 2013 | XY2: TOTAL 2014 vs 2013 | XZ2: Achat 2013 | YA2: Prix 2013 | YB2: TOTAL 2013 | YC2: Achat 2014 | YD2: Prix 2014 | YE2: TOTAL 2014 | YF2: Achat 2014 vs 2013 | YG2: Prix 2014 vs 2013 | YH2: TOTAL 2014 vs 2013 | YI2: Achat 2013 | YJ2: Prix 2013 | YK2: TOTAL 2013 | YL2: Achat 2014 | YM2: Prix 2014 | YN2: TOTAL 2014 | YO2: Achat 2014 vs 2013 | YP2: Prix 2014 vs 2013 | YQ2: TOTAL 2014 vs 2013 | YR2: Achat 2013 | YS2: Prix 2013 | YT2: TOTAL 2013 | YU2: Achat 2014 | YV2: Prix 2014 | YW2: TOTAL 2014 | YX2: Achat 2014 vs 2013 | YY2: Prix 2014 vs 2013 | YZ2: TOTAL 2014 vs 2013 | ZA2: Achat 2013 | ZB2: Prix 2013 | ZC2: TOTAL 2013 | ZD2: Achat 2014 | ZE2: Prix 2014 | ZF2: TOTAL 2014 | ZG2: Achat 2014 vs 2013 | ZH2: Prix 2014 vs 2013 | ZI2: TOTAL 2014 vs 2013
A3: x | B3: a | C3: x | D3: x | E3: =SUMIF($2:$2,"Achat 2013",3:3) -> 3876 | F3: =SUMIF($2:$2,"TOTAL 2013",3:3) -> 60720 | G3: =SUMIF($2:$2,"Achat 2014",3:3) -> 0 | H3: =SUMIF($2:$2,"TOTAL 2014",3:3) -> 0 | I3: =IF(E3<>0,((G3-E3)/E3),"") -> -1 | J3: =IF(F3<>0,((H3-F3)/F3),"") -> -1 | M3: =K3*L3 -> 0 | P3: =N3*O3 -> 0 | Q3: =IF(K3<>0,((N3-K3)/K3),"") | R3: =IF(L3<>0,((O3-L3)/L3),"") | S3: =IF(M3<>0,((P3-M3)/M3),"") | V3: =T3*U3 -> 0 | Y3: =W3*X3 -> 0 | Z3: =IF(T3<>0,((W3-T3)/T3),"") | AA3: =IF(U3<>0,((X3-U3)/U3),"") | AB3: =IF(V3<>0,((Y3-V3)/V3),"") | AE3: =AC3*AD3 -> 0 | AH3: =AF3*AG3 -> 0 | AI3: =IF(AC3<>0,((AF3-AC3)/AC3),"") | AJ3: =IF(AD3<>0,((AG3-AD3)/AD3),"") | AK3: =IF(AE3<>0,((AH3-AE3)/AE3),"") | AN3: =AL3*AM3 -> 0 | AQ3: =AO3*AP3 -> 0 | AR3: =IF(AL3<>0,((AO3-AL3)/AL3),"") | AS3: =IF(AM3<>0,((AP3-AM3)/AM3),"") | AT3: =IF(AN3<>0,((AQ3-AN3)/AN3),"") | AW3: =AU3*AV3 -> 0 | AZ3: =AX3*AY3 -> 0 | BA3: =IF(AU3<>0,((AX3-AU3)/AU3),"") | BB3: =IF(AV3<>0,((AY3-AV3)/AV3),"") | BC3: =IF(AW3<>0,((AZ3-AW3)/AW3),"") | BF3: =BD3*BE3 -> 0 | BI3: =BG3*BH3 -> 0 | BJ3: =IF(BD3<>0,((BG3-BD3)/BD3),"") | BK3: =IF(BE3<>0,((BH3-BE3)/BE3),"") | BL3: =IF(BF3<>0,((BI3-BF3)/BF3),"") | BO3: =BM3*BN3 -> 0 | BR3: =BP3*BQ3 -> 0 | BS3: =IF(BM3<>0,((BP3-BM3)/BM3),"") | BT3: =IF(BN3<>0,((BQ3-BN3)/BN3),"") | BU3: =IF(BO3<>0,((BR3-BO3)/BO3),"") | BV3: 12 | BW3: 300 | BX3: =BV3*BW3 -> 3600 | CA3: =BY3*BZ3 -> 0 | CB3: =IF(BV3<>0,((BY3-BV3)/BV3),"") -> -1 | CC3: =IF(BW3<>0,((BZ3-BW3)/BW3),"") -> -1 | CD3: =IF(BX3<>0,((CA3-BX3)/BX3),"") -> -1 | CG3: =CE3*CF3 -> 0 | CJ3: =CH3*CI3 -> 0 | CK3: =IF(CE3<>0,((CH3-CE3)/CE3),"") | CL3: =IF(CF3<>0,((CI3-CF3)/CF3),"") | CM3: =IF(CG3<>0,((CJ3-CG3)/CG3),"") | CP3: =CN3*CO3 -> 0 | CS3: =CQ3*CR3 -> 0 | CT3: =IF(CN3<>0,((CQ3-CN3)/CN3),"") | CU3: =IF(CO3<>0,((CR3-CO3)/CO3),"") | CV3: =IF(CP3<>0,((CS3-CP3)/CP3),"") | CY3: =CW3*CX3 -> 0 | DB3: =CZ3*DA3 -> 0 | DC3: =IF(CW3<>0,((CZ3-CW3)/CW3),"") | DD3: =IF(CX3<>0,((DA3-CX3)/CX3),"") | DE3: =IF(CY3<>0,((DB3-CY3)/CY3),"") | DH3: =DF3*DG3 -> 0 | DK3: =DI3*DJ3 -> 0 | DL3: =IF(DF3<>0,((DI3-DF3)/DF3),"") | DM3: =IF(DG3<>0,((DJ3-DG3)/DG3),"") | DN3: =IF(DH3<>0,((DK3-DH3)/DH3),"") | DQ3: =DO3*DP3 -> 0 | DT3: =DR3*DS3 -> 0 | DU3: =IF(DO3<>0,((DR3-DO3)/DO3),"") | DV3: =IF(DP3<>0,((DS3-DP3)/DP3),"") | DW3: =IF(DQ3<>0,((DT3-DQ3)/DQ3),"") | DZ3: =DX3*DY3 -> 0 | EC3: =EA3*EB3 -> 0 | ED3: =IF(DX3<>0,((EA3-DX3)/DX3),"") | EE3: =IF(DY3<>0,((EB3-DY3)/DY3),"") | EF3: =IF(DZ3<>0,((EC3-DZ3)/DZ3),"") | EI3: =EG3*EH3 -> 0 | EL3: =EJ3*EK3 -> 0 | EM3: =IF(EG3<>0,((EJ3-EG3)/EG3),"") | EN3: =IF(EH3<>0,((EK3-EH3)/EH3),"") | EO3: =IF(EI3<>0,((EL3-EI3)/EI3),"") | ER3: =EP3*EQ3 -> 0 | EU3: =ES3*ET3 -> 0 | EV3: =IF(EP3<>0,((ES3-EP3)/EP3),"") | EW3: =IF(EQ3<>0,((ET3-EQ3)/EQ3),"") | EX3: =IF(ER3<>0,((EU3-ER3)/ER3),"") | FA3: =EY3*EZ3 -> 0 | FD3: =FB3*FC3 -> 0 | FE3: =IF(EY3<>0,((FB3-EY3)/EY3),"") | FF3: =IF(EZ3<>0,((FC3-EZ3)/EZ3),"") | FG3: =IF(FA3<>0,((FD3-FA3)/FA3),"") | FJ3: =FH3*FI3 -> 0 | FM3: =FK3*FL3 -> 0 | FN3: =IF(FH3<>0,((FK3-FH3)/FH3),"") | FO3: =IF(FI3<>0,((FL3-FI3)/FI3),"") | FP3: =IF(FJ3<>0,((FM3-FJ3)/FJ3),"") | FS3: =FQ3*FR3 -> 0 | FV3: =FT3*FU3 -> 0 | FW3: =IF(FQ3<>0,((FT3-FQ3)/FQ3),"") | FX3: =IF(FR3<>0,((FU3-FR3)/FR3),"") | FY3: =IF(FS3<>0,((FV3-FS3)/FS3),"") | GB3: =FZ3*GA3 -> 0 | GE3: =GC3*GD3 -> 0 | GF3: =IF(FZ3<>0,((GC3-FZ3)/FZ3),"") | GG3: =IF(GA3<>0,((GD3-GA3)/GA3),"") | GH3: =IF(GB3<>0,((GE3-GB3)/GB3),"") | GK3: =GI3*GJ3 -> 0 | GN3: =GL3*GM3 -> 0 | GO3: =IF(GI3<>0,((GL3-GI3)/GI3),"") | GP3: =IF(GJ3<>0,((GM3-GJ3)/GJ3),"") | GQ3: =IF(GK3<>0,((GN3-GK3)/GK3),"") | GT3: =GR3*GS3 -> 0 | GW3: =GU3*GV3 -> 0 | GX3: =IF(GR3<>0,((GU3-GR3)/GR3),"") | GY3: =IF(GS3<>0,((GV3-GS3)/GS3),"") | GZ3: =IF(GT3<>0,((GW3-GT3)/GT3),"") | HC3: =HA3*HB3 -> 0 | HF3: =HD3*HE3 -> 0 | HG3: =IF(HA3<>0,((HD3-HA3)/HA3),"") | HH3: =IF(HB3<>0,((HE3-HB3)/HB3),"") | HI3: =IF(HC3<>0,((HF3-HC3)/HC3),"") | HL3: =HJ3*HK3 -> 0 | HO3: =HM3*HN3 -> 0 | HP3: =IF(HJ3<>0,((HM3-HJ3)/HJ3),"") | HQ3: =IF(HK3<>0,((HN3-HK3)/HK3),"") | HR3: =IF(HL3<>0,((HO3-HL3)/HL3),"") | HU3: =HS3*HT3 -> 0 | HX3: =HV3*HW3 -> 0 | HY3: =IF(HS3<>0,((HV3-HS3)/HS3),"") | HZ3: =IF(HT3<>0,((HW3-HT3)/HT3),"") | IA3: =IF(HU3<>0,((HX3-HU3)/HU3),"") | ID3: =IB3*IC3 -> 0 | IG3: =IE3*IF3 -> 0 | IH3: =IF(IB3<>0,((IE3-IB3)/IB3),"") | II3: =IF(IC3<>0,((IF3-IC3)/IC3),"") | IJ3: =IF(ID3<>0,((IG3-ID3)/ID3),"") | IM3: =IK3*IL3 -> 0 | IP3: =IN3*IO3 -> 0 | IQ3: =IF(IK3<>0,((IN3-IK3)/IK3),"") | IR3: =IF(IL3<>0,((IO3-IL3)/IL3),"") | IS3: =IF(IM3<>0,((IP3-IM3)/IM3),"") | IV3: =IT3*IU3 -> 0 | IY3: =IW3*IX3 -> 0 | IZ3: =IF(IT3<>0,((IW3-IT3)/IT3),"") | JA3: =IF(IU3<>0,((IX3-IU3)/IU3),"") | JB3: =IF(IV3<>0,((IY3-IV3)/IV3),"") | JE3: =JC3*JD3 -> 0 | JH3: =JF3*JG3 -> 0 | JI3: =IF(JC3<>0,((JF3-JC3)/JC3),"") | JJ3: =IF(JD3<>0,((JG3-JD3)/JD3),"") | JK3: =IF(JE3<>0,((JH3-JE3)/JE3),"") | JN3: =JL3*JM3 -> 0 | JQ3: =JO3*JP3 -> 0 | JR3: =IF(JL3<>0,((JO3-JL3)/JL3),"") | JS3: =IF(JM3<>0,((JP3-JM3)/JM3),"") | JT3: =IF(JN3<>0,((JQ3-JN3)/JN3),"") | JW3: =JU3*JV3 -> 0 | JZ3: =JX3*JY3 -> 0 | KA3: =IF(JU3<>0,((JX3-JU3)/JU3),"") | KB3: =IF(JV3<>0,((JY3-JV3)/JV3),"") | KC3: =IF(JW3<>0,((JZ3-JW3)/JW3),"") | KF3: =KD3*KE3 -> 0 | KI3: =KG3*KH3 -> 0 | KJ3: =IF(KD3<>0,((KG3-KD3)/KD3),"") | KK3: =IF(KE3<>0,((KH3-KE3)/KE3),"") | KL3: =IF(KF3<>0,((KI3-KF3)/KF3),"") | KO3: =KM3*KN3 -> 0 | KR3: =KP3*KQ3 -> 0 | KS3: =IF(KM3<>0,((KP3-KM3)/KM3),"") | KT3: =IF(KN3<>0,((KQ3-KN3)/KN3),"") | KU3: =IF(KO3<>0,((KR3-KO3)/KO3),"") | KX3: =KV3*KW3 -> 0 | LA3: =KY3*KZ3 -> 0 | LB3: =IF(KV3<>0,((KY3-KV3)/KV3),"") | LC3: =IF(KW3<>0,((KZ3-KW3)/KW3),"") | LD3: =IF(KX3<>0,((LA3-KX3)/KX3),"") | LG3: =LE3*LF3 -> 0 | LJ3: =LH3*LI3 -> 0 | LK3: =IF(LE3<>0,((LH3-LE3)/LE3),"") | LL3: =IF(LF3<>0,((LI3-LF3)/LF3),"") | LM3: =IF(LG3<>0,((LJ3-LG3)/LG3),"") | LP3: =LN3*LO3 -> 0 | LS3: =LQ3*LR3 -> 0 | LT3: =IF(LN3<>0,((LQ3-LN3)/LN3),"") | LU3: =IF(LO3<>0,((LR3-LO3)/LO3),"") | LV3: =IF(LP3<>0,((LS3-LP3)/LP3),"") | LY3: =LW3*LX3 -> 0 | MB3: =LZ3*MA3 -> 0 | MC3: =IF(LW3<>0,((LZ3-LW3)/LW3),"") | MD3: =IF(LX3<>0,((MA3-LX3)/LX3),"") | ME3: =IF(LY3<>0,((MB3-LY3)/LY3),"") | MH3: =MF3*MG3 -> 0 | MK3: =MI3*MJ3 -> 0 | ML3: =IF(MF3<>0,((MI3-MF3)/MF3),"") | MM3: =IF(MG3<>0,((MJ3-MG3)/MG3),"") | MN3: =IF(MH3<>0,((MK3-MH3)/MH3),"") | MQ3: =MO3*MP3 -> 0 | MT3: =MR3*MS3 -> 0 | MU3: =IF(MO3<>0,((MR3-MO3)/MO3),"") | MV3: =IF(MP3<>0,((MS3-MP3)/MP3),"") | MW3: =IF(MQ3<>0,((MT3-MQ3)/MQ3),"") | MZ3: =MX3*MY3 -> 0 | NC3: =NA3*NB3 -> 0 | ND3: =IF(MX3<>0,((NA3-MX3)/MX3),"") | NE3: =IF(MY3<>0,((NB3-MY3)/MY3),"") | NF3: =IF(MZ3<>0,((NC3-MZ3)/MZ3),"") | NI3: =NG3*NH3 -> 0 | NL3: =NJ3*NK3 -> 0 | NM3: =IF(NG3<>0,((NJ3-NG3)/NG3),"") | NN3: =IF(NH3<>0,((NK3-NH3)/NH3),"") | NO3: =IF(NI3<>0,((NL3-NI3)/NI3),"") | NR3: =NP3*NQ3 -> 0 | NU3: =NS3*NT3 -> 0 | NV3: =IF(NP3<>0,((NS3-NP3)/NP3),"") | NW3: =IF(NQ3<>0,((NT3-NQ3)/NQ3),"") | NX3: =IF(NR3<>0,((NU3-NR3)/NR3),"") | OA3: =NY3*NZ3 -> 0 | OD3: =OB3*OC3 -> 0 | OE3: =IF(NY3<>0,((OB3-NY3)/NY3),"") | OF3: =IF(NZ3<>0,((OC3-NZ3)/NZ3),"") | OG3: =IF(OA3<>0,((OD3-OA3)/OA3),"") | OJ3: =OH3*OI3 -> 0 | OM3: =OK3*OL3 -> 0 | ON3: =IF(OH3<>0,((OK3-OH3)/OH3),"") | OO3: =IF(OI3<>0,((OL3-OI3)/OI3),"") | OP3: =IF(OJ3<>0,((OM3-OJ3)/OJ3),"") | OS3: =OQ3*OR3 -> 0 | OV3: =OT3*OU3 -> 0 | OW3: =IF(OQ3<>0,((OT3-OQ3)/OQ3),"") | OX3: =IF(OR3<>0,((OU3-OR3)/OR3),"") | OY3: =IF(OS3<>0,((OV3-OS3)/OS3),"") | OZ3: 24 | PA3: 215 | PB3: =OZ3*PA3 -> 5160 | PE3: =PC3*PD3 -> 0 | PF3: =IF(OZ3<>0,((PC3-OZ3)/OZ3),"") -> -1 | PG3: =IF(PA3<>0,((PD3-PA3)/PA3),"") -> -1 | PH3: =IF(PB3<>0,((PE3-PB3)/PB3),"") -> -1 | PK3: =PI3*PJ3 -> 0 | PN3: =PL3*PM3 -> 0 | PO3: =IF(PI3<>0,((PL3-PI3)/PI3),"") | PP3: =IF(PJ3<>0,((PM3-PJ3)/PJ3),"") | PQ3: =IF(PK3<>0,((PN3-PK3)/PK3),"") | PT3: =PR3*PS3 -> 0 | PW3: =PU3*PV3 -> 0 | PX3: =IF(PR3<>0,((PU3-PR3)/PR3),"") | PY3: =IF(PS3<>0,((PV3-PS3)/PS3),"") | PZ3: =IF(PT3<>0,((PW3-PT3)/PT3),"") | QA3: 1440 | QB3: 8.5 | QC3: =QA3*QB3 -> 12240 | QF3: =QD3*QE3 -> 0 | QG3: =IF(QA3<>0,((QD3-QA3)/QA3),"") -> -1 | QH3: =IF(QB3<>0,((QE3-QB3)/QB3),"") -> -1 | QI3: =IF(QC3<>0,((QF3-QC3)/QC3),"") -> -1 | QJ3: 1200 | QK3: 6.7 | QL3: =QJ3*QK3 -> 8040 | QO3: =QM3*QN3 -> 0 | QP3: =IF(QJ3<>0,((QM3-QJ3)/QJ3),"") -> -1 | QQ3: =IF(QK3<>0,((QN3-QK3)/QK3),"") -> -1 | QR3: =IF(QL3<>0,((QO3-QL3)/QL3),"") -> -1 | QU3: =QS3*QT3 -> 0 | QX3: =QV3*QW3 -> 0 | QY3: =IF(QS3<>0,((QV3-QS3)/QS3),"") | QZ3: =IF(QT3<>0,((QW3-QT3)/QT3),"") | RA3: =IF(QU3<>0,((QX3-QU3)/QU3),"") | RD3: =RB3*RC3 -> 0 | RG3: =RE3*RF3 -> 0 | RH3: =IF(RB3<>0,((RE3-RB3)/RB3),"") | RI3: =IF(RC3<>0,((RF3-RC3)/RC3),"") | RJ3: =IF(RD3<>0,((RG3-RD3)/RD3),"") | RM3: =RK3*RL3 -> 0 | RP3: =RN3*RO3 -> 0 | RQ3: =IF(RK3<>0,((RN3-RK3)/RK3),"") | RR3: =IF(RL3<>0,((RO3-RL3)/RL3),"") | RS3: =IF(RM3<>0,((RP3-RM3)/RM3),"") | RV3: =RT3*RU3 -> 0 | RY3: =RW3*RX3 -> 0 | RZ3: =IF(RT3<>0,((RW3-RT3)/RT3),"") | SA3: =IF(RU3<>0,((RX3-RU3)/RU3),"") | SB3: =IF(RV3<>0,((RY3-RV3)/RV3),"") | SE3: =SC3*SD3 -> 0 | SH3: =SF3*SG3 -> 0 | SI3: =IF(SC3<>0,((SF3-SC3)/SC3),"") | SJ3: =IF(SD3<>0,((SG3-SD3)/SD3),"") | SK3: =IF(SE3<>0,((SH3-SE3)/SE3),"") | SN3: =SL3*SM3 -> 0 | SQ3: =SO3*SP3 -> 0 | SR3: =IF(SL3<>0,((SO3-SL3)/SL3),"") | SS3: =IF(SM3<>0,((SP3-SM3)/SM3),"") | ST3: =IF(SN3<>0,((SQ3-SN3)/SN3),"") | SW3: =SU3*SV3 -> 0 | SZ3: =SX3*SY3 -> 0 | TA3: =IF(SU3<>0,((SX3-SU3)/SU3),"") | TB3: =IF(SV3<>0,((SY3-SV3)/SV3),"") | TC3: =IF(SW3<>0,((SZ3-SW3)/SW3),"") | TF3: =TD3*TE3 -> 0 | TI3: =TG3*TH3 -> 0 | TJ3: =IF(TD3<>0,((TG3-TD3)/TD3),"") | TK3: =IF(TE3<>0,((TH3-TE3)/TE3),"") | TL3: =IF(TF3<>0,((TI3-TF3)/TF3),"") | TO3: =TM3*TN3 -> 0 | TR3: =TP3*TQ3 -> 0 | TS3: =IF(TM3<>0,((TP3-TM3)/TM3),"") | TT3: =IF(TN3<>0,((TQ3-TN3)/TN3),"") | TU3: =IF(TO3<>0,((TR3-TO3)/TO3),"") | TX3: =TV3*TW3 -> 0 | UA3: =TY3*TZ3 -> 0 | UB3: =IF(TV3<>0,((TY3-TV3)/TV3),"") | UC3: =IF(TW3<>0,((TZ3-TW3)/TW3),"") | UD3: =IF(TX3<>0,((UA3-TX3)/TX3),"") | UG3: =UE3*UF3 -> 0 | UJ3: =UH3*UI3 -> 0 | UK3: =IF(UE3<>0,((UH3-UE3)/UE3),"") | UL3: =IF(UF3<>0,((UI3-UF3)/UF3),"") | UM3: =IF(UG3<>0,((UJ3-UG3)/UG3),"") | UP3: =UN3*UO3 -> 0 | US3: =UQ3*UR3 -> 0 | UT3: =IF(UN3<>0,((UQ3-UN3)/UN3),"") | UU3: =IF(UO3<>0,((UR3-UO3)/UO3),"") | UV3: =IF(UP3<>0,((US3-UP3)/UP3),"") | UW3: 1200 | UX3: 26.4 | UY3: =UW3*UX3 -> 31680 | VB3: =UZ3*VA3 -> 0 | VC3: =IF(UW3<>0,((UZ3-UW3)/UW3),"") -> -1 | VD3: =IF(UX3<>0,((VA3-UX3)/UX3),"") -> -1 | VE3: =IF(UY3<>0,((VB3-UY3)/UY3),"") -> -1 | VH3: =VF3*VG3 -> 0 | VK3: =VI3*VJ3 -> 0 | VL3: =IF(VF3<>0,((VI3-VF3)/VF3),"") | VM3: =IF(VG3<>0,((VJ3-VG3)/VG3),"") | VN3: =IF(VH3<>0,((VK3-VH3)/VH3),"") | VQ3: =VO3*VP3 -> 0 | VT3: =VR3*VS3 -> 0 | VU3: =IF(VO3<>0,((VR3-VO3)/VO3),"") | VV3: =IF(VP3<>0,((VS3-VP3)/VP3),"") | VW3: =IF(VQ3<>0,((VT3-VQ3)/VQ3),"") | VZ3: =VX3*VY3 -> 0 | WC3: =WA3*WB3 -> 0 | WD3: =IF(VX3<>0,((WA3-VX3)/VX3),"") | WE3: =IF(VY3<>0,((WB3-VY3)/VY3),"") | WF3: =IF(VZ3<>0,((WC3-VZ3)/VZ3),"") | WI3: =WG3*WH3 -> 0 | WL3: =WJ3*WK3 -> 0 | WM3: =IF(WG3<>0,((WJ3-WG3)/WG3),"") | WN3: =IF(WH3<>0,((WK3-WH3)/WH3),"") | WO3: =IF(WI3<>0,((WL3-WI3)/WI3),"") | WR3: =WP3*WQ3 -> 0 | WU3: =WS3*WT3 -> 0 | WV3: =IF(WP3<>0,((WS3-WP3)/WP3),"") | WW3: =IF(WQ3<>0,((WT3-WQ3)/WQ3),"") | WX3: =IF(WR3<>0,((WU3-WR3)/WR3),"") | XA3: =WY3*WZ3 -> 0 | XD3: =XB3*XC3 -> 0 | XE3: =IF(WY3<>0,((XB3-WY3)/WY3),"") | XF3: =IF(WZ3<>0,((XC3-WZ3)/WZ3),"") | XG3: =IF(XA3<>0,((XD3-XA3)/XA3),"") | XJ3: =XH3*XI3 -> 0 | XM3: =XK3*XL3 -> 0 | XN3: =IF(XH3<>0,((XK3-XH3)/XH3),"") | XO3: =IF(XI3<>0,((XL3-XI3)/XI3),"") | XP3: =IF(XJ3<>0,((XM3-XJ3)/XJ3),"") | XS3: =XQ3*XR3 -> 0 | XV3: =XT3*XU3 -> 0 | XW3: =IF(XQ3<>0,((XT3-XQ3)/XQ3),"") | XX3: =IF(XR3<>0,((XU3-XR3)/XR3),"") | XY3: =IF(XS3<>0,((XV3-XS3)/XS3),"") | YB3: =XZ3*YA3 -> 0 | YE3: =YC3*YD3 -> 0 | YF3: =IF(XZ3<>0,((YC3-XZ3)/XZ3),"") | YG3: =IF(YA3<>0,((YD3-YA3)/YA3),"") | YH3: =IF(YB3<>0,((YE3-YB3)/YB3),"") | YK3: =YI3*YJ3 -> 0 | YN3: =YL3*YM3 -> 0 | YO3: =IF(YI3<>0,((YL3-YI3)/YI3),"") | YP3: =IF(YJ3<>0,((YM3-YJ3)/YJ3),"") | YQ3: =IF(YK3<>0,((YN3-YK3)/YK3),"") | YT3: =YR3*YS3 -> 0 | YW3: =YU3*YV3 -> 0 | YX3: =IF(YR3<>0,((YU3-YR3)/YR3),"") | YY3: =IF(YS3<>0,((YV3-YS3)/YS3),"") | YZ3: =IF(YT3<>0,((YW3-YT3)/YT3),"") | ZC3: =SUM(ZA3*ZB3) -> 0 | ZF3: =ZD3*ZE3 -> 0 | ZG3: =IF(ZA3<>0,((ZD3-ZA3)/ZA3),"") | ZH3: =IF(ZB3<>0,((ZE3-ZB3)/ZB3),"") | ZI3: =IF(ZC3<>0,((ZF3-ZC3)/ZC3),"")
A4: x | B4: b | C4: x | D4: x | E4: =SUMIF($2:$2,"Achat 2013",4:4) -> 0 | F4: =SUMIF($2:$2,"TOTAL 2013",4:4) -> 0 | G4: =SUMIF($2:$2,"Achat 2014",4:4) -> 0 | H4: =SUMIF($2:$2,"TOTAL 2014",4:4) -> 0 | I4: =IF(E4<>0,((G4-E4)/E4),"") | J4: =IF(F4<>0,((H4-F4)/F4),"") | M4: =K4*L4 -> 0 | P4: =N4*O4 -> 0 | Q4: =IF(K4<>0,((N4-K4)/K4),"") | R4: =IF(L4<>0,((O4-L4)/L4),"") | S4: =IF(M4<>0,((P4-M4)/M4),"") | V4: =T4*U4 -> 0 | Y4: =W4*X4 -> 0 | Z4: =IF(T4<>0,((W4-T4)/T4),"") | AA4: =IF(U4<>0,((X4-U4)/U4),"") | AB4: =IF(V4<>0,((Y4-V4)/V4),"") | AE4: =AC4*AD4 -> 0 | AH4: =AF4*AG4 -> 0 | AI4: =IF(AC4<>0,((AF4-AC4)/AC4),"") | AJ4: =IF(AD4<>0,((AG4-AD4)/AD4),"") | AK4: =IF(AE4<>0,((AH4-AE4)/AE4),"") | AN4: =AL4*AM4 -> 0 | AQ4: =AO4*AP4 -> 0 | AR4: =IF(AL4<>0,((AO4-AL4)/AL4),"") | AS4: =IF(AM4<>0,((AP4-AM4)/AM4),"") | AT4: =IF(AN4<>0,((AQ4-AN4)/AN4),"") | AW4: =AU4*AV4 -> 0 | AZ4: =AX4*AY4 -> 0 | BA4: =IF(AU4<>0,((AX4-AU4)/AU4),"") | BB4: =IF(AV4<>0,((AY4-AV4)/AV4),"") | BC4: =IF(AW4<>0,((AZ4-AW4)/AW4),"") | BF4: =BD4*BE4 -> 0 | BI4: =BG4*BH4 -> 0 | BJ4: =IF(BD4<>0,((BG4-BD4)/BD4),"") | BK4: =IF(BE4<>0,((BH4-BE4)/BE4),"") | BL4: =IF(BF4<>0,((BI4-BF4)/BF4),"") | BO4: =BM4*BN4 -> 0 | BR4: =BP4*BQ4 -> 0 | BS4: =IF(BM4<>0,((BP4-BM4)/BM4),"") | BT4: =IF(BN4<>0,((BQ4-BN4)/BN4),"") | BU4: =IF(BO4<>0,((BR4-BO4)/BO4),"") | BX4: =BV4*BW4 -> 0 | CA4: =BY4*BZ4 -> 0 | CB4: =IF(BV4<>0,((BY4-BV4)/BV4),"") | CC4: =IF(BW4<>0,((BZ4-BW4)/BW4),"") | CD4: =IF(BX4<>0,((CA4-BX4)/BX4),"") | CG4: =CE4*CF4 -> 0 | CJ4: =CH4*CI4 -> 0 | CK4: =IF(CE4<>0,((CH4-CE4)/CE4),"") | CL4: =IF(CF4<>0,((CI4-CF4)/CF4),"") | CM4: =IF(CG4<>0,((CJ4-CG4)/CG4),"") | CP4: =CN4*CO4 -> 0 | CS4: =CQ4*CR4 -> 0 | CT4: =IF(CN4<>0,((CQ4-CN4)/CN4),"") | CU4: =IF(CO4<>0,((CR4-CO4)/CO4),"") | CV4: =IF(CP4<>0,((CS4-CP4)/CP4),"") | CY4: =CW4*CX4 -> 0 | DB4: =CZ4*DA4 -> 0 | DC4: =IF(CW4<>0,((CZ4-CW4)/CW4),"") | DD4: =IF(CX4<>0,((DA4-CX4)/CX4),"") | DE4: =IF(CY4<>0,((DB4-CY4)/CY4),"") | DH4: =DF4*DG4 -> 0 | DK4: =DI4*DJ4 -> 0 | DL4: =IF(DF4<>0,((DI4-DF4)/DF4),"") | DM4: =IF(DG4<>0,((DJ4-DG4)/DG4),"") | DN4: =IF(DH4<>0,((DK4-DH4)/DH4),"") | DQ4: =DO4*DP4 -> 0 | DT4: =DR4*DS4 -> 0 | DU4: =IF(DO4<>0,((DR4-DO4)/DO4),"") | DV4: =IF(DP4<>0,((DS4-DP4)/DP4),"") | DW4: =IF(DQ4<>0,((DT4-DQ4)/DQ4),"") | DZ4: =DX4*DY4 -> 0 | EC4: =EA4*EB4 -> 0 | ED4: =IF(DX4<>0,((EA4-DX4)/DX4),"") | EE4: =IF(DY4<>0,((EB4-DY4)/DY4),"") | EF4: =IF(DZ4<>0,((EC4-DZ4)/DZ4),"") | EI4: =EG4*EH4 -> 0 | EL4: =EJ4*EK4 -> 0 | EM4: =IF(EG4<>0,((EJ4-EG4)/EG4),"") | EN4: =IF(EH4<>0,((EK4-EH4)/EH4),"") | EO4: =IF(EI4<>0,((EL4-EI4)/EI4),"") | ER4: =EP4*EQ4 -> 0 | EU4: =ES4*ET4 -> 0 | EV4: =IF(EP4<>0,((ES4-EP4)/EP4),"") | EW4: =IF(EQ4<>0,((ET4-EQ4)/EQ4),"") | EX4: =IF(ER4<>0,((EU4-ER4)/ER4),"") | FA4: =EY4*EZ4 -> 0 | FD4: =FB4*FC4 -> 0 | FE4: =IF(EY4<>0,((FB4-EY4)/EY4),"") | FF4: =IF(EZ4<>0,((FC4-EZ4)/EZ4),"") | FG4: =IF(FA4<>0,((FD4-FA4)/FA4),"") | FJ4: =FH4*FI4 -> 0 | FM4: =FK4*FL4 -> 0 | FN4: =IF(FH4<>0,((FK4-FH4)/FH4),"") | FO4: =IF(FI4<>0,((FL4-FI4)/FI4),"") | FP4: =IF(FJ4<>0,((FM4-FJ4)/FJ4),"") | FS4: =FQ4*FR4 -> 0 | FV4: =FT4*FU4 -> 0 | FW4: =IF(FQ4<>0,((FT4-FQ4)/FQ4),"") | FX4: =IF(FR4<>0,((FU4-FR4)/FR4),"") | FY4: =IF(FS4<>0,((FV4-FS4)/FS4),"") | GB4: =FZ4*GA4 -> 0 | GE4: =GC4*GD4 -> 0 | GF4: =IF(FZ4<>0,((GC4-FZ4)/FZ4),"") | GG4: =IF(GA4<>0,((GD4-GA4)/GA4),"") | GH4: =IF(GB4<>0,((GE4-GB4)/GB4),"") | GK4: =GI4*GJ4 -> 0 | GN4: =GL4*GM4 -> 0 | GO4: =IF(GI4<>0,((GL4-GI4)/GI4),"") | GP4: =IF(GJ4<>0,((GM4-GJ4)/GJ4),"") | GQ4: =IF(GK4<>0,((GN4-GK4)/GK4),"") | GT4: =GR4*GS4 -> 0 | GW4: =GU4*GV4 -> 0 | GX4: =IF(GR4<>0,((GU4-GR4)/GR4),"") | GY4: =IF(GS4<>0,((GV4-GS4)/GS4),"") | GZ4: =IF(GT4<>0,((GW4-GT4)/GT4),"") | HC4: =HA4*HB4 -> 0 | HF4: =HD4*HE4 -> 0 | HG4: =IF(HA4<>0,((HD4-HA4)/HA4),"") | HH4: =IF(HB4<>0,((HE4-HB4)/HB4),"") | HI4: =IF(HC4<>0,((HF4-HC4)/HC4),"") | HL4: =HJ4*HK4 -> 0 | HO4: =HM4*HN4 -> 0 | HP4: =IF(HJ4<>0,((HM4-HJ4)/HJ4),"") | HQ4: =IF(HK4<>0,((HN4-HK4)/HK4),"") | HR4: =IF(HL4<>0,((HO4-HL4)/HL4),"") | HU4: =HS4*HT4 -> 0 | HX4: =HV4*HW4 -> 0 | HY4: =IF(HS4<>0,((HV4-HS4)/HS4),"") | HZ4: =IF(HT4<>0,((HW4-HT4)/HT4),"") | IA4: =IF(HU4<>0,((HX4-HU4)/HU4),"") | ID4: =IB4*IC4 -> 0 | IG4: =IE4*IF4 -> 0 | IH4: =IF(IB4<>0,((IE4-IB4)/IB4),"") | II4: =IF(IC4<>0,((IF4-IC4)/IC4),"") | IJ4: =IF(ID4<>0,((IG4-ID4)/ID4),"") | IM4: =IK4*IL4 -> 0 | IP4: =IN4*IO4 -> 0 | IQ4: =IF(IK4<>0,((IN4-IK4)/IK4),"") | IR4: =IF(IL4<>0,((IO4-IL4)/IL4),"") | IS4: =IF(IM4<>0,((IP4-IM4)/IM4),"") | IV4: =IT4*IU4 -> 0 | IY4: =IW4*IX4 -> 0 | IZ4: =IF(IT4<>0,((IW4-IT4)/IT4),"") | JA4: =IF(IU4<>0,((IX4-IU4)/IU4),"") | JB4: =IF(IV4<>0,((IY4-IV4)/IV4),"") | JE4: =JC4*JD4 -> 0 | JH4: =JF4*JG4 -> 0 | JI4: =IF(JC4<>0,((JF4-JC4)/JC4),"") | JJ4: =IF(JD4<>0,((JG4-JD4)/JD4),"") | JK4: =IF(JE4<>0,((JH4-JE4)/JE4),"") | JN4: =JL4*JM4 -> 0 | JQ4: =JO4*JP4 -> 0 | JR4: =IF(JL4<>0,((JO4-JL4)/JL4),"") | JS4: =IF(JM4<>0,((JP4-JM4)/JM4),"") | JT4: =IF(JN4<>0,((JQ4-JN4)/JN4),"") | JW4: =JU4*JV4 -> 0 | JZ4: =JX4*JY4 -> 0 | KA4: =IF(JU4<>0,((JX4-JU4)/JU4),"") | KB4: =IF(JV4<>0,((JY4-JV4)/JV4),"") | KC4: =IF(JW4<>0,((JZ4-JW4)/JW4),"") | KF4: =KD4*KE4 -> 0 | KI4: =KG4*KH4 -> 0 | KJ4: =IF(KD4<>0,((KG4-KD4)/KD4),"") | KK4: =IF(KE4<>0,((KH4-KE4)/KE4),"") | KL4: =IF(KF4<>0,((KI4-KF4)/KF4),"") | KO4: =KM4*KN4 -> 0 | KR4: =KP4*KQ4 -> 0 | KS4: =IF(KM4<>0,((KP4-KM4)/KM4),"") | KT4: =IF(KN4<>0,((KQ4-KN4)/KN4),"") | KU4: =IF(KO4<>0,((KR4-KO4)/KO4),"") | KX4: =KV4*KW4 -> 0 | LA4: =KY4*KZ4 -> 0 | LB4: =IF(KV4<>0,((KY4-KV4)/KV4),"") | LC4: =IF(KW4<>0,((KZ4-KW4)/KW4),"") | LD4: =IF(KX4<>0,((LA4-KX4)/KX4),"") | LG4: =LE4*LF4 -> 0 | LJ4: =LH4*LI4 -> 0 | LK4: =IF(LE4<>0,((LH4-LE4)/LE4),"") | LL4: =IF(LF4<>0,((LI4-LF4)/LF4),"") | LM4: =IF(LG4<>0,((LJ4-LG4)/LG4),"") | LP4: =LN4*LO4 -> 0 | LS4: =LQ4*LR4 -> 0 | LT4: =IF(LN4<>0,((LQ4-LN4)/LN4),"") | LU4: =IF(LO4<>0,((LR4-LO4)/LO4),"") | LV4: =IF(LP4<>0,((LS4-LP4)/LP4),"") | LY4: =LW4*LX4 -> 0 | MB4: =LZ4*MA4 -> 0 | MC4: =IF(LW4<>0,((LZ4-LW4)/LW4),"") | MD4: =IF(LX4<>0,((MA4-LX4)/LX4),"") | ME4: =IF(LY4<>0,((MB4-LY4)/LY4),"") | MH4: =MF4*MG4 -> 0 | MK4: =MI4*MJ4 -> 0 | ML4: =IF(MF4<>0,((MI4-MF4)/MF4),"") | MM4: =IF(MG4<>0,((MJ4-MG4)/MG4),"") | MN4: =IF(MH4<>0,((MK4-MH4)/MH4),"") | MQ4: =MO4*MP4 -> 0 | MT4: =MR4*MS4 -> 0 | MU4: =IF(MO4<>0,((MR4-MO4)/MO4),"") | MV4: =IF(MP4<>0,((MS4-MP4)/MP4),"") | MW4: =IF(MQ4<>0,((MT4-MQ4)/MQ4),"") | MZ4: =MX4*MY4 -> 0 | NC4: =NA4*NB4 -> 0 | ND4: =IF(MX4<>0,((NA4-MX4)/MX4),"") | NE4: =IF(MY4<>0,((NB4-MY4)/MY4),"") | NF4: =IF(MZ4<>0,((NC4-MZ4)/MZ4),"") | NI4: =NG4*NH4 -> 0 | NL4: =NJ4*NK4 -> 0 | NM4: =IF(NG4<>0,((NJ4-NG4)/NG4),"") | NN4: =IF(NH4<>0,((NK4-NH4)/NH4),"") | NO4: =IF(NI4<>0,((NL4-NI4)/NI4),"") | NR4: =NP4*NQ4 -> 0 | NU4: =NS4*NT4 -> 0 | NV4: =IF(NP4<>0,((NS4-NP4)/NP4),"") | NW4: =IF(NQ4<>0,((NT4-NQ4)/NQ4),"") | NX4: =IF(NR4<>0,((NU4-NR4)/NR4),"") | OA4: =NY4*NZ4 -> 0 | OD4: =OB4*OC4 -> 0 | OE4: =IF(NY4<>0,((OB4-NY4)/NY4),"") | OF4: =IF(NZ4<>0,((OC4-NZ4)/NZ4),"") | OG4: =IF(OA4<>0,((OD4-OA4)/OA4),"") | OJ4: =OH4*OI4 -> 0 | OM4: =OK4*OL4 -> 0 | ON4: =IF(OH4<>0,((OK4-OH4)/OH4),"") | OO4: =IF(OI4<>0,((OL4-OI4)/OI4),"") | OP4: =IF(OJ4<>0,((OM4-OJ4)/OJ4),"") | OS4: =OQ4*OR4 -> 0 | OV4: =OT4*OU4 -> 0 | OW4: =IF(OQ4<>0,((OT4-OQ4)/OQ4),"") | OX4: =IF(OR4<>0,((OU4-OR4)/OR4),"") | OY4: =IF(OS4<>0,((OV4-OS4)/OS4),"") | PB4: =OZ4*PA4 -> 0 | PE4: =PC4*PD4 -> 0 | PF4: =IF(OZ4<>0,((PC4-OZ4)/OZ4),"") | PG4: =IF(PA4<>0,((PD4-PA4)/PA4),"") | PH4: =IF(PB4<>0,((PE4-PB4)/PB4),"") | PK4: =PI4*PJ4 -> 0 | PN4: =PL4*PM4 -> 0 | PO4: =IF(PI4<>0,((PL4-PI4)/PI4),"") | PP4: =IF(PJ4<>0,((PM4-PJ4)/PJ4),"") | PQ4: =IF(PK4<>0,((PN4-PK4)/PK4),"") | PT4: =PR4*PS4 -> 0 | PW4: =PU4*PV4 -> 0 | PX4: =IF(PR4<>0,((PU4-PR4)/PR4),"") | PY4: =IF(PS4<>0,((PV4-PS4)/PS4),"") | PZ4: =IF(PT4<>0,((PW4-PT4)/PT4),"") | QC4: =QA4*QB4 -> 0 | QF4: =QD4*QE4 -> 0 | QG4: =IF(QA4<>0,((QD4-QA4)/QA4),"") | QH4: =IF(QB4<>0,((QE4-QB4)/QB4),"") | QI4: =IF(QC4<>0,((QF4-QC4)/QC4),"") | QL4: =QJ4*QK4 -> 0 | QO4: =QM4*QN4 -> 0 | QP4: =IF(QJ4<>0,((QM4-QJ4)/QJ4),"") | QQ4: =IF(QK4<>0,((QN4-QK4)/QK4),"") | QR4: =IF(QL4<>0,((QO4-QL4)/QL4),"") | QU4: =QS4*QT4 -> 0 | QX4: =QV4*QW4 -> 0 | QY4: =IF(QS4<>0,((QV4-QS4)/QS4),"") | QZ4: =IF(QT4<>0,((QW4-QT4)/QT4),"") | RA4: =IF(QU4<>0,((QX4-QU4)/QU4),"") | RD4: =RB4*RC4 -> 0 | RG4: =RE4*RF4 -> 0 | RH4: =IF(RB4<>0,((RE4-RB4)/RB4),"") | RI4: =IF(RC4<>0,((RF4-RC4)/RC4),"") | RJ4: =IF(RD4<>0,((RG4-RD4)/RD4),"") | RM4: =RK4*RL4 -> 0 | RP4: =RN4*RO4 -> 0 | RQ4: =IF(RK4<>0,((RN4-RK4)/RK4),"") | RR4: =IF(RL4<>0,((RO4-RL4)/RL4),"") | RS4: =IF(RM4<>0,((RP4-RM4)/RM4),"") | RV4: =RT4*RU4 -> 0 | RY4: =RW4*RX4 -> 0 | RZ4: =IF(RT4<>0,((RW4-RT4)/RT4),"") | SA4: =IF(RU4<>0,((RX4-RU4)/RU4),"") | SB4: =IF(RV4<>0,((RY4-RV4)/RV4),"") | SE4: =SC4*SD4 -> 0 | SH4: =SF4*SG4 -> 0 | SI4: =IF(SC4<>0,((SF4-SC4)/SC4),"") | SJ4: =IF(SD4<>0,((SG4-SD4)/SD4),"") | SK4: =IF(SE4<>0,((SH4-SE4)/SE4),"") | SN4: =SL4*SM4 -> 0 | SQ4: =SO4*SP4 -> 0 | SR4: =IF(SL4<>0,((SO4-SL4)/SL4),"") | SS4: =IF(SM4<>0,((SP4-SM4)/SM4),"") | ST4: =IF(SN4<>0,((SQ4-SN4)/SN4),"") | SW4: =SU4*SV4 -> 0 | SZ4: =SX4*SY4 -> 0 | TA4: =IF(SU4<>0,((SX4-SU4)/SU4),"") | TB4: =IF(SV4<>0,((SY4-SV4)/SV4),"") | TC4: =IF(SW4<>0,((SZ4-SW4)/SW4),"") | TF4: =TD4*TE4 -> 0 | TI4: =TG4*TH4 -> 0 | TJ4: =IF(TD4<>0,((TG4-TD4)/TD4),"") | TK4: =IF(TE4<>0,((TH4-TE4)/TE4),"") | TL4: =IF(TF4<>0,((TI4-TF4)/TF4),"") | TO4: =TM4*TN4 -> 0 | TR4: =TP4*TQ4 -> 0 | TS4: =IF(TM4<>0,((TP4-TM4)/TM4),"") | TT4: =IF(TN4<>0,((TQ4-TN4)/TN4),"") | TU4: =IF(TO4<>0,((TR4-TO4)/TO4),"") | TX4: =TV4*TW4 -> 0 | UA4: =TY4*TZ4 -> 0 | UB4: =IF(TV4<>0,((TY4-TV4)/TV4),"") | UC4: =IF(TW4<>0,((TZ4-TW4)/TW4),"") | UD4: =IF(TX4<>0,((UA4-TX4)/TX4),"") | UG4: =UE4*UF4 -> 0 | UJ4: =UH4*UI4 -> 0 | UK4: =IF(UE4<>0,((UH4-UE4)/UE4),"") | UL4: =IF(UF4<>0,((UI4-UF4)/UF4),"") | UM4: =IF(UG4<>0,((UJ4-UG4)/UG4),"") | UP4: =UN4*UO4 -> 0 | US4: =UQ4*UR4 -> 0 | UT4: =IF(UN4<>0,((UQ4-UN4)/UN4),"") | UU4: =IF(UO4<>0,((UR4-UO4)/UO4),"") | UV4: =IF(UP4<>0,((US4-UP4)/UP4),"") | UY4: =UW4*UX4 -> 0 | VB4: =UZ4*VA4 -> 0 | VC4: =IF(UW4<>0,((UZ4-UW4)/UW4),"") | VD4: =IF(UX4<>0,((VA4-UX4)/UX4),"") | VE4: =IF(UY4<>0,((VB4-UY4)/UY4),"") | VH4: =VF4*VG4 -> 0 | VK4: =VI4*VJ4 -> 0 | VL4: =IF(VF4<>0,((VI4-VF4)/VF4),"") | VM4: =IF(VG4<>0,((VJ4-VG4)/VG4),"") | VN4: =IF(VH4<>0,((VK4-VH4)/VH4),"") | VQ4: =VO4*VP4 -> 0 | VT4: =VR4*VS4 -> 0 | VU4: =IF(VO4<>0,((VR4-VO4)/VO4),"") | VV4: =IF(VP4<>0,((VS4-VP4)/VP4),"") | VW4: =IF(VQ4<>0,((VT4-VQ4)/VQ4),"") | VZ4: =VX4*VY4 -> 0 | WC4: =WA4*WB4 -> 0 | WD4: =IF(VX4<>0,((WA4-VX4)/VX4),"") | WE4: =IF(VY4<>0,((WB4-VY4)/VY4),"") | WF4: =IF(VZ4<>0,((WC4-VZ4)/VZ4),"") | WI4: =WG4*WH4 -> 0 | WL4: =WJ4*WK4 -> 0 | WM4: =IF(WG4<>0,((WJ4-WG4)/WG4),"") | WN4: =IF(WH4<>0,((WK4-WH4)/WH4),"") | WO4: =IF(WI4<>0,((WL4-WI4)/WI4),"") | WR4: =WP4*WQ4 -> 0 | WU4: =WS4*WT4 -> 0 | WV4: =IF(WP4<>0,((WS4-WP4)/WP4),"") | WW4: =IF(WQ4<>0,((WT4-WQ4)/WQ4),"") | WX4: =IF(WR4<>0,((WU4-WR4)/WR4),"") | XA4: =WY4*WZ4 -> 0 | XD4: =XB4*XC4 -> 0 | XE4: =IF(WY4<>0,((XB4-WY4)/WY4),"") | XF4: =IF(WZ4<>0,((XC4-WZ4)/WZ4),"") | XG4: =IF(XA4<>0,((XD4-XA4)/XA4),"") | XJ4: =XH4*XI4 -> 0 | XM4: =XK4*XL4 -> 0 | XN4: =IF(XH4<>0,((XK4-XH4)/XH4),"") | XO4: =IF(XI4<>0,((XL4-XI4)/XI4),"") | XP4: =IF(XJ4<>0,((XM4-XJ4)/XJ4),"") | XS4: =XQ4*XR4 -> 0 | XV4: =XT4*XU4 -> 0 | XW4: =IF(XQ4<>0,((XT4-XQ4)/XQ4),"") | XX4: =IF(XR4<>0,((XU4-XR4)/XR4),"") | XY4: =IF(XS4<>0,((XV4-XS4)/XS4),"") | YB4: =XZ4*YA4 -> 0 | YE4: =YC4*YD4 -> 0 | YF4: =IF(XZ4<>0,((YC4-XZ4)/XZ4),"") | YG4: =IF(YA4<>0,((YD4-YA4)/YA4),"") | YH4: =IF(YB4<>0,((YE4-YB4)/YB4),"") | YK4: =YI4*YJ4 -> 0 | YN4: =YL4*YM4 -> 0 | YO4: =IF(YI4<>0,((YL4-YI4)/YI4),"") | YP4: =IF(YJ4<>0,((YM4-YJ4)/YJ4),"") | YQ4: =IF(YK4<>0,((YN4-YK4)/YK4),"") | YT4: =YR4*YS4 -> 0 | YW4: =YU4*YV4 -> 0 | YX4: =IF(YR4<>0,((YU4-YR4)/YR4),"") | YY4: =IF(YS4<>0,((YV4-YS4)/YS4),"") | YZ4: =IF(YT4<>0,((YW4-YT4)/YT4),"") | ZC4: =ZA4*ZB4 -> 0 | ZF4: =ZD4*ZE4 -> 0 | ZG4: =IF(ZA4<>0,((ZD4-ZA4)/ZA4),"") | ZH4: =IF(ZB4<>0,((ZE4-ZB4)/ZB4),"") | ZI4: =IF(ZC4<>0,((ZF4-ZC4)/ZC4),"")
A5: x | B5: c | C5: x | D5: x | E5: =SUMIF($2:$2,"Achat 2013",5:5) -> 192 | F5: =SUMIF($2:$2,"TOTAL 2013",5:5) -> 28282.8 | G5: =SUMIF($2:$2,"Achat 2014",5:5) -> 0 | H5: =SUMIF($2:$2,"TOTAL 2014",5:5) -> 0 | I5: =IF(E5<>0,((G5-E5)/E5),"") -> -1 | J5: =IF(F5<>0,((H5-F5)/F5),"") -> -1 | M5: =K5*L5 -> 0 | P5: =N5*O5 -> 0 | Q5: =IF(K5<>0,((N5-K5)/K5),"") | R5: =IF(L5<>0,((O5-L5)/L5),"") | S5: =IF(M5<>0,((P5-M5)/M5),"") | V5: =T5*U5 -> 0 | Y5: =W5*X5 -> 0 | Z5: =IF(T5<>0,((W5-T5)/T5),"") | AA5: =IF(U5<>0,((X5-U5)/U5),"") | AB5: =IF(V5<>0,((Y5-V5)/V5),"") | AE5: =AC5*AD5 -> 0 | AH5: =AF5*AG5 -> 0 | AI5: =IF(AC5<>0,((AF5-AC5)/AC5),"") | AJ5: =IF(AD5<>0,((AG5-AD5)/AD5),"") | AK5: =IF(AE5<>0,((AH5-AE5)/AE5),"") | AN5: =AL5*AM5 -> 0 | AQ5: =AO5*AP5 -> 0 | AR5: =IF(AL5<>0,((AO5-AL5)/AL5),"") | AS5: =IF(AM5<>0,((AP5-AM5)/AM5),"") | AT5: =IF(AN5<>0,((AQ5-AN5)/AN5),"") | AW5: =AU5*AV5 -> 0 | AZ5: =AX5*AY5 -> 0 | BA5: =IF(AU5<>0,((AX5-AU5)/AU5),"") | BB5: =IF(AV5<>0,((AY5-AV5)/AV5),"") | BC5: =IF(AW5<>0,((AZ5-AW5)/AW5),"") | BD5: 6 | BE5: 90 | BF5: =BD5*BE5 -> 540 | BI5: =BG5*BH5 -> 0 | BJ5: =IF(BD5<>0,((BG5-BD5)/BD5),"") -> -1 | BK5: =IF(BE5<>0,((BH5-BE5)/BE5),"") -> -1 | BL5: =IF(BF5<>0,((BI5-BF5)/BF5),"") -> -1 | BO5: =BM5*BN5 -> 0 | BR5: =BP5*BQ5 -> 0 | BS5: =IF(BM5<>0,((BP5-BM5)/BM5),"") | BT5: =IF(BN5<>0,((BQ5-BN5)/BN5),"") | BU5: =IF(BO5<>0,((BR5-BO5)/BO5),"") | BX5: =BV5*BW5 -> 0 | CA5: =BY5*BZ5 -> 0 | CB5: =IF(BV5<>0,((BY5-BV5)/BV5),"") | CC5: =IF(BW5<>0,((BZ5-BW5)/BW5),"") | CD5: =IF(BX5<>0,((CA5-BX5)/BX5),"") | CG5: =CE5*CF5 -> 0 | CJ5: =CH5*CI5 -> 0 | CK5: =IF(CE5<>0,((CH5-CE5)/CE5),"") | CL5: =IF(CF5<>0,((CI5-CF5)/CF5),"") | CM5: =IF(CG5<>0,((CJ5-CG5)/CG5),"") | CP5: =CN5*CO5 -> 0 | CS5: =CQ5*CR5 -> 0 | CT5: =IF(CN5<>0,((CQ5-CN5)/CN5),"") | CU5: =IF(CO5<>0,((CR5-CO5)/CO5),"") | CV5: =IF(CP5<>0,((CS5-CP5)/CP5),"") | CY5: =CW5*CX5 -> 0 | DB5: =CZ5*DA5 -> 0 | DC5: =IF(CW5<>0,((CZ5-CW5)/CW5),"") | DD5: =IF(CX5<>0,((DA5-CX5)/CX5),"") | DE5: =IF(CY5<>0,((DB5-CY5)/CY5),"") | DF5: 18 | DG5: 37.2 | DH5: =DF5*DG5 -> 669.6 | DK5: =DI5*DJ5 -> 0 | DL5: =IF(DF5<>0,((DI5-DF5)/DF5),"") -> -1 | DM5: =IF(DG5<>0,((DJ5-DG5)/DG5),"") -> -1 | DN5: =IF(DH5<>0,((DK5-DH5)/DH5),"") -> -1 | DQ5: =DO5*DP5 -> 0 | DT5: =DR5*DS5 -> 0 | DU5: =IF(DO5<>0,((DR5-DO5)/DO5),"") | DV5: =IF(DP5<>0,((DS5-DP5)/DP5),"") | DW5: =IF(DQ5<>0,((DT5-DQ5)/DQ5),"") | DZ5: =DX5*DY5 -> 0 | EC5: =EA5*EB5 -> 0 | ED5: =IF(DX5<>0,((EA5-DX5)/DX5),"") | EE5: =IF(DY5<>0,((EB5-DY5)/DY5),"") | EF5: =IF(DZ5<>0,((EC5-DZ5)/DZ5),"") | EI5: =EG5*EH5 -> 0 | EL5: =EJ5*EK5 -> 0 | EM5: =IF(EG5<>0,((EJ5-EG5)/EG5),"") | EN5: =IF(EH5<>0,((EK5-EH5)/EH5),"") | EO5: =IF(EI5<>0,((EL5-EI5)/EI5),"") | ER5: =EP5*EQ5 -> 0 | EU5: =ES5*ET5 -> 0 | EV5: =IF(EP5<>0,((ES5-EP5)/EP5),"") | EW5: =IF(EQ5<>0,((ET5-EQ5)/EQ5),"") | EX5: =IF(ER5<>0,((EU5-ER5)/ER5),"") | FA5: =EY5*EZ5 -> 0 | FD5: =FB5*FC5 -> 0 | FE5: =IF(EY5<>0,((FB5-EY5)/EY5),"") | FF5: =IF(EZ5<>0,((FC5-EZ5)/EZ5),"") | FG5: =IF(FA5<>0,((FD5-FA5)/FA5),"") | FJ5: =FH5*FI5 -> 0 | FM5: =FK5*FL5 -> 0 | FN5: =IF(FH5<>0,((FK5-FH5)/FH5),"") | FO5: =IF(FI5<>0,((FL5-FI5)/FI5),"") | FP5: =IF(FJ5<>0,((FM5-FJ5)/FJ5),"") | FS5: =FQ5*FR5 -> 0 | FV5: =FT5*FU5 -> 0 | FW5: =IF(FQ5<>0,((FT5-FQ5)/FQ5),"") | FX5: =IF(FR5<>0,((FU5-FR5)/FR5),"") | FY5: =IF(FS5<>0,((FV5-FS5)/FS5),"") | GB5: =FZ5*GA5 -> 0 | GE5: =GC5*GD5 -> 0 | GF5: =IF(FZ5<>0,((GC5-FZ5)/FZ5),"") | GG5: =IF(GA5<>0,((GD5-GA5)/GA5),"") | GH5: =IF(GB5<>0,((GE5-GB5)/GB5),"") | GK5: =GI5*GJ5 -> 0 | GN5: =GL5*GM5 -> 0 | GO5: =IF(GI5<>0,((GL5-GI5)/GI5),"") | GP5: =IF(GJ5<>0,((GM5-GJ5)/GJ5),"") | GQ5: =IF(GK5<>0,((GN5-GK5)/GK5),"") | GT5: =GR5*GS5 -> 0 | GW5: =GU5*GV5 -> 0 | GX5: =IF(GR5<>0,((GU5-GR5)/GR5),"") | GY5: =IF(GS5<>0,((GV5-GS5)/GS5),"") | GZ5: =IF(GT5<>0,((GW5-GT5)/GT5),"") | HC5: =HA5*HB5 -> 0 | HF5: =HD5*HE5 -> 0 | HG5: =IF(HA5<>0,((HD5-HA5)/HA5),"") | HH5: =IF(HB5<>0,((HE5-HB5)/HB5),"") | HI5: =IF(HC5<>0,((HF5-HC5)/HC5),"") | HL5: =HJ5*HK5 -> 0 | HO5: =HM5*HN5 -> 0 | HP5: =IF(HJ5<>0,((HM5-HJ5)/HJ5),"") | HQ5: =IF(HK5<>0,((HN5-HK5)/HK5),"") | HR5: =IF(HL5<>0,((HO5-HL5)/HL5),"") | HU5: =HS5*HT5 -> 0 | HX5: =HV5*HW5 -> 0 | HY5: =IF(HS5<>0,((HV5-HS5)/HS5),"") | HZ5: =IF(HT5<>0,((HW5-HT5)/HT5),"") | IA5: =IF(HU5<>0,((HX5-HU5)/HU5),"") | ID5: =IB5*IC5 -> 0 | IG5: =IE5*IF5 -> 0 | IH5: =IF(IB5<>0,((IE5-IB5)/IB5),"") | II5: =IF(IC5<>0,((IF5-IC5)/IC5),"") | IJ5: =IF(ID5<>0,((IG5-ID5)/ID5),"") | IM5: =IK5*IL5 -> 0 | IP5: =IN5*IO5 -> 0 | IQ5: =IF(IK5<>0,((IN5-IK5)/IK5),"") | IR5: =IF(IL5<>0,((IO5-IL5)/IL5),"") | IS5: =IF(IM5<>0,((IP5-IM5)/IM5),"") | IV5: =IT5*IU5 -> 0 | IY5: =IW5*IX5 -> 0 | IZ5: =IF(IT5<>0,((IW5-IT5)/IT5),"") | JA5: =IF(IU5<>0,((IX5-IU5)/IU5),"") | JB5: =IF(IV5<>0,((IY5-IV5)/IV5),"") | JE5: =JC5*JD5 -> 0 | JH5: =JF5*JG5 -> 0 | JI5: =IF(JC5<>0,((JF5-JC5)/JC5),"") | JJ5: =IF(JD5<>0,((JG5-JD5)/JD5),"") | JK5: =IF(JE5<>0,((JH5-JE5)/JE5),"") | JN5: =JL5*JM5 -> 0 | JQ5: =JO5*JP5 -> 0 | JR5: =IF(JL5<>0,((JO5-JL5)/JL5),"") | JS5: =IF(JM5<>0,((JP5-JM5)/JM5),"") | JT5: =IF(JN5<>0,((JQ5-JN5)/JN5),"") | JW5: =JU5*JV5 -> 0 | JZ5: =JX5*JY5 -> 0 | KA5: =IF(JU5<>0,((JX5-JU5)/JU5),"") | KB5: =IF(JV5<>0,((JY5-JV5)/JV5),"") | KC5: =IF(JW5<>0,((JZ5-JW5)/JW5),"") | KF5: =KD5*KE5 -> 0 | KI5: =KG5*KH5 -> 0 | KJ5: =IF(KD5<>0,((KG5-KD5)/KD5),"") | KK5: =IF(KE5<>0,((KH5-KE5)/KE5),"") | KL5: =IF(KF5<>0,((KI5-KF5)/KF5),"") | KM5: 12 | KN5: 600 | KO5: =KM5*KN5 -> 7200 | KR5: =KP5*KQ5 -> 0 | KS5: =IF(KM5<>0,((KP5-KM5)/KM5),"") -> -1 | KT5: =IF(KN5<>0,((KQ5-KN5)/KN5),"") -> -1 | KU5: =IF(KO5<>0,((KR5-KO5)/KO5),"") -> -1 | KX5: =KV5*KW5 -> 0 | LA5: =KY5*KZ5 -> 0 | LB5: =IF(KV5<>0,((KY5-KV5)/KV5),"") | LC5: =IF(KW5<>0,((KZ5-KW5)/KW5),"") | LD5: =IF(KX5<>0,((LA5-KX5)/KX5),"") | LG5: =LE5*LF5 -> 0 | LJ5: =LH5*LI5 -> 0 | LK5: =IF(LE5<>0,((LH5-LE5)/LE5),"") | LL5: =IF(LF5<>0,((LI5-LF5)/LF5),"") | LM5: =IF(LG5<>0,((LJ5-LG5)/LG5),"") | LN5: 12 | LO5: 480 | LP5: =LN5*LO5 -> 5760 | LS5: =LQ5*LR5 -> 0 | LT5: =IF(LN5<>0,((LQ5-LN5)/LN5),"") -> -1 | LU5: =IF(LO5<>0,((LR5-LO5)/LO5),"") -> -1 | LV5: =IF(LP5<>0,((LS5-LP5)/LP5),"") -> -1 | LW5: 24 | LX5: 288 | LY5: =LW5*LX5 -> 6912 | MB5: =LZ5*MA5 -> 0 | MC5: =IF(LW5<>0,((LZ5-LW5)/LW5),"") -> -1 | MD5: =IF(LX5<>0,((MA5-LX5)/LX5),"") -> -1 | ME5: =IF(LY5<>0,((MB5-LY5)/LY5),"") -> -1 | MH5: =MF5*MG5 -> 0 | MK5: =MI5*MJ5 -> 0 | ML5: =IF(MF5<>0,((MI5-MF5)/MF5),"") | MM5: =IF(MG5<>0,((MJ5-MG5)/MG5),"") | MN5: =IF(MH5<>0,((MK5-MH5)/MH5),"") | MQ5: =MO5*MP5 -> 0 | MT5: =MR5*MS5 -> 0 | MU5: =IF(MO5<>0,((MR5-MO5)/MO5),"") | MV5: =IF(MP5<>0,((MS5-MP5)/MP5),"") | MW5: =IF(MQ5<>0,((MT5-MQ5)/MQ5),"") | MZ5: =MX5*MY5 -> 0 | NC5: =NA5*NB5 -> 0 | ND5: =IF(MX5<>0,((NA5-MX5)/MX5),"") | NE5: =IF(MY5<>0,((NB5-MY5)/MY5),"") | NF5: =IF(MZ5<>0,((NC5-MZ5)/MZ5),"") | NI5: =NG5*NH5 -> 0 | NL5: =NJ5*NK5 -> 0 | NM5: =IF(NG5<>0,((NJ5-NG5)/NG5),"") | NN5: =IF(NH5<>0,((NK5-NH5)/NH5),"") | NO5: =IF(NI5<>0,((NL5-NI5)/NI5),"") | NR5: =NP5*NQ5 -> 0 | NU5: =NS5*NT5 -> 0 | NV5: =IF(NP5<>0,((NS5-NP5)/NP5),"") | NW5: =IF(NQ5<>0,((NT5-NQ5)/NQ5),"") | NX5: =IF(NR5<>0,((NU5-NR5)/NR5),"") | OA5: =NY5*NZ5 -> 0 | OD5: =OB5*OC5 -> 0 | OE5: =IF(NY5<>0,((OB5-NY5)/NY5),"") | OF5: =IF(NZ5<>0,((OC5-NZ5)/NZ5),"") | OG5: =IF(OA5<>0,((OD5-OA5)/OA5),"") | OH5: 78 | OI5: 50 | OJ5: =OH5*OI5 -> 3900 | OM5: =OK5*OL5 -> 0 | ON5: =IF(OH5<>0,((OK5-OH5)/OH5),"") -> -1 | OO5: =IF(OI5<>0,((OL5-OI5)/OI5),"") -> -1 | OP5: =IF(OJ5<>0,((OM5-OJ5)/OJ5),"") -> -1 | OS5: =OQ5*OR5 -> 0 | OV5: =OT5*OU5 -> 0 | OW5: =IF(OQ5<>0,((OT5-OQ5)/OQ5),"") | OX5: =IF(OR5<>0,((OU5-OR5)/OR5),"") | OY5: =IF(OS5<>0,((OV5-OS5)/OS5),"") | OZ5: 6 | PA5: 215 | PB5: =OZ5*PA5 -> 1290 | PE5: =PC5*PD5 -> 0 | PF5: =IF(OZ5<>0,((PC5-OZ5)/OZ5),"") -> -1 | PG5: =IF(PA5<>0,((PD5-PA5)/PA5),"") -> -1 | PH5: =IF(PB5<>0,((PE5-PB5)/PB5),"") -> -1 | PK5: =PI5*PJ5 -> 0 | PN5: =PL5*PM5 -> 0 | PO5: =IF(PI5<>0,((PL5-PI5)/PI5),"") | PP5: =IF(PJ5<>0,((PM5-PJ5)/PJ5),"") | PQ5: =IF(PK5<>0,((PN5-PK5)/PK5),"") | PT5: =PR5*PS5 -> 0 | PW5: =PU5*PV5 -> 0 | PX5: =IF(PR5<>0,((PU5-PR5)/PR5),"") | PY5: =IF(PS5<>0,((PV5-PS5)/PS5),"") | PZ5: =IF(PT5<>0,((PW5-PT5)/PT5),"") | QC5: =QA5*QB5 -> 0 | QF5: =QD5*QE5 -> 0 | QG5: =IF(QA5<>0,((QD5-QA5)/QA5),"") | QH5: =IF(QB5<>0,((QE5-QB5)/QB5),"") | QI5: =IF(QC5<>0,((QF5-QC5)/QC5),"") | QL5: =QJ5*QK5 -> 0 | QO5: =QM5*QN5 -> 0 | QP5: =IF(QJ5<>0,((QM5-QJ5)/QJ5),"") | QQ5: =IF(QK5<>0,((QN5-QK5)/QK5),"") | QR5: =IF(QL5<>0,((QO5-QL5)/QL5),"") | QU5: =QS5*QT5 -> 0 | QX5: =QV5*QW5 -> 0 | QY5: =IF(QS5<>0,((QV5-QS5)/QS5),"") | QZ5: =IF(QT5<>0,((QW5-QT5)/QT5),"") | RA5: =IF(QU5<>0,((QX5-QU5)/QU5),"") | RD5: =RB5*RC5 -> 0 | RG5: =RE5*RF5 -> 0 | RH5: =IF(RB5<>0,((RE5-RB5)/RB5),"") | RI5: =IF(RC5<>0,((RF5-RC5)/RC5),"") | RJ5: =IF(RD5<>0,((RG5-RD5)/RD5),"") | RM5: =RK5*RL5 -> 0 | RP5: =RN5*RO5 -> 0 | RQ5: =IF(RK5<>0,((RN5-RK5)/RK5),"") | RR5: =IF(RL5<>0,((RO5-RL5)/RL5),"") | RS5: =IF(RM5<>0,((RP5-RM5)/RM5),"") | RV5: =RT5*RU5 -> 0 | RY5: =RW5*RX5 -> 0 | RZ5: =IF(RT5<>0,((RW5-RT5)/RT5),"") | SA5: =IF(RU5<>0,((RX5-RU5)/RU5),"") | SB5: =IF(RV5<>0,((RY5-RV5)/RV5),"") | SE5: =SC5*SD5 -> 0 | SH5: =SF5*SG5 -> 0 | SI5: =IF(SC5<>0,((SF5-SC5)/SC5),"") | SJ5: =IF(SD5<>0,((SG5-SD5)/SD5),"") | SK5: =IF(SE5<>0,((SH5-SE5)/SE5),"") | SN5: =SL5*SM5 -> 0 | SQ5: =SO5*SP5 -> 0 | SR5: =IF(SL5<>0,((SO5-SL5)/SL5),"") | SS5: =IF(SM5<>0,((SP5-SM5)/SM5),"") | ST5: =IF(SN5<>0,((SQ5-SN5)/SN5),"") | SU5: 12 | SV5: 57.6 | SW5: =SU5*SV5 -> 691.2 | SZ5: =SX5*SY5 -> 0 | TA5: =IF(SU5<>0,((SX5-SU5)/SU5),"") -> -1 | TB5: =IF(SV5<>0,((SY5-SV5)/SV5),"") -> -1 | TC5: =IF(SW5<>0,((SZ5-SW5)/SW5),"") -> -1 | TF5: =TD5*TE5 -> 0 | TI5: =TG5*TH5 -> 0 | TJ5: =IF(TD5<>0,((TG5-TD5)/TD5),"") | TK5: =IF(TE5<>0,((TH5-TE5)/TE5),"") | TL5: =IF(TF5<>0,((TI5-TF5)/TF5),"") | TO5: =TM5*TN5 -> 0 | TR5: =TP5*TQ5 -> 0 | TS5: =IF(TM5<>0,((TP5-TM5)/TM5),"") | TT5: =IF(TN5<>0,((TQ5-TN5)/TN5),"") | TU5: =IF(TO5<>0,((TR5-TO5)/TO5),"") | TX5: =TV5*TW5 -> 0 | UA5: =TY5*TZ5 -> 0 | UB5: =IF(TV5<>0,((TY5-TV5)/TV5),"") | UC5: =IF(TW5<>0,((TZ5-TW5)/TW5),"") | UD5: =IF(TX5<>0,((UA5-TX5)/TX5),"") | UG5: =UE5*UF5 -> 0 | UJ5: =UH5*UI5 -> 0 | UK5: =IF(UE5<>0,((UH5-UE5)/UE5),"") | UL5: =IF(UF5<>0,((UI5-UF5)/UF5),"") | UM5: =IF(UG5<>0,((UJ5-UG5)/UG5),"") | UP5: =UN5*UO5 -> 0 | US5: =UQ5*UR5 -> 0 | UT5: =IF(UN5<>0,((UQ5-UN5)/UN5),"") | UU5: =IF(UO5<>0,((UR5-UO5)/UO5),"") | UV5: =IF(UP5<>0,((US5-UP5)/UP5),"") | UY5: =UW5*UX5 -> 0 | VB5: =UZ5*VA5 -> 0 | VC5: =IF(UW5<>0,((UZ5-UW5)/UW5),"") | VD5: =IF(UX5<>0,((VA5-UX5)/UX5),"") | VE5: =IF(UY5<>0,((VB5-UY5)/UY5),"") | VH5: =VF5*VG5 -> 0 | VK5: =VI5*VJ5 -> 0 | VL5: =IF(VF5<>0,((VI5-VF5)/VF5),"") | VM5: =IF(VG5<>0,((VJ5-VG5)/VG5),"") | VN5: =IF(VH5<>0,((VK5-VH5)/VH5),"") | VQ5: =VO5*VP5 -> 0 | VT5: =VR5*VS5 -> 0 | VU5: =IF(VO5<>0,((VR5-VO5)/VO5),"") | VV5: =IF(VP5<>0,((VS5-VP5)/VP5),"") | VW5: =IF(VQ5<>0,((VT5-VQ5)/VQ5),"") | VX5: 24 | VY5: 55 | VZ5: =VX5*VY5 -> 1320 | WC5: =WA5*WB5 -> 0 | WD5: =IF(VX5<>0,((WA5-VX5)/VX5),"") -> -1 | WE5: =IF(VY5<>0,((WB5-VY5)/VY5),"") -> -1 | WF5: =IF(VZ5<>0,((WC5-VZ5)/VZ5),"") -> -1 | WI5: =WG5*WH5 -> 0 | WL5: =WJ5*WK5 -> 0 | WM5: =IF(WG5<>0,((WJ5-WG5)/WG5),"") | WN5: =IF(WH5<>0,((WK5-WH5)/WH5),"") | WO5: =IF(WI5<>0,((WL5-WI5)/WI5),"") | WR5: =WP5*WQ5 -> 0 | WU5: =WS5*WT5 -> 0 | WV5: =IF(WP5<>0,((WS5-WP5)/WP5),"") | WW5: =IF(WQ5<>0,((WT5-WQ5)/WQ5),"") | WX5: =IF(WR5<>0,((WU5-WR5)/WR5),"") | XA5: =WY5*WZ5 -> 0 | XD5: =XB5*XC5 -> 0 | XE5: =IF(WY5<>0,((XB5-WY5)/WY5),"") | XF5: =IF(WZ5<>0,((XC5-WZ5)/WZ5),"") | XG5: =IF(XA5<>0,((XD5-XA5)/XA5),"") | XJ5: =XH5*XI5 -> 0 | XM5: =XK5*XL5 -> 0 | XN5: =IF(XH5<>0,((XK5-XH5)/XH5),"") | XO5: =IF(XI5<>0,((XL5-XI5)/XI5),"") | XP5: =IF(XJ5<>0,((XM5-XJ5)/XJ5),"") | XS5: =XQ5*XR5 -> 0 | XV5: =XT5*XU5 -> 0 | XW5: =IF(XQ5<>0,((XT5-XQ5)/XQ5),"") | XX5: =IF(XR5<>0,((XU5-XR5)/XR5),"") | XY5: =IF(XS5<>0,((XV5-XS5)/XS5),"") | YB5: =XZ5*YA5 -> 0 | YE5: =YC5*YD5 -> 0 | YF5: =IF(XZ5<>0,((YC5-XZ5)/XZ5),"") | YG5: =IF(YA5<>0,((YD5-YA5)/YA5),"") | YH5: =IF(YB5<>0,((YE5-YB5)/YB5),"") | YK5: =YI5*YJ5 -> 0 | YN5: =YL5*YM5 -> 0 | YO5: =IF(YI5<>0,((YL5-YI5)/YI5),"") | YP5: =IF(YJ5<>0,((YM5-YJ5)/YJ5),"") | YQ5: =IF(YK5<>0,((YN5-YK5)/YK5),"") | YT5: =YR5*YS5 -> 0 | YW5: =YU5*YV5 -> 0 | YX5: =IF(YR5<>0,((YU5-YR5)/YR5),"") | YY5: =IF(YS5<>0,((YV5-YS5)/YS5),"") | YZ5: =IF(YT5<>0,((YW5-YT5)/YT5),"") | ZC5: =ZA5*ZB5 -> 0 | ZF5: =ZD5*ZE5 -> 0 | ZG5: =IF(ZA5<>0,((ZD5-ZA5)/ZA5),"") | ZH5: =IF(ZB5<>0,((ZE5-ZB5)/ZB5),"") | ZI5: =IF(ZC5<>0,((ZF5-ZC5)/ZC5),"")
