Workbook

Sheet Feuil1
A1: tartenpion 1 | B1: Franck | C1: =IF(A1="",OFFSET(C1,-1,0),A1) -> tartenpion 1 | D1: =IF(A1<>"",B1 & "/",OFFSET(D1,-1,0) & B1 & "/") -> Franck/ | E1: =IF(ISERROR(FIND(D1,D2)),"OK","") | F1: =INDIRECT("A"&1) -> tartenpion 1 | G1: =INDIRECT("D"&H1) -> Franck/patrice/jack/ | H1: =MATCH("OK",(INDIRECT("E1:E"&$J$1)),0) -> 3 | I1: =H1+1 -> 4 | J1: =COUNTA(D:D) -> 36
B2: patrice | C2: =IF(A2="",OFFSET(C2,-1,0),A2) -> tartenpion 1 | D2: =IF(A2<>"",B2 & "/",OFFSET(D2,-1,0) & B2 & "/") -> Franck/patrice/ | E2: =IF(ISERROR(FIND(D2,D3)),"OK","") | F2: =INDIRECT("A"&I1) -> tartenpion 2 | G2: =INDIRECT("D"&H2) -> daniel/elise/lisa/martine/aubrac/ | H2: =(MATCH("OK",(INDIRECT("E"&I1&":E"&$J$1)),0))+H1 -> 8 | I2: =H2+1 -> 9
B3: jack | C3: =IF(A3="",OFFSET(C3,-1,0),A3) -> tartenpion 1 | D3: =IF(A3<>"",B3 & "/",OFFSET(D3,-1,0) & B3 & "/") -> Franck/patrice/jack/ | E3: =IF(ISERROR(FIND(D3,D4)),"OK","") -> OK | F3: =INDIRECT("A"&I2) -> tartenpion 3 | G3: =INDIRECT("D"&H3) -> machine/Franck/patrice/ | H3: =(MATCH("OK",(INDIRECT("E"&I2&":E"&$J$1)),0))+H2 -> 11 | I3: =H3+1 -> 12
A4: tartenpion 2 | B4: daniel | C4: =IF(A4="",OFFSET(C4,-1,0),A4) -> tartenpion 2 | D4: =IF(A4<>"",B4 & "/",OFFSET(D4,-1,0) & B4 & "/") -> daniel/ | E4: =IF(ISERROR(FIND(D4,D5)),"OK","") | F4: =INDIRECT("A"&I3) -> tartenpion 4 | G4: =INDIRECT("D"&H4) -> jack/daniel/elise/lisa/ | H4: =(MATCH("OK",(INDIRECT("E"&I3&":E"&$J$1)),0))+H3 -> 15 | I4: =H4+1 -> 16
B5: elise | C5: =IF(A5="",OFFSET(C5,-1,0),A5) -> tartenpion 2 | D5: =IF(A5<>"",B5 & "/",OFFSET(D5,-1,0) & B5 & "/") -> daniel/elise/ | E5: =IF(ISERROR(FIND(D5,D6)),"OK","") | F5: =INDIRECT("A"&I4) -> tartenpion 5 | G5: =INDIRECT("D"&H5) -> martine/aubrac/machine/Franck/patrice/jack/ | H5: =(MATCH("OK",(INDIRECT("E"&I4&":E"&$J$1)),0))+H4 -> 21 | I5: =H5+1 -> 22
B6: lisa | C6: =IF(A6="",OFFSET(C6,-1,0),A6) -> tartenpion 2 | D6: =IF(A6<>"",B6 & "/",OFFSET(D6,-1,0) & B6 & "/") -> daniel/elise/lisa/ | E6: =IF(ISERROR(FIND(D6,D7)),"OK","") | F6: =INDIRECT("A"&I5) -> tartenpion 6 | G6: =INDIRECT("D"&H6) -> daniel/elise/ | H6: =(MATCH("OK",(INDIRECT("E"&I5&":E"&$J$1)),0))+H5 -> 23 | I6: =H6+1 -> 24
B7: martine | C7: =IF(A7="",OFFSET(C7,-1,0),A7) -> tartenpion 2 | D7: =IF(A7<>"",B7 & "/",OFFSET(D7,-1,0) & B7 & "/") -> daniel/elise/lisa/martine/ | E7: =IF(ISERROR(FIND(D7,D8)),"OK","") | F7: =INDIRECT("A"&I6) -> tartenpion 7 | G7: =INDIRECT("D"&H7) -> lisa/martine/aubrac/machine/ | H7: =(MATCH("OK",(INDIRECT("E"&I6&":E"&$J$1)),0))+H6 -> 27 | I7: =H7+1 -> 28
B8: aubrac | C8: =IF(A8="",OFFSET(C8,-1,0),A8) -> tartenpion 2 | D8: =IF(A8<>"",B8 & "/",OFFSET(D8,-1,0) & B8 & "/") -> daniel/elise/lisa/martine/aubrac/ | E8: =IF(ISERROR(FIND(D8,D9)),"OK","") -> OK | F8: =INDIRECT("A"&I7) -> tartenpion 8 | G8: =INDIRECT("D"&H8) -> Franck/patrice/ | H8: =(MATCH("OK",(INDIRECT("E"&I7&":E"&$J$1)),0))+H7 -> 29 | I8: =H8+1 -> 30
A9: tartenpion 3 | B9: machine | C9: =IF(A9="",OFFSET(C9,-1,0),A9) -> tartenpion 3 | D9: =IF(A9<>"",B9 & "/",OFFSET(D9,-1,0) & B9 & "/") -> machine/ | E9: =IF(ISERROR(FIND(D9,D10)),"OK","") | F9: =INDIRECT("A"&I8) -> tartenpion 9 | G9: =INDIRECT("D"&H9) -> jack/daniel/elise/lisa/martine/ | H9: =(MATCH("OK",(INDIRECT("E"&I8&":E"&$J$1)),0))+H8 -> 34 | I9: =H9+1 -> 35
B10: Franck | C10: =IF(A10="",OFFSET(C10,-1,0),A10) -> tartenpion 3 | D10: =IF(A10<>"",B10 & "/",OFFSET(D10,-1,0) & B10 & "/") -> machine/Franck/ | E10: =IF(ISERROR(FIND(D10,D11)),"OK","") | F10: =INDIRECT("A"&I9) -> tartenpion 10 | G10: =INDIRECT("D"&H10) -> aubrac/ | H10: =(MATCH("OK",(INDIRECT("E"&I9&":E"&$J$1)),0))+H9 -> 35 | I10: =H10+1 -> 36
B11: patrice | C11: =IF(A11="",OFFSET(C11,-1,0),A11) -> tartenpion 3 | D11: =IF(A11<>"",B11 & "/",OFFSET(D11,-1,0) & B11 & "/") -> machine/Franck/patrice/ | E11: =IF(ISERROR(FIND(D11,D12)),"OK","") -> OK | F11: =INDIRECT("A"&I10) -> tartenpion 11 | G11: =INDIRECT("D"&H11) -> machine/ | H11: =(MATCH("OK",(INDIRECT("E"&I10&":E"&$J$1)),0))+H10 -> 36 | I11: =H11+1 -> 37
A12: tartenpion 4 | B12: jack | C12: =IF(A12="",OFFSET(C12,-1,0),A12) -> tartenpion 4 | D12: =IF(A12<>"",B12 & "/",OFFSET(D12,-1,0) & B12 & "/") -> jack/ | E12: =IF(ISERROR(FIND(D12,D13)),"OK","")
B13: daniel | C13: =IF(A13="",OFFSET(C13,-1,0),A13) -> tartenpion 4 | D13: =IF(A13<>"",B13 & "/",OFFSET(D13,-1,0) & B13 & "/") -> jack/daniel/ | E13: =IF(ISERROR(FIND(D13,D14)),"OK","")
B14: elise | C14: =IF(A14="",OFFSET(C14,-1,0),A14) -> tartenpion 4 | D14: =IF(A14<>"",B14 & "/",OFFSET(D14,-1,0) & B14 & "/") -> jack/daniel/elise/ | E14: =IF(ISERROR(FIND(D14,D15)),"OK","")
B15: lisa | C15: =IF(A15="",OFFSET(C15,-1,0),A15) -> tartenpion 4 | D15: =IF(A15<>"",B15 & "/",OFFSET(D15,-1,0) & B15 & "/") -> jack/daniel/elise/lisa/ | E15: =IF(ISERROR(FIND(D15,D16)),"OK","") -> OK
A16: tartenpion 5 | B16: martine | C16: =IF(A16="",OFFSET(C16,-1,0),A16) -> tartenpion 5 | D16: =IF(A16<>"",B16 & "/",OFFSET(D16,-1,0) & B16 & "/") -> martine/ | E16: =IF(ISERROR(FIND(D16,D17)),"OK","")
B17: aubrac | C17: =IF(A17="",OFFSET(C17,-1,0),A17) -> tartenpion 5 | D17: =IF(A17<>"",B17 & "/",OFFSET(D17,-1,0) & B17 & "/") -> martine/aubrac/ | E17: =IF(ISERROR(FIND(D17,D18)),"OK","")
B18: machine | C18: =IF(A18="",OFFSET(C18,-1,0),A18) -> tartenpion 5 | D18: =IF(A18<>"",B18 & "/",OFFSET(D18,-1,0) & B18 & "/") -> martine/aubrac/machine/ | E18: =IF(ISERROR(FIND(D18,D19)),"OK","")
B19: Franck | C19: =IF(A19="",OFFSET(C19,-1,0),A19) -> tartenpion 5 | D19: =IF(A19<>"",B19 & "/",OFFSET(D19,-1,0) & B19 & "/") -> martine/aubrac/machine/Franck/ | E19: =IF(ISERROR(FIND(D19,D20)),"OK","")
B20: patrice | C20: =IF(A20="",OFFSET(C20,-1,0),A20) -> tartenpion 5 | D20: =IF(A20<>"",B20 & "/",OFFSET(D20,-1,0) & B20 & "/") -> martine/aubrac/machine/Franck/patrice/ | E20: =IF(ISERROR(FIND(D20,D21)),"OK","")
B21: jack | C21: =IF(A21="",OFFSET(C21,-1,0),A21) -> tartenpion 5 | D21: =IF(A21<>"",B21 & "/",OFFSET(D21,-1,0) & B21 & "/") -> martine/aubrac/machine/Franck/patrice/jack/ | E21: =IF(ISERROR(FIND(D21,D22)),"OK","") -> OK
A22: tartenpion 6 | B22: daniel | C22: =IF(A22="",OFFSET(C22,-1,0),A22) -> tartenpion 6 | D22: =IF(A22<>"",B22 & "/",OFFSET(D22,-1,0) & B22 & "/") -> daniel/ | E22: =IF(ISERROR(FIND(D22,D23)),"OK","")
B23: elise | C23: =IF(A23="",OFFSET(C23,-1,0),A23) -> tartenpion 6 | D23: =IF(A23<>"",B23 & "/",OFFSET(D23,-1,0) & B23 & "/") -> daniel/elise/ | E23: =IF(ISERROR(FIND(D23,D24)),"OK","") -> OK
A24: tartenpion 7 | B24: lisa | C24: =IF(A24="",OFFSET(C24,-1,0),A24) -> tartenpion 7 | D24: =IF(A24<>"",B24 & "/",OFFSET(D24,-1,0) & B24 & "/") -> lisa/ | E24: =IF(ISERROR(FIND(D24,D25)),"OK","")
B25: martine | C25: =IF(A25="",OFFSET(C25,-1,0),A25) -> tartenpion 7 | D25: =IF(A25<>"",B25 & "/",OFFSET(D25,-1,0) & B25 & "/") -> lisa/martine/ | E25: =IF(ISERROR(FIND(D25,D26)),"OK","")
B26: aubrac | C26: =IF(A26="",OFFSET(C26,-1,0),A26) -> tartenpion 7 | D26: =IF(A26<>"",B26 & "/",OFFSET(D26,-1,0) & B26 & "/") -> lisa/martine/aubrac/ | E26: =IF(ISERROR(FIND(D26,D27)),"OK","")
B27: machine | C27: =IF(A27="",OFFSET(C27,-1,0),A27) -> tartenpion 7 | D27: =IF(A27<>"",B27 & "/",OFFSET(D27,-1,0) & B27 & "/") -> lisa/martine/aubrac/machine/ | E27: =IF(ISERROR(FIND(D27,D28)),"OK","") -> OK
A28: tartenpion 8 | B28: Franck | C28: =IF(A28="",OFFSET(C28,-1,0),A28) -> tartenpion 8 | D28: =IF(A28<>"",B28 & "/",OFFSET(D28,-1,0) & B28 & "/") -> Franck/ | E28: =IF(ISERROR(FIND(D28,D29)),"OK","")
B29: patrice | C29: =IF(A29="",OFFSET(C29,-1,0),A29) -> tartenpion 8 | D29: =IF(A29<>"",B29 & "/",OFFSET(D29,-1,0) & B29 & "/") -> Franck/patrice/ | E29: =IF(ISERROR(FIND(D29,D30)),"OK","") -> OK
A30: tartenpion 9 | B30: jack | C30: =IF(A30="",OFFSET(C30,-1,0),A30) -> tartenpion 9 | D30: =IF(A30<>"",B30 & "/",OFFSET(D30,-1,0) & B30 & "/") -> jack/ | E30: =IF(ISERROR(FIND(D30,D31)),"OK","")
B31: daniel | C31: =IF(A31="",OFFSET(C31,-1,0),A31) -> tartenpion 9 | D31: =IF(A31<>"",B31 & "/",OFFSET(D31,-1,0) & B31 & "/") -> jack/daniel/ | E31: =IF(ISERROR(FIND(D31,D32)),"OK","")
B32: elise | C32: =IF(A32="",OFFSET(C32,-1,0),A32) -> tartenpion 9 | D32: =IF(A32<>"",B32 & "/",OFFSET(D32,-1,0) & B32 & "/") -> jack/daniel/elise/ | E32: =IF(ISERROR(FIND(D32,D33)),"OK","")
B33: lisa | C33: =IF(A33="",OFFSET(C33,-1,0),A33) -> tartenpion 9 | D33: =IF(A33<>"",B33 & "/",OFFSET(D33,-1,0) & B33 & "/") -> jack/daniel/elise/lisa/ | E33: =IF(ISERROR(FIND(D33,D34)),"OK","")
B34: martine | C34: =IF(A34="",OFFSET(C34,-1,0),A34) -> tartenpion 9 | D34: =IF(A34<>"",B34 & "/",OFFSET(D34,-1,0) & B34 & "/") -> jack/daniel/elise/lisa/martine/ | E34: =IF(ISERROR(FIND(D34,D35)),"OK","") -> OK
A35: tartenpion 10 | B35: aubrac | C35: =IF(A35="",OFFSET(C35,-1,0),A35) -> tartenpion 10 | D35: =IF(A35<>"",B35 & "/",OFFSET(D35,-1,0) & B35 & "/") -> aubrac/ | E35: =IF(ISERROR(FIND(D35,D36)),"OK","") -> OK
A36: tartenpion 11 | B36: machine | C36: =IF(A36="",OFFSET(C36,-1,0),A36) -> tartenpion 11 | D36: =IF(A36<>"",B36 & "/",OFFSET(D36,-1,0) & B36 & "/") -> machine/ | E36: =IF(ISERROR(FIND(D36,D37)),"OK","") -> OK

Sheet Feuil2
A1: =INDIRECT("Feuil1!A"&1) -> tartenpion 1 | B1: =LEFT(INDIRECT("Feuil1!D"&Feuil1!H1),LEN(INDIRECT("Feuil1!D"&Feuil1!H1))-1) -> Franck/patrice/jack | E1: =Feuil1!E:E
A2: =INDIRECT("Feuil1!A"&Feuil1!I1) -> tartenpion 2 | B2: =LEFT(INDIRECT("Feuil1!D"&Feuil1!H2),LEN(INDIRECT("Feuil1!D"&Feuil1!H2))-1) -> daniel/elise/lisa/martine/aubrac
A3: =INDIRECT("Feuil1!A"&Feuil1!I2) -> tartenpion 3 | B3: =LEFT(INDIRECT("Feuil1!D"&Feuil1!H3),LEN(INDIRECT("Feuil1!D"&Feuil1!H3))-1) -> machine/Franck/patrice
A4: =INDIRECT("Feuil1!A"&Feuil1!I3) -> tartenpion 4 | B4: =LEFT(INDIRECT("Feuil1!D"&Feuil1!H4),LEN(INDIRECT("Feuil1!D"&Feuil1!H4))-1) -> jack/daniel/elise/lisa
A5: =INDIRECT("Feuil1!A"&Feuil1!I4) -> tartenpion 5 | B5: =LEFT(INDIRECT("Feuil1!D"&Feuil1!H5),LEN(INDIRECT("Feuil1!D"&Feuil1!H5))-1) -> martine/aubrac/machine/Franck/patrice/jack
A6: =INDIRECT("Feuil1!A"&Feuil1!I5) -> tartenpion 6 | B6: =LEFT(INDIRECT("Feuil1!D"&Feuil1!H6),LEN(INDIRECT("Feuil1!D"&Feuil1!H6))-1) -> daniel/elise
A7: =INDIRECT("Feuil1!A"&Feuil1!I6) -> tartenpion 7 | B7: =LEFT(INDIRECT("Feuil1!D"&Feuil1!H7),LEN(INDIRECT("Feuil1!D"&Feuil1!H7))-1) -> lisa/martine/aubrac/machine
A8: =INDIRECT("Feuil1!A"&Feuil1!I7) -> tartenpion 8 | B8: =LEFT(INDIRECT("Feuil1!D"&Feuil1!H8),LEN(INDIRECT("Feuil1!D"&Feuil1!H8))-1) -> Franck/patrice
A9: =INDIRECT("Feuil1!A"&Feuil1!I8) -> tartenpion 9 | B9: =LEFT(INDIRECT("Feuil1!D"&Feuil1!H9),LEN(INDIRECT("Feuil1!D"&Feuil1!H9))-1) -> jack/daniel/elise/lisa/martine
A10: =INDIRECT("Feuil1!A"&Feuil1!I9) -> tartenpion 10 | B10: =LEFT(INDIRECT("Feuil1!D"&Feuil1!H10),LEN(INDIRECT("Feuil1!D"&Feuil1!H10))-1) -> aubrac
A11: =INDIRECT("Feuil1!A"&Feuil1!I10) -> tartenpion 11 | B11: =LEFT(INDIRECT("Feuil1!D"&Feuil1!H11),LEN(INDIRECT("Feuil1!D"&Feuil1!H11))-1) -> machine

Sheet Feuil3
