Workbook
Name categories_inflow: 'Catégories de produits'!#REF!

Sheet Liste
A1: Catégorie | B1: Sous-Catégorie | C1: Référence | D1: Désignation | E1: Fournisseur | F1: Lieu de stockage | G1: Stock minimum | H1: Qté à commander
A2: =VLOOKUP(LEFT(C2,6),'Catégories de produits'!A:C,2,FALSE) -> Fixation | B2: =VLOOKUP(LEFT(C2,6),'Catégories de produits'!A:C,3,FALSE) -> Ecrous | C2: 13 003 036 | D2: Ecrou à oreilles M4 ZN | E2: RS Components SAS | F2: M1 | G2: 10 | H2: 50
A3: =VLOOKUP(LEFT(C3,6),'Catégories de produits'!A:C,2,FALSE) -> Equipement d'atelier | B3: =VLOOKUP(LEFT(C3,6),'Catégories de produits'!A:C,3,FALSE) -> Consommables | C3: 11 001 022 | D3: Ecrou M4 ZN | E3: RS Components SAS | F3: M1 | G3: 20 | H3: 250
A4: =VLOOKUP(LEFT(C4,6),'Catégories de produits'!A:C,2,FALSE) -> Fixation | B4: =VLOOKUP(LEFT(C4,6),'Catégories de produits'!A:C,3,FALSE) -> Rondelles | C4: 13 001 039 | D4: Rondelle Grower M4 ZN | E4: DESCOURS & CABAUD | F4: M1 | G4: 20 | H4: 200
A5: =VLOOKUP(LEFT(C5,6),'Catégories de produits'!A:C,2,FALSE) -> Fixation | B5: =VLOOKUP(LEFT(C5,6),'Catégories de produits'!A:C,3,FALSE) -> Ecrous | C5: 13 003 012 | D5: Ecrou frein M4 | E5: DESCOURS & CABAUD | F5: M1 | G5: 20 | H5: 200
A6: Fixation | B6: Vis | C6: 13 000 021 | D6: Vis M4x6 type Z ZN | E6: RS Components SAS | F6: M1 | G6: 20 | H6: 100
A7: =VLOOKUP(LEFT(C7,6),'Catégories de produits'!A:C,2,FALSE) -> Fixation | B7: =VLOOKUP(LEFT(C7,6),'Catégories de produits'!A:C,3,FALSE) -> Rondelles | C7: 13 001 025 | D7: Rondelle M4 ZN | E7: DESCOURS & CABAUD | F7: M1 | G7: 30 | H7: 1000
A8: =VLOOKUP(LEFT(C8,6),'Catégories de produits'!A:C,2,FALSE) -> Fixation | B8: =VLOOKUP(LEFT(C8,6),'Catégories de produits'!A:C,3,FALSE) -> Vis | C8: 13 002 107 | D8: Vis FHC M4x8 brute | E8: RS Components SAS | F8: M1 | G8: 20 | H8: 100
A9: =VLOOKUP(LEFT(C9,6),'Catégories de produits'!A:C,2,FALSE) -> Fixation | B9: =VLOOKUP(LEFT(C9,6),'Catégories de produits'!A:C,3,FALSE) -> Vis | C9: 13 002 158 | D9: Vis CHC M4x8 brute | E9: RS Components SAS | F9: M1 | G9: 20 | H9: 200
A10: Fixation | B10: Vis | C10: 13 000 006 | D10: Vis FHC M4x10 brute | E10: RS Components SAS | F10: M1 | G10: 20 | H10: 100
A11: =VLOOKUP(LEFT(C11,6),'Catégories de produits'!A:C,2,FALSE) -> Fixation | B11: =VLOOKUP(LEFT(C11,6),'Catégories de produits'!A:C,3,FALSE) -> Vis | C11: 13 002 117 | D11: Vis TBHC M4x8 brute | E11: RS Components SAS | F11: M1 | G11: 20 | H11: 100
A12: =VLOOKUP(LEFT(C12,6),'Catégories de produits'!A:C,2,FALSE) -> Fixation | B12: =VLOOKUP(LEFT(C12,6),'Catégories de produits'!A:C,3,FALSE) -> Vis | C12: 13 002 002 | D12: Vis FHC M4x12 brute | E12: RS Components SAS | F12: M1 | G12: 20 | H12: 100
A13: =VLOOKUP(LEFT(C13,6),'Catégories de produits'!A:C,2,FALSE) -> Fixation | B13: =VLOOKUP(LEFT(C13,6),'Catégories de produits'!A:C,3,FALSE) -> Vis | C13: 13 002 129 | D13: Vis CHC M4x10 8.8 ZN | E13: DESCOURS & CABAUD | F13: M1 | G13: 20 | H13: 200
A14: =VLOOKUP(LEFT(C14,6),'Catégories de produits'!A:C,2,FALSE) -> Fixation | B14: =VLOOKUP(LEFT(C14,6),'Catégories de produits'!A:C,3,FALSE) -> Vis | C14: 13 002 067 | D14: Vis FHC M4x12 10.9 ZN | E14: DESCOURS & CABAUD | F14: M1 | G14: 20 | H14: 200
A15: =VLOOKUP(LEFT(C15,6),'Catégories de produits'!A:C,2,FALSE) -> Fixation | B15: =VLOOKUP(LEFT(C15,6),'Catégories de produits'!A:C,3,FALSE) -> Vis | C15: 13 002 106 | D15: Vis TBHC M5x20 A4 | E15: RS Components SAS | F15: M1 | G15: 10 | H15: 50
A16: =VLOOKUP(LEFT(C16,6),'Catégories de produits'!A:C,2,FALSE) -> Fixation | B16: =VLOOKUP(LEFT(C16,6),'Catégories de produits'!A:C,3,FALSE) -> Vis | C16: 13 002 150 | D16: Vis CHC M4x12 8.8 brute | E16: DESCOURS & CABAUD | F16: M1 | G16: 20 | H16: 100
A17: =VLOOKUP(LEFT(C17,6),'Catégories de produits'!A:C,2,FALSE) -> Fixation | B17: =VLOOKUP(LEFT(C17,6),'Catégories de produits'!A:C,3,FALSE) -> Vis | C17: 13 002 121 | D17: Vis TH M4x12 8.8 ZN | E17: DESCOURS & CABAUD | F17: M1 | G17: 20 | H17: 100
A18: =VLOOKUP(LEFT(C18,6),'Catégories de produits'!A:C,2,FALSE) -> Fixation | B18: =VLOOKUP(LEFT(C18,6),'Catégories de produits'!A:C,3,FALSE) -> Vis | C18: 13 002 157 | D18: Vis FHC M4x16 10.9 brute | E18: RS Components SAS | F18: M1 | G18: 20 | H18: 100
A19: =VLOOKUP(LEFT(C19,6),'Catégories de produits'!A:C,2,FALSE) -> Fixation | B19: =VLOOKUP(LEFT(C19,6),'Catégories de produits'!A:C,3,FALSE) -> Vis | C19: 13 002 115 | D19: Vis CHC M4x16 8.8 ZN | E19: DESCOURS & CABAUD | F19: M1 | G19: 20 | H19: 100
A20: =VLOOKUP(LEFT(C20,6),'Catégories de produits'!A:C,2,FALSE) -> Fixation | B20: =VLOOKUP(LEFT(C20,6),'Catégories de produits'!A:C,3,FALSE) -> Vis | C20: 13 002 148 | D20: Vis TBHC M4x16 10.9 brut | E20: DESCOURS & CABAUD | F20: M1 | G20: 20 | H20: 200
A21: =VLOOKUP(LEFT(C21,6),'Catégories de produits'!A:C,2,FALSE) -> Fixation | B21: =VLOOKUP(LEFT(C21,6),'Catégories de produits'!A:C,3,FALSE) -> Vis | C21: 13 002 206 | D21: Vis STHC M4x16 | E21: DESCOURS & CABAUD | F21: M1 | G21: 20 | H21: 200
A22: =VLOOKUP(LEFT(C22,6),'Catégories de produits'!A:C,2,FALSE) -> Fixation | B22: =VLOOKUP(LEFT(C22,6),'Catégories de produits'!A:C,3,FALSE) -> Vis | C22: 13 002 159 | D22: Vis TBHC M4x20 brute | E22: DESCOURS & CABAUD | F22: M1 | G22: 20 | H22: 100
... A56: =VLOOKUP(LEFT(C56,6),'Catégories de produits'!A:C,2,FALSE) -> Fixation | B56: =VLOOKUP(LEFT(C56,6),'Catégories de produits'!A:C,3,FALSE) -> Vis | C56: 13 002 084 | D56: Vis TH M6x12 8.8 ZN | E56: DESCOURS & CABAUD | F56: M2 | G56: 30 | H56: 500
A57: =VLOOKUP(LEFT(C57,6),'Catégories de produits'!A:C,2,FALSE) -> Fixation | B57: =VLOOKUP(LEFT(C57,6),'Catégories de produits'!A:C,3,FALSE) -> Vis | C57: 13 002 167 | D57: Vis TH M6x20 6.8 ZN | F57: M2 | G57: 20 | H57: 100
A58: =VLOOKUP(LEFT(C58,6),'Catégories de produits'!A:C,2,FALSE) -> Fixation | B58: =VLOOKUP(LEFT(C58,6),'Catégories de produits'!A:C,3,FALSE) -> Vis | C58: 13 002 182 | D58: Vis CHC M6x16 8.8 ZN | E58: DESCOURS & CABAUD | F58: M2 | G58: 20 | H58: 100
A59: =VLOOKUP(LEFT(C59,6),'Catégories de produits'!A:C,2,FALSE) -> Fixation | B59: =VLOOKUP(LEFT(C59,6),'Catégories de produits'!A:C,3,FALSE) -> Vis | C59: 13 002 168 | D59: Vis CHC M6x20 8.8 ZN | E59: DESCOURS & CABAUD | F59: M2 | G59: 20 | H59: 200
A60: =VLOOKUP(LEFT(C60,6),'Catégories de produits'!A:C,2,FALSE) -> Fixation | B60: =VLOOKUP(LEFT(C60,6),'Catégories de produits'!A:C,3,FALSE) -> Vis | C60: 13 002 120 | D60: Vis FHC M6x20 8.8 ZN | E60: DESCOURS & CABAUD | F60: M2 | G60: 20 | H60: 200
A61: =VLOOKUP(LEFT(C61,6),'Catégories de produits'!A:C,2,FALSE) -> Fixation | B61: =VLOOKUP(LEFT(C61,6),'Catégories de produits'!A:C,3,FALSE) -> Vis | C61: 13 002 195 | D61: Vis TH M6x25 8.8 ZN | E61: DESCOURS & CABAUD | F61: M2 | G61: 30 | H61: 500
A62: =VLOOKUP(LEFT(C62,6),'Catégories de produits'!A:C,2,FALSE) -> Fixation | B62: =VLOOKUP(LEFT(C62,6),'Catégories de produits'!A:C,3,FALSE) -> Vis | C62: 13 002 123 | D62: Vis CHC M6x25 brute | E62: DESCOURS & CABAUD | F62: M2 | G62: 20 | H62: 100
A63: =VLOOKUP(LEFT(C63,6),'Catégories de produits'!A:C,2,FALSE) -> Fixation | B63: =VLOOKUP(LEFT(C63,6),'Catégories de produits'!A:C,3,FALSE) -> Vis | C63: 13 002 218 | D63: Vis H M6x30 ZN 8.8 | E63: DESCOURS & CABAUD | F63: M2 | G63: 30 | H63: 500
A64: =VLOOKUP(LEFT(C64,6),'Catégories de produits'!A:C,2,FALSE) -> Fixation | B64: =VLOOKUP(LEFT(C64,6),'Catégories de produits'!A:C,3,FALSE) -> Vis | C64: 13 002 169 | D64: Vis couvercle boitier Rose | F64: M2
A65: =VLOOKUP(LEFT(C65,6),'Catégories de produits'!A:C,2,FALSE) -> Fixation | B65: =VLOOKUP(LEFT(C65,6),'Catégories de produits'!A:C,3,FALSE) -> Vis | C65: 13 002 074 | D65: Vis TH M6x40 ZN 8.8 | E65: DESCOURS & CABAUD | F65: M2 | G65: 20 | H65: 200
A66: =VLOOKUP(LEFT(C66,6),'Catégories de produits'!A:C,2,FALSE) -> Fixation | B66: =VLOOKUP(LEFT(C66,6),'Catégories de produits'!A:C,3,FALSE) -> Vis | C66: 13 002 073 | D66: Vis TH M6x35 8.8 ZN | E66: DESCOURS & CABAUD | F66: M2 | G66: 30 | H66: 500
A67: =VLOOKUP(LEFT(C67,6),'Catégories de produits'!A:C,2,FALSE) -> Fixation | B67: =VLOOKUP(LEFT(C67,6),'Catégories de produits'!A:C,3,FALSE) -> Vis | C67: 13 002 155 | D67: Vis CHC M6x45 ZN 8.8 | E67: DESCOURS & CABAUD | F67: M2 | G67: 20 | H67: 100
A68: Fixation | B68: Vis | C68: 13 000 019 | D68: Vis CHC M6x60 brute | E68: RS Components SAS | F68: M2 | G68: 20 | H68: 200
A69: Fixation | B69: Vis | C69: 13 000 017 | D69: Vis carrosserie M6x65 ZN | E69: RS Components SAS | F69: M2 | G69: 10 | H69: 50
A70: =VLOOKUP(LEFT(C70,6),'Catégories de produits'!A:C,2,FALSE) -> Fixation | B70: =VLOOKUP(LEFT(C70,6),'Catégories de produits'!A:C,3,FALSE) -> Vis | C70: 13 002 134 | D70: Vis TH M6x50 8.8 ZN | E70: DESCOURS & CABAUD | F70: M2 | G70: 20 | H70: 100
A71: =VLOOKUP(LEFT(C71,6),'Catégories de produits'!A:C,2,FALSE) -> Fixation | B71: =VLOOKUP(LEFT(C71,6),'Catégories de produits'!A:C,3,FALSE) -> Vis | C71: 13 002 279 | D71: Vis CHC M6x60 8.8 ZN | E71: DESCOURS & CABAUD | F71: M2 | G71: 20 | H71: 100
A72: =VLOOKUP(LEFT(C72,6),'Catégories de produits'!A:C,2,FALSE) -> Fixation | B72: =VLOOKUP(LEFT(C72,6),'Catégories de produits'!A:C,3,FALSE) -> Vis | C72: 13 002 113 | D72: Vis TH M6x90 8.8 ZN | E72: DESCOURS & CABAUD | F72: M2 | G72: 20 | H72: 100
A73: =VLOOKUP(LEFT(C73,6),'Catégories de produits'!A:C,2,FALSE) -> Fixation | B73: =VLOOKUP(LEFT(C73,6),'Catégories de produits'!A:C,3,FALSE) -> Vis | C73: 13 002 219 | D73: Vis tete ronde large ZN peinte noire 6x25 | F73: M2
...

Sheet Catégories de produits
A1: Référence | B1: Catégorie | C1: Sous-Catégorie
A2: 01 000 | B2: Electrovannes
A3: 02 000 | B3: Batteries / Piles
A4: 03 000 | B4: Boîtiers et Enveloppes
A5: 04 000 | B5: Câbles et accessoire
A6: 04 001 | B6: Câbles et accessoire | C6: Gaine thermorétractable
A7: 04 002 | B7: Câbles et accessoire | C7: Câbles/Faisceau
A8: 04 003 | B8: Câbles et accessoire | C8: Antennes
A9: 04 004 | B9: Câbles et accessoire | C9: Câbles assemblés Centrexpert
A10: 05 000 | B10: Capteurs
A11: 05 001 | B11: Capteurs | C11: Capteur de température
A12: 05 002 | B12: Capteurs | C12: Capteur inductif/vitesse
A13: 05 003 | B13: Capteurs | C13: Capteur angulaire
A14: 05 004 | B14: Capteurs | C14: Capteur de courant
A15: 05 005 | B15: Capteurs | C15: Capteur de pression
A16: 05 006 | B16: Capteurs | C16: Débimètres
A17: 05 007 | B17: Capteurs | C17: Capteur de niveau
A18: 05 008 | B18: Capteurs | C18: Capteur inductif/vitesse
A19: 06 000 | B19: Cartes électroniques
A20: 07 000 | B20: Composants électriques
A21: 07 001 | B21: Composants électriques | C21: Alternateurs
A22: 07 002 | B22: Composants électriques | C22: Contacteurs
A23: 07 003 | B23: Composants électriques | C23: Démarreurs
A24: 07 004 | B24: Composants électriques | C24: Moteurs électriques
A25: 07 005 | B25: Composants électriques | C25: Relais
A26: 07 006 | B26: Composants électriques | C26: Ventilateur
A27: 07 007 | B27: Composants électriques | C27: Variateur
A28: 07 008 | B28: Composants électriques | C28: Potentiomètre
A29: 07 009 | B29: Composants électriques | C29: Joystick
A30: 07 010 | B30: Composants électriques | C30: Transformateur
A31: 07 011 | B31: Composants électriques | C31: Calculateur
A32: 07 012 | B32: Composants électriques | C32: Bougie préchauffage
... A34: 07 014 | B34: Composants électriques | C34: Pompes
A35: 08 000 | B35: Composants électronique
A36: 08 001 | B36: Composants électronique | C36: Zigbee
A37: 08 002 | B37: Composants électronique | C37: Nappe
A38: 08 003 | B38: Composants électronique | C38: Drone
A39: 09 001 | B39: Composants mécaniques | C39: Clapets étouffoirs
A40: 09 002 | B40: Composants mécaniques | C40: Pare étincelles
A41: 09 003 | B41: Composants mécaniques | C41: Pare flammes
...

Sheet Etiquette Unique
A1: Prise batterie mâle DIN320A 50mm² sans poignée
A2: Fournisseur : | B2: NORTRONIC | D2: Ref : | E2: 20 002 115
A3: Qté à commander : | C3: 2 | D3: Stock min : | F3: 0
A4: Lieu de stockage : | C4: E4

Sheet Planche vierge
A2: Fournisseur : | D2: Ref : | G2: Fournisseur : | J2: Ref : | M2: Fournisseur : | P2: Ref :
A3: Qté à commander : | D3: Stock min : | G3: Qté à commander : | J3: Stock min : | M3: Qté à commander : | P3: Stock min :
A4: Lieu de stockage : | G4: Lieu de stockage : | M4: Lieu de stockage :
A6: Fournisseur : | D6: Ref : | G6: Fournisseur : | J6: Ref : | M6: Fournisseur : | P6: Ref :
A7: Qté à commander : | D7: Stock min : | G7: Qté à commander : | J7: Stock min : | M7: Qté à commander : | P7: Stock min :
A8: Lieu de stockage : | G8: Lieu de stockage : | M8: Lieu de stockage :
A10: Fournisseur : | D10: Ref : | G10: Fournisseur : | J10: Ref : | M10: Fournisseur : | P10: Ref :
A11: Qté à commander : | D11: Stock min : | G11: Qté à commander : | J11: Stock min : | M11: Qté à commander : | P11: Stock min :
A12: Lieu de stockage : | G12: Lieu de stockage : | M12: Lieu de stockage :
A14: Fournisseur : | D14: Ref : | G14: Fournisseur : | J14: Ref : | M14: Fournisseur : | P14: Ref :
A15: Qté à commander : | D15: Stock min : | G15: Qté à commander : | J15: Stock min : | M15: Qté à commander : | P15: Stock min :
A16: Lieu de stockage : | G16: Lieu de stockage : | M16: Lieu de stockage :
A18: Fournisseur : | D18: Ref : | G18: Fournisseur : | J18: Ref : | M18: Fournisseur : | P18: Ref :
A19: Qté à commander : | D19: Stock min : | G19: Qté à commander : | J19: Stock min : | M19: Qté à commander : | P19: Stock min :
A20: Lieu de stockage : | G20: Lieu de stockage : | M20: Lieu de stockage :
A22: Fournisseur : | D22: Ref : | G22: Fournisseur : | J22: Ref : | M22: Fournisseur : | P22: Ref :
A23: Qté à commander : | D23: Stock min : | G23: Qté à commander : | J23: Stock min : | M23: Qté à commander : | P23: Stock min :
A24: Lieu de stockage : | G24: Lieu de stockage : | M24: Lieu de stockage :
A26: Fournisseur : | D26: Ref : | G26: Fournisseur : | J26: Ref : | M26: Fournisseur : | P26: Ref :
A27: Qté à commander : | D27: Stock min : | G27: Qté à commander : | J27: Stock min : | M27: Qté à commander : | P27: Stock min :
A28: Lieu de stockage : | G28: Lieu de stockage : | M28: Lieu de stockage :
A30: Fournisseur : | D30: Ref : | G30: Fournisseur : | J30: Ref : | M30: Fournisseur : | P30: Ref :
A31: Qté à commander : | D31: Stock min : | G31: Qté à commander : | J31: Stock min : | M31: Qté à commander : | P31: Stock min :
A32: Lieu de stockage : | G32: Lieu de stockage : | M32: Lieu de stockage :
A34: Fournisseur : | D34: Ref : | G34: Fournisseur : | J34: Ref : | M34: Fournisseur : | P34: Ref :
A35: Qté à commander : | D35: Stock min : | G35: Qté à commander : | J35: Stock min : | M35: Qté à commander : | P35: Stock min :
A36: Lieu de stockage : | G36: Lieu de stockage : | M36: Lieu de stockage :
A38: Fournisseur : | D38: Ref : | G38: Fournisseur : | J38: Ref : | M38: Fournisseur : | P38: Ref :
A39: Qté à commander : | D39: Stock min : | G39: Qté à commander : | J39: Stock min : | M39: Qté à commander : | P39: Stock min :
A40: Lieu de stockage : | G40: Lieu de stockage : | M40: Lieu de stockage :
A42: Fournisseur : | D42: Ref : | G42: Fournisseur : | J42: Ref : | M42: Fournisseur : | P42: Ref :
A43: Qté à commander : | D43: Stock min : | G43: Qté à commander : | J43: Stock min : | M43: Qté à commander : | P43: Stock min :
A44: Lieu de stockage : | G44: Lieu de stockage : | M44: Lieu de stockage :
A46: Fournisseur : | D46: Ref : | G46: Fournisseur : | J46: Ref : | M46: Fournisseur : | P46: Ref :
A47: Qté à commander : | D47: Stock min : | G47: Qté à commander : | J47: Stock min : | M47: Qté à commander : | P47: Stock min :
A48: Lieu de stockage : | G48: Lieu de stockage : | M48: Lieu de stockage :
A50: Fournisseur : | D50: Ref : | G50: Fournisseur : | J50: Ref : | M50: Fournisseur : | P50: Ref :
A51: Qté à commander : | D51: Stock min : | G51: Qté à commander : | J51: Stock min : | M51: Qté à commander : | P51: Stock min :
A52: Lieu de stockage : | G52: Lieu de stockage : | M52: Lieu de stockage :
A54: Fournisseur : | D54: Ref : | G54: Fournisseur : | J54: Ref : | M54: Fournisseur : | P54: Ref :
...
