Workbook
Name categories_inflow: 'Catégories de produits'!#REF!

Sheet Liste
A1: Catégorie | B1: Sous-Catégorie | C1: Référence | D1: Désignation | E1: Fournisseur | F1: Lieu de stockage | G1: Stock minimum | H1: Qté à commander
A2: =VLOOKUP(LEFT(C2,6),'Catégories de produits'!A:C,2,FALSE) -> Fixation | B2: =VLOOKUP(LEFT(C2,6),'Catégories de produits'!A:C,3,FALSE) -> Ecrous | C2: 13 003 036 | D2: Ecrou à oreilles M4 ZN | E2: RS Components SAS | F2: M1 | G2: 10 | H2: 50
A3: =VLOOKUP(LEFT(C3,6),'Catégories de produits'!A:C,2,FALSE) -> Equipement d'atelier | B3: =VLOOKUP(LEFT(C3,6),'Catégories de produits'!A:C,3,FALSE) -> Consommables | C3: 11 001 022 | D3: Ecrou M4 ZN | E3: RS Components SAS | F3: M1 | G3: 20 | H3: 250
A4: =VLOOKUP(LEFT(C4,6),'Catégories de produits'!A:C,2,FALSE) -> Fixation | B4: =VLOOKUP(LEFT(C4,6),'Catégories de produits'!A:C,3,FALSE) -> Rondelles | C4: 13 001 039 | D4: Rondelle Grower M4 ZN | E4: DESCOURS & CABAUD | F4: M1 | G4: 20 | H4: 200
A5: =VLOOKUP(LEFT(C5,6),'Catégories de produits'!A:C,2,FALSE) -> Fixation | B5: =VLOOKUP(LEFT(C5,6),'Catégories de produits'!A:C,3,FALSE) -> Ecrous | C5: 13 003 012 | D5: Ecrou frein M4 | E5: DESCOURS & CABAUD | F5: M1 | G5: 20 | H5: 200
A6: Fixation | B6: Vis | C6: 13 000 021 | D6: Vis M4x6 type Z ZN | E6: RS Components SAS | F6: M1 | G6: 20 | H6: 100
A7: =VLOOKUP(LEFT(C7,6),'Catégories de produits'!A:C,2,FALSE) -> Fixation | B7: =VLOOKUP(LEFT(C7,6),'Catégories de produits'!A:C,3,FALSE) -> Rondelles | C7: 13 001 025 | D7: Rondelle M4 ZN | E7: DESCOURS & CABAUD | F7: M1 | G7: 30 | H7: 1000
A8: =VLOOKUP(LEFT(C8,6),'Catégories de produits'!A:C,2,FALSE) -> Fixation | B8: =VLOOKUP(LEFT(C8,6),'Catégories de produits'!A:C,3,FALSE) -> Vis | C8: 13 002 107 | D8: Vis FHC M4x8 brute | E8: RS Components SAS | F8: M1 | G8: 20 | H8: 100
A9: =VLOOKUP(LEFT(C9,6),'Catégories de produits'!A:C,2,FALSE) -> Fixation | B9: =VLOOKUP(LEFT(C9,6),'Catégories de produits'!A:C,3,FALSE) -> Vis | C9: 13 002 158 | D9: Vis CHC M4x8 brute | E9: RS Components SAS | F9: M1 | G9: 20 | H9: 200
A10: Fixation | B10: Vis | C10: 13 000 006 | D10: Vis FHC M4x10 brute | E10: RS Components SAS | F10: M1 | G10: 20 | H10: 100
A11: =VLOOKUP(LEFT(C11,6),'Catégories de produits'!A:C,2,FALSE) -> Fixation | B11: =VLOOKUP(LEFT(C11,6),'Catégories de produits'!A:C,3,FALSE) -> Vis | C11: 13 002 117 | D11: Vis TBHC M4x8 brute | E11: RS Components SAS | F11: M1 | G11: 20 | H11: 100
A12: =VLOOKUP(LEFT(C12,6),'Catégories de produits'!A:C,2,FALSE) -> Fixation | B12: =VLOOKUP(LEFT(C12,6),'Catégories de produits'!A:C,3,FALSE) -> Vis | C12: 13 002 002 | D12: Vis FHC M4x12 brute | E12: RS Components SAS | F12: M1 | G12: 20 | H12: 100
A13: =VLOOKUP(LEFT(C13,6),'Catégories de produits'!A:C,2,FALSE) -> Fixation | B13: =VLOOKUP(LEFT(C13,6),'Catégories de produits'!A:C,3,FALSE) -> Vis | C13: 13 002 129 | D13: Vis CHC M4x10 8.8 ZN | E13: DESCOURS & CABAUD | F13: M1 | G13: 20 | H13: 200
A14: =VLOOKUP(LEFT(C14,6),'Catégories de produits'!A:C,2,FALSE) -> Fixation | B14: =VLOOKUP(LEFT(C14,6),'Catégories de produits'!A:C,3,FALSE) -> Vis | C14: 13 002 067 | D14: Vis FHC M4x12 10.9 ZN | E14: DESCOURS & CABAUD | F14: M1 | G14: 20 | H14: 200
A15: =VLOOKUP(LEFT(C15,6),'Catégories de produits'!A:C,2,FALSE) -> Fixation | B15: =VLOOKUP(LEFT(C15,6),'Catégories de produits'!A:C,3,FALSE) -> Vis | C15: 13 002 106 | D15: Vis TBHC M5x20 A4 | E15: RS Components SAS | F15: M1 | G15: 10 | H15: 50
A16: =VLOOKUP(LEFT(C16,6),'Catégories de produits'!A:C,2,FALSE) -> Fixation | B16: =VLOOKUP(LEFT(C16,6),'Catégories de produits'!A:C,3,FALSE) -> Vis | C16: 13 002 150 | D16: Vis CHC M4x12 8.8 brute | E16: DESCOURS & CABAUD | F16: M1 | G16: 20 | H16: 100
A17: =VLOOKUP(LEFT(C17,6),'Catégories de produits'!A:C,2,FALSE) -> Fixation | B17: =VLOOKUP(LEFT(C17,6),'Catégories de produits'!A:C,3,FALSE) -> Vis | C17: 13 002 121 | D17: Vis TH M4x12 8.8 ZN | E17: DESCOURS & CABAUD | F17: M1 | G17: 20 | H17: 100
A18: =VLOOKUP(LEFT(C18,6),'Catégories de produits'!A:C,2,FALSE) -> Fixation | B18: =VLOOKUP(LEFT(C18,6),'Catégories de produits'!A:C,3,FALSE) -> Vis | C18: 13 002 157 | D18: Vis FHC M4x16 10.9 brute | E18: RS Components SAS | F18: M1 | G18: 20 | H18: 100
A19: =VLOOKUP(LEFT(C19,6),'Catégories de produits'!A:C,2,FALSE) -> Fixation | B19: =VLOOKUP(LEFT(C19,6),'Catégories de produits'!A:C,3,FALSE) -> Vis | C19: 13 002 115 | D19: Vis CHC M4x16 8.8 ZN | E19: DESCOURS & CABAUD | F19: M1 | G19: 20 | H19: 100
A20: =VLOOKUP(LEFT(C20,6),'Catégories de produits'!A:C,2,FALSE) -> Fixation | B20: =VLOOKUP(LEFT(C20,6),'Catégories de produits'!A:C,3,FALSE) -> Vis | C20: 13 002 148 | D20: Vis TBHC M4x16 10.9 brut | E20: DESCOURS & CABAUD | F20: M1 | G20: 20 | H20: 200
A21: =VLOOKUP(LEFT(C21,6),'Catégories de produits'!A:C,2,FALSE) -> Fixation | B21: =VLOOKUP(LEFT(C21,6),'Catégories de produits'!A:C,3,FALSE) -> Vis | C21: 13 002 206 | D21: Vis STHC M4x16 | E21: DESCOURS & CABAUD | F21: M1 | G21: 20 | H21: 200
A22: =VLOOKUP(LEFT(C22,6),'Catégories de produits'!A:C,2,FALSE) -> Fixation | B22: =VLOOKUP(LEFT(C22,6),'Catégories de produits'!A:C,3,FALSE) -> Vis | C22: 13 002 159 | D22: Vis TBHC M4x20 brute | E22: DESCOURS & CABAUD | F22: M1 | G22: 20 | H22: 100
... A56: =VLOOKUP(LEFT(C56,6),'Catégories de produits'!A:C,2,FALSE) -> Fixation | B56: =VLOOKUP(LEFT(C56,6),'Catégories de produits'!A:C,3,FALSE) -> Vis | C56: 13 002 084 | D56: Vis TH M6x12 8.8 ZN | E56: DESCOURS & CABAUD | F56: M2 | G56: 30 | H56: 500
A57: =VLOOKUP(LEFT(C57,6),'Catégories de produits'!A:C,2,FALSE) -> Fixation | B57: =VLOOKUP(LEFT(C57,6),'Catégories de produits'!A:C,3,FALSE) -> Vis | C57: 13 002 167 | D57: Vis TH M6x20 6.8 ZN | F57: M2 | G57: 20 | H57: 100
A58: =VLOOKUP(LEFT(C58,6),'Catégories de produits'!A:C,2,FALSE) -> Fixation | B58: =VLOOKUP(LEFT(C58,6),'Catégories de produits'!A:C,3,FALSE) -> Vis | C58: 13 002 182 | D58: Vis CHC M6x16 8.8 ZN | E58: DESCOURS & CABAUD | F58: M2 | G58: 20 | H58: 100
A59: =VLOOKUP(LEFT(C59,6),'Catégories de produits'!A:C,2,FALSE) -> Fixation | B59: =VLOOKUP(LEFT(C59,6),'Catégories de produits'!A:C,3,FALSE) -> Vis | C59: 13 002 168 | D59: Vis CHC M6x20 8.8 ZN | E59: DESCOURS & CABAUD | F59: M2 | G59: 20 | H59: 200
A60: =VLOOKUP(LEFT(C60,6),'Catégories de produits'!A:C,2,FALSE) -> Fixation | B60: =VLOOKUP(LEFT(C60,6),'Catégories de produits'!A:C,3,FALSE) -> Vis | C60: 13 002 120 | D60: Vis FHC M6x20 8.8 ZN | E60: DESCOURS & CABAUD | F60: M2 | G60: 20 | H60: 200
A61: =VLOOKUP(LEFT(C61,6),'Catégories de produits'!A:C,2,FALSE) -> Fixation | B61: =VLOOKUP(LEFT(C61,6),'Catégories de produits'!A:C,3,FALSE) -> Vis | C61: 13 002 195 | D61: Vis TH M6x25 8.8 ZN | E61: DESCOURS & CABAUD | F61: M2 | G61: 30 | H61: 500
A62: =VLOOKUP(LEFT(C62,6),'Catégories de produits'!A:C,2,FALSE) -> Fixation | B62: =VLOOKUP(LEFT(C62,6),'Catégories de produits'!A:C,3,FALSE) -> Vis | C62: 13 002 123 | D62: Vis CHC M6x25 brute | E62: DESCOURS & CABAUD | F62: M2 | G62: 20 | H62: 100
A63: =VLOOKUP(LEFT(C63,6),'Catégories de produits'!A:C,2,FALSE) -> Fixation | B63: =VLOOKUP(LEFT(C63,6),'Catégories de produits'!A:C,3,FALSE) -> Vis | C63: 13 002 218 | D63: Vis H M6x30 ZN 8.8 | E63: DESCOURS & CABAUD | F63: M2 | G63: 30 | H63: 500
A64: =VLOOKUP(LEFT(C64,6),'Catégories de produits'!A:C,2,FALSE) -> Fixation | B64: =VLOOKUP(LEFT(C64,6),'Catégories de produits'!A:C,3,FALSE) -> Vis | C64: 13 002 169 | D64: Vis couvercle boitier Rose | F64: M2
A65: =VLOOKUP(LEFT(C65,6),'Catégories de produits'!A:C,2,FALSE) -> Fixation | B65: =VLOOKUP(LEFT(C65,6),'Catégories de produits'!A:C,3,FALSE) -> Vis | C65: 13 002 074 | D65: Vis TH M6x40 ZN 8.8 | E65: DESCOURS & CABAUD | F65: M2 | G65: 20 | H65: 200
A66: =VLOOKUP(LEFT(C66,6),'Catégories de produits'!A:C,2,FALSE) -> Fixation | B66: =VLOOKUP(LEFT(C66,6),'Catégories de produits'!A:C,3,FALSE) -> Vis | C66: 13 002 073 | D66: Vis TH M6x35 8.8 ZN | E66: DESCOURS & CABAUD | F66: M2 | G66: 30 | H66: 500
A67: =VLOOKUP(LEFT(C67,6),'Catégories de produits'!A:C,2,FALSE) -> Fixation | B67: =VLOOKUP(LEFT(C67,6),'Catégories de produits'!A:C,3,FALSE) -> Vis | C67: 13 002 155 | D67: Vis CHC M6x45 ZN 8.8 | E67: DESCOURS & CABAUD | F67: M2 | G67: 20 | H67: 100
A68: Fixation | B68: Vis | C68: 13 000 019 | D68: Vis CHC M6x60 brute | E68: RS Components SAS | F68: M2 | G68: 20 | H68: 200
A69: Fixation | B69: Vis | C69: 13 000 017 | D69: Vis carrosserie M6x65 ZN | E69: RS Components SAS | F69: M2 | G69: 10 | H69: 50
A70: =VLOOKUP(LEFT(C70,6),'Catégories de produits'!A:C,2,FALSE) -> Fixation | B70: =VLOOKUP(LEFT(C70,6),'Catégories de produits'!A:C,3,FALSE) -> Vis | C70: 13 002 134 | D70: Vis TH M6x50 8.8 ZN | E70: DESCOURS & CABAUD | F70: M2 | G70: 20 | H70: 100
A71: =VLOOKUP(LEFT(C71,6),'Catégories de produits'!A:C,2,FALSE) -> Fixation | B71: =VLOOKUP(LEFT(C71,6),'Catégories de produits'!A:C,3,FALSE) -> Vis | C71: 13 002 279 | D71: Vis CHC M6x60 8.8 ZN | E71: DESCOURS & CABAUD | F71: M2 | G71: 20 | H71: 100
A72: =VLOOKUP(LEFT(C72,6),'Catégories de produits'!A:C,2,FALSE) -> Fixation | B72: =VLOOKUP(LEFT(C72,6),'Catégories de produits'!A:C,3,FALSE) -> Vis | C72: 13 002 113 | D72: Vis TH M6x90 8.8 ZN | E72: DESCOURS & CABAUD | F72: M2 | G72: 20 | H72: 100
A73: =VLOOKUP(LEFT(C73,6),'Catégories de produits'!A:C,2,FALSE) -> Fixation | B73: =VLOOKUP(LEFT(C73,6),'Catégories de produits'!A:C,3,FALSE) -> Vis | C73: 13 002 219 | D73: Vis tete ronde large ZN peinte noire 6x25 | F73: M2
A74: Fixation | B74: Vis | C74: 13 000 059 | D74: Goujon M6x40 | E74: BARET | F74: M2 | G74: 10 | H74: 50
A75: =VLOOKUP(LEFT(C75,6),'Catégories de produits'!A:C,2,FALSE) -> Equipement d'atelier | B75: =VLOOKUP(LEFT(C75,6),'Catégories de produits'!A:C,3,FALSE) -> Cosses | C75: 11 005 051 | D75: Cosse oeillet à sertir M8, pour fil 10mm² | E75: RS Components SAS | F75: M2 | G75: 10 | H75: 25
A76: =VLOOKUP(LEFT(C76,6),'Catégories de produits'!A:C,2,FALSE) -> Equipement d'atelier | B76: =VLOOKUP(LEFT(C76,6),'Catégories de produits'!A:C,3,FALSE) -> Cosses | C76: 11 005 039 | D76: Cosse oeillet à sertir M6 pour 10mm² | E76: RS Components SAS | F76: M2 | G76: 10 | H76: 25
A77: =VLOOKUP(LEFT(C77,6),'Catégories de produits'!A:C,2,FALSE) -> Equipement d'atelier | B77: =VLOOKUP(LEFT(C77,6),'Catégories de produits'!A:C,3,FALSE) -> Cosses | C77: 11 005 109 | D77: Manchon de jonction 10mm² à sertir | E77: RS Components SAS | F77: M2 | G77: 10 | H77: 25
A78: =VLOOKUP(LEFT(C78,6),'Catégories de produits'!A:C,2,FALSE) -> Equipement d'atelier | B78: =VLOOKUP(LEFT(C78,6),'Catégories de produits'!A:C,3,FALSE) -> Cosses | C78: 11 005 038 | D78: Cosse oeillet à sertir M10 pour 10mm² | E78: RS Components SAS | F78: M2 | G78: 10 | H78: 25
A79: =VLOOKUP(LEFT(C79,6),'Catégories de produits'!A:C,2,FALSE) -> Equipement d'atelier | B79: =VLOOKUP(LEFT(C79,6),'Catégories de produits'!A:C,3,FALSE) -> Cosses | C79: 11 005 111 | D79: Cosse non isolée droite M8x16mm² | E79: RS Components SAS | F79: M2 | G79: 10 | H79: 20
A80: =VLOOKUP(LEFT(C80,6),'Catégories de produits'!A:C,2,FALSE) -> Equipement d'atelier | B80: =VLOOKUP(LEFT(C80,6),'Catégories de produits'!A:C,3,FALSE) -> Cosses | C80: 11 005 110 | D80: Cosse non isolée droite M6x16mm² | E80: RS Components SAS | F80: M2 | G80: 10 | H80: 20
A81: =VLOOKUP(LEFT(C81,6),'Catégories de produits'!A:C,2,FALSE) -> Equipement d'atelier | B81: =VLOOKUP(LEFT(C81,6),'Catégories de produits'!A:C,3,FALSE) -> Cosses | C81: 11 005 049 | D81: Cosse à sertir M8 pour fil 25mm² | E81: ELECTRO SUD-EST | F81: M2 | G81: 20 | H81: 50
A82: =VLOOKUP(LEFT(C82,6),'Catégories de produits'!A:C,2,FALSE) -> Equipement d'atelier | B82: =VLOOKUP(LEFT(C82,6),'Catégories de produits'!A:C,3,FALSE) -> Cosses | C82: 11 005 101 | D82: Cosse à sertir 25mm² M6 droite | E82: RS Components SAS | F82: M2 | G82: 20 | H82: 50
A83: =VLOOKUP(LEFT(C83,6),'Catégories de produits'!A:C,2,FALSE) -> Equipement d'atelier | B83: =VLOOKUP(LEFT(C83,6),'Catégories de produits'!A:C,3,FALSE) -> Cosses | C83: 11 005 089 | D83: Manchon de jonction 25mm² à sertir | E83: ELECTRO SUD-EST | F83: M2 | G83: 10 | H83: 25
A84: =VLOOKUP(LEFT(C84,6),'Catégories de produits'!A:C,2,FALSE) -> Equipement d'atelier | B84: =VLOOKUP(LEFT(C84,6),'Catégories de produits'!A:C,3,FALSE) -> Cosses | C84: 11 005 103 | D84: Cosse à sertir 25mm² M10 | E84: ELECTRO SUD-EST | F84: M2 | G84: 20 | H84: 50
A85: =VLOOKUP(LEFT(C85,6),'Catégories de produits'!A:C,2,FALSE) -> Equipement d'atelier | B85: =VLOOKUP(LEFT(C85,6),'Catégories de produits'!A:C,3,FALSE) -> Cosses | C85: 11 005 066 | D85: Cosse à sertir coudée M10 pour fil 25mm² | E85: ELECTRO SUD-EST | F85: M2 | G85: 20 | H85: 50
A86: =VLOOKUP(LEFT(C86,6),'Catégories de produits'!A:C,2,FALSE) -> Equipement d'atelier | B86: =VLOOKUP(LEFT(C86,6),'Catégories de produits'!A:C,3,FALSE) -> Cosses | C86: 11 005 102 | D86: Cosse à sertir 25mm² M8 coudée | E86: ELECTRO SUD-EST | F86: M2 | G86: 20 | H86: 50
... A92: =VLOOKUP(LEFT(C92,6),'Catégories de produits'!A:C,2,FALSE) -> Fixation | B92: =VLOOKUP(LEFT(C92,6),'Catégories de produits'!A:C,3,FALSE) -> Ecrous | C92: 13 003 024 | D92: Ecrou borgne M8 ZN | E92: RS Components SAS | F92: M3 | G92: 20 | H92: 50
A93: Fixation | B93: Rondelles | C93: 13 000 004 | D93: Rondelle étoile M8 ZN | E93: DESCOURS & CABAUD | F93: M3 | G93: 30 | H93: 1000
A94: =VLOOKUP(LEFT(C94,6),'Catégories de produits'!A:C,2,FALSE) -> Fixation | B94: =VLOOKUP(LEFT(C94,6),'Catégories de produits'!A:C,3,FALSE) -> Rondelles | C94: 13 001 027 | D94: Rondelle M8 ZN | E94: DESCOURS & CABAUD | F94: M3 | G94: 20 | H94: 200
A95: =VLOOKUP(LEFT(C95,6),'Catégories de produits'!A:C,2,FALSE) -> Fixation | B95: =VLOOKUP(LEFT(C95,6),'Catégories de produits'!A:C,3,FALSE) -> Vis | C95: 13 002 093 | D95: Vis TBHC M8x10 8.8 ZN | E95: RS Components SAS | F95: M3 | G95: 20 | H95: 50
A96: =VLOOKUP(LEFT(C96,6),'Catégories de produits'!A:C,2,FALSE) -> Fixation | B96: =VLOOKUP(LEFT(C96,6),'Catégories de produits'!A:C,3,FALSE) -> Rondelles | C96: 13 001 030 | D96: Rondelle Grower M8 | E96: DESCOURS & CABAUD | F96: M3 | G96: 20 | H96: 200
A97: =VLOOKUP(LEFT(C97,6),'Catégories de produits'!A:C,2,FALSE) -> Fixation | B97: =VLOOKUP(LEFT(C97,6),'Catégories de produits'!A:C,3,FALSE) -> Vis | C97: 13 002 171 | D97: Vis STHC M8x12 brute | E97: RS Components SAS | F97: M3 | G97: 20 | H97: 100
A98: =VLOOKUP(LEFT(C98,6),'Catégories de produits'!A:C,2,FALSE) -> Fixation | B98: =VLOOKUP(LEFT(C98,6),'Catégories de produits'!A:C,3,FALSE) -> Vis | C98: 13 002 170 | D98: Vis FHC M8x12 10.9 brute | E98: RS Components SAS | F98: M3 | G98: 20 | H98: 50
A99: =VLOOKUP(LEFT(C99,6),'Catégories de produits'!A:C,2,FALSE) -> Fixation | B99: =VLOOKUP(LEFT(C99,6),'Catégories de produits'!A:C,3,FALSE) -> Vis | C99: 13 002 137 | D99: Vis FHC M8x16 ZN 8.8 | E99: DESCOURS & CABAUD | F99: M3 | G99: 20 | H99: 200
A100: =VLOOKUP(LEFT(C100,6),'Catégories de produits'!A:C,2,FALSE) -> Fixation | B100: =VLOOKUP(LEFT(C100,6),'Catégories de produits'!A:C,3,FALSE) -> Vis | C100: 13 002 085 | D100: Vis TH M8x16 8.8 ZN | E100: DESCOURS & CABAUD | F100: M3 | G100: 30 | H100: 500
A101: =VLOOKUP(LEFT(C101,6),'Catégories de produits'!A:C,2,FALSE) -> Fixation | B101: =VLOOKUP(LEFT(C101,6),'Catégories de produits'!A:C,3,FALSE) -> Vis | C101: 13 002 183 | D101: Vis FHC M8x20 10.9 brut | E101: DESCOURS & CABAUD | F101: M3 | G101: 20 | H101: 200
A102: =VLOOKUP(LEFT(C102,6),'Catégories de produits'!A:C,2,FALSE) -> Fixation | B102: =VLOOKUP(LEFT(C102,6),'Catégories de produits'!A:C,3,FALSE) -> Vis | C102: 13 002 152 | D102: Vis CHC M8x20 8.8 ZN | E102: DESCOURS & CABAUD | F102: M3 | G102: 20 | H102: 100
A103: =VLOOKUP(LEFT(C103,6),'Catégories de produits'!A:C,2,FALSE) -> Fixation | B103: =VLOOKUP(LEFT(C103,6),'Catégories de produits'!A:C,3,FALSE) -> Vis | C103: 13 002 153 | D103: Vis CHC M8x20 A4 | E103: DESCOURS & CABAUD | F103: M3 | G103: 20 | H103: 100
A104: =VLOOKUP(LEFT(C104,6),'Catégories de produits'!A:C,2,FALSE) -> Fixation | B104: =VLOOKUP(LEFT(C104,6),'Catégories de produits'!A:C,3,FALSE) -> Vis | C104: 13 002 086 | D104: Vis TH M8x25 8.8 ZN | E104: DESCOURS & CABAUD | F104: M3 | G104: 20 | H104: 200
A105: =VLOOKUP(LEFT(C105,6),'Catégories de produits'!A:C,2,FALSE) -> Fixation | B105: =VLOOKUP(LEFT(C105,6),'Catégories de produits'!A:C,3,FALSE) -> Vis | C105: 13 002 133 | D105: Vis CHC M8x20 12.9 brute | E105: DESCOURS & CABAUD | F105: M3 | G105: 20 | H105: 100
... A108: =VLOOKUP(LEFT(C108,6),'Catégories de produits'!A:C,2,FALSE) -> Fixation | B108: =VLOOKUP(LEFT(C108,6),'Catégories de produits'!A:C,3,FALSE) -> Vis | C108: 13 002 173 | D108: Vis CHC M8x30 8.8 brute | E108: DESCOURS & CABAUD | F108: M3 | G108: 20 | H108: 100
A109: Fixation | B109: Vis | C109: 13 000 020 | D109: Vis FHC M8x30 10.9 brute | E109: RS Components SAS | F109: M3 | G109: 20 | H109: 50
A110: =VLOOKUP(LEFT(C110,6),'Catégories de produits'!A:C,2,FALSE) -> Fixation | B110: =VLOOKUP(LEFT(C110,6),'Catégories de produits'!A:C,3,FALSE) -> Vis | C110: 13 002 075 | D110: Vis TH M8x40 8.8 ZN | E110: DESCOURS & CABAUD | F110: M3 | G110: 20 | H110: 200
A111: =VLOOKUP(LEFT(C111,6),'Catégories de produits'!A:C,2,FALSE) -> Fixation | B111: =VLOOKUP(LEFT(C111,6),'Catégories de produits'!A:C,3,FALSE) -> Vis | C111: 13 002 174 | D111: Vis TH M8x35 8.8 ZN | E111: DESCOURS & CABAUD | F111: M3 | G111: 20 | H111: 200
A112: =VLOOKUP(LEFT(C112,6),'Catégories de produits'!A:C,2,FALSE) -> Fixation | B112: =VLOOKUP(LEFT(C112,6),'Catégories de produits'!A:C,3,FALSE) -> Vis | C112: 13 002 131 | D112: Vis CHC M8x40 12.9 brute | E112: DESCOURS & CABAUD | F112: M3 | G112: 20 | H112: 100
A113: =VLOOKUP(LEFT(C113,6),'Catégories de produits'!A:C,2,FALSE) -> Fixation | B113: =VLOOKUP(LEFT(C113,6),'Catégories de produits'!A:C,3,FALSE) -> Vis | C113: 13 002 249 | D113: Vis TH M8x50 8.8 ZN | E113: DESCOURS & CABAUD | F113: M3 | G113: 20 | H113: 200
A114: =VLOOKUP(LEFT(C114,6),'Catégories de produits'!A:C,2,FALSE) -> Fixation | B114: =VLOOKUP(LEFT(C114,6),'Catégories de produits'!A:C,3,FALSE) -> Vis | C114: 13 002 154 | D114: Vis CHC M8x45 8.8 ZN | E114: DESCOURS & CABAUD | F114: M3 | G114: 20 | H114: 100
A115: =VLOOKUP(LEFT(C115,6),'Catégories de produits'!A:C,2,FALSE) -> Fixation | B115: =VLOOKUP(LEFT(C115,6),'Catégories de produits'!A:C,3,FALSE) -> Vis | C115: 13 002 114 | D115: Vis CHC M8x55 8.8 ZN | E115: DESCOURS & CABAUD | F115: M3 | G115: 20 | H115: 100
A116: Fixation | B116: Vis | C116: 13 000 009 | D116: Vis CHC M8x50 8.8 ZN | E116: DESCOURS & CABAUD | F116: M3 | G116: 20 | H116: 100
A117: =VLOOKUP(LEFT(C117,6),'Catégories de produits'!A:C,2,FALSE) -> Fixation | B117: =VLOOKUP(LEFT(C117,6),'Catégories de produits'!A:C,3,FALSE) -> Vis | C117: 13 002 076 | D117: Vis TH M8x60 8.8 ZN | E117: DESCOURS & CABAUD | F117: M3 | G117: 20 | H117: 100
A118: =VLOOKUP(LEFT(C118,6),'Catégories de produits'!A:C,2,FALSE) -> Fixation | B118: =VLOOKUP(LEFT(C118,6),'Catégories de produits'!A:C,3,FALSE) -> Vis | C118: 13 002 175 | D118: Vis CHC M8x60 8.8 ZN | E118: DESCOURS & CABAUD | F118: M3 | G118: 20 | H118: 100
A119: =VLOOKUP(LEFT(C119,6),'Catégories de produits'!A:C,2,FALSE) -> Fixation | B119: =VLOOKUP(LEFT(C119,6),'Catégories de produits'!A:C,3,FALSE) -> Vis | C119: 13 002 251 | D119: Vis CHC M8x65 8.8 ZN | E119: DESCOURS & CABAUD | F119: M3 | G119: 20 | H119: 50
A120: =VLOOKUP(LEFT(C120,6),'Catégories de produits'!A:C,2,FALSE) -> Fixation | B120: =VLOOKUP(LEFT(C120,6),'Catégories de produits'!A:C,3,FALSE) -> Vis | C120: 13 002 077 | D120: Vis TH M8x80 8.8 ZN | E120: DESCOURS & CABAUD | F120: M3 | G120: 20 | H120: 100
A121: =VLOOKUP(LEFT(C121,6),'Catégories de produits'!A:C,2,FALSE) -> Fixation | B121: =VLOOKUP(LEFT(C121,6),'Catégories de produits'!A:C,3,FALSE) -> Vis | C121: 13 002 144 | D121: Vis TH M8x120 8.8 ZN | E121: DESCOURS & CABAUD | F121: M3 | G121: 20 | H121: 100
A122: =VLOOKUP(LEFT(C122,6),'Catégories de produits'!A:C,2,FALSE) -> Fixation | B122: =VLOOKUP(LEFT(C122,6),'Catégories de produits'!A:C,3,FALSE) -> Vis | C122: 13 002 250 | D122: Vis FHC M8x80 12.9 brute | F122: M3 | G122: 20 | H122: 50
A123: =VLOOKUP(LEFT(C123,6),'Catégories de produits'!A:C,2,FALSE) -> Fixation | B123: =VLOOKUP(LEFT(C123,6),'Catégories de produits'!A:C,3,FALSE) -> Vis | C123: 13 002 109 | D123: Vis CHC M8x120 8.8 ZN | E123: DESCOURS & CABAUD | F123: M3 | G123: 20 | H123: 100
A124: =VLOOKUP(LEFT(C124,6),'Catégories de produits'!A:C,2,FALSE) -> Fixation | B124: =VLOOKUP(LEFT(C124,6),'Catégories de produits'!A:C,3,FALSE) -> Vis | C124: 13 002 216 | D124: Vis TH M8x150 8.8 ZN | E124: DESCOURS & CABAUD | F124: M3 | G124: 20 | H124: 100
A125: =VLOOKUP(LEFT(C125,6),'Catégories de produits'!A:C,2,FALSE) -> Equipement d'atelier | B125: =VLOOKUP(LEFT(C125,6),'Catégories de produits'!A:C,3,FALSE) -> Cosses | C125: 11 005 002 | D125: Cosse à sertir M8 non-isolée pour 35mm² | E125: ELECTRO SUD-EST | F125: M3 | G125: 20 | H125: 50
A126: =VLOOKUP(LEFT(C126,6),'Catégories de produits'!A:C,2,FALSE) -> Equipement d'atelier | B126: =VLOOKUP(LEFT(C126,6),'Catégories de produits'!A:C,3,FALSE) -> Cosses | C126: 11 005 069 | D126: Cosse à sertir 35mm² M6 | E126: ELECTRO SUD-EST | F126: M3 | G126: 20 | H126: 50
A127: =VLOOKUP(LEFT(C127,6),'Catégories de produits'!A:C,2,FALSE) -> Equipement d'atelier | B127: =VLOOKUP(LEFT(C127,6),'Catégories de produits'!A:C,3,FALSE) -> Cosses | C127: 11 005 054 | D127: Manchon de jonction 35mm² à sertir | E127: ELECTRO SUD-EST | F127: M3 | G127: 20 | H127: 50
A128: =VLOOKUP(LEFT(C128,6),'Catégories de produits'!A:C,2,FALSE) -> Equipement d'atelier | B128: =VLOOKUP(LEFT(C128,6),'Catégories de produits'!A:C,3,FALSE) -> Cosses | C128: 11 005 084 | D128: Cosse à oeillet 35mm² M10 droite | E128: ELECTRO SUD-EST | F128: M3 | G128: 20 | H128: 50
A129: =VLOOKUP(LEFT(C129,6),'Catégories de produits'!A:C,2,FALSE) -> Equipement d'atelier | B129: =VLOOKUP(LEFT(C129,6),'Catégories de produits'!A:C,3,FALSE) -> Cosses | C129: 11 005 004 | D129: Cosse 35mm² M8 coudée 90° | E129: ELECTRO SUD-EST | F129: M3 | G129: 20 | H129: 50
A130: =VLOOKUP(LEFT(C130,6),'Catégories de produits'!A:C,2,FALSE) -> Equipement d'atelier | B130: =VLOOKUP(LEFT(C130,6),'Catégories de produits'!A:C,3,FALSE) -> Cosses | C130: 11 005 068 | D130: Cosse à sertir 35mm² M6 coudée 90° | E130: ELECTRO SUD-EST | F130: M3 | G130: 20 | H130: 50
A131: =VLOOKUP(LEFT(C131,6),'Catégories de produits'!A:C,2,FALSE) -> Equipement d'atelier | B131: =VLOOKUP(LEFT(C131,6),'Catégories de produits'!A:C,3,FALSE) -> Cosses | C131: 11 005 005 | D131: Cosse 35mm² M10 coudée 90° | E131: ELECTRO SUD-EST | F131: M3 | G131: 20 | H131: 50
A132: =VLOOKUP(LEFT(C132,6),'Catégories de produits'!A:C,2,FALSE) -> Fixation | B132: =VLOOKUP(LEFT(C132,6),'Catégories de produits'!A:C,3,FALSE) -> Ecrous | C132: 13 003 025 | D132: Ecrou borgne M10 A4 | E132: RS Components SAS | F132: M4 | G132: 10 | H132: 50
A133: =VLOOKUP(LEFT(C133,6),'Catégories de produits'!A:C,2,FALSE) -> Fixation | B133: =VLOOKUP(LEFT(C133,6),'Catégories de produits'!A:C,3,FALSE) -> Ecrous | C133: 13 003 015 | D133: Ecrou M10 ZN | E133: DESCOURS & CABAUD | F133: M4 | G133: 20 | H133: 100
A134: =VLOOKUP(LEFT(C134,6),'Catégories de produits'!A:C,2,FALSE) -> Fixation | B134: =VLOOKUP(LEFT(C134,6),'Catégories de produits'!A:C,3,FALSE) -> Ecrous | C134: 13 003 017 | D134: Ecrou frein M10 ZN | E134: DESCOURS & CABAUD | F134: M4 | G134: 20 | H134: 100
... A140: =VLOOKUP(LEFT(C140,6),'Catégories de produits'!A:C,2,FALSE) -> Fixation | B140: =VLOOKUP(LEFT(C140,6),'Catégories de produits'!A:C,3,FALSE) -> Vis | C140: 13 002 078 | D140: Vis TH M10x16 8.8 ZN | E140: DESCOURS & CABAUD | F140: M4 | G140: 20 | H140: 200
A141: =VLOOKUP(LEFT(C141,6),'Catégories de produits'!A:C,2,FALSE) -> Fixation | B141: =VLOOKUP(LEFT(C141,6),'Catégories de produits'!A:C,3,FALSE) -> Vis | C141: 13 002 228 | D141: Vis CHC M10x16 10.9 brute | F141: M4 | G141: 20 | H141: 50
A142: =VLOOKUP(LEFT(C142,6),'Catégories de produits'!A:C,2,FALSE) -> Fixation | B142: =VLOOKUP(LEFT(C142,6),'Catégories de produits'!A:C,3,FALSE) -> Vis | C142: 13 002 231 | D142: Vis TH M10x25 ZN 8.8 | E142: DESCOURS & CABAUD | F142: M4 | G142: 20 | H142: 50
A143: =VLOOKUP(LEFT(C143,6),'Catégories de produits'!A:C,2,FALSE) -> Fixation | B143: =VLOOKUP(LEFT(C143,6),'Catégories de produits'!A:C,3,FALSE) -> Vis | C143: 13 002 232 | D143: Vis CHC M10x35 10.9 brute | F143: M4 | G143: 20 | H143: 50
A144: =VLOOKUP(LEFT(C144,6),'Catégories de produits'!A:C,2,FALSE) -> Fixation | B144: =VLOOKUP(LEFT(C144,6),'Catégories de produits'!A:C,3,FALSE) -> Vis | C144: 13 002 230 | D144: Vis TH M10x30 ZN 8.8 | E144: DESCOURS & CABAUD | F144: M4 | G144: 20 | H144: 200
A145: =VLOOKUP(LEFT(C145,6),'Catégories de produits'!A:C,2,FALSE) -> Fixation | B145: =VLOOKUP(LEFT(C145,6),'Catégories de produits'!A:C,3,FALSE) -> Vis | C145: 13 002 088 | D145: Vis TH M10x40 8.8 ZN | E145: DESCOURS & CABAUD | F145: M4 | G145: 20 | H145: 100
...

Sheet Catégories de produits
A1: Référence | B1: Catégorie | C1: Sous-Catégorie
A2: 01 000 | B2: Electrovannes
A3: 02 000 | B3: Batteries / Piles
A4: 03 000 | B4: Boîtiers et Enveloppes
A5: 04 000 | B5: Câbles et accessoire
A6: 04 001 | B6: Câbles et accessoire | C6: Gaine thermorétractable
A7: 04 002 | B7: Câbles et accessoire | C7: Câbles/Faisceau
A8: 04 003 | B8: Câbles et accessoire | C8: Antennes
A9: 04 004 | B9: Câbles et accessoire | C9: Câbles assemblés Centrexpert
A10: 05 000 | B10: Capteurs
A11: 05 001 | B11: Capteurs | C11: Capteur de température
A12: 05 002 | B12: Capteurs | C12: Capteur inductif/vitesse
A13: 05 003 | B13: Capteurs | C13: Capteur angulaire
A14: 05 004 | B14: Capteurs | C14: Capteur de courant
A15: 05 005 | B15: Capteurs | C15: Capteur de pression
A16: 05 006 | B16: Capteurs | C16: Débimètres
A17: 05 007 | B17: Capteurs | C17: Capteur de niveau
A18: 05 008 | B18: Capteurs | C18: Capteur inductif/vitesse
A19: 06 000 | B19: Cartes électroniques
A20: 07 000 | B20: Composants électriques
A21: 07 001 | B21: Composants électriques | C21: Alternateurs
A22: 07 002 | B22: Composants électriques | C22: Contacteurs
A23: 07 003 | B23: Composants électriques | C23: Démarreurs
A24: 07 004 | B24: Composants électriques | C24: Moteurs électriques
A25: 07 005 | B25: Composants électriques | C25: Relais
A26: 07 006 | B26: Composants électriques | C26: Ventilateur
A27: 07 007 | B27: Composants électriques | C27: Variateur
A28: 07 008 | B28: Composants électriques | C28: Potentiomètre
A29: 07 009 | B29: Composants électriques | C29: Joystick
A30: 07 010 | B30: Composants électriques | C30: Transformateur
A31: 07 011 | B31: Composants électriques | C31: Calculateur
A32: 07 012 | B32: Composants électriques | C32: Bougie préchauffage
... A34: 07 014 | B34: Composants électriques | C34: Pompes
A35: 08 000 | B35: Composants électronique
A36: 08 001 | B36: Composants électronique | C36: Zigbee
A37: 08 002 | B37: Composants électronique | C37: Nappe
A38: 08 003 | B38: Composants électronique | C38: Drone
A39: 09 001 | B39: Composants mécaniques | C39: Clapets étouffoirs
A40: 09 002 | B40: Composants mécaniques | C40: Pare étincelles
A41: 09 003 | B41: Composants mécaniques | C41: Pare flammes
A42: 09 004 | B42: Composants mécaniques | C42: Refroidisseurs
A43: 09 005 | B43: Composants mécaniques | C43: Turbos
A44: 09 006 | B44: Composants mécaniques | C44: Charnières
A45: 09 007 | B45: Composants mécaniques | C45: Raccord
A46: 09 008 | B46: Composants mécaniques | C46: Equerre
A47: 09 009 | B47: Composants mécaniques | C47: Usinage/reprise sur existant
... A56: 09 018 | B56: Composants mécaniques | C56: réservoir
A57: 09 000 | B57: Composants mécaniques
A58: 09 020 | B58: Composants mécaniques | C58: Roues
A59: 09 021 | B59: Composants mécaniques | C59: Eléments de protection
A60: 09 022 | B60: Composants mécaniques | C60: Culasse
A61: 09 023 | B61: Composants mécaniques | C61: Radiateur
A62: 09 024 | B62: Composants mécaniques | C62: Collecteur
A63: 09 025 | B63: Composants mécaniques | C63: Bouchons
A64: 09 026 | B64: Composants mécaniques | C64: FAP
A65: 09 027 | B65: Composants mécaniques | C65: Brides
A66: 09 028 | B66: Composants mécaniques | C66: Pièces standard commerce
A67: 09 029 | B67: Composants mécaniques | C67: Pièces usinées
A68: 09 030 | B68: Composants mécaniques | C68: Capotage habillage
A69: 09 031 | B69: Composants mécaniques | C69: Roulements
A70: 09 032 | B70: Composants mécaniques | C70: vannes
A71: 10 000 | B71: Eclairage et signalisation
A72: 10 001 | B72: Eclairage et signalisation | C72: Visuelle
A73: 10 002 | B73: Eclairage et signalisation | C73: Sonore
A74: 11 000 | B74: Equipement d'atelier
A75: 11 001 | B75: Equipement d'atelier | C75: Consommables
A76: 11 002 | B76: Equipement d'atelier | C76: EPI
A77: 11 003 | B77: Equipement d'atelier | C77: Equipement
A78: 11 004 | B78: Equipement d'atelier | C78: Outillage
A79: 11 005 | B79: Equipement d'atelier | C79: Cosses
A80: 11 006 | B80: Equipement d'atelier | C80: Collier de serrage
A81: 11 007 | B81: Equipement d'atelier | C81: Essais
A82: 12 000 | B82: Etanchéité
A83: 12 001 | B83: Etanchéité | C83: Joints torique
A84: 12 002 | B84: Etanchéité | C84: Joints à lèvre
A85: 12 003 | B85: Etanchéité | C85: Joints plats
A86: 13 000 | B86: Fixation
A87: 13 001 | B87: Fixation | C87: Rondelles
A88: 13 002 | B88: Fixation | C88: Vis
A89: 13 003 | B89: Fixation | C89: Ecrous
A90: 14 000 | B90: Fournitures de bureau
A91: 15 000 | B91: Gaz de calibration et de test
A92: 16 000 | B92: Interfaces de sécurité intrinsèque
A93: 17 000 | B93: Interrupteurs et contacts
A94: 18 000 | B94: Moniteurs et afficheurs
A95: 19 000 | B95: Presse étoupes
A96: 19 001 | B96: Presse étoupes | C96: Joint de presse étoupe
A97: 19 002 | B97: Presse étoupes | C97: PE sécurité renforcée
A98: 19 003 | B98: Presse étoupes | C98: PE antidéflagrant
A99: 19 004 | B99: Presse étoupes | C99: Contre écrou
A100: 19 005 | B100: Presse étoupes | C100: PE standard
A101: 19 006 | B101: Presse étoupes | C101: Bouchon
A102: 20 000 | B102: Prises et Connecteurs
A103: 20 001 | B103: Prises et Connecteurs | C103: Embase
A104: 20 002 | B104: Prises et Connecteurs | C104: Connecteur
A105: 20 003 | B105: Prises et Connecteurs | C105: Contact
A106: 20 004 | B106: Prises et Connecteurs | C106: Fixation
A107: 21 001 | B107: Produits Centrexpert | C107: Conversions
A108: 21 002 | B108: Produits Centrexpert | C108: Plaques Firme
A109: 21 003 | B109: Produits Centrexpert | C109: Boitier Centrex
...

Sheet Etiquette Unique
A1: Prise batterie mâle DIN320A 50mm² sans poignée
A2: Fournisseur : | B2: NORTRONIC | D2: Ref : | E2: 20 002 115
A3: Qté à commander : | C3: 2 | D3: Stock min : | F3: 0
A4: Lieu de stockage : | C4: E4

Sheet Planche vierge
A2: Fournisseur : | D2: Ref : | G2: Fournisseur : | J2: Ref : | M2: Fournisseur : | P2: Ref :
A3: Qté à commander : | D3: Stock min : | G3: Qté à commander : | J3: Stock min : | M3: Qté à commander : | P3: Stock min :
A4: Lieu de stockage : | G4: Lieu de stockage : | M4: Lieu de stockage :
A6: Fournisseur : | D6: Ref : | G6: Fournisseur : | J6: Ref : | M6: Fournisseur : | P6: Ref :
A7: Qté à commander : | D7: Stock min : | G7: Qté à commander : | J7: Stock min : | M7: Qté à commander : | P7: Stock min :
A8: Lieu de stockage : | G8: Lieu de stockage : | M8: Lieu de stockage :
A10: Fournisseur : | D10: Ref : | G10: Fournisseur : | J10: Ref : | M10: Fournisseur : | P10: Ref :
A11: Qté à commander : | D11: Stock min : | G11: Qté à commander : | J11: Stock min : | M11: Qté à commander : | P11: Stock min :
A12: Lieu de stockage : | G12: Lieu de stockage : | M12: Lieu de stockage :
A14: Fournisseur : | D14: Ref : | G14: Fournisseur : | J14: Ref : | M14: Fournisseur : | P14: Ref :
A15: Qté à commander : | D15: Stock min : | G15: Qté à commander : | J15: Stock min : | M15: Qté à commander : | P15: Stock min :
A16: Lieu de stockage : | G16: Lieu de stockage : | M16: Lieu de stockage :
A18: Fournisseur : | D18: Ref : | G18: Fournisseur : | J18: Ref : | M18: Fournisseur : | P18: Ref :
A19: Qté à commander : | D19: Stock min : | G19: Qté à commander : | J19: Stock min : | M19: Qté à commander : | P19: Stock min :
A20: Lieu de stockage : | G20: Lieu de stockage : | M20: Lieu de stockage :
A22: Fournisseur : | D22: Ref : | G22: Fournisseur : | J22: Ref : | M22: Fournisseur : | P22: Ref :
A23: Qté à commander : | D23: Stock min : | G23: Qté à commander : | J23: Stock min : | M23: Qté à commander : | P23: Stock min :
A24: Lieu de stockage : | G24: Lieu de stockage : | M24: Lieu de stockage :
A26: Fournisseur : | D26: Ref : | G26: Fournisseur : | J26: Ref : | M26: Fournisseur : | P26: Ref :
A27: Qté à commander : | D27: Stock min : | G27: Qté à commander : | J27: Stock min : | M27: Qté à commander : | P27: Stock min :
A28: Lieu de stockage : | G28: Lieu de stockage : | M28: Lieu de stockage :
A30: Fournisseur : | D30: Ref : | G30: Fournisseur : | J30: Ref : | M30: Fournisseur : | P30: Ref :
A31: Qté à commander : | D31: Stock min : | G31: Qté à commander : | J31: Stock min : | M31: Qté à commander : | P31: Stock min :
A32: Lieu de stockage : | G32: Lieu de stockage : | M32: Lieu de stockage :
A34: Fournisseur : | D34: Ref : | G34: Fournisseur : | J34: Ref : | M34: Fournisseur : | P34: Ref :
A35: Qté à commander : | D35: Stock min : | G35: Qté à commander : | J35: Stock min : | M35: Qté à commander : | P35: Stock min :
A36: Lieu de stockage : | G36: Lieu de stockage : | M36: Lieu de stockage :
A38: Fournisseur : | D38: Ref : | G38: Fournisseur : | J38: Ref : | M38: Fournisseur : | P38: Ref :
A39: Qté à commander : | D39: Stock min : | G39: Qté à commander : | J39: Stock min : | M39: Qté à commander : | P39: Stock min :
A40: Lieu de stockage : | G40: Lieu de stockage : | M40: Lieu de stockage :
A42: Fournisseur : | D42: Ref : | G42: Fournisseur : | J42: Ref : | M42: Fournisseur : | P42: Ref :
A43: Qté à commander : | D43: Stock min : | G43: Qté à commander : | J43: Stock min : | M43: Qté à commander : | P43: Stock min :
A44: Lieu de stockage : | G44: Lieu de stockage : | M44: Lieu de stockage :
A46: Fournisseur : | D46: Ref : | G46: Fournisseur : | J46: Ref : | M46: Fournisseur : | P46: Ref :
A47: Qté à commander : | D47: Stock min : | G47: Qté à commander : | J47: Stock min : | M47: Qté à commander : | P47: Stock min :
A48: Lieu de stockage : | G48: Lieu de stockage : | M48: Lieu de stockage :
A50: Fournisseur : | D50: Ref : | G50: Fournisseur : | J50: Ref : | M50: Fournisseur : | P50: Ref :
A51: Qté à commander : | D51: Stock min : | G51: Qté à commander : | J51: Stock min : | M51: Qté à commander : | P51: Stock min :
A52: Lieu de stockage : | G52: Lieu de stockage : | M52: Lieu de stockage :
A54: Fournisseur : | D54: Ref : | G54: Fournisseur : | J54: Ref : | M54: Fournisseur : | P54: Ref :
A55: Qté à commander : | D55: Stock min : | G55: Qté à commander : | J55: Stock min : | M55: Qté à commander : | P55: Stock min :
A56: Lieu de stockage : | G56: Lieu de stockage : | M56: Lieu de stockage :
A58: Fournisseur : | D58: Ref : | G58: Fournisseur : | J58: Ref : | M58: Fournisseur : | P58: Ref :
A59: Qté à commander : | D59: Stock min : | G59: Qté à commander : | J59: Stock min : | M59: Qté à commander : | P59: Stock min :
A60: Lieu de stockage : | G60: Lieu de stockage : | M60: Lieu de stockage :
A62: Fournisseur : | D62: Ref : | G62: Fournisseur : | J62: Ref : | M62: Fournisseur : | P62: Ref :
A63: Qté à commander : | D63: Stock min : | G63: Qté à commander : | J63: Stock min : | M63: Qté à commander : | P63: Stock min :
A64: Lieu de stockage : | G64: Lieu de stockage : | M64: Lieu de stockage :
A66: Fournisseur : | D66: Ref : | G66: Fournisseur : | J66: Ref : | M66: Fournisseur : | P66: Ref :
A67: Qté à commander : | D67: Stock min : | G67: Qté à commander : | J67: Stock min : | M67: Qté à commander : | P67: Stock min :
A68: Lieu de stockage : | G68: Lieu de stockage : | M68: Lieu de stockage :
A70: Fournisseur : | D70: Ref : | G70: Fournisseur : | J70: Ref : | M70: Fournisseur : | P70: Ref :
A71: Qté à commander : | D71: Stock min : | G71: Qté à commander : | J71: Stock min : | M71: Qté à commander : | P71: Stock min :
A72: Lieu de stockage : | G72: Lieu de stockage : | M72: Lieu de stockage :
A74: Fournisseur : | D74: Ref : | G74: Fournisseur : | J74: Ref : | M74: Fournisseur : | P74: Ref :
A75: Qté à commander : | D75: Stock min : | G75: Qté à commander : | J75: Stock min : | M75: Qté à commander : | P75: Stock min :
A76: Lieu de stockage : | G76: Lieu de stockage : | M76: Lieu de stockage :
A78: Fournisseur : | D78: Ref : | G78: Fournisseur : | J78: Ref : | M78: Fournisseur : | P78: Ref :
A79: Qté à commander : | D79: Stock min : | G79: Qté à commander : | J79: Stock min : | M79: Qté à commander : | P79: Stock min :
A80: Lieu de stockage : | G80: Lieu de stockage : | M80: Lieu de stockage :
A82: Fournisseur : | D82: Ref : | G82: Fournisseur : | J82: Ref : | M82: Fournisseur : | P82: Ref :
A83: Qté à commander : | D83: Stock min : | G83: Qté à commander : | J83: Stock min : | M83: Qté à commander : | P83: Stock min :
A84: Lieu de stockage : | G84: Lieu de stockage : | M84: Lieu de stockage :
A86: Fournisseur : | D86: Ref : | G86: Fournisseur : | J86: Ref : | M86: Fournisseur : | P86: Ref :
A87: Qté à commander : | D87: Stock min : | G87: Qté à commander : | J87: Stock min : | M87: Qté à commander : | P87: Stock min :
A88: Lieu de stockage : | G88: Lieu de stockage : | M88: Lieu de stockage :
A90: Fournisseur : | D90: Ref : | G90: Fournisseur : | J90: Ref : | M90: Fournisseur : | P90: Ref :
A91: Qté à commander : | D91: Stock min : | G91: Qté à commander : | J91: Stock min : | M91: Qté à commander : | P91: Stock min :
A92: Lieu de stockage : | G92: Lieu de stockage : | M92: Lieu de stockage :
A94: Fournisseur : | D94: Ref : | G94: Fournisseur : | J94: Ref : | M94: Fournisseur : | P94: Ref :
A95: Qté à commander : | D95: Stock min : | G95: Qté à commander : | J95: Stock min : | M95: Qté à commander : | P95: Stock min :
A96: Lieu de stockage : | G96: Lieu de stockage : | M96: Lieu de stockage :
A98: Fournisseur : | D98: Ref : | G98: Fournisseur : | J98: Ref : | M98: Fournisseur : | P98: Ref :
A99: Qté à commander : | D99: Stock min : | G99: Qté à commander : | J99: Stock min : | M99: Qté à commander : | P99: Stock min :
A100: Lieu de stockage : | G100: Lieu de stockage : | M100: Lieu de stockage :
A102: Fournisseur : | D102: Ref : | G102: Fournisseur : | J102: Ref : | M102: Fournisseur : | P102: Ref :
A103: Qté à commander : | D103: Stock min : | G103: Qté à commander : | J103: Stock min : | M103: Qté à commander : | P103: Stock min :
A104: Lieu de stockage : | G104: Lieu de stockage : | M104: Lieu de stockage :
A106: Fournisseur : | D106: Ref : | G106: Fournisseur : | J106: Ref : | M106: Fournisseur : | P106: Ref :
A107: Qté à commander : | D107: Stock min : | G107: Qté à commander : | J107: Stock min : | M107: Qté à commander : | P107: Stock min :
A108: Lieu de stockage : | G108: Lieu de stockage : | M108: Lieu de stockage :
A110: Fournisseur : | D110: Ref : | G110: Fournisseur : | J110: Ref : | M110: Fournisseur : | P110: Ref :
A111: Qté à commander : | D111: Stock min : | G111: Qté à commander : | J111: Stock min : | M111: Qté à commander : | P111: Stock min :
A112: Lieu de stockage : | G112: Lieu de stockage : | M112: Lieu de stockage :
A114: Fournisseur : | D114: Ref : | G114: Fournisseur : | J114: Ref : | M114: Fournisseur : | P114: Ref :
A115: Qté à commander : | D115: Stock min : | G115: Qté à commander : | J115: Stock min : | M115: Qté à commander : | P115: Stock min :
A116: Lieu de stockage : | G116: Lieu de stockage : | M116: Lieu de stockage :
A118: Fournisseur : | D118: Ref : | G118: Fournisseur : | J118: Ref : | M118: Fournisseur : | P118: Ref :
A119: Qté à commander : | D119: Stock min : | G119: Qté à commander : | J119: Stock min : | M119: Qté à commander : | P119: Stock min :
A120: Lieu de stockage : | G120: Lieu de stockage : | M120: Lieu de stockage :
A122: Fournisseur : | D122: Ref : | G122: Fournisseur : | J122: Ref : | M122: Fournisseur : | P122: Ref :
A123: Qté à commander : | D123: Stock min : | G123: Qté à commander : | J123: Stock min : | M123: Qté à commander : | P123: Stock min :
A124: Lieu de stockage : | G124: Lieu de stockage : | M124: Lieu de stockage :
A126: Fournisseur : | D126: Ref : | G126: Fournisseur : | J126: Ref : | M126: Fournisseur : | P126: Ref :
A127: Qté à commander : | D127: Stock min : | G127: Qté à commander : | J127: Stock min : | M127: Qté à commander : | P127: Stock min :
A128: Lieu de stockage : | G128: Lieu de stockage : | M128: Lieu de stockage :
A130: Fournisseur : | D130: Ref : | G130: Fournisseur : | J130: Ref : | M130: Fournisseur : | P130: Ref :
A131: Qté à commander : | D131: Stock min : | G131: Qté à commander : | J131: Stock min : | M131: Qté à commander : | P131: Stock min :
A132: Lieu de stockage : | G132: Lieu de stockage : | M132: Lieu de stockage :
A134: Fournisseur : | D134: Ref : | G134: Fournisseur : | J134: Ref : | M134: Fournisseur : | P134: Ref :
...
