Workbook

Sheet Planning_Annuel
A1: =INDEX(Configurations!$B$2:$B$8,MATCH(TEXT(WEEKDAY(A3),"jjjj"),Configurations!$A$2:$A$8,0)) -> 0 | B1: =INDEX(Configurations!$B$2:$B$8,MATCH(TEXT(WEEKDAY(B3),"jjjj"),Configurations!$A$2:$A$8,0)) -> 0 | C1: =INDEX(Configurations!$B$2:$B$8,MATCH(TEXT(WEEKDAY(C3),"jjjj"),Configurations!$A$2:$A$8,0)) -> 1 | D1: =INDEX(Configurations!$B$2:$B$8,MATCH(TEXT(WEEKDAY(D3),"jjjj"),Configurations!$A$2:$A$8,0)) -> 1 | E1: =INDEX(Configurations!$B$2:$B$8,MATCH(TEXT(WEEKDAY(E3),"jjjj"),Configurations!$A$2:$A$8,0)) -> 0 | F1: =INDEX(Configurations!$B$2:$B$8,MATCH(TEXT(WEEKDAY(F3),"jjjj"),Configurations!$A$2:$A$8,0)) -> 0 | G1: =INDEX(Configurations!$B$2:$B$8,MATCH(TEXT(WEEKDAY(G3),"jjjj"),Configurations!$A$2:$A$8,0)) -> 0 | H1: =INDEX(Configurations!$B$2:$B$8,MATCH(TEXT(WEEKDAY(H3),"jjjj"),Configurations!$A$2:$A$8,0)) -> 0 | I1: =INDEX(Configurations!$B$2:$B$8,MATCH(TEXT(WEEKDAY(I3),"jjjj"),Configurations!$A$2:$A$8,0)) -> 0
A2: =UPPER(LEFT(TEXT(A3,"jjjj"))) -> J | B2: =UPPER(LEFT(TEXT(B3,"jjjj"))) -> V | C2: =UPPER(LEFT(TEXT(C3,"jjjj"))) -> S | D2: =UPPER(LEFT(TEXT(D3,"jjjj"))) -> D | E2: =UPPER(LEFT(TEXT(E3,"jjjj"))) -> L | F2: =UPPER(LEFT(TEXT(F3,"jjjj"))) -> M | G2: =UPPER(LEFT(TEXT(G3,"jjjj"))) -> M | H2: =UPPER(LEFT(TEXT(H3,"jjjj"))) -> J | I2: =UPPER(LEFT(TEXT(I3,"jjjj"))) -> V
A3: =L7 -> 41039 | B3: =A3+1 -> 41040 | C3: =B3+1 -> 41041 | D3: =C3+1 -> 41042 | E3: =D3+1 -> 41043 | F3: =E3+1 -> 41044 | G3: =F3+1 -> 41045 | H3: =G3+1 -> 41046 | I3: =H3+1 -> 41047
K7: Date 1 | L7: 41039 | M7: =L7 -> 41039

Sheet Configurations
B1: Valide | C1: OK
A2: Lundi | B2: 0 | C2: =IF(B2,A2,"")
A3: Mardi | B3: 0 | C3: =IF(B3,A3,"")
A4: Mercredi | B4: 0 | C4: =IF(B4,A4,"")
A5: Jeudi | B5: 0 | C5: =IF(B5,A5,"")
A6: Vendredi | B6: 0 | C6: =IF(B6,A6,"")
A7: samedi | B7: 1 | C7: =IF(B7,A7,"") -> samedi
A8: dimanche | B8: 1 | C8: =IF(B8,A8,"") -> dimanche
