Workbook
Name Année: 'lecture 6 (2)'!$B$2
Name CCinq: 'lecture 6 (2)'!#REF!
Name Cent: 'lecture 6 (2)'!#REF!
Name Cinquante: 'lecture 6 (2)'!#REF!
Name ColAge: 'lecture 6 (2)'!$G$3
Name ColAnt: 'lecture 6 (2)'!$K$1
Name ColAntLettre: 'lecture 6 (2)'!$L$1
Name ColDeux: 'lecture 6 (2)'!$L$3
Name ColNiveau: 'lecture 6 (2)'!$G$1
Name ColPost: 'lecture 6 (2)'!$L$5
Name ColProf: 'lecture 6 (2)'!$G$4
Name ColSexe: 'lecture 6 (2)'!$G$2
Name ColTrois: 'lecture 6 (2)'!$L$4
Name ColUn: 'lecture 6 (2)'!$L$2
Name Défav: 'lecture 6 (2)'!$B$4
Name Matiere: 'lecture 6 (2)'!$B$1
Name Matière: 'lecture 6 (2)'!$B$1
Name Niveau: 'lecture 6 (2)'!$B$3
Name QV: 'lecture 6 (2)'!#REF!
Name QVCinq: 'lecture 6 (2)'!#REF!
Name QVDix: 'lecture 6 (2)'!#REF!
Name QVQuinze: 'lecture 6 (2)'!#REF!
Name S: 'lecture 6 (2)'!#REF!
Name SCinq: 'lecture 6 (2)'!#REF!
Name SDix: 'lecture 6 (2)'!#REF!
Name SQuinze: 'lecture 6 (2)'!#REF!
Name TotEle: 'lecture 6 (2)'!$B$5
Name Un: 'lecture 6 (2)'!#REF!

Sheet lecture 6 (2)
A1: Matière | B1: LIRE | I1: =Année-1 -> 2013 | J1: 3 | K1: =MATCH("AN_"&I1&"_ET_"&J1&"_"&Matière&"",INDIRECT("'NTP-"& Année & "'!1:1"),0) -> 34 | L1: =VLOOKUP(K1,References!B5:C82,2,FALSE) -> AH
A2: Année: | B2: 2014 | I2: =Année -1 -> 2013 | J2: 3 | K2: =MATCH("AN_"&I2&"_ET_"&J2&"_"&Matière&"",INDIRECT("'NTP-"& Année & "'!1:1"),0) -> 34 | L2: =VLOOKUP(K2,References!B5:C82,2,FALSE) -> AH | M2: Fixe
A3: Niveau: | B3: 6 | I3: =Année -> 2014 | J3: 3 | K3: =MATCH("AN_"&I3&"_ET_"&J3&"_"&Matière&"",INDIRECT("'NTP-"& Année & "'!1:1"),0) -> 50 | L3: =VLOOKUP(K3,References!B5:C82,2,FALSE) -> AX | M3: Comparaison
A4: Niv défav | I4: =Année -> 2014 | J4: 1 | K4: =MATCH("AN_"&I4&"_ET_"&J4&"_"&Matière&"",INDIRECT("'NTP-"& Année & "'!1:1"),0) -> 42 | L4: =VLOOKUP(K4,References!B5:C82,2,FALSE) -> AP | M4: Autre étape
A5: Élev. Tot: | B5: =COUNTA(#REF!) -> 1 | I5: =Année + 1 -> 2015 | J5: 1 | K5: =MATCH("AN_"&I5&"_ET_"&J5&"_"&Matière&"",INDIRECT("'NTP-"& Année & "'!1:1"),0) -> 60 | L5: =VLOOKUP(K5,References!B5:C82,2,FALSE) -> BH

Sheet NTP-2014
A1: ANNEE | B1: COD_ECOLE | C1: COD_GROUPE_REPERE | D1: INTERVENANT | E1: COD_PERMANENT | F1: IND_DOUBLEUR | G1: DAT_NAISSANCE_ELEVE | H1: NOM_ELEVE | I1: PRENOM_ELEVE | J1: COD_SEXE_ELEVE | K1: AN_2012_ET_1_ECRIRE | L1: AN_2012_ET_1_LIRE | M1: AN_2012_ET_1_RAISONNER | N1: AN_2012_ET_2_ECRIRE | O1: AN_2012_ET_2_LIRE | P1: AN_2012_ET_2_RAISONNER | Q1: AN_2012_ET_3_ECRIRE | R1: AN_2012_ET_3_LIRE | S1: AN_2012_ET_3_RESOUDRE | T1: AN_2012_ET_3_RAISONNER | U1: AN_2012_ET_EX_ECRIRE | V1: AN_2012_ET_EX_LIRE | W1: AN_2012_ET_EX_RESOUDRE | X1: AN_2012_ET_EX_RAISONNER | Y1: AN_2013_ET_1_ECRIRE | Z1: AN_2013_ET_1_LIRE | AA1: AN_2013_ET_1_RESOUDRE | AB1: AN_2013_ET_1_RAISONNER | AC1: AN_2013_ET_2_ECRIRE | AD1: AN_2013_ET_2_LIRE | AE1: AN_2013_ET_2_RESOUDRE | AF1: AN_2013_ET_2_RAISONNER | AG1: AN_2013_ET_3_ECRIRE | AH1: AN_2013_ET_3_LIRE | AI1: AN_2013_ET_3_RESOUDRE | AJ1: AN_2013_ET_3_RAISONNER | AK1: AN_2013_ET_EX_ECRIRE | AL1: AN_2013_ET_EX_LIRE | AM1: AN_2013_ET_EX_RESOUDRE | AN1: AN_2013_ET_EX_RAISONNER | AO1: AN_2014_ET_1_ECRIRE | AP1: AN_2014_ET_1_LIRE | AQ1: AN_2014_ET_1_RESOUDRE | AR1: AN_2014_ET_1_RAISONNER | AS1: AN_2014_ET_2_ECRIRE | AT1: AN_2014_ET_2_LIRE | AU1: AN_2014_ET_2_RESOUDRE | AV1: AN_2014_ET_2_RAISONNER | AW1: AN_2014_ET_3_ECRIRE | AX1: AN_2014_ET_3_LIRE | AY1: AN_2014_ET_3_RESOUDRE | AZ1: AN_2014_ET_3_RAISONNER | BA1: AN_2014_ET_EX_ECRIRE | BB1: AN_2014_ET_EX_LIRE | BC1: AN_2014_ET_EX_RESOUDRE | BD1: AN_2014_ET_EX_RAISONNER | BE1: INTERVENANT_2013 | BF1: INTERVENANT_2015 | BG1: AN_2015_ET_1_ECRIRE | BH1: AN_2015_ET_1_LIRE | BI1: AN_2015_ET_1_RESOUDRE | BJ1: AN_2015_ET_1_RAISONNER | BK1: AN_2015_ET_2_ECRIRE | BL1: AN_2015_ET_2_LIRE | BM1: AN_2015_ET_2_RESOUDRE | BN1: AN_2015_ET_2_RAISONNER | BO1: AN_2015_ET_3_ECRIRE | BP1: AN_2015_ET_3_LIRE | BQ1: AN_2015_ET_3_RESOUDRE | BR1: AN_2015_ET_3_RAISONNER | BS1: AN_2015_ET_EX_ECRIRE | BT1: AN_2015_ET_EX_LIRE | BU1: AN_2015_ET_EX_RESOUDRE | BV1: AN_2015_ET_EX_RAISONNER
AH2: =COUNTIFS(#REF!,"<>0",#REF!,"<=45") -> #REF! | AP2: =COUNTIF(#REF!,"=0") -> #REF!
AP3: =24312-AP2 -> #REF!
AP4: =AP3/24311 -> #REF! | CA4: =COUNTIF(#REF!,6) -> #REF!

Sheet References
B5: 1 | C5: A
B6: 2 | C6: B
B7: 3 | C7: C
B8: 4 | C8: D
B9: 5 | C9: E
B10: 6 | C10: F
B11: 7 | C11: G
B12: 8 | C12: H
B13: 9 | C13: I
B14: 10 | C14: J
B15: 11 | C15: K
B16: 12 | C16: L
... B82: 78 | C82: BZ
