Workbook

Sheet TABLEAU
B1: 42767 | C1: 42768 | D1: 42769 | E1: 42770 | F1: 42771 | G1: 42772 | H1: 42773 | I1: 42774 | J1: 42775 | K1: 42776 | L1: 42777 | M1: 42778 | N1: 42779 | O1: 42780 | P1: 42781 | Q1: 42782
A3: R | B3: =SUMPRODUCT((BASE!$A1:$A2000=B$1)*(BASE!$K1:$K2000=$A3)*(BASE!$L1:$L2000)) -> 0 | C3: =SUMPRODUCT((BASE!$A1:$A2000=C$1)*(BASE!$K1:$K2000=$A3)*(BASE!$L1:$L2000)) -> 0 | D3: =SUMPRODUCT((BASE!$A1:$A2000=D$1)*(BASE!$K1:$K2000=$A3)*(BASE!$L1:$L2000)) -> 0 | E3: =SUMPRODUCT((BASE!$A1:$A2000=E$1)*(BASE!$K1:$K2000=$A3)*(BASE!$L1:$L2000)) -> 262 | F3: =SUMPRODUCT((BASE!$A1:$A2000=F$1)*(BASE!$K1:$K2000=$A3)*(BASE!$L1:$L2000)) -> 403 | G3: =SUMPRODUCT((BASE!$A1:$A2000=G$1)*(BASE!$K1:$K2000=$A3)*(BASE!$L1:$L2000)) -> 227 | H3: =SUMPRODUCT((BASE!$A1:$A2000=H$1)*(BASE!$K1:$K2000=$A3)*(BASE!$L1:$L2000)) -> 540 | I3: =SUMPRODUCT((BASE!$A1:$A2000=I$1)*(BASE!$K1:$K2000=$A3)*(BASE!$L1:$L2000)) -> 267 | ... Q3: =SUMPRODUCT((BASE!$A1:$A2000=Q$1)*(BASE!$K1:$K2000=$A3)*(BASE!$L1:$L2000)) -> 0
A4: E | B4: =SUMPRODUCT((BASE!$A1:$A2000=B$1)*(BASE!$H1:$H2000=$A4)*(BASE!$I1:$I2000)) -> 0 | C4: =SUMPRODUCT((BASE!$A1:$A2000=C$1)*(BASE!$H1:$H2000=$A4)*(BASE!$I1:$I2000)) -> 0 | D4: =SUMPRODUCT((BASE!$A1:$A2000=D$1)*(BASE!$H1:$H2000=$A4)*(BASE!$I1:$I2000)) -> 0 | E4: =SUMPRODUCT((BASE!$A1:$A2000=E$1)*(BASE!$H1:$H2000=$A4)*(BASE!$I1:$I2000)) -> 134 | F4: =SUMPRODUCT((BASE!$A1:$A2000=F$1)*(BASE!$H1:$H2000=$A4)*(BASE!$I1:$I2000)) -> 195 | G4: =SUMPRODUCT((BASE!$A1:$A2000=G$1)*(BASE!$H1:$H2000=$A4)*(BASE!$I1:$I2000)) -> 194 | H4: =SUMPRODUCT((BASE!$A1:$A2000=H$1)*(BASE!$H1:$H2000=$A4)*(BASE!$I1:$I2000)) -> 234 | I4: =SUMPRODUCT((BASE!$A1:$A2000=I$1)*(BASE!$H1:$H2000=$A4)*(BASE!$I1:$I2000)) -> 142 | ... Q4: =SUMPRODUCT((BASE!$A1:$A2000=Q$1)*(BASE!$H1:$H2000=$A4)*(BASE!$I1:$I2000)) -> 0
A5: Y | B5: =SUMPRODUCT((BASE!$A1:$A2000=B$1)*(BASE!$B1:$B2000=$A5)*(BASE!$C1:$C2000)) -> 0 | C5: =SUMPRODUCT((BASE!$A1:$A2000=C$1)*(BASE!$B1:$B2000=$A5)*(BASE!$C1:$C2000)) -> 0 | D5: =SUMPRODUCT((BASE!$A1:$A2000=D$1)*(BASE!$B1:$B2000=$A5)*(BASE!$C1:$C2000)) -> 0 | E5: =SUMPRODUCT((BASE!$A1:$A2000=E$1)*(BASE!$B1:$B2000=$A5)*(BASE!$C1:$C2000)) -> 120 | F5: =SUMPRODUCT((BASE!$A1:$A2000=F$1)*(BASE!$B1:$B2000=$A5)*(BASE!$C1:$C2000)) -> 147 | G5: =SUMPRODUCT((BASE!$A1:$A2000=G$1)*(BASE!$B1:$B2000=$A5)*(BASE!$C1:$C2000)) -> 170 | H5: =SUMPRODUCT((BASE!$A1:$A2000=H$1)*(BASE!$B1:$B2000=$A5)*(BASE!$C1:$C2000)) -> 313 | I5: =SUMPRODUCT((BASE!$A1:$A2000=I$1)*(BASE!$B1:$B2000=$A5)*(BASE!$C1:$C2000)) -> 142 | ... Q5: =SUMPRODUCT((BASE!$A1:$A2000=Q$1)*(BASE!$B1:$B2000=$A5)*(BASE!$C1:$C2000)) -> 0
A6: Z | B6: =SUMPRODUCT((BASE!$A1:$A2000=B$1)*(BASE!$E1:$E2000=$A6)*(BASE!$F1:$F2000)) -> 0 | C6: =SUMPRODUCT((BASE!$A1:$A2000=C$1)*(BASE!$E1:$E2000=$A6)*(BASE!$F1:$F2000)) -> 0 | D6: =SUMPRODUCT((BASE!$A1:$A2000=D$1)*(BASE!$E1:$E2000=$A6)*(BASE!$F1:$F2000)) -> 0 | E6: =SUMPRODUCT((BASE!$A1:$A2000=E$1)*(BASE!$E1:$E2000=$A6)*(BASE!$F1:$F2000)) -> 51 | F6: =SUMPRODUCT((BASE!$A1:$A2000=F$1)*(BASE!$E1:$E2000=$A6)*(BASE!$F1:$F2000)) -> 36 | G6: =SUMPRODUCT((BASE!$A1:$A2000=G$1)*(BASE!$E1:$E2000=$A6)*(BASE!$F1:$F2000)) -> 60 | H6: =SUMPRODUCT((BASE!$A1:$A2000=H$1)*(BASE!$E1:$E2000=$A6)*(BASE!$F1:$F2000)) -> 103 | I6: =SUMPRODUCT((BASE!$A1:$A2000=I$1)*(BASE!$E1:$E2000=$A6)*(BASE!$F1:$F2000)) -> 49 | ... Q6: =SUMPRODUCT((BASE!$A1:$A2000=Q$1)*(BASE!$E1:$E2000=$A6)*(BASE!$F1:$F2000)) -> 0
A8: TOTAL LIV | E8: =SUM(E3:E7) -> 567
A10: R | B10: =SUMPRODUCT((BASE!$A1:$A2000=B$1)*(BASE!$K1:$K2000=$A10)*(BASE!$M1:$M2000)) -> 0 | C10: =SUMPRODUCT((BASE!$A1:$A2000=C$1)*(BASE!$K1:$K2000=$A10)*(BASE!$M1:$M2000)) -> 0 | D10: =SUMPRODUCT((BASE!$A1:$A2000=D$1)*(BASE!$K1:$K2000=$A10)*(BASE!$M1:$M2000)) -> 0 | E10: =SUMPRODUCT((BASE!$A1:$A2000=E$1)*(BASE!$K1:$K2000=$A10)*(BASE!$M1:$M2000)) -> 654 | F10: =SUMPRODUCT((BASE!$A1:$A2000=F$1)*(BASE!$K1:$K2000=$A10)*(BASE!$M1:$M2000)) -> 1059 | G10: =SUMPRODUCT((BASE!$A1:$A2000=G$1)*(BASE!$K1:$K2000=$A10)*(BASE!$M1:$M2000)) -> 527 | H10: =SUMPRODUCT((BASE!$A1:$A2000=H$1)*(BASE!$K1:$K2000=$A10)*(BASE!$M1:$M2000)) -> 1505 | I10: =SUMPRODUCT((BASE!$A1:$A2000=I$1)*(BASE!$K1:$K2000=$A10)*(BASE!$M1:$M2000)) -> 620 | ... Q10: =SUMPRODUCT((BASE!$A1:$A2000=Q$1)*(BASE!$K1:$K2000=$A10)*(BASE!$M1:$M2000)) -> 0
A11: E | B11: =SUMPRODUCT((BASE!$A1:$A2000=B$1)*(BASE!$H1:$H2000=$A11)*(BASE!$J1:$J2000)) -> 0 | C11: =SUMPRODUCT((BASE!$A1:$A2000=C$1)*(BASE!$H1:$H2000=$A11)*(BASE!$J1:$J2000)) -> 0 | D11: =SUMPRODUCT((BASE!$A1:$A2000=D$1)*(BASE!$H1:$H2000=$A11)*(BASE!$J1:$J2000)) -> 0 | E11: =SUMPRODUCT((BASE!$A1:$A2000=E$1)*(BASE!$H1:$H2000=$A11)*(BASE!$J1:$J2000)) -> 174 | F11: =SUMPRODUCT((BASE!$A1:$A2000=F$1)*(BASE!$H1:$H2000=$A11)*(BASE!$J1:$J2000)) -> 247 | G11: =SUMPRODUCT((BASE!$A1:$A2000=G$1)*(BASE!$H1:$H2000=$A11)*(BASE!$J1:$J2000)) -> 249 | H11: =SUMPRODUCT((BASE!$A1:$A2000=H$1)*(BASE!$H1:$H2000=$A11)*(BASE!$J1:$J2000)) -> 301 | I11: =SUMPRODUCT((BASE!$A1:$A2000=I$1)*(BASE!$H1:$H2000=$A11)*(BASE!$J1:$J2000)) -> 201 | ... Q11: =SUMPRODUCT((BASE!$A1:$A2000=Q$1)*(BASE!$H1:$H2000=$A11)*(BASE!$J1:$J2000)) -> 0
A12: Y | B12: =SUMPRODUCT((BASE!$A1:$A2000=B$1)*(BASE!$B1:$B2000=$A12)*(BASE!$D1:$D2000)) -> 0 | C12: =SUMPRODUCT((BASE!$A1:$A2000=C$1)*(BASE!$B1:$B2000=$A12)*(BASE!$D1:$D2000)) -> 0 | D12: =SUMPRODUCT((BASE!$A1:$A2000=D$1)*(BASE!$B1:$B2000=$A12)*(BASE!$D1:$D2000)) -> 0 | E12: =SUMPRODUCT((BASE!$A1:$A2000=E$1)*(BASE!$B1:$B2000=$A12)*(BASE!$D1:$D2000)) -> 206 | F12: =SUMPRODUCT((BASE!$A1:$A2000=F$1)*(BASE!$B1:$B2000=$A12)*(BASE!$D1:$D2000)) -> 240 | G12: =SUMPRODUCT((BASE!$A1:$A2000=G$1)*(BASE!$B1:$B2000=$A12)*(BASE!$D1:$D2000)) -> 302 | H12: =SUMPRODUCT((BASE!$A1:$A2000=H$1)*(BASE!$B1:$B2000=$A12)*(BASE!$D1:$D2000)) -> 520 | I12: =SUMPRODUCT((BASE!$A1:$A2000=I$1)*(BASE!$B1:$B2000=$A12)*(BASE!$D1:$D2000)) -> 204 | ... Q12: =SUMPRODUCT((BASE!$A1:$A2000=Q$1)*(BASE!$B1:$B2000=$A12)*(BASE!$D1:$D2000)) -> 0
A13: Z | B13: =SUMPRODUCT((BASE!$A1:$A2000=B$1)*(BASE!$E1:$E2000=$A13)*(BASE!$G1:$G2000)) -> 0 | C13: =SUMPRODUCT((BASE!$A1:$A2000=C$1)*(BASE!$E1:$E2000=$A13)*(BASE!$G1:$G2000)) -> 0 | D13: =SUMPRODUCT((BASE!$A1:$A2000=D$1)*(BASE!$E1:$E2000=$A13)*(BASE!$G1:$G2000)) -> 0 | E13: =SUMPRODUCT((BASE!$A1:$A2000=E$1)*(BASE!$E1:$E2000=$A13)*(BASE!$G1:$G2000)) -> 74 | F13: =SUMPRODUCT((BASE!$A1:$A2000=F$1)*(BASE!$E1:$E2000=$A13)*(BASE!$G1:$G2000)) -> 53 | G13: =SUMPRODUCT((BASE!$A1:$A2000=G$1)*(BASE!$E1:$E2000=$A13)*(BASE!$G1:$G2000)) -> 86 | H13: =SUMPRODUCT((BASE!$A1:$A2000=H$1)*(BASE!$E1:$E2000=$A13)*(BASE!$G1:$G2000)) -> 147 | I13: =SUMPRODUCT((BASE!$A1:$A2000=I$1)*(BASE!$E1:$E2000=$A13)*(BASE!$G1:$G2000)) -> 63 | ... Q13: =SUMPRODUCT((BASE!$A1:$A2000=Q$1)*(BASE!$E1:$E2000=$A13)*(BASE!$G1:$G2000)) -> 0
A15: TOTAL ARTICLE | E15: =SUM(E10:E14) -> 1108

Sheet BASE
A1: 42767
A2: 42767
A3: 42768
A4: 42768
A5: 42769
A6: 42769
A7: 42770 | B7: Y | C7: 79 | D7: 138 | E7: Z | F7: 28 | G7: 32 | H7: E | I7: 88 | J7: 110 | K7: R | L7: 185 | M7: 462
A8: 42770 | B8: Y | C8: 41 | D8: 68 | E8: Z | F8: 23 | G8: 42 | H8: E | I8: 46 | J8: 64 | K8: R | L8: 77 | M8: 192
A9: 42771 | B9: Y | C9: 128 | D9: 210 | E9: Z | F9: 35 | G9: 52 | H9: E | I9: 138 | J9: 173 | K9: R | L9: 292 | M9: 722
A10: 42771 | B10: Y | C10: 19 | D10: 30 | E10: Z | F10: 1 | G10: 1 | H10: E | I10: 57 | J10: 74 | K10: R | L10: 111 | M10: 337
A11: 42772 | B11: Y | C11: 79 | D11: 118 | E11: Z | F11: 34 | G11: 52 | H11: E | I11: 83 | J11: 104 | K11: R | L11: 89 | M11: 169
A12: 42772 | B12: Y | C12: 91 | D12: 184 | E12: Z | F12: 26 | G12: 34 | H12: E | I12: 111 | J12: 145 | K12: R | L12: 138 | M12: 358
A13: 42773 | B13: Y | C13: 217 | D13: 364 | E13: Z | F13: 73 | G13: 104 | H13: E | I13: 164 | J13: 208 | K13: R | L13: 415 | M13: 1189
A14: 42773 | B14: Y | C14: 96 | D14: 156 | E14: Z | F14: 30 | G14: 43 | H14: E | I14: 70 | J14: 93 | K14: R | L14: 125 | M14: 316
A15: 42774 | B15: Y | C15: 96 | D15: 135 | E15: Z | F15: 31 | G15: 42 | H15: E | I15: 107 | J15: 148 | K15: R | L15: 179 | M15: 432
A16: 42774 | B16: Y | C16: 46 | D16: 69 | E16: Z | F16: 18 | G16: 21 | H16: E | I16: 35 | J16: 53 | K16: R | L16: 88 | M16: 188
A17: 42775 | B17: Y | C17: 107 | D17: 197 | E17: Z | F17: 39 | G17: 53 | H17: E | I17: 166 | J17: 225 | K17: R | L17: 322 | M17: 841
A18: 42775 | B18: Y | C18: 61 | D18: 100 | E18: Z | F18: 11 | G18: 14 | H18: E | I18: 78 | J18: 101 | K18: R | L18: 81 | M18: 185
A19: 42776
A20: 42776
A21: 42777
A22: 42777
A23: 42778
A24: 42778
A25: 42779
A26: 42779
A27: 42780
A28: 42780
A29: 42781
A30: 42781
... A512: 43022
