Workbook

Sheet Feuil1
A1: semaine | B1: 1 | I1: 2
A2: Jours | B2: L | C2: Ma | D2: Me | E2: J | F2: V | G2: S | H2: D | I2: L | J2: Ma | K2: Me | L2: J | M2: V | N2: S | O2: D
A3: Date | B3: 40909 | C3: 40910 | D3: 40911 | E3: 40912 | F3: 40913 | G3: 40914 | H3: 40915 | I3: 40916 | J3: 40917 | K3: 40918 | L3: 40919 | M3: 40920 | N3: 40921 | O3: 40922
A4: Groupe A | B4: Formateur 1 | D4: Formateur 1
A5: Groupe B | C5: Formateur 1 | D5: Formateur 1 | J5: Formateur 2
A6: Groupe C | B6: Formateur 2 | C6: formateur 2
A7: Groupe D | B7: Formateur 3 | I7: Formateur 3
C10: Synthèse :
A11: Résultat recherché : | C11: Groupe A - 1er janvier 2012 - 3 janvier 2012
C12: Groupe B - 2 janvier 2012 - 3 janvier 2012 - 9 janvier 2012
C13: etc.

Sheet Feuil2
A1: semaine | B1: 1 | I1: 2
A2: Jours | B2: L | C2: Ma | D2: Me | E2: J | F2: V | G2: S | H2: D | I2: L | J2: Ma | K2: Me | L2: J | M2: V | N2: S | O2: D
A3: Date | B3: 40909 | C3: 40910 | D3: 40911 | E3: 40912 | F3: 40913 | G3: 40914 | H3: 40915 | I3: 40916 | J3: 40917 | K3: 40918 | L3: 40919 | M3: 40920 | N3: 40921 | O3: 40922
A4: Groupe A | B4: =IF(Feuil1!B4<>""," - "& TEXT(B$3,"j mmmm aaaa"),"") -> - 1 janvier 2012 | C4: =IF(Feuil1!C4<>""," - "& TEXT(C$3,"j mmmm aaaa"),"") | D4: =IF(Feuil1!D4<>""," - "& TEXT(D$3,"j mmmm aaaa"),"") -> - 3 janvier 2012 | E4: =IF(Feuil1!E4<>""," - "& TEXT(E$3,"j mmmm aaaa"),"") | F4: =IF(Feuil1!F4<>""," - "& TEXT(F$3,"j mmmm aaaa"),"") | G4: =IF(Feuil1!G4<>""," - "& TEXT(G$3,"j mmmm aaaa"),"") | H4: =IF(Feuil1!H4<>""," - "& TEXT(H$3,"j mmmm aaaa"),"") | I4: =IF(Feuil1!I4<>""," - "& TEXT(I$3,"j mmmm aaaa"),"") | ... N4: =IF(Feuil1!N4<>""," - "& TEXT(N$3,"j mmmm aaaa"),"") | O4: =IF(Feuil1!O4<>""," - "& TEXT(#REF!,"j mmmm aaaa"),"")
A5: Groupe B | B5: =IF(Feuil1!B5<>""," - "& TEXT(B$3,"j mmmm aaaa"),"") | C5: =IF(Feuil1!C5<>""," - "& TEXT(C$3,"j mmmm aaaa"),"") -> - 2 janvier 2012 | D5: =IF(Feuil1!D5<>""," - "& TEXT(D$3,"j mmmm aaaa"),"") -> - 3 janvier 2012 | E5: =IF(Feuil1!E5<>""," - "& TEXT(E$3,"j mmmm aaaa"),"") | F5: =IF(Feuil1!F5<>""," - "& TEXT(F$3,"j mmmm aaaa"),"") | G5: =IF(Feuil1!G5<>""," - "& TEXT(G$3,"j mmmm aaaa"),"") | H5: =IF(Feuil1!H5<>""," - "& TEXT(H$3,"j mmmm aaaa"),"") | I5: =IF(Feuil1!I5<>""," - "& TEXT(I$3,"j mmmm aaaa"),"") | ... N5: =IF(Feuil1!N5<>""," - "& TEXT(N$3,"j mmmm aaaa"),"") | O5: =IF(Feuil1!O5<>""," - "& TEXT(#REF!,"j mmmm aaaa"),"")
A6: Groupe C | B6: =IF(Feuil1!B6<>""," - "& TEXT(B$3,"j mmmm aaaa"),"") -> - 1 janvier 2012 | C6: =IF(Feuil1!C6<>""," - "& TEXT(C$3,"j mmmm aaaa"),"") -> - 2 janvier 2012 | D6: =IF(Feuil1!D6<>""," - "& TEXT(D$3,"j mmmm aaaa"),"") | E6: =IF(Feuil1!E6<>""," - "& TEXT(E$3,"j mmmm aaaa"),"") | F6: =IF(Feuil1!F6<>""," - "& TEXT(F$3,"j mmmm aaaa"),"") | G6: =IF(Feuil1!G6<>""," - "& TEXT(G$3,"j mmmm aaaa"),"") | H6: =IF(Feuil1!H6<>""," - "& TEXT(H$3,"j mmmm aaaa"),"") | I6: =IF(Feuil1!I6<>""," - "& TEXT(I$3,"j mmmm aaaa"),"") | ... N6: =IF(Feuil1!N6<>""," - "& TEXT(N$3,"j mmmm aaaa"),"") | O6: =IF(Feuil1!O6<>""," - "& TEXT(#REF!,"j mmmm aaaa"),"")
A7: Groupe D | B7: =IF(Feuil1!B7<>""," - "& TEXT(B$3,"j mmmm aaaa"),"") -> - 1 janvier 2012 | C7: =IF(Feuil1!C7<>""," - "& TEXT(C$3,"j mmmm aaaa"),"") | D7: =IF(Feuil1!D7<>""," - "& TEXT(D$3,"j mmmm aaaa"),"") | E7: =IF(Feuil1!E7<>""," - "& TEXT(E$3,"j mmmm aaaa"),"") | F7: =IF(Feuil1!F7<>""," - "& TEXT(F$3,"j mmmm aaaa"),"") | G7: =IF(Feuil1!G7<>""," - "& TEXT(G$3,"j mmmm aaaa"),"") | H7: =IF(Feuil1!H7<>""," - "& TEXT(H$3,"j mmmm aaaa"),"") | I7: =IF(Feuil1!I7<>""," - "& TEXT(I$3,"j mmmm aaaa"),"") -> - 8 janvier 2012 | ... N7: =IF(Feuil1!N7<>""," - "& TEXT(N$3,"j mmmm aaaa"),"") | O7: =IF(Feuil1!O7<>""," - "& TEXT(#REF!,"j mmmm aaaa"),"")
A10: =A4&B4&C4&D4&E4&F4&G4&H4&I4&J4&K4&L4&M4&N4&O4 -> Groupe A - 1 janvier 2012 - 3 janvier 2012
A11: =A5&B5&C5&D5&E5&F5&G5&H5&I5&J5&K5&L5&M5&N5&O5 -> Groupe B - 2 janvier 2012 - 3 janvier 2012 - 9 janvier 2012
A12: =A6&B6&C6&D6&E6&F6&G6&H6&I6&J6&K6&L6&M6&N6&O6 -> Groupe C - 1 janvier 2012 - 2 janvier 2012
A13: =A7&B7&C7&D7&E7&F7&G7&H7&I7&J7&K7&L7&M7&N7&O7 -> Groupe D - 1 janvier 2012 - 8 janvier 2012
