Workbook

Sheet Feuil1
A2: Base de données de référence
A4: N° gestion | B4: Nom | C4: Prénom
A5: A001 | B5: Nom01 | C5: Prénom 01
A6: A002 | B6: Nom02 | C6: Prénom 02
A7: A003 | B7: Nom03 | C7: Prénom 03
A8: A004 | B8: Nom04 | C8: Prénom 04
A9: A005 | B9: Nom05 | C9: Prénom 05
A10: A006 | B10: Nom06 | C10: Prénom 06
A11: A007 | B11: Nom07 | C11: Prénom 07
A12: A008 | B12: Nom08 | C12: Prénom 08
A13: A009 | B13: Nom09 | C13: Prénom 09
A14: A010 | B14: Nom10 | C14: Prénom 10

Sheet Feuil2
A2: Feuille de travail
A4: N° gestion | B4: Nom | C4: Prénom
A5: A001 | B5: =IFERROR(LOOKUP(A5,Feuil1!A5:A14,Feuil1!B5:B14),"") -> Nom01 | C5: =IFERROR(LOOKUP(B5,Feuil1!B5:B14,Feuil1!C5:C14),"") -> Prénom 01
A6: A003 | B6: =IFERROR(LOOKUP(A6,Feuil1!A6:A15,Feuil1!B6:B15),"") -> Nom03 | C6: =IFERROR(LOOKUP(B6,Feuil1!B6:B15,Feuil1!C6:C15),"") -> Prénom 03
B7: =IFERROR(LOOKUP(A7,Feuil1!A7:A16,Feuil1!B7:B16),"") | C7: =IFERROR(LOOKUP(B7,Feuil1!B7:B16,Feuil1!C7:C16),"")
B8: =IFERROR(LOOKUP(A8,Feuil1!A8:A17,Feuil1!B8:B17),"") | C8: =IFERROR(LOOKUP(B8,Feuil1!B8:B17,Feuil1!C8:C17),"")
B9: =IFERROR(LOOKUP(A9,Feuil1!A9:A18,Feuil1!B9:B18),"") | C9: =IFERROR(LOOKUP(B9,Feuil1!B9:B18,Feuil1!C9:C18),"")
B10: =IFERROR(LOOKUP(A10,Feuil1!A10:A19,Feuil1!B10:B19),"") | C10: =IFERROR(LOOKUP(B10,Feuil1!B10:B19,Feuil1!C10:C19),"")
B11: =IFERROR(LOOKUP(A11,Feuil1!A11:A20,Feuil1!B11:B20),"") | C11: =IFERROR(LOOKUP(B11,Feuil1!B11:B20,Feuil1!C11:C20),"")
B12: =IFERROR(LOOKUP(A12,Feuil1!A12:A21,Feuil1!B12:B21),"") | C12: =IFERROR(LOOKUP(B12,Feuil1!B12:B21,Feuil1!C12:C21),"")
B13: =IFERROR(LOOKUP(A13,Feuil1!A13:A22,Feuil1!B13:B22),"") | C13: =IFERROR(LOOKUP(B13,Feuil1!B13:B22,Feuil1!C13:C22),"")
B14: =IFERROR(LOOKUP(A14,Feuil1!A14:A23,Feuil1!B14:B23),"") | C14: =IFERROR(LOOKUP(B14,Feuil1!B14:B23,Feuil1!C14:C23),"")
B15: =IFERROR(LOOKUP(A15,Feuil1!A15:A24,Feuil1!B15:B24),"") | C15: =IFERROR(LOOKUP(B15,Feuil1!B15:B24,Feuil1!C15:C24),"")
B16: =IFERROR(LOOKUP(A16,Feuil1!A16:A25,Feuil1!B16:B25),"") | C16: =IFERROR(LOOKUP(B16,Feuil1!B16:B25,Feuil1!C16:C25),"")
