Workbook

Sheet TCD
A3: Row Labels | B3: Nature dépense | C3: Sum of Montant | D3: Sum of Montant2 | E3: Sum of Montant3 | F3: Sum of Montant4 | G3: Sum of MONTANT5
A4: Doris | B4: Essence | C4: 13.05 | D4: 0.65 | E4: 1.3 | F4: 15 | G4: 30
A5: Doris | B5: Fourniture | C5: 91.32 | D5: 4.57 | E5: 9.11 | F5: 105 | G5: 210
A6: Doris | B6: Location d'outils | C6: 99.12 | D6: 4.96 | E6: 9.92 | F6: 114 | G6: 228
A7: Doris | B7: Péages | C7: 91.32 | D7: 4.57 | E7: 9.11 | F7: 105 | G7: 210
A8: Doris Total | C8: 294.81 | D8: 14.75 | E8: 29.44 | F8: 339 | G8: 678
A9: Gabriel | B9: Pièces | C9: 83.5 | D9: 4.17 | E9: 8.33 | F9: 96 | G9: 192
A10: Gabriel | B10: Restaurant | C10: 59.49 | D10: 3.13 | E10: 6.25 | F10: 72 | G10: 140.87
A11: Gabriel Total | C11: 142.99 | D11: 7.3 | E11: 14.58 | F11: 168 | G11: 332.87
A12: Richard | B12: Entretien et réparations véhicule | C12: 99.15 | D12: 4.96 | E12: 9.89 | F12: 114 | G12: 228
A13: Richard | B13: Essence | C13: 107 | D13: 5.35 | E13: 10.67 | F13: 123.02 | G13: 246.04
A14: Richard Total | C14: 206.15 | D14: 10.31 | E14: 20.56 | F14: 237.02 | G14: 474.04
A15: Grand Total | C15: 643.95 | D15: 32.36 | E15: 64.58 | F15: 744.02 | G15: 1484.91

Sheet DATA
A1: Nom | B1: N° | C1: Nature dépense | D1: Type | E1: date | F1: Ligne | G1: Montant | H1: Montant | I1: Montant | J1: Montant | K1: MONTANT | L1: Carte
A2: Doris | B2: 5984 | C2: Essence | D2: Ultramar | E2: 40909 | F2: =MONTH(E2) -> 1 | G2: 13.05 | H2: 0.65 | I2: 1.3 | J2: 15 | K2: =SUM(G2:J2) -> 30 | L2: Visa | R2: janvier | S2: 1 | T2: =SUMIF($F$2:$F$200,S2,$J$2:$J$200) -> 15 | V2: Essence | W2: =SUMIF(C2:C198,V2,J2:J198) -> 138.02 | Y2: Doris | Z2: =SUMIF(A2:A198,Y2,J2:J198) -> 339
A3: Gabriel | B3: 5933 | C3: Pièces | D3: Ultramar | E3: 40941 | F3: =MONTH(E3) -> 2 | G3: 83.5 | H3: 4.17 | I3: 8.33 | J3: 96 | K3: =SUM(G3:J3) -> 192 | L3: Visa | R3: février | S3: 2 | T3: =SUMIF($F$2:$F$200,S3,$J$2:$J$200) -> 96 | V3: Pièces | W3: =SUMIF(C2:C198,V3,J2:J198) -> 96 | Y3: Gabriel | Z3: =SUMIF(A2:A198,Y3,J2:J198) -> 168
A4: Gabriel | B4: 9594 | C4: Restaurant | D4: Ultramar | E4: 40971 | F4: =MONTH(E4) -> 3 | G4: 59.49 | H4: 3.13 | I4: 6.25 | J4: 72 | K4: =SUM(G4:J4) -> 140.87 | L4: Visa | R4: mars | S4: 3 | T4: =SUMIF($F$2:$F$200,S4,$J$2:$J$200) -> 72 | V4: Restaurant | W4: =SUMIF(C2:C198,V4,J2:J198) -> 72 | Y4: Richard | Z4: =SUMIF(A2:A198,Y4,J2:J198) -> 237.02
A5: Doris | B5: 2536 | C5: Fourniture | D5: Crevier | E5: 41003 | F5: =MONTH(E5) -> 4 | G5: 91.32 | H5: 4.57 | I5: 9.11 | J5: 105 | K5: =SUM(G5:J5) -> 210 | L5: Visa | R5: avril | S5: 4 | T5: =SUMIF($F$2:$F$200,S5,$J$2:$J$200) -> 105 | V5: Fourniture | W5: =SUMIF(C2:C198,V5,J2:J198) -> 105
A6: Doris | B6: 3678 | C6: Péages | D6: Crevier | E6: 41034 | F6: =MONTH(E6) -> 5 | G6: 91.32 | H6: 4.57 | I6: 9.11 | J6: 105 | K6: =SUM(G6:J6) -> 210 | L6: Visa | R6: mai | S6: 5 | T6: =SUMIF($F$2:$F$200,S6,$J$2:$J$200) -> 105 | V6: Entretien et réparations véhicule | W6: =SUMIF(C2:C198,V6,J2:J198) -> 114
A7: Richard | B7: 2527 | C7: Entretien et réparations véhicule | D7: Ultramar | E7: 41066 | F7: =MONTH(E7) -> 6 | G7: 99.15 | H7: 4.96 | I7: 9.89 | J7: 114 | K7: =SUM(G7:J7) -> 228 | L7: Visa | R7: juin | S7: 6 | T7: =SUMIF($F$2:$F$200,S7,$J$2:$J$200) -> 114 | V7: Péages | W7: =SUMIF(C2:C198,V7,J2:J198) -> 105
A8: Richard | B8: A1796568 | C8: Essence | D8: Crevier | E8: 41097 | F8: =MONTH(E8) -> 7 | G8: 53.06 | H8: 2.65 | I8: 5.29 | J8: 61 | K8: =SUM(G8:J8) -> 122 | L8: Visa | R8: juillet | S8: 7 | T8: =SUMIF($F$2:$F$200,S8,$J$2:$J$200) -> 61 | V8: Location d'outils | W8: =SUMIF(C2:C198,V8,J2:J198) -> 114
A9: Doris | B9: JRV02717 | C9: Location d'outils | D9: Impériale | E9: 41129 | F9: =MONTH(E9) -> 8 | G9: 99.12 | H9: 4.96 | I9: 9.92 | J9: 114 | K9: =SUM(G9:J9) -> 228 | L9: Visa | R9: août | S9: 8 | T9: =SUMIF($F$2:$F$200,S9,$J$2:$J$200) -> 114
A10: Richard | B10: 9852 | C10: Essence | D10: Ultramar | E10: 41161 | F10: =MONTH(E10) -> 9 | G10: 53.94 | H10: 2.7 | I10: 5.38 | J10: 62.02 | K10: =SUM(G10:J10) -> 124.04 | L10: Visa | R10: septembre | S10: 9 | T10: =SUMIF($F$2:$F$200,S10,$J$2:$J$200) -> 62.02
R11: octobre | S11: 10 | T11: =SUMIF($F$2:$F$200,S11,$J$2:$J$200) -> 0
R12: novembre | S12: 11 | T12: =SUMIF($F$2:$F$200,S12,$J$2:$J$200) -> 0
R13: décembre | S13: 12 | T13: =SUMIF($F$2:$F$200,S13,$J$2:$J$200) -> 0
R16: Total annuel | T16: =SUM(T2:T15) -> 744.02 | W16: =SUM(W2:W15) -> 744.02 | Z16: =SUM(Z2:Z15) -> 744.02

Sheet DV-IDENTITY-0
A1: =IF(DATA!2:2,"AAAAAF++vwA=",0) -> #VALUE! | B1: =AND(DATA!A2,"AAAAAF++vwE=") -> #VALUE! | C1: =AND(DATA!B2,"AAAAAF++vwI=") -> #VALUE! | D1: =AND(DATA!C2,"AAAAAF++vwM=") -> #VALUE! | E1: =AND(DATA!D2,"AAAAAF++vwQ=") -> #VALUE! | F1: =AND(DATA!E2,"AAAAAF++vwU=") -> #VALUE! | G1: =AND(DATA!F2,"AAAAAF++vwY=") -> #VALUE! | H1: =AND(DATA!G2,"AAAAAF++vwc=") -> #VALUE! | I1: =AND(DATA!H2,"AAAAAF++vwg=") -> #VALUE! | J1: =AND(DATA!I2,"AAAAAF++vwk=") -> #VALUE! | K1: =AND(DATA!J2,"AAAAAF++vwo=") -> #VALUE! | L1: =AND(DATA!L2,"AAAAAF++vws=") -> #VALUE! | M1: =AND(DATA!M2,"AAAAAF++vww=") -> #VALUE! | N1: =AND(DATA!N2,"AAAAAF++vw0=") -> #VALUE! | O1: =AND(DATA!O2,"AAAAAF++vw4=") -> #VALUE! | P1: =AND(DATA!P2,"AAAAAF++vw8=") -> #VALUE! | Q1: =AND(DATA!Q2,"AAAAAF++vxA=") -> #VALUE! | R1: =AND(DATA!R2,"AAAAAF++vxE=") -> #VALUE! | S1: =AND(DATA!S2,"AAAAAF++vxI=") -> #VALUE! | T1: =AND(DATA!T2,"AAAAAF++vxM=") -> #VALUE! | U1: =AND(DATA!U2,"AAAAAF++vxQ=") -> #VALUE! | V1: =AND(DATA!V2,"AAAAAF++vxU=") -> #VALUE! | W1: =AND(DATA!W2,"AAAAAF++vxY=") -> #VALUE! | X1: =AND(DATA!X2,"AAAAAF++vxc=") -> #VALUE! | Y1: =AND(DATA!Y2,"AAAAAF++vxg=") -> #VALUE! | Z1: =AND(DATA!Z2,"AAAAAF++vxk=") -> #VALUE! | AA1: =IF(DATA!3:3,"AAAAAF++vxo=",0) -> 0 | AB1: =AND(DATA!A3,"AAAAAF++vxs=") -> #VALUE! | AC1: =AND(DATA!B3,"AAAAAF++vxw=") -> #VALUE! | AD1: =AND(DATA!C3,"AAAAAF++vx0=") -> #VALUE! | AE1: =AND(DATA!D3,"AAAAAF++vx4=") -> #VALUE! | AF1: =AND(DATA!E3,"AAAAAF++vx8=") -> #VALUE! | AG1: =AND(DATA!F3,"AAAAAF++vyA=") -> #VALUE! | AH1: =AND(DATA!G3,"AAAAAF++vyE=") -> #VALUE! | AI1: =AND(DATA!H3,"AAAAAF++vyI=") -> #VALUE! | AJ1: =AND(DATA!I3,"AAAAAF++vyM=") -> #VALUE! | AK1: =AND(DATA!J3,"AAAAAF++vyQ=") -> #VALUE! | AL1: =AND(DATA!L3,"AAAAAF++vyU=") -> #VALUE! | AM1: =AND(DATA!M3,"AAAAAF++vyY=") -> #VALUE! | AN1: =AND(DATA!N3,"AAAAAF++vyc=") -> #VALUE! | AO1: =AND(DATA!O3,"AAAAAF++vyg=") -> #VALUE! | AP1: =AND(DATA!P3,"AAAAAF++vyk=") -> #VALUE! | AQ1: =AND(DATA!Q3,"AAAAAF++vyo=") -> #VALUE! | AR1: =AND(DATA!R3,"AAAAAF++vys=") -> #VALUE! | AS1: =AND(DATA!S3,"AAAAAF++vyw=") -> #VALUE! | AT1: =AND(DATA!T3,"AAAAAF++vy0=") -> #VALUE! | AU1: =AND(DATA!U3,"AAAAAF++vy4=") -> #VALUE! | AV1: =AND(DATA!V3,"AAAAAF++vy8=") -> #VALUE! | AW1: =AND(DATA!W3,"AAAAAF++vzA=") -> #VALUE! | AX1: =AND(DATA!X3,"AAAAAF++vzE=") -> #VALUE! | AY1: =AND(DATA!Y3,"AAAAAF++vzI=") -> #VALUE! | AZ1: =AND(DATA!Z3,"AAAAAF++vzM=") -> #VALUE! | BA1: =IF(DATA!4:4,"AAAAAF++vzQ=",0) -> 0 | BB1: =AND(DATA!A4,"AAAAAF++vzU=") -> #VALUE! | BC1: =AND(DATA!B4,"AAAAAF++vzY=") -> #VALUE! | BD1: =AND(DATA!C4,"AAAAAF++vzc=") -> #VALUE! | BE1: =AND(DATA!D4,"AAAAAF++vzg=") -> #VALUE! | BF1: =AND(DATA!E4,"AAAAAF++vzk=") -> #VALUE! | BG1: =AND(DATA!F4,"AAAAAF++vzo=") -> #VALUE! | BH1: =AND(DATA!G4,"AAAAAF++vzs=") -> #VALUE! | BI1: =AND(DATA!H4,"AAAAAF++vzw=") -> #VALUE! | BJ1: =AND(DATA!I4,"AAAAAF++vz0=") -> #VALUE! | BK1: =AND(DATA!J4,"AAAAAF++vz4=") -> #VALUE! | BL1: =AND(DATA!L4,"AAAAAF++vz8=") -> #VALUE! | BM1: =AND(DATA!M4,"AAAAAF++v0A=") -> #VALUE! | BN1: =AND(DATA!N4,"AAAAAF++v0E=") -> #VALUE! | BO1: =AND(DATA!O4,"AAAAAF++v0I=") -> #VALUE! | BP1: =AND(DATA!P4,"AAAAAF++v0M=") -> #VALUE! | BQ1: =AND(DATA!Q4,"AAAAAF++v0Q=") -> #VALUE! | BR1: =AND(DATA!R4,"AAAAAF++v0U=") -> #VALUE! | BS1: =AND(DATA!S4,"AAAAAF++v0Y=") -> #VALUE! | BT1: =AND(DATA!T4,"AAAAAF++v0c=") -> #VALUE! | BU1: =AND(DATA!U4,"AAAAAF++v0g=") -> #VALUE! | BV1: =AND(DATA!V4,"AAAAAF++v0k=") -> #VALUE! | BW1: =AND(DATA!W4,"AAAAAF++v0o=") -> #VALUE! | BX1: =AND(DATA!X4,"AAAAAF++v0s=") -> #VALUE! | BY1: =AND(DATA!Y4,"AAAAAF++v0w=") -> #VALUE! | BZ1: =AND(DATA!Z4,"AAAAAF++v00=") -> #VALUE! | CA1: =IF(DATA!5:5,"AAAAAF++v04=",0) -> 0 | CB1: =AND(DATA!A5,"AAAAAF++v08=") -> #VALUE! | CC1: =AND(DATA!B5,"AAAAAF++v1A=") -> #VALUE! | CD1: =AND(DATA!C5,"AAAAAF++v1E=") -> #VALUE! | CE1: =AND(DATA!D5,"AAAAAF++v1I=") -> #VALUE! | CF1: =AND(DATA!E5,"AAAAAF++v1M=") -> #VALUE! | CG1: =AND(DATA!F5,"AAAAAF++v1Q=") -> #VALUE! | CH1: =AND(DATA!G5,"AAAAAF++v1U=") -> #VALUE! | CI1: =AND(DATA!H5,"AAAAAF++v1Y=") -> #VALUE! | CJ1: =AND(DATA!I5,"AAAAAF++v1c=") -> #VALUE! | CK1: =AND(DATA!J5,"AAAAAF++v1g=") -> #VALUE! | CL1: =AND(DATA!L5,"AAAAAF++v1k=") -> #VALUE! | CM1: =AND(DATA!M5,"AAAAAF++v1o=") -> #VALUE! | CN1: =AND(DATA!N5,"AAAAAF++v1s=") -> #VALUE! | CO1: =AND(DATA!O5,"AAAAAF++v1w=") -> #VALUE! | CP1: =AND(DATA!P5,"AAAAAF++v10=") -> #VALUE! | CQ1: =AND(DATA!Q5,"AAAAAF++v14=") -> #VALUE! | CR1: =AND(DATA!R5,"AAAAAF++v18=") -> #VALUE! | CS1: =AND(DATA!S5,"AAAAAF++v2A=") -> #VALUE! | CT1: =AND(DATA!T5,"AAAAAF++v2E=") -> #VALUE! | CU1: =AND(DATA!U5,"AAAAAF++v2I=") -> #VALUE! | CV1: =AND(DATA!V5,"AAAAAF++v2M=") -> #VALUE! | CW1: =AND(DATA!W5,"AAAAAF++v2Q=") -> #VALUE! | CX1: =AND(DATA!X5,"AAAAAF++v2U=") -> #VALUE! | CY1: =AND(DATA!Y5,"AAAAAF++v2Y=") -> #VALUE! | CZ1: =AND(DATA!Z5,"AAAAAF++v2c=") -> #VALUE! | DA1: =IF(DATA!6:6,"AAAAAF++v2g=",0) -> 0 | DB1: =AND(DATA!A6,"AAAAAF++v2k=") -> #VALUE! | DC1: =AND(DATA!B6,"AAAAAF++v2o=") -> #VALUE! | DD1: =AND(DATA!C6,"AAAAAF++v2s=") -> #VALUE! | DE1: =AND(DATA!D6,"AAAAAF++v2w=") -> #VALUE! | DF1: =AND(DATA!E6,"AAAAAF++v20=") -> #VALUE! | DG1: =AND(DATA!F6,"AAAAAF++v24=") -> #VALUE! | DH1: =AND(DATA!G6,"AAAAAF++v28=") -> #VALUE! | DI1: =AND(DATA!H6,"AAAAAF++v3A=") -> #VALUE! | DJ1: =AND(DATA!I6,"AAAAAF++v3E=") -> #VALUE! | DK1: =AND(DATA!J6,"AAAAAF++v3I=") -> #VALUE! | DL1: =AND(DATA!L6,"AAAAAF++v3M=") -> #VALUE! | DM1: =AND(DATA!M6,"AAAAAF++v3Q=") -> #VALUE! | DN1: =AND(DATA!N6,"AAAAAF++v3U=") -> #VALUE! | DO1: =AND(DATA!O6,"AAAAAF++v3Y=") -> #VALUE! | DP1: =AND(DATA!P6,"AAAAAF++v3c=") -> #VALUE! | DQ1: =AND(DATA!Q6,"AAAAAF++v3g=") -> #VALUE! | DR1: =AND(DATA!R6,"AAAAAF++v3k=") -> #VALUE! | DS1: =AND(DATA!S6,"AAAAAF++v3o=") -> #VALUE! | DT1: =AND(DATA!T6,"AAAAAF++v3s=") -> #VALUE! | DU1: =AND(DATA!U6,"AAAAAF++v3w=") -> #VALUE! | DV1: =AND(DATA!V6,"AAAAAF++v30=") -> #VALUE! | DW1: =AND(DATA!W6,"AAAAAF++v34=") -> #VALUE! | DX1: =AND(DATA!X6,"AAAAAF++v38=") -> #VALUE! | DY1: =AND(DATA!Y6,"AAAAAF++v4A=") -> #VALUE! | DZ1: =AND(DATA!Z6,"AAAAAF++v4E=") -> #VALUE! | EA1: =IF(DATA!7:7,"AAAAAF++v4I=",0) -> 0 | EB1: =AND(DATA!A7,"AAAAAF++v4M=") -> #VALUE! | EC1: =AND(DATA!B7,"AAAAAF++v4Q=") -> #VALUE! | ED1: =AND(DATA!C7,"AAAAAF++v4U=") -> #VALUE! | EE1: =AND(DATA!D7,"AAAAAF++v4Y=") -> #VALUE! | EF1: =AND(DATA!E7,"AAAAAF++v4c=") -> #VALUE! | EG1: =AND(DATA!F7,"AAAAAF++v4g=") -> #VALUE! | EH1: =AND(DATA!G7,"AAAAAF++v4k=") -> #VALUE! | EI1: =AND(DATA!H7,"AAAAAF++v4o=") -> #VALUE! | EJ1: =AND(DATA!I7,"AAAAAF++v4s=") -> #VALUE! | EK1: =AND(DATA!J7,"AAAAAF++v4w=") -> #VALUE! | EL1: =AND(DATA!L7,"AAAAAF++v40=") -> #VALUE! | EM1: =AND(DATA!M7,"AAAAAF++v44=") -> #VALUE! | EN1: =AND(DATA!N7,"AAAAAF++v48=") -> #VALUE! | EO1: =AND(DATA!O7,"AAAAAF++v5A=") -> #VALUE! | EP1: =AND(DATA!P7,"AAAAAF++v5E=") -> #VALUE! | EQ1: =AND(DATA!Q7,"AAAAAF++v5I=") -> #VALUE! | ER1: =AND(DATA!R7,"AAAAAF++v5M=") -> #VALUE! | ES1: =AND(DATA!S7,"AAAAAF++v5Q=") -> #VALUE! | ET1: =AND(DATA!T7,"AAAAAF++v5U=") -> #VALUE! | EU1: =AND(DATA!U7,"AAAAAF++v5Y=") -> #VALUE! | EV1: =AND(DATA!V7,"AAAAAF++v5c=") -> #VALUE! | EW1: =AND(DATA!W7,"AAAAAF++v5g=") -> #VALUE! | EX1: =AND(DATA!X7,"AAAAAF++v5k=") -> #VALUE! | EY1: =AND(DATA!Y7,"AAAAAF++v5o=") -> #VALUE! | EZ1: =AND(DATA!Z7,"AAAAAF++v5s=") -> #VALUE! | FA1: =IF(DATA!8:8,"AAAAAF++v5w=",0) -> 0 | FB1: =AND(DATA!A8,"AAAAAF++v50=") -> #VALUE! | FC1: =AND(DATA!B8,"AAAAAF++v54=") -> #VALUE! | FD1: =AND(DATA!C8,"AAAAAF++v58=") -> #VALUE! | FE1: =AND(DATA!D8,"AAAAAF++v6A=") -> #VALUE! | FF1: =AND(DATA!E8,"AAAAAF++v6E=") -> #VALUE! | FG1: =AND(DATA!F8,"AAAAAF++v6I=") -> #VALUE! | FH1: =AND(DATA!G8,"AAAAAF++v6M=") -> #VALUE! | FI1: =AND(DATA!H8,"AAAAAF++v6Q=") -> #VALUE! | FJ1: =AND(DATA!I8,"AAAAAF++v6U=") -> #VALUE! | FK1: =AND(DATA!J8,"AAAAAF++v6Y=") -> #VALUE! | FL1: =AND(DATA!L8,"AAAAAF++v6c=") -> #VALUE! | FM1: =AND(DATA!M8,"AAAAAF++v6g=") -> #VALUE! | FN1: =AND(DATA!N8,"AAAAAF++v6k=") -> #VALUE! | FO1: =AND(DATA!O8,"AAAAAF++v6o=") -> #VALUE! | FP1: =AND(DATA!P8,"AAAAAF++v6s=") -> #VALUE! | FQ1: =AND(DATA!Q8,"AAAAAF++v6w=") -> #VALUE! | FR1: =AND(DATA!R8,"AAAAAF++v60=") -> #VALUE! | FS1: =AND(DATA!S8,"AAAAAF++v64=") -> #VALUE! | FT1: =AND(DATA!T8,"AAAAAF++v68=") -> #VALUE! | FU1: =AND(DATA!U8,"AAAAAF++v7A=") -> #VALUE! | FV1: =AND(DATA!V8,"AAAAAF++v7E=") -> #VALUE! | FW1: =AND(DATA!W8,"AAAAAF++v7I=") -> #VALUE! | FX1: =AND(DATA!X8,"AAAAAF++v7M=") -> #VALUE! | FY1: =AND(DATA!Y8,"AAAAAF++v7Q=") -> #VALUE! | FZ1: =AND(DATA!Z8,"AAAAAF++v7U=") -> #VALUE! | GA1: =IF(DATA!9:9,"AAAAAF++v7Y=",0) -> 0 | GB1: =AND(DATA!A9,"AAAAAF++v7c=") -> #VALUE! | GC1: =AND(DATA!B9,"AAAAAF++v7g=") -> #VALUE! | GD1: =AND(DATA!C9,"AAAAAF++v7k=") -> #VALUE! | GE1: =AND(DATA!D9,"AAAAAF++v7o=") -> #VALUE! | GF1: =AND(DATA!E9,"AAAAAF++v7s=") -> #VALUE! | GG1: =AND(DATA!F9,"AAAAAF++v7w=") -> #VALUE! | GH1: =AND(DATA!G9,"AAAAAF++v70=") -> #VALUE! | GI1: =AND(DATA!H9,"AAAAAF++v74=") -> #VALUE! | GJ1: =AND(DATA!I9,"AAAAAF++v78=") -> #VALUE! | GK1: =AND(DATA!J9,"AAAAAF++v8A=") -> #VALUE! | GL1: =AND(DATA!L9,"AAAAAF++v8E=") -> #VALUE! | GM1: =AND(DATA!M9,"AAAAAF++v8I=") -> #VALUE! | GN1: =AND(DATA!N9,"AAAAAF++v8M=") -> #VALUE! | GO1: =AND(DATA!O9,"AAAAAF++v8Q=") -> #VALUE! | GP1: =AND(DATA!P9,"AAAAAF++v8U=") -> #VALUE! | GQ1: =AND(DATA!Q9,"AAAAAF++v8Y=") -> #VALUE! | GR1: =AND(DATA!R9,"AAAAAF++v8c=") -> #VALUE! | GS1: =AND(DATA!S9,"AAAAAF++v8g=") -> #VALUE! | GT1: =AND(DATA!T9,"AAAAAF++v8k=") -> #VALUE! | GU1: =AND(DATA!U9,"AAAAAF++v8o=") -> #VALUE! | GV1: =AND(DATA!V9,"AAAAAF++v8s=") -> #VALUE! | GW1: =AND(DATA!W9,"AAAAAF++v8w=") -> #VALUE! | GX1: =AND(DATA!X9,"AAAAAF++v80=") -> #VALUE! | GY1: =AND(DATA!Y9,"AAAAAF++v84=") -> #VALUE! | GZ1: =AND(DATA!Z9,"AAAAAF++v88=") -> #VALUE! | HA1: =IF(DATA!10:10,"AAAAAF++v9A=",0) -> 0 | HB1: =AND(DATA!A10,"AAAAAF++v9E=") -> #VALUE! | HC1: =AND(DATA!B10,"AAAAAF++v9I=") -> #VALUE! | HD1: =AND(DATA!C10,"AAAAAF++v9M=") -> #VALUE! | HE1: =AND(DATA!D10,"AAAAAF++v9Q=") -> #VALUE! | HF1: =AND(DATA!E10,"AAAAAF++v9U=") -> #VALUE! | HG1: =AND(DATA!F10,"AAAAAF++v9Y=") -> #VALUE! | HH1: =AND(DATA!G10,"AAAAAF++v9c=") -> #VALUE! | HI1: =AND(DATA!H10,"AAAAAF++v9g=") -> #VALUE! | HJ1: =AND(DATA!I10,"AAAAAF++v9k=") -> #VALUE! | HK1: =AND(DATA!J10,"AAAAAF++v9o=") -> #VALUE! | HL1: =AND(DATA!L10,"AAAAAF++v9s=") -> #VALUE! | HM1: =AND(DATA!M10,"AAAAAF++v9w=") -> #VALUE! | HN1: =AND(DATA!N10,"AAAAAF++v90=") -> #VALUE! | HO1: =AND(DATA!O10,"AAAAAF++v94=") -> #VALUE! | HP1: =AND(DATA!P10,"AAAAAF++v98=") -> #VALUE! | HQ1: =AND(DATA!Q10,"AAAAAF++v+A=") -> #VALUE! | HR1: =AND(DATA!R10,"AAAAAF++v+E=") -> #VALUE! | HS1: =AND(DATA!S10,"AAAAAF++v+I=") -> #VALUE! | HT1: =AND(DATA!T10,"AAAAAF++v+M=") -> #VALUE! | HU1: =AND(DATA!U10,"AAAAAF++v+Q=") -> #VALUE! | HV1: =AND(DATA!V10,"AAAAAF++v+U=") -> #VALUE! | HW1: =AND(DATA!W10,"AAAAAF++v+Y=") -> #VALUE! | HX1: =AND(DATA!X10,"AAAAAF++v+c=") -> #VALUE! | HY1: =AND(DATA!Y10,"AAAAAF++v+g=") -> #VALUE! | HZ1: =AND(DATA!Z10,"AAAAAF++v+k=") -> #VALUE! | IA1: =IF(DATA!11:11,"AAAAAF++v+o=",0) -> 0 | IB1: =AND(DATA!A11,"AAAAAF++v+s=") -> #VALUE! | IC1: =AND(DATA!B11,"AAAAAF++v+w=") -> #VALUE! | ID1: =AND(DATA!C11,"AAAAAF++v+0=") -> #VALUE! | IE1: =AND(DATA!D11,"AAAAAF++v+4=") -> #VALUE! | IF1: =AND(DATA!E11,"AAAAAF++v+8=") -> #VALUE! | IG1: =AND(DATA!F11,"AAAAAF++v/A=") -> #VALUE! | IH1: =AND(DATA!G11,"AAAAAF++v/E=") -> #VALUE! | II1: =AND(DATA!H11,"AAAAAF++v/I=") -> #VALUE! | IJ1: =AND(DATA!I11,"AAAAAF++v/M=") -> #VALUE! | IK1: =AND(DATA!J11,"AAAAAF++v/Q=") -> #VALUE! | IL1: =AND(DATA!L11,"AAAAAF++v/U=") -> #VALUE! | IM1: =AND(DATA!M11,"AAAAAF++v/Y=") -> #VALUE! | IN1: =AND(DATA!N11,"AAAAAF++v/c=") -> #VALUE! | IO1: =AND(DATA!O11,"AAAAAF++v/g=") -> #VALUE! | IP1: =AND(DATA!P11,"AAAAAF++v/k=") -> #VALUE! | IQ1: =AND(DATA!Q11,"AAAAAF++v/o=") -> #VALUE! | IR1: =AND(DATA!R11,"AAAAAF++v/s=") -> #VALUE! | IS1: =AND(DATA!S11,"AAAAAF++v/w=") -> #VALUE! | IT1: =AND(DATA!T11,"AAAAAF++v/0=") -> #VALUE! | IU1: =AND(DATA!U11,"AAAAAF++v/4=") -> #VALUE! | IV1: =AND(DATA!V11,"AAAAAF++v/8=") -> #VALUE!
A2: =AND(DATA!W11,"AAAAAFvuPAA=") -> #VALUE! | B2: =AND(DATA!X11,"AAAAAFvuPAE=") -> #VALUE! | C2: =AND(DATA!Y11,"AAAAAFvuPAI=") -> #VALUE! | D2: =AND(DATA!Z11,"AAAAAFvuPAM=") -> #VALUE! | E2: =IF(DATA!12:12,"AAAAAFvuPAQ=",0) -> 0 | F2: =AND(DATA!A12,"AAAAAFvuPAU=") -> #VALUE! | G2: =AND(DATA!B12,"AAAAAFvuPAY=") -> #VALUE! | H2: =AND(DATA!C12,"AAAAAFvuPAc=") -> #VALUE! | I2: =AND(DATA!D12,"AAAAAFvuPAg=") -> #VALUE! | J2: =AND(DATA!E12,"AAAAAFvuPAk=") -> #VALUE! | K2: =AND(DATA!F12,"AAAAAFvuPAo=") -> #VALUE! | L2: =AND(DATA!G12,"AAAAAFvuPAs=") -> #VALUE! | M2: =AND(DATA!H12,"AAAAAFvuPAw=") -> #VALUE! | N2: =AND(DATA!I12,"AAAAAFvuPA0=") -> #VALUE! | O2: =AND(DATA!J12,"AAAAAFvuPA4=") -> #VALUE! | P2: =AND(DATA!L12,"AAAAAFvuPA8=") -> #VALUE! | Q2: =AND(DATA!M12,"AAAAAFvuPBA=") -> #VALUE! | R2: =AND(DATA!N12,"AAAAAFvuPBE=") -> #VALUE! | S2: =AND(DATA!O12,"AAAAAFvuPBI=") -> #VALUE! | T2: =AND(DATA!P12,"AAAAAFvuPBM=") -> #VALUE! | U2: =AND(DATA!Q12,"AAAAAFvuPBQ=") -> #VALUE! | V2: =AND(DATA!R12,"AAAAAFvuPBU=") -> #VALUE! | W2: =AND(DATA!S12,"AAAAAFvuPBY=") -> #VALUE! | X2: =AND(DATA!T12,"AAAAAFvuPBc=") -> #VALUE! | Y2: =AND(DATA!U12,"AAAAAFvuPBg=") -> #VALUE! | Z2: =AND(DATA!V12,"AAAAAFvuPBk=") -> #VALUE! | AA2: =AND(DATA!W12,"AAAAAFvuPBo=") -> #VALUE! | AB2: =AND(DATA!X12,"AAAAAFvuPBs=") -> #VALUE! | AC2: =AND(DATA!Y12,"AAAAAFvuPBw=") -> #VALUE! | AD2: =AND(DATA!Z12,"AAAAAFvuPB0=") -> #VALUE! | AE2: =IF(DATA!13:13,"AAAAAFvuPB4=",0) -> 0 | AF2: =AND(DATA!A13,"AAAAAFvuPB8=") -> #VALUE! | AG2: =AND(DATA!B13,"AAAAAFvuPCA=") -> #VALUE! | AH2: =AND(DATA!C13,"AAAAAFvuPCE=") -> #VALUE! | AI2: =AND(DATA!D13,"AAAAAFvuPCI=") -> #VALUE! | AJ2: =AND(DATA!E13,"AAAAAFvuPCM=") -> #VALUE! | AK2: =AND(DATA!F13,"AAAAAFvuPCQ=") -> #VALUE! | AL2: =AND(DATA!G13,"AAAAAFvuPCU=") -> #VALUE! | AM2: =AND(DATA!H13,"AAAAAFvuPCY=") -> #VALUE! | AN2: =AND(DATA!I13,"AAAAAFvuPCc=") -> #VALUE! | AO2: =AND(DATA!J13,"AAAAAFvuPCg=") -> #VALUE! | AP2: =AND(DATA!L13,"AAAAAFvuPCk=") -> #VALUE! | AQ2: =AND(DATA!M13,"AAAAAFvuPCo=") -> #VALUE! | AR2: =AND(DATA!N13,"AAAAAFvuPCs=") -> #VALUE! | AS2: =AND(DATA!O13,"AAAAAFvuPCw=") -> #VALUE! | AT2: =AND(DATA!P13,"AAAAAFvuPC0=") -> #VALUE! | AU2: =AND(DATA!Q13,"AAAAAFvuPC4=") -> #VALUE! | AV2: =AND(DATA!R13,"AAAAAFvuPC8=") -> #VALUE! | AW2: =AND(DATA!S13,"AAAAAFvuPDA=") -> #VALUE! | AX2: =AND(DATA!T13,"AAAAAFvuPDE=") -> #VALUE! | AY2: =AND(DATA!U13,"AAAAAFvuPDI=") -> #VALUE! | AZ2: =AND(DATA!V13,"AAAAAFvuPDM=") -> #VALUE! | BA2: =AND(DATA!W13,"AAAAAFvuPDQ=") -> #VALUE! | BB2: =AND(DATA!X13,"AAAAAFvuPDU=") -> #VALUE! | BC2: =AND(DATA!Y13,"AAAAAFvuPDY=") -> #VALUE! | BD2: =AND(DATA!Z13,"AAAAAFvuPDc=") -> #VALUE! | BE2: =IF(DATA!14:14,"AAAAAFvuPDg=",0) -> 0 | BF2: =AND(DATA!A14,"AAAAAFvuPDk=") -> #VALUE! | BG2: =AND(DATA!B14,"AAAAAFvuPDo=") -> #VALUE! | BH2: =AND(DATA!C14,"AAAAAFvuPDs=") -> #VALUE! | BI2: =AND(DATA!D14,"AAAAAFvuPDw=") -> #VALUE! | BJ2: =AND(DATA!E14,"AAAAAFvuPD0=") -> #VALUE! | BK2: =AND(DATA!F14,"AAAAAFvuPD4=") -> #VALUE! | BL2: =AND(DATA!G14,"AAAAAFvuPD8=") -> #VALUE! | BM2: =AND(DATA!H14,"AAAAAFvuPEA=") -> #VALUE! | BN2: =AND(DATA!I14,"AAAAAFvuPEE=") -> #VALUE! | BO2: =AND(DATA!J14,"AAAAAFvuPEI=") -> #VALUE! | BP2: =AND(DATA!L14,"AAAAAFvuPEM=") -> #VALUE! | BQ2: =AND(DATA!M14,"AAAAAFvuPEQ=") -> #VALUE! | BR2: =AND(DATA!N14,"AAAAAFvuPEU=") -> #VALUE! | BS2: =AND(DATA!O14,"AAAAAFvuPEY=") -> #VALUE! | BT2: =AND(DATA!P14,"AAAAAFvuPEc=") -> #VALUE! | BU2: =AND(DATA!Q14,"AAAAAFvuPEg=") -> #VALUE! | BV2: =AND(DATA!R14,"AAAAAFvuPEk=") -> #VALUE! | BW2: =AND(DATA!S14,"AAAAAFvuPEo=") -> #VALUE! | BX2: =AND(DATA!T14,"AAAAAFvuPEs=") -> #VALUE! | BY2: =AND(DATA!U14,"AAAAAFvuPEw=") -> #VALUE! | BZ2: =AND(DATA!V14,"AAAAAFvuPE0=") -> #VALUE! | CA2: =AND(DATA!W14,"AAAAAFvuPE4=") -> #VALUE! | CB2: =AND(DATA!X14,"AAAAAFvuPE8=") -> #VALUE! | CC2: =AND(DATA!Y14,"AAAAAFvuPFA=") -> #VALUE! | CD2: =AND(DATA!Z14,"AAAAAFvuPFE=") -> #VALUE! | CE2: =IF(DATA!15:15,"AAAAAFvuPFI=",0) -> 0 | CF2: =AND(DATA!A15,"AAAAAFvuPFM=") -> #VALUE! | CG2: =AND(DATA!B15,"AAAAAFvuPFQ=") -> #VALUE! | CH2: =AND(DATA!C15,"AAAAAFvuPFU=") -> #VALUE! | CI2: =AND(DATA!D15,"AAAAAFvuPFY=") -> #VALUE! | CJ2: =AND(DATA!E15,"AAAAAFvuPFc=") -> #VALUE! | CK2: =AND(DATA!F15,"AAAAAFvuPFg=") -> #VALUE! | CL2: =AND(DATA!G15,"AAAAAFvuPFk=") -> #VALUE! | CM2: =AND(DATA!H15,"AAAAAFvuPFo=") -> #VALUE! | CN2: =AND(DATA!I15,"AAAAAFvuPFs=") -> #VALUE! | CO2: =AND(DATA!J15,"AAAAAFvuPFw=") -> #VALUE! | CP2: =AND(DATA!L15,"AAAAAFvuPF0=") -> #VALUE! | CQ2: =AND(DATA!M15,"AAAAAFvuPF4=") -> #VALUE! | CR2: =AND(DATA!N15,"AAAAAFvuPF8=") -> #VALUE! | CS2: =AND(DATA!O15,"AAAAAFvuPGA=") -> #VALUE! | CT2: =AND(DATA!P15,"AAAAAFvuPGE=") -> #VALUE! | CU2: =AND(DATA!Q15,"AAAAAFvuPGI=") -> #VALUE! | CV2: =AND(DATA!R15,"AAAAAFvuPGM=") -> #VALUE! | CW2: =AND(DATA!S15,"AAAAAFvuPGQ=") -> #VALUE! | CX2: =AND(DATA!T15,"AAAAAFvuPGU=") -> #VALUE! | CY2: =AND(DATA!U15,"AAAAAFvuPGY=") -> #VALUE! | CZ2: =AND(DATA!V15,"AAAAAFvuPGc=") -> #VALUE! | DA2: =AND(DATA!W15,"AAAAAFvuPGg=") -> #VALUE! | DB2: =AND(DATA!X15,"AAAAAFvuPGk=") -> #VALUE! | DC2: =AND(DATA!Y15,"AAAAAFvuPGo=") -> #VALUE! | DD2: =AND(DATA!Z15,"AAAAAFvuPGs=") -> #VALUE! | DE2: =IF(DATA!16:16,"AAAAAFvuPGw=",0) -> 0 | DF2: =AND(DATA!A16,"AAAAAFvuPG0=") -> #VALUE! | DG2: =AND(DATA!B16,"AAAAAFvuPG4=") -> #VALUE! | DH2: =AND(DATA!C16,"AAAAAFvuPG8=") -> #VALUE! | DI2: =AND(DATA!D16,"AAAAAFvuPHA=") -> #VALUE! | DJ2: =AND(DATA!E16,"AAAAAFvuPHE=") -> #VALUE! | DK2: =AND(DATA!F16,"AAAAAFvuPHI=") -> #VALUE! | DL2: =AND(DATA!G16,"AAAAAFvuPHM=") -> #VALUE! | DM2: =AND(DATA!H16,"AAAAAFvuPHQ=") -> #VALUE! | DN2: =AND(DATA!I16,"AAAAAFvuPHU=") -> #VALUE! | DO2: =AND(DATA!J16,"AAAAAFvuPHY=") -> #VALUE! | DP2: =AND(DATA!L16,"AAAAAFvuPHc=") -> #VALUE! | DQ2: =AND(DATA!M16,"AAAAAFvuPHg=") -> #VALUE! | DR2: =AND(DATA!N16,"AAAAAFvuPHk=") -> #VALUE! | DS2: =AND(DATA!O16,"AAAAAFvuPHo=") -> #VALUE! | DT2: =AND(DATA!P16,"AAAAAFvuPHs=") -> #VALUE! | DU2: =AND(DATA!Q16,"AAAAAFvuPHw=") -> #VALUE! | DV2: =AND(DATA!R16,"AAAAAFvuPH0=") -> #VALUE! | DW2: =AND(DATA!S16,"AAAAAFvuPH4=") -> #VALUE! | DX2: =AND(DATA!T16,"AAAAAFvuPH8=") -> #VALUE! | DY2: =AND(DATA!U16,"AAAAAFvuPIA=") -> #VALUE! | DZ2: =AND(DATA!V16,"AAAAAFvuPIE=") -> #VALUE! | EA2: =AND(DATA!W16,"AAAAAFvuPII=") -> #VALUE! | EB2: =AND(DATA!X16,"AAAAAFvuPIM=") -> #VALUE! | EC2: =AND(DATA!Y16,"AAAAAFvuPIQ=") -> #VALUE! | ED2: =AND(DATA!Z16,"AAAAAFvuPIU=") -> #VALUE! | EE2: =IF(DATA!A:A,"AAAAAFvuPIY=",0) -> #VALUE! | EF2: =IF(DATA!B:B,"AAAAAFvuPIc=",0) -> AAAAAFvuPIc= | EG2: =IF(DATA!C:C,"AAAAAFvuPIg=",0) -> #VALUE! | EH2: =IF(DATA!D:D,"AAAAAFvuPIk=",0) -> #VALUE! | EI2: =IF(DATA!E:E,"AAAAAFvuPIo=",0) -> AAAAAFvuPIo= | EJ2: =IF(DATA!F:F,"AAAAAFvuPIs=",0) -> AAAAAFvuPIs= | EK2: =IF(DATA!G:G,"AAAAAFvuPIw=",0) -> AAAAAFvuPIw= | EL2: =IF(DATA!H:H,"AAAAAFvuPI0=",0) -> AAAAAFvuPI0= | EM2: =IF(DATA!I:I,"AAAAAFvuPI4=",0) -> AAAAAFvuPI4= | EN2: =IF(DATA!J:J,"AAAAAFvuPI8=",0) -> AAAAAFvuPI8= | EO2: =IF(DATA!L:L,"AAAAAFvuPJA=",0) -> #VALUE! | EP2: =IF(DATA!M:M,"AAAAAFvuPJE=",0) -> 0 | EQ2: =IF(DATA!N:N,"AAAAAFvuPJI=",0) -> 0 | ER2: =IF(DATA!O:O,"AAAAAFvuPJM=",0) -> 0 | ES2: =IF(DATA!P:P,"AAAAAFvuPJQ=",0) -> 0 | ET2: =IF(DATA!Q:Q,"AAAAAFvuPJU=",0) -> 0 | EU2: =IF(DATA!R:R,"AAAAAFvuPJY=",0) -> #VALUE! | EV2: =IF(DATA!S:S,"AAAAAFvuPJc=",0) -> AAAAAFvuPJc= | EW2: =IF(DATA!T:T,"AAAAAFvuPJg=",0) -> AAAAAFvuPJg= | EX2: =IF(DATA!U:U,"AAAAAFvuPJk=",0) -> 0 | EY2: =IF(DATA!V:V,"AAAAAFvuPJo=",0) -> #VALUE! | EZ2: =IF(DATA!W:W,"AAAAAFvuPJs=",0) -> AAAAAFvuPJs= | FA2: =IF(DATA!X:X,"AAAAAFvuPJw=",0) -> 0 | FB2: =IF(DATA!Y:Y,"AAAAAFvuPJ0=",0) -> #VALUE! | FC2: =IF(DATA!Z:Z,"AAAAAFvuPJ4=",0) -> AAAAAFvuPJ4= | FD2: =IF(DATA!AA:AA,"AAAAAFvuPJ8=",0) -> 0 | FE2: =IF(#REF!,"AAAAAFvuPKA=",0) -> #REF! | FF2: =AND(#REF!,"AAAAAFvuPKE=") -> #REF! | FG2: =IF(#REF!,"AAAAAFvuPKI=",0) -> #REF! | FH2: =IF(#REF!,"AAAAAFvuPKM=",0) -> #REF! | FI2: =AND(#REF!,"AAAAAFvuPKQ=") -> #REF! | FJ2: =IF(#REF!,"AAAAAFvuPKU=",0) -> #REF! | FK2: AAAAAFvuPKY= | FL2: AAAAAFvuPKc=
