Workbook

Sheet Journal d'informations
A3: Société AN | C3: Journal d'informations | J3: 42917
A7: Date de la demande | B7: Personnel AN | C7: Catégorie | D7: Informations | E7: Personnel Comptable | F7: Date prise en charge | G7: Prise en charge | I7: Commentaires

Sheet Salariés en activités
A2: Société AN | B2: Salariés en activités
G4: Saisi du comptable | J4: Saisi par AN
A6: Tableau des salariés en activités
A8: Nom, prénom | B8: Matricule | C8: Indice | D8: Coefficient | E8: Niveau | F8: Emploi | G8: Type de contrat | H8: Heures contractuelles | I8: Date de début | J8: Avenant | K8: Date de fin | L8: Mutuelle | M8: Adresse | N8: Numéro SS | O8: Date de naissance | P8: Lieu de naissance | Q8: Observations
A9: Vivian Thomas | B9: 00222 | C9: 5,90 | D9: 270 | E9: Assistant technique A | F9: Gardien déchetterie | G9: CDI | H9: 151,67 | I9: 40909
A10: SPAG Ethi | B10: 00468 | C10: SMIC | E10: Assistant technique A | F10: Chauffeur PL | G10: CDDI | H10: 151,67 | I10: 42647 | J10: 42770 | K10: 43011
A11: RAT Dominique | B11: 00001 | C11: 5,90 | D11: 480 | E11: Directeur B | F11: Directeur | G11: CDI | H11: 75,84 | I11: 40787
A12: PIROUETTE Cacahuete | B12: 00107 | C12: 5,90 | D12: 340 | E12: Coordinateur A | F12: Assistante de direction | G12: CDI | H12: 151,67 | I12: 42681
A13: ORDI Nathan | B13: 00134 | C13: 5,90 | D13: 280 | E13: Assistant technique A | F13: Gardien déchetterie | G13: CDI | H13: 151,67 | I13: 40909
A14: MACHE Yves | B14: 00458 | C14: SMIC | E14: Assistant technique A | F14: Chauffeur PL | G14: CDDI | H14: 151,67 | I14: 42492 | J14: 42737 | K14: 42979
A15: KIP And | B15: 00152 | C15: 5,90 | D15: 270 | E15: Assistant technique A | F15: Gardien déchetterie | G15: CDI | H15: 151,67 | I15: 40909
A16: GIROU Gilles | B16: 00103 | C16: 5,90 | D16: 315 | E16: Encadrant A | F16: Responsable de collecte | G16: CDI | H16: 75,84 | I16: 40787
A17: GINO Gilles | B17: 00469 | C17: SMIC | E17: Assistant technique A | F17: Chauffeur PL | G17: CDDI | H17: 151,67 | I17: 42826 | K17: 31/07/2017 | Q17: Avenant prévu au 01/08/2017
A18: Dupont Jack | B18: 00482 | C18: SMIC | E18: Assistant technique A | F18: Chauffeur PL | G18: CDDI | H18: 151,67 | I18: 42917 | K18: 31/10/2017
A19: DION Celine | B19: 00166 | C19: 5,90 | D19: 275 | E19: Assistant technique A | F19: Gardien déchetterie | G19: CDI | H19: 151,67 | I19: 40909
A20: CHOUETTE Patrick | B20: 00465 | C20: 5,90 | D20: 253 | E20: Assistant technique A | F20: Gardien déchetterie | G20: CDI | H20: 151,67 | I20: 42919
A21: CASSE Tout | B21: 00279 | C21: 5,90 | D21: 265 | E21: Assistant technique A | F21: Gardien déchetterie | G21: CDI | H21: 151,67 | I21: 40909
A22: CARDIAQUE Philippe | B22: 00451 | C22: 5,90 | D22: 265 | E22: Assistant technique A | F22: Gardien déchetterie | G22: CDI | H22: 151,67 | I22: 40909
A23: CACA lol | B23: 00483 | C23: SMIC | E23: Assistant technique A | F23: Chauffeur PL | G23: CDDI | H23: 151,67 | I23: 42926 | K23: 43048
A24: BOULE Sophie | B24: 00480 | C24: SMIC | E24: Assistant technique A | F24: Chauffeur PL | G24: CDDI | H24: 151,67 | I24: 42917 | K24: 43039
A25: BOLO Nese | B25: 00467 | C25: SMIC | E25: Assistant technique A | F25: Chauffeur PL | G25: CDDI | H25: 151,67 | I25: 42647 | J25: 42890 | K25: 43011
A26: ADD Adrien | B26: 00462 | C26: 5,90 | D26: 255 | E26: Assistant technique A | F26: Gardien déchetterie | G26: CDI | H26: 151,67 | I26: 42646 | J26: 42828 | Q26: CDI au 03/04/2017

Sheet Suivi des congés
A2: Société AN | B2: Suivi des congés N
A3: Mois en cours | B3: juillet
B5: Solde | C5: 42855 | G5: 42886 | J5: 42916 | M5: 42947 | P5: 42978 | S5: 43008 | V5: 43039 | Y5: 43069 | AB5: 43100 | AE5: 43131 | AH5: 43159 | AK5: 43190 | AN5: N-1
B6: Congés | C6: Acquis | D6: Pris | E6: Solde | G6: Acquis | H6: Pris | I6: Solde | J6: Acquis | K6: Pris | L6: Solde | M6: Acquis | N6: Pris | O6: Solde | P6: Acquis | Q6: Pris | R6: Solde | S6: Acquis | T6: Pris | U6: Solde | V6: Acquis | W6: Pris | X6: Solde | Y6: Acquis | Z6: Pris | AA6: Solde | AB6: Acquis | AC6: Pris | AD6: Solde | AE6: Acquis | AF6: Pris | AG6: Solde | AH6: Acquis | AI6: Pris | AJ6: Solde | AK6: Acquis | AL6: Pris | AM6: Solde | AN6: Solde
A7: =IFERROR(INDEX('Salariés en activités'!A:A,MATCH(F7,'Salariés en activités'!B:B,0)),"") -> Vivian Thomas | B7: =IF($B$3="avril",E7,IF($B$3="mai",I7,IF($B$3="juin",L7,IF($B$3="juillet",O7,IF($B$3="aout",R7,IF($B$3="août",R7,IF($B$3="septembre",U7,IF($B$3="octobre",X7,IF($B$3="novembre",AA7,IF($B$3="décembre",AD7,IF($B$3="decembre",AD7,IF($B$3="janvier",AG7,IF($B$3="février",AJ7,IF($B$3="février",AJ7,IF($B$3="mars",AM7,""))))))))))))))) -> 10 | C7: =IF(A7="","",IF($C$5<'Salariés en activités'!I9,0,IF(A7="","",2.5+AN7))) -> 2.5 | E7: =IF(A7="","",IF(D7>0,C7-D7,IF(C7=2.5,2.5,C7-D7))) -> 2.5 | F7: =IF('Salariés en activités'!$B9<>"",'Salariés en activités'!$B9,"") -> 00222 | G7: =IF($G$5<'Salariés en activités'!$I$9,0,IF($A$7="","",2.5+E7)) -> 5 | I7: =IF(G7="","",IF(G7=2.5,2.5,G7-H7)) -> 5 | J7: =IF($J$5<'Salariés en activités'!I9,0,IF(A7="","",2.5+I7)) -> 7.5 | L7: =IF(J7="","",IF(J7=2.5,2.5,J7-K7)) -> 7.5 | M7: =IF($M$5<'Salariés en activités'!I9,0,IF(A7="","",'Pointage 07'!AP7+L7)) -> 10 | N7: ='Pointage 07'!AM7 | O7: =IF(N7="",M7,IF(N7>0,M7-N7,M7)) -> 10 | P7: =IF($P$5<'Salariés en activités'!I9,0,IF(A7="","",2.5+O7)) -> 12.5 | Q7: ='Pointage 08'!AM7 | R7: =IF(Q7="",P7,IF(Q7>0,P7-Q7)) -> 12.5 | S7: =IF($S$5<'Salariés en activités'!I9,0,IF(A7="","",2.5+R7)) -> 15 | T7: ='Pointage 09'!AM7 | U7: =IF(T7="",S7,IF(T7>0,S7-T7)) -> 15 | V7: =IF($V$5<'Salariés en activités'!I9,0,IF(A7="","",2.5+U7)) -> 17.5 | W7: ='Pointage 10'!AM7 | X7: =IF(W7="",V7,IF(W7>0,V7+W7)) -> 17.5 | Y7: =IF($Y$5<'Salariés en activités'!I9,0,IF(A7="","",2.5+X7)) -> 20 | Z7: ='Pointage 11'!AM7 | AA7: =IF(Z7="",Y7,IF(Z7>0,Y7-Z7)) -> 20 | AB7: =IF($AB$5<'Salariés en activités'!I9,0,IF(A7="","",2.5+AA7)) -> 22.5 | AC7: ='Pointage 12'!AM7 | AD7: =IF(AC7="",AB7,IF(AC7>0,AB7-AC7)) -> 22.5 | AE7: =IF($AE$5<'Salariés en activités'!I9,0,IF(A7="","",2.5+AD7)) -> 25 | AF7: ='Pointage 01'!AM7 | AG7: =IF(AF7="",AE7,IF(AF7>0,AE7-AF7)) -> 25 | AH7: =IF($AH$5<'Salariés en activités'!I9,0,IF(A7="","",2.5+AG7)) -> 27.5 | AI7: ='Pointage 02'!AM7 | AJ7: =IF(AI7="",AH7,IF(AI7>0,AH7-AI7)) -> 27.5 | AK7: =IF($AK$5<'Salariés en activités'!I9,0,IF(A7="","",2.5+AJ7)) -> 30 | AL7: ='Pointage 03'!AM7 | AM7: =IF(AL7="",AK7,IF(AL7>0,AK7-AL7)) -> 30 | AN7: 0
A8: =IFERROR(INDEX('Salariés en activités'!A:A,MATCH(F8,'Salariés en activités'!B:B,0)),"") -> SPAG Ethi | B8: =IF($B$3="avril",E8,IF($B$3="mai",I8,IF($B$3="juin",L8,IF($B$3="juillet",O8,IF($B$3="aout",R8,IF($B$3="août",R8,IF($B$3="septembre",U8,IF($B$3="octobre",X8,IF($B$3="novembre",AA8,IF($B$3="décembre",AD8,IF($B$3="decembre",AD8,IF($B$3="janvier",AG8,IF($B$3="février",AJ8,IF($B$3="février",AJ8,IF($B$3="mars",AM8,""))))))))))))))) -> 48 | C8: =IF(A8="","",IF($C$5<'Salariés en activités'!I10,0,IF(A8="","",2.5+AN8))) -> 46.5 | E8: =IF(A8="","",IF(D8>0,C8-D8,IF(C8=2.5,2.5,C8-D8))) -> 46.5 | F8: =IF('Salariés en activités'!B10<>"",'Salariés en activités'!B10,"") -> 00468 | G8: =IF($G$5<'Salariés en activités'!$I$10,0,IF($A$8="","",2.5+E8)) -> 49 | I8: =IF(G8="","",IF(G8=2.5,2.5,G8-H8)) -> 49 | J8: =IF($J$5<'Salariés en activités'!I10,0,IF(A8="","",2.5+I8)) -> 51.5 | K8: 6 | L8: =IF(J8="","",IF(J8=2.5,2.5,J8-K8)) -> 45.5 | M8: =IF($M$5<'Salariés en activités'!I10,0,IF(A8="","",'Pointage 07'!AP8+L8)) -> 48 | N8: ='Pointage 07'!AM8 | O8: =IF(N8="",M8,IF(N8>0,M8-N8,M8)) -> 48 | P8: =IF($P$5<'Salariés en activités'!I10,0,IF(A8="","",2.5+O8)) -> 50.5 | Q8: ='Pointage 08'!AM8 | R8: =IF(Q8="",P8,IF(Q8>0,P8-Q8)) -> 50.5 | S8: =IF($S$5<'Salariés en activités'!I10,0,IF(A8="","",2.5+R8)) -> 53 | T8: ='Pointage 09'!AM8 | U8: =IF(T8="",S8,IF(T8>0,S8-T8)) -> 53 | V8: =IF($V$5<'Salariés en activités'!I10,0,IF(A8="","",2.5+U8)) -> 55.5 | W8: ='Pointage 10'!AM8 | X8: =IF(W8="",V8,IF(W8>0,V8+W8)) -> 55.5 | Y8: =IF($Y$5<'Salariés en activités'!I10,0,IF(A8="","",2.5+X8)) -> 58 | Z8: ='Pointage 11'!AM8 | AA8: =IF(Z8="",Y8,IF(Z8>0,Y8-Z8)) -> 58 | AB8: =IF($AB$5<'Salariés en activités'!I10,0,IF(A8="","",2.5+AA8)) -> 60.5 | AC8: ='Pointage 12'!AM8 | AD8: =IF(AC8="",AB8,IF(AC8>0,AB8-AC8)) -> 60.5 | AE8: =IF($AE$5<'Salariés en activités'!I10,0,IF(A8="","",2.5+AD8)) -> 63 | AF8: ='Pointage 01'!AM8 | AG8: =IF(AF8="",AE8,IF(AF8>0,AE8-AF8)) -> 63 | AH8: =IF($AH$5<'Salariés en activités'!I10,0,IF(A8="","",2.5+AG8)) -> 65.5 | AJ8: =IF(AI8="",AH8,IF(AI8>0,AH8-AI8)) -> 65.5 | AK8: =IF($AK$5<'Salariés en activités'!I10,0,IF(A8="","",2.5+AJ8)) -> 68 | AL8: ='Pointage 03'!AM8 | AM8: =IF(AL8="",AK8,IF(AL8>0,AK8-AL8)) -> 68 | AN8: 44
A9: =IFERROR(INDEX('Salariés en activités'!A:A,MATCH(F9,'Salariés en activités'!B:B,0)),"") -> RAT Dominique | B9: =IF($B$3="avril",E9,IF($B$3="mai",I9,IF($B$3="juin",L9,IF($B$3="juillet",O9,IF($B$3="aout",R9,IF($B$3="août",R9,IF($B$3="septembre",U9,IF($B$3="octobre",X9,IF($B$3="novembre",AA9,IF($B$3="décembre",AD9,IF($B$3="decembre",AD9,IF($B$3="janvier",AG9,IF($B$3="février",AJ9,IF($B$3="février",AJ9,IF($B$3="mars",AM9,""))))))))))))))) -> 22 | C9: =IF(A9="","",IF($C$5<'Salariés en activités'!I11,0,IF(A9="","",2.5+AN9))) -> 15.5 | E9: =IF(A9="","",IF(D9>0,C9-D9,IF(C9=2.5,2.5,C9-D9))) -> 15.5 | F9: =IF('Salariés en activités'!B11<>"",'Salariés en activités'!B11,"") -> 00001 | G9: =IF($G$5<'Salariés en activités'!I11,0,IF(A9="","",2.5+E9)) -> 18 | I9: =IF(G9="","",IF(G9=2.5,2.5,G9-H9)) -> 18 | J9: =IF($J$5<'Salariés en activités'!I11,0,IF(A9="","",2.5+I9)) -> 20.5 | K9: 1 | L9: =IF(J9="","",IF(J9=2.5,2.5,J9-K9)) -> 19.5 | M9: =IF($M$5<'Salariés en activités'!I11,0,IF(A9="","",'Pointage 07'!AP9+L9)) -> 22 | N9: ='Pointage 07'!AM9 | O9: =IF(N9="",M9,IF(N9>0,M9-N9,M9)) -> 22 | P9: =IF($P$5<'Salariés en activités'!I11,0,IF(A9="","",2.5+O9)) -> 24.5 | Q9: ='Pointage 08'!AM9 | R9: =IF(Q9="",P9,IF(Q9>0,P9-Q9)) -> 24.5 | S9: =IF($S$5<'Salariés en activités'!I11,0,IF(A9="","",2.5+R9)) -> 27 | T9: ='Pointage 09'!AM9 | U9: =IF(T9="",S9,IF(T9>0,S9-T9)) -> 27 | V9: =IF($V$5<'Salariés en activités'!I11,0,IF(A9="","",2.5+U9)) -> 29.5 | W9: ='Pointage 10'!AM9 | X9: =IF(W9="",V9,IF(W9>0,V9+W9)) -> 29.5 | Y9: =IF($Y$5<'Salariés en activités'!I11,0,IF(A9="","",2.5+X9)) -> 32 | Z9: ='Pointage 11'!AM9 | AA9: =IF(Z9="",Y9,IF(Z9>0,Y9-Z9)) -> 32 | AB9: =IF($AB$5<'Salariés en activités'!I11,0,IF(A9="","",2.5+AA9)) -> 34.5 | AC9: ='Pointage 12'!AM9 | AD9: =IF(AC9="",AB9,IF(AC9>0,AB9-AC9)) -> 34.5 | AE9: =IF($AE$5<'Salariés en activités'!I11,0,IF(A9="","",2.5+AD9)) -> 37 | AF9: ='Pointage 01'!AM9 | AG9: =IF(AF9="",AE9,IF(AF9>0,AE9-AF9)) -> 37 | AH9: =IF($AH$5<'Salariés en activités'!I11,0,IF(A9="","",2.5+AG9)) -> 39.5 | AJ9: =IF(AI9="",AH9,IF(AI9>0,AH9-AI9)) -> 39.5 | AK9: =IF($AK$5<'Salariés en activités'!I11,0,IF(A9="","",2.5+AJ9)) -> 42 | AL9: ='Pointage 03'!AM9 | AM9: =IF(AL9="",AK9,IF(AL9>0,AK9-AL9)) -> 42 | AN9: 13
A10: =IFERROR(INDEX('Salariés en activités'!A:A,MATCH(F10,'Salariés en activités'!B:B,0)),"") -> PIROUETTE Cacahuete | B10: =IF($B$3="avril",E10,IF($B$3="mai",I10,IF($B$3="juin",L10,IF($B$3="juillet",O10,IF($B$3="aout",R10,IF($B$3="août",R10,IF($B$3="septembre",U10,IF($B$3="octobre",X10,IF($B$3="novembre",AA10,IF($B$3="décembre",AD10,IF($B$3="decembre",AD10,IF($B$3="janvier",AG10,IF($B$3="février",AJ10,IF($B$3="février",AJ10,IF($B$3="mars",AM10,""))))))))))))))) -> 19.961538 | C10: =IF(A10="","",IF($C$5<'Salariés en activités'!I12,0,IF(A10="","",2.5+AN10))) -> 14.5 | E10: =IF(A10="","",IF(D10>0,C10-D10,IF(C10=2.5,2.5,C10-D10))) -> 14.5 | F10: =IF('Salariés en activités'!B12<>"",'Salariés en activités'!B12,"") -> 00107 | G10: =IF($G$5<'Salariés en activités'!I12,0,IF(A10="","",2.5+E10)) -> 17 | I10: =IF(G10="","",IF(G10=2.5,2.5,G10-H10)) -> 17 | J10: =IF($J$5<'Salariés en activités'!I12,0,IF(A10="","",2.5+I10)) -> 19.5 | K10: 1 | L10: =IF(J10="","",IF(J10=2.5,2.5,J10-K10)) -> 18.5 | M10: =IF($M$5<'Salariés en activités'!I12,0,IF(A10="","",'Pointage 07'!AP10+L10)) -> 19.961538 | N10: ='Pointage 07'!AM10 | O10: =IF(N10="",M10,IF(N10>0,M10-N10,M10)) -> 19.961538 | P10: =IF($P$5<'Salariés en activités'!I12,0,IF(A10="","",2.5+O10)) -> 22.461538 | Q10: ='Pointage 08'!AM10 | R10: =IF(Q10="",P10,IF(Q10>0,P10-Q10)) -> 22.461538 | S10: =IF($S$5<'Salariés en activités'!I12,0,IF(A10="","",2.5+R10)) -> 24.961538 | T10: ='Pointage 09'!AM10 | U10: =IF(T10="",S10,IF(T10>0,S10-T10)) -> 24.961538 | V10: =IF($V$5<'Salariés en activités'!I12,0,IF(A10="","",2.5+U10)) -> 27.461538 | W10: ='Pointage 10'!AM10 | X10: =IF(W10="",V10,IF(W10>0,V10+W10)) -> 27.461538 | Y10: =IF($Y$5<'Salariés en activités'!I12,0,IF(A10="","",2.5+X10)) -> 29.961538 | Z10: ='Pointage 11'!AM10 | AA10: =IF(Z10="",Y10,IF(Z10>0,Y10-Z10)) -> 29.961538 | AB10: =IF($AB$5<'Salariés en activités'!I12,0,IF(A10="","",2.5+AA10)) -> 32.461538 | AC10: ='Pointage 12'!AM10 | AD10: =IF(AC10="",AB10,IF(AC10>0,AB10-AC10)) -> 32.461538 | AE10: =IF($AE$5<'Salariés en activités'!I12,0,IF(A10="","",2.5+AD10)) -> 34.961538 | AF10: ='Pointage 01'!AM10 | AG10: =IF(AF10="",AE10,IF(AF10>0,AE10-AF10)) -> 34.961538 | AH10: =IF($AH$5<'Salariés en activités'!I12,0,IF(A10="","",2.5+AG10)) -> 37.461538 | AJ10: =IF(AI10="",AH10,IF(AI10>0,AH10-AI10)) -> 37.461538 | AK10: =IF($AK$5<'Salariés en activités'!I12,0,IF(A10="","",2.5+AJ10)) -> 39.961538 | AL10: ='Pointage 03'!AM10 | AM10: =IF(AL10="",AK10,IF(AL10>0,AK10-AL10)) -> 39.961538 | AN10: 12
A11: =IFERROR(INDEX('Salariés en activités'!A:A,MATCH(F11,'Salariés en activités'!B:B,0)),"") -> ORDI Nathan | B11: =IF($B$3="avril",E11,IF($B$3="mai",I11,IF($B$3="juin",L11,IF($B$3="juillet",O11,IF($B$3="aout",R11,IF($B$3="août",R11,IF($B$3="septembre",U11,IF($B$3="octobre",X11,IF($B$3="novembre",AA11,IF($B$3="décembre",AD11,IF($B$3="decembre",AD11,IF($B$3="janvier",AG11,IF($B$3="février",AJ11,IF($B$3="février",AJ11,IF($B$3="mars",AM11,""))))))))))))))) -> 45.5 | C11: =IF(A11="","",IF($C$5<'Salariés en activités'!I13,0,IF(A11="","",2.5+AN11))) -> 49 | E11: =IF(A11="","",IF(D11>0,C11-D11,IF(C11=2.5,2.5,C11-D11))) -> 49 | F11: =IF('Salariés en activités'!B13<>"",'Salariés en activités'!B13,"") -> 00134 | G11: =IF($G$5<'Salariés en activités'!I13,0,IF(A11="","",2.5+E11)) -> 51.5 | H11: 10 | I11: =IF(G11="","",IF(G11=2.5,2.5,G11-H11)) -> 41.5 | J11: =IF($J$5<'Salariés en activités'!I13,0,IF(A11="","",2.5+I11)) -> 44 | K11: 1 | L11: =IF(J11="","",IF(J11=2.5,2.5,J11-K11)) -> 43 | M11: =IF($M$5<'Salariés en activités'!I13,0,IF(A11="","",'Pointage 07'!AP11+L11)) -> 45.5 | N11: ='Pointage 07'!AM11 | O11: =IF(N11="",M11,IF(N11>0,M11-N11,M11)) -> 45.5 | P11: =IF($P$5<'Salariés en activités'!I13,0,IF(A11="","",2.5+O11)) -> 48 | Q11: ='Pointage 08'!AM11 | R11: =IF(Q11="",P11,IF(Q11>0,P11-Q11)) -> 48 | S11: =IF($S$5<'Salariés en activités'!I13,0,IF(A11="","",2.5+R11)) -> 50.5 | T11: ='Pointage 09'!AM11 | U11: =IF(T11="",S11,IF(T11>0,S11-T11)) -> 50.5 | V11: =IF($V$5<'Salariés en activités'!I13,0,IF(A11="","",2.5+U11)) -> 53 | W11: ='Pointage 10'!AM11 | X11: =IF(W11="",V11,IF(W11>0,V11+W11)) -> 53 | Y11: =IF($Y$5<'Salariés en activités'!I13,0,IF(A11="","",2.5+X11)) -> 55.5 | Z11: ='Pointage 11'!AM11 | AA11: =IF(Z11="",Y11,IF(Z11>0,Y11-Z11)) -> 55.5 | AB11: =IF($AB$5<'Salariés en activités'!I13,0,IF(A11="","",2.5+AA11)) -> 58 | AC11: ='Pointage 12'!AM11 | AD11: =IF(AC11="",AB11,IF(AC11>0,AB11-AC11)) -> 58 | AE11: =IF($AE$5<'Salariés en activités'!I13,0,IF(A11="","",2.5+AD11)) -> 60.5 | AF11: ='Pointage 01'!AM11 | AG11: =IF(AF11="",AE11,IF(AF11>0,AE11-AF11)) -> 60.5 | AH11: =IF($AH$5<'Salariés en activités'!I13,0,IF(A11="","",2.5+AG11)) -> 63 | AJ11: =IF(AI11="",AH11,IF(AI11>0,AH11-AI11)) -> 63 | AK11: =IF($AK$5<'Salariés en activités'!I13,0,IF(A11="","",2.5+AJ11)) -> 65.5 | AL11: ='Pointage 03'!AM11 | AM11: =IF(AL11="",AK11,IF(AL11>0,AK11-AL11)) -> 65.5 | AN11: 46.5
A12: =IFERROR(INDEX('Salariés en activités'!A:A,MATCH(F12,'Salariés en activités'!B:B,0)),"") -> MACHE Yves | B12: =IF($B$3="avril",E12,IF($B$3="mai",I12,IF($B$3="juin",L12,IF($B$3="juillet",O12,IF($B$3="aout",R12,IF($B$3="août",R12,IF($B$3="septembre",U12,IF($B$3="octobre",X12,IF($B$3="novembre",AA12,IF($B$3="décembre",AD12,IF($B$3="decembre",AD12,IF($B$3="janvier",AG12,IF($B$3="février",AJ12,IF($B$3="février",AJ12,IF($B$3="mars",AM12,""))))))))))))))) -> 51.5 | C12: =IF(A12="","",IF($C$5<'Salariés en activités'!I14,0,IF(A12="","",2.5+AN12))) -> 50 | D12: 3 | E12: =IF(A12="","",IF(D12>0,C12-D12,IF(C12=2.5,2.5,C12-D12))) -> 47 | F12: =IF('Salariés en activités'!B14<>"",'Salariés en activités'!B14,"") -> 00458 | G12: =IF($G$5<'Salariés en activités'!I14,0,IF(A12="","",2.5+E12)) -> 49.5 | I12: =IF(G12="","",IF(G12=2.5,2.5,G12-H12)) -> 49.5 | J12: =IF($J$5<'Salariés en activités'!I14,0,IF(A12="","",2.5+I12)) -> 52 | K12: 2 | L12: =IF(J12="","",IF(J12=2.5,2.5,J12-K12)) -> 50 | M12: =IF($M$5<'Salariés en activités'!I14,0,IF(A12="","",'Pointage 07'!AP12+L12)) -> 52.5 | N12: ='Pointage 07'!AM12 -> 1 | O12: =IF(N12="",M12,IF(N12>0,M12-N12,M12)) -> 51.5 | P12: =IF($P$5<'Salariés en activités'!I14,0,IF(A12="","",2.5+O12)) -> 54 | Q12: ='Pointage 08'!AM12 | R12: =IF(Q12="",P12,IF(Q12>0,P12-Q12)) -> 54 | S12: =IF($S$5<'Salariés en activités'!I14,0,IF(A12="","",2.5+R12)) -> 56.5 | T12: ='Pointage 09'!AM12 | U12: =IF(T12="",S12,IF(T12>0,S12-T12)) -> 56.5 | V12: =IF($V$5<'Salariés en activités'!I14,0,IF(A12="","",2.5+U12)) -> 59 | W12: ='Pointage 10'!AM12 | X12: =IF(W12="",V12,IF(W12>0,V12+W12)) -> 59 | Y12: =IF($Y$5<'Salariés en activités'!I14,0,IF(A12="","",2.5+X12)) -> 61.5 | Z12: ='Pointage 11'!AM12 | AA12: =IF(Z12="",Y12,IF(Z12>0,Y12-Z12)) -> 61.5 | AB12: =IF($AB$5<'Salariés en activités'!I14,0,IF(A12="","",2.5+AA12)) -> 64 | AC12: ='Pointage 12'!AM12 | AD12: =IF(AC12="",AB12,IF(AC12>0,AB12-AC12)) -> 64 | AE12: =IF($AE$5<'Salariés en activités'!I14,0,IF(A12="","",2.5+AD12)) -> 66.5 | AF12: ='Pointage 01'!AM12 | AG12: =IF(AF12="",AE12,IF(AF12>0,AE12-AF12)) -> 66.5 | AH12: =IF($AH$5<'Salariés en activités'!I14,0,IF(A12="","",2.5+AG12)) -> 69 | AJ12: =IF(AI12="",AH12,IF(AI12>0,AH12-AI12)) -> 69 | AK12: =IF($AK$5<'Salariés en activités'!I14,0,IF(A12="","",2.5+AJ12)) -> 71.5 | AL12: ='Pointage 03'!AM12 | AM12: =IF(AL12="",AK12,IF(AL12>0,AK12-AL12)) -> 71.5 | AN12: 47.5
A13: =IFERROR(INDEX('Salariés en activités'!A:A,MATCH(F13,'Salariés en activités'!B:B,0)),"") -> KIP And | B13: =IF($B$3="avril",E13,IF($B$3="mai",I13,IF($B$3="juin",L13,IF($B$3="juillet",O13,IF($B$3="aout",R13,IF($B$3="août",R13,IF($B$3="septembre",U13,IF($B$3="octobre",X13,IF($B$3="novembre",AA13,IF($B$3="décembre",AD13,IF($B$3="decembre",AD13,IF($B$3="janvier",AG13,IF($B$3="février",AJ13,IF($B$3="février",AJ13,IF($B$3="mars",AM13,""))))))))))))))) -> 5.5 | C13: =IF(A13="","",IF($C$5<'Salariés en activités'!I15,0,IF(A13="","",2.5+AN13))) -> 8.5 | E13: =IF(A13="","",IF(D13>0,C13-D13,IF(C13=2.5,2.5,C13-D13))) -> 8.5 | F13: =IF('Salariés en activités'!B15<>"",'Salariés en activités'!B15,"") -> 00152 | G13: =IF($G$5<'Salariés en activités'!I15,0,IF(A13="","",2.5+E13)) -> 11 | I13: =IF(G13="","",IF(G13=2.5,2.5,G13-H13)) -> 11 | J13: =IF($J$5<'Salariés en activités'!I15,0,IF(A13="","",2.5+I13)) -> 13.5 | K13: 2 | L13: =IF(J13="","",IF(J13=2.5,2.5,J13-K13)) -> 11.5 | M13: =IF($M$5<'Salariés en activités'!I15,0,IF(A13="","",'Pointage 07'!AP13+L13)) -> 14 | N13: ='Pointage 07'!AM13 -> 8.5 | O13: =IF(N13="",M13,IF(N13>0,M13-N13,M13)) -> 5.5 | P13: =IF($P$5<'Salariés en activités'!I15,0,IF(A13="","",2.5+O13)) -> 8 | Q13: ='Pointage 08'!AM13 | R13: =IF(Q13="",P13,IF(Q13>0,P13-Q13)) -> 8 | S13: =IF($S$5<'Salariés en activités'!I15,0,IF(A13="","",2.5+R13)) -> 10.5 | T13: ='Pointage 09'!AM13 | U13: =IF(T13="",S13,IF(T13>0,S13-T13)) -> 10.5 | V13: =IF($V$5<'Salariés en activités'!I15,0,IF(A13="","",2.5+U13)) -> 13 | W13: ='Pointage 10'!AM13 | X13: =IF(W13="",V13,IF(W13>0,V13+W13)) -> 13 | Y13: =IF($Y$5<'Salariés en activités'!I15,0,IF(A13="","",2.5+X13)) -> 15.5 | Z13: ='Pointage 11'!AM13 | AA13: =IF(Z13="",Y13,IF(Z13>0,Y13-Z13)) -> 15.5 | AB13: =IF($AB$5<'Salariés en activités'!I15,0,IF(A13="","",2.5+AA13)) -> 18 | AC13: ='Pointage 12'!AM13 | AD13: =IF(AC13="",AB13,IF(AC13>0,AB13-AC13)) -> 18 | AE13: =IF($AE$5<'Salariés en activités'!I15,0,IF(A13="","",2.5+AD13)) -> 20.5 | AF13: ='Pointage 01'!AM13 | AG13: =IF(AF13="",AE13,IF(AF13>0,AE13-AF13)) -> 20.5 | AH13: =IF($AH$5<'Salariés en activités'!I15,0,IF(A13="","",2.5+AG13)) -> 23 | AJ13: =IF(AI13="",AH13,IF(AI13>0,AH13-AI13)) -> 23 | AK13: =IF($AK$5<'Salariés en activités'!I15,0,IF(A13="","",2.5+AJ13)) -> 25.5 | AL13: ='Pointage 03'!AM13 | AM13: =IF(AL13="",AK13,IF(AL13>0,AK13-AL13)) -> 25.5 | AN13: 6
A14: =IFERROR(INDEX('Salariés en activités'!A:A,MATCH(F14,'Salariés en activités'!B:B,0)),"") -> GIROU Gilles | B14: =IF($B$3="avril",E14,IF($B$3="mai",I14,IF($B$3="juin",L14,IF($B$3="juillet",O14,IF($B$3="aout",R14,IF($B$3="août",R14,IF($B$3="septembre",U14,IF($B$3="octobre",X14,IF($B$3="novembre",AA14,IF($B$3="décembre",AD14,IF($B$3="decembre",AD14,IF($B$3="janvier",AG14,IF($B$3="février",AJ14,IF($B$3="février",AJ14,IF($B$3="mars",AM14,""))))))))))))))) -> 2 | C14: =IF(A14="","",IF($C$5<'Salariés en activités'!I16,0,IF(A14="","",2.5+AN14))) -> 2.5 | E14: =IF(A14="","",IF(D14>0,C14-D14,IF(C14=2.5,2.5,C14-D14))) -> 2.5 | F14: =IF('Salariés en activités'!B16<>"",'Salariés en activités'!B16,"") -> 00103 | G14: =IF($G$5<'Salariés en activités'!I16,0,IF(A14="","",2.5+E14)) -> 5 | I14: =IF(G14="","",IF(G14=2.5,2.5,G14-H14)) -> 5 | J14: =IF($J$5<'Salariés en activités'!I16,0,IF(A14="","",2.5+I14)) -> 7.5 | K14: 8 | L14: =IF(J14="","",IF(J14=2.5,2.5,J14-K14)) -> -0.5 | M14: =IF($M$5<'Salariés en activités'!I16,0,IF(A14="","",'Pointage 07'!AP14+L14)) -> 2 | N14: ='Pointage 07'!AM14 | O14: =IF(N14="",M14,IF(N14>0,M14-N14,M14)) -> 2 | P14: =IF($P$5<'Salariés en activités'!I16,0,IF(A14="","",2.5+O14)) -> 4.5 | Q14: ='Pointage 08'!AM14 | R14: =IF(Q14="",P14,IF(Q14>0,P14-Q14)) -> 4.5 | S14: =IF($S$5<'Salariés en activités'!I16,0,IF(A14="","",2.5+R14)) -> 7 | T14: ='Pointage 09'!AM14 | U14: =IF(T14="",S14,IF(T14>0,S14-T14)) -> 7 | V14: =IF($V$5<'Salariés en activités'!I16,0,IF(A14="","",2.5+U14)) -> 9.5 | W14: ='Pointage 10'!AM14 | X14: =IF(W14="",V14,IF(W14>0,V14+W14)) -> 9.5 | Y14: =IF($Y$5<'Salariés en activités'!I16,0,IF(A14="","",2.5+X14)) -> 12 | Z14: ='Pointage 11'!AM14 | AA14: =IF(Z14="",Y14,IF(Z14>0,Y14-Z14)) -> 12 | AB14: =IF($AB$5<'Salariés en activités'!I16,0,IF(A14="","",2.5+AA14)) -> 14.5 | AC14: ='Pointage 12'!AM14 | AD14: =IF(AC14="",AB14,IF(AC14>0,AB14-AC14)) -> 14.5 | AE14: =IF($AE$5<'Salariés en activités'!I16,0,IF(A14="","",2.5+AD14)) -> 17 | AF14: ='Pointage 01'!AM14 | AG14: =IF(AF14="",AE14,IF(AF14>0,AE14-AF14)) -> 17 | AH14: =IF($AH$5<'Salariés en activités'!I16,0,IF(A14="","",2.5+AG14)) -> 19.5 | AJ14: =IF(AI14="",AH14,IF(AI14>0,AH14-AI14)) -> 19.5 | AK14: =IF($AK$5<'Salariés en activités'!I16,0,IF(A14="","",2.5+AJ14)) -> 22 | AL14: ='Pointage 03'!AM14 | AM14: =IF(AL14="",AK14,IF(AL14>0,AK14-AL14)) -> 22 | AN14: 0
A15: =IFERROR(INDEX('Salariés en activités'!A:A,MATCH(F15,'Salariés en activités'!B:B,0)),"") -> GINO Gilles | B15: =IF($B$3="avril",E15,IF($B$3="mai",I15,IF($B$3="juin",L15,IF($B$3="juillet",O15,IF($B$3="aout",R15,IF($B$3="août",R15,IF($B$3="septembre",U15,IF($B$3="octobre",X15,IF($B$3="novembre",AA15,IF($B$3="décembre",AD15,IF($B$3="decembre",AD15,IF($B$3="janvier",AG15,IF($B$3="février",AJ15,IF($B$3="février",AJ15,IF($B$3="mars",AM15,""))))))))))))))) -> 51 | C15: =IF(A15="","",IF($C$5<'Salariés en activités'!I17,0,IF(A15="","",2.5+AN15))) -> 53.5 | D15: 1 | E15: =IF(A15="","",IF(D15>0,C15-D15,IF(C15=2.5,2.5,C15-D15))) -> 52.5 | F15: =IF('Salariés en activités'!B17<>"",'Salariés en activités'!B17,"") -> 00469 | G15: =IF($G$5<'Salariés en activités'!I17,0,IF(A15="","",2.5+E15)) -> 55 | H15: 1 | I15: =IF(G15="","",IF(G15=2.5,2.5,G15-H15)) -> 54 | J15: =IF($J$5<'Salariés en activités'!I17,0,IF(A15="","",2.5+I15)) -> 56.5 | K15: 8 | L15: =IF(J15="","",IF(J15=2.5,2.5,J15-K15)) -> 48.5 | M15: =IF($M$5<'Salariés en activités'!I17,0,IF(A15="","",'Pointage 07'!AP15+L15)) -> 51 | N15: ='Pointage 07'!AM15 | O15: =IF(N15="",M15,IF(N15>0,M15-N15,M15)) -> 51 | P15: =IF($P$5<'Salariés en activités'!I17,0,IF(A15="","",2.5+O15)) -> 53.5 | Q15: ='Pointage 08'!AM15 | R15: =IF(Q15="",P15,IF(Q15>0,P15-Q15)) -> 53.5 | S15: =IF($S$5<'Salariés en activités'!I17,0,IF(A15="","",2.5+R15)) -> 56 | T15: ='Pointage 09'!AM15 | U15: =IF(T15="",S15,IF(T15>0,S15-T15)) -> 56 | V15: =IF($V$5<'Salariés en activités'!I17,0,IF(A15="","",2.5+U15)) -> 58.5 | W15: ='Pointage 10'!AM15 | X15: =IF(W15="",V15,IF(W15>0,V15+W15)) -> 58.5 | Y15: =IF($Y$5<'Salariés en activités'!I17,0,IF(A15="","",2.5+X15)) -> 61 | Z15: ='Pointage 11'!AM15 | AA15: =IF(Z15="",Y15,IF(Z15>0,Y15-Z15)) -> 61 | AB15: =IF($AB$5<'Salariés en activités'!I17,0,IF(A15="","",2.5+AA15)) -> 63.5 | AC15: ='Pointage 12'!AM15 | AD15: =IF(AC15="",AB15,IF(AC15>0,AB15-AC15)) -> 63.5 | AE15: =IF($AE$5<'Salariés en activités'!I17,0,IF(A15="","",2.5+AD15)) -> 66 | AF15: ='Pointage 01'!AM15 | AG15: =IF(AF15="",AE15,IF(AF15>0,AE15-AF15)) -> 66 | AH15: =IF($AH$5<'Salariés en activités'!I17,0,IF(A15="","",2.5+AG15)) -> 68.5 | AJ15: =IF(AI15="",AH15,IF(AI15>0,AH15-AI15)) -> 68.5 | AK15: =IF($AK$5<'Salariés en activités'!I17,0,IF(A15="","",2.5+AJ15)) -> 71 | AL15: ='Pointage 03'!AM15 | AM15: =IF(AL15="",AK15,IF(AL15>0,AK15-AL15)) -> 71 | AN15: 51
A16: =IFERROR(INDEX('Salariés en activités'!A:A,MATCH(F16,'Salariés en activités'!B:B,0)),"") -> Dupont Jack | B16: =IF($B$3="avril",E16,IF($B$3="mai",I16,IF($B$3="juin",L16,IF($B$3="juillet",O16,IF($B$3="aout",R16,IF($B$3="août",R16,IF($B$3="septembre",U16,IF($B$3="octobre",X16,IF($B$3="novembre",AA16,IF($B$3="décembre",AD16,IF($B$3="decembre",AD16,IF($B$3="janvier",AG16,IF($B$3="février",AJ16,IF($B$3="février",AJ16,IF($B$3="mars",AM16,""))))))))))))))) -> 2.5 | C16: =IF(A16="","",IF($C$5<'Salariés en activités'!I18,0,IF(A16="","",2.5+AN16))) -> 0 | E16: =IF(A16="","",IF(D16>0,C16-D16,IF(C16=2.5,2.5,C16-D16))) -> 0 | F16: =IF('Salariés en activités'!B18<>"",'Salariés en activités'!B18,"") -> 00482 | G16: =IF($G$5<'Salariés en activités'!I18,0,IF(A16="","",2.5+E16)) -> 0 | I16: =IF(G16="","",IF(G16=2.5,2.5,G16-H16)) -> 0 | J16: =IF($J$5<'Salariés en activités'!I18,0,IF(A16="","",2.5+I16)) -> 0 | L16: =IF(J16="","",IF(J16=2.5,2.5,J16-K16)) -> 0 | M16: =IF($M$5<'Salariés en activités'!I18,0,IF(A16="","",'Pointage 07'!AP16+L16)) -> 2.5 | N16: ='Pointage 07'!AM16 | O16: =IF(N16="",M16,IF(N16>0,M16-N16,M16)) -> 2.5 | P16: =IF($P$5<'Salariés en activités'!I18,0,IF(A16="","",2.5+O16)) -> 5 | Q16: ='Pointage 08'!AM16 | R16: =IF(Q16="",P16,IF(Q16>0,P16-Q16)) -> 5 | S16: =IF($S$5<'Salariés en activités'!I18,0,IF(A16="","",2.5+R16)) -> 7.5 | T16: ='Pointage 09'!AM16 | U16: =IF(T16="",S16,IF(T16>0,S16-T16)) -> 7.5 | V16: =IF($V$5<'Salariés en activités'!I18,0,IF(A16="","",2.5+U16)) -> 10 | W16: ='Pointage 10'!AM16 | X16: =IF(W16="",V16,IF(W16>0,V16+W16)) -> 10 | Y16: =IF($Y$5<'Salariés en activités'!I18,0,IF(A16="","",2.5+X16)) -> 12.5 | Z16: ='Pointage 11'!AM16 | AA16: =IF(Z16="",Y16,IF(Z16>0,Y16-Z16)) -> 12.5 | AB16: =IF($AB$5<'Salariés en activités'!I18,0,IF(A16="","",2.5+AA16)) -> 15 | AC16: ='Pointage 12'!AM16 | AD16: =IF(AC16="",AB16,IF(AC16>0,AB16-AC16)) -> 15 | AE16: =IF($AE$5<'Salariés en activités'!I18,0,IF(A16="","",2.5+AD16)) -> 17.5 | AF16: ='Pointage 01'!AM16 | AG16: =IF(AF16="",AE16,IF(AF16>0,AE16-AF16)) -> 17.5 | AH16: =IF($AH$5<'Salariés en activités'!I18,0,IF(A16="","",2.5+AG16)) -> 20 | AJ16: =IF(AI16="",AH16,IF(AI16>0,AH16-AI16)) -> 20 | AK16: =IF($AK$5<'Salariés en activités'!I18,0,IF(A16="","",2.5+AJ16)) -> 22.5 | AL16: ='Pointage 03'!AM16 | AM16: =IF(AL16="",AK16,IF(AL16>0,AK16-AL16)) -> 22.5 | AN16: 0
A17: =IFERROR(INDEX('Salariés en activités'!A:A,MATCH(F17,'Salariés en activités'!B:B,0)),"") -> DION Celine | B17: =IF($B$3="avril",E17,IF($B$3="mai",I17,IF($B$3="juin",L17,IF($B$3="juillet",O17,IF($B$3="aout",R17,IF($B$3="août",R17,IF($B$3="septembre",U17,IF($B$3="octobre",X17,IF($B$3="novembre",AA17,IF($B$3="décembre",AD17,IF($B$3="decembre",AD17,IF($B$3="janvier",AG17,IF($B$3="février",AJ17,IF($B$3="février",AJ17,IF($B$3="mars",AM17,""))))))))))))))) -> 42.5 | C17: =IF(A17="","",IF($C$5<'Salariés en activités'!I19,0,IF(A17="","",2.5+AN17))) -> 46 | D17: 5 | E17: =IF(A17="","",IF(D17>0,C17-D17,IF(C17=2.5,2.5,C17-D17))) -> 41 | F17: =IF('Salariés en activités'!B19<>"",'Salariés en activités'!B19,"") -> 00166 | G17: =IF($G$5<'Salariés en activités'!I19,0,IF(A17="","",2.5+E17)) -> 43.5 | I17: =IF(G17="","",IF(G17=2.5,2.5,G17-H17)) -> 43.5 | J17: =IF($J$5<'Salariés en activités'!I19,0,IF(A17="","",2.5+I17)) -> 46 | K17: 1 | L17: =IF(J17="","",IF(J17=2.5,2.5,J17-K17)) -> 45 | M17: =IF($M$5<'Salariés en activités'!I19,0,IF(A17="","",'Pointage 07'!AP17+L17)) -> 47.5 | N17: ='Pointage 07'!AM17 -> 5 | O17: =IF(N17="",M17,IF(N17>0,M17-N17,M17)) -> 42.5 | P17: =IF($P$5<'Salariés en activités'!I19,0,IF(A17="","",2.5+O17)) -> 45 | Q17: ='Pointage 08'!AM17 | R17: =IF(Q17="",P17,IF(Q17>0,P17-Q17)) -> 45 | S17: =IF($S$5<'Salariés en activités'!I19,0,IF(A17="","",2.5+R17)) -> 47.5 | T17: ='Pointage 09'!AM17 | U17: =IF(T17="",S17,IF(T17>0,S17-T17)) -> 47.5 | V17: =IF($V$5<'Salariés en activités'!I19,0,IF(A17="","",2.5+U17)) -> 50 | W17: ='Pointage 10'!AM17 | X17: =IF(W17="",V17,IF(W17>0,V17+W17)) -> 50 | Y17: =IF($Y$5<'Salariés en activités'!I19,0,IF(A17="","",2.5+X17)) -> 52.5 | Z17: ='Pointage 11'!AM17 | AA17: =IF(Z17="",Y17,IF(Z17>0,Y17-Z17)) -> 52.5 | AB17: =IF($AB$5<'Salariés en activités'!I19,0,IF(A17="","",2.5+AA17)) -> 55 | AC17: ='Pointage 12'!AM17 | AD17: =IF(AC17="",AB17,IF(AC17>0,AB17-AC17)) -> 55 | AE17: =IF($AE$5<'Salariés en activités'!I19,0,IF(A17="","",2.5+AD17)) -> 57.5 | AF17: ='Pointage 01'!AM17 | AG17: =IF(AF17="",AE17,IF(AF17>0,AE17-AF17)) -> 57.5 | AH17: =IF($AH$5<'Salariés en activités'!I19,0,IF(A17="","",2.5+AG17)) -> 60 | AJ17: =IF(AI17="",AH17,IF(AI17>0,AH17-AI17)) -> 60 | AK17: =IF($AK$5<'Salariés en activités'!I19,0,IF(A17="","",2.5+AJ17)) -> 62.5 | AL17: ='Pointage 03'!AM17 | AM17: =IF(AL17="",AK17,IF(AL17>0,AK17-AL17)) -> 62.5 | AN17: 43.5
A18: =IFERROR(INDEX('Salariés en activités'!A:A,MATCH(F18,'Salariés en activités'!B:B,0)),"") -> CHOUETTE Patrick | B18: =IF($B$3="avril",E18,IF($B$3="mai",I18,IF($B$3="juin",L18,IF($B$3="juillet",O18,IF($B$3="aout",R18,IF($B$3="août",R18,IF($B$3="septembre",U18,IF($B$3="octobre",X18,IF($B$3="novembre",AA18,IF($B$3="décembre",AD18,IF($B$3="decembre",AD18,IF($B$3="janvier",AG18,IF($B$3="février",AJ18,IF($B$3="février",AJ18,IF($B$3="mars",AM18,""))))))))))))))) -> -10.5 | C18: =IF(A18="","",IF($C$5<'Salariés en activités'!I20,0,IF(A18="","",2.5+AN18))) -> 0 | D18: 6 | E18: =IF(A18="","",IF(D18>0,C18-D18,IF(C18=2.5,2.5,C18-D18))) -> -6 | F18: =IF('Salariés en activités'!B20<>"",'Salariés en activités'!B20,"") -> 00465 | G18: =IF($G$5<'Salariés en activités'!I20,0,IF(A18="","",2.5+E18)) -> 0 | I18: =IF(G18="","",IF(G18=2.5,2.5,G18-H18)) -> 0 | J18: =IF($J$5<'Salariés en activités'!I20,0,IF(A18="","",2.5+I18)) -> 0 | K18: 1 | L18: =IF(J18="","",IF(J18=2.5,2.5,J18-K18)) -> -1 | M18: =IF($M$5<'Salariés en activités'!I20,0,IF(A18="","",'Pointage 07'!AP18+L18)) -> 1.5 | N18: ='Pointage 07'!AM18 -> 12 | O18: =IF(N18="",M18,IF(N18>0,M18-N18,M18)) -> -10.5 | P18: =IF($P$5<'Salariés en activités'!I20,0,IF(A18="","",2.5+O18)) -> -8 | Q18: ='Pointage 08'!AM18 | R18: =IF(Q18="",P18,IF(Q18>0,P18-Q18)) -> -8 | S18: =IF($S$5<'Salariés en activités'!I20,0,IF(A18="","",2.5+R18)) -> -5.5 | T18: ='Pointage 09'!AM18 | U18: =IF(T18="",S18,IF(T18>0,S18-T18)) -> -5.5 | V18: =IF($V$5<'Salariés en activités'!I20,0,IF(A18="","",2.5+U18)) -> -3 | W18: ='Pointage 10'!AM18 | X18: =IF(W18="",V18,IF(W18>0,V18+W18)) -> -3 | Y18: =IF($Y$5<'Salariés en activités'!I20,0,IF(A18="","",2.5+X18)) -> -0.5 | Z18: ='Pointage 11'!AM18 | AA18: =IF(Z18="",Y18,IF(Z18>0,Y18-Z18)) -> -0.5 | AB18: =IF($AB$5<'Salariés en activités'!I20,0,IF(A18="","",2.5+AA18)) -> 2 | AC18: ='Pointage 12'!AM18 | AD18: =IF(AC18="",AB18,IF(AC18>0,AB18-AC18)) -> 2 | AE18: =IF($AE$5<'Salariés en activités'!I20,0,IF(A18="","",2.5+AD18)) -> 4.5 | AF18: ='Pointage 01'!AM18 | AG18: =IF(AF18="",AE18,IF(AF18>0,AE18-AF18)) -> 4.5 | AH18: =IF($AH$5<'Salariés en activités'!I20,0,IF(A18="","",2.5+AG18)) -> 7 | AJ18: =IF(AI18="",AH18,IF(AI18>0,AH18-AI18)) -> 7 | AK18: =IF($AK$5<'Salariés en activités'!I20,0,IF(A18="","",2.5+AJ18)) -> 9.5 | AL18: ='Pointage 03'!AM18 | AM18: =IF(AL18="",AK18,IF(AL18>0,AK18-AL18)) -> 9.5 | AN18: 52
A19: =IFERROR(INDEX('Salariés en activités'!A:A,MATCH(F19,'Salariés en activités'!B:B,0)),"") -> CASSE Tout | B19: =IF($B$3="avril",E19,IF($B$3="mai",I19,IF($B$3="juin",L19,IF($B$3="juillet",O19,IF($B$3="aout",R19,IF($B$3="août",R19,IF($B$3="septembre",U19,IF($B$3="octobre",X19,IF($B$3="novembre",AA19,IF($B$3="décembre",AD19,IF($B$3="decembre",AD19,IF($B$3="janvier",AG19,IF($B$3="février",AJ19,IF($B$3="février",AJ19,IF($B$3="mars",AM19,""))))))))))))))) -> 40 | C19: =IF(A19="","",IF($C$5<'Salariés en activités'!I21,0,IF(A19="","",2.5+AN19))) -> 46.5 | E19: =IF(A19="","",IF(D19>0,C19-D19,IF(C19=2.5,2.5,C19-D19))) -> 46.5 | F19: =IF('Salariés en activités'!B21<>"",'Salariés en activités'!B21,"") -> 00279 | G19: =IF($G$5<'Salariés en activités'!I21,0,IF(A19="","",2.5+E19)) -> 49 | H19: 11 | I19: =IF(G19="","",IF(G19=2.5,2.5,G19-H19)) -> 38 | J19: =IF($J$5<'Salariés en activités'!I21,0,IF(A19="","",2.5+I19)) -> 40.5 | K19: 1 | L19: =IF(J19="","",IF(J19=2.5,2.5,J19-K19)) -> 39.5 | M19: =IF($M$5<'Salariés en activités'!I21,0,IF(A19="","",'Pointage 07'!AP19+L19)) -> 42 | N19: ='Pointage 07'!AM19 -> 2 | O19: =IF(N19="",M19,IF(N19>0,M19-N19,M19)) -> 40 | P19: =IF($P$5<'Salariés en activités'!I21,0,IF(A19="","",2.5+O19)) -> 42.5 | Q19: ='Pointage 08'!AM19 | R19: =IF(Q19="",P19,IF(Q19>0,P19-Q19)) -> 42.5 | S19: =IF($S$5<'Salariés en activités'!I21,0,IF(A19="","",2.5+R19)) -> 45 | T19: ='Pointage 09'!AM19 | U19: =IF(T19="",S19,IF(T19>0,S19-T19)) -> 45 | V19: =IF($V$5<'Salariés en activités'!I21,0,IF(A19="","",2.5+U19)) -> 47.5 | W19: ='Pointage 10'!AM19 | X19: =IF(W19="",V19,IF(W19>0,V19+W19)) -> 47.5 | Y19: =IF($Y$5<'Salariés en activités'!I21,0,IF(A19="","",2.5+X19)) -> 50 | Z19: ='Pointage 11'!AM19 | AA19: =IF(Z19="",Y19,IF(Z19>0,Y19-Z19)) -> 50 | AB19: =IF($AB$5<'Salariés en activités'!I21,0,IF(A19="","",2.5+AA19)) -> 52.5 | AC19: ='Pointage 12'!AM19 | AD19: =IF(AC19="",AB19,IF(AC19>0,AB19-AC19)) -> 52.5 | AE19: =IF($AE$5<'Salariés en activités'!I21,0,IF(A19="","",2.5+AD19)) -> 55 | AF19: ='Pointage 01'!AM19 | AG19: =IF(AF19="",AE19,IF(AF19>0,AE19-AF19)) -> 55 | AH19: =IF($AH$5<'Salariés en activités'!I21,0,IF(A19="","",2.5+AG19)) -> 57.5 | AJ19: =IF(AI19="",AH19,IF(AI19>0,AH19-AI19)) -> 57.5 | AK19: =IF($AK$5<'Salariés en activités'!I21,0,IF(A19="","",2.5+AJ19)) -> 60 | AL19: ='Pointage 03'!AM19 | AM19: =IF(AL19="",AK19,IF(AL19>0,AK19-AL19)) -> 60 | AN19: 44
A20: =IFERROR(INDEX('Salariés en activités'!A:A,MATCH(F20,'Salariés en activités'!B:B,0)),"") -> CARDIAQUE Philippe | B20: =IF($B$3="avril",E20,IF($B$3="mai",I20,IF($B$3="juin",L20,IF($B$3="juillet",O20,IF($B$3="aout",R20,IF($B$3="août",R20,IF($B$3="septembre",U20,IF($B$3="octobre",X20,IF($B$3="novembre",AA20,IF($B$3="décembre",AD20,IF($B$3="decembre",AD20,IF($B$3="janvier",AG20,IF($B$3="février",AJ20,IF($B$3="février",AJ20,IF($B$3="mars",AM20,""))))))))))))))) -> -2 | C20: =IF(A20="","",IF($C$5<'Salariés en activités'!I22,0,IF(A20="","",2.5+AN20))) -> 12.5 | D20: 7 | E20: =IF(A20="","",IF(D20>0,C20-D20,IF(C20=2.5,2.5,C20-D20))) -> 5.5 | F20: =IF('Salariés en activités'!B22<>"",'Salariés en activités'!B22,"") -> 00451 | G20: =IF($G$5<'Salariés en activités'!I22,0,IF(A20="","",2.5+E20)) -> 8 | H20: 2 | I20: =IF(G20="","",IF(G20=2.5,2.5,G20-H20)) -> 6 | J20: =IF($J$5<'Salariés en activités'!I22,0,IF(A20="","",2.5+I20)) -> 8.5 | K20: 6 | L20: =IF(J20="","",IF(J20=2.5,2.5,J20-K20)) -> 2.5 | M20: =IF($M$5<'Salariés en activités'!I22,0,IF(A20="","",'Pointage 07'!AP20+L20)) -> 5 | N20: ='Pointage 07'!AM20 -> 7 | O20: =IF(N20="",M20,IF(N20>0,M20-N20,M20)) -> -2 | P20: =IF($P$5<'Salariés en activités'!I22,0,IF(A20="","",2.5+O20)) -> 0.5 | Q20: ='Pointage 08'!AM20 | R20: =IF(Q20="",P20,IF(Q20>0,P20-Q20)) -> 0.5 | S20: =IF($S$5<'Salariés en activités'!I22,0,IF(A20="","",2.5+R20)) -> 3 | T20: ='Pointage 09'!AM20 | U20: =IF(T20="",S20,IF(T20>0,S20-T20)) -> 3 | V20: =IF($V$5<'Salariés en activités'!I22,0,IF(A20="","",2.5+U20)) -> 5.5 | W20: ='Pointage 10'!AM20 | X20: =IF(W20="",V20,IF(W20>0,V20+W20)) -> 5.5 | Y20: =IF($Y$5<'Salariés en activités'!I22,0,IF(A20="","",2.5+X20)) -> 8 | Z20: ='Pointage 11'!AM20 | AA20: =IF(Z20="",Y20,IF(Z20>0,Y20-Z20)) -> 8 | AB20: =IF($AB$5<'Salariés en activités'!I22,0,IF(A20="","",2.5+AA20)) -> 10.5 | AC20: ='Pointage 12'!AM20 | AD20: =IF(AC20="",AB20,IF(AC20>0,AB20-AC20)) -> 10.5 | AE20: =IF($AE$5<'Salariés en activités'!I22,0,IF(A20="","",2.5+AD20)) -> 13 | AF20: ='Pointage 01'!AM20 | AG20: =IF(AF20="",AE20,IF(AF20>0,AE20-AF20)) -> 13 | AH20: =IF($AH$5<'Salariés en activités'!I22,0,IF(A20="","",2.5+AG20)) -> 15.5 | AJ20: =IF(AI20="",AH20,IF(AI20>0,AH20-AI20)) -> 15.5 | AK20: =IF($AK$5<'Salariés en activités'!I22,0,IF(A20="","",2.5+AJ20)) -> 18 | AL20: ='Pointage 03'!AM20 | AM20: =IF(AL20="",AK20,IF(AL20>0,AK20-AL20)) -> 18 | AN20: 10
A21: =IFERROR(INDEX('Salariés en activités'!A:A,MATCH(F21,'Salariés en activités'!B:B,0)),"") -> CACA lol | B21: =IF($B$3="avril",E21,IF($B$3="mai",I21,IF($B$3="juin",L21,IF($B$3="juillet",O21,IF($B$3="aout",R21,IF($B$3="août",R21,IF($B$3="septembre",U21,IF($B$3="octobre",X21,IF($B$3="novembre",AA21,IF($B$3="décembre",AD21,IF($B$3="decembre",AD21,IF($B$3="janvier",AG21,IF($B$3="février",AJ21,IF($B$3="février",AJ21,IF($B$3="mars",AM21,""))))))))))))))) -> -1.2692309 | C21: =IF(A21="","",IF($C$5<'Salariés en activités'!I23,0,IF(A21="","",2.5+AN21))) -> 0 | D21: 5 | E21: =IF(A21="","",IF(D21>0,C21-D21,IF(C21=2.5,2.5,C21-D21))) -> -5 | F21: =IF('Salariés en activités'!B23<>"",'Salariés en activités'!B23,"") -> 00483 | G21: =IF($G$5<'Salariés en activités'!I23,0,IF(A21="","",2.5+E21)) -> 0 | I21: =IF(G21="","",IF(G21=2.5,2.5,G21-H21)) -> 0 | J21: =IF($J$5<'Salariés en activités'!I23,0,IF(A21="","",2.5+I21)) -> 0 | K21: 1 | L21: =IF(J21="","",IF(J21=2.5,2.5,J21-K21)) -> -1 | M21: =IF($M$5<'Salariés en activités'!I23,0,IF(A21="","",'Pointage 07'!AP21+L21)) -> 0.23076913 | N21: ='Pointage 07'!AM21 -> 1.5 | O21: =IF(N21="",M21,IF(N21>0,M21-N21,M21)) -> -1.2692309 | P21: =IF($P$5<'Salariés en activités'!I23,0,IF(A21="","",2.5+O21)) -> 1.2307691 | Q21: ='Pointage 08'!AM21 | R21: =IF(Q21="",P21,IF(Q21>0,P21-Q21)) -> 1.2307691 | S21: =IF($S$5<'Salariés en activités'!I23,0,IF(A21="","",2.5+R21)) -> 3.7307691 | T21: ='Pointage 09'!AM21 | U21: =IF(T21="",S21,IF(T21>0,S21-T21)) -> 3.7307691 | V21: =IF($V$5<'Salariés en activités'!I23,0,IF(A21="","",2.5+U21)) -> 6.2307691 | W21: ='Pointage 10'!AM21 | X21: =IF(W21="",V21,IF(W21>0,V21+W21)) -> 6.2307691 | Y21: =IF($Y$5<'Salariés en activités'!I23,0,IF(A21="","",2.5+X21)) -> 8.7307691 | Z21: ='Pointage 11'!AM21 | AA21: =IF(Z21="",Y21,IF(Z21>0,Y21-Z21)) -> 8.7307691 | AB21: =IF($AB$5<'Salariés en activités'!I23,0,IF(A21="","",2.5+AA21)) -> 11.230769 | AC21: ='Pointage 12'!AM21 | AD21: =IF(AC21="",AB21,IF(AC21>0,AB21-AC21)) -> 11.230769 | AE21: =IF($AE$5<'Salariés en activités'!I23,0,IF(A21="","",2.5+AD21)) -> 13.730769 | AF21: ='Pointage 01'!AM21 | AG21: =IF(AF21="",AE21,IF(AF21>0,AE21-AF21)) -> 13.730769 | AH21: =IF($AH$5<'Salariés en activités'!I23,0,IF(A21="","",2.5+AG21)) -> 16.230769 | AJ21: =IF(AI21="",AH21,IF(AI21>0,AH21-AI21)) -> 16.230769 | AK21: =IF($AK$5<'Salariés en activités'!I23,0,IF(A21="","",2.5+AJ21)) -> 18.730769 | AL21: ='Pointage 03'!AM21 | AM21: =IF(AL21="",AK21,IF(AL21>0,AK21-AL21)) -> 18.730769 | AN21: 22.5
A22: =IFERROR(INDEX('Salariés en activités'!A:A,MATCH(F22,'Salariés en activités'!B:B,0)),"") -> BOULE Sophie | B22: =IF($B$3="avril",E22,IF($B$3="mai",I22,IF($B$3="juin",L22,IF($B$3="juillet",O22,IF($B$3="aout",R22,IF($B$3="août",R22,IF($B$3="septembre",U22,IF($B$3="octobre",X22,IF($B$3="novembre",AA22,IF($B$3="décembre",AD22,IF($B$3="decembre",AD22,IF($B$3="janvier",AG22,IF($B$3="février",AJ22,IF($B$3="février",AJ22,IF($B$3="mars",AM22,""))))))))))))))) -> -4 | C22: =IF(A22="","",IF($C$5<'Salariés en activités'!I24,0,IF(A22="","",2.5+AN22))) -> 0 | D22: 5 | E22: =IF(A22="","",IF(D22>0,C22-D22,IF(C22=2.5,2.5,C22-D22))) -> -5 | F22: =IF('Salariés en activités'!B24<>"",'Salariés en activités'!B24,"") -> 00480 | G22: =IF($G$5<'Salariés en activités'!I24,0,IF(A22="","",2.5+E22)) -> 0 | H22: 2 | I22: =IF(G22="","",IF(G22=2.5,2.5,G22-H22)) -> -2 | J22: =IF($J$5<'Salariés en activités'!I24,0,IF(A22="","",2.5+I22)) -> 0 | K22: 1 | L22: =IF(J22="","",IF(J22=2.5,2.5,J22-K22)) -> -1 | M22: =IF($M$5<'Salariés en activités'!I24,0,IF(A22="","",'Pointage 07'!AP22+L22)) -> 1.5 | N22: ='Pointage 07'!AM22 -> 5.5 | O22: =IF(N22="",M22,IF(N22>0,M22-N22,M22)) -> -4 | P22: =IF($P$5<'Salariés en activités'!I24,0,IF(A22="","",2.5+O22)) -> -1.5 | Q22: ='Pointage 08'!AM22 | R22: =IF(Q22="",P22,IF(Q22>0,P22-Q22)) -> -1.5 | S22: =IF($S$5<'Salariés en activités'!I24,0,IF(A22="","",2.5+R22)) -> 1 | T22: ='Pointage 09'!AM22 | U22: =IF(T22="",S22,IF(T22>0,S22-T22)) -> 1 | V22: =IF($V$5<'Salariés en activités'!I24,0,IF(A22="","",2.5+U22)) -> 3.5 | W22: ='Pointage 10'!AM22 | X22: =IF(W22="",V22,IF(W22>0,V22+W22)) -> 3.5 | Y22: =IF($Y$5<'Salariés en activités'!I24,0,IF(A22="","",2.5+X22)) -> 6 | Z22: ='Pointage 11'!AM22 | AA22: =IF(Z22="",Y22,IF(Z22>0,Y22-Z22)) -> 6 | AB22: =IF($AB$5<'Salariés en activités'!I24,0,IF(A22="","",2.5+AA22)) -> 8.5 | AC22: ='Pointage 12'!AM22 | AD22: =IF(AC22="",AB22,IF(AC22>0,AB22-AC22)) -> 8.5 | AE22: =IF($AE$5<'Salariés en activités'!I24,0,IF(A22="","",2.5+AD22)) -> 11 | AF22: ='Pointage 01'!AM22 | AG22: =IF(AF22="",AE22,IF(AF22>0,AE22-AF22)) -> 11 | AH22: =IF($AH$5<'Salariés en activités'!I24,0,IF(A22="","",2.5+AG22)) -> 13.5 | AJ22: =IF(AI22="",AH22,IF(AI22>0,AH22-AI22)) -> 13.5 | AK22: =IF($AK$5<'Salariés en activités'!I24,0,IF(A22="","",2.5+AJ22)) -> 16 | AL22: ='Pointage 03'!AM22 | AM22: =IF(AL22="",AK22,IF(AL22>0,AK22-AL22)) -> 16 | AN22: 70
A23: =IFERROR(INDEX('Salariés en activités'!A:A,MATCH(F23,'Salariés en activités'!B:B,0)),"") -> BOLO Nese | B23: =IF($B$3="avril",E23,IF($B$3="mai",I23,IF($B$3="juin",L23,IF($B$3="juillet",O23,IF($B$3="aout",R23,IF($B$3="août",R23,IF($B$3="septembre",U23,IF($B$3="octobre",X23,IF($B$3="novembre",AA23,IF($B$3="décembre",AD23,IF($B$3="decembre",AD23,IF($B$3="janvier",AG23,IF($B$3="février",AJ23,IF($B$3="février",AJ23,IF($B$3="mars",AM23,""))))))))))))))) -> 10 | C23: =IF(A23="","",IF($C$5<'Salariés en activités'!I25,0,IF(A23="","",2.5+AN23))) -> 2.5 | E23: =IF(A23="","",IF(D23>0,C23-D23,IF(C23=2.5,2.5,C23-D23))) -> 2.5 | F23: =IF('Salariés en activités'!B25<>"",'Salariés en activités'!B25,"") -> 00467 | G23: =IF($G$5<'Salariés en activités'!I25,0,IF(A23="","",2.5+E23)) -> 5 | I23: =IF(G23="","",IF(G23=2.5,2.5,G23-H23)) -> 5 | J23: =IF($J$5<'Salariés en activités'!I25,0,IF(A23="","",2.5+I23)) -> 7.5 | L23: =IF(J23="","",IF(J23=2.5,2.5,J23-K23)) -> 7.5 | M23: =IF($M$5<'Salariés en activités'!I25,0,IF(A23="","",'Pointage 07'!AP23+L23)) -> 10 | N23: ='Pointage 07'!AM23 | O23: =IF(N23="",M23,IF(N23>0,M23-N23,M23)) -> 10 | P23: =IF($P$5<'Salariés en activités'!I25,0,IF(A23="","",2.5+O23)) -> 12.5 | Q23: ='Pointage 08'!AM23 | R23: =IF(Q23="",P23,IF(Q23>0,P23-Q23)) -> 12.5 | S23: =IF($S$5<'Salariés en activités'!I25,0,IF(A23="","",2.5+R23)) -> 15 | T23: ='Pointage 09'!AM23 | U23: =IF(T23="",S23,IF(T23>0,S23-T23)) -> 15 | V23: =IF($V$5<'Salariés en activités'!I25,0,IF(A23="","",2.5+U23)) -> 17.5 | W23: ='Pointage 10'!AM23 | X23: =IF(W23="",V23,IF(W23>0,V23+W23)) -> 17.5 | Y23: =IF($Y$5<'Salariés en activités'!I25,0,IF(A23="","",2.5+X23)) -> 20 | Z23: ='Pointage 11'!AM23 | AA23: =IF(Z23="",Y23,IF(Z23>0,Y23-Z23)) -> 20 | AB23: =IF($AB$5<'Salariés en activités'!I25,0,IF(A23="","",2.5+AA23)) -> 22.5 | AC23: ='Pointage 12'!AM23 | AD23: =IF(AC23="",AB23,IF(AC23>0,AB23-AC23)) -> 22.5 | AE23: =IF($AE$5<'Salariés en activités'!I25,0,IF(A23="","",2.5+AD23)) -> 25 | AF23: ='Pointage 01'!AM23 | AG23: =IF(AF23="",AE23,IF(AF23>0,AE23-AF23)) -> 25 | AH23: =IF($AH$5<'Salariés en activités'!I25,0,IF(A23="","",2.5+AG23)) -> 27.5 | AJ23: =IF(AI23="",AH23,IF(AI23>0,AH23-AI23)) -> 27.5 | AK23: =IF($AK$5<'Salariés en activités'!I25,0,IF(A23="","",2.5+AJ23)) -> 30 | AL23: ='Pointage 03'!AM23 | AM23: =IF(AL23="",AK23,IF(AL23>0,AK23-AL23)) -> 30 | AN23: 0
A24: =IFERROR(INDEX('Salariés en activités'!A:A,MATCH(F24,'Salariés en activités'!B:B,0)),"") -> ADD Adrien | B24: =IF($B$3="avril",E24,IF($B$3="mai",I24,IF($B$3="juin",L24,IF($B$3="juillet",O24,IF($B$3="aout",R24,IF($B$3="août",R24,IF($B$3="septembre",U24,IF($B$3="octobre",X24,IF($B$3="novembre",AA24,IF($B$3="décembre",AD24,IF($B$3="decembre",AD24,IF($B$3="janvier",AG24,IF($B$3="février",AJ24,IF($B$3="février",AJ24,IF($B$3="mars",AM24,""))))))))))))))) -> 9.4230769 | C24: =IF(A24="","",IF($C$5<'Salariés en activités'!I26,0,IF(A24="","",2.5+AN24))) -> 2.5 | E24: =IF(A24="","",IF(D24>0,C24-D24,IF(C24=2.5,2.5,C24-D24))) -> 2.5 | F24: =IF('Salariés en activités'!B26<>"",'Salariés en activités'!B26,"") -> 00462 | G24: =IF($G$5<'Salariés en activités'!I26,0,IF(A24="","",2.5+E24)) -> 5 | I24: =IF(G24="","",IF(G24=2.5,2.5,G24-H24)) -> 5 | J24: =IF($J$5<'Salariés en activités'!I26,0,IF(A24="","",2.5+I24)) -> 7.5 | L24: =IF(J24="","",IF(J24=2.5,2.5,J24-K24)) -> 7.5 | M24: =IF($M$5<'Salariés en activités'!I26,0,IF(A24="","",'Pointage 07'!AP24+L24)) -> 9.4230769 | N24: ='Pointage 07'!AM24 | O24: =IF(N24="",M24,IF(N24>0,M24-N24,M24)) -> 9.4230769 | P24: =IF($P$5<'Salariés en activités'!I26,0,IF(A24="","",2.5+O24)) -> 11.923077 | Q24: ='Pointage 08'!AM24 | R24: =IF(Q24="",P24,IF(Q24>0,P24-Q24)) -> 11.923077 | S24: =IF($S$5<'Salariés en activités'!I26,0,IF(A24="","",2.5+R24)) -> 14.423077 | T24: ='Pointage 09'!AM24 | U24: =IF(T24="",S24,IF(T24>0,S24-T24)) -> 14.423077 | V24: =IF($V$5<'Salariés en activités'!I26,0,IF(A24="","",2.5+U24)) -> 16.923077 | W24: ='Pointage 10'!AM24 | X24: =IF(W24="",V24,IF(W24>0,V24+W24)) -> 16.923077 | Y24: =IF($Y$5<'Salariés en activités'!I26,0,IF(A24="","",2.5+X24)) -> 19.423077 | Z24: ='Pointage 11'!AM24 | AA24: =IF(Z24="",Y24,IF(Z24>0,Y24-Z24)) -> 19.423077 | AB24: =IF($AB$5<'Salariés en activités'!I26,0,IF(A24="","",2.5+AA24)) -> 21.923077 | AC24: ='Pointage 12'!AM24 | AD24: =IF(AC24="",AB24,IF(AC24>0,AB24-AC24)) -> 21.923077 | AE24: =IF($AE$5<'Salariés en activités'!I26,0,IF(A24="","",2.5+AD24)) -> 24.423077 | AF24: ='Pointage 01'!AM24 | AG24: =IF(AF24="",AE24,IF(AF24>0,AE24-AF24)) -> 24.423077 | AH24: =IF($AH$5<'Salariés en activités'!I26,0,IF(A24="","",2.5+AG24)) -> 26.923077 | AJ24: =IF(AI24="",AH24,IF(AI24>0,AH24-AI24)) -> 26.923077 | AK24: =IF($AK$5<'Salariés en activités'!I26,0,IF(A24="","",2.5+AJ24)) -> 29.423077 | AL24: ='Pointage 03'!AM24 | AM24: =IF(AL24="",AK24,IF(AL24>0,AK24-AL24)) -> 29.423077 | AN24: 0
A25: =IFERROR(INDEX('Salariés en activités'!A:A,MATCH(F25,'Salariés en activités'!B:B,0)),"") | B25: =IF($B$3="avril",E25,IF($B$3="mai",I25,IF($B$3="juin",L25,IF($B$3="juillet",O25,IF($B$3="aout",R25,IF($B$3="août",R25,IF($B$3="septembre",U25,IF($B$3="octobre",X25,IF($B$3="novembre",AA25,IF($B$3="décembre",AD25,IF($B$3="decembre",AD25,IF($B$3="janvier",AG25,IF($B$3="février",AJ25,IF($B$3="février",AJ25,IF($B$3="mars",AM25,""))))))))))))))) | C25: =IF(A25="","",IF($C$5<'Salariés en activités'!I27,0,IF(A25="","",2.5+AN25))) | E25: =IF(A25="","",IF(D25>0,C25-D25,IF(C25=2.5,2.5,C25-D25))) | F25: =IF('Salariés en activités'!B27<>"",'Salariés en activités'!B27,"") | G25: =IF($G$5<'Salariés en activités'!I27,0,IF(A25="","",2.5+E25)) | I25: =IF(G25="","",IF(G25=2.5,2.5,G25-H25)) | J25: =IF($J$5<'Salariés en activités'!I27,0,IF(A25="","",2.5+I25)) | L25: =IF(J25="","",IF(J25=2.5,2.5,J25-K25)) | M25: =IF($M$5<'Salariés en activités'!I27,0,IF(A25="","",'Pointage 07'!AP25+L25)) | N25: ='Pointage 07'!AM25 | O25: =IF(N25="",M25,IF(N25>0,M25-N25,M25)) | P25: =IF($P$5<'Salariés en activités'!I27,0,IF(A25="","",2.5+O25)) | Q25: ='Pointage 08'!AM25 | R25: =IF(Q25="",P25,IF(Q25>0,P25-Q25)) | S25: =IF($S$5<'Salariés en activités'!I27,0,IF(A25="","",2.5+R25)) | T25: ='Pointage 09'!AM25 | U25: =IF(T25="",S25,IF(T25>0,S25-T25)) | V25: =IF($V$5<'Salariés en activités'!I27,0,IF(A25="","",2.5+U25)) | W25: ='Pointage 10'!AM25 | X25: =IF(W25="",V25,IF(W25>0,V25+W25)) | Y25: =IF($Y$5<'Salariés en activités'!I27,0,IF(A25="","",2.5+X25)) | Z25: ='Pointage 11'!AM25 | AA25: =IF(Z25="",Y25,IF(Z25>0,Y25-Z25)) | AB25: =IF($AB$5<'Salariés en activités'!I27,0,IF(A25="","",2.5+AA25)) | AC25: ='Pointage 12'!AM25 | AD25: =IF(AC25="",AB25,IF(AC25>0,AB25-AC25)) | AE25: =IF($AE$5<'Salariés en activités'!I27,0,IF(A25="","",2.5+AD25)) | AF25: ='Pointage 01'!AM25 | AG25: =IF(AF25="",AE25,IF(AF25>0,AE25-AF25)) | AH25: =IF($AH$5<'Salariés en activités'!I27,0,IF(A25="","",2.5+AG25)) | AJ25: =IF(AI25="",AH25,IF(AI25>0,AH25-AI25)) | AK25: =IF($AK$5<'Salariés en activités'!I27,0,IF(A25="","",2.5+AJ25)) | AL25: ='Pointage 03'!AM25 | AM25: =IF(AL25="",AK25,IF(AL25>0,AK25-AL25))
A26: =IFERROR(INDEX('Salariés en activités'!A:A,MATCH(F26,'Salariés en activités'!B:B,0)),"") | B26: =IF($B$3="avril",E26,IF($B$3="mai",I26,IF($B$3="juin",L26,IF($B$3="juillet",O26,IF($B$3="aout",R26,IF($B$3="août",R26,IF($B$3="septembre",U26,IF($B$3="octobre",X26,IF($B$3="novembre",AA26,IF($B$3="décembre",AD26,IF($B$3="decembre",AD26,IF($B$3="janvier",AG26,IF($B$3="février",AJ26,IF($B$3="février",AJ26,IF($B$3="mars",AM26,""))))))))))))))) | C26: =IF(A26="","",IF($C$5<'Salariés en activités'!I28,0,IF(A26="","",2.5+AN26))) | E26: =IF(A26="","",IF(D26>0,C26-D26,IF(C26=2.5,2.5,C26-D26))) | F26: =IF('Salariés en activités'!B28<>"",'Salariés en activités'!B28,"") | G26: =IF($G$5<'Salariés en activités'!I28,0,IF(A26="","",2.5+E26)) | I26: =IF(G26="","",IF(G26=2.5,2.5,G26-H26)) | J26: =IF($J$5<'Salariés en activités'!I28,0,IF(A26="","",2.5+I26)) | L26: =IF(J26="","",IF(J26=2.5,2.5,J26-K26)) | M26: =IF($M$5<'Salariés en activités'!I28,0,IF(A26="","",'Pointage 07'!AP26+L26)) | N26: ='Pointage 07'!AM26 | O26: =IF(N26="",M26,IF(N26>0,M26-N26,M26)) | P26: =IF($P$5<'Salariés en activités'!I28,0,IF(A26="","",2.5+O26)) | Q26: ='Pointage 08'!AM26 | R26: =IF(Q26="",P26,IF(Q26>0,P26-Q26)) | S26: =IF($S$5<'Salariés en activités'!I28,0,IF(A26="","",2.5+R26)) | T26: ='Pointage 09'!AM26 | U26: =IF(T26="",S26,IF(T26>0,S26-T26)) | V26: =IF($V$5<'Salariés en activités'!I28,0,IF(A26="","",2.5+U26)) | W26: ='Pointage 10'!AM26 | X26: =IF(W26="",V26,IF(W26>0,V26+W26)) | Y26: =IF($Y$5<'Salariés en activités'!I28,0,IF(A26="","",2.5+X26)) | Z26: ='Pointage 11'!AM26 | AA26: =IF(Z26="",Y26,IF(Z26>0,Y26-Z26)) | AB26: =IF($AB$5<'Salariés en activités'!I28,0,IF(A26="","",2.5+AA26)) | AC26: ='Pointage 12'!AM26 | AD26: =IF(AC26="",AB26,IF(AC26>0,AB26-AC26)) | AE26: =IF($AE$5<'Salariés en activités'!I28,0,IF(A26="","",2.5+AD26)) | AF26: ='Pointage 01'!AM26 | AG26: =IF(AF26="",AE26,IF(AF26>0,AE26-AF26)) | AH26: =IF($AH$5<'Salariés en activités'!I28,0,IF(A26="","",2.5+AG26)) | AJ26: =IF(AI26="",AH26,IF(AI26>0,AH26-AI26)) | AK26: =IF($AK$5<'Salariés en activités'!I28,0,IF(A26="","",2.5+AJ26)) | AL26: ='Pointage 03'!AM26 | AM26: =IF(AL26="",AK26,IF(AL26>0,AK26-AL26))

Sheet Légende
B2: Légende / notice
B5: Pour plus de précautions les formules des tableaux sont protégées par un mot de passe : ASBH
B6: De nombreuses formules se situent en dehors des tableaux, lorsque la feuille n'est plus protégée, il faut donc être vigilant
B8: Pointage : | D8: Le pointage doit s’effectuer en suivant scrupuleusement la légende suivante
D10: CP = | E10: Congés payés
D11: 2CP = | E11: Demi congés payés
D12: AA = | E12: Absences autorisées
D13: A = | E13: Absences non autorisées
D14: MM = | E14: Maladie maintenue
D15: M = | E15: Maladie non maintenue
D16: CE = | E16: Congés exceptionnels
D17: ES = | E17: Absences entrées sorties
D18: Les colonnes de calculs sont automatisées, il n'y a donc aucun calcul à faire. Seuls les éléments variables de paie sont à saisir.
B20: Suivi des congés | D20: Le compteur des congés payés est alimenté automatiquement, et est proratisé en fonction des absences des salariés.
D21: Le solde des congés est affiché en fonction de la cellule du mois en cours : | J21: B3 | K21: (inscrire dans cette cellule le mois en cours pour faire apparaître le solde des congés de la période)
D22: Les montants seront vérifiés, d'une part, par la personne en charge des fiches de paie, et d'autre part par la personne ayant établi les pointages.
B24: Salariés en activités | D24: Dans cet onglet, seuls les salariés étant en activité durant le mois en cours sont à saisir
D25: Les informations saisies dans cet onglet seront utilisées pour établir les bulletins des salariés.
B29: Méthodologie à respecter pour l'entrée d'un salarié : | G29: Le nouveau salarié doit être entré en bas du tableau " salariés en activités".
G30: La mise en forme des tableaux, sera effectué par la personne en charge des fiches de paie.
B32: Méthodologie à respecter pour la sortie d'un salarié : | G32: Toute la ligne d'informations du salarié doit être simplement supprimée du tableau des salariés actifs
B35: Le journal d'informations : | E35: Ici se trouve les informations nécéssaires à l'établissement des fiches de paie.
E36: Seules les informations ne pouvant pas figurer dans les autres feuilles doivent y figurer.
B38: Sauvegarde du pointage du mois précédent : | F38: Pour sauvegarde le pointage du mois précédent, il suffit de couper toutes connexions entre l'onflet " salariés actifs" et l'onglet du pointage en question.
F39: Pour se faire il faut supprimer toutes les formules qui alimentent la colonne "Noms et Prénoms" et faire un simple copier/coller de la colonne de saisi de l'onglet "salariés en activités".

Sheet Pointage 07
A2: Société AN | B2: POINTAGE DU MOIS DE : | AH2: Juillet
A4: Nom et Prénom | B4: S | C4: D | D4: L | E4: M | F4: M | G4: J | H4: V | I4: S | J4: D | K4: L | L4: M | M4: M | N4: J | O4: V | P4: S | Q4: D | R4: L | S4: M | T4: M | U4: J | V4: V | W4: S | X4: D | Y4: L | Z4: M | AA4: M | AB4: J | AC4: V | AD4: S | AE4: D | AF4: L | AG4: Heures | AK4: Jours
B5: 1 | C5: 2 | D5: 3 | E5: 4 | F5: 5 | G5: 6 | H5: 7 | I5: 8 | J5: 9 | K5: 10 | L5: 11 | M5: 12 | N5: 13 | O5: 14 | P5: 15 | Q5: 16 | R5: 17 | S5: 18 | T5: 19 | U5: 20 | V5: 21 | W5: 22 | X5: 23 | Y5: 24 | Z5: 25 | AA5: 26 | AB5: 27 | AC5: 28 | AD5: 29 | AE5: 30 | AF5: 31 | AG5: Mensualisation | AH5: ABS autorisées | AI5: ABS non Autorisées | AJ5: Heures supplém. | AK5: Abs Entrée / sortie | AL5: Congés spéciaux | AM5: Congés payés | AN5: Maladie ou AT | AP5: Congés acquis (1)
AN6: M | AO6: MM
A7: =IF('Salariés en activités'!A9="","",'Salariés en activités'!A9) -> Vivian Thomas | AG7: =IF(A7="","",'Salariés en activités'!H9) -> 151,67 | AH7: =IF(A7="",0,IF(DD7=0,0,IF(DD7>20,AG7,(DD7*(AG7/4.333333/5))))) -> 0 | AI7: =IF(A7="",0,IF(IB7=0,0,IF(IB7>20,AG7,IB7*(AG7/4.33333/5)))) -> 0 | AK7: =IF(A7="","",JH7) -> 0 | AL7: =IF(A7="","",GV7) -> 0 | AM7: =IF(A7="","",IF(BX7+KN7=0,"",BX7+KN7)) | AN7: =IF(A7="","",IF(FP7=0,"",FP7)) | AO7: =IF(A7="","",EJ7) -> 0 | AP7: =IF(A7="","",IF(AG7>1,IF(AR7="",2.5,IF(A7="","",2.5*((AG7-AR7)/AG7))),"")) -> 2.5 | AR7: =IF(AH7+AI7+AK7>1,AH7+AI7+(AK7*AG7/4.333333/5),"") | AS7: =IF(B7="","",IF(B7="cp",1,"")) | AT7: =IF(C7="","",IF(C7="cp",1,"")) | AU7: =IF(D7="","",IF(D7="cp",1,"")) | AV7: =IF(E7="","",IF(E7="cp",1,"")) | AW7: =IF(F7="","",IF(F7="cp",1,"")) | AX7: =IF(G7="","",IF(G7="cp",1,"")) | AY7: =IF(H7="","",IF(H7="cp",1,"")) | AZ7: =IF(I7="","",IF(I7="cp",1,"")) | ... BW7: =IF(AF7="","",IF(AF7="cp",1,"")) | BX7: =SUM(AS7:BW7) -> 0 | BY7: =IF(B7="","",IF(B7="AA",1,"")) | BZ7: =IF(C7="","",IF(C7="AA",1,"")) | CA7: =IF(D7="","",IF(D7="AA",1,"")) | CB7: =IF(E7="","",IF(E7="AA",1,"")) | CC7: =IF(F7="","",IF(F7="AA",1,"")) | CD7: =IF(G7="","",IF(G7="AA",1,"")) | CE7: =IF(H7="","",IF(H7="AA",1,"")) | CF7: =IF(I7="","",IF(I7="AA",1,"")) | ... DC7: =IF(AF7="","",IF(AF7="AA",1,"")) | DD7: =SUM(BY7:DC7) -> 0 | DE7: =IF(B7="","",IF(B7="MM",1,"")) | DF7: =IF(C7="","",IF(C7="MM",1,"")) | DG7: =IF(D7="","",IF(D7="MM",1,"")) | DH7: =IF(E7="","",IF(E7="MM",1,"")) | DI7: =IF(F7="","",IF(F7="MM",1,"")) | DJ7: =IF(G7="","",IF(G7="MM",1,"")) | DK7: =IF(H7="","",IF(H7="MM",1,"")) | DL7: =IF(I7="","",IF(I7="MM",1,"")) | ... EI7: =IF(AF7="","",IF(AF7="MM",1,"")) | EJ7: =SUM(DE7:EI7) -> 0 | EK7: =IF(B7="","",IF(B7="M",1,"")) | EL7: =IF(C7="","",IF(C7="M",1,"")) | EM7: =IF(D7="","",IF(D7="M",1,"")) | EN7: =IF(E7="","",IF(E7="M",1,"")) | EO7: =IF(F7="","",IF(F7="M",1,"")) | EP7: =IF(G7="","",IF(G7="M",1,"")) | EQ7: =IF(H7="","",IF(H7="M",1,"")) | ER7: =IF(I7="","",IF(I7="M",1,"")) | ... FO7: =IF(AF7="","",IF(AF7="M",1,"")) | FP7: =SUM(EK7:FO7) -> 0 | FQ7: =IF(B7="","",IF(B7="CE",1,"")) | FR7: =IF(C7="","",IF(C7="CE",1,"")) | FS7: =IF(D7="","",IF(D7="CE",1,"")) | FT7: =IF(E7="","",IF(E7="CE",1,"")) | FU7: =IF(F7="","",IF(F7="CE",1,"")) | FV7: =IF(G7="","",IF(G7="CE",1,"")) | FW7: =IF(H7="","",IF(H7="CE",1,"")) | FX7: =IF(I7="","",IF(I7="CE",1,"")) | ... GU7: =IF(AF7="","",IF(AF7="CE",1,"")) | GV7: =SUM(FQ7:GU7) -> 0 | GW7: =IF(B7="","",IF(B7="A",1,"")) | GX7: =IF(C7="","",IF(C7="A",1,"")) | GY7: =IF(D7="","",IF(D7="A",1,"")) | GZ7: =IF(E7="","",IF(E7="A",1,"")) | HA7: =IF(F7="","",IF(F7="A",1,"")) | HB7: =IF(G7="","",IF(G7="A",1,"")) | HC7: =IF(H7="","",IF(H7="A",1,"")) | HD7: =IF(I7="","",IF(I7="A",1,"")) | ... IA7: =IF(AF7="","",IF(AF7="A",1,"")) | IB7: =SUM(GW7:IA7) -> 0 | IC7: =IF(B7="","",IF(B7="ES",1,"")) | ID7: =IF(C7="","",IF(C7="ES",1,"")) | IE7: =IF(D7="","",IF(D7="ES",1,"")) | IF7: =IF(E7="","",IF(E7="ES",1,"")) | IG7: =IF(F7="","",IF(F7="ES",1,"")) | IH7: =IF(G7="","",IF(G7="ES",1,"")) | II7: =IF(H7="","",IF(H7="ES",1,"")) | IJ7: =IF(I7="","",IF(I7="ES",1,"")) | ... JG7: =IF(AF7="","",IF(AF7="ES",1,"")) | JH7: =SUM(IC7:JG7) -> 0 | JI7: =IF(B7="","",IF(B7="2cp",0.5,"")) | JJ7: =IF(C7="","",IF(C7="2cp",0.5,"")) | JK7: =IF(D7="","",IF(D7="2cp",0.5,"")) | JL7: =IF(E7="","",IF(E7="2cp",0.5,"")) | JM7: =IF(F7="","",IF(F7="2cp",0.5,"")) | JN7: =IF(G7="","",IF(G7="2cp",0.5,"")) | JO7: =IF(H7="","",IF(H7="2cp",0.5,"")) | JP7: =IF(I7="","",IF(I7="2cp",0.5,"")) | ... KM7: =IF(AF7="","",IF(AF7="2cp",0.5,"")) | KN7: =SUM(JI7:KM7) -> 0
A8: =IF('Salariés en activités'!A10="","",'Salariés en activités'!A10) -> SPAG Ethi | AG8: =IF(A8="","",'Salariés en activités'!H10) -> 151,67 | AH8: =IF(A8="",0,IF(DD8=0,0,IF(DD8>20,AG8,(DD8*(AG8/4.333333/5))))) -> 0 | AI8: =IF(A8="",0,IF(IB8=0,0,IF(IB8>20,AG8,IB8*(AG8/4.33333/5)))) -> 0 | AK8: =IF(A8="","",JH8) -> 0 | AL8: =IF(A8="","",GV8) -> 0 | AM8: =IF(A8="","",IF(BX8+KN8=0,"",BX8+KN8)) | AN8: =IF(A8="","",IF(FP8=0,"",FP8)) | AO8: =IF(A8="","",EJ8) -> 0 | AP8: =IF(A8="","",IF(AG8>1,IF(AR8="",2.5,IF(A8="","",2.5*((AG8-AR8)/AG8))),"")) -> 2.5 | AQ8: =AG8-(AH8+AI8) -> 151.67 | AR8: =IF(AH8+AI8+AK8>1,AH8+AI8+(AK8*AG8/4.333333/5),"") | AS8: =IF(B8="","",IF(B8="cp",1,"")) | AT8: =IF(C8="","",IF(C8="cp",1,"")) | AU8: =IF(D8="","",IF(D8="cp",1,"")) | AV8: =IF(E8="","",IF(E8="cp",1,"")) | AW8: =IF(F8="","",IF(F8="cp",1,"")) | AX8: =IF(G8="","",IF(G8="cp",1,"")) | AY8: =IF(H8="","",IF(H8="cp",1,"")) | AZ8: =IF(I8="","",IF(I8="cp",1,"")) | ... BW8: =IF(AF8="","",IF(AF8="cp",1,"")) | BX8: =SUM(AS8:BW8) -> 0 | BY8: =IF(B8="","",IF(B8="AA",1,"")) | BZ8: =IF(C8="","",IF(C8="AA",1,"")) | CA8: =IF(D8="","",IF(D8="AA",1,"")) | CB8: =IF(E8="","",IF(E8="AA",1,"")) | CC8: =IF(F8="","",IF(F8="AA",1,"")) | CD8: =IF(G8="","",IF(G8="AA",1,"")) | CE8: =IF(H8="","",IF(H8="AA",1,"")) | CF8: =IF(I8="","",IF(I8="AA",1,"")) | ... DC8: =IF(AF8="","",IF(AF8="AA",1,"")) | DD8: =SUM(BY8:DC8) -> 0 | DE8: =IF(B8="","",IF(B8="MM",1,"")) | DF8: =IF(C8="","",IF(C8="MM",1,"")) | DG8: =IF(D8="","",IF(D8="MM",1,"")) | DH8: =IF(E8="","",IF(E8="MM",1,"")) | DI8: =IF(F8="","",IF(F8="MM",1,"")) | DJ8: =IF(G8="","",IF(G8="MM",1,"")) | DK8: =IF(H8="","",IF(H8="MM",1,"")) | DL8: =IF(I8="","",IF(I8="MM",1,"")) | ... EI8: =IF(AF8="","",IF(AF8="MM",1,"")) | EJ8: =SUM(DE8:EI8) -> 0 | EK8: =IF(B8="","",IF(B8="M",1,"")) | EL8: =IF(C8="","",IF(C8="M",1,"")) | EM8: =IF(D8="","",IF(D8="M",1,"")) | EN8: =IF(E8="","",IF(E8="M",1,"")) | EO8: =IF(F8="","",IF(F8="M",1,"")) | EP8: =IF(G8="","",IF(G8="M",1,"")) | EQ8: =IF(H8="","",IF(H8="M",1,"")) | ER8: =IF(I8="","",IF(I8="M",1,"")) | ... FO8: =IF(AF8="","",IF(AF8="M",1,"")) | FP8: =SUM(EK8:FO8) -> 0 | FQ8: =IF(B8="","",IF(B8="CE",1,"")) | FR8: =IF(C8="","",IF(C8="CE",1,"")) | FS8: =IF(D8="","",IF(D8="CE",1,"")) | FT8: =IF(E8="","",IF(E8="CE",1,"")) | FU8: =IF(F8="","",IF(F8="CE",1,"")) | FV8: =IF(G8="","",IF(G8="CE",1,"")) | FW8: =IF(H8="","",IF(H8="CE",1,"")) | FX8: =IF(I8="","",IF(I8="CE",1,"")) | ... GU8: =IF(AF8="","",IF(AF8="CE",1,"")) | GV8: =SUM(FQ8:GU8) -> 0 | GW8: =IF(B8="","",IF(B8="A",1,"")) | GX8: =IF(C8="","",IF(C8="A",1,"")) | GY8: =IF(D8="","",IF(D8="A",1,"")) | GZ8: =IF(E8="","",IF(E8="A",1,"")) | HA8: =IF(F8="","",IF(F8="A",1,"")) | HB8: =IF(G8="","",IF(G8="A",1,"")) | HC8: =IF(H8="","",IF(H8="A",1,"")) | HD8: =IF(I8="","",IF(I8="A",1,"")) | ... IA8: =IF(AF8="","",IF(AF8="A",1,"")) | IB8: =SUM(GW8:IA8) -> 0 | IC8: =IF(B8="","",IF(B8="ES",1,"")) | ID8: =IF(C8="","",IF(C8="ES",1,"")) | IE8: =IF(D8="","",IF(D8="ES",1,"")) | IF8: =IF(E8="","",IF(E8="ES",1,"")) | IG8: =IF(F8="","",IF(F8="ES",1,"")) | IH8: =IF(G8="","",IF(G8="ES",1,"")) | II8: =IF(H8="","",IF(H8="ES",1,"")) | IJ8: =IF(I8="","",IF(I8="ES",1,"")) | ... JG8: =IF(AF8="","",IF(AF8="ES",1,"")) | JH8: =SUM(IC8:JG8) -> 0 | JI8: =IF(B8="","",IF(B8="2cp",0.5,"")) | JJ8: =IF(C8="","",IF(C8="2cp",0.5,"")) | JK8: =IF(D8="","",IF(D8="2cp",0.5,"")) | JL8: =IF(E8="","",IF(E8="2cp",0.5,"")) | JM8: =IF(F8="","",IF(F8="2cp",0.5,"")) | JN8: =IF(G8="","",IF(G8="2cp",0.5,"")) | JO8: =IF(H8="","",IF(H8="2cp",0.5,"")) | JP8: =IF(I8="","",IF(I8="2cp",0.5,"")) | ... KM8: =IF(AF8="","",IF(AF8="2cp",0.5,"")) | KN8: =SUM(JI8:KM8) -> 0
A9: =IF('Salariés en activités'!A11="","",'Salariés en activités'!A11) -> RAT Dominique | AG9: =IF(A9="","",'Salariés en activités'!H11) -> 75,84 | AH9: =IF(A9="",0,IF(DD9=0,0,IF(DD9>20,AG9,(DD9*(AG9/4.333333/5))))) -> 0 | AI9: =IF(A9="",0,IF(IB9=0,0,IF(IB9>20,AG9,IB9*(AG9/4.33333/5)))) -> 0 | AK9: =IF(A9="","",JH9) -> 0 | AL9: =IF(A9="","",GV9) -> 0 | AM9: =IF(A9="","",IF(BX9+KN9=0,"",BX9+KN9)) | AN9: =IF(A9="","",IF(FP9=0,"",FP9)) | AO9: =IF(A9="","",EJ9) -> 0 | AP9: =IF(A9="","",IF(AG9>1,IF(AR9="",2.5,IF(A9="","",2.5*((AG9-AR9)/AG9))),"")) -> 2.5 | AQ9: =AG9-(AH9+AI9) -> 75.84 | AR9: =IF(AH9+AI9+AK9>1,AH9+AI9+(AK9*AG9/4.333333/5),"") | AS9: =IF(B9="","",IF(B9="cp",1,"")) | AT9: =IF(C9="","",IF(C9="cp",1,"")) | AU9: =IF(D9="","",IF(D9="cp",1,"")) | AV9: =IF(E9="","",IF(E9="cp",1,"")) | AW9: =IF(F9="","",IF(F9="cp",1,"")) | AX9: =IF(G9="","",IF(G9="cp",1,"")) | AY9: =IF(H9="","",IF(H9="cp",1,"")) | AZ9: =IF(I9="","",IF(I9="cp",1,"")) | ... BW9: =IF(AF9="","",IF(AF9="cp",1,"")) | BX9: =SUM(AS9:BW9) -> 0 | BY9: =IF(B9="","",IF(B9="AA",1,"")) | BZ9: =IF(C9="","",IF(C9="AA",1,"")) | CA9: =IF(D9="","",IF(D9="AA",1,"")) | CB9: =IF(E9="","",IF(E9="AA",1,"")) | CC9: =IF(F9="","",IF(F9="AA",1,"")) | CD9: =IF(G9="","",IF(G9="AA",1,"")) | CE9: =IF(H9="","",IF(H9="AA",1,"")) | CF9: =IF(I9="","",IF(I9="AA",1,"")) | ... DC9: =IF(AF9="","",IF(AF9="AA",1,"")) | DD9: =SUM(BY9:DC9) -> 0 | DE9: =IF(B9="","",IF(B9="MM",1,"")) | DF9: =IF(C9="","",IF(C9="MM",1,"")) | DG9: =IF(D9="","",IF(D9="MM",1,"")) | DH9: =IF(E9="","",IF(E9="MM",1,"")) | DI9: =IF(F9="","",IF(F9="MM",1,"")) | DJ9: =IF(G9="","",IF(G9="MM",1,"")) | DK9: =IF(H9="","",IF(H9="MM",1,"")) | DL9: =IF(I9="","",IF(I9="MM",1,"")) | ... EI9: =IF(AF9="","",IF(AF9="MM",1,"")) | EJ9: =SUM(DE9:EI9) -> 0 | EK9: =IF(B9="","",IF(B9="M",1,"")) | EL9: =IF(C9="","",IF(C9="M",1,"")) | EM9: =IF(D9="","",IF(D9="M",1,"")) | EN9: =IF(E9="","",IF(E9="M",1,"")) | EO9: =IF(F9="","",IF(F9="M",1,"")) | EP9: =IF(G9="","",IF(G9="M",1,"")) | EQ9: =IF(H9="","",IF(H9="M",1,"")) | ER9: =IF(I9="","",IF(I9="M",1,"")) | ... FO9: =IF(AF9="","",IF(AF9="M",1,"")) | FP9: =SUM(EK9:FO9) -> 0 | FQ9: =IF(B9="","",IF(B9="CE",1,"")) | FR9: =IF(C9="","",IF(C9="CE",1,"")) | FS9: =IF(D9="","",IF(D9="CE",1,"")) | FT9: =IF(E9="","",IF(E9="CE",1,"")) | FU9: =IF(F9="","",IF(F9="CE",1,"")) | FV9: =IF(G9="","",IF(G9="CE",1,"")) | FW9: =IF(H9="","",IF(H9="CE",1,"")) | FX9: =IF(I9="","",IF(I9="CE",1,"")) | ... GU9: =IF(AF9="","",IF(AF9="CE",1,"")) | GV9: =SUM(FQ9:GU9) -> 0 | GW9: =IF(B9="","",IF(B9="A",1,"")) | GX9: =IF(C9="","",IF(C9="A",1,"")) | GY9: =IF(D9="","",IF(D9="A",1,"")) | GZ9: =IF(E9="","",IF(E9="A",1,"")) | HA9: =IF(F9="","",IF(F9="A",1,"")) | HB9: =IF(G9="","",IF(G9="A",1,"")) | HC9: =IF(H9="","",IF(H9="A",1,"")) | HD9: =IF(I9="","",IF(I9="A",1,"")) | ... IA9: =IF(AF9="","",IF(AF9="A",1,"")) | IB9: =SUM(GW9:IA9) -> 0 | IC9: =IF(B9="","",IF(B9="ES",1,"")) | ID9: =IF(C9="","",IF(C9="ES",1,"")) | IE9: =IF(D9="","",IF(D9="ES",1,"")) | IF9: =IF(E9="","",IF(E9="ES",1,"")) | IG9: =IF(F9="","",IF(F9="ES",1,"")) | IH9: =IF(G9="","",IF(G9="ES",1,"")) | II9: =IF(H9="","",IF(H9="ES",1,"")) | IJ9: =IF(I9="","",IF(I9="ES",1,"")) | ... JG9: =IF(AF9="","",IF(AF9="ES",1,"")) | JH9: =SUM(IC9:JG9) -> 0 | JI9: =IF(B9="","",IF(B9="2cp",0.5,"")) | JJ9: =IF(C9="","",IF(C9="2cp",0.5,"")) | JK9: =IF(D9="","",IF(D9="2cp",0.5,"")) | JL9: =IF(E9="","",IF(E9="2cp",0.5,"")) | JM9: =IF(F9="","",IF(F9="2cp",0.5,"")) | JN9: =IF(G9="","",IF(G9="2cp",0.5,"")) | JO9: =IF(H9="","",IF(H9="2cp",0.5,"")) | JP9: =IF(I9="","",IF(I9="2cp",0.5,"")) | ... KM9: =IF(AF9="","",IF(AF9="2cp",0.5,"")) | KN9: =SUM(JI9:KM9) -> 0
A10: =IF('Salariés en activités'!A12="","",'Salariés en activités'!A12) -> PIROUETTE Cacahuete | D10: AA | E10: AA | F10: AA | G10: AA | H10: AA | K10: AA | L10: AA | M10: AA | N10: AA | AG10: =IF(A10="","",'Salariés en activités'!H12) -> 151,67 | AH10: =IF(A10="",0,IF(DD10=0,0,IF(DD10>20,AG10,(DD10*(AG10/4.333333/5))))) -> 63.001389 | AI10: =IF(A10="",0,IF(IB10=0,0,IF(IB10>20,AG10,IB10*(AG10/4.33333/5)))) -> 0 | AK10: =IF(A10="","",JH10) -> 0 | AL10: =IF(A10="","",GV10) -> 0 | AM10: =IF(A10="","",IF(BX10+KN10=0,"",BX10+KN10)) | AN10: =IF(A10="","",IF(FP10=0,"",FP10)) | AO10: =IF(A10="","",EJ10) -> 0 | AP10: =IF(A10="","",IF(AG10>1,IF(AR10="",2.5,IF(A10="","",2.5*((AG10-AR10)/AG10))),"")) -> 1.4615384 | AQ10: =AG10-(AH10+AI10) -> 88.668611 | AR10: =IF(AH10+AI10+AK10>1,AH10+AI10+(AK10*AG10/4.333333/5),"") -> 63.001389 | AS10: =IF(B10="","",IF(B10="cp",1,"")) | AT10: =IF(C10="","",IF(C10="cp",1,"")) | AU10: =IF(D10="","",IF(D10="cp",1,"")) | AV10: =IF(E10="","",IF(E10="cp",1,"")) | AW10: =IF(F10="","",IF(F10="cp",1,"")) | AX10: =IF(G10="","",IF(G10="cp",1,"")) | AY10: =IF(H10="","",IF(H10="cp",1,"")) | AZ10: =IF(I10="","",IF(I10="cp",1,"")) | ... BW10: =IF(AF10="","",IF(AF10="cp",1,"")) | BX10: =SUM(AS10:BW10) -> 0 | BY10: =IF(B10="","",IF(B10="AA",1,"")) | BZ10: =IF(C10="","",IF(C10="AA",1,"")) | CA10: =IF(D10="","",IF(D10="AA",1,"")) -> 1 | CB10: =IF(E10="","",IF(E10="AA",1,"")) -> 1 | CC10: =IF(F10="","",IF(F10="AA",1,"")) -> 1 | CD10: =IF(G10="","",IF(G10="AA",1,"")) -> 1 | CE10: =IF(H10="","",IF(H10="AA",1,"")) -> 1 | CF10: =IF(I10="","",IF(I10="AA",1,"")) | ... DC10: =IF(AF10="","",IF(AF10="AA",1,"")) | DD10: =SUM(BY10:DC10) -> 9 | DE10: =IF(B10="","",IF(B10="MM",1,"")) | DF10: =IF(C10="","",IF(C10="MM",1,"")) | DG10: =IF(D10="","",IF(D10="MM",1,"")) | DH10: =IF(E10="","",IF(E10="MM",1,"")) | DI10: =IF(F10="","",IF(F10="MM",1,"")) | DJ10: =IF(G10="","",IF(G10="MM",1,"")) | DK10: =IF(H10="","",IF(H10="MM",1,"")) | DL10: =IF(I10="","",IF(I10="MM",1,"")) | ... EI10: =IF(AF10="","",IF(AF10="MM",1,"")) | EJ10: =SUM(DE10:EI10) -> 0 | EK10: =IF(B10="","",IF(B10="M",1,"")) | EL10: =IF(C10="","",IF(C10="M",1,"")) | EM10: =IF(D10="","",IF(D10="M",1,"")) | EN10: =IF(E10="","",IF(E10="M",1,"")) | EO10: =IF(F10="","",IF(F10="M",1,"")) | EP10: =IF(G10="","",IF(G10="M",1,"")) | EQ10: =IF(H10="","",IF(H10="M",1,"")) | ER10: =IF(I10="","",IF(I10="M",1,"")) | ... FO10: =IF(AF10="","",IF(AF10="M",1,"")) | FP10: =SUM(EK10:FO10) -> 0 | FQ10: =IF(B10="","",IF(B10="CE",1,"")) | FR10: =IF(C10="","",IF(C10="CE",1,"")) | FS10: =IF(D10="","",IF(D10="CE",1,"")) | FT10: =IF(E10="","",IF(E10="CE",1,"")) | FU10: =IF(F10="","",IF(F10="CE",1,"")) | FV10: =IF(G10="","",IF(G10="CE",1,"")) | FW10: =IF(H10="","",IF(H10="CE",1,"")) | FX10: =IF(I10="","",IF(I10="CE",1,"")) | ... GU10: =IF(AF10="","",IF(AF10="CE",1,"")) | GV10: =SUM(FQ10:GU10) -> 0 | GW10: =IF(B10="","",IF(B10="A",1,"")) | GX10: =IF(C10="","",IF(C10="A",1,"")) | GY10: =IF(D10="","",IF(D10="A",1,"")) | GZ10: =IF(E10="","",IF(E10="A",1,"")) | HA10: =IF(F10="","",IF(F10="A",1,"")) | HB10: =IF(G10="","",IF(G10="A",1,"")) | HC10: =IF(H10="","",IF(H10="A",1,"")) | HD10: =IF(I10="","",IF(I10="A",1,"")) | ... IA10: =IF(AF10="","",IF(AF10="A",1,"")) | IB10: =SUM(GW10:IA10) -> 0 | IC10: =IF(B10="","",IF(B10="ES",1,"")) | ID10: =IF(C10="","",IF(C10="ES",1,"")) | IE10: =IF(D10="","",IF(D10="ES",1,"")) | IF10: =IF(E10="","",IF(E10="ES",1,"")) | IG10: =IF(F10="","",IF(F10="ES",1,"")) | IH10: =IF(G10="","",IF(G10="ES",1,"")) | II10: =IF(H10="","",IF(H10="ES",1,"")) | IJ10: =IF(I10="","",IF(I10="ES",1,"")) | ... JG10: =IF(AF10="","",IF(AF10="ES",1,"")) | JH10: =SUM(IC10:JG10) -> 0 | JI10: =IF(B10="","",IF(B10="2cp",0.5,"")) | JJ10: =IF(C10="","",IF(C10="2cp",0.5,"")) | JK10: =IF(D10="","",IF(D10="2cp",0.5,"")) | JL10: =IF(E10="","",IF(E10="2cp",0.5,"")) | JM10: =IF(F10="","",IF(F10="2cp",0.5,"")) | JN10: =IF(G10="","",IF(G10="2cp",0.5,"")) | JO10: =IF(H10="","",IF(H10="2cp",0.5,"")) | JP10: =IF(I10="","",IF(I10="2cp",0.5,"")) | ... KM10: =IF(AF10="","",IF(AF10="2cp",0.5,"")) | KN10: =SUM(JI10:KM10) -> 0
A11: =IF('Salariés en activités'!A13="","",'Salariés en activités'!A13) -> ORDI Nathan | AG11: =IF(A11="","",'Salariés en activités'!H13) -> 151,67 | AH11: =IF(A11="",0,IF(DD11=0,0,IF(DD11>20,AG11,(DD11*(AG11/4.333333/5))))) -> 0 | AI11: =IF(A11="",0,IF(IB11=0,0,IF(IB11>20,AG11,IB11*(AG11/4.33333/5)))) -> 0 | AK11: =IF(A11="","",JH11) -> 0 | AL11: =IF(A11="","",GV11) -> 0 | AM11: =IF(A11="","",IF(BX11+KN11=0,"",BX11+KN11)) | AN11: =IF(A11="","",IF(FP11=0,"",FP11)) | AO11: =IF(A11="","",EJ11) -> 0 | AP11: =IF(A11="","",IF(AG11>1,IF(AR11="",2.5,IF(A11="","",2.5*((AG11-AR11)/AG11))),"")) -> 2.5 | AQ11: =AG11-(AH11+AI11) -> 151.67 | AR11: =IF(AH11+AI11+AK11>1,AH11+AI11+(AK11*AG11/4.333333/5),"") | AS11: =IF(B11="","",IF(B11="cp",1,"")) | AT11: =IF(C11="","",IF(C11="cp",1,"")) | AU11: =IF(D11="","",IF(D11="cp",1,"")) | AV11: =IF(E11="","",IF(E11="cp",1,"")) | AW11: =IF(F11="","",IF(F11="cp",1,"")) | AX11: =IF(G11="","",IF(G11="cp",1,"")) | AY11: =IF(H11="","",IF(H11="cp",1,"")) | AZ11: =IF(I11="","",IF(I11="cp",1,"")) | ... BW11: =IF(AF11="","",IF(AF11="cp",1,"")) | BX11: =SUM(AS11:BW11) -> 0 | BY11: =IF(B11="","",IF(B11="AA",1,"")) | BZ11: =IF(C11="","",IF(C11="AA",1,"")) | CA11: =IF(D11="","",IF(D11="AA",1,"")) | CB11: =IF(E11="","",IF(E11="AA",1,"")) | CC11: =IF(F11="","",IF(F11="AA",1,"")) | CD11: =IF(G11="","",IF(G11="AA",1,"")) | CE11: =IF(H11="","",IF(H11="AA",1,"")) | CF11: =IF(I11="","",IF(I11="AA",1,"")) | ... DC11: =IF(AF11="","",IF(AF11="AA",1,"")) | DD11: =SUM(BY11:DC11) -> 0 | DE11: =IF(B11="","",IF(B11="MM",1,"")) | DF11: =IF(C11="","",IF(C11="MM",1,"")) | DG11: =IF(D11="","",IF(D11="MM",1,"")) | DH11: =IF(E11="","",IF(E11="MM",1,"")) | DI11: =IF(F11="","",IF(F11="MM",1,"")) | DJ11: =IF(G11="","",IF(G11="MM",1,"")) | DK11: =IF(H11="","",IF(H11="MM",1,"")) | DL11: =IF(I11="","",IF(I11="MM",1,"")) | ... EI11: =IF(AF11="","",IF(AF11="MM",1,"")) | EJ11: =SUM(DE11:EI11) -> 0 | EK11: =IF(B11="","",IF(B11="M",1,"")) | EL11: =IF(C11="","",IF(C11="M",1,"")) | EM11: =IF(D11="","",IF(D11="M",1,"")) | EN11: =IF(E11="","",IF(E11="M",1,"")) | EO11: =IF(F11="","",IF(F11="M",1,"")) | EP11: =IF(G11="","",IF(G11="M",1,"")) | EQ11: =IF(H11="","",IF(H11="M",1,"")) | ER11: =IF(I11="","",IF(I11="M",1,"")) | ... FO11: =IF(AF11="","",IF(AF11="M",1,"")) | FP11: =SUM(EK11:FO11) -> 0 | FQ11: =IF(B11="","",IF(B11="CE",1,"")) | FR11: =IF(C11="","",IF(C11="CE",1,"")) | FS11: =IF(D11="","",IF(D11="CE",1,"")) | FT11: =IF(E11="","",IF(E11="CE",1,"")) | FU11: =IF(F11="","",IF(F11="CE",1,"")) | FV11: =IF(G11="","",IF(G11="CE",1,"")) | FW11: =IF(H11="","",IF(H11="CE",1,"")) | FX11: =IF(I11="","",IF(I11="CE",1,"")) | ... GU11: =IF(AF11="","",IF(AF11="CE",1,"")) | GV11: =SUM(FQ11:GU11) -> 0 | GW11: =IF(B11="","",IF(B11="A",1,"")) | GX11: =IF(C11="","",IF(C11="A",1,"")) | GY11: =IF(D11="","",IF(D11="A",1,"")) | GZ11: =IF(E11="","",IF(E11="A",1,"")) | HA11: =IF(F11="","",IF(F11="A",1,"")) | HB11: =IF(G11="","",IF(G11="A",1,"")) | HC11: =IF(H11="","",IF(H11="A",1,"")) | HD11: =IF(I11="","",IF(I11="A",1,"")) | ... IA11: =IF(AF11="","",IF(AF11="A",1,"")) | IB11: =SUM(GW11:IA11) -> 0 | IC11: =IF(B11="","",IF(B11="ES",1,"")) | ID11: =IF(C11="","",IF(C11="ES",1,"")) | IE11: =IF(D11="","",IF(D11="ES",1,"")) | IF11: =IF(E11="","",IF(E11="ES",1,"")) | IG11: =IF(F11="","",IF(F11="ES",1,"")) | IH11: =IF(G11="","",IF(G11="ES",1,"")) | II11: =IF(H11="","",IF(H11="ES",1,"")) | IJ11: =IF(I11="","",IF(I11="ES",1,"")) | ... JG11: =IF(AF11="","",IF(AF11="ES",1,"")) | JH11: =SUM(IC11:JG11) -> 0 | JI11: =IF(B11="","",IF(B11="2cp",0.5,"")) | JJ11: =IF(C11="","",IF(C11="2cp",0.5,"")) | JK11: =IF(D11="","",IF(D11="2cp",0.5,"")) | JL11: =IF(E11="","",IF(E11="2cp",0.5,"")) | JM11: =IF(F11="","",IF(F11="2cp",0.5,"")) | JN11: =IF(G11="","",IF(G11="2cp",0.5,"")) | JO11: =IF(H11="","",IF(H11="2cp",0.5,"")) | JP11: =IF(I11="","",IF(I11="2cp",0.5,"")) | ... KM11: =IF(AF11="","",IF(AF11="2cp",0.5,"")) | KN11: =SUM(JI11:KM11) -> 0
A12: =IF('Salariés en activités'!A14="","",'Salariés en activités'!A14) -> MACHE Yves | S12: CP | AG12: =IF(A12="","",'Salariés en activités'!H14) -> 151,67 | AH12: =IF(A12="",0,IF(DD12=0,0,IF(DD12>20,AG12,(DD12*(AG12/4.333333/5))))) -> 0 | AI12: =IF(A12="",0,IF(IB12=0,0,IF(IB12>20,AG12,IB12*(AG12/4.33333/5)))) -> 0 | AK12: =IF(A12="","",JH12) -> 0 | AL12: =IF(A12="","",GV12) -> 0 | AM12: =IF(A12="","",IF(BX12+KN12=0,"",BX12+KN12)) -> 1 | AN12: =IF(A12="","",IF(FP12=0,"",FP12)) | AO12: =IF(A12="","",EJ12) -> 0 | AP12: =IF(A12="","",IF(AG12>1,IF(AR12="",2.5,IF(A12="","",2.5*((AG12-AR12)/AG12))),"")) -> 2.5 | AQ12: =AG12-(AH12+AI12) -> 151.67 | AR12: =IF(AH12+AI12+AK12>1,AH12+AI12+(AK12*AG12/4.333333/5),"") | AS12: =IF(B12="","",IF(B12="cp",1,"")) | AT12: =IF(C12="","",IF(C12="cp",1,"")) | AU12: =IF(D12="","",IF(D12="cp",1,"")) | AV12: =IF(E12="","",IF(E12="cp",1,"")) | AW12: =IF(F12="","",IF(F12="cp",1,"")) | AX12: =IF(G12="","",IF(G12="cp",1,"")) | AY12: =IF(H12="","",IF(H12="cp",1,"")) | AZ12: =IF(I12="","",IF(I12="cp",1,"")) | ... BW12: =IF(AF12="","",IF(AF12="cp",1,"")) | BX12: =SUM(AS12:BW12) -> 1 | BY12: =IF(B12="","",IF(B12="AA",1,"")) | BZ12: =IF(C12="","",IF(C12="AA",1,"")) | CA12: =IF(D12="","",IF(D12="AA",1,"")) | CB12: =IF(E12="","",IF(E12="AA",1,"")) | CC12: =IF(F12="","",IF(F12="AA",1,"")) | CD12: =IF(G12="","",IF(G12="AA",1,"")) | CE12: =IF(H12="","",IF(H12="AA",1,"")) | CF12: =IF(I12="","",IF(I12="AA",1,"")) | ... DC12: =IF(AF12="","",IF(AF12="AA",1,"")) | DD12: =SUM(BY12:DC12) -> 0 | DE12: =IF(B12="","",IF(B12="MM",1,"")) | DF12: =IF(C12="","",IF(C12="MM",1,"")) | DG12: =IF(D12="","",IF(D12="MM",1,"")) | DH12: =IF(E12="","",IF(E12="MM",1,"")) | DI12: =IF(F12="","",IF(F12="MM",1,"")) | DJ12: =IF(G12="","",IF(G12="MM",1,"")) | DK12: =IF(H12="","",IF(H12="MM",1,"")) | DL12: =IF(I12="","",IF(I12="MM",1,"")) | ... EI12: =IF(AF12="","",IF(AF12="MM",1,"")) | EJ12: =SUM(DE12:EI12) -> 0 | EK12: =IF(B12="","",IF(B12="M",1,"")) | EL12: =IF(C12="","",IF(C12="M",1,"")) | EM12: =IF(D12="","",IF(D12="M",1,"")) | EN12: =IF(E12="","",IF(E12="M",1,"")) | EO12: =IF(F12="","",IF(F12="M",1,"")) | EP12: =IF(G12="","",IF(G12="M",1,"")) | EQ12: =IF(H12="","",IF(H12="M",1,"")) | ER12: =IF(I12="","",IF(I12="M",1,"")) | ... FO12: =IF(AF12="","",IF(AF12="M",1,"")) | FP12: =SUM(EK12:FO12) -> 0 | FQ12: =IF(B12="","",IF(B12="CE",1,"")) | FR12: =IF(C12="","",IF(C12="CE",1,"")) | FS12: =IF(D12="","",IF(D12="CE",1,"")) | FT12: =IF(E12="","",IF(E12="CE",1,"")) | FU12: =IF(F12="","",IF(F12="CE",1,"")) | FV12: =IF(G12="","",IF(G12="CE",1,"")) | FW12: =IF(H12="","",IF(H12="CE",1,"")) | FX12: =IF(I12="","",IF(I12="CE",1,"")) | ... GU12: =IF(AF12="","",IF(AF12="CE",1,"")) | GV12: =SUM(FQ12:GU12) -> 0 | GW12: =IF(B12="","",IF(B12="A",1,"")) | GX12: =IF(C12="","",IF(C12="A",1,"")) | GY12: =IF(D12="","",IF(D12="A",1,"")) | GZ12: =IF(E12="","",IF(E12="A",1,"")) | HA12: =IF(F12="","",IF(F12="A",1,"")) | HB12: =IF(G12="","",IF(G12="A",1,"")) | HC12: =IF(H12="","",IF(H12="A",1,"")) | HD12: =IF(I12="","",IF(I12="A",1,"")) | ... IA12: =IF(AF12="","",IF(AF12="A",1,"")) | IB12: =SUM(GW12:IA12) -> 0 | IC12: =IF(B12="","",IF(B12="ES",1,"")) | ID12: =IF(C12="","",IF(C12="ES",1,"")) | IE12: =IF(D12="","",IF(D12="ES",1,"")) | IF12: =IF(E12="","",IF(E12="ES",1,"")) | IG12: =IF(F12="","",IF(F12="ES",1,"")) | IH12: =IF(G12="","",IF(G12="ES",1,"")) | II12: =IF(H12="","",IF(H12="ES",1,"")) | IJ12: =IF(I12="","",IF(I12="ES",1,"")) | ... JG12: =IF(AF12="","",IF(AF12="ES",1,"")) | JH12: =SUM(IC12:JG12) -> 0 | JI12: =IF(B12="","",IF(B12="2cp",0.5,"")) | JJ12: =IF(C12="","",IF(C12="2cp",0.5,"")) | JK12: =IF(D12="","",IF(D12="2cp",0.5,"")) | JL12: =IF(E12="","",IF(E12="2cp",0.5,"")) | JM12: =IF(F12="","",IF(F12="2cp",0.5,"")) | JN12: =IF(G12="","",IF(G12="2cp",0.5,"")) | JO12: =IF(H12="","",IF(H12="2cp",0.5,"")) | JP12: =IF(I12="","",IF(I12="2cp",0.5,"")) | ... KM12: =IF(AF12="","",IF(AF12="2cp",0.5,"")) | KN12: =SUM(JI12:KM12) -> 0
A13: =IF('Salariés en activités'!A15="","",'Salariés en activités'!A15) -> KIP And | K13: 2CP | L13: CP | M13: CP | Y13: CP | Z13: CP | AA13: CP | AB13: CP | AC13: CP | AD13: CP | AG13: =IF(A13="","",'Salariés en activités'!H15) -> 151,67 | AH13: =IF(A13="",0,IF(DD13=0,0,IF(DD13>20,AG13,(DD13*(AG13/4.333333/5))))) -> 0 | AI13: =IF(A13="",0,IF(IB13=0,0,IF(IB13>20,AG13,IB13*(AG13/4.33333/5)))) -> 0 | AK13: =IF(A13="","",JH13) -> 0 | AL13: =IF(A13="","",GV13) -> 0 | AM13: =IF(A13="","",IF(BX13+KN13=0,"",BX13+KN13)) -> 8.5 | AN13: =IF(A13="","",IF(FP13=0,"",FP13)) | AO13: =IF(A13="","",EJ13) -> 0 | AP13: =IF(A13="","",IF(AG13>1,IF(AR13="",2.5,IF(A13="","",2.5*((AG13-AR13)/AG13))),"")) -> 2.5 | AQ13: =AG13-(AH13+AI13) -> 151.67 | AR13: =IF(AH13+AI13+AK13>1,AH13+AI13+(AK13*AG13/4.333333/5),"") | AS13: =IF(B13="","",IF(B13="cp",1,"")) | AT13: =IF(C13="","",IF(C13="cp",1,"")) | AU13: =IF(D13="","",IF(D13="cp",1,"")) | AV13: =IF(E13="","",IF(E13="cp",1,"")) | AW13: =IF(F13="","",IF(F13="cp",1,"")) | AX13: =IF(G13="","",IF(G13="cp",1,"")) | AY13: =IF(H13="","",IF(H13="cp",1,"")) | AZ13: =IF(I13="","",IF(I13="cp",1,"")) | ... BW13: =IF(AF13="","",IF(AF13="cp",1,"")) | BX13: =SUM(AS13:BW13) -> 8 | BY13: =IF(B13="","",IF(B13="AA",1,"")) | BZ13: =IF(C13="","",IF(C13="AA",1,"")) | CA13: =IF(D13="","",IF(D13="AA",1,"")) | CB13: =IF(E13="","",IF(E13="AA",1,"")) | CC13: =IF(F13="","",IF(F13="AA",1,"")) | CD13: =IF(G13="","",IF(G13="AA",1,"")) | CE13: =IF(H13="","",IF(H13="AA",1,"")) | CF13: =IF(I13="","",IF(I13="AA",1,"")) | ... DC13: =IF(AF13="","",IF(AF13="AA",1,"")) | DD13: =SUM(BY13:DC13) -> 0 | DE13: =IF(B13="","",IF(B13="MM",1,"")) | DF13: =IF(C13="","",IF(C13="MM",1,"")) | DG13: =IF(D13="","",IF(D13="MM",1,"")) | DH13: =IF(E13="","",IF(E13="MM",1,"")) | DI13: =IF(F13="","",IF(F13="MM",1,"")) | DJ13: =IF(G13="","",IF(G13="MM",1,"")) | DK13: =IF(H13="","",IF(H13="MM",1,"")) | DL13: =IF(I13="","",IF(I13="MM",1,"")) | ... EI13: =IF(AF13="","",IF(AF13="MM",1,"")) | EJ13: =SUM(DE13:EI13) -> 0 | EK13: =IF(B13="","",IF(B13="M",1,"")) | EL13: =IF(C13="","",IF(C13="M",1,"")) | EM13: =IF(D13="","",IF(D13="M",1,"")) | EN13: =IF(E13="","",IF(E13="M",1,"")) | EO13: =IF(F13="","",IF(F13="M",1,"")) | EP13: =IF(G13="","",IF(G13="M",1,"")) | EQ13: =IF(H13="","",IF(H13="M",1,"")) | ER13: =IF(I13="","",IF(I13="M",1,"")) | ... FO13: =IF(AF13="","",IF(AF13="M",1,"")) | FP13: =SUM(EK13:FO13) -> 0 | FQ13: =IF(B13="","",IF(B13="CE",1,"")) | FR13: =IF(C13="","",IF(C13="CE",1,"")) | FS13: =IF(D13="","",IF(D13="CE",1,"")) | FT13: =IF(E13="","",IF(E13="CE",1,"")) | FU13: =IF(F13="","",IF(F13="CE",1,"")) | FV13: =IF(G13="","",IF(G13="CE",1,"")) | FW13: =IF(H13="","",IF(H13="CE",1,"")) | FX13: =IF(I13="","",IF(I13="CE",1,"")) | ... GU13: =IF(AF13="","",IF(AF13="CE",1,"")) | GV13: =SUM(FQ13:GU13) -> 0 | GW13: =IF(B13="","",IF(B13="A",1,"")) | GX13: =IF(C13="","",IF(C13="A",1,"")) | GY13: =IF(D13="","",IF(D13="A",1,"")) | GZ13: =IF(E13="","",IF(E13="A",1,"")) | HA13: =IF(F13="","",IF(F13="A",1,"")) | HB13: =IF(G13="","",IF(G13="A",1,"")) | HC13: =IF(H13="","",IF(H13="A",1,"")) | HD13: =IF(I13="","",IF(I13="A",1,"")) | ... IA13: =IF(AF13="","",IF(AF13="A",1,"")) | IB13: =SUM(GW13:IA13) -> 0 | IC13: =IF(B13="","",IF(B13="ES",1,"")) | ID13: =IF(C13="","",IF(C13="ES",1,"")) | IE13: =IF(D13="","",IF(D13="ES",1,"")) | IF13: =IF(E13="","",IF(E13="ES",1,"")) | IG13: =IF(F13="","",IF(F13="ES",1,"")) | IH13: =IF(G13="","",IF(G13="ES",1,"")) | II13: =IF(H13="","",IF(H13="ES",1,"")) | IJ13: =IF(I13="","",IF(I13="ES",1,"")) | ... JG13: =IF(AF13="","",IF(AF13="ES",1,"")) | JH13: =SUM(IC13:JG13) -> 0 | JI13: =IF(B13="","",IF(B13="2cp",0.5,"")) | JJ13: =IF(C13="","",IF(C13="2cp",0.5,"")) | JK13: =IF(D13="","",IF(D13="2cp",0.5,"")) | JL13: =IF(E13="","",IF(E13="2cp",0.5,"")) | JM13: =IF(F13="","",IF(F13="2cp",0.5,"")) | JN13: =IF(G13="","",IF(G13="2cp",0.5,"")) | JO13: =IF(H13="","",IF(H13="2cp",0.5,"")) | JP13: =IF(I13="","",IF(I13="2cp",0.5,"")) | ... KM13: =IF(AF13="","",IF(AF13="2cp",0.5,"")) | KN13: =SUM(JI13:KM13) -> 0.5
A14: =IF('Salariés en activités'!A16="","",'Salariés en activités'!A16) -> GIROU Gilles | AG14: =IF(A14="","",'Salariés en activités'!H16) -> 75,84 | AH14: =IF(A14="",0,IF(DD14=0,0,IF(DD14>20,AG14,(DD14*(AG14/4.333333/5))))) -> 0 | AI14: =IF(A14="",0,IF(IB14=0,0,IF(IB14>20,AG14,IB14*(AG14/4.33333/5)))) -> 0 | AK14: =IF(A14="","",JH14) -> 0 | AL14: =IF(A14="","",GV14) -> 0 | AM14: =IF(A14="","",IF(BX14+KN14=0,"",BX14+KN14)) | AN14: =IF(A14="","",IF(FP14=0,"",FP14)) | AO14: =IF(A14="","",EJ14) -> 0 | AP14: =IF(A14="","",IF(AG14>1,IF(AR14="",2.5,IF(A14="","",2.5*((AG14-AR14)/AG14))),"")) -> 2.5 | AQ14: =AG14-(AH14+AI14) -> 75.84 | AR14: =IF(AH14+AI14+AK14>1,AH14+AI14+(AK14*AG14/4.333333/5),"") | AS14: =IF(B14="","",IF(B14="cp",1,"")) | AT14: =IF(C14="","",IF(C14="cp",1,"")) | AU14: =IF(D14="","",IF(D14="cp",1,"")) | AV14: =IF(E14="","",IF(E14="cp",1,"")) | AW14: =IF(F14="","",IF(F14="cp",1,"")) | AX14: =IF(G14="","",IF(G14="cp",1,"")) | AY14: =IF(H14="","",IF(H14="cp",1,"")) | AZ14: =IF(I14="","",IF(I14="cp",1,"")) | ... BW14: =IF(AF14="","",IF(AF14="cp",1,"")) | BX14: =SUM(AS14:BW14) -> 0 | BY14: =IF(B14="","",IF(B14="AA",1,"")) | BZ14: =IF(C14="","",IF(C14="AA",1,"")) | CA14: =IF(D14="","",IF(D14="AA",1,"")) | CB14: =IF(E14="","",IF(E14="AA",1,"")) | CC14: =IF(F14="","",IF(F14="AA",1,"")) | CD14: =IF(G14="","",IF(G14="AA",1,"")) | CE14: =IF(H14="","",IF(H14="AA",1,"")) | CF14: =IF(I14="","",IF(I14="AA",1,"")) | ... DC14: =IF(AF14="","",IF(AF14="AA",1,"")) | DD14: =SUM(BY14:DC14) -> 0 | DE14: =IF(B14="","",IF(B14="MM",1,"")) | DF14: =IF(C14="","",IF(C14="MM",1,"")) | DG14: =IF(D14="","",IF(D14="MM",1,"")) | DH14: =IF(E14="","",IF(E14="MM",1,"")) | DI14: =IF(F14="","",IF(F14="MM",1,"")) | DJ14: =IF(G14="","",IF(G14="MM",1,"")) | DK14: =IF(H14="","",IF(H14="MM",1,"")) | DL14: =IF(I14="","",IF(I14="MM",1,"")) | ... EI14: =IF(AF14="","",IF(AF14="MM",1,"")) | EJ14: =SUM(DE14:EI14) -> 0 | EK14: =IF(B14="","",IF(B14="M",1,"")) | EL14: =IF(C14="","",IF(C14="M",1,"")) | EM14: =IF(D14="","",IF(D14="M",1,"")) | EN14: =IF(E14="","",IF(E14="M",1,"")) | EO14: =IF(F14="","",IF(F14="M",1,"")) | EP14: =IF(G14="","",IF(G14="M",1,"")) | EQ14: =IF(H14="","",IF(H14="M",1,"")) | ER14: =IF(I14="","",IF(I14="M",1,"")) | ... FO14: =IF(AF14="","",IF(AF14="M",1,"")) | FP14: =SUM(EK14:FO14) -> 0 | FQ14: =IF(B14="","",IF(B14="CE",1,"")) | FR14: =IF(C14="","",IF(C14="CE",1,"")) | FS14: =IF(D14="","",IF(D14="CE",1,"")) | FT14: =IF(E14="","",IF(E14="CE",1,"")) | FU14: =IF(F14="","",IF(F14="CE",1,"")) | FV14: =IF(G14="","",IF(G14="CE",1,"")) | FW14: =IF(H14="","",IF(H14="CE",1,"")) | FX14: =IF(I14="","",IF(I14="CE",1,"")) | ... GU14: =IF(AF14="","",IF(AF14="CE",1,"")) | GV14: =SUM(FQ14:GU14) -> 0 | GW14: =IF(B14="","",IF(B14="A",1,"")) | GX14: =IF(C14="","",IF(C14="A",1,"")) | GY14: =IF(D14="","",IF(D14="A",1,"")) | GZ14: =IF(E14="","",IF(E14="A",1,"")) | HA14: =IF(F14="","",IF(F14="A",1,"")) | HB14: =IF(G14="","",IF(G14="A",1,"")) | HC14: =IF(H14="","",IF(H14="A",1,"")) | HD14: =IF(I14="","",IF(I14="A",1,"")) | ... IA14: =IF(AF14="","",IF(AF14="A",1,"")) | IB14: =SUM(GW14:IA14) -> 0 | IC14: =IF(B14="","",IF(B14="ES",1,"")) | ID14: =IF(C14="","",IF(C14="ES",1,"")) | IE14: =IF(D14="","",IF(D14="ES",1,"")) | IF14: =IF(E14="","",IF(E14="ES",1,"")) | IG14: =IF(F14="","",IF(F14="ES",1,"")) | IH14: =IF(G14="","",IF(G14="ES",1,"")) | II14: =IF(H14="","",IF(H14="ES",1,"")) | IJ14: =IF(I14="","",IF(I14="ES",1,"")) | ... JG14: =IF(AF14="","",IF(AF14="ES",1,"")) | JH14: =SUM(IC14:JG14) -> 0 | JI14: =IF(B14="","",IF(B14="2cp",0.5,"")) | JJ14: =IF(C14="","",IF(C14="2cp",0.5,"")) | JK14: =IF(D14="","",IF(D14="2cp",0.5,"")) | JL14: =IF(E14="","",IF(E14="2cp",0.5,"")) | JM14: =IF(F14="","",IF(F14="2cp",0.5,"")) | JN14: =IF(G14="","",IF(G14="2cp",0.5,"")) | JO14: =IF(H14="","",IF(H14="2cp",0.5,"")) | JP14: =IF(I14="","",IF(I14="2cp",0.5,"")) | ... KM14: =IF(AF14="","",IF(AF14="2cp",0.5,"")) | KN14: =SUM(JI14:KM14) -> 0
A15: =IF('Salariés en activités'!A17="","",'Salariés en activités'!A17) -> GINO Gilles | AG15: =IF(A15="","",'Salariés en activités'!H17) -> 151,67 | AH15: =IF(A15="",0,IF(DD15=0,0,IF(DD15>20,AG15,(DD15*(AG15/4.333333/5))))) -> 0 | AI15: =IF(A15="",0,IF(IB15=0,0,IF(IB15>20,AG15,IB15*(AG15/4.33333/5)))) -> 0 | AK15: =IF(A15="","",JH15) -> 0 | AL15: =IF(A15="","",GV15) -> 0 | AM15: =IF(A15="","",IF(BX15+KN15=0,"",BX15+KN15)) | AN15: =IF(A15="","",IF(FP15=0,"",FP15)) | AO15: =IF(A15="","",EJ15) -> 0 | AP15: =IF(A15="","",IF(AG15>1,IF(AR15="",2.5,IF(A15="","",2.5*((AG15-AR15)/AG15))),"")) -> 2.5 | AQ15: =AG15-(AH15+AI15) -> 151.67 | AR15: =IF(AH15+AI15+AK15>1,AH15+AI15+(AK15*AG15/4.333333/5),"") | AS15: =IF(B15="","",IF(B15="cp",1,"")) | AT15: =IF(C15="","",IF(C15="cp",1,"")) | AU15: =IF(D15="","",IF(D15="cp",1,"")) | AV15: =IF(E15="","",IF(E15="cp",1,"")) | AW15: =IF(F15="","",IF(F15="cp",1,"")) | AX15: =IF(G15="","",IF(G15="cp",1,"")) | AY15: =IF(H15="","",IF(H15="cp",1,"")) | AZ15: =IF(I15="","",IF(I15="cp",1,"")) | ... BW15: =IF(AF15="","",IF(AF15="cp",1,"")) | BX15: =SUM(AS15:BW15) -> 0 | BY15: =IF(B15="","",IF(B15="AA",1,"")) | BZ15: =IF(C15="","",IF(C15="AA",1,"")) | CA15: =IF(D15="","",IF(D15="AA",1,"")) | CB15: =IF(E15="","",IF(E15="AA",1,"")) | CC15: =IF(F15="","",IF(F15="AA",1,"")) | CD15: =IF(G15="","",IF(G15="AA",1,"")) | CE15: =IF(H15="","",IF(H15="AA",1,"")) | CF15: =IF(I15="","",IF(I15="AA",1,"")) | ... DC15: =IF(AF15="","",IF(AF15="AA",1,"")) | DD15: =SUM(BY15:DC15) -> 0 | DE15: =IF(B15="","",IF(B15="MM",1,"")) | DF15: =IF(C15="","",IF(C15="MM",1,"")) | DG15: =IF(D15="","",IF(D15="MM",1,"")) | DH15: =IF(E15="","",IF(E15="MM",1,"")) | DI15: =IF(F15="","",IF(F15="MM",1,"")) | DJ15: =IF(G15="","",IF(G15="MM",1,"")) | DK15: =IF(H15="","",IF(H15="MM",1,"")) | DL15: =IF(I15="","",IF(I15="MM",1,"")) | ... EI15: =IF(AF15="","",IF(AF15="MM",1,"")) | EJ15: =SUM(DE15:EI15) -> 0 | EK15: =IF(B15="","",IF(B15="M",1,"")) | EL15: =IF(C15="","",IF(C15="M",1,"")) | EM15: =IF(D15="","",IF(D15="M",1,"")) | EN15: =IF(E15="","",IF(E15="M",1,"")) | EO15: =IF(F15="","",IF(F15="M",1,"")) | EP15: =IF(G15="","",IF(G15="M",1,"")) | EQ15: =IF(H15="","",IF(H15="M",1,"")) | ER15: =IF(I15="","",IF(I15="M",1,"")) | ... FO15: =IF(AF15="","",IF(AF15="M",1,"")) | FP15: =SUM(EK15:FO15) -> 0 | FQ15: =IF(B15="","",IF(B15="CE",1,"")) | FR15: =IF(C15="","",IF(C15="CE",1,"")) | FS15: =IF(D15="","",IF(D15="CE",1,"")) | FT15: =IF(E15="","",IF(E15="CE",1,"")) | FU15: =IF(F15="","",IF(F15="CE",1,"")) | FV15: =IF(G15="","",IF(G15="CE",1,"")) | FW15: =IF(H15="","",IF(H15="CE",1,"")) | FX15: =IF(I15="","",IF(I15="CE",1,"")) | ... GU15: =IF(AF15="","",IF(AF15="CE",1,"")) | GV15: =SUM(FQ15:GU15) -> 0 | GW15: =IF(B15="","",IF(B15="A",1,"")) | GX15: =IF(C15="","",IF(C15="A",1,"")) | GY15: =IF(D15="","",IF(D15="A",1,"")) | GZ15: =IF(E15="","",IF(E15="A",1,"")) | HA15: =IF(F15="","",IF(F15="A",1,"")) | HB15: =IF(G15="","",IF(G15="A",1,"")) | HC15: =IF(H15="","",IF(H15="A",1,"")) | HD15: =IF(I15="","",IF(I15="A",1,"")) | ... IA15: =IF(AF15="","",IF(AF15="A",1,"")) | IB15: =SUM(GW15:IA15) -> 0 | IC15: =IF(B15="","",IF(B15="ES",1,"")) | ID15: =IF(C15="","",IF(C15="ES",1,"")) | IE15: =IF(D15="","",IF(D15="ES",1,"")) | IF15: =IF(E15="","",IF(E15="ES",1,"")) | IG15: =IF(F15="","",IF(F15="ES",1,"")) | IH15: =IF(G15="","",IF(G15="ES",1,"")) | II15: =IF(H15="","",IF(H15="ES",1,"")) | IJ15: =IF(I15="","",IF(I15="ES",1,"")) | ... JG15: =IF(AF15="","",IF(AF15="ES",1,"")) | JH15: =SUM(IC15:JG15) -> 0 | JI15: =IF(B15="","",IF(B15="2cp",0.5,"")) | JJ15: =IF(C15="","",IF(C15="2cp",0.5,"")) | JK15: =IF(D15="","",IF(D15="2cp",0.5,"")) | JL15: =IF(E15="","",IF(E15="2cp",0.5,"")) | JM15: =IF(F15="","",IF(F15="2cp",0.5,"")) | JN15: =IF(G15="","",IF(G15="2cp",0.5,"")) | JO15: =IF(H15="","",IF(H15="2cp",0.5,"")) | JP15: =IF(I15="","",IF(I15="2cp",0.5,"")) | ... KM15: =IF(AF15="","",IF(AF15="2cp",0.5,"")) | KN15: =SUM(JI15:KM15) -> 0
A16: =IF('Salariés en activités'!A18="","",'Salariés en activités'!A18) -> Dupont Jack | AG16: =IF(A16="","",'Salariés en activités'!H18) -> 151,67 | AH16: =IF(A16="",0,IF(DD16=0,0,IF(DD16>20,AG16,(DD16*(AG16/4.333333/5))))) -> 0 | AI16: =IF(A16="",0,IF(IB16=0,0,IF(IB16>20,AG16,IB16*(AG16/4.33333/5)))) -> 0 | AK16: =IF(A16="","",JH16) -> 0 | AL16: =IF(A16="","",GV16) -> 0 | AM16: =IF(A16="","",IF(BX16+KN16=0,"",BX16+KN16)) | AN16: =IF(A16="","",IF(FP16=0,"",FP16)) | AO16: =IF(A16="","",EJ16) -> 0 | AP16: =IF(A16="","",IF(AG16>1,IF(AR16="",2.5,IF(A16="","",2.5*((AG16-AR16)/AG16))),"")) -> 2.5 | AQ16: =AG16-(AH16+AI16) -> 151.67 | AR16: =IF(AH16+AI16+AK16>1,AH16+AI16+(AK16*AG16/4.333333/5),"") | AS16: =IF(B16="","",IF(B16="cp",1,"")) | AT16: =IF(C16="","",IF(C16="cp",1,"")) | AU16: =IF(D16="","",IF(D16="cp",1,"")) | AV16: =IF(E16="","",IF(E16="cp",1,"")) | AW16: =IF(F16="","",IF(F16="cp",1,"")) | AX16: =IF(G16="","",IF(G16="cp",1,"")) | AY16: =IF(H16="","",IF(H16="cp",1,"")) | AZ16: =IF(I16="","",IF(I16="cp",1,"")) | ... BW16: =IF(AF16="","",IF(AF16="cp",1,"")) | BX16: =SUM(AS16:BW16) -> 0 | BY16: =IF(B16="","",IF(B16="AA",1,"")) | BZ16: =IF(C16="","",IF(C16="AA",1,"")) | CA16: =IF(D16="","",IF(D16="AA",1,"")) | CB16: =IF(E16="","",IF(E16="AA",1,"")) | CC16: =IF(F16="","",IF(F16="AA",1,"")) | CD16: =IF(G16="","",IF(G16="AA",1,"")) | CE16: =IF(H16="","",IF(H16="AA",1,"")) | CF16: =IF(I16="","",IF(I16="AA",1,"")) | ... DC16: =IF(AF16="","",IF(AF16="AA",1,"")) | DD16: =SUM(BY16:DC16) -> 0 | DE16: =IF(B16="","",IF(B16="MM",1,"")) | DF16: =IF(C16="","",IF(C16="MM",1,"")) | DG16: =IF(D16="","",IF(D16="MM",1,"")) | DH16: =IF(E16="","",IF(E16="MM",1,"")) | DI16: =IF(F16="","",IF(F16="MM",1,"")) | DJ16: =IF(G16="","",IF(G16="MM",1,"")) | DK16: =IF(H16="","",IF(H16="MM",1,"")) | DL16: =IF(I16="","",IF(I16="MM",1,"")) | ... EI16: =IF(AF16="","",IF(AF16="MM",1,"")) | EJ16: =SUM(DE16:EI16) -> 0 | EK16: =IF(B16="","",IF(B16="M",1,"")) | EL16: =IF(C16="","",IF(C16="M",1,"")) | EM16: =IF(D16="","",IF(D16="M",1,"")) | EN16: =IF(E16="","",IF(E16="M",1,"")) | EO16: =IF(F16="","",IF(F16="M",1,"")) | EP16: =IF(G16="","",IF(G16="M",1,"")) | EQ16: =IF(H16="","",IF(H16="M",1,"")) | ER16: =IF(I16="","",IF(I16="M",1,"")) | ... FO16: =IF(AF16="","",IF(AF16="M",1,"")) | FP16: =SUM(EK16:FO16) -> 0 | FQ16: =IF(B16="","",IF(B16="CE",1,"")) | FR16: =IF(C16="","",IF(C16="CE",1,"")) | FS16: =IF(D16="","",IF(D16="CE",1,"")) | FT16: =IF(E16="","",IF(E16="CE",1,"")) | FU16: =IF(F16="","",IF(F16="CE",1,"")) | FV16: =IF(G16="","",IF(G16="CE",1,"")) | FW16: =IF(H16="","",IF(H16="CE",1,"")) | FX16: =IF(I16="","",IF(I16="CE",1,"")) | ... GU16: =IF(AF16="","",IF(AF16="CE",1,"")) | GV16: =SUM(FQ16:GU16) -> 0 | GW16: =IF(B16="","",IF(B16="A",1,"")) | GX16: =IF(C16="","",IF(C16="A",1,"")) | GY16: =IF(D16="","",IF(D16="A",1,"")) | GZ16: =IF(E16="","",IF(E16="A",1,"")) | HA16: =IF(F16="","",IF(F16="A",1,"")) | HB16: =IF(G16="","",IF(G16="A",1,"")) | HC16: =IF(H16="","",IF(H16="A",1,"")) | HD16: =IF(I16="","",IF(I16="A",1,"")) | ... IA16: =IF(AF16="","",IF(AF16="A",1,"")) | IB16: =SUM(GW16:IA16) -> 0 | IC16: =IF(B16="","",IF(B16="ES",1,"")) | ID16: =IF(C16="","",IF(C16="ES",1,"")) | IE16: =IF(D16="","",IF(D16="ES",1,"")) | IF16: =IF(E16="","",IF(E16="ES",1,"")) | IG16: =IF(F16="","",IF(F16="ES",1,"")) | IH16: =IF(G16="","",IF(G16="ES",1,"")) | II16: =IF(H16="","",IF(H16="ES",1,"")) | IJ16: =IF(I16="","",IF(I16="ES",1,"")) | ... JG16: =IF(AF16="","",IF(AF16="ES",1,"")) | JH16: =SUM(IC16:JG16) -> 0 | JI16: =IF(B16="","",IF(B16="2cp",0.5,"")) | JJ16: =IF(C16="","",IF(C16="2cp",0.5,"")) | JK16: =IF(D16="","",IF(D16="2cp",0.5,"")) | JL16: =IF(E16="","",IF(E16="2cp",0.5,"")) | JM16: =IF(F16="","",IF(F16="2cp",0.5,"")) | JN16: =IF(G16="","",IF(G16="2cp",0.5,"")) | JO16: =IF(H16="","",IF(H16="2cp",0.5,"")) | JP16: =IF(I16="","",IF(I16="2cp",0.5,"")) | ... KM16: =IF(AF16="","",IF(AF16="2cp",0.5,"")) | KN16: =SUM(JI16:KM16) -> 0
A17: =IF('Salariés en activités'!A19="","",'Salariés en activités'!A19) -> DION Celine | K17: CP | L17: CP | M17: CP | N17: CP | P17: CP | AG17: =IF(A17="","",'Salariés en activités'!H19) -> 151,67 | AH17: =IF(A17="",0,IF(DD17=0,0,IF(DD17>20,AG17,(DD17*(AG17/4.333333/5))))) -> 0 | AI17: =IF(A17="",0,IF(IB17=0,0,IF(IB17>20,AG17,IB17*(AG17/4.33333/5)))) -> 0 | AK17: =IF(A17="","",JH17) -> 0 | AL17: =IF(A17="","",GV17) -> 0 | AM17: =IF(A17="","",IF(BX17+KN17=0,"",BX17+KN17)) -> 5 | AN17: =IF(A17="","",IF(FP17=0,"",FP17)) | AO17: =IF(A17="","",EJ17) -> 0 | AP17: =IF(A17="","",IF(AG17>1,IF(AR17="",2.5,IF(A17="","",2.5*((AG17-AR17)/AG17))),"")) -> 2.5 | AQ17: =AG17-(AH17+AI17) -> 151.67 | AR17: =IF(AH17+AI17+AK17>1,AH17+AI17+(AK17*AG17/4.333333/5),"") | AS17: =IF(B17="","",IF(B17="cp",1,"")) | AT17: =IF(C17="","",IF(C17="cp",1,"")) | AU17: =IF(D17="","",IF(D17="cp",1,"")) | AV17: =IF(E17="","",IF(E17="cp",1,"")) | AW17: =IF(F17="","",IF(F17="cp",1,"")) | AX17: =IF(G17="","",IF(G17="cp",1,"")) | AY17: =IF(H17="","",IF(H17="cp",1,"")) | AZ17: =IF(I17="","",IF(I17="cp",1,"")) | ... BW17: =IF(AF17="","",IF(AF17="cp",1,"")) | BX17: =SUM(AS17:BW17) -> 5 | BY17: =IF(B17="","",IF(B17="AA",1,"")) | BZ17: =IF(C17="","",IF(C17="AA",1,"")) | CA17: =IF(D17="","",IF(D17="AA",1,"")) | CB17: =IF(E17="","",IF(E17="AA",1,"")) | CC17: =IF(F17="","",IF(F17="AA",1,"")) | CD17: =IF(G17="","",IF(G17="AA",1,"")) | CE17: =IF(H17="","",IF(H17="AA",1,"")) | CF17: =IF(I17="","",IF(I17="AA",1,"")) | ... DC17: =IF(AF17="","",IF(AF17="AA",1,"")) | DD17: =SUM(BY17:DC17) -> 0 | DE17: =IF(B17="","",IF(B17="MM",1,"")) | DF17: =IF(C17="","",IF(C17="MM",1,"")) | DG17: =IF(D17="","",IF(D17="MM",1,"")) | DH17: =IF(E17="","",IF(E17="MM",1,"")) | DI17: =IF(F17="","",IF(F17="MM",1,"")) | DJ17: =IF(G17="","",IF(G17="MM",1,"")) | DK17: =IF(H17="","",IF(H17="MM",1,"")) | DL17: =IF(I17="","",IF(I17="MM",1,"")) | ... EI17: =IF(AF17="","",IF(AF17="MM",1,"")) | EJ17: =SUM(DE17:EI17) -> 0 | EK17: =IF(B17="","",IF(B17="M",1,"")) | EL17: =IF(C17="","",IF(C17="M",1,"")) | EM17: =IF(D17="","",IF(D17="M",1,"")) | EN17: =IF(E17="","",IF(E17="M",1,"")) | EO17: =IF(F17="","",IF(F17="M",1,"")) | EP17: =IF(G17="","",IF(G17="M",1,"")) | EQ17: =IF(H17="","",IF(H17="M",1,"")) | ER17: =IF(I17="","",IF(I17="M",1,"")) | ... FO17: =IF(AF17="","",IF(AF17="M",1,"")) | FP17: =SUM(EK17:FO17) -> 0 | FQ17: =IF(B17="","",IF(B17="CE",1,"")) | FR17: =IF(C17="","",IF(C17="CE",1,"")) | FS17: =IF(D17="","",IF(D17="CE",1,"")) | FT17: =IF(E17="","",IF(E17="CE",1,"")) | FU17: =IF(F17="","",IF(F17="CE",1,"")) | FV17: =IF(G17="","",IF(G17="CE",1,"")) | FW17: =IF(H17="","",IF(H17="CE",1,"")) | FX17: =IF(I17="","",IF(I17="CE",1,"")) | ... GU17: =IF(AF17="","",IF(AF17="CE",1,"")) | GV17: =SUM(FQ17:GU17) -> 0 | GW17: =IF(B17="","",IF(B17="A",1,"")) | GX17: =IF(C17="","",IF(C17="A",1,"")) | GY17: =IF(D17="","",IF(D17="A",1,"")) | GZ17: =IF(E17="","",IF(E17="A",1,"")) | HA17: =IF(F17="","",IF(F17="A",1,"")) | HB17: =IF(G17="","",IF(G17="A",1,"")) | HC17: =IF(H17="","",IF(H17="A",1,"")) | HD17: =IF(I17="","",IF(I17="A",1,"")) | ... IA17: =IF(AF17="","",IF(AF17="A",1,"")) | IB17: =SUM(GW17:IA17) -> 0 | IC17: =IF(B17="","",IF(B17="ES",1,"")) | ID17: =IF(C17="","",IF(C17="ES",1,"")) | IE17: =IF(D17="","",IF(D17="ES",1,"")) | IF17: =IF(E17="","",IF(E17="ES",1,"")) | IG17: =IF(F17="","",IF(F17="ES",1,"")) | IH17: =IF(G17="","",IF(G17="ES",1,"")) | II17: =IF(H17="","",IF(H17="ES",1,"")) | IJ17: =IF(I17="","",IF(I17="ES",1,"")) | ... JG17: =IF(AF17="","",IF(AF17="ES",1,"")) | JH17: =SUM(IC17:JG17) -> 0 | JI17: =IF(B17="","",IF(B17="2cp",0.5,"")) | JJ17: =IF(C17="","",IF(C17="2cp",0.5,"")) | JK17: =IF(D17="","",IF(D17="2cp",0.5,"")) | JL17: =IF(E17="","",IF(E17="2cp",0.5,"")) | JM17: =IF(F17="","",IF(F17="2cp",0.5,"")) | JN17: =IF(G17="","",IF(G17="2cp",0.5,"")) | JO17: =IF(H17="","",IF(H17="2cp",0.5,"")) | JP17: =IF(I17="","",IF(I17="2cp",0.5,"")) | ... KM17: =IF(AF17="","",IF(AF17="2cp",0.5,"")) | KN17: =SUM(JI17:KM17) -> 0
A18: =IF('Salariés en activités'!A20="","",'Salariés en activités'!A20) -> CHOUETTE Patrick | R18: CP | S18: CP | T18: CP | U18: CP | V18: CP | W18: CP | Y18: CP | Z18: CP | AA18: CP | AB18: CP | AC18: CP | AD18: CP | AG18: =IF(A18="","",'Salariés en activités'!H20) -> 151,67 | AH18: =IF(A18="",0,IF(DD18=0,0,IF(DD18>20,AG18,(DD18*(AG18/4.333333/5))))) -> 0 | AI18: =IF(A18="",0,IF(IB18=0,0,IF(IB18>20,AG18,IB18*(AG18/4.33333/5)))) -> 0 | AK18: =IF(A18="","",JH18) -> 0 | AL18: =IF(A18="","",GV18) -> 0 | AM18: =IF(A18="","",IF(BX18+KN18=0,"",BX18+KN18)) -> 12 | AN18: =IF(A18="","",IF(FP18=0,"",FP18)) | AO18: =IF(A18="","",EJ18) -> 0 | AP18: =IF(A18="","",IF(AG18>1,IF(AR18="",2.5,IF(A18="","",2.5*((AG18-AR18)/AG18))),"")) -> 2.5 | AQ18: =AG18-(AH18+AI18) -> 151.67 | AR18: =IF(AH18+AI18+AK18>1,AH18+AI18+(AK18*AG18/4.333333/5),"") | AS18: =IF(B18="","",IF(B18="cp",1,"")) | AT18: =IF(C18="","",IF(C18="cp",1,"")) | AU18: =IF(D18="","",IF(D18="cp",1,"")) | AV18: =IF(E18="","",IF(E18="cp",1,"")) | AW18: =IF(F18="","",IF(F18="cp",1,"")) | AX18: =IF(G18="","",IF(G18="cp",1,"")) | AY18: =IF(H18="","",IF(H18="cp",1,"")) | AZ18: =IF(I18="","",IF(I18="cp",1,"")) | ... BW18: =IF(AF18="","",IF(AF18="cp",1,"")) | BX18: =SUM(AS18:BW18) -> 12 | BY18: =IF(B18="","",IF(B18="AA",1,"")) | BZ18: =IF(C18="","",IF(C18="AA",1,"")) | CA18: =IF(D18="","",IF(D18="AA",1,"")) | CB18: =IF(E18="","",IF(E18="AA",1,"")) | CC18: =IF(F18="","",IF(F18="AA",1,"")) | CD18: =IF(G18="","",IF(G18="AA",1,"")) | CE18: =IF(H18="","",IF(H18="AA",1,"")) | CF18: =IF(I18="","",IF(I18="AA",1,"")) | ... DC18: =IF(AF18="","",IF(AF18="AA",1,"")) | DD18: =SUM(BY18:DC18) -> 0 | DE18: =IF(B18="","",IF(B18="MM",1,"")) | DF18: =IF(C18="","",IF(C18="MM",1,"")) | DG18: =IF(D18="","",IF(D18="MM",1,"")) | DH18: =IF(E18="","",IF(E18="MM",1,"")) | DI18: =IF(F18="","",IF(F18="MM",1,"")) | DJ18: =IF(G18="","",IF(G18="MM",1,"")) | DK18: =IF(H18="","",IF(H18="MM",1,"")) | DL18: =IF(I18="","",IF(I18="MM",1,"")) | ... EI18: =IF(AF18="","",IF(AF18="MM",1,"")) | EJ18: =SUM(DE18:EI18) -> 0 | EK18: =IF(B18="","",IF(B18="M",1,"")) | EL18: =IF(C18="","",IF(C18="M",1,"")) | EM18: =IF(D18="","",IF(D18="M",1,"")) | EN18: =IF(E18="","",IF(E18="M",1,"")) | EO18: =IF(F18="","",IF(F18="M",1,"")) | EP18: =IF(G18="","",IF(G18="M",1,"")) | EQ18: =IF(H18="","",IF(H18="M",1,"")) | ER18: =IF(I18="","",IF(I18="M",1,"")) | ... FO18: =IF(AF18="","",IF(AF18="M",1,"")) | FP18: =SUM(EK18:FO18) -> 0 | FQ18: =IF(B18="","",IF(B18="CE",1,"")) | FR18: =IF(C18="","",IF(C18="CE",1,"")) | FS18: =IF(D18="","",IF(D18="CE",1,"")) | FT18: =IF(E18="","",IF(E18="CE",1,"")) | FU18: =IF(F18="","",IF(F18="CE",1,"")) | FV18: =IF(G18="","",IF(G18="CE",1,"")) | FW18: =IF(H18="","",IF(H18="CE",1,"")) | FX18: =IF(I18="","",IF(I18="CE",1,"")) | ... GU18: =IF(AF18="","",IF(AF18="CE",1,"")) | GV18: =SUM(FQ18:GU18) -> 0 | GW18: =IF(B18="","",IF(B18="A",1,"")) | GX18: =IF(C18="","",IF(C18="A",1,"")) | GY18: =IF(D18="","",IF(D18="A",1,"")) | GZ18: =IF(E18="","",IF(E18="A",1,"")) | HA18: =IF(F18="","",IF(F18="A",1,"")) | HB18: =IF(G18="","",IF(G18="A",1,"")) | HC18: =IF(H18="","",IF(H18="A",1,"")) | HD18: =IF(I18="","",IF(I18="A",1,"")) | ... IA18: =IF(AF18="","",IF(AF18="A",1,"")) | IB18: =SUM(GW18:IA18) -> 0 | IC18: =IF(B18="","",IF(B18="ES",1,"")) | ID18: =IF(C18="","",IF(C18="ES",1,"")) | IE18: =IF(D18="","",IF(D18="ES",1,"")) | IF18: =IF(E18="","",IF(E18="ES",1,"")) | IG18: =IF(F18="","",IF(F18="ES",1,"")) | IH18: =IF(G18="","",IF(G18="ES",1,"")) | II18: =IF(H18="","",IF(H18="ES",1,"")) | IJ18: =IF(I18="","",IF(I18="ES",1,"")) | ... JG18: =IF(AF18="","",IF(AF18="ES",1,"")) | JH18: =SUM(IC18:JG18) -> 0 | JI18: =IF(B18="","",IF(B18="2cp",0.5,"")) | JJ18: =IF(C18="","",IF(C18="2cp",0.5,"")) | JK18: =IF(D18="","",IF(D18="2cp",0.5,"")) | JL18: =IF(E18="","",IF(E18="2cp",0.5,"")) | JM18: =IF(F18="","",IF(F18="2cp",0.5,"")) | JN18: =IF(G18="","",IF(G18="2cp",0.5,"")) | JO18: =IF(H18="","",IF(H18="2cp",0.5,"")) | JP18: =IF(I18="","",IF(I18="2cp",0.5,"")) | ... KM18: =IF(AF18="","",IF(AF18="2cp",0.5,"")) | KN18: =SUM(JI18:KM18) -> 0
A19: =IF('Salariés en activités'!A21="","",'Salariés en activités'!A21) -> CASSE Tout | D19: CP | M19: MM | N19: MM | O19: MM | P19: MM | Q19: MM | R19: MM | S19: MM | T19: MM | U19: MM | V19: MM | W19: MM | X19: MM | Y19: MM | Z19: MM | AF19: CP | AG19: =IF(A19="","",'Salariés en activités'!H21) -> 151,67 | AH19: =IF(A19="",0,IF(DD19=0,0,IF(DD19>20,AG19,(DD19*(AG19/4.333333/5))))) -> 0 | AI19: =IF(A19="",0,IF(IB19=0,0,IF(IB19>20,AG19,IB19*(AG19/4.33333/5)))) -> 0 | AK19: =IF(A19="","",JH19) -> 0 | AL19: =IF(A19="","",GV19) -> 0 | AM19: =IF(A19="","",IF(BX19+KN19=0,"",BX19+KN19)) -> 2 | AN19: =IF(A19="","",IF(FP19=0,"",FP19)) | AO19: =IF(A19="","",EJ19) -> 14 | AP19: =IF(A19="","",IF(AG19>1,IF(AR19="",2.5,IF(A19="","",2.5*((AG19-AR19)/AG19))),"")) -> 2.5 | AQ19: =AG19-(AH19+AI19) -> 151.67 | AR19: =IF(AH19+AI19+AK19>1,AH19+AI19+(AK19*AG19/4.333333/5),"") | AS19: =IF(B19="","",IF(B19="cp",1,"")) | AT19: =IF(C19="","",IF(C19="cp",1,"")) | AU19: =IF(D19="","",IF(D19="cp",1,"")) -> 1 | AV19: =IF(E19="","",IF(E19="cp",1,"")) | AW19: =IF(F19="","",IF(F19="cp",1,"")) | AX19: =IF(G19="","",IF(G19="cp",1,"")) | AY19: =IF(H19="","",IF(H19="cp",1,"")) | AZ19: =IF(I19="","",IF(I19="cp",1,"")) | ... BW19: =IF(AF19="","",IF(AF19="cp",1,"")) -> 1 | BX19: =SUM(AS19:BW19) -> 2 | BY19: =IF(B19="","",IF(B19="AA",1,"")) | BZ19: =IF(C19="","",IF(C19="AA",1,"")) | CA19: =IF(D19="","",IF(D19="AA",1,"")) | CB19: =IF(E19="","",IF(E19="AA",1,"")) | CC19: =IF(F19="","",IF(F19="AA",1,"")) | CD19: =IF(G19="","",IF(G19="AA",1,"")) | CE19: =IF(H19="","",IF(H19="AA",1,"")) | CF19: =IF(I19="","",IF(I19="AA",1,"")) | ... DC19: =IF(AF19="","",IF(AF19="AA",1,"")) | DD19: =SUM(BY19:DC19) -> 0 | DE19: =IF(B19="","",IF(B19="MM",1,"")) | DF19: =IF(C19="","",IF(C19="MM",1,"")) | DG19: =IF(D19="","",IF(D19="MM",1,"")) | DH19: =IF(E19="","",IF(E19="MM",1,"")) | DI19: =IF(F19="","",IF(F19="MM",1,"")) | DJ19: =IF(G19="","",IF(G19="MM",1,"")) | DK19: =IF(H19="","",IF(H19="MM",1,"")) | DL19: =IF(I19="","",IF(I19="MM",1,"")) | ... EI19: =IF(AF19="","",IF(AF19="MM",1,"")) | EJ19: =SUM(DE19:EI19) -> 14 | EK19: =IF(B19="","",IF(B19="M",1,"")) | EL19: =IF(C19="","",IF(C19="M",1,"")) | EM19: =IF(D19="","",IF(D19="M",1,"")) | EN19: =IF(E19="","",IF(E19="M",1,"")) | EO19: =IF(F19="","",IF(F19="M",1,"")) | EP19: =IF(G19="","",IF(G19="M",1,"")) | EQ19: =IF(H19="","",IF(H19="M",1,"")) | ER19: =IF(I19="","",IF(I19="M",1,"")) | ... FO19: =IF(AF19="","",IF(AF19="M",1,"")) | FP19: =SUM(EK19:FO19) -> 0 | FQ19: =IF(B19="","",IF(B19="CE",1,"")) | FR19: =IF(C19="","",IF(C19="CE",1,"")) | FS19: =IF(D19="","",IF(D19="CE",1,"")) | FT19: =IF(E19="","",IF(E19="CE",1,"")) | FU19: =IF(F19="","",IF(F19="CE",1,"")) | FV19: =IF(G19="","",IF(G19="CE",1,"")) | FW19: =IF(H19="","",IF(H19="CE",1,"")) | FX19: =IF(I19="","",IF(I19="CE",1,"")) | ... GU19: =IF(AF19="","",IF(AF19="CE",1,"")) | GV19: =SUM(FQ19:GU19) -> 0 | GW19: =IF(B19="","",IF(B19="A",1,"")) | GX19: =IF(C19="","",IF(C19="A",1,"")) | GY19: =IF(D19="","",IF(D19="A",1,"")) | GZ19: =IF(E19="","",IF(E19="A",1,"")) | HA19: =IF(F19="","",IF(F19="A",1,"")) | HB19: =IF(G19="","",IF(G19="A",1,"")) | HC19: =IF(H19="","",IF(H19="A",1,"")) | HD19: =IF(I19="","",IF(I19="A",1,"")) | ... IA19: =IF(AF19="","",IF(AF19="A",1,"")) | IB19: =SUM(GW19:IA19) -> 0 | IC19: =IF(B19="","",IF(B19="ES",1,"")) | ID19: =IF(C19="","",IF(C19="ES",1,"")) | IE19: =IF(D19="","",IF(D19="ES",1,"")) | IF19: =IF(E19="","",IF(E19="ES",1,"")) | IG19: =IF(F19="","",IF(F19="ES",1,"")) | IH19: =IF(G19="","",IF(G19="ES",1,"")) | II19: =IF(H19="","",IF(H19="ES",1,"")) | IJ19: =IF(I19="","",IF(I19="ES",1,"")) | ... JG19: =IF(AF19="","",IF(AF19="ES",1,"")) | JH19: =SUM(IC19:JG19) -> 0 | JI19: =IF(B19="","",IF(B19="2cp",0.5,"")) | JJ19: =IF(C19="","",IF(C19="2cp",0.5,"")) | JK19: =IF(D19="","",IF(D19="2cp",0.5,"")) | JL19: =IF(E19="","",IF(E19="2cp",0.5,"")) | JM19: =IF(F19="","",IF(F19="2cp",0.5,"")) | JN19: =IF(G19="","",IF(G19="2cp",0.5,"")) | JO19: =IF(H19="","",IF(H19="2cp",0.5,"")) | JP19: =IF(I19="","",IF(I19="2cp",0.5,"")) | ... KM19: =IF(AF19="","",IF(AF19="2cp",0.5,"")) | KN19: =SUM(JI19:KM19) -> 0
A20: =IF('Salariés en activités'!A22="","",'Salariés en activités'!A22) -> CARDIAQUE Philippe | B20: CP | D20: CP | E20: CP | F20: CP | G20: CP | H20: CP | I20: CP | AG20: =IF(A20="","",'Salariés en activités'!H22) -> 151,67 | AH20: =IF(A20="",0,IF(DD20=0,0,IF(DD20>20,AG20,(DD20*(AG20/4.333333/5))))) -> 0 | AI20: =IF(A20="",0,IF(IB20=0,0,IF(IB20>20,AG20,IB20*(AG20/4.33333/5)))) -> 0 | AK20: =IF(A20="","",JH20) -> 0 | AL20: =IF(A20="","",GV20) -> 0 | AM20: =IF(A20="","",IF(BX20+KN20=0,"",BX20+KN20)) -> 7 | AN20: =IF(A20="","",IF(FP20=0,"",FP20)) | AO20: =IF(A20="","",EJ20) -> 0 | AP20: =IF(A20="","",IF(AG20>1,IF(AR20="",2.5,IF(A20="","",2.5*((AG20-AR20)/AG20))),"")) -> 2.5 | AQ20: =AG20-(AH20+AI20) -> 151.67 | AR20: =IF(AH20+AI20+AK20>1,AH20+AI20+(AK20*AG20/4.333333/5),"") | AS20: =IF(B20="","",IF(B20="cp",1,"")) -> 1 | AT20: =IF(C20="","",IF(C20="cp",1,"")) | AU20: =IF(D20="","",IF(D20="cp",1,"")) -> 1 | AV20: =IF(E20="","",IF(E20="cp",1,"")) -> 1 | AW20: =IF(F20="","",IF(F20="cp",1,"")) -> 1 | AX20: =IF(G20="","",IF(G20="cp",1,"")) -> 1 | AY20: =IF(H20="","",IF(H20="cp",1,"")) -> 1 | AZ20: =IF(I20="","",IF(I20="cp",1,"")) -> 1 | ... BW20: =IF(AF20="","",IF(AF20="cp",1,"")) | BX20: =SUM(AS20:BW20) -> 7 | BY20: =IF(B20="","",IF(B20="AA",1,"")) | BZ20: =IF(C20="","",IF(C20="AA",1,"")) | CA20: =IF(D20="","",IF(D20="AA",1,"")) | CB20: =IF(E20="","",IF(E20="AA",1,"")) | CC20: =IF(F20="","",IF(F20="AA",1,"")) | CD20: =IF(G20="","",IF(G20="AA",1,"")) | CE20: =IF(H20="","",IF(H20="AA",1,"")) | CF20: =IF(I20="","",IF(I20="AA",1,"")) | ... DC20: =IF(AF20="","",IF(AF20="AA",1,"")) | DD20: =SUM(BY20:DC20) -> 0 | DE20: =IF(B20="","",IF(B20="MM",1,"")) | DF20: =IF(C20="","",IF(C20="MM",1,"")) | DG20: =IF(D20="","",IF(D20="MM",1,"")) | DH20: =IF(E20="","",IF(E20="MM",1,"")) | DI20: =IF(F20="","",IF(F20="MM",1,"")) | DJ20: =IF(G20="","",IF(G20="MM",1,"")) | DK20: =IF(H20="","",IF(H20="MM",1,"")) | DL20: =IF(I20="","",IF(I20="MM",1,"")) | ... EI20: =IF(AF20="","",IF(AF20="MM",1,"")) | EJ20: =SUM(DE20:EI20) -> 0 | EK20: =IF(B20="","",IF(B20="M",1,"")) | EL20: =IF(C20="","",IF(C20="M",1,"")) | EM20: =IF(D20="","",IF(D20="M",1,"")) | EN20: =IF(E20="","",IF(E20="M",1,"")) | EO20: =IF(F20="","",IF(F20="M",1,"")) | EP20: =IF(G20="","",IF(G20="M",1,"")) | EQ20: =IF(H20="","",IF(H20="M",1,"")) | ER20: =IF(I20="","",IF(I20="M",1,"")) | ... FO20: =IF(AF20="","",IF(AF20="M",1,"")) | FP20: =SUM(EK20:FO20) -> 0 | FQ20: =IF(B20="","",IF(B20="CE",1,"")) | FR20: =IF(C20="","",IF(C20="CE",1,"")) | FS20: =IF(D20="","",IF(D20="CE",1,"")) | FT20: =IF(E20="","",IF(E20="CE",1,"")) | FU20: =IF(F20="","",IF(F20="CE",1,"")) | FV20: =IF(G20="","",IF(G20="CE",1,"")) | FW20: =IF(H20="","",IF(H20="CE",1,"")) | FX20: =IF(I20="","",IF(I20="CE",1,"")) | ... GU20: =IF(AF20="","",IF(AF20="CE",1,"")) | GV20: =SUM(FQ20:GU20) -> 0 | GW20: =IF(B20="","",IF(B20="A",1,"")) | GX20: =IF(C20="","",IF(C20="A",1,"")) | GY20: =IF(D20="","",IF(D20="A",1,"")) | GZ20: =IF(E20="","",IF(E20="A",1,"")) | HA20: =IF(F20="","",IF(F20="A",1,"")) | HB20: =IF(G20="","",IF(G20="A",1,"")) | HC20: =IF(H20="","",IF(H20="A",1,"")) | HD20: =IF(I20="","",IF(I20="A",1,"")) | ... IA20: =IF(AF20="","",IF(AF20="A",1,"")) | IB20: =SUM(GW20:IA20) -> 0 | IC20: =IF(B20="","",IF(B20="ES",1,"")) | ID20: =IF(C20="","",IF(C20="ES",1,"")) | IE20: =IF(D20="","",IF(D20="ES",1,"")) | IF20: =IF(E20="","",IF(E20="ES",1,"")) | IG20: =IF(F20="","",IF(F20="ES",1,"")) | IH20: =IF(G20="","",IF(G20="ES",1,"")) | II20: =IF(H20="","",IF(H20="ES",1,"")) | IJ20: =IF(I20="","",IF(I20="ES",1,"")) | ... JG20: =IF(AF20="","",IF(AF20="ES",1,"")) | JH20: =SUM(IC20:JG20) -> 0 | JI20: =IF(B20="","",IF(B20="2cp",0.5,"")) | JJ20: =IF(C20="","",IF(C20="2cp",0.5,"")) | JK20: =IF(D20="","",IF(D20="2cp",0.5,"")) | JL20: =IF(E20="","",IF(E20="2cp",0.5,"")) | JM20: =IF(F20="","",IF(F20="2cp",0.5,"")) | JN20: =IF(G20="","",IF(G20="2cp",0.5,"")) | JO20: =IF(H20="","",IF(H20="2cp",0.5,"")) | JP20: =IF(I20="","",IF(I20="2cp",0.5,"")) | ... KM20: =IF(AF20="","",IF(AF20="2cp",0.5,"")) | KN20: =SUM(JI20:KM20) -> 0
A21: =IF('Salariés en activités'!A23="","",'Salariés en activités'!A23) -> CACA lol | G21: 2CP | M21: CP | R21: AA | S21: AA | T21: AA | U21: AA | V21: AA | Y21: AA | Z21: AA | AA21: AA | AB21: AA | AC21: AA | AF21: AA | AG21: =IF(A21="","",'Salariés en activités'!H23) -> 151,67 | AH21: =IF(A21="",0,IF(DD21=0,0,IF(DD21>20,AG21,(DD21*(AG21/4.333333/5))))) -> 77.001698 | AI21: =IF(A21="",0,IF(IB21=0,0,IF(IB21>20,AG21,IB21*(AG21/4.33333/5)))) -> 0 | AK21: =IF(A21="","",JH21) -> 0 | AL21: =IF(A21="","",GV21) -> 0 | AM21: =IF(A21="","",IF(BX21+KN21=0,"",BX21+KN21)) -> 1.5 | AN21: =IF(A21="","",IF(FP21=0,"",FP21)) | AO21: =IF(A21="","",EJ21) -> 0 | AP21: =IF(A21="","",IF(AG21>1,IF(AR21="",2.5,IF(A21="","",2.5*((AG21-AR21)/AG21))),"")) -> 1.2307691 | AQ21: =AG21-(AH21+AI21) -> 74.668302 | AR21: =IF(AH21+AI21+AK21>1,AH21+AI21+(AK21*AG21/4.333333/5),"") -> 77.001698 | AS21: =IF(B21="","",IF(B21="cp",1,"")) | AT21: =IF(C21="","",IF(C21="cp",1,"")) | AU21: =IF(D21="","",IF(D21="cp",1,"")) | AV21: =IF(E21="","",IF(E21="cp",1,"")) | AW21: =IF(F21="","",IF(F21="cp",1,"")) | AX21: =IF(G21="","",IF(G21="cp",1,"")) | AY21: =IF(H21="","",IF(H21="cp",1,"")) | AZ21: =IF(I21="","",IF(I21="cp",1,"")) | ... BW21: =IF(AF21="","",IF(AF21="cp",1,"")) | BX21: =SUM(AS21:BW21) -> 1 | BY21: =IF(B21="","",IF(B21="AA",1,"")) | BZ21: =IF(C21="","",IF(C21="AA",1,"")) | CA21: =IF(D21="","",IF(D21="AA",1,"")) | CB21: =IF(E21="","",IF(E21="AA",1,"")) | CC21: =IF(F21="","",IF(F21="AA",1,"")) | CD21: =IF(G21="","",IF(G21="AA",1,"")) | CE21: =IF(H21="","",IF(H21="AA",1,"")) | CF21: =IF(I21="","",IF(I21="AA",1,"")) | ... DC21: =IF(AF21="","",IF(AF21="AA",1,"")) -> 1 | DD21: =SUM(BY21:DC21) -> 11 | DE21: =IF(B21="","",IF(B21="MM",1,"")) | DF21: =IF(C21="","",IF(C21="MM",1,"")) | DG21: =IF(D21="","",IF(D21="MM",1,"")) | DH21: =IF(E21="","",IF(E21="MM",1,"")) | DI21: =IF(F21="","",IF(F21="MM",1,"")) | DJ21: =IF(G21="","",IF(G21="MM",1,"")) | DK21: =IF(H21="","",IF(H21="MM",1,"")) | DL21: =IF(I21="","",IF(I21="MM",1,"")) | ... EI21: =IF(AF21="","",IF(AF21="MM",1,"")) | EJ21: =SUM(DE21:EI21) -> 0 | EK21: =IF(B21="","",IF(B21="M",1,"")) | EL21: =IF(C21="","",IF(C21="M",1,"")) | EM21: =IF(D21="","",IF(D21="M",1,"")) | EN21: =IF(E21="","",IF(E21="M",1,"")) | EO21: =IF(F21="","",IF(F21="M",1,"")) | EP21: =IF(G21="","",IF(G21="M",1,"")) | EQ21: =IF(H21="","",IF(H21="M",1,"")) | ER21: =IF(I21="","",IF(I21="M",1,"")) | ... FO21: =IF(AF21="","",IF(AF21="M",1,"")) | FP21: =SUM(EK21:FO21) -> 0 | FQ21: =IF(B21="","",IF(B21="CE",1,"")) | FR21: =IF(C21="","",IF(C21="CE",1,"")) | FS21: =IF(D21="","",IF(D21="CE",1,"")) | FT21: =IF(E21="","",IF(E21="CE",1,"")) | FU21: =IF(F21="","",IF(F21="CE",1,"")) | FV21: =IF(G21="","",IF(G21="CE",1,"")) | FW21: =IF(H21="","",IF(H21="CE",1,"")) | FX21: =IF(I21="","",IF(I21="CE",1,"")) | ... GU21: =IF(AF21="","",IF(AF21="CE",1,"")) | GV21: =SUM(FQ21:GU21) -> 0 | GW21: =IF(B21="","",IF(B21="A",1,"")) | GX21: =IF(C21="","",IF(C21="A",1,"")) | GY21: =IF(D21="","",IF(D21="A",1,"")) | GZ21: =IF(E21="","",IF(E21="A",1,"")) | HA21: =IF(F21="","",IF(F21="A",1,"")) | HB21: =IF(G21="","",IF(G21="A",1,"")) | HC21: =IF(H21="","",IF(H21="A",1,"")) | HD21: =IF(I21="","",IF(I21="A",1,"")) | ... IA21: =IF(AF21="","",IF(AF21="A",1,"")) | IB21: =SUM(GW21:IA21) -> 0 | IC21: =IF(B21="","",IF(B21="ES",1,"")) | ID21: =IF(C21="","",IF(C21="ES",1,"")) | IE21: =IF(D21="","",IF(D21="ES",1,"")) | IF21: =IF(E21="","",IF(E21="ES",1,"")) | IG21: =IF(F21="","",IF(F21="ES",1,"")) | IH21: =IF(G21="","",IF(G21="ES",1,"")) | II21: =IF(H21="","",IF(H21="ES",1,"")) | IJ21: =IF(I21="","",IF(I21="ES",1,"")) | ... JG21: =IF(AF21="","",IF(AF21="ES",1,"")) | JH21: =SUM(IC21:JG21) -> 0 | JI21: =IF(B21="","",IF(B21="2cp",0.5,"")) | JJ21: =IF(C21="","",IF(C21="2cp",0.5,"")) | JK21: =IF(D21="","",IF(D21="2cp",0.5,"")) | JL21: =IF(E21="","",IF(E21="2cp",0.5,"")) | JM21: =IF(F21="","",IF(F21="2cp",0.5,"")) | JN21: =IF(G21="","",IF(G21="2cp",0.5,"")) -> 0.5 | JO21: =IF(H21="","",IF(H21="2cp",0.5,"")) | JP21: =IF(I21="","",IF(I21="2cp",0.5,"")) | ... KM21: =IF(AF21="","",IF(AF21="2cp",0.5,"")) | KN21: =SUM(JI21:KM21) -> 0.5
A22: =IF('Salariés en activités'!A24="","",'Salariés en activités'!A24) -> BOULE Sophie | R22: 2CP | S22: CP | T22: CP | U22: CP | V22: CP | W22: CP | AG22: =IF(A22="","",'Salariés en activités'!H24) -> 151,67 | AH22: =IF(A22="",0,IF(DD22=0,0,IF(DD22>20,AG22,(DD22*(AG22/4.333333/5))))) -> 0 | AI22: =IF(A22="",0,IF(IB22=0,0,IF(IB22>20,AG22,IB22*(AG22/4.33333/5)))) -> 0 | AK22: =IF(A22="","",JH22) -> 0 | AL22: =IF(A22="","",GV22) -> 0 | AM22: =IF(A22="","",IF(BX22+KN22=0,"",BX22+KN22)) -> 5.5 | AN22: =IF(A22="","",IF(FP22=0,"",FP22)) | AO22: =IF(A22="","",EJ22) -> 0 | AP22: =IF(A22="","",IF(AG22>1,IF(AR22="",2.5,IF(A22="","",2.5*((AG22-AR22)/AG22))),"")) -> 2.5 | AQ22: =AG22-(AH22+AI22) -> 151.67 | AR22: =IF(AH22+AI22+AK22>1,AH22+AI22+(AK22*AG22/4.333333/5),"") | AS22: =IF(B22="","",IF(B22="cp",1,"")) | AT22: =IF(C22="","",IF(C22="cp",1,"")) | AU22: =IF(D22="","",IF(D22="cp",1,"")) | AV22: =IF(E22="","",IF(E22="cp",1,"")) | AW22: =IF(F22="","",IF(F22="cp",1,"")) | AX22: =IF(G22="","",IF(G22="cp",1,"")) | AY22: =IF(H22="","",IF(H22="cp",1,"")) | AZ22: =IF(I22="","",IF(I22="cp",1,"")) | ... BW22: =IF(AF22="","",IF(AF22="cp",1,"")) | BX22: =SUM(AS22:BW22) -> 5 | BY22: =IF(B22="","",IF(B22="AA",1,"")) | BZ22: =IF(C22="","",IF(C22="AA",1,"")) | CA22: =IF(D22="","",IF(D22="AA",1,"")) | CB22: =IF(E22="","",IF(E22="AA",1,"")) | CC22: =IF(F22="","",IF(F22="AA",1,"")) | CD22: =IF(G22="","",IF(G22="AA",1,"")) | CE22: =IF(H22="","",IF(H22="AA",1,"")) | CF22: =IF(I22="","",IF(I22="AA",1,"")) | ... DC22: =IF(AF22="","",IF(AF22="AA",1,"")) | DD22: =SUM(BY22:DC22) -> 0 | DE22: =IF(B22="","",IF(B22="MM",1,"")) | DF22: =IF(C22="","",IF(C22="MM",1,"")) | DG22: =IF(D22="","",IF(D22="MM",1,"")) | DH22: =IF(E22="","",IF(E22="MM",1,"")) | DI22: =IF(F22="","",IF(F22="MM",1,"")) | DJ22: =IF(G22="","",IF(G22="MM",1,"")) | DK22: =IF(H22="","",IF(H22="MM",1,"")) | DL22: =IF(I22="","",IF(I22="MM",1,"")) | ... EI22: =IF(AF22="","",IF(AF22="MM",1,"")) | EJ22: =SUM(DE22:EI22) -> 0 | EK22: =IF(B22="","",IF(B22="M",1,"")) | EL22: =IF(C22="","",IF(C22="M",1,"")) | EM22: =IF(D22="","",IF(D22="M",1,"")) | EN22: =IF(E22="","",IF(E22="M",1,"")) | EO22: =IF(F22="","",IF(F22="M",1,"")) | EP22: =IF(G22="","",IF(G22="M",1,"")) | EQ22: =IF(H22="","",IF(H22="M",1,"")) | ER22: =IF(I22="","",IF(I22="M",1,"")) | ... FO22: =IF(AF22="","",IF(AF22="M",1,"")) | FP22: =SUM(EK22:FO22) -> 0 | FQ22: =IF(B22="","",IF(B22="CE",1,"")) | FR22: =IF(C22="","",IF(C22="CE",1,"")) | FS22: =IF(D22="","",IF(D22="CE",1,"")) | FT22: =IF(E22="","",IF(E22="CE",1,"")) | FU22: =IF(F22="","",IF(F22="CE",1,"")) | FV22: =IF(G22="","",IF(G22="CE",1,"")) | FW22: =IF(H22="","",IF(H22="CE",1,"")) | FX22: =IF(I22="","",IF(I22="CE",1,"")) | ... GU22: =IF(AF22="","",IF(AF22="CE",1,"")) | GV22: =SUM(FQ22:GU22) -> 0 | GW22: =IF(B22="","",IF(B22="A",1,"")) | GX22: =IF(C22="","",IF(C22="A",1,"")) | GY22: =IF(D22="","",IF(D22="A",1,"")) | GZ22: =IF(E22="","",IF(E22="A",1,"")) | HA22: =IF(F22="","",IF(F22="A",1,"")) | HB22: =IF(G22="","",IF(G22="A",1,"")) | HC22: =IF(H22="","",IF(H22="A",1,"")) | HD22: =IF(I22="","",IF(I22="A",1,"")) | ... IA22: =IF(AF22="","",IF(AF22="A",1,"")) | IB22: =SUM(GW22:IA22) -> 0 | IC22: =IF(B22="","",IF(B22="ES",1,"")) | ID22: =IF(C22="","",IF(C22="ES",1,"")) | IE22: =IF(D22="","",IF(D22="ES",1,"")) | IF22: =IF(E22="","",IF(E22="ES",1,"")) | IG22: =IF(F22="","",IF(F22="ES",1,"")) | IH22: =IF(G22="","",IF(G22="ES",1,"")) | II22: =IF(H22="","",IF(H22="ES",1,"")) | IJ22: =IF(I22="","",IF(I22="ES",1,"")) | ... JG22: =IF(AF22="","",IF(AF22="ES",1,"")) | JH22: =SUM(IC22:JG22) -> 0 | JI22: =IF(B22="","",IF(B22="2cp",0.5,"")) | JJ22: =IF(C22="","",IF(C22="2cp",0.5,"")) | JK22: =IF(D22="","",IF(D22="2cp",0.5,"")) | JL22: =IF(E22="","",IF(E22="2cp",0.5,"")) | JM22: =IF(F22="","",IF(F22="2cp",0.5,"")) | JN22: =IF(G22="","",IF(G22="2cp",0.5,"")) | JO22: =IF(H22="","",IF(H22="2cp",0.5,"")) | JP22: =IF(I22="","",IF(I22="2cp",0.5,"")) | ... KM22: =IF(AF22="","",IF(AF22="2cp",0.5,"")) | KN22: =SUM(JI22:KM22) -> 0.5
A23: =IF('Salariés en activités'!A25="","",'Salariés en activités'!A25) -> BOLO Nese | B23: ES | AG23: =IF(A23="","",'Salariés en activités'!H25) -> 151,67 | AH23: =IF(A23="",0,IF(DD23=0,0,IF(DD23>20,AG23,(DD23*(AG23/4.333333/5))))) -> 0 | AI23: =IF(A23="",0,IF(IB23=0,0,IF(IB23>20,AG23,IB23*(AG23/4.33333/5)))) -> 0 | AK23: =IF(A23="","",JH23) -> 1 | AL23: =IF(A23="","",GV23) -> 0 | AM23: =IF(A23="","",IF(BX23+KN23=0,"",BX23+KN23)) | AN23: =IF(A23="","",IF(FP23=0,"",FP23)) | AO23: =IF(A23="","",EJ23) -> 0 | AP23: =IF(A23="","",IF(AG23>1,IF(AR23="",2.5,IF(A23="","",2.5*((AG23-AR23)/AG23))),"")) -> 2.5 | AQ23: =AG23-(AH23+AI23) -> 151.67 | AR23: =IF(AH23+AI23+AK23>1,AH23+AI23+(AK23*AG23/4.333333/5),"") | AS23: =IF(B23="","",IF(B23="cp",1,"")) | AT23: =IF(C23="","",IF(C23="cp",1,"")) | AU23: =IF(D23="","",IF(D23="cp",1,"")) | AV23: =IF(E23="","",IF(E23="cp",1,"")) | AW23: =IF(F23="","",IF(F23="cp",1,"")) | AX23: =IF(G23="","",IF(G23="cp",1,"")) | AY23: =IF(H23="","",IF(H23="cp",1,"")) | AZ23: =IF(I23="","",IF(I23="cp",1,"")) | ... BW23: =IF(AF23="","",IF(AF23="cp",1,"")) | BX23: =SUM(AS23:BW23) -> 0 | BY23: =IF(B23="","",IF(B23="AA",1,"")) | BZ23: =IF(C23="","",IF(C23="AA",1,"")) | CA23: =IF(D23="","",IF(D23="AA",1,"")) | CB23: =IF(E23="","",IF(E23="AA",1,"")) | CC23: =IF(F23="","",IF(F23="AA",1,"")) | CD23: =IF(G23="","",IF(G23="AA",1,"")) | CE23: =IF(H23="","",IF(H23="AA",1,"")) | CF23: =IF(I23="","",IF(I23="AA",1,"")) | ... DC23: =IF(AF23="","",IF(AF23="AA",1,"")) | DD23: =SUM(BY23:DC23) -> 0 | DE23: =IF(B23="","",IF(B23="MM",1,"")) | DF23: =IF(C23="","",IF(C23="MM",1,"")) | DG23: =IF(D23="","",IF(D23="MM",1,"")) | DH23: =IF(E23="","",IF(E23="MM",1,"")) | DI23: =IF(F23="","",IF(F23="MM",1,"")) | DJ23: =IF(G23="","",IF(G23="MM",1,"")) | DK23: =IF(H23="","",IF(H23="MM",1,"")) | DL23: =IF(I23="","",IF(I23="MM",1,"")) | ... EI23: =IF(AF23="","",IF(AF23="MM",1,"")) | EJ23: =SUM(DE23:EI23) -> 0 | EK23: =IF(B23="","",IF(B23="M",1,"")) | EL23: =IF(C23="","",IF(C23="M",1,"")) | EM23: =IF(D23="","",IF(D23="M",1,"")) | EN23: =IF(E23="","",IF(E23="M",1,"")) | EO23: =IF(F23="","",IF(F23="M",1,"")) | EP23: =IF(G23="","",IF(G23="M",1,"")) | EQ23: =IF(H23="","",IF(H23="M",1,"")) | ER23: =IF(I23="","",IF(I23="M",1,"")) | ... FO23: =IF(AF23="","",IF(AF23="M",1,"")) | FP23: =SUM(EK23:FO23) -> 0 | FQ23: =IF(B23="","",IF(B23="CE",1,"")) | FR23: =IF(C23="","",IF(C23="CE",1,"")) | FS23: =IF(D23="","",IF(D23="CE",1,"")) | FT23: =IF(E23="","",IF(E23="CE",1,"")) | FU23: =IF(F23="","",IF(F23="CE",1,"")) | FV23: =IF(G23="","",IF(G23="CE",1,"")) | FW23: =IF(H23="","",IF(H23="CE",1,"")) | FX23: =IF(I23="","",IF(I23="CE",1,"")) | ... GU23: =IF(AF23="","",IF(AF23="CE",1,"")) | GV23: =SUM(FQ23:GU23) -> 0 | GW23: =IF(B23="","",IF(B23="A",1,"")) | GX23: =IF(C23="","",IF(C23="A",1,"")) | GY23: =IF(D23="","",IF(D23="A",1,"")) | GZ23: =IF(E23="","",IF(E23="A",1,"")) | HA23: =IF(F23="","",IF(F23="A",1,"")) | HB23: =IF(G23="","",IF(G23="A",1,"")) | HC23: =IF(H23="","",IF(H23="A",1,"")) | HD23: =IF(I23="","",IF(I23="A",1,"")) | ... IA23: =IF(AF23="","",IF(AF23="A",1,"")) | IB23: =SUM(GW23:IA23) -> 0 | IC23: =IF(B23="","",IF(B23="ES",1,"")) -> 1 | ID23: =IF(C23="","",IF(C23="ES",1,"")) | IE23: =IF(D23="","",IF(D23="ES",1,"")) | IF23: =IF(E23="","",IF(E23="ES",1,"")) | IG23: =IF(F23="","",IF(F23="ES",1,"")) | IH23: =IF(G23="","",IF(G23="ES",1,"")) | II23: =IF(H23="","",IF(H23="ES",1,"")) | IJ23: =IF(I23="","",IF(I23="ES",1,"")) | ... JG23: =IF(AF23="","",IF(AF23="ES",1,"")) | JH23: =SUM(IC23:JG23) -> 1 | JI23: =IF(B23="","",IF(B23="2cp",0.5,"")) | JJ23: =IF(C23="","",IF(C23="2cp",0.5,"")) | JK23: =IF(D23="","",IF(D23="2cp",0.5,"")) | JL23: =IF(E23="","",IF(E23="2cp",0.5,"")) | JM23: =IF(F23="","",IF(F23="2cp",0.5,"")) | JN23: =IF(G23="","",IF(G23="2cp",0.5,"")) | JO23: =IF(H23="","",IF(H23="2cp",0.5,"")) | JP23: =IF(I23="","",IF(I23="2cp",0.5,"")) | ... KM23: =IF(AF23="","",IF(AF23="2cp",0.5,"")) | KN23: =SUM(JI23:KM23) -> 0
A24: =IF('Salariés en activités'!A26="","",'Salariés en activités'!A26) -> ADD Adrien | D24: ES | E24: ES | F24: ES | G24: ES | H24: ES | AG24: =IF(A24="","",'Salariés en activités'!H26) -> 151,67 | AH24: =IF(A24="",0,IF(DD24=0,0,IF(DD24>20,AG24,(DD24*(AG24/4.333333/5))))) -> 0 | AI24: =IF(A24="",0,IF(IB24=0,0,IF(IB24>20,AG24,IB24*(AG24/4.33333/5)))) -> 0 | AK24: =IF(A24="","",JH24) -> 5 | AL24: =IF(A24="","",GV24) -> 0 | AM24: =IF(A24="","",IF(BX24+KN24=0,"",BX24+KN24)) | AN24: =IF(A24="","",IF(FP24=0,"",FP24)) | AO24: =IF(A24="","",EJ24) -> 0 | AP24: =IF(A24="","",IF(AG24>1,IF(AR24="",2.5,IF(A24="","",2.5*((AG24-AR24)/AG24))),"")) -> 1.9230769 | AQ24: =AG24-(AH24+AI24) -> 151.67 | AR24: =IF(AH24+AI24+AK24>1,AH24+AI24+(AK24*AG24/4.333333/5),"") -> 35.000772 | AS24: =IF(B24="","",IF(B24="cp",1,"")) | AT24: =IF(C24="","",IF(C24="cp",1,"")) | AU24: =IF(D24="","",IF(D24="cp",1,"")) | AV24: =IF(E24="","",IF(E24="cp",1,"")) | AW24: =IF(F24="","",IF(F24="cp",1,"")) | AX24: =IF(G24="","",IF(G24="cp",1,"")) | AY24: =IF(H24="","",IF(H24="cp",1,"")) | AZ24: =IF(I24="","",IF(I24="cp",1,"")) | ... BW24: =IF(AF24="","",IF(AF24="cp",1,"")) | BX24: =SUM(AS24:BW24) -> 0 | BY24: =IF(B24="","",IF(B24="AA",1,"")) | BZ24: =IF(C24="","",IF(C24="AA",1,"")) | CA24: =IF(D24="","",IF(D24="AA",1,"")) | CB24: =IF(E24="","",IF(E24="AA",1,"")) | CC24: =IF(F24="","",IF(F24="AA",1,"")) | CD24: =IF(G24="","",IF(G24="AA",1,"")) | CE24: =IF(H24="","",IF(H24="AA",1,"")) | CF24: =IF(I24="","",IF(I24="AA",1,"")) | ... DC24: =IF(AF24="","",IF(AF24="AA",1,"")) | DD24: =SUM(BY24:DC24) -> 0 | DE24: =IF(B24="","",IF(B24="MM",1,"")) | DF24: =IF(C24="","",IF(C24="MM",1,"")) | DG24: =IF(D24="","",IF(D24="MM",1,"")) | DH24: =IF(E24="","",IF(E24="MM",1,"")) | DI24: =IF(F24="","",IF(F24="MM",1,"")) | DJ24: =IF(G24="","",IF(G24="MM",1,"")) | DK24: =IF(H24="","",IF(H24="MM",1,"")) | DL24: =IF(I24="","",IF(I24="MM",1,"")) | ... EI24: =IF(AF24="","",IF(AF24="MM",1,"")) | EJ24: =SUM(DE24:EI24) -> 0 | EK24: =IF(B24="","",IF(B24="M",1,"")) | EL24: =IF(C24="","",IF(C24="M",1,"")) | EM24: =IF(D24="","",IF(D24="M",1,"")) | EN24: =IF(E24="","",IF(E24="M",1,"")) | EO24: =IF(F24="","",IF(F24="M",1,"")) | EP24: =IF(G24="","",IF(G24="M",1,"")) | EQ24: =IF(H24="","",IF(H24="M",1,"")) | ER24: =IF(I24="","",IF(I24="M",1,"")) | ... FO24: =IF(AF24="","",IF(AF24="M",1,"")) | FP24: =SUM(EK24:FO24) -> 0 | FQ24: =IF(B24="","",IF(B24="CE",1,"")) | FR24: =IF(C24="","",IF(C24="CE",1,"")) | FS24: =IF(D24="","",IF(D24="CE",1,"")) | FT24: =IF(E24="","",IF(E24="CE",1,"")) | FU24: =IF(F24="","",IF(F24="CE",1,"")) | FV24: =IF(G24="","",IF(G24="CE",1,"")) | FW24: =IF(H24="","",IF(H24="CE",1,"")) | FX24: =IF(I24="","",IF(I24="CE",1,"")) | ... GU24: =IF(AF24="","",IF(AF24="CE",1,"")) | GV24: =SUM(FQ24:GU24) -> 0 | GW24: =IF(B24="","",IF(B24="A",1,"")) | GX24: =IF(C24="","",IF(C24="A",1,"")) | GY24: =IF(D24="","",IF(D24="A",1,"")) | GZ24: =IF(E24="","",IF(E24="A",1,"")) | HA24: =IF(F24="","",IF(F24="A",1,"")) | HB24: =IF(G24="","",IF(G24="A",1,"")) | HC24: =IF(H24="","",IF(H24="A",1,"")) | HD24: =IF(I24="","",IF(I24="A",1,"")) | ... IA24: =IF(AF24="","",IF(AF24="A",1,"")) | IB24: =SUM(GW24:IA24) -> 0 | IC24: =IF(B24="","",IF(B24="ES",1,"")) | ID24: =IF(C24="","",IF(C24="ES",1,"")) | IE24: =IF(D24="","",IF(D24="ES",1,"")) -> 1 | IF24: =IF(E24="","",IF(E24="ES",1,"")) -> 1 | IG24: =IF(F24="","",IF(F24="ES",1,"")) -> 1 | IH24: =IF(G24="","",IF(G24="ES",1,"")) -> 1 | II24: =IF(H24="","",IF(H24="ES",1,"")) -> 1 | IJ24: =IF(I24="","",IF(I24="ES",1,"")) | ... JG24: =IF(AF24="","",IF(AF24="ES",1,"")) | JH24: =SUM(IC24:JG24) -> 5 | JI24: =IF(B24="","",IF(B24="2cp",0.5,"")) | JJ24: =IF(C24="","",IF(C24="2cp",0.5,"")) | JK24: =IF(D24="","",IF(D24="2cp",0.5,"")) | JL24: =IF(E24="","",IF(E24="2cp",0.5,"")) | JM24: =IF(F24="","",IF(F24="2cp",0.5,"")) | JN24: =IF(G24="","",IF(G24="2cp",0.5,"")) | JO24: =IF(H24="","",IF(H24="2cp",0.5,"")) | JP24: =IF(I24="","",IF(I24="2cp",0.5,"")) | ... KM24: =IF(AF24="","",IF(AF24="2cp",0.5,"")) | KN24: =SUM(JI24:KM24) -> 0
A25: =IF('Salariés en activités'!A27="","",'Salariés en activités'!A27) | AG25: =IF(A25="","",'Salariés en activités'!H27) | AH25: =IF(A25="",0,IF(DD25=0,0,IF(DD25>20,AG25,(DD25*(AG25/4.333333/5))))) -> 0 | AI25: =IF(A25="",0,IF(IB25=0,0,IF(IB25>20,AG25,IB25*(AG25/4.33333/5)))) -> 0 | AK25: =IF(A25="","",JH25) | AL25: =IF(A25="","",GV25) | AM25: =IF(A25="","",IF(BX25+KN25=0,"",BX25+KN25)) | AN25: =IF(A25="","",IF(FP25=0,"",FP25)) | AO25: =IF(A25="","",EJ25) | AP25: =IF(A25="","",IF(AG25>1,IF(AR25="",2.5,IF(A25="","",2.5*((AG25-AR25)/AG25))),"")) | AQ25: =AG25-(AH25+AI25) -> #VALUE! | AR25: =IF(AH25+AI25+AK25>1,AH25+AI25+(AK25*AG25/4.333333/5),"") -> #VALUE! | AS25: =IF(B25="","",IF(B25="cp",1,"")) | AT25: =IF(C25="","",IF(C25="cp",1,"")) | AU25: =IF(D25="","",IF(D25="cp",1,"")) | AV25: =IF(E25="","",IF(E25="cp",1,"")) | AW25: =IF(F25="","",IF(F25="cp",1,"")) | AX25: =IF(G25="","",IF(G25="cp",1,"")) | AY25: =IF(H25="","",IF(H25="cp",1,"")) | AZ25: =IF(I25="","",IF(I25="cp",1,"")) | ... BW25: =IF(AF25="","",IF(AF25="cp",1,"")) | BX25: =SUM(AS25:BW25) -> 0 | BY25: =IF(B25="","",IF(B25="AA",1,"")) | BZ25: =IF(C25="","",IF(C25="AA",1,"")) | CA25: =IF(D25="","",IF(D25="AA",1,"")) | CB25: =IF(E25="","",IF(E25="AA",1,"")) | CC25: =IF(F25="","",IF(F25="AA",1,"")) | CD25: =IF(G25="","",IF(G25="AA",1,"")) | CE25: =IF(H25="","",IF(H25="AA",1,"")) | CF25: =IF(I25="","",IF(I25="AA",1,"")) | ... DC25: =IF(AF25="","",IF(AF25="AA",1,"")) | DD25: =SUM(BY25:DC25) -> 0 | DE25: =IF(B25="","",IF(B25="MM",1,"")) | DF25: =IF(C25="","",IF(C25="MM",1,"")) | DG25: =IF(D25="","",IF(D25="MM",1,"")) | DH25: =IF(E25="","",IF(E25="MM",1,"")) | DI25: =IF(F25="","",IF(F25="MM",1,"")) | DJ25: =IF(G25="","",IF(G25="MM",1,"")) | DK25: =IF(H25="","",IF(H25="MM",1,"")) | DL25: =IF(I25="","",IF(I25="MM",1,"")) | ... EI25: =IF(AF25="","",IF(AF25="MM",1,"")) | EJ25: =SUM(DE25:EI25) -> 0 | EK25: =IF(B25="","",IF(B25="M",1,"")) | EL25: =IF(C25="","",IF(C25="M",1,"")) | EM25: =IF(D25="","",IF(D25="M",1,"")) | EN25: =IF(E25="","",IF(E25="M",1,"")) | EO25: =IF(F25="","",IF(F25="M",1,"")) | EP25: =IF(G25="","",IF(G25="M",1,"")) | EQ25: =IF(H25="","",IF(H25="M",1,"")) | ER25: =IF(I25="","",IF(I25="M",1,"")) | ... FO25: =IF(AF25="","",IF(AF25="M",1,"")) | FP25: =SUM(EK25:FO25) -> 0 | FQ25: =IF(B25="","",IF(B25="CE",1,"")) | FR25: =IF(C25="","",IF(C25="CE",1,"")) | FS25: =IF(D25="","",IF(D25="CE",1,"")) | FT25: =IF(E25="","",IF(E25="CE",1,"")) | FU25: =IF(F25="","",IF(F25="CE",1,"")) | FV25: =IF(G25="","",IF(G25="CE",1,"")) | FW25: =IF(H25="","",IF(H25="CE",1,"")) | FX25: =IF(I25="","",IF(I25="CE",1,"")) | ... GU25: =IF(AF25="","",IF(AF25="CE",1,"")) | GV25: =SUM(FQ25:GU25) -> 0 | GW25: =IF(B25="","",IF(B25="A",1,"")) | GX25: =IF(C25="","",IF(C25="A",1,"")) | GY25: =IF(D25="","",IF(D25="A",1,"")) | GZ25: =IF(E25="","",IF(E25="A",1,"")) | HA25: =IF(F25="","",IF(F25="A",1,"")) | HB25: =IF(G25="","",IF(G25="A",1,"")) | HC25: =IF(H25="","",IF(H25="A",1,"")) | HD25: =IF(I25="","",IF(I25="A",1,"")) | ... IA25: =IF(AF25="","",IF(AF25="A",1,"")) | IB25: =SUM(GW25:IA25) -> 0 | IC25: =IF(B25="","",IF(B25="ES",1,"")) | ID25: =IF(C25="","",IF(C25="ES",1,"")) | IE25: =IF(D25="","",IF(D25="ES",1,"")) | IF25: =IF(E25="","",IF(E25="ES",1,"")) | IG25: =IF(F25="","",IF(F25="ES",1,"")) | IH25: =IF(G25="","",IF(G25="ES",1,"")) | II25: =IF(H25="","",IF(H25="ES",1,"")) | IJ25: =IF(I25="","",IF(I25="ES",1,"")) | ... JG25: =IF(AF25="","",IF(AF25="ES",1,"")) | JH25: =SUM(IC25:JG25) -> 0 | JI25: =IF(B25="","",IF(B25="2cp",0.5,"")) | JJ25: =IF(C25="","",IF(C25="2cp",0.5,"")) | JK25: =IF(D25="","",IF(D25="2cp",0.5,"")) | JL25: =IF(E25="","",IF(E25="2cp",0.5,"")) | JM25: =IF(F25="","",IF(F25="2cp",0.5,"")) | JN25: =IF(G25="","",IF(G25="2cp",0.5,"")) | JO25: =IF(H25="","",IF(H25="2cp",0.5,"")) | JP25: =IF(I25="","",IF(I25="2cp",0.5,"")) | ... KM25: =IF(AF25="","",IF(AF25="2cp",0.5,"")) | KN25: =SUM(JI25:KM25) -> 0
A26: =IF('Salariés en activités'!A28="","",'Salariés en activités'!A28) | AG26: =IF(A26="","",'Salariés en activités'!H28) | AH26: =IF(A26="",0,IF(DD26=0,0,IF(DD26>20,AG26,(DD26*(AG26/4.333333/5))))) -> 0 | AI26: =IF(A26="",0,IF(IB26=0,0,IF(IB26>20,AG26,IB26*(AG26/4.33333/5)))) -> 0 | AK26: =IF(A26="","",JH26) | AL26: =IF(A26="","",GV26) | AM26: =IF(A26="","",IF(BX26+KN26=0,"",BX26+KN26)) | AN26: =IF(A26="","",IF(FP26=0,"",FP26)) | AO26: =IF(A26="","",EJ26) | AP26: =IF(A26="","",IF(AG26>1,IF(AR26="",2.5,IF(A26="","",2.5*((AG26-AR26)/AG26))),"")) | AQ26: =AG26-(AH26+AI26) -> #VALUE! | AR26: =IF(AH26+AI26+AK26>1,AH26+AI26+(AK26*AG26/4.333333/5),"") -> #VALUE! | AS26: =IF(B26="","",IF(B26="cp",1,"")) | AT26: =IF(C26="","",IF(C26="cp",1,"")) | AU26: =IF(D26="","",IF(D26="cp",1,"")) | AV26: =IF(E26="","",IF(E26="cp",1,"")) | AW26: =IF(F26="","",IF(F26="cp",1,"")) | AX26: =IF(G26="","",IF(G26="cp",1,"")) | AY26: =IF(H26="","",IF(H26="cp",1,"")) | AZ26: =IF(I26="","",IF(I26="cp",1,"")) | ... BW26: =IF(AF26="","",IF(AF26="cp",1,"")) | BX26: =SUM(AS26:BW26) -> 0 | BY26: =IF(B26="","",IF(B26="AA",1,"")) | BZ26: =IF(C26="","",IF(C26="AA",1,"")) | CA26: =IF(D26="","",IF(D26="AA",1,"")) | CB26: =IF(E26="","",IF(E26="AA",1,"")) | CC26: =IF(F26="","",IF(F26="AA",1,"")) | CD26: =IF(G26="","",IF(G26="AA",1,"")) | CE26: =IF(H26="","",IF(H26="AA",1,"")) | CF26: =IF(I26="","",IF(I26="AA",1,"")) | ... DC26: =IF(AF26="","",IF(AF26="AA",1,"")) | DD26: =SUM(BY26:DC26) -> 0 | DE26: =IF(B26="","",IF(B26="MM",1,"")) | DF26: =IF(C26="","",IF(C26="MM",1,"")) | DG26: =IF(D26="","",IF(D26="MM",1,"")) | DH26: =IF(E26="","",IF(E26="MM",1,"")) | DI26: =IF(F26="","",IF(F26="MM",1,"")) | DJ26: =IF(G26="","",IF(G26="MM",1,"")) | DK26: =IF(H26="","",IF(H26="MM",1,"")) | DL26: =IF(I26="","",IF(I26="MM",1,"")) | ... EI26: =IF(AF26="","",IF(AF26="MM",1,"")) | EJ26: =SUM(DE26:EI26) -> 0 | EK26: =IF(B26="","",IF(B26="M",1,"")) | EL26: =IF(C26="","",IF(C26="M",1,"")) | EM26: =IF(D26="","",IF(D26="M",1,"")) | EN26: =IF(E26="","",IF(E26="M",1,"")) | EO26: =IF(F26="","",IF(F26="M",1,"")) | EP26: =IF(G26="","",IF(G26="M",1,"")) | EQ26: =IF(H26="","",IF(H26="M",1,"")) | ER26: =IF(I26="","",IF(I26="M",1,"")) | ... FO26: =IF(AF26="","",IF(AF26="M",1,"")) | FP26: =SUM(EK26:FO26) -> 0 | FQ26: =IF(B26="","",IF(B26="CE",1,"")) | FR26: =IF(C26="","",IF(C26="CE",1,"")) | FS26: =IF(D26="","",IF(D26="CE",1,"")) | FT26: =IF(E26="","",IF(E26="CE",1,"")) | FU26: =IF(F26="","",IF(F26="CE",1,"")) | FV26: =IF(G26="","",IF(G26="CE",1,"")) | FW26: =IF(H26="","",IF(H26="CE",1,"")) | FX26: =IF(I26="","",IF(I26="CE",1,"")) | ... GU26: =IF(AF26="","",IF(AF26="CE",1,"")) | GV26: =SUM(FQ26:GU26) -> 0 | GW26: =IF(B26="","",IF(B26="A",1,"")) | GX26: =IF(C26="","",IF(C26="A",1,"")) | GY26: =IF(D26="","",IF(D26="A",1,"")) | GZ26: =IF(E26="","",IF(E26="A",1,"")) | HA26: =IF(F26="","",IF(F26="A",1,"")) | HB26: =IF(G26="","",IF(G26="A",1,"")) | HC26: =IF(H26="","",IF(H26="A",1,"")) | HD26: =IF(I26="","",IF(I26="A",1,"")) | ... IA26: =IF(AF26="","",IF(AF26="A",1,"")) | IB26: =SUM(GW26:IA26) -> 0 | IC26: =IF(B26="","",IF(B26="ES",1,"")) | ID26: =IF(C26="","",IF(C26="ES",1,"")) | IE26: =IF(D26="","",IF(D26="ES",1,"")) | IF26: =IF(E26="","",IF(E26="ES",1,"")) | IG26: =IF(F26="","",IF(F26="ES",1,"")) | IH26: =IF(G26="","",IF(G26="ES",1,"")) | II26: =IF(H26="","",IF(H26="ES",1,"")) | IJ26: =IF(I26="","",IF(I26="ES",1,"")) | ... JG26: =IF(AF26="","",IF(AF26="ES",1,"")) | JH26: =SUM(IC26:JG26) -> 0 | JI26: =IF(B26="","",IF(B26="2cp",0.5,"")) | JJ26: =IF(C26="","",IF(C26="2cp",0.5,"")) | JK26: =IF(D26="","",IF(D26="2cp",0.5,"")) | JL26: =IF(E26="","",IF(E26="2cp",0.5,"")) | JM26: =IF(F26="","",IF(F26="2cp",0.5,"")) | JN26: =IF(G26="","",IF(G26="2cp",0.5,"")) | JO26: =IF(H26="","",IF(H26="2cp",0.5,"")) | JP26: =IF(I26="","",IF(I26="2cp",0.5,"")) | ... KM26: =IF(AF26="","",IF(AF26="2cp",0.5,"")) | KN26: =SUM(JI26:KM26) -> 0
B27: (1) congés acquis proratisés en fonction des absences non rémunérées, entrées ou sorties en cours de mois | AG27: Date : | AH27: 42936 | BX27: =SUM(AS27:BW27) -> 0 | IB27: =SUM(GW27:IA27) -> 0 | IC27: =IF(B27="","",IF(B27="ES",1,"")) | ID27: =IF(C27="","",IF(C27="ES",1,"")) | IE27: =IF(D27="","",IF(D27="ES",1,"")) | IF27: =IF(E27="","",IF(E27="ES",1,"")) | IG27: =IF(F27="","",IF(F27="ES",1,"")) | IH27: =IF(G27="","",IF(G27="ES",1,"")) | II27: =IF(H27="","",IF(H27="ES",1,"")) | IJ27: =IF(I27="","",IF(I27="ES",1,"")) | ... JG27: =IF(AF27="","",IF(AF27="ES",1,"")) | JH27: =SUM(IC27:JG27) -> 0
B28: CP = | C28: Congés payés | BX28: =SUM(AS28:BW28) -> 0 | IB28: =SUM(GW28:IA28) -> 0 | IC28: =IF(B28="","",IF(B28="ES",1,"")) | ID28: =IF(C28="","",IF(C28="ES",1,"")) | IE28: =IF(D28="","",IF(D28="ES",1,"")) | IF28: =IF(E28="","",IF(E28="ES",1,"")) | IG28: =IF(F28="","",IF(F28="ES",1,"")) | IH28: =IF(G28="","",IF(G28="ES",1,"")) | II28: =IF(H28="","",IF(H28="ES",1,"")) | IJ28: =IF(I28="","",IF(I28="ES",1,"")) | ... JG28: =IF(AF28="","",IF(AF28="ES",1,"")) | JH28: =SUM(IC28:JG28) -> 0
B29: 2CP = | C29: Demi congés payés | BX29: =SUM(AS29:BW29) -> 0
B30: AA = | C30: Absences autorisées | BX30: =SUM(AS30:BW30) -> 0 | IB30: =SUM(GW30:IA30) -> 0 | IC30: =IF(B30="","",IF(B30="ES",1,"")) | ID30: =IF(C30="","",IF(C30="ES",1,"")) | IE30: =IF(D30="","",IF(D30="ES",1,"")) | IF30: =IF(E30="","",IF(E30="ES",1,"")) | IG30: =IF(F30="","",IF(F30="ES",1,"")) | IH30: =IF(G30="","",IF(G30="ES",1,"")) | II30: =IF(H30="","",IF(H30="ES",1,"")) | IJ30: =IF(I30="","",IF(I30="ES",1,"")) | ... JG30: =IF(AF30="","",IF(AF30="ES",1,"")) | JH30: =SUM(IC30:JG30) -> 0
B31: A = | C31: Absences non autorisées | BX31: =SUM(AS31:BW31) -> 0 | IB31: =SUM(GW31:IA31) -> 0 | IC31: =IF(B31="","",IF(B31="ES",1,"")) | ID31: =IF(C31="","",IF(C31="ES",1,"")) | IE31: =IF(D31="","",IF(D31="ES",1,"")) | IF31: =IF(E31="","",IF(E31="ES",1,"")) | IG31: =IF(F31="","",IF(F31="ES",1,"")) | IH31: =IF(G31="","",IF(G31="ES",1,"")) | II31: =IF(H31="","",IF(H31="ES",1,"")) | IJ31: =IF(I31="","",IF(I31="ES",1,"")) | ... JG31: =IF(AF31="","",IF(AF31="ES",1,"")) | JH31: =SUM(IC31:JG31) -> 0
B32: MM = | C32: Maladie maintenue | IB32: =SUM(GW32:IA32) -> 0 | IC32: =IF(B32="","",IF(B32="ES",1,"")) | ID32: =IF(C32="","",IF(C32="ES",1,"")) | IE32: =IF(D32="","",IF(D32="ES",1,"")) | IF32: =IF(E32="","",IF(E32="ES",1,"")) | IG32: =IF(F32="","",IF(F32="ES",1,"")) | IH32: =IF(G32="","",IF(G32="ES",1,"")) | II32: =IF(H32="","",IF(H32="ES",1,"")) | IJ32: =IF(I32="","",IF(I32="ES",1,"")) | ... JG32: =IF(AF32="","",IF(AF32="ES",1,"")) | JH32: =SUM(IC32:JG32) -> 0
B33: M = | C33: Maladie non maintenue | IB33: =SUM(GW33:IA33) -> 0 | IC33: =IF(B33="","",IF(B33="ES",1,"")) | ID33: =IF(C33="","",IF(C33="ES",1,"")) | IE33: =IF(D33="","",IF(D33="ES",1,"")) | IF33: =IF(E33="","",IF(E33="ES",1,"")) | IG33: =IF(F33="","",IF(F33="ES",1,"")) | IH33: =IF(G33="","",IF(G33="ES",1,"")) | II33: =IF(H33="","",IF(H33="ES",1,"")) | IJ33: =IF(I33="","",IF(I33="ES",1,"")) | ... JG33: =IF(AF33="","",IF(AF33="ES",1,"")) | JH33: =SUM(IC33:JG33) -> 0
B34: CE = | C34: Congés exceptionnels | IC34: =IF(B34="","",IF(B34="ES",1,"")) | ID34: =IF(C34="","",IF(C34="ES",1,"")) | IE34: =IF(D34="","",IF(D34="ES",1,"")) | IF34: =IF(E34="","",IF(E34="ES",1,"")) | IG34: =IF(F34="","",IF(F34="ES",1,"")) | IH34: =IF(G34="","",IF(G34="ES",1,"")) | II34: =IF(H34="","",IF(H34="ES",1,"")) | IJ34: =IF(I34="","",IF(I34="ES",1,"")) | ... JG34: =IF(AF34="","",IF(AF34="ES",1,"")) | JH34: =SUM(IC34:JG34) -> 0
A35: Commentaires :

Sheet Pointage 08
A2: ='Pointage 07'!A2 -> Société AN | B2: POINTAGE DU MOIS DE : | AH2: Aout
A4: Nom et Prénom | B4: M | C4: M | D4: J | E4: V | F4: S | G4: D | H4: L | I4: M | J4: M | K4: J | L4: V | M4: S | N4: D | O4: L | P4: M | Q4: M | R4: J | S4: V | T4: S | U4: D | V4: L | W4: M | X4: M | Y4: J | Z4: V | AA4: S | AB4: D | AC4: L | AD4: M | AE4: M | AF4: J | AG4: Heures | AK4: Jours
B5: 1 | C5: 2 | D5: 3 | E5: 4 | F5: 5 | G5: 6 | H5: 7 | I5: 8 | J5: 9 | K5: 10 | L5: 11 | M5: 12 | N5: 13 | O5: 14 | P5: 15 | Q5: 16 | R5: 17 | S5: 18 | T5: 19 | U5: 20 | V5: 21 | W5: 22 | X5: 23 | Y5: 24 | Z5: 25 | AA5: 26 | AB5: 27 | AC5: 28 | AD5: 29 | AE5: 30 | AF5: 31 | AG5: Mensualisation | AH5: ABS autorisées | AI5: ABS non Autorisées | AJ5: Heures supplém. | AK5: Abs Entrée / sortie | AL5: Congés spéciaux | AM5: Congés payés | AN5: Maladie ou AT | AP5: Congés acquis (1)
AN6: M | AO6: MM
A7: =IF('Salariés en activités'!A9="","",'Salariés en activités'!A9) -> Vivian Thomas | AG7: =IF(A7="","",'Salariés en activités'!H9) -> 151,67 | AH7: =IF(A7="",0,IF(DD7=0,0,IF(DD7>20,AG7,(DD7*(AG7/4.333333/5))))) -> 0 | AI7: =IF(A7="",0,IF(IB7=0,0,IF(IB7>20,AG7,IB7*(AG7/4.33333/5)))) -> 0 | AK7: =IF(A7="","",JH7) -> 0 | AL7: =IF(A7="","",GV7) -> 0 | AM7: =IF(A7="","",IF(BX7+KN7=0,"",BX7+KN7)) | AN7: =IF(A7="","",IF(FP7=0,"",FP7)) | AO7: =IF(A7="","",EJ7) -> 0 | AP7: =IF(A7="","",IF(AG7>1,IF(AR7="",2.5,IF(A7="","",2.5*((AG7-AR7)/AG7))),"")) -> 2.5 | AR7: =IF(AH7+AI7+AK7>1,AH7+AI7+(AK7*AG7/4.333333/5),"") | AS7: =IF(B7="","",IF(B7="cp",1,"")) | AT7: =IF(C7="","",IF(C7="cp",1,"")) | AU7: =IF(D7="","",IF(D7="cp",1,"")) | AV7: =IF(E7="","",IF(E7="cp",1,"")) | AW7: =IF(F7="","",IF(F7="cp",1,"")) | AX7: =IF(G7="","",IF(G7="cp",1,"")) | AY7: =IF(H7="","",IF(H7="cp",1,"")) | AZ7: =IF(I7="","",IF(I7="cp",1,"")) | ... BW7: =IF(AF7="","",IF(AF7="cp",1,"")) | BX7: =SUM(AS7:BW7) -> 0 | BY7: =IF(B7="","",IF(B7="AA",1,"")) | BZ7: =IF(C7="","",IF(C7="AA",1,"")) | CA7: =IF(D7="","",IF(D7="AA",1,"")) | CB7: =IF(E7="","",IF(E7="AA",1,"")) | CC7: =IF(F7="","",IF(F7="AA",1,"")) | CD7: =IF(G7="","",IF(G7="AA",1,"")) | CE7: =IF(H7="","",IF(H7="AA",1,"")) | CF7: =IF(I7="","",IF(I7="AA",1,"")) | ... DC7: =IF(AF7="","",IF(AF7="AA",1,"")) | DD7: =SUM(BY7:DC7) -> 0 | DE7: =IF(B7="","",IF(B7="MM",1,"")) | DF7: =IF(C7="","",IF(C7="MM",1,"")) | DG7: =IF(D7="","",IF(D7="MM",1,"")) | DH7: =IF(E7="","",IF(E7="MM",1,"")) | DI7: =IF(F7="","",IF(F7="MM",1,"")) | DJ7: =IF(G7="","",IF(G7="MM",1,"")) | DK7: =IF(H7="","",IF(H7="MM",1,"")) | DL7: =IF(I7="","",IF(I7="MM",1,"")) | ... EI7: =IF(AF7="","",IF(AF7="MM",1,"")) | EJ7: =SUM(DE7:EI7) -> 0 | EK7: =IF(B7="","",IF(B7="M",1,"")) | EL7: =IF(C7="","",IF(C7="M",1,"")) | EM7: =IF(D7="","",IF(D7="M",1,"")) | EN7: =IF(E7="","",IF(E7="M",1,"")) | EO7: =IF(F7="","",IF(F7="M",1,"")) | EP7: =IF(G7="","",IF(G7="M",1,"")) | EQ7: =IF(H7="","",IF(H7="M",1,"")) | ER7: =IF(I7="","",IF(I7="M",1,"")) | ... FO7: =IF(AF7="","",IF(AF7="M",1,"")) | FP7: =SUM(EK7:FO7) -> 0 | FQ7: =IF(B7="","",IF(B7="CE",1,"")) | FR7: =IF(C7="","",IF(C7="CE",1,"")) | FS7: =IF(D7="","",IF(D7="CE",1,"")) | FT7: =IF(E7="","",IF(E7="CE",1,"")) | FU7: =IF(F7="","",IF(F7="CE",1,"")) | FV7: =IF(G7="","",IF(G7="CE",1,"")) | FW7: =IF(H7="","",IF(H7="CE",1,"")) | FX7: =IF(I7="","",IF(I7="CE",1,"")) | ... GU7: =IF(AF7="","",IF(AF7="CE",1,"")) | GV7: =SUM(FQ7:GU7) -> 0 | GW7: =IF(B7="","",IF(B7="A",1,"")) | GX7: =IF(C7="","",IF(C7="A",1,"")) | GY7: =IF(D7="","",IF(D7="A",1,"")) | GZ7: =IF(E7="","",IF(E7="A",1,"")) | HA7: =IF(F7="","",IF(F7="A",1,"")) | HB7: =IF(G7="","",IF(G7="A",1,"")) | HC7: =IF(H7="","",IF(H7="A",1,"")) | HD7: =IF(I7="","",IF(I7="A",1,"")) | ... IA7: =IF(AF7="","",IF(AF7="A",1,"")) | IB7: =SUM(GW7:IA7) -> 0 | IC7: =IF(B7="","",IF(B7="ES",1,"")) | ID7: =IF(C7="","",IF(C7="ES",1,"")) | IE7: =IF(D7="","",IF(D7="ES",1,"")) | IF7: =IF(E7="","",IF(E7="ES",1,"")) | IG7: =IF(F7="","",IF(F7="ES",1,"")) | IH7: =IF(G7="","",IF(G7="ES",1,"")) | II7: =IF(H7="","",IF(H7="ES",1,"")) | IJ7: =IF(I7="","",IF(I7="ES",1,"")) | ... JG7: =IF(AF7="","",IF(AF7="ES",1,"")) | JH7: =SUM(IC7:JG7) -> 0 | JI7: =IF(B7="","",IF(B7="2cp",0.5,"")) | JJ7: =IF(C7="","",IF(C7="2cp",0.5,"")) | JK7: =IF(D7="","",IF(D7="2cp",0.5,"")) | JL7: =IF(E7="","",IF(E7="2cp",0.5,"")) | JM7: =IF(F7="","",IF(F7="2cp",0.5,"")) | JN7: =IF(G7="","",IF(G7="2cp",0.5,"")) | JO7: =IF(H7="","",IF(H7="2cp",0.5,"")) | JP7: =IF(I7="","",IF(I7="2cp",0.5,"")) | ... KM7: =IF(AF7="","",IF(AF7="2cp",0.5,"")) | KN7: =SUM(JI7:KM7) -> 0
A8: =IF('Salariés en activités'!A10="","",'Salariés en activités'!A10) -> SPAG Ethi | AG8: =IF(A8="","",'Salariés en activités'!H10) -> 151,67 | AH8: =IF(A8="",0,IF(DD8=0,0,IF(DD8>20,AG8,(DD8*(AG8/4.333333/5))))) -> 0 | AI8: =IF(A8="",0,IF(IB8=0,0,IF(IB8>20,AG8,IB8*(AG8/4.33333/5)))) -> 0 | AK8: =IF(A8="","",JH8) -> 0 | AL8: =IF(A8="","",GV8) -> 0 | AM8: =IF(A8="","",IF(BX8+KN8=0,"",BX8+KN8)) | AN8: =IF(A8="","",IF(FP8=0,"",FP8)) | AO8: =IF(A8="","",EJ8) -> 0 | AP8: =IF(A8="","",IF(AG8>1,IF(AR8="",2.5,IF(A8="","",2.5*((AG8-AR8)/AG8))),"")) -> 2.5 | AQ8: =AG8-(AH8+AI8) -> 151.67 | AR8: =IF(AH8+AI8+AK8>1,AH8+AI8+(AK8*AG8/4.333333/5),"") | AS8: =IF(B8="","",IF(B8="cp",1,"")) | AT8: =IF(C8="","",IF(C8="cp",1,"")) | AU8: =IF(D8="","",IF(D8="cp",1,"")) | AV8: =IF(E8="","",IF(E8="cp",1,"")) | AW8: =IF(F8="","",IF(F8="cp",1,"")) | AX8: =IF(G8="","",IF(G8="cp",1,"")) | AY8: =IF(H8="","",IF(H8="cp",1,"")) | AZ8: =IF(I8="","",IF(I8="cp",1,"")) | ... BW8: =IF(AF8="","",IF(AF8="cp",1,"")) | BX8: =SUM(AS8:BW8) -> 0 | BY8: =IF(B8="","",IF(B8="AA",1,"")) | BZ8: =IF(C8="","",IF(C8="AA",1,"")) | CA8: =IF(D8="","",IF(D8="AA",1,"")) | CB8: =IF(E8="","",IF(E8="AA",1,"")) | CC8: =IF(F8="","",IF(F8="AA",1,"")) | CD8: =IF(G8="","",IF(G8="AA",1,"")) | CE8: =IF(H8="","",IF(H8="AA",1,"")) | CF8: =IF(I8="","",IF(I8="AA",1,"")) | ... DC8: =IF(AF8="","",IF(AF8="AA",1,"")) | DD8: =SUM(BY8:DC8) -> 0 | DE8: =IF(B8="","",IF(B8="MM",1,"")) | DF8: =IF(C8="","",IF(C8="MM",1,"")) | DG8: =IF(D8="","",IF(D8="MM",1,"")) | DH8: =IF(E8="","",IF(E8="MM",1,"")) | DI8: =IF(F8="","",IF(F8="MM",1,"")) | DJ8: =IF(G8="","",IF(G8="MM",1,"")) | DK8: =IF(H8="","",IF(H8="MM",1,"")) | DL8: =IF(I8="","",IF(I8="MM",1,"")) | ... EI8: =IF(AF8="","",IF(AF8="MM",1,"")) | EJ8: =SUM(DE8:EI8) -> 0 | EK8: =IF(B8="","",IF(B8="M",1,"")) | EL8: =IF(C8="","",IF(C8="M",1,"")) | EM8: =IF(D8="","",IF(D8="M",1,"")) | EN8: =IF(E8="","",IF(E8="M",1,"")) | EO8: =IF(F8="","",IF(F8="M",1,"")) | EP8: =IF(G8="","",IF(G8="M",1,"")) | EQ8: =IF(H8="","",IF(H8="M",1,"")) | ER8: =IF(I8="","",IF(I8="M",1,"")) | ... FO8: =IF(AF8="","",IF(AF8="M",1,"")) | FP8: =SUM(EK8:FO8) -> 0 | FQ8: =IF(B8="","",IF(B8="CE",1,"")) | FR8: =IF(C8="","",IF(C8="CE",1,"")) | FS8: =IF(D8="","",IF(D8="CE",1,"")) | FT8: =IF(E8="","",IF(E8="CE",1,"")) | FU8: =IF(F8="","",IF(F8="CE",1,"")) | FV8: =IF(G8="","",IF(G8="CE",1,"")) | FW8: =IF(H8="","",IF(H8="CE",1,"")) | FX8: =IF(I8="","",IF(I8="CE",1,"")) | ... GU8: =IF(AF8="","",IF(AF8="CE",1,"")) | GV8: =SUM(FQ8:GU8) -> 0 | GW8: =IF(B8="","",IF(B8="A",1,"")) | GX8: =IF(C8="","",IF(C8="A",1,"")) | GY8: =IF(D8="","",IF(D8="A",1,"")) | GZ8: =IF(E8="","",IF(E8="A",1,"")) | HA8: =IF(F8="","",IF(F8="A",1,"")) | HB8: =IF(G8="","",IF(G8="A",1,"")) | HC8: =IF(H8="","",IF(H8="A",1,"")) | HD8: =IF(I8="","",IF(I8="A",1,"")) | ... IA8: =IF(AF8="","",IF(AF8="A",1,"")) | IB8: =SUM(GW8:IA8) -> 0 | IC8: =IF(B8="","",IF(B8="ES",1,"")) | ID8: =IF(C8="","",IF(C8="ES",1,"")) | IE8: =IF(D8="","",IF(D8="ES",1,"")) | IF8: =IF(E8="","",IF(E8="ES",1,"")) | IG8: =IF(F8="","",IF(F8="ES",1,"")) | IH8: =IF(G8="","",IF(G8="ES",1,"")) | II8: =IF(H8="","",IF(H8="ES",1,"")) | IJ8: =IF(I8="","",IF(I8="ES",1,"")) | ... JG8: =IF(AF8="","",IF(AF8="ES",1,"")) | JH8: =SUM(IC8:JG8) -> 0 | JI8: =IF(B8="","",IF(B8="2cp",0.5,"")) | JJ8: =IF(C8="","",IF(C8="2cp",0.5,"")) | JK8: =IF(D8="","",IF(D8="2cp",0.5,"")) | JL8: =IF(E8="","",IF(E8="2cp",0.5,"")) | JM8: =IF(F8="","",IF(F8="2cp",0.5,"")) | JN8: =IF(G8="","",IF(G8="2cp",0.5,"")) | JO8: =IF(H8="","",IF(H8="2cp",0.5,"")) | JP8: =IF(I8="","",IF(I8="2cp",0.5,"")) | ... KM8: =IF(AF8="","",IF(AF8="2cp",0.5,"")) | KN8: =SUM(JI8:KM8) -> 0
A9: =IF('Salariés en activités'!A11="","",'Salariés en activités'!A11) -> RAT Dominique | AG9: =IF(A9="","",'Salariés en activités'!H11) -> 75,84 | AH9: =IF(A9="",0,IF(DD9=0,0,IF(DD9>20,AG9,(DD9*(AG9/4.333333/5))))) -> 0 | AI9: =IF(A9="",0,IF(IB9=0,0,IF(IB9>20,AG9,IB9*(AG9/4.33333/5)))) -> 0 | AK9: =IF(A9="","",JH9) -> 0 | AL9: =IF(A9="","",GV9) -> 0 | AM9: =IF(A9="","",IF(BX9+KN9=0,"",BX9+KN9)) | AN9: =IF(A9="","",IF(FP9=0,"",FP9)) | AO9: =IF(A9="","",EJ9) -> 0 | AP9: =IF(A9="","",IF(AG9>1,IF(AR9="",2.5,IF(A9="","",2.5*((AG9-AR9)/AG9))),"")) -> 2.5 | AQ9: =AG9-(AH9+AI9) -> 75.84 | AR9: =IF(AH9+AI9+AK9>1,AH9+AI9+(AK9*AG9/4.333333/5),"") | AS9: =IF(B9="","",IF(B9="cp",1,"")) | AT9: =IF(C9="","",IF(C9="cp",1,"")) | AU9: =IF(D9="","",IF(D9="cp",1,"")) | AV9: =IF(E9="","",IF(E9="cp",1,"")) | AW9: =IF(F9="","",IF(F9="cp",1,"")) | AX9: =IF(G9="","",IF(G9="cp",1,"")) | AY9: =IF(H9="","",IF(H9="cp",1,"")) | AZ9: =IF(I9="","",IF(I9="cp",1,"")) | ... BW9: =IF(AF9="","",IF(AF9="cp",1,"")) | BX9: =SUM(AS9:BW9) -> 0 | BY9: =IF(B9="","",IF(B9="AA",1,"")) | BZ9: =IF(C9="","",IF(C9="AA",1,"")) | CA9: =IF(D9="","",IF(D9="AA",1,"")) | CB9: =IF(E9="","",IF(E9="AA",1,"")) | CC9: =IF(F9="","",IF(F9="AA",1,"")) | CD9: =IF(G9="","",IF(G9="AA",1,"")) | CE9: =IF(H9="","",IF(H9="AA",1,"")) | CF9: =IF(I9="","",IF(I9="AA",1,"")) | ... DC9: =IF(AF9="","",IF(AF9="AA",1,"")) | DD9: =SUM(BY9:DC9) -> 0 | DE9: =IF(B9="","",IF(B9="MM",1,"")) | DF9: =IF(C9="","",IF(C9="MM",1,"")) | DG9: =IF(D9="","",IF(D9="MM",1,"")) | DH9: =IF(E9="","",IF(E9="MM",1,"")) | DI9: =IF(F9="","",IF(F9="MM",1,"")) | DJ9: =IF(G9="","",IF(G9="MM",1,"")) | DK9: =IF(H9="","",IF(H9="MM",1,"")) | DL9: =IF(I9="","",IF(I9="MM",1,"")) | ... EI9: =IF(AF9="","",IF(AF9="MM",1,"")) | EJ9: =SUM(DE9:EI9) -> 0 | EK9: =IF(B9="","",IF(B9="M",1,"")) | EL9: =IF(C9="","",IF(C9="M",1,"")) | EM9: =IF(D9="","",IF(D9="M",1,"")) | EN9: =IF(E9="","",IF(E9="M",1,"")) | EO9: =IF(F9="","",IF(F9="M",1,"")) | EP9: =IF(G9="","",IF(G9="M",1,"")) | EQ9: =IF(H9="","",IF(H9="M",1,"")) | ER9: =IF(I9="","",IF(I9="M",1,"")) | ... FO9: =IF(AF9="","",IF(AF9="M",1,"")) | FP9: =SUM(EK9:FO9) -> 0 | FQ9: =IF(B9="","",IF(B9="CE",1,"")) | FR9: =IF(C9="","",IF(C9="CE",1,"")) | FS9: =IF(D9="","",IF(D9="CE",1,"")) | FT9: =IF(E9="","",IF(E9="CE",1,"")) | FU9: =IF(F9="","",IF(F9="CE",1,"")) | FV9: =IF(G9="","",IF(G9="CE",1,"")) | FW9: =IF(H9="","",IF(H9="CE",1,"")) | FX9: =IF(I9="","",IF(I9="CE",1,"")) | ... GU9: =IF(AF9="","",IF(AF9="CE",1,"")) | GV9: =SUM(FQ9:GU9) -> 0 | GW9: =IF(B9="","",IF(B9="A",1,"")) | GX9: =IF(C9="","",IF(C9="A",1,"")) | GY9: =IF(D9="","",IF(D9="A",1,"")) | GZ9: =IF(E9="","",IF(E9="A",1,"")) | HA9: =IF(F9="","",IF(F9="A",1,"")) | HB9: =IF(G9="","",IF(G9="A",1,"")) | HC9: =IF(H9="","",IF(H9="A",1,"")) | HD9: =IF(I9="","",IF(I9="A",1,"")) | ... IA9: =IF(AF9="","",IF(AF9="A",1,"")) | IB9: =SUM(GW9:IA9) -> 0 | IC9: =IF(B9="","",IF(B9="ES",1,"")) | ID9: =IF(C9="","",IF(C9="ES",1,"")) | IE9: =IF(D9="","",IF(D9="ES",1,"")) | IF9: =IF(E9="","",IF(E9="ES",1,"")) | IG9: =IF(F9="","",IF(F9="ES",1,"")) | IH9: =IF(G9="","",IF(G9="ES",1,"")) | II9: =IF(H9="","",IF(H9="ES",1,"")) | IJ9: =IF(I9="","",IF(I9="ES",1,"")) | ... JG9: =IF(AF9="","",IF(AF9="ES",1,"")) | JH9: =SUM(IC9:JG9) -> 0 | JI9: =IF(B9="","",IF(B9="2cp",0.5,"")) | JJ9: =IF(C9="","",IF(C9="2cp",0.5,"")) | JK9: =IF(D9="","",IF(D9="2cp",0.5,"")) | JL9: =IF(E9="","",IF(E9="2cp",0.5,"")) | JM9: =IF(F9="","",IF(F9="2cp",0.5,"")) | JN9: =IF(G9="","",IF(G9="2cp",0.5,"")) | JO9: =IF(H9="","",IF(H9="2cp",0.5,"")) | JP9: =IF(I9="","",IF(I9="2cp",0.5,"")) | ... KM9: =IF(AF9="","",IF(AF9="2cp",0.5,"")) | KN9: =SUM(JI9:KM9) -> 0
A10: =IF('Salariés en activités'!A12="","",'Salariés en activités'!A12) -> PIROUETTE Cacahuete | AG10: =IF(A10="","",'Salariés en activités'!H12) -> 151,67 | AH10: =IF(A10="",0,IF(DD10=0,0,IF(DD10>20,AG10,(DD10*(AG10/4.333333/5))))) -> 0 | AI10: =IF(A10="",0,IF(IB10=0,0,IF(IB10>20,AG10,IB10*(AG10/4.33333/5)))) -> 0 | AK10: =IF(A10="","",JH10) -> 0 | AL10: =IF(A10="","",GV10) -> 0 | AM10: =IF(A10="","",IF(BX10+KN10=0,"",BX10+KN10)) | AN10: =IF(A10="","",IF(FP10=0,"",FP10)) | AO10: =IF(A10="","",EJ10) -> 0 | AP10: =IF(A10="","",IF(AG10>1,IF(AR10="",2.5,IF(A10="","",2.5*((AG10-AR10)/AG10))),"")) -> 2.5 | AQ10: =AG10-(AH10+AI10) -> 151.67 | AR10: =IF(AH10+AI10+AK10>1,AH10+AI10+(AK10*AG10/4.333333/5),"") | AS10: =IF(B10="","",IF(B10="cp",1,"")) | AT10: =IF(C10="","",IF(C10="cp",1,"")) | AU10: =IF(D10="","",IF(D10="cp",1,"")) | AV10: =IF(E10="","",IF(E10="cp",1,"")) | AW10: =IF(F10="","",IF(F10="cp",1,"")) | AX10: =IF(G10="","",IF(G10="cp",1,"")) | AY10: =IF(H10="","",IF(H10="cp",1,"")) | AZ10: =IF(I10="","",IF(I10="cp",1,"")) | ... BW10: =IF(AF10="","",IF(AF10="cp",1,"")) | BX10: =SUM(AS10:BW10) -> 0 | BY10: =IF(B10="","",IF(B10="AA",1,"")) | BZ10: =IF(C10="","",IF(C10="AA",1,"")) | CA10: =IF(D10="","",IF(D10="AA",1,"")) | CB10: =IF(E10="","",IF(E10="AA",1,"")) | CC10: =IF(F10="","",IF(F10="AA",1,"")) | CD10: =IF(G10="","",IF(G10="AA",1,"")) | CE10: =IF(H10="","",IF(H10="AA",1,"")) | CF10: =IF(I10="","",IF(I10="AA",1,"")) | ... DC10: =IF(AF10="","",IF(AF10="AA",1,"")) | DD10: =SUM(BY10:DC10) -> 0 | DE10: =IF(B10="","",IF(B10="MM",1,"")) | DF10: =IF(C10="","",IF(C10="MM",1,"")) | DG10: =IF(D10="","",IF(D10="MM",1,"")) | DH10: =IF(E10="","",IF(E10="MM",1,"")) | DI10: =IF(F10="","",IF(F10="MM",1,"")) | DJ10: =IF(G10="","",IF(G10="MM",1,"")) | DK10: =IF(H10="","",IF(H10="MM",1,"")) | DL10: =IF(I10="","",IF(I10="MM",1,"")) | ... EI10: =IF(AF10="","",IF(AF10="MM",1,"")) | EJ10: =SUM(DE10:EI10) -> 0 | EK10: =IF(B10="","",IF(B10="M",1,"")) | EL10: =IF(C10="","",IF(C10="M",1,"")) | EM10: =IF(D10="","",IF(D10="M",1,"")) | EN10: =IF(E10="","",IF(E10="M",1,"")) | EO10: =IF(F10="","",IF(F10="M",1,"")) | EP10: =IF(G10="","",IF(G10="M",1,"")) | EQ10: =IF(H10="","",IF(H10="M",1,"")) | ER10: =IF(I10="","",IF(I10="M",1,"")) | ... FO10: =IF(AF10="","",IF(AF10="M",1,"")) | FP10: =SUM(EK10:FO10) -> 0 | FQ10: =IF(B10="","",IF(B10="CE",1,"")) | FR10: =IF(C10="","",IF(C10="CE",1,"")) | FS10: =IF(D10="","",IF(D10="CE",1,"")) | FT10: =IF(E10="","",IF(E10="CE",1,"")) | FU10: =IF(F10="","",IF(F10="CE",1,"")) | FV10: =IF(G10="","",IF(G10="CE",1,"")) | FW10: =IF(H10="","",IF(H10="CE",1,"")) | FX10: =IF(I10="","",IF(I10="CE",1,"")) | ... GU10: =IF(AF10="","",IF(AF10="CE",1,"")) | GV10: =SUM(FQ10:GU10) -> 0 | GW10: =IF(B10="","",IF(B10="A",1,"")) | GX10: =IF(C10="","",IF(C10="A",1,"")) | GY10: =IF(D10="","",IF(D10="A",1,"")) | GZ10: =IF(E10="","",IF(E10="A",1,"")) | HA10: =IF(F10="","",IF(F10="A",1,"")) | HB10: =IF(G10="","",IF(G10="A",1,"")) | HC10: =IF(H10="","",IF(H10="A",1,"")) | HD10: =IF(I10="","",IF(I10="A",1,"")) | ... IA10: =IF(AF10="","",IF(AF10="A",1,"")) | IB10: =SUM(GW10:IA10) -> 0 | IC10: =IF(B10="","",IF(B10="ES",1,"")) | ID10: =IF(C10="","",IF(C10="ES",1,"")) | IE10: =IF(D10="","",IF(D10="ES",1,"")) | IF10: =IF(E10="","",IF(E10="ES",1,"")) | IG10: =IF(F10="","",IF(F10="ES",1,"")) | IH10: =IF(G10="","",IF(G10="ES",1,"")) | II10: =IF(H10="","",IF(H10="ES",1,"")) | IJ10: =IF(I10="","",IF(I10="ES",1,"")) | ... JG10: =IF(AF10="","",IF(AF10="ES",1,"")) | JH10: =SUM(IC10:JG10) -> 0 | JI10: =IF(B10="","",IF(B10="2cp",0.5,"")) | JJ10: =IF(C10="","",IF(C10="2cp",0.5,"")) | JK10: =IF(D10="","",IF(D10="2cp",0.5,"")) | JL10: =IF(E10="","",IF(E10="2cp",0.5,"")) | JM10: =IF(F10="","",IF(F10="2cp",0.5,"")) | JN10: =IF(G10="","",IF(G10="2cp",0.5,"")) | JO10: =IF(H10="","",IF(H10="2cp",0.5,"")) | JP10: =IF(I10="","",IF(I10="2cp",0.5,"")) | ... KM10: =IF(AF10="","",IF(AF10="2cp",0.5,"")) | KN10: =SUM(JI10:KM10) -> 0
A11: =IF('Salariés en activités'!A13="","",'Salariés en activités'!A13) -> ORDI Nathan | AG11: =IF(A11="","",'Salariés en activités'!H13) -> 151,67 | AH11: =IF(A11="",0,IF(DD11=0,0,IF(DD11>20,AG11,(DD11*(AG11/4.333333/5))))) -> 0 | AI11: =IF(A11="",0,IF(IB11=0,0,IF(IB11>20,AG11,IB11*(AG11/4.33333/5)))) -> 0 | AK11: =IF(A11="","",JH11) -> 0 | AL11: =IF(A11="","",GV11) -> 0 | AM11: =IF(A11="","",IF(BX11+KN11=0,"",BX11+KN11)) | AN11: =IF(A11="","",IF(FP11=0,"",FP11)) | AO11: =IF(A11="","",EJ11) -> 0 | AP11: =IF(A11="","",IF(AG11>1,IF(AR11="",2.5,IF(A11="","",2.5*((AG11-AR11)/AG11))),"")) -> 2.5 | AQ11: =AG11-(AH11+AI11) -> 151.67 | AR11: =IF(AH11+AI11+AK11>1,AH11+AI11+(AK11*AG11/4.333333/5),"") | AS11: =IF(B11="","",IF(B11="cp",1,"")) | AT11: =IF(C11="","",IF(C11="cp",1,"")) | AU11: =IF(D11="","",IF(D11="cp",1,"")) | AV11: =IF(E11="","",IF(E11="cp",1,"")) | AW11: =IF(F11="","",IF(F11="cp",1,"")) | AX11: =IF(G11="","",IF(G11="cp",1,"")) | AY11: =IF(H11="","",IF(H11="cp",1,"")) | AZ11: =IF(I11="","",IF(I11="cp",1,"")) | ... BW11: =IF(AF11="","",IF(AF11="cp",1,"")) | BX11: =SUM(AS11:BW11) -> 0 | BY11: =IF(B11="","",IF(B11="AA",1,"")) | BZ11: =IF(C11="","",IF(C11="AA",1,"")) | CA11: =IF(D11="","",IF(D11="AA",1,"")) | CB11: =IF(E11="","",IF(E11="AA",1,"")) | CC11: =IF(F11="","",IF(F11="AA",1,"")) | CD11: =IF(G11="","",IF(G11="AA",1,"")) | CE11: =IF(H11="","",IF(H11="AA",1,"")) | CF11: =IF(I11="","",IF(I11="AA",1,"")) | ... DC11: =IF(AF11="","",IF(AF11="AA",1,"")) | DD11: =SUM(BY11:DC11) -> 0 | DE11: =IF(B11="","",IF(B11="MM",1,"")) | DF11: =IF(C11="","",IF(C11="MM",1,"")) | DG11: =IF(D11="","",IF(D11="MM",1,"")) | DH11: =IF(E11="","",IF(E11="MM",1,"")) | DI11: =IF(F11="","",IF(F11="MM",1,"")) | DJ11: =IF(G11="","",IF(G11="MM",1,"")) | DK11: =IF(H11="","",IF(H11="MM",1,"")) | DL11: =IF(I11="","",IF(I11="MM",1,"")) | ... EI11: =IF(AF11="","",IF(AF11="MM",1,"")) | EJ11: =SUM(DE11:EI11) -> 0 | EK11: =IF(B11="","",IF(B11="M",1,"")) | EL11: =IF(C11="","",IF(C11="M",1,"")) | EM11: =IF(D11="","",IF(D11="M",1,"")) | EN11: =IF(E11="","",IF(E11="M",1,"")) | EO11: =IF(F11="","",IF(F11="M",1,"")) | EP11: =IF(G11="","",IF(G11="M",1,"")) | EQ11: =IF(H11="","",IF(H11="M",1,"")) | ER11: =IF(I11="","",IF(I11="M",1,"")) | ... FO11: =IF(AF11="","",IF(AF11="M",1,"")) | FP11: =SUM(EK11:FO11) -> 0 | FQ11: =IF(B11="","",IF(B11="CE",1,"")) | FR11: =IF(C11="","",IF(C11="CE",1,"")) | FS11: =IF(D11="","",IF(D11="CE",1,"")) | FT11: =IF(E11="","",IF(E11="CE",1,"")) | FU11: =IF(F11="","",IF(F11="CE",1,"")) | FV11: =IF(G11="","",IF(G11="CE",1,"")) | FW11: =IF(H11="","",IF(H11="CE",1,"")) | FX11: =IF(I11="","",IF(I11="CE",1,"")) | ... GU11: =IF(AF11="","",IF(AF11="CE",1,"")) | GV11: =SUM(FQ11:GU11) -> 0 | GW11: =IF(B11="","",IF(B11="A",1,"")) | GX11: =IF(C11="","",IF(C11="A",1,"")) | GY11: =IF(D11="","",IF(D11="A",1,"")) | GZ11: =IF(E11="","",IF(E11="A",1,"")) | HA11: =IF(F11="","",IF(F11="A",1,"")) | HB11: =IF(G11="","",IF(G11="A",1,"")) | HC11: =IF(H11="","",IF(H11="A",1,"")) | HD11: =IF(I11="","",IF(I11="A",1,"")) | ... IA11: =IF(AF11="","",IF(AF11="A",1,"")) | IB11: =SUM(GW11:IA11) -> 0 | IC11: =IF(B11="","",IF(B11="ES",1,"")) | ID11: =IF(C11="","",IF(C11="ES",1,"")) | IE11: =IF(D11="","",IF(D11="ES",1,"")) | IF11: =IF(E11="","",IF(E11="ES",1,"")) | IG11: =IF(F11="","",IF(F11="ES",1,"")) | IH11: =IF(G11="","",IF(G11="ES",1,"")) | II11: =IF(H11="","",IF(H11="ES",1,"")) | IJ11: =IF(I11="","",IF(I11="ES",1,"")) | ... JG11: =IF(AF11="","",IF(AF11="ES",1,"")) | JH11: =SUM(IC11:JG11) -> 0 | JI11: =IF(B11="","",IF(B11="2cp",0.5,"")) | JJ11: =IF(C11="","",IF(C11="2cp",0.5,"")) | JK11: =IF(D11="","",IF(D11="2cp",0.5,"")) | JL11: =IF(E11="","",IF(E11="2cp",0.5,"")) | JM11: =IF(F11="","",IF(F11="2cp",0.5,"")) | JN11: =IF(G11="","",IF(G11="2cp",0.5,"")) | JO11: =IF(H11="","",IF(H11="2cp",0.5,"")) | JP11: =IF(I11="","",IF(I11="2cp",0.5,"")) | ... KM11: =IF(AF11="","",IF(AF11="2cp",0.5,"")) | KN11: =SUM(JI11:KM11) -> 0
A12: =IF('Salariés en activités'!A14="","",'Salariés en activités'!A14) -> MACHE Yves | AG12: =IF(A12="","",'Salariés en activités'!H14) -> 151,67 | AH12: =IF(A12="",0,IF(DD12=0,0,IF(DD12>20,AG12,(DD12*(AG12/4.333333/5))))) -> 0 | AI12: =IF(A12="",0,IF(IB12=0,0,IF(IB12>20,AG12,IB12*(AG12/4.33333/5)))) -> 0 | AK12: =IF(A12="","",JH12) -> 0 | AL12: =IF(A12="","",GV12) -> 0 | AM12: =IF(A12="","",IF(BX12+KN12=0,"",BX12+KN12)) | AN12: =IF(A12="","",IF(FP12=0,"",FP12)) | AO12: =IF(A12="","",EJ12) -> 0 | AP12: =IF(A12="","",IF(AG12>1,IF(AR12="",2.5,IF(A12="","",2.5*((AG12-AR12)/AG12))),"")) -> 2.5 | AQ12: =AG12-(AH12+AI12) -> 151.67 | AR12: =IF(AH12+AI12+AK12>1,AH12+AI12+(AK12*AG12/4.333333/5),"") | AS12: =IF(B12="","",IF(B12="cp",1,"")) | AT12: =IF(C12="","",IF(C12="cp",1,"")) | AU12: =IF(D12="","",IF(D12="cp",1,"")) | AV12: =IF(E12="","",IF(E12="cp",1,"")) | AW12: =IF(F12="","",IF(F12="cp",1,"")) | AX12: =IF(G12="","",IF(G12="cp",1,"")) | AY12: =IF(H12="","",IF(H12="cp",1,"")) | AZ12: =IF(I12="","",IF(I12="cp",1,"")) | ... BW12: =IF(AF12="","",IF(AF12="cp",1,"")) | BX12: =SUM(AS12:BW12) -> 0 | BY12: =IF(B12="","",IF(B12="AA",1,"")) | BZ12: =IF(C12="","",IF(C12="AA",1,"")) | CA12: =IF(D12="","",IF(D12="AA",1,"")) | CB12: =IF(E12="","",IF(E12="AA",1,"")) | CC12: =IF(F12="","",IF(F12="AA",1,"")) | CD12: =IF(G12="","",IF(G12="AA",1,"")) | CE12: =IF(H12="","",IF(H12="AA",1,"")) | CF12: =IF(I12="","",IF(I12="AA",1,"")) | ... DC12: =IF(AF12="","",IF(AF12="AA",1,"")) | DD12: =SUM(BY12:DC12) -> 0 | DE12: =IF(B12="","",IF(B12="MM",1,"")) | DF12: =IF(C12="","",IF(C12="MM",1,"")) | DG12: =IF(D12="","",IF(D12="MM",1,"")) | DH12: =IF(E12="","",IF(E12="MM",1,"")) | DI12: =IF(F12="","",IF(F12="MM",1,"")) | DJ12: =IF(G12="","",IF(G12="MM",1,"")) | DK12: =IF(H12="","",IF(H12="MM",1,"")) | DL12: =IF(I12="","",IF(I12="MM",1,"")) | ... EI12: =IF(AF12="","",IF(AF12="MM",1,"")) | EJ12: =SUM(DE12:EI12) -> 0 | EK12: =IF(B12="","",IF(B12="M",1,"")) | EL12: =IF(C12="","",IF(C12="M",1,"")) | EM12: =IF(D12="","",IF(D12="M",1,"")) | EN12: =IF(E12="","",IF(E12="M",1,"")) | EO12: =IF(F12="","",IF(F12="M",1,"")) | EP12: =IF(G12="","",IF(G12="M",1,"")) | EQ12: =IF(H12="","",IF(H12="M",1,"")) | ER12: =IF(I12="","",IF(I12="M",1,"")) | ... FO12: =IF(AF12="","",IF(AF12="M",1,"")) | FP12: =SUM(EK12:FO12) -> 0 | FQ12: =IF(B12="","",IF(B12="CE",1,"")) | FR12: =IF(C12="","",IF(C12="CE",1,"")) | FS12: =IF(D12="","",IF(D12="CE",1,"")) | FT12: =IF(E12="","",IF(E12="CE",1,"")) | FU12: =IF(F12="","",IF(F12="CE",1,"")) | FV12: =IF(G12="","",IF(G12="CE",1,"")) | FW12: =IF(H12="","",IF(H12="CE",1,"")) | FX12: =IF(I12="","",IF(I12="CE",1,"")) | ... GU12: =IF(AF12="","",IF(AF12="CE",1,"")) | GV12: =SUM(FQ12:GU12) -> 0 | GW12: =IF(B12="","",IF(B12="A",1,"")) | GX12: =IF(C12="","",IF(C12="A",1,"")) | GY12: =IF(D12="","",IF(D12="A",1,"")) | GZ12: =IF(E12="","",IF(E12="A",1,"")) | HA12: =IF(F12="","",IF(F12="A",1,"")) | HB12: =IF(G12="","",IF(G12="A",1,"")) | HC12: =IF(H12="","",IF(H12="A",1,"")) | HD12: =IF(I12="","",IF(I12="A",1,"")) | ... IA12: =IF(AF12="","",IF(AF12="A",1,"")) | IB12: =SUM(GW12:IA12) -> 0 | IC12: =IF(B12="","",IF(B12="ES",1,"")) | ID12: =IF(C12="","",IF(C12="ES",1,"")) | IE12: =IF(D12="","",IF(D12="ES",1,"")) | IF12: =IF(E12="","",IF(E12="ES",1,"")) | IG12: =IF(F12="","",IF(F12="ES",1,"")) | IH12: =IF(G12="","",IF(G12="ES",1,"")) | II12: =IF(H12="","",IF(H12="ES",1,"")) | IJ12: =IF(I12="","",IF(I12="ES",1,"")) | ... JG12: =IF(AF12="","",IF(AF12="ES",1,"")) | JH12: =SUM(IC12:JG12) -> 0 | JI12: =IF(B12="","",IF(B12="2cp",0.5,"")) | JJ12: =IF(C12="","",IF(C12="2cp",0.5,"")) | JK12: =IF(D12="","",IF(D12="2cp",0.5,"")) | JL12: =IF(E12="","",IF(E12="2cp",0.5,"")) | JM12: =IF(F12="","",IF(F12="2cp",0.5,"")) | JN12: =IF(G12="","",IF(G12="2cp",0.5,"")) | JO12: =IF(H12="","",IF(H12="2cp",0.5,"")) | JP12: =IF(I12="","",IF(I12="2cp",0.5,"")) | ... KM12: =IF(AF12="","",IF(AF12="2cp",0.5,"")) | KN12: =SUM(JI12:KM12) -> 0
A13: =IF('Salariés en activités'!A15="","",'Salariés en activités'!A15) -> KIP And | AG13: =IF(A13="","",'Salariés en activités'!H15) -> 151,67 | AH13: =IF(A13="",0,IF(DD13=0,0,IF(DD13>20,AG13,(DD13*(AG13/4.333333/5))))) -> 0 | AI13: =IF(A13="",0,IF(IB13=0,0,IF(IB13>20,AG13,IB13*(AG13/4.33333/5)))) -> 0 | AK13: =IF(A13="","",JH13) -> 0 | AL13: =IF(A13="","",GV13) -> 0 | AM13: =IF(A13="","",IF(BX13+KN13=0,"",BX13+KN13)) | AN13: =IF(A13="","",IF(FP13=0,"",FP13)) | AO13: =IF(A13="","",EJ13) -> 0 | AP13: =IF(A13="","",IF(AG13>1,IF(AR13="",2.5,IF(A13="","",2.5*((AG13-AR13)/AG13))),"")) -> 2.5 | AQ13: =AG13-(AH13+AI13) -> 151.67 | AR13: =IF(AH13+AI13+AK13>1,AH13+AI13+(AK13*AG13/4.333333/5),"") | AS13: =IF(B13="","",IF(B13="cp",1,"")) | AT13: =IF(C13="","",IF(C13="cp",1,"")) | AU13: =IF(D13="","",IF(D13="cp",1,"")) | AV13: =IF(E13="","",IF(E13="cp",1,"")) | AW13: =IF(F13="","",IF(F13="cp",1,"")) | AX13: =IF(G13="","",IF(G13="cp",1,"")) | AY13: =IF(H13="","",IF(H13="cp",1,"")) | AZ13: =IF(I13="","",IF(I13="cp",1,"")) | ... BW13: =IF(AF13="","",IF(AF13="cp",1,"")) | BX13: =SUM(AS13:BW13) -> 0 | BY13: =IF(B13="","",IF(B13="AA",1,"")) | BZ13: =IF(C13="","",IF(C13="AA",1,"")) | CA13: =IF(D13="","",IF(D13="AA",1,"")) | CB13: =IF(E13="","",IF(E13="AA",1,"")) | CC13: =IF(F13="","",IF(F13="AA",1,"")) | CD13: =IF(G13="","",IF(G13="AA",1,"")) | CE13: =IF(H13="","",IF(H13="AA",1,"")) | CF13: =IF(I13="","",IF(I13="AA",1,"")) | ... DC13: =IF(AF13="","",IF(AF13="AA",1,"")) | DD13: =SUM(BY13:DC13) -> 0 | DE13: =IF(B13="","",IF(B13="MM",1,"")) | DF13: =IF(C13="","",IF(C13="MM",1,"")) | DG13: =IF(D13="","",IF(D13="MM",1,"")) | DH13: =IF(E13="","",IF(E13="MM",1,"")) | DI13: =IF(F13="","",IF(F13="MM",1,"")) | DJ13: =IF(G13="","",IF(G13="MM",1,"")) | DK13: =IF(H13="","",IF(H13="MM",1,"")) | DL13: =IF(I13="","",IF(I13="MM",1,"")) | ... EI13: =IF(AF13="","",IF(AF13="MM",1,"")) | EJ13: =SUM(DE13:EI13) -> 0 | EK13: =IF(B13="","",IF(B13="M",1,"")) | EL13: =IF(C13="","",IF(C13="M",1,"")) | EM13: =IF(D13="","",IF(D13="M",1,"")) | EN13: =IF(E13="","",IF(E13="M",1,"")) | EO13: =IF(F13="","",IF(F13="M",1,"")) | EP13: =IF(G13="","",IF(G13="M",1,"")) | EQ13: =IF(H13="","",IF(H13="M",1,"")) | ER13: =IF(I13="","",IF(I13="M",1,"")) | ... FO13: =IF(AF13="","",IF(AF13="M",1,"")) | FP13: =SUM(EK13:FO13) -> 0 | FQ13: =IF(B13="","",IF(B13="CE",1,"")) | FR13: =IF(C13="","",IF(C13="CE",1,"")) | FS13: =IF(D13="","",IF(D13="CE",1,"")) | FT13: =IF(E13="","",IF(E13="CE",1,"")) | FU13: =IF(F13="","",IF(F13="CE",1,"")) | FV13: =IF(G13="","",IF(G13="CE",1,"")) | FW13: =IF(H13="","",IF(H13="CE",1,"")) | FX13: =IF(I13="","",IF(I13="CE",1,"")) | ... GU13: =IF(AF13="","",IF(AF13="CE",1,"")) | GV13: =SUM(FQ13:GU13) -> 0 | GW13: =IF(B13="","",IF(B13="A",1,"")) | GX13: =IF(C13="","",IF(C13="A",1,"")) | GY13: =IF(D13="","",IF(D13="A",1,"")) | GZ13: =IF(E13="","",IF(E13="A",1,"")) | HA13: =IF(F13="","",IF(F13="A",1,"")) | HB13: =IF(G13="","",IF(G13="A",1,"")) | HC13: =IF(H13="","",IF(H13="A",1,"")) | HD13: =IF(I13="","",IF(I13="A",1,"")) | ... IA13: =IF(AF13="","",IF(AF13="A",1,"")) | IB13: =SUM(GW13:IA13) -> 0 | IC13: =IF(B13="","",IF(B13="ES",1,"")) | ID13: =IF(C13="","",IF(C13="ES",1,"")) | IE13: =IF(D13="","",IF(D13="ES",1,"")) | IF13: =IF(E13="","",IF(E13="ES",1,"")) | IG13: =IF(F13="","",IF(F13="ES",1,"")) | IH13: =IF(G13="","",IF(G13="ES",1,"")) | II13: =IF(H13="","",IF(H13="ES",1,"")) | IJ13: =IF(I13="","",IF(I13="ES",1,"")) | ... JG13: =IF(AF13="","",IF(AF13="ES",1,"")) | JH13: =SUM(IC13:JG13) -> 0 | JI13: =IF(B13="","",IF(B13="2cp",0.5,"")) | JJ13: =IF(C13="","",IF(C13="2cp",0.5,"")) | JK13: =IF(D13="","",IF(D13="2cp",0.5,"")) | JL13: =IF(E13="","",IF(E13="2cp",0.5,"")) | JM13: =IF(F13="","",IF(F13="2cp",0.5,"")) | JN13: =IF(G13="","",IF(G13="2cp",0.5,"")) | JO13: =IF(H13="","",IF(H13="2cp",0.5,"")) | JP13: =IF(I13="","",IF(I13="2cp",0.5,"")) | ... KM13: =IF(AF13="","",IF(AF13="2cp",0.5,"")) | KN13: =SUM(JI13:KM13) -> 0
A14: =IF('Salariés en activités'!A16="","",'Salariés en activités'!A16) -> GIROU Gilles | AG14: =IF(A14="","",'Salariés en activités'!H16) -> 75,84 | AH14: =IF(A14="",0,IF(DD14=0,0,IF(DD14>20,AG14,(DD14*(AG14/4.333333/5))))) -> 0 | AI14: =IF(A14="",0,IF(IB14=0,0,IF(IB14>20,AG14,IB14*(AG14/4.33333/5)))) -> 0 | AK14: =IF(A14="","",JH14) -> 0 | AL14: =IF(A14="","",GV14) -> 0 | AM14: =IF(A14="","",IF(BX14+KN14=0,"",BX14+KN14)) | AN14: =IF(A14="","",IF(FP14=0,"",FP14)) | AO14: =IF(A14="","",EJ14) -> 0 | AP14: =IF(A14="","",IF(AG14>1,IF(AR14="",2.5,IF(A14="","",2.5*((AG14-AR14)/AG14))),"")) -> 2.5 | AQ14: =AG14-(AH14+AI14) -> 75.84 | AR14: =IF(AH14+AI14+AK14>1,AH14+AI14+(AK14*AG14/4.333333/5),"") | AS14: =IF(B14="","",IF(B14="cp",1,"")) | AT14: =IF(C14="","",IF(C14="cp",1,"")) | AU14: =IF(D14="","",IF(D14="cp",1,"")) | AV14: =IF(E14="","",IF(E14="cp",1,"")) | AW14: =IF(F14="","",IF(F14="cp",1,"")) | AX14: =IF(G14="","",IF(G14="cp",1,"")) | AY14: =IF(H14="","",IF(H14="cp",1,"")) | AZ14: =IF(I14="","",IF(I14="cp",1,"")) | ... BW14: =IF(AF14="","",IF(AF14="cp",1,"")) | BX14: =SUM(AS14:BW14) -> 0 | BY14: =IF(B14="","",IF(B14="AA",1,"")) | BZ14: =IF(C14="","",IF(C14="AA",1,"")) | CA14: =IF(D14="","",IF(D14="AA",1,"")) | CB14: =IF(E14="","",IF(E14="AA",1,"")) | CC14: =IF(F14="","",IF(F14="AA",1,"")) | CD14: =IF(G14="","",IF(G14="AA",1,"")) | CE14: =IF(H14="","",IF(H14="AA",1,"")) | CF14: =IF(I14="","",IF(I14="AA",1,"")) | ... DC14: =IF(AF14="","",IF(AF14="AA",1,"")) | DD14: =SUM(BY14:DC14) -> 0 | DE14: =IF(B14="","",IF(B14="MM",1,"")) | DF14: =IF(C14="","",IF(C14="MM",1,"")) | DG14: =IF(D14="","",IF(D14="MM",1,"")) | DH14: =IF(E14="","",IF(E14="MM",1,"")) | DI14: =IF(F14="","",IF(F14="MM",1,"")) | DJ14: =IF(G14="","",IF(G14="MM",1,"")) | DK14: =IF(H14="","",IF(H14="MM",1,"")) | DL14: =IF(I14="","",IF(I14="MM",1,"")) | ... EI14: =IF(AF14="","",IF(AF14="MM",1,"")) | EJ14: =SUM(DE14:EI14) -> 0 | EK14: =IF(B14="","",IF(B14="M",1,"")) | EL14: =IF(C14="","",IF(C14="M",1,"")) | EM14: =IF(D14="","",IF(D14="M",1,"")) | EN14: =IF(E14="","",IF(E14="M",1,"")) | EO14: =IF(F14="","",IF(F14="M",1,"")) | EP14: =IF(G14="","",IF(G14="M",1,"")) | EQ14: =IF(H14="","",IF(H14="M",1,"")) | ER14: =IF(I14="","",IF(I14="M",1,"")) | ... FO14: =IF(AF14="","",IF(AF14="M",1,"")) | FP14: =SUM(EK14:FO14) -> 0 | FQ14: =IF(B14="","",IF(B14="CE",1,"")) | FR14: =IF(C14="","",IF(C14="CE",1,"")) | FS14: =IF(D14="","",IF(D14="CE",1,"")) | FT14: =IF(E14="","",IF(E14="CE",1,"")) | FU14: =IF(F14="","",IF(F14="CE",1,"")) | FV14: =IF(G14="","",IF(G14="CE",1,"")) | FW14: =IF(H14="","",IF(H14="CE",1,"")) | FX14: =IF(I14="","",IF(I14="CE",1,"")) | ... GU14: =IF(AF14="","",IF(AF14="CE",1,"")) | GV14: =SUM(FQ14:GU14) -> 0 | GW14: =IF(B14="","",IF(B14="A",1,"")) | GX14: =IF(C14="","",IF(C14="A",1,"")) | GY14: =IF(D14="","",IF(D14="A",1,"")) | GZ14: =IF(E14="","",IF(E14="A",1,"")) | HA14: =IF(F14="","",IF(F14="A",1,"")) | HB14: =IF(G14="","",IF(G14="A",1,"")) | HC14: =IF(H14="","",IF(H14="A",1,"")) | HD14: =IF(I14="","",IF(I14="A",1,"")) | ... IA14: =IF(AF14="","",IF(AF14="A",1,"")) | IB14: =SUM(GW14:IA14) -> 0 | IC14: =IF(B14="","",IF(B14="ES",1,"")) | ID14: =IF(C14="","",IF(C14="ES",1,"")) | IE14: =IF(D14="","",IF(D14="ES",1,"")) | IF14: =IF(E14="","",IF(E14="ES",1,"")) | IG14: =IF(F14="","",IF(F14="ES",1,"")) | IH14: =IF(G14="","",IF(G14="ES",1,"")) | II14: =IF(H14="","",IF(H14="ES",1,"")) | IJ14: =IF(I14="","",IF(I14="ES",1,"")) | ... JG14: =IF(AF14="","",IF(AF14="ES",1,"")) | JH14: =SUM(IC14:JG14) -> 0 | JI14: =IF(B14="","",IF(B14="2cp",0.5,"")) | JJ14: =IF(C14="","",IF(C14="2cp",0.5,"")) | JK14: =IF(D14="","",IF(D14="2cp",0.5,"")) | JL14: =IF(E14="","",IF(E14="2cp",0.5,"")) | JM14: =IF(F14="","",IF(F14="2cp",0.5,"")) | JN14: =IF(G14="","",IF(G14="2cp",0.5,"")) | JO14: =IF(H14="","",IF(H14="2cp",0.5,"")) | JP14: =IF(I14="","",IF(I14="2cp",0.5,"")) | ... KM14: =IF(AF14="","",IF(AF14="2cp",0.5,"")) | KN14: =SUM(JI14:KM14) -> 0
A15: =IF('Salariés en activités'!A17="","",'Salariés en activités'!A17) -> GINO Gilles | AG15: =IF(A15="","",'Salariés en activités'!H17) -> 151,67 | AH15: =IF(A15="",0,IF(DD15=0,0,IF(DD15>20,AG15,(DD15*(AG15/4.333333/5))))) -> 0 | AI15: =IF(A15="",0,IF(IB15=0,0,IF(IB15>20,AG15,IB15*(AG15/4.33333/5)))) -> 0 | AK15: =IF(A15="","",JH15) -> 0 | AL15: =IF(A15="","",GV15) -> 0 | AM15: =IF(A15="","",IF(BX15+KN15=0,"",BX15+KN15)) | AN15: =IF(A15="","",IF(FP15=0,"",FP15)) | AO15: =IF(A15="","",EJ15) -> 0 | AP15: =IF(A15="","",IF(AG15>1,IF(AR15="",2.5,IF(A15="","",2.5*((AG15-AR15)/AG15))),"")) -> 2.5 | AQ15: =AG15-(AH15+AI15) -> 151.67 | AR15: =IF(AH15+AI15+AK15>1,AH15+AI15+(AK15*AG15/4.333333/5),"") | AS15: =IF(B15="","",IF(B15="cp",1,"")) | AT15: =IF(C15="","",IF(C15="cp",1,"")) | AU15: =IF(D15="","",IF(D15="cp",1,"")) | AV15: =IF(E15="","",IF(E15="cp",1,"")) | AW15: =IF(F15="","",IF(F15="cp",1,"")) | AX15: =IF(G15="","",IF(G15="cp",1,"")) | AY15: =IF(H15="","",IF(H15="cp",1,"")) | AZ15: =IF(I15="","",IF(I15="cp",1,"")) | ... BW15: =IF(AF15="","",IF(AF15="cp",1,"")) | BX15: =SUM(AS15:BW15) -> 0 | BY15: =IF(B15="","",IF(B15="AA",1,"")) | BZ15: =IF(C15="","",IF(C15="AA",1,"")) | CA15: =IF(D15="","",IF(D15="AA",1,"")) | CB15: =IF(E15="","",IF(E15="AA",1,"")) | CC15: =IF(F15="","",IF(F15="AA",1,"")) | CD15: =IF(G15="","",IF(G15="AA",1,"")) | CE15: =IF(H15="","",IF(H15="AA",1,"")) | CF15: =IF(I15="","",IF(I15="AA",1,"")) | ... DC15: =IF(AF15="","",IF(AF15="AA",1,"")) | DD15: =SUM(BY15:DC15) -> 0 | DE15: =IF(B15="","",IF(B15="MM",1,"")) | DF15: =IF(C15="","",IF(C15="MM",1,"")) | DG15: =IF(D15="","",IF(D15="MM",1,"")) | DH15: =IF(E15="","",IF(E15="MM",1,"")) | DI15: =IF(F15="","",IF(F15="MM",1,"")) | DJ15: =IF(G15="","",IF(G15="MM",1,"")) | DK15: =IF(H15="","",IF(H15="MM",1,"")) | DL15: =IF(I15="","",IF(I15="MM",1,"")) | ... EI15: =IF(AF15="","",IF(AF15="MM",1,"")) | EJ15: =SUM(DE15:EI15) -> 0 | EK15: =IF(B15="","",IF(B15="M",1,"")) | EL15: =IF(C15="","",IF(C15="M",1,"")) | EM15: =IF(D15="","",IF(D15="M",1,"")) | EN15: =IF(E15="","",IF(E15="M",1,"")) | EO15: =IF(F15="","",IF(F15="M",1,"")) | EP15: =IF(G15="","",IF(G15="M",1,"")) | EQ15: =IF(H15="","",IF(H15="M",1,"")) | ER15: =IF(I15="","",IF(I15="M",1,"")) | ... FO15: =IF(AF15="","",IF(AF15="M",1,"")) | FP15: =SUM(EK15:FO15) -> 0 | FQ15: =IF(B15="","",IF(B15="CE",1,"")) | FR15: =IF(C15="","",IF(C15="CE",1,"")) | FS15: =IF(D15="","",IF(D15="CE",1,"")) | FT15: =IF(E15="","",IF(E15="CE",1,"")) | FU15: =IF(F15="","",IF(F15="CE",1,"")) | FV15: =IF(G15="","",IF(G15="CE",1,"")) | FW15: =IF(H15="","",IF(H15="CE",1,"")) | FX15: =IF(I15="","",IF(I15="CE",1,"")) | ... GU15: =IF(AF15="","",IF(AF15="CE",1,"")) | GV15: =SUM(FQ15:GU15) -> 0 | GW15: =IF(B15="","",IF(B15="A",1,"")) | GX15: =IF(C15="","",IF(C15="A",1,"")) | GY15: =IF(D15="","",IF(D15="A",1,"")) | GZ15: =IF(E15="","",IF(E15="A",1,"")) | HA15: =IF(F15="","",IF(F15="A",1,"")) | HB15: =IF(G15="","",IF(G15="A",1,"")) | HC15: =IF(H15="","",IF(H15="A",1,"")) | HD15: =IF(I15="","",IF(I15="A",1,"")) | ... IA15: =IF(AF15="","",IF(AF15="A",1,"")) | IB15: =SUM(GW15:IA15) -> 0 | IC15: =IF(B15="","",IF(B15="ES",1,"")) | ID15: =IF(C15="","",IF(C15="ES",1,"")) | IE15: =IF(D15="","",IF(D15="ES",1,"")) | IF15: =IF(E15="","",IF(E15="ES",1,"")) | IG15: =IF(F15="","",IF(F15="ES",1,"")) | IH15: =IF(G15="","",IF(G15="ES",1,"")) | II15: =IF(H15="","",IF(H15="ES",1,"")) | IJ15: =IF(I15="","",IF(I15="ES",1,"")) | ... JG15: =IF(AF15="","",IF(AF15="ES",1,"")) | JH15: =SUM(IC15:JG15) -> 0 | JI15: =IF(B15="","",IF(B15="2cp",0.5,"")) | JJ15: =IF(C15="","",IF(C15="2cp",0.5,"")) | JK15: =IF(D15="","",IF(D15="2cp",0.5,"")) | JL15: =IF(E15="","",IF(E15="2cp",0.5,"")) | JM15: =IF(F15="","",IF(F15="2cp",0.5,"")) | JN15: =IF(G15="","",IF(G15="2cp",0.5,"")) | JO15: =IF(H15="","",IF(H15="2cp",0.5,"")) | JP15: =IF(I15="","",IF(I15="2cp",0.5,"")) | ... KM15: =IF(AF15="","",IF(AF15="2cp",0.5,"")) | KN15: =SUM(JI15:KM15) -> 0
A16: =IF('Salariés en activités'!A18="","",'Salariés en activités'!A18) -> Dupont Jack | AG16: =IF(A16="","",'Salariés en activités'!H18) -> 151,67 | AH16: =IF(A16="",0,IF(DD16=0,0,IF(DD16>20,AG16,(DD16*(AG16/4.333333/5))))) -> 0 | AI16: =IF(A16="",0,IF(IB16=0,0,IF(IB16>20,AG16,IB16*(AG16/4.33333/5)))) -> 0 | AK16: =IF(A16="","",JH16) -> 0 | AL16: =IF(A16="","",GV16) -> 0 | AM16: =IF(A16="","",IF(BX16+KN16=0,"",BX16+KN16)) | AN16: =IF(A16="","",IF(FP16=0,"",FP16)) | AO16: =IF(A16="","",EJ16) -> 0 | AP16: =IF(A16="","",IF(AG16>1,IF(AR16="",2.5,IF(A16="","",2.5*((AG16-AR16)/AG16))),"")) -> 2.5 | AQ16: =AG16-(AH16+AI16) -> 151.67 | AR16: =IF(AH16+AI16+AK16>1,AH16+AI16+(AK16*AG16/4.333333/5),"") | AS16: =IF(B16="","",IF(B16="cp",1,"")) | AT16: =IF(C16="","",IF(C16="cp",1,"")) | AU16: =IF(D16="","",IF(D16="cp",1,"")) | AV16: =IF(E16="","",IF(E16="cp",1,"")) | AW16: =IF(F16="","",IF(F16="cp",1,"")) | AX16: =IF(G16="","",IF(G16="cp",1,"")) | AY16: =IF(H16="","",IF(H16="cp",1,"")) | AZ16: =IF(I16="","",IF(I16="cp",1,"")) | ... BW16: =IF(AF16="","",IF(AF16="cp",1,"")) | BX16: =SUM(AS16:BW16) -> 0 | BY16: =IF(B16="","",IF(B16="AA",1,"")) | BZ16: =IF(C16="","",IF(C16="AA",1,"")) | CA16: =IF(D16="","",IF(D16="AA",1,"")) | CB16: =IF(E16="","",IF(E16="AA",1,"")) | CC16: =IF(F16="","",IF(F16="AA",1,"")) | CD16: =IF(G16="","",IF(G16="AA",1,"")) | CE16: =IF(H16="","",IF(H16="AA",1,"")) | CF16: =IF(I16="","",IF(I16="AA",1,"")) | ... DC16: =IF(AF16="","",IF(AF16="AA",1,"")) | DD16: =SUM(BY16:DC16) -> 0 | DE16: =IF(B16="","",IF(B16="MM",1,"")) | DF16: =IF(C16="","",IF(C16="MM",1,"")) | DG16: =IF(D16="","",IF(D16="MM",1,"")) | DH16: =IF(E16="","",IF(E16="MM",1,"")) | DI16: =IF(F16="","",IF(F16="MM",1,"")) | DJ16: =IF(G16="","",IF(G16="MM",1,"")) | DK16: =IF(H16="","",IF(H16="MM",1,"")) | DL16: =IF(I16="","",IF(I16="MM",1,"")) | ... EI16: =IF(AF16="","",IF(AF16="MM",1,"")) | EJ16: =SUM(DE16:EI16) -> 0 | EK16: =IF(B16="","",IF(B16="M",1,"")) | EL16: =IF(C16="","",IF(C16="M",1,"")) | EM16: =IF(D16="","",IF(D16="M",1,"")) | EN16: =IF(E16="","",IF(E16="M",1,"")) | EO16: =IF(F16="","",IF(F16="M",1,"")) | EP16: =IF(G16="","",IF(G16="M",1,"")) | EQ16: =IF(H16="","",IF(H16="M",1,"")) | ER16: =IF(I16="","",IF(I16="M",1,"")) | ... FO16: =IF(AF16="","",IF(AF16="M",1,"")) | FP16: =SUM(EK16:FO16) -> 0 | FQ16: =IF(B16="","",IF(B16="CE",1,"")) | FR16: =IF(C16="","",IF(C16="CE",1,"")) | FS16: =IF(D16="","",IF(D16="CE",1,"")) | FT16: =IF(E16="","",IF(E16="CE",1,"")) | FU16: =IF(F16="","",IF(F16="CE",1,"")) | FV16: =IF(G16="","",IF(G16="CE",1,"")) | FW16: =IF(H16="","",IF(H16="CE",1,"")) | FX16: =IF(I16="","",IF(I16="CE",1,"")) | ... GU16: =IF(AF16="","",IF(AF16="CE",1,"")) | GV16: =SUM(FQ16:GU16) -> 0 | GW16: =IF(B16="","",IF(B16="A",1,"")) | GX16: =IF(C16="","",IF(C16="A",1,"")) | GY16: =IF(D16="","",IF(D16="A",1,"")) | GZ16: =IF(E16="","",IF(E16="A",1,"")) | HA16: =IF(F16="","",IF(F16="A",1,"")) | HB16: =IF(G16="","",IF(G16="A",1,"")) | HC16: =IF(H16="","",IF(H16="A",1,"")) | HD16: =IF(I16="","",IF(I16="A",1,"")) | ... IA16: =IF(AF16="","",IF(AF16="A",1,"")) | IB16: =SUM(GW16:IA16) -> 0 | IC16: =IF(B16="","",IF(B16="ES",1,"")) | ID16: =IF(C16="","",IF(C16="ES",1,"")) | IE16: =IF(D16="","",IF(D16="ES",1,"")) | IF16: =IF(E16="","",IF(E16="ES",1,"")) | IG16: =IF(F16="","",IF(F16="ES",1,"")) | IH16: =IF(G16="","",IF(G16="ES",1,"")) | II16: =IF(H16="","",IF(H16="ES",1,"")) | IJ16: =IF(I16="","",IF(I16="ES",1,"")) | ... JG16: =IF(AF16="","",IF(AF16="ES",1,"")) | JH16: =SUM(IC16:JG16) -> 0 | JI16: =IF(B16="","",IF(B16="2cp",0.5,"")) | JJ16: =IF(C16="","",IF(C16="2cp",0.5,"")) | JK16: =IF(D16="","",IF(D16="2cp",0.5,"")) | JL16: =IF(E16="","",IF(E16="2cp",0.5,"")) | JM16: =IF(F16="","",IF(F16="2cp",0.5,"")) | JN16: =IF(G16="","",IF(G16="2cp",0.5,"")) | JO16: =IF(H16="","",IF(H16="2cp",0.5,"")) | JP16: =IF(I16="","",IF(I16="2cp",0.5,"")) | ... KM16: =IF(AF16="","",IF(AF16="2cp",0.5,"")) | KN16: =SUM(JI16:KM16) -> 0
A17: =IF('Salariés en activités'!A19="","",'Salariés en activités'!A19) -> DION Celine | AG17: =IF(A17="","",'Salariés en activités'!H19) -> 151,67 | AH17: =IF(A17="",0,IF(DD17=0,0,IF(DD17>20,AG17,(DD17*(AG17/4.333333/5))))) -> 0 | AI17: =IF(A17="",0,IF(IB17=0,0,IF(IB17>20,AG17,IB17*(AG17/4.33333/5)))) -> 0 | AK17: =IF(A17="","",JH17) -> 0 | AL17: =IF(A17="","",GV17) -> 0 | AM17: =IF(A17="","",IF(BX17+KN17=0,"",BX17+KN17)) | AN17: =IF(A17="","",IF(FP17=0,"",FP17)) | AO17: =IF(A17="","",EJ17) -> 0 | AP17: =IF(A17="","",IF(AG17>1,IF(AR17="",2.5,IF(A17="","",2.5*((AG17-AR17)/AG17))),"")) -> 2.5 | AQ17: =AG17-(AH17+AI17) -> 151.67 | AR17: =IF(AH17+AI17+AK17>1,AH17+AI17+(AK17*AG17/4.333333/5),"") | AS17: =IF(B17="","",IF(B17="cp",1,"")) | AT17: =IF(C17="","",IF(C17="cp",1,"")) | AU17: =IF(D17="","",IF(D17="cp",1,"")) | AV17: =IF(E17="","",IF(E17="cp",1,"")) | AW17: =IF(F17="","",IF(F17="cp",1,"")) | AX17: =IF(G17="","",IF(G17="cp",1,"")) | AY17: =IF(H17="","",IF(H17="cp",1,"")) | AZ17: =IF(I17="","",IF(I17="cp",1,"")) | ... BW17: =IF(AF17="","",IF(AF17="cp",1,"")) | BX17: =SUM(AS17:BW17) -> 0 | BY17: =IF(B17="","",IF(B17="AA",1,"")) | BZ17: =IF(C17="","",IF(C17="AA",1,"")) | CA17: =IF(D17="","",IF(D17="AA",1,"")) | CB17: =IF(E17="","",IF(E17="AA",1,"")) | CC17: =IF(F17="","",IF(F17="AA",1,"")) | CD17: =IF(G17="","",IF(G17="AA",1,"")) | CE17: =IF(H17="","",IF(H17="AA",1,"")) | CF17: =IF(I17="","",IF(I17="AA",1,"")) | ... DC17: =IF(AF17="","",IF(AF17="AA",1,"")) | DD17: =SUM(BY17:DC17) -> 0 | DE17: =IF(B17="","",IF(B17="MM",1,"")) | DF17: =IF(C17="","",IF(C17="MM",1,"")) | DG17: =IF(D17="","",IF(D17="MM",1,"")) | DH17: =IF(E17="","",IF(E17="MM",1,"")) | DI17: =IF(F17="","",IF(F17="MM",1,"")) | DJ17: =IF(G17="","",IF(G17="MM",1,"")) | DK17: =IF(H17="","",IF(H17="MM",1,"")) | DL17: =IF(I17="","",IF(I17="MM",1,"")) | ... EI17: =IF(AF17="","",IF(AF17="MM",1,"")) | EJ17: =SUM(DE17:EI17) -> 0 | EK17: =IF(B17="","",IF(B17="M",1,"")) | EL17: =IF(C17="","",IF(C17="M",1,"")) | EM17: =IF(D17="","",IF(D17="M",1,"")) | EN17: =IF(E17="","",IF(E17="M",1,"")) | EO17: =IF(F17="","",IF(F17="M",1,"")) | EP17: =IF(G17="","",IF(G17="M",1,"")) | EQ17: =IF(H17="","",IF(H17="M",1,"")) | ER17: =IF(I17="","",IF(I17="M",1,"")) | ... FO17: =IF(AF17="","",IF(AF17="M",1,"")) | FP17: =SUM(EK17:FO17) -> 0 | FQ17: =IF(B17="","",IF(B17="CE",1,"")) | FR17: =IF(C17="","",IF(C17="CE",1,"")) | FS17: =IF(D17="","",IF(D17="CE",1,"")) | FT17: =IF(E17="","",IF(E17="CE",1,"")) | FU17: =IF(F17="","",IF(F17="CE",1,"")) | FV17: =IF(G17="","",IF(G17="CE",1,"")) | FW17: =IF(H17="","",IF(H17="CE",1,"")) | FX17: =IF(I17="","",IF(I17="CE",1,"")) | ... GU17: =IF(AF17="","",IF(AF17="CE",1,"")) | GV17: =SUM(FQ17:GU17) -> 0 | GW17: =IF(B17="","",IF(B17="A",1,"")) | GX17: =IF(C17="","",IF(C17="A",1,"")) | GY17: =IF(D17="","",IF(D17="A",1,"")) | GZ17: =IF(E17="","",IF(E17="A",1,"")) | HA17: =IF(F17="","",IF(F17="A",1,"")) | HB17: =IF(G17="","",IF(G17="A",1,"")) | HC17: =IF(H17="","",IF(H17="A",1,"")) | HD17: =IF(I17="","",IF(I17="A",1,"")) | ... IA17: =IF(AF17="","",IF(AF17="A",1,"")) | IB17: =SUM(GW17:IA17) -> 0 | IC17: =IF(B17="","",IF(B17="ES",1,"")) | ID17: =IF(C17="","",IF(C17="ES",1,"")) | IE17: =IF(D17="","",IF(D17="ES",1,"")) | IF17: =IF(E17="","",IF(E17="ES",1,"")) | IG17: =IF(F17="","",IF(F17="ES",1,"")) | IH17: =IF(G17="","",IF(G17="ES",1,"")) | II17: =IF(H17="","",IF(H17="ES",1,"")) | IJ17: =IF(I17="","",IF(I17="ES",1,"")) | ... JG17: =IF(AF17="","",IF(AF17="ES",1,"")) | JH17: =SUM(IC17:JG17) -> 0 | JI17: =IF(B17="","",IF(B17="2cp",0.5,"")) | JJ17: =IF(C17="","",IF(C17="2cp",0.5,"")) | JK17: =IF(D17="","",IF(D17="2cp",0.5,"")) | JL17: =IF(E17="","",IF(E17="2cp",0.5,"")) | JM17: =IF(F17="","",IF(F17="2cp",0.5,"")) | JN17: =IF(G17="","",IF(G17="2cp",0.5,"")) | JO17: =IF(H17="","",IF(H17="2cp",0.5,"")) | JP17: =IF(I17="","",IF(I17="2cp",0.5,"")) | ... KM17: =IF(AF17="","",IF(AF17="2cp",0.5,"")) | KN17: =SUM(JI17:KM17) -> 0
A18: =IF('Salariés en activités'!A20="","",'Salariés en activités'!A20) -> CHOUETTE Patrick | AG18: =IF(A18="","",'Salariés en activités'!H20) -> 151,67 | AH18: =IF(A18="",0,IF(DD18=0,0,IF(DD18>20,AG18,(DD18*(AG18/4.333333/5))))) -> 0 | AI18: =IF(A18="",0,IF(IB18=0,0,IF(IB18>20,AG18,IB18*(AG18/4.33333/5)))) -> 0 | AK18: =IF(A18="","",JH18) -> 0 | AL18: =IF(A18="","",GV18) -> 0 | AM18: =IF(A18="","",IF(BX18+KN18=0,"",BX18+KN18)) | AN18: =IF(A18="","",IF(FP18=0,"",FP18)) | AO18: =IF(A18="","",EJ18) -> 0 | AP18: =IF(A18="","",IF(AG18>1,IF(AR18="",2.5,IF(A18="","",2.5*((AG18-AR18)/AG18))),"")) -> 2.5 | AQ18: =AG18-(AH18+AI18) -> 151.67 | AR18: =IF(AH18+AI18+AK18>1,AH18+AI18+(AK18*AG18/4.333333/5),"") | AS18: =IF(B18="","",IF(B18="cp",1,"")) | AT18: =IF(C18="","",IF(C18="cp",1,"")) | AU18: =IF(D18="","",IF(D18="cp",1,"")) | AV18: =IF(E18="","",IF(E18="cp",1,"")) | AW18: =IF(F18="","",IF(F18="cp",1,"")) | AX18: =IF(G18="","",IF(G18="cp",1,"")) | AY18: =IF(H18="","",IF(H18="cp",1,"")) | AZ18: =IF(I18="","",IF(I18="cp",1,"")) | ... BW18: =IF(AF18="","",IF(AF18="cp",1,"")) | BX18: =SUM(AS18:BW18) -> 0 | BY18: =IF(B18="","",IF(B18="AA",1,"")) | BZ18: =IF(C18="","",IF(C18="AA",1,"")) | CA18: =IF(D18="","",IF(D18="AA",1,"")) | CB18: =IF(E18="","",IF(E18="AA",1,"")) | CC18: =IF(F18="","",IF(F18="AA",1,"")) | CD18: =IF(G18="","",IF(G18="AA",1,"")) | CE18: =IF(H18="","",IF(H18="AA",1,"")) | CF18: =IF(I18="","",IF(I18="AA",1,"")) | ... DC18: =IF(AF18="","",IF(AF18="AA",1,"")) | DD18: =SUM(BY18:DC18) -> 0 | DE18: =IF(B18="","",IF(B18="MM",1,"")) | DF18: =IF(C18="","",IF(C18="MM",1,"")) | DG18: =IF(D18="","",IF(D18="MM",1,"")) | DH18: =IF(E18="","",IF(E18="MM",1,"")) | DI18: =IF(F18="","",IF(F18="MM",1,"")) | DJ18: =IF(G18="","",IF(G18="MM",1,"")) | DK18: =IF(H18="","",IF(H18="MM",1,"")) | DL18: =IF(I18="","",IF(I18="MM",1,"")) | ... EI18: =IF(AF18="","",IF(AF18="MM",1,"")) | EJ18: =SUM(DE18:EI18) -> 0 | EK18: =IF(B18="","",IF(B18="M",1,"")) | EL18: =IF(C18="","",IF(C18="M",1,"")) | EM18: =IF(D18="","",IF(D18="M",1,"")) | EN18: =IF(E18="","",IF(E18="M",1,"")) | EO18: =IF(F18="","",IF(F18="M",1,"")) | EP18: =IF(G18="","",IF(G18="M",1,"")) | EQ18: =IF(H18="","",IF(H18="M",1,"")) | ER18: =IF(I18="","",IF(I18="M",1,"")) | ... FO18: =IF(AF18="","",IF(AF18="M",1,"")) | FP18: =SUM(EK18:FO18) -> 0 | FQ18: =IF(B18="","",IF(B18="CE",1,"")) | FR18: =IF(C18="","",IF(C18="CE",1,"")) | FS18: =IF(D18="","",IF(D18="CE",1,"")) | FT18: =IF(E18="","",IF(E18="CE",1,"")) | FU18: =IF(F18="","",IF(F18="CE",1,"")) | FV18: =IF(G18="","",IF(G18="CE",1,"")) | FW18: =IF(H18="","",IF(H18="CE",1,"")) | FX18: =IF(I18="","",IF(I18="CE",1,"")) | ... GU18: =IF(AF18="","",IF(AF18="CE",1,"")) | GV18: =SUM(FQ18:GU18) -> 0 | GW18: =IF(B18="","",IF(B18="A",1,"")) | GX18: =IF(C18="","",IF(C18="A",1,"")) | GY18: =IF(D18="","",IF(D18="A",1,"")) | GZ18: =IF(E18="","",IF(E18="A",1,"")) | HA18: =IF(F18="","",IF(F18="A",1,"")) | HB18: =IF(G18="","",IF(G18="A",1,"")) | HC18: =IF(H18="","",IF(H18="A",1,"")) | HD18: =IF(I18="","",IF(I18="A",1,"")) | ... IA18: =IF(AF18="","",IF(AF18="A",1,"")) | IB18: =SUM(GW18:IA18) -> 0 | IC18: =IF(B18="","",IF(B18="ES",1,"")) | ID18: =IF(C18="","",IF(C18="ES",1,"")) | IE18: =IF(D18="","",IF(D18="ES",1,"")) | IF18: =IF(E18="","",IF(E18="ES",1,"")) | IG18: =IF(F18="","",IF(F18="ES",1,"")) | IH18: =IF(G18="","",IF(G18="ES",1,"")) | II18: =IF(H18="","",IF(H18="ES",1,"")) | IJ18: =IF(I18="","",IF(I18="ES",1,"")) | ... JG18: =IF(AF18="","",IF(AF18="ES",1,"")) | JH18: =SUM(IC18:JG18) -> 0 | JI18: =IF(B18="","",IF(B18="2cp",0.5,"")) | JJ18: =IF(C18="","",IF(C18="2cp",0.5,"")) | JK18: =IF(D18="","",IF(D18="2cp",0.5,"")) | JL18: =IF(E18="","",IF(E18="2cp",0.5,"")) | JM18: =IF(F18="","",IF(F18="2cp",0.5,"")) | JN18: =IF(G18="","",IF(G18="2cp",0.5,"")) | JO18: =IF(H18="","",IF(H18="2cp",0.5,"")) | JP18: =IF(I18="","",IF(I18="2cp",0.5,"")) | ... KM18: =IF(AF18="","",IF(AF18="2cp",0.5,"")) | KN18: =SUM(JI18:KM18) -> 0
A19: =IF('Salariés en activités'!A21="","",'Salariés en activités'!A21) -> CASSE Tout | AG19: =IF(A19="","",'Salariés en activités'!H21) -> 151,67 | AH19: =IF(A19="",0,IF(DD19=0,0,IF(DD19>20,AG19,(DD19*(AG19/4.333333/5))))) -> 0 | AI19: =IF(A19="",0,IF(IB19=0,0,IF(IB19>20,AG19,IB19*(AG19/4.33333/5)))) -> 0 | AK19: =IF(A19="","",JH19) -> 0 | AL19: =IF(A19="","",GV19) -> 0 | AM19: =IF(A19="","",IF(BX19+KN19=0,"",BX19+KN19)) | AN19: =IF(A19="","",IF(FP19=0,"",FP19)) | AO19: =IF(A19="","",EJ19) -> 0 | AP19: =IF(A19="","",IF(AG19>1,IF(AR19="",2.5,IF(A19="","",2.5*((AG19-AR19)/AG19))),"")) -> 2.5 | AQ19: =AG19-(AH19+AI19) -> 151.67 | AR19: =IF(AH19+AI19+AK19>1,AH19+AI19+(AK19*AG19/4.333333/5),"") | AS19: =IF(B19="","",IF(B19="cp",1,"")) | AT19: =IF(C19="","",IF(C19="cp",1,"")) | AU19: =IF(D19="","",IF(D19="cp",1,"")) | AV19: =IF(E19="","",IF(E19="cp",1,"")) | AW19: =IF(F19="","",IF(F19="cp",1,"")) | AX19: =IF(G19="","",IF(G19="cp",1,"")) | AY19: =IF(H19="","",IF(H19="cp",1,"")) | AZ19: =IF(I19="","",IF(I19="cp",1,"")) | ... BW19: =IF(AF19="","",IF(AF19="cp",1,"")) | BX19: =SUM(AS19:BW19) -> 0 | BY19: =IF(B19="","",IF(B19="AA",1,"")) | BZ19: =IF(C19="","",IF(C19="AA",1,"")) | CA19: =IF(D19="","",IF(D19="AA",1,"")) | CB19: =IF(E19="","",IF(E19="AA",1,"")) | CC19: =IF(F19="","",IF(F19="AA",1,"")) | CD19: =IF(G19="","",IF(G19="AA",1,"")) | CE19: =IF(H19="","",IF(H19="AA",1,"")) | CF19: =IF(I19="","",IF(I19="AA",1,"")) | ... DC19: =IF(AF19="","",IF(AF19="AA",1,"")) | DD19: =SUM(BY19:DC19) -> 0 | DE19: =IF(B19="","",IF(B19="MM",1,"")) | DF19: =IF(C19="","",IF(C19="MM",1,"")) | DG19: =IF(D19="","",IF(D19="MM",1,"")) | DH19: =IF(E19="","",IF(E19="MM",1,"")) | DI19: =IF(F19="","",IF(F19="MM",1,"")) | DJ19: =IF(G19="","",IF(G19="MM",1,"")) | DK19: =IF(H19="","",IF(H19="MM",1,"")) | DL19: =IF(I19="","",IF(I19="MM",1,"")) | ... EI19: =IF(AF19="","",IF(AF19="MM",1,"")) | EJ19: =SUM(DE19:EI19) -> 0 | EK19: =IF(B19="","",IF(B19="M",1,"")) | EL19: =IF(C19="","",IF(C19="M",1,"")) | EM19: =IF(D19="","",IF(D19="M",1,"")) | EN19: =IF(E19="","",IF(E19="M",1,"")) | EO19: =IF(F19="","",IF(F19="M",1,"")) | EP19: =IF(G19="","",IF(G19="M",1,"")) | EQ19: =IF(H19="","",IF(H19="M",1,"")) | ER19: =IF(I19="","",IF(I19="M",1,"")) | ... FO19: =IF(AF19="","",IF(AF19="M",1,"")) | FP19: =SUM(EK19:FO19) -> 0 | FQ19: =IF(B19="","",IF(B19="CE",1,"")) | FR19: =IF(C19="","",IF(C19="CE",1,"")) | FS19: =IF(D19="","",IF(D19="CE",1,"")) | FT19: =IF(E19="","",IF(E19="CE",1,"")) | FU19: =IF(F19="","",IF(F19="CE",1,"")) | FV19: =IF(G19="","",IF(G19="CE",1,"")) | FW19: =IF(H19="","",IF(H19="CE",1,"")) | FX19: =IF(I19="","",IF(I19="CE",1,"")) | ... GU19: =IF(AF19="","",IF(AF19="CE",1,"")) | GV19: =SUM(FQ19:GU19) -> 0 | GW19: =IF(B19="","",IF(B19="A",1,"")) | GX19: =IF(C19="","",IF(C19="A",1,"")) | GY19: =IF(D19="","",IF(D19="A",1,"")) | GZ19: =IF(E19="","",IF(E19="A",1,"")) | HA19: =IF(F19="","",IF(F19="A",1,"")) | HB19: =IF(G19="","",IF(G19="A",1,"")) | HC19: =IF(H19="","",IF(H19="A",1,"")) | HD19: =IF(I19="","",IF(I19="A",1,"")) | ... IA19: =IF(AF19="","",IF(AF19="A",1,"")) | IB19: =SUM(GW19:IA19) -> 0 | IC19: =IF(B19="","",IF(B19="ES",1,"")) | ID19: =IF(C19="","",IF(C19="ES",1,"")) | IE19: =IF(D19="","",IF(D19="ES",1,"")) | IF19: =IF(E19="","",IF(E19="ES",1,"")) | IG19: =IF(F19="","",IF(F19="ES",1,"")) | IH19: =IF(G19="","",IF(G19="ES",1,"")) | II19: =IF(H19="","",IF(H19="ES",1,"")) | IJ19: =IF(I19="","",IF(I19="ES",1,"")) | ... JG19: =IF(AF19="","",IF(AF19="ES",1,"")) | JH19: =SUM(IC19:JG19) -> 0 | JI19: =IF(B19="","",IF(B19="2cp",0.5,"")) | JJ19: =IF(C19="","",IF(C19="2cp",0.5,"")) | JK19: =IF(D19="","",IF(D19="2cp",0.5,"")) | JL19: =IF(E19="","",IF(E19="2cp",0.5,"")) | JM19: =IF(F19="","",IF(F19="2cp",0.5,"")) | JN19: =IF(G19="","",IF(G19="2cp",0.5,"")) | JO19: =IF(H19="","",IF(H19="2cp",0.5,"")) | JP19: =IF(I19="","",IF(I19="2cp",0.5,"")) | ... KM19: =IF(AF19="","",IF(AF19="2cp",0.5,"")) | KN19: =SUM(JI19:KM19) -> 0
... A26: =IF('Salariés en activités'!A28="","",'Salariés en activités'!A28) | AG26: =IF(A26="","",'Salariés en activités'!H28) | AH26: =IF(A26="",0,IF(DD26=0,0,IF(DD26>20,AG26,(DD26*(AG26/4.333333/5))))) -> 0 | AI26: =IF(A26="",0,IF(IB26=0,0,IF(IB26>20,AG26,IB26*(AG26/4.33333/5)))) -> 0 | AK26: =IF(A26="","",JH26) | AL26: =IF(A26="","",GV26) | AM26: =IF(A26="","",IF(BX26+KN26=0,"",BX26+KN26)) | AN26: =IF(A26="","",IF(FP26=0,"",FP26)) | AO26: =IF(A26="","",EJ26) | AP26: =IF(A26="","",IF(AG26>1,IF(AR26="",2.5,IF(A26="","",2.5*((AG26-AR26)/AG26))),"")) | AQ26: =AG26-(AH26+AI26) -> #VALUE! | AR26: =IF(AH26+AI26+AK26>1,AH26+AI26+(AK26*AG26/4.333333/5),"") -> #VALUE! | AS26: =IF(B26="","",IF(B26="cp",1,"")) | AT26: =IF(C26="","",IF(C26="cp",1,"")) | AU26: =IF(D26="","",IF(D26="cp",1,"")) | AV26: =IF(E26="","",IF(E26="cp",1,"")) | AW26: =IF(F26="","",IF(F26="cp",1,"")) | AX26: =IF(G26="","",IF(G26="cp",1,"")) | AY26: =IF(H26="","",IF(H26="cp",1,"")) | AZ26: =IF(I26="","",IF(I26="cp",1,"")) | ... BW26: =IF(AF26="","",IF(AF26="cp",1,"")) | BX26: =SUM(AS26:BW26) -> 0 | BY26: =IF(B26="","",IF(B26="AA",1,"")) | BZ26: =IF(C26="","",IF(C26="AA",1,"")) | CA26: =IF(D26="","",IF(D26="AA",1,"")) | CB26: =IF(E26="","",IF(E26="AA",1,"")) | CC26: =IF(F26="","",IF(F26="AA",1,"")) | CD26: =IF(G26="","",IF(G26="AA",1,"")) | CE26: =IF(H26="","",IF(H26="AA",1,"")) | CF26: =IF(I26="","",IF(I26="AA",1,"")) | ... DC26: =IF(AF26="","",IF(AF26="AA",1,"")) | DD26: =SUM(BY26:DC26) -> 0 | DE26: =IF(B26="","",IF(B26="MM",1,"")) | DF26: =IF(C26="","",IF(C26="MM",1,"")) | DG26: =IF(D26="","",IF(D26="MM",1,"")) | DH26: =IF(E26="","",IF(E26="MM",1,"")) | DI26: =IF(F26="","",IF(F26="MM",1,"")) | DJ26: =IF(G26="","",IF(G26="MM",1,"")) | DK26: =IF(H26="","",IF(H26="MM",1,"")) | DL26: =IF(I26="","",IF(I26="MM",1,"")) | ... EI26: =IF(AF26="","",IF(AF26="MM",1,"")) | EJ26: =SUM(DE26:EI26) -> 0 | EK26: =IF(B26="","",IF(B26="M",1,"")) | EL26: =IF(C26="","",IF(C26="M",1,"")) | EM26: =IF(D26="","",IF(D26="M",1,"")) | EN26: =IF(E26="","",IF(E26="M",1,"")) | EO26: =IF(F26="","",IF(F26="M",1,"")) | EP26: =IF(G26="","",IF(G26="M",1,"")) | EQ26: =IF(H26="","",IF(H26="M",1,"")) | ER26: =IF(I26="","",IF(I26="M",1,"")) | ... FO26: =IF(AF26="","",IF(AF26="M",1,"")) | FP26: =SUM(EK26:FO26) -> 0 | FQ26: =IF(B26="","",IF(B26="CE",1,"")) | FR26: =IF(C26="","",IF(C26="CE",1,"")) | FS26: =IF(D26="","",IF(D26="CE",1,"")) | FT26: =IF(E26="","",IF(E26="CE",1,"")) | FU26: =IF(F26="","",IF(F26="CE",1,"")) | FV26: =IF(G26="","",IF(G26="CE",1,"")) | FW26: =IF(H26="","",IF(H26="CE",1,"")) | FX26: =IF(I26="","",IF(I26="CE",1,"")) | ... GU26: =IF(AF26="","",IF(AF26="CE",1,"")) | GV26: =SUM(FQ26:GU26) -> 0 | GW26: =IF(B26="","",IF(B26="A",1,"")) | GX26: =IF(C26="","",IF(C26="A",1,"")) | GY26: =IF(D26="","",IF(D26="A",1,"")) | GZ26: =IF(E26="","",IF(E26="A",1,"")) | HA26: =IF(F26="","",IF(F26="A",1,"")) | HB26: =IF(G26="","",IF(G26="A",1,"")) | HC26: =IF(H26="","",IF(H26="A",1,"")) | HD26: =IF(I26="","",IF(I26="A",1,"")) | ... IA26: =IF(AF26="","",IF(AF26="A",1,"")) | IB26: =SUM(GW26:IA26) -> 0 | IC26: =IF(B26="","",IF(B26="ES",1,"")) | ID26: =IF(C26="","",IF(C26="ES",1,"")) | IE26: =IF(D26="","",IF(D26="ES",1,"")) | IF26: =IF(E26="","",IF(E26="ES",1,"")) | IG26: =IF(F26="","",IF(F26="ES",1,"")) | IH26: =IF(G26="","",IF(G26="ES",1,"")) | II26: =IF(H26="","",IF(H26="ES",1,"")) | IJ26: =IF(I26="","",IF(I26="ES",1,"")) | ... JG26: =IF(AF26="","",IF(AF26="ES",1,"")) | JH26: =SUM(IC26:JG26) -> 0 | JI26: =IF(B26="","",IF(B26="2cp",0.5,"")) | JJ26: =IF(C26="","",IF(C26="2cp",0.5,"")) | JK26: =IF(D26="","",IF(D26="2cp",0.5,"")) | JL26: =IF(E26="","",IF(E26="2cp",0.5,"")) | JM26: =IF(F26="","",IF(F26="2cp",0.5,"")) | JN26: =IF(G26="","",IF(G26="2cp",0.5,"")) | JO26: =IF(H26="","",IF(H26="2cp",0.5,"")) | JP26: =IF(I26="","",IF(I26="2cp",0.5,"")) | ... KM26: =IF(AF26="","",IF(AF26="2cp",0.5,"")) | KN26: =SUM(JI26:KM26) -> 0
B27: (1) congés acquis proratisés en fonction des absences non rémunérées, entrées ou sorties en cours de mois | AG27: Date : | BX27: =SUM(AS27:BW27) -> 0 | IB27: =SUM(GW27:IA27) -> 0 | IC27: =IF(B27="","",IF(B27="ES",1,"")) | ID27: =IF(C27="","",IF(C27="ES",1,"")) | IE27: =IF(D27="","",IF(D27="ES",1,"")) | IF27: =IF(E27="","",IF(E27="ES",1,"")) | IG27: =IF(F27="","",IF(F27="ES",1,"")) | IH27: =IF(G27="","",IF(G27="ES",1,"")) | II27: =IF(H27="","",IF(H27="ES",1,"")) | IJ27: =IF(I27="","",IF(I27="ES",1,"")) | ... JG27: =IF(AF27="","",IF(AF27="ES",1,"")) | JH27: =SUM(IC27:JG27) -> 0
B28: CP = | C28: Congés payés | BX28: =SUM(AS28:BW28) -> 0 | IB28: =SUM(GW28:IA28) -> 0 | IC28: =IF(B28="","",IF(B28="ES",1,"")) | ID28: =IF(C28="","",IF(C28="ES",1,"")) | IE28: =IF(D28="","",IF(D28="ES",1,"")) | IF28: =IF(E28="","",IF(E28="ES",1,"")) | IG28: =IF(F28="","",IF(F28="ES",1,"")) | IH28: =IF(G28="","",IF(G28="ES",1,"")) | II28: =IF(H28="","",IF(H28="ES",1,"")) | IJ28: =IF(I28="","",IF(I28="ES",1,"")) | ... JG28: =IF(AF28="","",IF(AF28="ES",1,"")) | JH28: =SUM(IC28:JG28) -> 0
B29: 2CP = | C29: Demi congés payés | BX29: =SUM(AS29:BW29) -> 0
B30: AA = | C30: Absences autorisées | BX30: =SUM(AS30:BW30) -> 0 | IB30: =SUM(GW30:IA30) -> 0 | IC30: =IF(B30="","",IF(B30="ES",1,"")) | ID30: =IF(C30="","",IF(C30="ES",1,"")) | IE30: =IF(D30="","",IF(D30="ES",1,"")) | IF30: =IF(E30="","",IF(E30="ES",1,"")) | IG30: =IF(F30="","",IF(F30="ES",1,"")) | IH30: =IF(G30="","",IF(G30="ES",1,"")) | II30: =IF(H30="","",IF(H30="ES",1,"")) | IJ30: =IF(I30="","",IF(I30="ES",1,"")) | ... JG30: =IF(AF30="","",IF(AF30="ES",1,"")) | JH30: =SUM(IC30:JG30) -> 0
B31: A = | C31: Absences non autorisées | BX31: =SUM(AS31:BW31) -> 0 | IB31: =SUM(GW31:IA31) -> 0 | IC31: =IF(B31="","",IF(B31="ES",1,"")) | ID31: =IF(C31="","",IF(C31="ES",1,"")) | IE31: =IF(D31="","",IF(D31="ES",1,"")) | IF31: =IF(E31="","",IF(E31="ES",1,"")) | IG31: =IF(F31="","",IF(F31="ES",1,"")) | IH31: =IF(G31="","",IF(G31="ES",1,"")) | II31: =IF(H31="","",IF(H31="ES",1,"")) | IJ31: =IF(I31="","",IF(I31="ES",1,"")) | ... JG31: =IF(AF31="","",IF(AF31="ES",1,"")) | JH31: =SUM(IC31:JG31) -> 0
B32: MM = | C32: Maladie maintenue | IB32: =SUM(GW32:IA32) -> 0 | IC32: =IF(B32="","",IF(B32="ES",1,"")) | ID32: =IF(C32="","",IF(C32="ES",1,"")) | IE32: =IF(D32="","",IF(D32="ES",1,"")) | IF32: =IF(E32="","",IF(E32="ES",1,"")) | IG32: =IF(F32="","",IF(F32="ES",1,"")) | IH32: =IF(G32="","",IF(G32="ES",1,"")) | II32: =IF(H32="","",IF(H32="ES",1,"")) | IJ32: =IF(I32="","",IF(I32="ES",1,"")) | ... JG32: =IF(AF32="","",IF(AF32="ES",1,"")) | JH32: =SUM(IC32:JG32) -> 0
B33: M = | C33: Maladie non maintenue | IB33: =SUM(GW33:IA33) -> 0 | IC33: =IF(B33="","",IF(B33="ES",1,"")) | ID33: =IF(C33="","",IF(C33="ES",1,"")) | IE33: =IF(D33="","",IF(D33="ES",1,"")) | IF33: =IF(E33="","",IF(E33="ES",1,"")) | IG33: =IF(F33="","",IF(F33="ES",1,"")) | IH33: =IF(G33="","",IF(G33="ES",1,"")) | II33: =IF(H33="","",IF(H33="ES",1,"")) | IJ33: =IF(I33="","",IF(I33="ES",1,"")) | ... JG33: =IF(AF33="","",IF(AF33="ES",1,"")) | JH33: =SUM(IC33:JG33) -> 0
B34: CE = | C34: Congés exceptionnels | IC34: =IF(B34="","",IF(B34="ES",1,"")) | ID34: =IF(C34="","",IF(C34="ES",1,"")) | IE34: =IF(D34="","",IF(D34="ES",1,"")) | IF34: =IF(E34="","",IF(E34="ES",1,"")) | IG34: =IF(F34="","",IF(F34="ES",1,"")) | IH34: =IF(G34="","",IF(G34="ES",1,"")) | II34: =IF(H34="","",IF(H34="ES",1,"")) | IJ34: =IF(I34="","",IF(I34="ES",1,"")) | ... JG34: =IF(AF34="","",IF(AF34="ES",1,"")) | JH34: =SUM(IC34:JG34) -> 0
A35: Commentaires :

Sheet Pointage 09
A2: ='Pointage 07'!A2 -> Société AN | B2: POINTAGE DU MOIS DE : | AH2: Septembre
A4: Nom et Prénom | B4: V | C4: S | D4: D | E4: L | F4: M | G4: M | H4: J | I4: V | J4: S | K4: D | L4: L | M4: M | N4: M | O4: J | P4: V | Q4: S | R4: D | S4: L | T4: M | U4: M | V4: J | W4: V | X4: S | Y4: D | Z4: L | AA4: M | AB4: M | AC4: J | AD4: V | AE4: S | AG4: Heures | AK4: Jours
B5: 1 | C5: 2 | D5: 3 | E5: 4 | F5: 5 | G5: 6 | H5: 7 | I5: 8 | J5: 9 | K5: 10 | L5: 11 | M5: 12 | N5: 13 | O5: 14 | P5: 15 | Q5: 16 | R5: 17 | S5: 18 | T5: 19 | U5: 20 | V5: 21 | W5: 22 | X5: 23 | Y5: 24 | Z5: 25 | AA5: 26 | AB5: 27 | AC5: 28 | AD5: 29 | AE5: 30 | AG5: Mensualisation | AH5: ABS autorisées | AI5: ABS non Autorisées | AJ5: Heures supplém. | AK5: Abs Entrée / sortie | AL5: Congés spéciaux | AM5: Congés payés | AN5: Maladie ou AT | AP5: Congés acquis (1)
AN6: M | AO6: MM
