Workbook

Sheet Journal d'informations
A3: Société AN | C3: Journal d'informations | J3: 42917
A7: Date de la demande | B7: Personnel AN | C7: Catégorie | D7: Informations | E7: Personnel Comptable | F7: Date prise en charge | G7: Prise en charge | I7: Commentaires

Sheet Salariés en activités
A2: Société AN | B2: Salariés en activités
G4: Saisi du comptable | J4: Saisi par AN
A6: Tableau des salariés en activités
A8: Nom, prénom | B8: Matricule | C8: Indice | D8: Coefficient | E8: Niveau | F8: Emploi | G8: Type de contrat | H8: Heures contractuelles | I8: Date de début | J8: Avenant | K8: Date de fin | L8: Mutuelle | M8: Adresse | N8: Numéro SS | O8: Date de naissance | P8: Lieu de naissance | Q8: Observations
A9: Vivian Thomas | B9: 00222 | C9: 5,90 | D9: 270 | E9: Assistant technique A | F9: Gardien déchetterie | G9: CDI | H9: 151,67 | I9: 40909
A10: SPAG Ethi | B10: 00468 | C10: SMIC | E10: Assistant technique A | F10: Chauffeur PL | G10: CDDI | H10: 151,67 | I10: 42647 | J10: 42770 | K10: 43011
A11: RAT Dominique | B11: 00001 | C11: 5,90 | D11: 480 | E11: Directeur B | F11: Directeur | G11: CDI | H11: 75,84 | I11: 40787
A12: PIROUETTE Cacahuete | B12: 00107 | C12: 5,90 | D12: 340 | E12: Coordinateur A | F12: Assistante de direction | G12: CDI | H12: 151,67 | I12: 42681
A13: ORDI Nathan | B13: 00134 | C13: 5,90 | D13: 280 | E13: Assistant technique A | F13: Gardien déchetterie | G13: CDI | H13: 151,67 | I13: 40909
A14: MACHE Yves | B14: 00458 | C14: SMIC | E14: Assistant technique A | F14: Chauffeur PL | G14: CDDI | H14: 151,67 | I14: 42492 | J14: 42737 | K14: 42979
A15: KIP And | B15: 00152 | C15: 5,90 | D15: 270 | E15: Assistant technique A | F15: Gardien déchetterie | G15: CDI | H15: 151,67 | I15: 40909
A16: GIROU Gilles | B16: 00103 | C16: 5,90 | D16: 315 | E16: Encadrant A | F16: Responsable de collecte | G16: CDI | H16: 75,84 | I16: 40787
A17: GINO Gilles | B17: 00469 | C17: SMIC | E17: Assistant technique A | F17: Chauffeur PL | G17: CDDI | H17: 151,67 | I17: 42826 | K17: 31/07/2017 | Q17: Avenant prévu au 01/08/2017
A18: Dupont Jack | B18: 00482 | C18: SMIC | E18: Assistant technique A | F18: Chauffeur PL | G18: CDDI | H18: 151,67 | I18: 42917 | K18: 31/10/2017
A19: DION Celine | B19: 00166 | C19: 5,90 | D19: 275 | E19: Assistant technique A | F19: Gardien déchetterie | G19: CDI | H19: 151,67 | I19: 40909
A20: CHOUETTE Patrick | B20: 00465 | C20: 5,90 | D20: 253 | E20: Assistant technique A | F20: Gardien déchetterie | G20: CDI | H20: 151,67 | I20: 42919
A21: CASSE Tout | B21: 00279 | C21: 5,90 | D21: 265 | E21: Assistant technique A | F21: Gardien déchetterie | G21: CDI | H21: 151,67 | I21: 40909
A22: CARDIAQUE Philippe | B22: 00451 | C22: 5,90 | D22: 265 | E22: Assistant technique A | F22: Gardien déchetterie | G22: CDI | H22: 151,67 | I22: 40909
A23: CACA lol | B23: 00483 | C23: SMIC | E23: Assistant technique A | F23: Chauffeur PL | G23: CDDI | H23: 151,67 | I23: 42926 | K23: 43048
A24: BOULE Sophie | B24: 00480 | C24: SMIC | E24: Assistant technique A | F24: Chauffeur PL | G24: CDDI | H24: 151,67 | I24: 42917 | K24: 43039
A25: BOLO Nese | B25: 00467 | C25: SMIC | E25: Assistant technique A | F25: Chauffeur PL | G25: CDDI | H25: 151,67 | I25: 42647 | J25: 42890 | K25: 43011
A26: ADD Adrien | B26: 00462 | C26: 5,90 | D26: 255 | E26: Assistant technique A | F26: Gardien déchetterie | G26: CDI | H26: 151,67 | I26: 42646 | J26: 42828 | Q26: CDI au 03/04/2017

Sheet Suivi des congés
A2: Société AN | B2: Suivi des congés N
A3: Mois en cours | B3: juillet
B5: Solde | C5: 42855 | G5: 42886 | J5: 42916 | M5: 42947 | P5: 42978 | S5: 43008 | V5: 43039 | Y5: 43069 | AB5: 43100 | AE5: 43131 | AH5: 43159 | AK5: 43190 | AN5: N-1
B6: Congés | C6: Acquis | D6: Pris | E6: Solde | G6: Acquis | H6: Pris | I6: Solde | J6: Acquis | K6: Pris | L6: Solde | M6: Acquis | N6: Pris | O6: Solde | P6: Acquis | Q6: Pris | R6: Solde | S6: Acquis | T6: Pris | U6: Solde | V6: Acquis | W6: Pris | X6: Solde | Y6: Acquis | Z6: Pris | AA6: Solde | AB6: Acquis | AC6: Pris | AD6: Solde | AE6: Acquis | AF6: Pris | AG6: Solde | AH6: Acquis | AI6: Pris | AJ6: Solde | AK6: Acquis | AL6: Pris | AM6: Solde | AN6: Solde
A7: =IFERROR(INDEX('Salariés en activités'!A:A,MATCH(F7,'Salariés en activités'!B:B,0)),"") -> Vivian Thomas | B7: =IF($B$3="avril",E7,IF($B$3="mai",I7,IF($B$3="juin",L7,IF($B$3="juillet",O7,IF($B$3="aout",R7,IF($B$3="août",R7,IF($B$3="septembre",U7,IF($B$3="octobre",X7,IF($B$3="novembre",AA7,IF($B$3="décembre",AD7,IF($B$3="decembre",AD7,IF($B$3="janvier",AG7,IF($B$3="février",AJ7,IF($B$3="février",AJ7,IF($B$3="mars",AM7,""))))))))))))))) -> 10 | C7: =IF(A7="","",IF($C$5<'Salariés en activités'!I9,0,IF(A7="","",2.5+AN7))) -> 2.5 | E7: =IF(A7="","",IF(D7>0,C7-D7,IF(C7=2.5,2.5,C7-D7))) -> 2.5 | F7: =IF('Salariés en activités'!$B9<>"",'Salariés en activités'!$B9,"") -> 00222 | G7: =IF($G$5<'Salariés en activités'!$I$9,0,IF($A$7="","",2.5+E7)) -> 5 | I7: =IF(G7="","",IF(G7=2.5,2.5,G7-H7)) -> 5 | J7: =IF($J$5<'Salariés en activités'!I9,0,IF(A7="","",2.5+I7)) -> 7.5 | L7: =IF(J7="","",IF(J7=2.5,2.5,J7-K7)) -> 7.5 | M7: =IF($M$5<'Salariés en activités'!I9,0,IF(A7="","",'Pointage 07'!AP7+L7)) -> 10 | N7: ='Pointage 07'!AM7 | O7: =IF(N7="",M7,IF(N7>0,M7-N7,M7)) -> 10 | P7: =IF($P$5<'Salariés en activités'!I9,0,IF(A7="","",2.5+O7)) -> 12.5 | Q7: ='Pointage 08'!AM7 | R7: =IF(Q7="",P7,IF(Q7>0,P7-Q7)) -> 12.5 | S7: =IF($S$5<'Salariés en activités'!I9,0,IF(A7="","",2.5+R7)) -> 15 | T7: ='Pointage 09'!AM7 | U7: =IF(T7="",S7,IF(T7>0,S7-T7)) -> 15 | V7: =IF($V$5<'Salariés en activités'!I9,0,IF(A7="","",2.5+U7)) -> 17.5 | W7: ='Pointage 10'!AM7 | X7: =IF(W7="",V7,IF(W7>0,V7+W7)) -> 17.5 | Y7: =IF($Y$5<'Salariés en activités'!I9,0,IF(A7="","",2.5+X7)) -> 20 | Z7: ='Pointage 11'!AM7 | AA7: =IF(Z7="",Y7,IF(Z7>0,Y7-Z7)) -> 20 | AB7: =IF($AB$5<'Salariés en activités'!I9,0,IF(A7="","",2.5+AA7)) -> 22.5 | AC7: ='Pointage 12'!AM7 | AD7: =IF(AC7="",AB7,IF(AC7>0,AB7-AC7)) -> 22.5 | AE7: =IF($AE$5<'Salariés en activités'!I9,0,IF(A7="","",2.5+AD7)) -> 25 | AF7: ='Pointage 01'!AM7 | AG7: =IF(AF7="",AE7,IF(AF7>0,AE7-AF7)) -> 25 | AH7: =IF($AH$5<'Salariés en activités'!I9,0,IF(A7="","",2.5+AG7)) -> 27.5 | AI7: ='Pointage 02'!AM7 | AJ7: =IF(AI7="",AH7,IF(AI7>0,AH7-AI7)) -> 27.5 | AK7: =IF($AK$5<'Salariés en activités'!I9,0,IF(A7="","",2.5+AJ7)) -> 30 | AL7: ='Pointage 03'!AM7 | AM7: =IF(AL7="",AK7,IF(AL7>0,AK7-AL7)) -> 30 | AN7: 0
A8: =IFERROR(INDEX('Salariés en activités'!A:A,MATCH(F8,'Salariés en activités'!B:B,0)),"") -> SPAG Ethi | B8: =IF($B$3="avril",E8,IF($B$3="mai",I8,IF($B$3="juin",L8,IF($B$3="juillet",O8,IF($B$3="aout",R8,IF($B$3="août",R8,IF($B$3="septembre",U8,IF($B$3="octobre",X8,IF($B$3="novembre",AA8,IF($B$3="décembre",AD8,IF($B$3="decembre",AD8,IF($B$3="janvier",AG8,IF($B$3="février",AJ8,IF($B$3="février",AJ8,IF($B$3="mars",AM8,""))))))))))))))) -> 48 | C8: =IF(A8="","",IF($C$5<'Salariés en activités'!I10,0,IF(A8="","",2.5+AN8))) -> 46.5 | E8: =IF(A8="","",IF(D8>0,C8-D8,IF(C8=2.5,2.5,C8-D8))) -> 46.5 | F8: =IF('Salariés en activités'!B10<>"",'Salariés en activités'!B10,"") -> 00468 | G8: =IF($G$5<'Salariés en activités'!$I$10,0,IF($A$8="","",2.5+E8)) -> 49 | I8: =IF(G8="","",IF(G8=2.5,2.5,G8-H8)) -> 49 | J8: =IF($J$5<'Salariés en activités'!I10,0,IF(A8="","",2.5+I8)) -> 51.5 | K8: 6 | L8: =IF(J8="","",IF(J8=2.5,2.5,J8-K8)) -> 45.5 | M8: =IF($M$5<'Salariés en activités'!I10,0,IF(A8="","",'Pointage 07'!AP8+L8)) -> 48 | N8: ='Pointage 07'!AM8 | O8: =IF(N8="",M8,IF(N8>0,M8-N8,M8)) -> 48 | P8: =IF($P$5<'Salariés en activités'!I10,0,IF(A8="","",2.5+O8)) -> 50.5 | Q8: ='Pointage 08'!AM8 | R8: =IF(Q8="",P8,IF(Q8>0,P8-Q8)) -> 50.5 | S8: =IF($S$5<'Salariés en activités'!I10,0,IF(A8="","",2.5+R8)) -> 53 | T8: ='Pointage 09'!AM8 | U8: =IF(T8="",S8,IF(T8>0,S8-T8)) -> 53 | V8: =IF($V$5<'Salariés en activités'!I10,0,IF(A8="","",2.5+U8)) -> 55.5 | W8: ='Pointage 10'!AM8 | X8: =IF(W8="",V8,IF(W8>0,V8+W8)) -> 55.5 | Y8: =IF($Y$5<'Salariés en activités'!I10,0,IF(A8="","",2.5+X8)) -> 58 | Z8: ='Pointage 11'!AM8 | AA8: =IF(Z8="",Y8,IF(Z8>0,Y8-Z8)) -> 58 | AB8: =IF($AB$5<'Salariés en activités'!I10,0,IF(A8="","",2.5+AA8)) -> 60.5 | AC8: ='Pointage 12'!AM8 | AD8: =IF(AC8="",AB8,IF(AC8>0,AB8-AC8)) -> 60.5 | AE8: =IF($AE$5<'Salariés en activités'!I10,0,IF(A8="","",2.5+AD8)) -> 63 | AF8: ='Pointage 01'!AM8 | AG8: =IF(AF8="",AE8,IF(AF8>0,AE8-AF8)) -> 63 | AH8: =IF($AH$5<'Salariés en activités'!I10,0,IF(A8="","",2.5+AG8)) -> 65.5 | AJ8: =IF(AI8="",AH8,IF(AI8>0,AH8-AI8)) -> 65.5 | AK8: =IF($AK$5<'Salariés en activités'!I10,0,IF(A8="","",2.5+AJ8)) -> 68 | AL8: ='Pointage 03'!AM8 | AM8: =IF(AL8="",AK8,IF(AL8>0,AK8-AL8)) -> 68 | AN8: 44
A9: =IFERROR(INDEX('Salariés en activités'!A:A,MATCH(F9,'Salariés en activités'!B:B,0)),"") -> RAT Dominique | B9: =IF($B$3="avril",E9,IF($B$3="mai",I9,IF($B$3="juin",L9,IF($B$3="juillet",O9,IF($B$3="aout",R9,IF($B$3="août",R9,IF($B$3="septembre",U9,IF($B$3="octobre",X9,IF($B$3="novembre",AA9,IF($B$3="décembre",AD9,IF($B$3="decembre",AD9,IF($B$3="janvier",AG9,IF($B$3="février",AJ9,IF($B$3="février",AJ9,IF($B$3="mars",AM9,""))))))))))))))) -> 22 | C9: =IF(A9="","",IF($C$5<'Salariés en activités'!I11,0,IF(A9="","",2.5+AN9))) -> 15.5 | E9: =IF(A9="","",IF(D9>0,C9-D9,IF(C9=2.5,2.5,C9-D9))) -> 15.5 | F9: =IF('Salariés en activités'!B11<>"",'Salariés en activités'!B11,"") -> 00001 | G9: =IF($G$5<'Salariés en activités'!I11,0,IF(A9="","",2.5+E9)) -> 18 | I9: =IF(G9="","",IF(G9=2.5,2.5,G9-H9)) -> 18 | J9: =IF($J$5<'Salariés en activités'!I11,0,IF(A9="","",2.5+I9)) -> 20.5 | K9: 1 | L9: =IF(J9="","",IF(J9=2.5,2.5,J9-K9)) -> 19.5 | M9: =IF($M$5<'Salariés en activités'!I11,0,IF(A9="","",'Pointage 07'!AP9+L9)) -> 22 | N9: ='Pointage 07'!AM9 | O9: =IF(N9="",M9,IF(N9>0,M9-N9,M9)) -> 22 | P9: =IF($P$5<'Salariés en activités'!I11,0,IF(A9="","",2.5+O9)) -> 24.5 | Q9: ='Pointage 08'!AM9 | R9: =IF(Q9="",P9,IF(Q9>0,P9-Q9)) -> 24.5 | S9: =IF($S$5<'Salariés en activités'!I11,0,IF(A9="","",2.5+R9)) -> 27 | T9: ='Pointage 09'!AM9 | U9: =IF(T9="",S9,IF(T9>0,S9-T9)) -> 27 | V9: =IF($V$5<'Salariés en activités'!I11,0,IF(A9="","",2.5+U9)) -> 29.5 | W9: ='Pointage 10'!AM9 | X9: =IF(W9="",V9,IF(W9>0,V9+W9)) -> 29.5 | Y9: =IF($Y$5<'Salariés en activités'!I11,0,IF(A9="","",2.5+X9)) -> 32 | Z9: ='Pointage 11'!AM9 | AA9: =IF(Z9="",Y9,IF(Z9>0,Y9-Z9)) -> 32 | AB9: =IF($AB$5<'Salariés en activités'!I11,0,IF(A9="","",2.5+AA9)) -> 34.5 | AC9: ='Pointage 12'!AM9 | AD9: =IF(AC9="",AB9,IF(AC9>0,AB9-AC9)) -> 34.5 | AE9: =IF($AE$5<'Salariés en activités'!I11,0,IF(A9="","",2.5+AD9)) -> 37 | AF9: ='Pointage 01'!AM9 | AG9: =IF(AF9="",AE9,IF(AF9>0,AE9-AF9)) -> 37 | AH9: =IF($AH$5<'Salariés en activités'!I11,0,IF(A9="","",2.5+AG9)) -> 39.5 | AJ9: =IF(AI9="",AH9,IF(AI9>0,AH9-AI9)) -> 39.5 | AK9: =IF($AK$5<'Salariés en activités'!I11,0,IF(A9="","",2.5+AJ9)) -> 42 | AL9: ='Pointage 03'!AM9 | AM9: =IF(AL9="",AK9,IF(AL9>0,AK9-AL9)) -> 42 | AN9: 13
A10: =IFERROR(INDEX('Salariés en activités'!A:A,MATCH(F10,'Salariés en activités'!B:B,0)),"") -> PIROUETTE Cacahuete | B10: =IF($B$3="avril",E10,IF($B$3="mai",I10,IF($B$3="juin",L10,IF($B$3="juillet",O10,IF($B$3="aout",R10,IF($B$3="août",R10,IF($B$3="septembre",U10,IF($B$3="octobre",X10,IF($B$3="novembre",AA10,IF($B$3="décembre",AD10,IF($B$3="decembre",AD10,IF($B$3="janvier",AG10,IF($B$3="février",AJ10,IF($B$3="février",AJ10,IF($B$3="mars",AM10,""))))))))))))))) -> 19.961538 | C10: =IF(A10="","",IF($C$5<'Salariés en activités'!I12,0,IF(A10="","",2.5+AN10))) -> 14.5 | E10: =IF(A10="","",IF(D10>0,C10-D10,IF(C10=2.5,2.5,C10-D10))) -> 14.5 | F10: =IF('Salariés en activités'!B12<>"",'Salariés en activités'!B12,"") -> 00107 | G10: =IF($G$5<'Salariés en activités'!I12,0,IF(A10="","",2.5+E10)) -> 17 | I10: =IF(G10="","",IF(G10=2.5,2.5,G10-H10)) -> 17 | J10: =IF($J$5<'Salariés en activités'!I12,0,IF(A10="","",2.5+I10)) -> 19.5 | K10: 1 | L10: =IF(J10="","",IF(J10=2.5,2.5,J10-K10)) -> 18.5 | M10: =IF($M$5<'Salariés en activités'!I12,0,IF(A10="","",'Pointage 07'!AP10+L10)) -> 19.961538 | N10: ='Pointage 07'!AM10 | O10: =IF(N10="",M10,IF(N10>0,M10-N10,M10)) -> 19.961538 | P10: =IF($P$5<'Salariés en activités'!I12,0,IF(A10="","",2.5+O10)) -> 22.461538 | Q10: ='Pointage 08'!AM10 | R10: =IF(Q10="",P10,IF(Q10>0,P10-Q10)) -> 22.461538 | S10: =IF($S$5<'Salariés en activités'!I12,0,IF(A10="","",2.5+R10)) -> 24.961538 | T10: ='Pointage 09'!AM10 | U10: =IF(T10="",S10,IF(T10>0,S10-T10)) -> 24.961538 | V10: =IF($V$5<'Salariés en activités'!I12,0,IF(A10="","",2.5+U10)) -> 27.461538 | W10: ='Pointage 10'!AM10 | X10: =IF(W10="",V10,IF(W10>0,V10+W10)) -> 27.461538 | Y10: =IF($Y$5<'Salariés en activités'!I12,0,IF(A10="","",2.5+X10)) -> 29.961538 | Z10: ='Pointage 11'!AM10 | AA10: =IF(Z10="",Y10,IF(Z10>0,Y10-Z10)) -> 29.961538 | AB10: =IF($AB$5<'Salariés en activités'!I12,0,IF(A10="","",2.5+AA10)) -> 32.461538 | AC10: ='Pointage 12'!AM10 | AD10: =IF(AC10="",AB10,IF(AC10>0,AB10-AC10)) -> 32.461538 | AE10: =IF($AE$5<'Salariés en activités'!I12,0,IF(A10="","",2.5+AD10)) -> 34.961538 | AF10: ='Pointage 01'!AM10 | AG10: =IF(AF10="",AE10,IF(AF10>0,AE10-AF10)) -> 34.961538 | AH10: =IF($AH$5<'Salariés en activités'!I12,0,IF(A10="","",2.5+AG10)) -> 37.461538 | AJ10: =IF(AI10="",AH10,IF(AI10>0,AH10-AI10)) -> 37.461538 | AK10: =IF($AK$5<'Salariés en activités'!I12,0,IF(A10="","",2.5+AJ10)) -> 39.961538 | AL10: ='Pointage 03'!AM10 | AM10: =IF(AL10="",AK10,IF(AL10>0,AK10-AL10)) -> 39.961538 | AN10: 12
A11: =IFERROR(INDEX('Salariés en activités'!A:A,MATCH(F11,'Salariés en activités'!B:B,0)),"") -> ORDI Nathan | B11: =IF($B$3="avril",E11,IF($B$3="mai",I11,IF($B$3="juin",L11,IF($B$3="juillet",O11,IF($B$3="aout",R11,IF($B$3="août",R11,IF($B$3="septembre",U11,IF($B$3="octobre",X11,IF($B$3="novembre",AA11,IF($B$3="décembre",AD11,IF($B$3="decembre",AD11,IF($B$3="janvier",AG11,IF($B$3="février",AJ11,IF($B$3="février",AJ11,IF($B$3="mars",AM11,""))))))))))))))) -> 45.5 | C11: =IF(A11="","",IF($C$5<'Salariés en activités'!I13,0,IF(A11="","",2.5+AN11))) -> 49 | E11: =IF(A11="","",IF(D11>0,C11-D11,IF(C11=2.5,2.5,C11-D11))) -> 49 | F11: =IF('Salariés en activités'!B13<>"",'Salariés en activités'!B13,"") -> 00134 | G11: =IF($G$5<'Salariés en activités'!I13,0,IF(A11="","",2.5+E11)) -> 51.5 | H11: 10 | I11: =IF(G11="","",IF(G11=2.5,2.5,G11-H11)) -> 41.5 | J11: =IF($J$5<'Salariés en activités'!I13,0,IF(A11="","",2.5+I11)) -> 44 | K11: 1 | L11: =IF(J11="","",IF(J11=2.5,2.5,J11-K11)) -> 43 | M11: =IF($M$5<'Salariés en activités'!I13,0,IF(A11="","",'Pointage 07'!AP11+L11)) -> 45.5 | N11: ='Pointage 07'!AM11 | O11: =IF(N11="",M11,IF(N11>0,M11-N11,M11)) -> 45.5 | P11: =IF($P$5<'Salariés en activités'!I13,0,IF(A11="","",2.5+O11)) -> 48 | Q11: ='Pointage 08'!AM11 | R11: =IF(Q11="",P11,IF(Q11>0,P11-Q11)) -> 48 | S11: =IF($S$5<'Salariés en activités'!I13,0,IF(A11="","",2.5+R11)) -> 50.5 | T11: ='Pointage 09'!AM11 | U11: =IF(T11="",S11,IF(T11>0,S11-T11)) -> 50.5 | V11: =IF($V$5<'Salariés en activités'!I13,0,IF(A11="","",2.5+U11)) -> 53 | W11: ='Pointage 10'!AM11 | X11: =IF(W11="",V11,IF(W11>0,V11+W11)) -> 53 | Y11: =IF($Y$5<'Salariés en activités'!I13,0,IF(A11="","",2.5+X11)) -> 55.5 | Z11: ='Pointage 11'!AM11 | AA11: =IF(Z11="",Y11,IF(Z11>0,Y11-Z11)) -> 55.5 | AB11: =IF($AB$5<'Salariés en activités'!I13,0,IF(A11="","",2.5+AA11)) -> 58 | AC11: ='Pointage 12'!AM11 | AD11: =IF(AC11="",AB11,IF(AC11>0,AB11-AC11)) -> 58 | AE11: =IF($AE$5<'Salariés en activités'!I13,0,IF(A11="","",2.5+AD11)) -> 60.5 | AF11: ='Pointage 01'!AM11 | AG11: =IF(AF11="",AE11,IF(AF11>0,AE11-AF11)) -> 60.5 | AH11: =IF($AH$5<'Salariés en activités'!I13,0,IF(A11="","",2.5+AG11)) -> 63 | AJ11: =IF(AI11="",AH11,IF(AI11>0,AH11-AI11)) -> 63 | AK11: =IF($AK$5<'Salariés en activités'!I13,0,IF(A11="","",2.5+AJ11)) -> 65.5 | AL11: ='Pointage 03'!AM11 | AM11: =IF(AL11="",AK11,IF(AL11>0,AK11-AL11)) -> 65.5 | AN11: 46.5
A12: =IFERROR(INDEX('Salariés en activités'!A:A,MATCH(F12,'Salariés en activités'!B:B,0)),"") -> MACHE Yves | B12: =IF($B$3="avril",E12,IF($B$3="mai",I12,IF($B$3="juin",L12,IF($B$3="juillet",O12,IF($B$3="aout",R12,IF($B$3="août",R12,IF($B$3="septembre",U12,IF($B$3="octobre",X12,IF($B$3="novembre",AA12,IF($B$3="décembre",AD12,IF($B$3="decembre",AD12,IF($B$3="janvier",AG12,IF($B$3="février",AJ12,IF($B$3="février",AJ12,IF($B$3="mars",AM12,""))))))))))))))) -> 51.5 | C12: =IF(A12="","",IF($C$5<'Salariés en activités'!I14,0,IF(A12="","",2.5+AN12))) -> 50 | D12: 3 | E12: =IF(A12="","",IF(D12>0,C12-D12,IF(C12=2.5,2.5,C12-D12))) -> 47 | F12: =IF('Salariés en activités'!B14<>"",'Salariés en activités'!B14,"") -> 00458 | G12: =IF($G$5<'Salariés en activités'!I14,0,IF(A12="","",2.5+E12)) -> 49.5 | I12: =IF(G12="","",IF(G12=2.5,2.5,G12-H12)) -> 49.5 | J12: =IF($J$5<'Salariés en activités'!I14,0,IF(A12="","",2.5+I12)) -> 52 | K12: 2 | L12: =IF(J12="","",IF(J12=2.5,2.5,J12-K12)) -> 50 | M12: =IF($M$5<'Salariés en activités'!I14,0,IF(A12="","",'Pointage 07'!AP12+L12)) -> 52.5 | N12: ='Pointage 07'!AM12 -> 1 | O12: =IF(N12="",M12,IF(N12>0,M12-N12,M12)) -> 51.5 | P12: =IF($P$5<'Salariés en activités'!I14,0,IF(A12="","",2.5+O12)) -> 54 | Q12: ='Pointage 08'!AM12 | R12: =IF(Q12="",P12,IF(Q12>0,P12-Q12)) -> 54 | S12: =IF($S$5<'Salariés en activités'!I14,0,IF(A12="","",2.5+R12)) -> 56.5 | T12: ='Pointage 09'!AM12 | U12: =IF(T12="",S12,IF(T12>0,S12-T12)) -> 56.5 | V12: =IF($V$5<'Salariés en activités'!I14,0,IF(A12="","",2.5+U12)) -> 59 | W12: ='Pointage 10'!AM12 | X12: =IF(W12="",V12,IF(W12>0,V12+W12)) -> 59 | Y12: =IF($Y$5<'Salariés en activités'!I14,0,IF(A12="","",2.5+X12)) -> 61.5 | Z12: ='Pointage 11'!AM12 | AA12: =IF(Z12="",Y12,IF(Z12>0,Y12-Z12)) -> 61.5 | AB12: =IF($AB$5<'Salariés en activités'!I14,0,IF(A12="","",2.5+AA12)) -> 64 | AC12: ='Pointage 12'!AM12 | AD12: =IF(AC12="",AB12,IF(AC12>0,AB12-AC12)) -> 64 | AE12: =IF($AE$5<'Salariés en activités'!I14,0,IF(A12="","",2.5+AD12)) -> 66.5 | AF12: ='Pointage 01'!AM12 | AG12: =IF(AF12="",AE12,IF(AF12>0,AE12-AF12)) -> 66.5 | AH12: =IF($AH$5<'Salariés en activités'!I14,0,IF(A12="","",2.5+AG12)) -> 69 | AJ12: =IF(AI12="",AH12,IF(AI12>0,AH12-AI12)) -> 69 | AK12: =IF($AK$5<'Salariés en activités'!I14,0,IF(A12="","",2.5+AJ12)) -> 71.5 | AL12: ='Pointage 03'!AM12 | AM12: =IF(AL12="",AK12,IF(AL12>0,AK12-AL12)) -> 71.5 | AN12: 47.5
A13: =IFERROR(INDEX('Salariés en activités'!A:A,MATCH(F13,'Salariés en activités'!B:B,0)),"") -> KIP And | B13: =IF($B$3="avril",E13,IF($B$3="mai",I13,IF($B$3="juin",L13,IF($B$3="juillet",O13,IF($B$3="aout",R13,IF($B$3="août",R13,IF($B$3="septembre",U13,IF($B$3="octobre",X13,IF($B$3="novembre",AA13,IF($B$3="décembre",AD13,IF($B$3="decembre",AD13,IF($B$3="janvier",AG13,IF($B$3="février",AJ13,IF($B$3="février",AJ13,IF($B$3="mars",AM13,""))))))))))))))) -> 5.5 | C13: =IF(A13="","",IF($C$5<'Salariés en activités'!I15,0,IF(A13="","",2.5+AN13))) -> 8.5 | E13: =IF(A13="","",IF(D13>0,C13-D13,IF(C13=2.5,2.5,C13-D13))) -> 8.5 | F13: =IF('Salariés en activités'!B15<>"",'Salariés en activités'!B15,"") -> 00152 | G13: =IF($G$5<'Salariés en activités'!I15,0,IF(A13="","",2.5+E13)) -> 11 | I13: =IF(G13="","",IF(G13=2.5,2.5,G13-H13)) -> 11 | J13: =IF($J$5<'Salariés en activités'!I15,0,IF(A13="","",2.5+I13)) -> 13.5 | K13: 2 | L13: =IF(J13="","",IF(J13=2.5,2.5,J13-K13)) -> 11.5 | M13: =IF($M$5<'Salariés en activités'!I15,0,IF(A13="","",'Pointage 07'!AP13+L13)) -> 14 | N13: ='Pointage 07'!AM13 -> 8.5 | O13: =IF(N13="",M13,IF(N13>0,M13-N13,M13)) -> 5.5 | P13: =IF($P$5<'Salariés en activités'!I15,0,IF(A13="","",2.5+O13)) -> 8 | Q13: ='Pointage 08'!AM13 | R13: =IF(Q13="",P13,IF(Q13>0,P13-Q13)) -> 8 | S13: =IF($S$5<'Salariés en activités'!I15,0,IF(A13="","",2.5+R13)) -> 10.5 | T13: ='Pointage 09'!AM13 | U13: =IF(T13="",S13,IF(T13>0,S13-T13)) -> 10.5 | V13: =IF($V$5<'Salariés en activités'!I15,0,IF(A13="","",2.5+U13)) -> 13 | W13: ='Pointage 10'!AM13 | X13: =IF(W13="",V13,IF(W13>0,V13+W13)) -> 13 | Y13: =IF($Y$5<'Salariés en activités'!I15,0,IF(A13="","",2.5+X13)) -> 15.5 | Z13: ='Pointage 11'!AM13 | AA13: =IF(Z13="",Y13,IF(Z13>0,Y13-Z13)) -> 15.5 | AB13: =IF($AB$5<'Salariés en activités'!I15,0,IF(A13="","",2.5+AA13)) -> 18 | AC13: ='Pointage 12'!AM13 | AD13: =IF(AC13="",AB13,IF(AC13>0,AB13-AC13)) -> 18 | AE13: =IF($AE$5<'Salariés en activités'!I15,0,IF(A13="","",2.5+AD13)) -> 20.5 | AF13: ='Pointage 01'!AM13 | AG13: =IF(AF13="",AE13,IF(AF13>0,AE13-AF13)) -> 20.5 | AH13: =IF($AH$5<'Salariés en activités'!I15,0,IF(A13="","",2.5+AG13)) -> 23 | AJ13: =IF(AI13="",AH13,IF(AI13>0,AH13-AI13)) -> 23 | AK13: =IF($AK$5<'Salariés en activités'!I15,0,IF(A13="","",2.5+AJ13)) -> 25.5 | AL13: ='Pointage 03'!AM13 | AM13: =IF(AL13="",AK13,IF(AL13>0,AK13-AL13)) -> 25.5 | AN13: 6
A14: =IFERROR(INDEX('Salariés en activités'!A:A,MATCH(F14,'Salariés en activités'!B:B,0)),"") -> GIROU Gilles | B14: =IF($B$3="avril",E14,IF($B$3="mai",I14,IF($B$3="juin",L14,IF($B$3="juillet",O14,IF($B$3="aout",R14,IF($B$3="août",R14,IF($B$3="septembre",U14,IF($B$3="octobre",X14,IF($B$3="novembre",AA14,IF($B$3="décembre",AD14,IF($B$3="decembre",AD14,IF($B$3="janvier",AG14,IF($B$3="février",AJ14,IF($B$3="février",AJ14,IF($B$3="mars",AM14,""))))))))))))))) -> 2 | C14: =IF(A14="","",IF($C$5<'Salariés en activités'!I16,0,IF(A14="","",2.5+AN14))) -> 2.5 | E14: =IF(A14="","",IF(D14>0,C14-D14,IF(C14=2.5,2.5,C14-D14))) -> 2.5 | F14: =IF('Salariés en activités'!B16<>"",'Salariés en activités'!B16,"") -> 00103 | G14: =IF($G$5<'Salariés en activités'!I16,0,IF(A14="","",2.5+E14)) -> 5 | I14: =IF(G14="","",IF(G14=2.5,2.5,G14-H14)) -> 5 | J14: =IF($J$5<'Salariés en activités'!I16,0,IF(A14="","",2.5+I14)) -> 7.5 | K14: 8 | L14: =IF(J14="","",IF(J14=2.5,2.5,J14-K14)) -> -0.5 | M14: =IF($M$5<'Salariés en activités'!I16,0,IF(A14="","",'Pointage 07'!AP14+L14)) -> 2 | N14: ='Pointage 07'!AM14 | O14: =IF(N14="",M14,IF(N14>0,M14-N14,M14)) -> 2 | P14: =IF($P$5<'Salariés en activités'!I16,0,IF(A14="","",2.5+O14)) -> 4.5 | Q14: ='Pointage 08'!AM14 | R14: =IF(Q14="",P14,IF(Q14>0,P14-Q14)) -> 4.5 | S14: =IF($S$5<'Salariés en activités'!I16,0,IF(A14="","",2.5+R14)) -> 7 | T14: ='Pointage 09'!AM14 | U14: =IF(T14="",S14,IF(T14>0,S14-T14)) -> 7 | V14: =IF($V$5<'Salariés en activités'!I16,0,IF(A14="","",2.5+U14)) -> 9.5 | W14: ='Pointage 10'!AM14 | X14: =IF(W14="",V14,IF(W14>0,V14+W14)) -> 9.5 | Y14: =IF($Y$5<'Salariés en activités'!I16,0,IF(A14="","",2.5+X14)) -> 12 | Z14: ='Pointage 11'!AM14 | AA14: =IF(Z14="",Y14,IF(Z14>0,Y14-Z14)) -> 12 | AB14: =IF($AB$5<'Salariés en activités'!I16,0,IF(A14="","",2.5+AA14)) -> 14.5 | AC14: ='Pointage 12'!AM14 | AD14: =IF(AC14="",AB14,IF(AC14>0,AB14-AC14)) -> 14.5 | AE14: =IF($AE$5<'Salariés en activités'!I16,0,IF(A14="","",2.5+AD14)) -> 17 | AF14: ='Pointage 01'!AM14 | AG14: =IF(AF14="",AE14,IF(AF14>0,AE14-AF14)) -> 17 | AH14: =IF($AH$5<'Salariés en activités'!I16,0,IF(A14="","",2.5+AG14)) -> 19.5 | AJ14: =IF(AI14="",AH14,IF(AI14>0,AH14-AI14)) -> 19.5 | AK14: =IF($AK$5<'Salariés en activités'!I16,0,IF(A14="","",2.5+AJ14)) -> 22 | AL14: ='Pointage 03'!AM14 | AM14: =IF(AL14="",AK14,IF(AL14>0,AK14-AL14)) -> 22 | AN14: 0
A15: =IFERROR(INDEX('Salariés en activités'!A:A,MATCH(F15,'Salariés en activités'!B:B,0)),"") -> GINO Gilles | B15: =IF($B$3="avril",E15,IF($B$3="mai",I15,IF($B$3="juin",L15,IF($B$3="juillet",O15,IF($B$3="aout",R15,IF($B$3="août",R15,IF($B$3="septembre",U15,IF($B$3="octobre",X15,IF($B$3="novembre",AA15,IF($B$3="décembre",AD15,IF($B$3="decembre",AD15,IF($B$3="janvier",AG15,IF($B$3="février",AJ15,IF($B$3="février",AJ15,IF($B$3="mars",AM15,""))))))))))))))) -> 51 | C15: =IF(A15="","",IF($C$5<'Salariés en activités'!I17,0,IF(A15="","",2.5+AN15))) -> 53.5 | D15: 1 | E15: =IF(A15="","",IF(D15>0,C15-D15,IF(C15=2.5,2.5,C15-D15))) -> 52.5 | F15: =IF('Salariés en activités'!B17<>"",'Salariés en activités'!B17,"") -> 00469 | G15: =IF($G$5<'Salariés en activités'!I17,0,IF(A15="","",2.5+E15)) -> 55 | H15: 1 | I15: =IF(G15="","",IF(G15=2.5,2.5,G15-H15)) -> 54 | J15: =IF($J$5<'Salariés en activités'!I17,0,IF(A15="","",2.5+I15)) -> 56.5 | K15: 8 | L15: =IF(J15="","",IF(J15=2.5,2.5,J15-K15)) -> 48.5 | M15: =IF($M$5<'Salariés en activités'!I17,0,IF(A15="","",'Pointage 07'!AP15+L15)) -> 51 | N15: ='Pointage 07'!AM15 | O15: =IF(N15="",M15,IF(N15>0,M15-N15,M15)) -> 51 | P15: =IF($P$5<'Salariés en activités'!I17,0,IF(A15="","",2.5+O15)) -> 53.5 | Q15: ='Pointage 08'!AM15 | R15: =IF(Q15="",P15,IF(Q15>0,P15-Q15)) -> 53.5 | S15: =IF($S$5<'Salariés en activités'!I17,0,IF(A15="","",2.5+R15)) -> 56 | T15: ='Pointage 09'!AM15 | U15: =IF(T15="",S15,IF(T15>0,S15-T15)) -> 56 | V15: =IF($V$5<'Salariés en activités'!I17,0,IF(A15="","",2.5+U15)) -> 58.5 | W15: ='Pointage 10'!AM15 | X15: =IF(W15="",V15,IF(W15>0,V15+W15)) -> 58.5 | Y15: =IF($Y$5<'Salariés en activités'!I17,0,IF(A15="","",2.5+X15)) -> 61 | Z15: ='Pointage 11'!AM15 | AA15: =IF(Z15="",Y15,IF(Z15>0,Y15-Z15)) -> 61 | AB15: =IF($AB$5<'Salariés en activités'!I17,0,IF(A15="","",2.5+AA15)) -> 63.5 | AC15: ='Pointage 12'!AM15 | AD15: =IF(AC15="",AB15,IF(AC15>0,AB15-AC15)) -> 63.5 | AE15: =IF($AE$5<'Salariés en activités'!I17,0,IF(A15="","",2.5+AD15)) -> 66 | AF15: ='Pointage 01'!AM15 | AG15: =IF(AF15="",AE15,IF(AF15>0,AE15-AF15)) -> 66 | AH15: =IF($AH$5<'Salariés en activités'!I17,0,IF(A15="","",2.5+AG15)) -> 68.5 | AJ15: =IF(AI15="",AH15,IF(AI15>0,AH15-AI15)) -> 68.5 | AK15: =IF($AK$5<'Salariés en activités'!I17,0,IF(A15="","",2.5+AJ15)) -> 71 | AL15: ='Pointage 03'!AM15 | AM15: =IF(AL15="",AK15,IF(AL15>0,AK15-AL15)) -> 71 | AN15: 51
A16: =IFERROR(INDEX('Salariés en activités'!A:A,MATCH(F16,'Salariés en activités'!B:B,0)),"") -> Dupont Jack | B16: =IF($B$3="avril",E16,IF($B$3="mai",I16,IF($B$3="juin",L16,IF($B$3="juillet",O16,IF($B$3="aout",R16,IF($B$3="août",R16,IF($B$3="septembre",U16,IF($B$3="octobre",X16,IF($B$3="novembre",AA16,IF($B$3="décembre",AD16,IF($B$3="decembre",AD16,IF($B$3="janvier",AG16,IF($B$3="février",AJ16,IF($B$3="février",AJ16,IF($B$3="mars",AM16,""))))))))))))))) -> 2.5 | C16: =IF(A16="","",IF($C$5<'Salariés en activités'!I18,0,IF(A16="","",2.5+AN16))) -> 0 | E16: =IF(A16="","",IF(D16>0,C16-D16,IF(C16=2.5,2.5,C16-D16))) -> 0 | F16: =IF('Salariés en activités'!B18<>"",'Salariés en activités'!B18,"") -> 00482 | G16: =IF($G$5<'Salariés en activités'!I18,0,IF(A16="","",2.5+E16)) -> 0 | I16: =IF(G16="","",IF(G16=2.5,2.5,G16-H16)) -> 0 | J16: =IF($J$5<'Salariés en activités'!I18,0,IF(A16="","",2.5+I16)) -> 0 | L16: =IF(J16="","",IF(J16=2.5,2.5,J16-K16)) -> 0 | M16: =IF($M$5<'Salariés en activités'!I18,0,IF(A16="","",'Pointage 07'!AP16+L16)) -> 2.5 | N16: ='Pointage 07'!AM16 | O16: =IF(N16="",M16,IF(N16>0,M16-N16,M16)) -> 2.5 | P16: =IF($P$5<'Salariés en activités'!I18,0,IF(A16="","",2.5+O16)) -> 5 | Q16: ='Pointage 08'!AM16 | R16: =IF(Q16="",P16,IF(Q16>0,P16-Q16)) -> 5 | S16: =IF($S$5<'Salariés en activités'!I18,0,IF(A16="","",2.5+R16)) -> 7.5 | T16: ='Pointage 09'!AM16 | U16: =IF(T16="",S16,IF(T16>0,S16-T16)) -> 7.5 | V16: =IF($V$5<'Salariés en activités'!I18,0,IF(A16="","",2.5+U16)) -> 10 | W16: ='Pointage 10'!AM16 | X16: =IF(W16="",V16,IF(W16>0,V16+W16)) -> 10 | Y16: =IF($Y$5<'Salariés en activités'!I18,0,IF(A16="","",2.5+X16)) -> 12.5 | Z16: ='Pointage 11'!AM16 | AA16: =IF(Z16="",Y16,IF(Z16>0,Y16-Z16)) -> 12.5 | AB16: =IF($AB$5<'Salariés en activités'!I18,0,IF(A16="","",2.5+AA16)) -> 15 | AC16: ='Pointage 12'!AM16 | AD16: =IF(AC16="",AB16,IF(AC16>0,AB16-AC16)) -> 15 | AE16: =IF($AE$5<'Salariés en activités'!I18,0,IF(A16="","",2.5+AD16)) -> 17.5 | AF16: ='Pointage 01'!AM16 | AG16: =IF(AF16="",AE16,IF(AF16>0,AE16-AF16)) -> 17.5 | AH16: =IF($AH$5<'Salariés en activités'!I18,0,IF(A16="","",2.5+AG16)) -> 20 | AJ16: =IF(AI16="",AH16,IF(AI16>0,AH16-AI16)) -> 20 | AK16: =IF($AK$5<'Salariés en activités'!I18,0,IF(A16="","",2.5+AJ16)) -> 22.5 | AL16: ='Pointage 03'!AM16 | AM16: =IF(AL16="",AK16,IF(AL16>0,AK16-AL16)) -> 22.5 | AN16: 0
A17: =IFERROR(INDEX('Salariés en activités'!A:A,MATCH(F17,'Salariés en activités'!B:B,0)),"") -> DION Celine | B17: =IF($B$3="avril",E17,IF($B$3="mai",I17,IF($B$3="juin",L17,IF($B$3="juillet",O17,IF($B$3="aout",R17,IF($B$3="août",R17,IF($B$3="septembre",U17,IF($B$3="octobre",X17,IF($B$3="novembre",AA17,IF($B$3="décembre",AD17,IF($B$3="decembre",AD17,IF($B$3="janvier",AG17,IF($B$3="février",AJ17,IF($B$3="février",AJ17,IF($B$3="mars",AM17,""))))))))))))))) -> 42.5 | C17: =IF(A17="","",IF($C$5<'Salariés en activités'!I19,0,IF(A17="","",2.5+AN17))) -> 46 | D17: 5 | E17: =IF(A17="","",IF(D17>0,C17-D17,IF(C17=2.5,2.5,C17-D17))) -> 41 | F17: =IF('Salariés en activités'!B19<>"",'Salariés en activités'!B19,"") -> 00166 | G17: =IF($G$5<'Salariés en activités'!I19,0,IF(A17="","",2.5+E17)) -> 43.5 | I17: =IF(G17="","",IF(G17=2.5,2.5,G17-H17)) -> 43.5 | J17: =IF($J$5<'Salariés en activités'!I19,0,IF(A17="","",2.5+I17)) -> 46 | K17: 1 | L17: =IF(J17="","",IF(J17=2.5,2.5,J17-K17)) -> 45 | M17: =IF($M$5<'Salariés en activités'!I19,0,IF(A17="","",'Pointage 07'!AP17+L17)) -> 47.5 | N17: ='Pointage 07'!AM17 -> 5 | O17: =IF(N17="",M17,IF(N17>0,M17-N17,M17)) -> 42.5 | P17: =IF($P$5<'Salariés en activités'!I19,0,IF(A17="","",2.5+O17)) -> 45 | Q17: ='Pointage 08'!AM17 | R17: =IF(Q17="",P17,IF(Q17>0,P17-Q17)) -> 45 | S17: =IF($S$5<'Salariés en activités'!I19,0,IF(A17="","",2.5+R17)) -> 47.5 | T17: ='Pointage 09'!AM17 | U17: =IF(T17="",S17,IF(T17>0,S17-T17)) -> 47.5 | V17: =IF($V$5<'Salariés en activités'!I19,0,IF(A17="","",2.5+U17)) -> 50 | W17: ='Pointage 10'!AM17 | X17: =IF(W17="",V17,IF(W17>0,V17+W17)) -> 50 | Y17: =IF($Y$5<'Salariés en activités'!I19,0,IF(A17="","",2.5+X17)) -> 52.5 | Z17: ='Pointage 11'!AM17 | AA17: =IF(Z17="",Y17,IF(Z17>0,Y17-Z17)) -> 52.5 | AB17: =IF($AB$5<'Salariés en activités'!I19,0,IF(A17="","",2.5+AA17)) -> 55 | AC17: ='Pointage 12'!AM17 | AD17: =IF(AC17="",AB17,IF(AC17>0,AB17-AC17)) -> 55 | AE17: =IF($AE$5<'Salariés en activités'!I19,0,IF(A17="","",2.5+AD17)) -> 57.5 | AF17: ='Pointage 01'!AM17 | AG17: =IF(AF17="",AE17,IF(AF17>0,AE17-AF17)) -> 57.5 | AH17: =IF($AH$5<'Salariés en activités'!I19,0,IF(A17="","",2.5+AG17)) -> 60 | AJ17: =IF(AI17="",AH17,IF(AI17>0,AH17-AI17)) -> 60 | AK17: =IF($AK$5<'Salariés en activités'!I19,0,IF(A17="","",2.5+AJ17)) -> 62.5 | AL17: ='Pointage 03'!AM17 | AM17: =IF(AL17="",AK17,IF(AL17>0,AK17-AL17)) -> 62.5 | AN17: 43.5
A18: =IFERROR(INDEX('Salariés en activités'!A:A,MATCH(F18,'Salariés en activités'!B:B,0)),"") -> CHOUETTE Patrick | B18: =IF($B$3="avril",E18,IF($B$3="mai",I18,IF($B$3="juin",L18,IF($B$3="juillet",O18,IF($B$3="aout",R18,IF($B$3="août",R18,IF($B$3="septembre",U18,IF($B$3="octobre",X18,IF($B$3="novembre",AA18,IF($B$3="décembre",AD18,IF($B$3="decembre",AD18,IF($B$3="janvier",AG18,IF($B$3="février",AJ18,IF($B$3="février",AJ18,IF($B$3="mars",AM18,""))))))))))))))) -> -10.5 | C18: =IF(A18="","",IF($C$5<'Salariés en activités'!I20,0,IF(A18="","",2.5+AN18))) -> 0 | D18: 6 | E18: =IF(A18="","",IF(D18>0,C18-D18,IF(C18=2.5,2.5,C18-D18))) -> -6 | F18: =IF('Salariés en activités'!B20<>"",'Salariés en activités'!B20,"") -> 00465 | G18: =IF($G$5<'Salariés en activités'!I20,0,IF(A18="","",2.5+E18)) -> 0 | I18: =IF(G18="","",IF(G18=2.5,2.5,G18-H18)) -> 0 | J18: =IF($J$5<'Salariés en activités'!I20,0,IF(A18="","",2.5+I18)) -> 0 | K18: 1 | L18: =IF(J18="","",IF(J18=2.5,2.5,J18-K18)) -> -1 | M18: =IF($M$5<'Salariés en activités'!I20,0,IF(A18="","",'Pointage 07'!AP18+L18)) -> 1.5 | N18: ='Pointage 07'!AM18 -> 12 | O18: =IF(N18="",M18,IF(N18>0,M18-N18,M18)) -> -10.5 | P18: =IF($P$5<'Salariés en activités'!I20,0,IF(A18="","",2.5+O18)) -> -8 | Q18: ='Pointage 08'!AM18 | R18: =IF(Q18="",P18,IF(Q18>0,P18-Q18)) -> -8 | S18: =IF($S$5<'Salariés en activités'!I20,0,IF(A18="","",2.5+R18)) -> -5.5 | T18: ='Pointage 09'!AM18 | U18: =IF(T18="",S18,IF(T18>0,S18-T18)) -> -5.5 | V18: =IF($V$5<'Salariés en activités'!I20,0,IF(A18="","",2.5+U18)) -> -3 | W18: ='Pointage 10'!AM18 | X18: =IF(W18="",V18,IF(W18>0,V18+W18)) -> -3 | Y18: =IF($Y$5<'Salariés en activités'!I20,0,IF(A18="","",2.5+X18)) -> -0.5 | Z18: ='Pointage 11'!AM18 | AA18: =IF(Z18="",Y18,IF(Z18>0,Y18-Z18)) -> -0.5 | AB18: =IF($AB$5<'Salariés en activités'!I20,0,IF(A18="","",2.5+AA18)) -> 2 | AC18: ='Pointage 12'!AM18 | AD18: =IF(AC18="",AB18,IF(AC18>0,AB18-AC18)) -> 2 | AE18: =IF($AE$5<'Salariés en activités'!I20,0,IF(A18="","",2.5+AD18)) -> 4.5 | AF18: ='Pointage 01'!AM18 | AG18: =IF(AF18="",AE18,IF(AF18>0,AE18-AF18)) -> 4.5 | AH18: =IF($AH$5<'Salariés en activités'!I20,0,IF(A18="","",2.5+AG18)) -> 7 | AJ18: =IF(AI18="",AH18,IF(AI18>0,AH18-AI18)) -> 7 | AK18: =IF($AK$5<'Salariés en activités'!I20,0,IF(A18="","",2.5+AJ18)) -> 9.5 | AL18: ='Pointage 03'!AM18 | AM18: =IF(AL18="",AK18,IF(AL18>0,AK18-AL18)) -> 9.5 | AN18: 52
A19: =IFERROR(INDEX('Salariés en activités'!A:A,MATCH(F19,'Salariés en activités'!B:B,0)),"") -> CASSE Tout | B19: =IF($B$3="avril",E19,IF($B$3="mai",I19,IF($B$3="juin",L19,IF($B$3="juillet",O19,IF($B$3="aout",R19,IF($B$3="août",R19,IF($B$3="septembre",U19,IF($B$3="octobre",X19,IF($B$3="novembre",AA19,IF($B$3="décembre",AD19,IF($B$3="decembre",AD19,IF($B$3="janvier",AG19,IF($B$3="février",AJ19,IF($B$3="février",AJ19,IF($B$3="mars",AM19,""))))))))))))))) -> 40 | C19: =IF(A19="","",IF($C$5<'Salariés en activités'!I21,0,IF(A19="","",2.5+AN19))) -> 46.5 | E19: =IF(A19="","",IF(D19>0,C19-D19,IF(C19=2.5,2.5,C19-D19))) -> 46.5 | F19: =IF('Salariés en activités'!B21<>"",'Salariés en activités'!B21,"") -> 00279 | G19: =IF($G$5<'Salariés en activités'!I21,0,IF(A19="","",2.5+E19)) -> 49 | H19: 11 | I19: =IF(G19="","",IF(G19=2.5,2.5,G19-H19)) -> 38 | J19: =IF($J$5<'Salariés en activités'!I21,0,IF(A19="","",2.5+I19)) -> 40.5 | K19: 1 | L19: =IF(J19="","",IF(J19=2.5,2.5,J19-K19)) -> 39.5 | M19: =IF($M$5<'Salariés en activités'!I21,0,IF(A19="","",'Pointage 07'!AP19+L19)) -> 42 | N19: ='Pointage 07'!AM19 -> 2 | O19: =IF(N19="",M19,IF(N19>0,M19-N19,M19)) -> 40 | P19: =IF($P$5<'Salariés en activités'!I21,0,IF(A19="","",2.5+O19)) -> 42.5 | Q19: ='Pointage 08'!AM19 | R19: =IF(Q19="",P19,IF(Q19>0,P19-Q19)) -> 42.5 | S19: =IF($S$5<'Salariés en activités'!I21,0,IF(A19="","",2.5+R19)) -> 45 | T19: ='Pointage 09'!AM19 | U19: =IF(T19="",S19,IF(T19>0,S19-T19)) -> 45 | V19: =IF($V$5<'Salariés en activités'!I21,0,IF(A19="","",2.5+U19)) -> 47.5 | W19: ='Pointage 10'!AM19 | X19: =IF(W19="",V19,IF(W19>0,V19+W19)) -> 47.5 | Y19: =IF($Y$5<'Salariés en activités'!I21,0,IF(A19="","",2.5+X19)) -> 50 | Z19: ='Pointage 11'!AM19 | AA19: =IF(Z19="",Y19,IF(Z19>0,Y19-Z19)) -> 50 | AB19: =IF($AB$5<'Salariés en activités'!I21,0,IF(A19="","",2.5+AA19)) -> 52.5 | AC19: ='Pointage 12'!AM19 | AD19: =IF(AC19="",AB19,IF(AC19>0,AB19-AC19)) -> 52.5 | AE19: =IF($AE$5<'Salariés en activités'!I21,0,IF(A19="","",2.5+AD19)) -> 55 | AF19: ='Pointage 01'!AM19 | AG19: =IF(AF19="",AE19,IF(AF19>0,AE19-AF19)) -> 55 | AH19: =IF($AH$5<'Salariés en activités'!I21,0,IF(A19="","",2.5+AG19)) -> 57.5 | AJ19: =IF(AI19="",AH19,IF(AI19>0,AH19-AI19)) -> 57.5 | AK19: =IF($AK$5<'Salariés en activités'!I21,0,IF(A19="","",2.5+AJ19)) -> 60 | AL19: ='Pointage 03'!AM19 | AM19: =IF(AL19="",AK19,IF(AL19>0,AK19-AL19)) -> 60 | AN19: 44
A20: =IFERROR(INDEX('Salariés en activités'!A:A,MATCH(F20,'Salariés en activités'!B:B,0)),"") -> CARDIAQUE Philippe | B20: =IF($B$3="avril",E20,IF($B$3="mai",I20,IF($B$3="juin",L20,IF($B$3="juillet",O20,IF($B$3="aout",R20,IF($B$3="août",R20,IF($B$3="septembre",U20,IF($B$3="octobre",X20,IF($B$3="novembre",AA20,IF($B$3="décembre",AD20,IF($B$3="decembre",AD20,IF($B$3="janvier",AG20,IF($B$3="février",AJ20,IF($B$3="février",AJ20,IF($B$3="mars",AM20,""))))))))))))))) -> -2 | C20: =IF(A20="","",IF($C$5<'Salariés en activités'!I22,0,IF(A20="","",2.5+AN20))) -> 12.5 | D20: 7 | E20: =IF(A20="","",IF(D20>0,C20-D20,IF(C20=2.5,2.5,C20-D20))) -> 5.5 | F20: =IF('Salariés en activités'!B22<>"",'Salariés en activités'!B22,"") -> 00451 | G20: =IF($G$5<'Salariés en activités'!I22,0,IF(A20="","",2.5+E20)) -> 8 | H20: 2 | I20: =IF(G20="","",IF(G20=2.5,2.5,G20-H20)) -> 6 | J20: =IF($J$5<'Salariés en activités'!I22,0,IF(A20="","",2.5+I20)) -> 8.5 | K20: 6 | L20: =IF(J20="","",IF(J20=2.5,2.5,J20-K20)) -> 2.5 | M20: =IF($M$5<'Salariés en activités'!I22,0,IF(A20="","",'Pointage 07'!AP20+L20)) -> 5 | N20: ='Pointage 07'!AM20 -> 7 | O20: =IF(N20="",M20,IF(N20>0,M20-N20,M20)) -> -2 | P20: =IF($P$5<'Salariés en activités'!I22,0,IF(A20="","",2.5+O20)) -> 0.5 | Q20: ='Pointage 08'!AM20 | R20: =IF(Q20="",P20,IF(Q20>0,P20-Q20)) -> 0.5 | S20: =IF($S$5<'Salariés en activités'!I22,0,IF(A20="","",2.5+R20)) -> 3 | T20: ='Pointage 09'!AM20 | U20: =IF(T20="",S20,IF(T20>0,S20-T20)) -> 3 | V20: =IF($V$5<'Salariés en activités'!I22,0,IF(A20="","",2.5+U20)) -> 5.5 | W20: ='Pointage 10'!AM20 | X20: =IF(W20="",V20,IF(W20>0,V20+W20)) -> 5.5 | Y20: =IF($Y$5<'Salariés en activités'!I22,0,IF(A20="","",2.5+X20)) -> 8 | Z20: ='Pointage 11'!AM20 | AA20: =IF(Z20="",Y20,IF(Z20>0,Y20-Z20)) -> 8 | AB20: =IF($AB$5<'Salariés en activités'!I22,0,IF(A20="","",2.5+AA20)) -> 10.5 | AC20: ='Pointage 12'!AM20 | AD20: =IF(AC20="",AB20,IF(AC20>0,AB20-AC20)) -> 10.5 | AE20: =IF($AE$5<'Salariés en activités'!I22,0,IF(A20="","",2.5+AD20)) -> 13 | AF20: ='Pointage 01'!AM20 | AG20: =IF(AF20="",AE20,IF(AF20>0,AE20-AF20)) -> 13 | AH20: =IF($AH$5<'Salariés en activités'!I22,0,IF(A20="","",2.5+AG20)) -> 15.5 | AJ20: =IF(AI20="",AH20,IF(AI20>0,AH20-AI20)) -> 15.5 | AK20: =IF($AK$5<'Salariés en activités'!I22,0,IF(A20="","",2.5+AJ20)) -> 18 | AL20: ='Pointage 03'!AM20 | AM20: =IF(AL20="",AK20,IF(AL20>0,AK20-AL20)) -> 18 | AN20: 10
A21: =IFERROR(INDEX('Salariés en activités'!A:A,MATCH(F21,'Salariés en activités'!B:B,0)),"") -> CACA lol | B21: =IF($B$3="avril",E21,IF($B$3="mai",I21,IF($B$3="juin",L21,IF($B$3="juillet",O21,IF($B$3="aout",R21,IF($B$3="août",R21,IF($B$3="septembre",U21,IF($B$3="octobre",X21,IF($B$3="novembre",AA21,IF($B$3="décembre",AD21,IF($B$3="decembre",AD21,IF($B$3="janvier",AG21,IF($B$3="février",AJ21,IF($B$3="février",AJ21,IF($B$3="mars",AM21,""))))))))))))))) -> -1.2692309 | C21: =IF(A21="","",IF($C$5<'Salariés en activités'!I23,0,IF(A21="","",2.5+AN21))) -> 0 | D21: 5 | E21: =IF(A21="","",IF(D21>0,C21-D21,IF(C21=2.5,2.5,C21-D21))) -> -5 | F21: =IF('Salariés en activités'!B23<>"",'Salariés en activités'!B23,"") -> 00483 | G21: =IF($G$5<'Salariés en activités'!I23,0,IF(A21="","",2.5+E21)) -> 0 | I21: =IF(G21="","",IF(G21=2.5,2.5,G21-H21)) -> 0 | J21: =IF($J$5<'Salariés en activités'!I23,0,IF(A21="","",2.5+I21)) -> 0 | K21: 1 | L21: =IF(J21="","",IF(J21=2.5,2.5,J21-K21)) -> -1 | M21: =IF($M$5<'Salariés en activités'!I23,0,IF(A21="","",'Pointage 07'!AP21+L21)) -> 0.23076913 | N21: ='Pointage 07'!AM21 -> 1.5 | O21: =IF(N21="",M21,IF(N21>0,M21-N21,M21)) -> -1.2692309 | P21: =IF($P$5<'Salariés en activités'!I23,0,IF(A21="","",2.5+O21)) -> 1.2307691 | Q21: ='Pointage 08'!AM21 | R21: =IF(Q21="",P21,IF(Q21>0,P21-Q21)) -> 1.2307691 | S21: =IF($S$5<'Salariés en activités'!I23,0,IF(A21="","",2.5+R21)) -> 3.7307691 | T21: ='Pointage 09'!AM21 | U21: =IF(T21="",S21,IF(T21>0,S21-T21)) -> 3.7307691 | V21: =IF($V$5<'Salariés en activités'!I23,0,IF(A21="","",2.5+U21)) -> 6.2307691 | W21: ='Pointage 10'!AM21 | X21: =IF(W21="",V21,IF(W21>0,V21+W21)) -> 6.2307691 | Y21: =IF($Y$5<'Salariés en activités'!I23,0,IF(A21="","",2.5+X21)) -> 8.7307691 | Z21: ='Pointage 11'!AM21 | AA21: =IF(Z21="",Y21,IF(Z21>0,Y21-Z21)) -> 8.7307691 | AB21: =IF($AB$5<'Salariés en activités'!I23,0,IF(A21="","",2.5+AA21)) -> 11.230769 | AC21: ='Pointage 12'!AM21 | AD21: =IF(AC21="",AB21,IF(AC21>0,AB21-AC21)) -> 11.230769 | AE21: =IF($AE$5<'Salariés en activités'!I23,0,IF(A21="","",2.5+AD21)) -> 13.730769 | AF21: ='Pointage 01'!AM21 | AG21: =IF(AF21="",AE21,IF(AF21>0,AE21-AF21)) -> 13.730769 | AH21: =IF($AH$5<'Salariés en activités'!I23,0,IF(A21="","",2.5+AG21)) -> 16.230769 | AJ21: =IF(AI21="",AH21,IF(AI21>0,AH21-AI21)) -> 16.230769 | AK21: =IF($AK$5<'Salariés en activités'!I23,0,IF(A21="","",2.5+AJ21)) -> 18.730769 | AL21: ='Pointage 03'!AM21 | AM21: =IF(AL21="",AK21,IF(AL21>0,AK21-AL21)) -> 18.730769 | AN21: 22.5
A22: =IFERROR(INDEX('Salariés en activités'!A:A,MATCH(F22,'Salariés en activités'!B:B,0)),"") -> BOULE Sophie | B22: =IF($B$3="avril",E22,IF($B$3="mai",I22,IF($B$3="juin",L22,IF($B$3="juillet",O22,IF($B$3="aout",R22,IF($B$3="août",R22,IF($B$3="septembre",U22,IF($B$3="octobre",X22,IF($B$3="novembre",AA22,IF($B$3="décembre",AD22,IF($B$3="decembre",AD22,IF($B$3="janvier",AG22,IF($B$3="février",AJ22,IF($B$3="février",AJ22,IF($B$3="mars",AM22,""))))))))))))))) -> -4 | C22: =IF(A22="","",IF($C$5<'Salariés en activités'!I24,0,IF(A22="","",2.5+AN22))) -> 0 | D22: 5 | E22: =IF(A22="","",IF(D22>0,C22-D22,IF(C22=2.5,2.5,C22-D22))) -> -5 | F22: =IF('Salariés en activités'!B24<>"",'Salariés en activités'!B24,"") -> 00480 | G22: =IF($G$5<'Salariés en activités'!I24,0,IF(A22="","",2.5+E22)) -> 0 | H22: 2 | I22: =IF(G22="","",IF(G22=2.5,2.5,G22-H22)) -> -2 | J22: =IF($J$5<'Salariés en activités'!I24,0,IF(A22="","",2.5+I22)) -> 0 | K22: 1 | L22: =IF(J22="","",IF(J22=2.5,2.5,J22-K22)) -> -1 | M22: =IF($M$5<'Salariés en activités'!I24,0,IF(A22="","",'Pointage 07'!AP22+L22)) -> 1.5 | N22: ='Pointage 07'!AM22 -> 5.5 | O22: =IF(N22="",M22,IF(N22>0,M22-N22,M22)) -> -4 | P22: =IF($P$5<'Salariés en activités'!I24,0,IF(A22="","",2.5+O22)) -> -1.5 | Q22: ='Pointage 08'!AM22 | R22: =IF(Q22="",P22,IF(Q22>0,P22-Q22)) -> -1.5 | S22: =IF($S$5<'Salariés en activités'!I24,0,IF(A22="","",2.5+R22)) -> 1 | T22: ='Pointage 09'!AM22 | U22: =IF(T22="",S22,IF(T22>0,S22-T22)) -> 1 | V22: =IF($V$5<'Salariés en activités'!I24,0,IF(A22="","",2.5+U22)) -> 3.5 | W22: ='Pointage 10'!AM22 | X22: =IF(W22="",V22,IF(W22>0,V22+W22)) -> 3.5 | Y22: =IF($Y$5<'Salariés en activités'!I24,0,IF(A22="","",2.5+X22)) -> 6 | Z22: ='Pointage 11'!AM22 | AA22: =IF(Z22="",Y22,IF(Z22>0,Y22-Z22)) -> 6 | AB22: =IF($AB$5<'Salariés en activités'!I24,0,IF(A22="","",2.5+AA22)) -> 8.5 | AC22: ='Pointage 12'!AM22 | AD22: =IF(AC22="",AB22,IF(AC22>0,AB22-AC22)) -> 8.5 | AE22: =IF($AE$5<'Salariés en activités'!I24,0,IF(A22="","",2.5+AD22)) -> 11 | AF22: ='Pointage 01'!AM22 | AG22: =IF(AF22="",AE22,IF(AF22>0,AE22-AF22)) -> 11 | AH22: =IF($AH$5<'Salariés en activités'!I24,0,IF(A22="","",2.5+AG22)) -> 13.5 | AJ22: =IF(AI22="",AH22,IF(AI22>0,AH22-AI22)) -> 13.5 | AK22: =IF($AK$5<'Salariés en activités'!I24,0,IF(A22="","",2.5+AJ22)) -> 16 | AL22: ='Pointage 03'!AM22 | AM22: =IF(AL22="",AK22,IF(AL22>0,AK22-AL22)) -> 16 | AN22: 70
A23: =IFERROR(INDEX('Salariés en activités'!A:A,MATCH(F23,'Salariés en activités'!B:B,0)),"") -> BOLO Nese | B23: =IF($B$3="avril",E23,IF($B$3="mai",I23,IF($B$3="juin",L23,IF($B$3="juillet",O23,IF($B$3="aout",R23,IF($B$3="août",R23,IF($B$3="septembre",U23,IF($B$3="octobre",X23,IF($B$3="novembre",AA23,IF($B$3="décembre",AD23,IF($B$3="decembre",AD23,IF($B$3="janvier",AG23,IF($B$3="février",AJ23,IF($B$3="février",AJ23,IF($B$3="mars",AM23,""))))))))))))))) -> 10 | C23: =IF(A23="","",IF($C$5<'Salariés en activités'!I25,0,IF(A23="","",2.5+AN23))) -> 2.5 | E23: =IF(A23="","",IF(D23>0,C23-D23,IF(C23=2.5,2.5,C23-D23))) -> 2.5 | F23: =IF('Salariés en activités'!B25<>"",'Salariés en activités'!B25,"") -> 00467 | G23: =IF($G$5<'Salariés en activités'!I25,0,IF(A23="","",2.5+E23)) -> 5 | I23: =IF(G23="","",IF(G23=2.5,2.5,G23-H23)) -> 5 | J23: =IF($J$5<'Salariés en activités'!I25,0,IF(A23="","",2.5+I23)) -> 7.5 | L23: =IF(J23="","",IF(J23=2.5,2.5,J23-K23)) -> 7.5 | M23: =IF($M$5<'Salariés en activités'!I25,0,IF(A23="","",'Pointage 07'!AP23+L23)) -> 10 | N23: ='Pointage 07'!AM23 | O23: =IF(N23="",M23,IF(N23>0,M23-N23,M23)) -> 10 | P23: =IF($P$5<'Salariés en activités'!I25,0,IF(A23="","",2.5+O23)) -> 12.5 | Q23: ='Pointage 08'!AM23 | R23: =IF(Q23="",P23,IF(Q23>0,P23-Q23)) -> 12.5 | S23: =IF($S$5<'Salariés en activités'!I25,0,IF(A23="","",2.5+R23)) -> 15 | T23: ='Pointage 09'!AM23 | U23: =IF(T23="",S23,IF(T23>0,S23-T23)) -> 15 | V23: =IF($V$5<'Salariés en activités'!I25,0,IF(A23="","",2.5+U23)) -> 17.5 | W23: ='Pointage 10'!AM23 | X23: =IF(W23="",V23,IF(W23>0,V23+W23)) -> 17.5 | Y23: =IF($Y$5<'Salariés en activités'!I25,0,IF(A23="","",2.5+X23)) -> 20 | Z23: ='Pointage 11'!AM23 | AA23: =IF(Z23="",Y23,IF(Z23>0,Y23-Z23)) -> 20 | AB23: =IF($AB$5<'Salariés en activités'!I25,0,IF(A23="","",2.5+AA23)) -> 22.5 | AC23: ='Pointage 12'!AM23 | AD23: =IF(AC23="",AB23,IF(AC23>0,AB23-AC23)) -> 22.5 | AE23: =IF($AE$5<'Salariés en activités'!I25,0,IF(A23="","",2.5+AD23)) -> 25 | AF23: ='Pointage 01'!AM23 | AG23: =IF(AF23="",AE23,IF(AF23>0,AE23-AF23)) -> 25 | AH23: =IF($AH$5<'Salariés en activités'!I25,0,IF(A23="","",2.5+AG23)) -> 27.5 | AJ23: =IF(AI23="",AH23,IF(AI23>0,AH23-AI23)) -> 27.5 | AK23: =IF($AK$5<'Salariés en activités'!I25,0,IF(A23="","",2.5+AJ23)) -> 30 | AL23: ='Pointage 03'!AM23 | AM23: =IF(AL23="",AK23,IF(AL23>0,AK23-AL23)) -> 30 | AN23: 0
A24: =IFERROR(INDEX('Salariés en activités'!A:A,MATCH(F24,'Salariés en activités'!B:B,0)),"") -> ADD Adrien | B24: =IF($B$3="avril",E24,IF($B$3="mai",I24,IF($B$3="juin",L24,IF($B$3="juillet",O24,IF($B$3="aout",R24,IF($B$3="août",R24,IF($B$3="septembre",U24,IF($B$3="octobre",X24,IF($B$3="novembre",AA24,IF($B$3="décembre",AD24,IF($B$3="decembre",AD24,IF($B$3="janvier",AG24,IF($B$3="février",AJ24,IF($B$3="février",AJ24,IF($B$3="mars",AM24,""))))))))))))))) -> 9.4230769 | C24: =IF(A24="","",IF($C$5<'Salariés en activités'!I26,0,IF(A24="","",2.5+AN24))) -> 2.5 | E24: =IF(A24="","",IF(D24>0,C24-D24,IF(C24=2.5,2.5,C24-D24))) -> 2.5 | F24: =IF('Salariés en activités'!B26<>"",'Salariés en activités'!B26,"") -> 00462 | G24: =IF($G$5<'Salariés en activités'!I26,0,IF(A24="","",2.5+E24)) -> 5 | I24: =IF(G24="","",IF(G24=2.5,2.5,G24-H24)) -> 5 | J24: =IF($J$5<'Salariés en activités'!I26,0,IF(A24="","",2.5+I24)) -> 7.5 | L24: =IF(J24="","",IF(J24=2.5,2.5,J24-K24)) -> 7.5 | M24: =IF($M$5<'Salariés en activités'!I26,0,IF(A24="","",'Pointage 07'!AP24+L24)) -> 9.4230769 | N24: ='Pointage 07'!AM24 | O24: =IF(N24="",M24,IF(N24>0,M24-N24,M24)) -> 9.4230769 | P24: =IF($P$5<'Salariés en activités'!I26,0,IF(A24="","",2.5+O24)) -> 11.923077 | Q24: ='Pointage 08'!AM24 | R24: =IF(Q24="",P24,IF(Q24>0,P24-Q24)) -> 11.923077 | S24: =IF($S$5<'Salariés en activités'!I26,0,IF(A24="","",2.5+R24)) -> 14.423077 | T24: ='Pointage 09'!AM24 | U24: =IF(T24="",S24,IF(T24>0,S24-T24)) -> 14.423077 | V24: =IF($V$5<'Salariés en activités'!I26,0,IF(A24="","",2.5+U24)) -> 16.923077 | W24: ='Pointage 10'!AM24 | X24: =IF(W24="",V24,IF(W24>0,V24+W24)) -> 16.923077 | Y24: =IF($Y$5<'Salariés en activités'!I26,0,IF(A24="","",2.5+X24)) -> 19.423077 | Z24: ='Pointage 11'!AM24 | AA24: =IF(Z24="",Y24,IF(Z24>0,Y24-Z24)) -> 19.423077 | AB24: =IF($AB$5<'Salariés en activités'!I26,0,IF(A24="","",2.5+AA24)) -> 21.923077 | AC24: ='Pointage 12'!AM24 | AD24: =IF(AC24="",AB24,IF(AC24>0,AB24-AC24)) -> 21.923077 | AE24: =IF($AE$5<'Salariés en activités'!I26,0,IF(A24="","",2.5+AD24)) -> 24.423077 | AF24: ='Pointage 01'!AM24 | AG24: =IF(AF24="",AE24,IF(AF24>0,AE24-AF24)) -> 24.423077 | AH24: =IF($AH$5<'Salariés en activités'!I26,0,IF(A24="","",2.5+AG24)) -> 26.923077 | AJ24: =IF(AI24="",AH24,IF(AI24>0,AH24-AI24)) -> 26.923077 | AK24: =IF($AK$5<'Salariés en activités'!I26,0,IF(A24="","",2.5+AJ24)) -> 29.423077 | AL24: ='Pointage 03'!AM24 | AM24: =IF(AL24="",AK24,IF(AL24>0,AK24-AL24)) -> 29.423077 | AN24: 0
A25: =IFERROR(INDEX('Salariés en activités'!A:A,MATCH(F25,'Salariés en activités'!B:B,0)),"") | B25: =IF($B$3="avril",E25,IF($B$3="mai",I25,IF($B$3="juin",L25,IF($B$3="juillet",O25,IF($B$3="aout",R25,IF($B$3="août",R25,IF($B$3="septembre",U25,IF($B$3="octobre",X25,IF($B$3="novembre",AA25,IF($B$3="décembre",AD25,IF($B$3="decembre",AD25,IF($B$3="janvier",AG25,IF($B$3="février",AJ25,IF($B$3="février",AJ25,IF($B$3="mars",AM25,""))))))))))))))) | C25: =IF(A25="","",IF($C$5<'Salariés en activités'!I27,0,IF(A25="","",2.5+AN25))) | E25: =IF(A25="","",IF(D25>0,C25-D25,IF(C25=2.5,2.5,C25-D25))) | F25: =IF('Salariés en activités'!B27<>"",'Salariés en activités'!B27,"") | G25: =IF($G$5<'Salariés en activités'!I27,0,IF(A25="","",2.5+E25)) | I25: =IF(G25="","",IF(G25=2.5,2.5,G25-H25)) | J25: =IF($J$5<'Salariés en activités'!I27,0,IF(A25="","",2.5+I25)) | L25: =IF(J25="","",IF(J25=2.5,2.5,J25-K25)) | M25: =IF($M$5<'Salariés en activités'!I27,0,IF(A25="","",'Pointage 07'!AP25+L25)) | N25: ='Pointage 07'!AM25 | O25: =IF(N25="",M25,IF(N25>0,M25-N25,M25)) | P25: =IF($P$5<'Salariés en activités'!I27,0,IF(A25="","",2.5+O25)) | Q25: ='Pointage 08'!AM25 | R25: =IF(Q25="",P25,IF(Q25>0,P25-Q25)) | S25: =IF($S$5<'Salariés en activités'!I27,0,IF(A25="","",2.5+R25)) | T25: ='Pointage 09'!AM25 | U25: =IF(T25="",S25,IF(T25>0,S25-T25)) | V25: =IF($V$5<'Salariés en activités'!I27,0,IF(A25="","",2.5+U25)) | W25: ='Pointage 10'!AM25 | X25: =IF(W25="",V25,IF(W25>0,V25+W25)) | Y25: =IF($Y$5<'Salariés en activités'!I27,0,IF(A25="","",2.5+X25)) | Z25: ='Pointage 11'!AM25 | AA25: =IF(Z25="",Y25,IF(Z25>0,Y25-Z25)) | AB25: =IF($AB$5<'Salariés en activités'!I27,0,IF(A25="","",2.5+AA25)) | AC25: ='Pointage 12'!AM25 | AD25: =IF(AC25="",AB25,IF(AC25>0,AB25-AC25)) | AE25: =IF($AE$5<'Salariés en activités'!I27,0,IF(A25="","",2.5+AD25)) | AF25: ='Pointage 01'!AM25 | AG25: =IF(AF25="",AE25,IF(AF25>0,AE25-AF25)) | AH25: =IF($AH$5<'Salariés en activités'!I27,0,IF(A25="","",2.5+AG25)) | AJ25: =IF(AI25="",AH25,IF(AI25>0,AH25-AI25)) | AK25: =IF($AK$5<'Salariés en activités'!I27,0,IF(A25="","",2.5+AJ25)) | AL25: ='Pointage 03'!AM25 | AM25: =IF(AL25="",AK25,IF(AL25>0,AK25-AL25))
A26: =IFERROR(INDEX('Salariés en activités'!A:A,MATCH(F26,'Salariés en activités'!B:B,0)),"") | B26: =IF($B$3="avril",E26,IF($B$3="mai",I26,IF($B$3="juin",L26,IF($B$3="juillet",O26,IF($B$3="aout",R26,IF($B$3="août",R26,IF($B$3="septembre",U26,IF($B$3="octobre",X26,IF($B$3="novembre",AA26,IF($B$3="décembre",AD26,IF($B$3="decembre",AD26,IF($B$3="janvier",AG26,IF($B$3="février",AJ26,IF($B$3="février",AJ26,IF($B$3="mars",AM26,""))))))))))))))) | C26: =IF(A26="","",IF($C$5<'Salariés en activités'!I28,0,IF(A26="","",2.5+AN26))) | E26: =IF(A26="","",IF(D26>0,C26-D26,IF(C26=2.5,2.5,C26-D26))) | F26: =IF('Salariés en activités'!B28<>"",'Salariés en activités'!B28,"") | G26: =IF($G$5<'Salariés en activités'!I28,0,IF(A26="","",2.5+E26)) | I26: =IF(G26="","",IF(G26=2.5,2.5,G26-H26)) | J26: =IF($J$5<'Salariés en activités'!I28,0,IF(A26="","",2.5+I26)) | L26: =IF(J26="","",IF(J26=2.5,2.5,J26-K26)) | M26: =IF($M$5<'Salariés en activités'!I28,0,IF(A26="","",'Pointage 07'!AP26+L26)) | N26: ='Pointage 07'!AM26 | O26: =IF(N26="",M26,IF(N26>0,M26-N26,M26)) | P26: =IF($P$5<'Salariés en activités'!I28,0,IF(A26="","",2.5+O26)) | Q26: ='Pointage 08'!AM26 | R26: =IF(Q26="",P26,IF(Q26>0,P26-Q26)) | S26: =IF($S$5<'Salariés en activités'!I28,0,IF(A26="","",2.5+R26)) | T26: ='Pointage 09'!AM26 | U26: =IF(T26="",S26,IF(T26>0,S26-T26)) | V26: =IF($V$5<'Salariés en activités'!I28,0,IF(A26="","",2.5+U26)) | W26: ='Pointage 10'!AM26 | X26: =IF(W26="",V26,IF(W26>0,V26+W26)) | Y26: =IF($Y$5<'Salariés en activités'!I28,0,IF(A26="","",2.5+X26)) | Z26: ='Pointage 11'!AM26 | AA26: =IF(Z26="",Y26,IF(Z26>0,Y26-Z26)) | AB26: =IF($AB$5<'Salariés en activités'!I28,0,IF(A26="","",2.5+AA26)) | AC26: ='Pointage 12'!AM26 | AD26: =IF(AC26="",AB26,IF(AC26>0,AB26-AC26)) | AE26: =IF($AE$5<'Salariés en activités'!I28,0,IF(A26="","",2.5+AD26)) | AF26: ='Pointage 01'!AM26 | AG26: =IF(AF26="",AE26,IF(AF26>0,AE26-AF26)) | AH26: =IF($AH$5<'Salariés en activités'!I28,0,IF(A26="","",2.5+AG26)) | AJ26: =IF(AI26="",AH26,IF(AI26>0,AH26-AI26)) | AK26: =IF($AK$5<'Salariés en activités'!I28,0,IF(A26="","",2.5+AJ26)) | AL26: ='Pointage 03'!AM26 | AM26: =IF(AL26="",AK26,IF(AL26>0,AK26-AL26))

Sheet Légende
B2: Légende / notice
B5: Pour plus de précautions les formules des tableaux sont protégées par un mot de passe : ASBH
B6: De nombreuses formules se situent en dehors des tableaux, lorsque la feuille n'est plus protégée, il faut donc être vigilant
B8: Pointage : | D8: Le pointage doit s’effectuer en suivant scrupuleusement la légende suivante
D10: CP = | E10: Congés payés
D11: 2CP = | E11: Demi congés payés
D12: AA = | E12: Absences autorisées
D13: A = | E13: Absences non autorisées
D14: MM = | E14: Maladie maintenue
D15: M = | E15: Maladie non maintenue
D16: CE = | E16: Congés exceptionnels
D17: ES = | E17: Absences entrées sorties
D18: Les colonnes de calculs sont automatisées, il n'y a donc aucun calcul à faire. Seuls les éléments variables de paie sont à saisir.
B20: Suivi des congés | D20: Le compteur des congés payés est alimenté automatiquement, et est proratisé en fonction des absences des salariés.
D21: Le solde des congés est affiché en fonction de la cellule du mois en cours : | J21: B3 | K21: (inscrire dans cette cellule le mois en cours pour faire apparaître le solde des congés de la période)
D22: Les montants seront vérifiés, d'une part, par la personne en charge des fiches de paie, et d'autre part par la personne ayant établi les pointages.
B24: Salariés en activités | D24: Dans cet onglet, seuls les salariés étant en activité durant le mois en cours sont à saisir
D25: Les informations saisies dans cet onglet seront utilisées pour établir les bulletins des salariés.
B29: Méthodologie à respecter pour l'entrée d'un salarié : | G29: Le nouveau salarié doit être entré en bas du tableau " salariés en activités".
G30: La mise en forme des tableaux, sera effectué par la personne en charge des fiches de paie.
B32: Méthodologie à respecter pour la sortie d'un salarié : | G32: Toute la ligne d'informations du salarié doit être simplement supprimée du tableau des salariés actifs
B35: Le journal d'informations : | E35: Ici se trouve les informations nécéssaires à l'établissement des fiches de paie.
E36: Seules les informations ne pouvant pas figurer dans les autres feuilles doivent y figurer.
B38: Sauvegarde du pointage du mois précédent : | F38: Pour sauvegarde le pointage du mois précédent, il suffit de couper toutes connexions entre l'onflet " salariés actifs" et l'onglet du pointage en question.
F39: Pour se faire il faut supprimer toutes les formules qui alimentent la colonne "Noms et Prénoms" et faire un simple copier/coller de la colonne de saisi de l'onglet "salariés en activités".

Sheet Pointage 07
A2: Société AN | B2: POINTAGE DU MOIS DE : | AH2: Juillet
A4: Nom et Prénom | B4: S | C4: D | D4: L | E4: M | F4: M | G4: J | H4: V | I4: S | J4: D | K4: L | L4: M | M4: M | N4: J | O4: V | P4: S | Q4: D | R4: L | S4: M | T4: M | U4: J | V4: V | W4: S | X4: D | Y4: L | Z4: M | AA4: M | AB4: J | AC4: V | AD4: S | AE4: D | AF4: L | AG4: Heures | AK4: Jours
B5: 1 | C5: 2 | D5: 3 | E5: 4 | F5: 5 | G5: 6 | H5: 7 | I5: 8 | J5: 9 | K5: 10 | L5: 11 | M5: 12 | N5: 13 | O5: 14 | P5: 15 | Q5: 16 | R5: 17 | S5: 18 | T5: 19 | U5: 20 | V5: 21 | W5: 22 | X5: 23 | Y5: 24 | Z5: 25 | AA5: 26 | AB5: 27 | AC5: 28 | AD5: 29 | AE5: 30 | AF5: 31 | AG5: Mensualisation | AH5: ABS autorisées | AI5: ABS non Autorisées | AJ5: Heures supplém. | AK5: Abs Entrée / sortie | AL5: Congés spéciaux | AM5: Congés payés | AN5: Maladie ou AT | AP5: Congés acquis (1)
AN6: M | AO6: MM
A7: =IF('Salariés en activités'!A9="","",'Salariés en activités'!A9) -> Vivian Thomas | AG7: =IF(A7="","",'Salariés en activités'!H9) -> 151,67 | AH7: =IF(A7="",0,IF(DD7=0,0,IF(DD7>20,AG7,(DD7*(AG7/4.333333/5))))) -> 0 | AI7: =IF(A7="",0,IF(IB7=0,0,IF(IB7>20,AG7,IB7*(AG7/4.33333/5)))) -> 0 | AK7: =IF(A7="","",JH7) -> 0 | AL7: =IF(A7="","",GV7) -> 0 | AM7: =IF(A7="","",IF(BX7+KN7=0,"",BX7+KN7)) | AN7: =IF(A7="","",IF(FP7=0,"",FP7)) | AO7: =IF(A7="","",EJ7) -> 0 | AP7: =IF(A7="","",IF(AG7>1,IF(AR7="",2.5,IF(A7="","",2.5*((AG7-AR7)/AG7))),"")) -> 2.5 | AR7: =IF(AH7+AI7+AK7>1,AH7+AI7+(AK7*AG7/4.333333/5),"") | AS7: =IF(B7="","",IF(B7="cp",1,"")) | AT7: =IF(C7="","",IF(C7="cp",1,"")) | AU7: =IF(D7="","",IF(D7="cp",1,"")) | AV7: =IF(E7="","",IF(E7="cp",1,"")) | AW7: =IF(F7="","",IF(F7="cp",1,"")) | AX7: =IF(G7="","",IF(G7="cp",1,"")) | AY7: =IF(H7="","",IF(H7="cp",1,"")) | AZ7: =IF(I7="","",IF(I7="cp",1,"")) | ... BW7: =IF(AF7="","",IF(AF7="cp",1,"")) | BX7: =SUM(AS7:BW7) -> 0 | BY7: =IF(B7="","",IF(B7="AA",1,"")) | BZ7: =IF(C7="","",IF(C7="AA",1,"")) | CA7: =IF(D7="","",IF(D7="AA",1,"")) | CB7: =IF(E7="","",IF(E7="AA",1,"")) | CC7: =IF(F7="","",IF(F7="AA",1,"")) | CD7: =IF(G7="","",IF(G7="AA",1,"")) | CE7: =IF(H7="","",IF(H7="AA",1,"")) | CF7: =IF(I7="","",IF(I7="AA",1,"")) | ... DC7: =IF(AF7="","",IF(AF7="AA",1,"")) | DD7: =SUM(BY7:DC7) -> 0 | DE7: =IF(B7="","",IF(B7="MM",1,"")) | DF7: =IF(C7="","",IF(C7="MM",1,"")) | DG7: =IF(D7="","",IF(D7="MM",1,"")) | DH7: =IF(E7="","",IF(E7="MM",1,"")) | DI7: =IF(F7="","",IF(F7="MM",1,"")) | DJ7: =IF(G7="","",IF(G7="MM",1,"")) | DK7: =IF(H7="","",IF(H7="MM",1,"")) | DL7: =IF(I7="","",IF(I7="MM",1,"")) | ... EI7: =IF(AF7="","",IF(AF7="MM",1,"")) | EJ7: =SUM(DE7:EI7) -> 0 | EK7: =IF(B7="","",IF(B7="M",1,"")) | EL7: =IF(C7="","",IF(C7="M",1,"")) | EM7: =IF(D7="","",IF(D7="M",1,"")) | EN7: =IF(E7="","",IF(E7="M",1,"")) | EO7: =IF(F7="","",IF(F7="M",1,"")) | EP7: =IF(G7="","",IF(G7="M",1,"")) | EQ7: =IF(H7="","",IF(H7="M",1,"")) | ER7: =IF(I7="","",IF(I7="M",1,"")) | ... FO7: =IF(AF7="","",IF(AF7="M",1,"")) | FP7: =SUM(EK7:FO7) -> 0 | FQ7: =IF(B7="","",IF(B7="CE",1,"")) | FR7: =IF(C7="","",IF(C7="CE",1,"")) | FS7: =IF(D7="","",IF(D7="CE",1,"")) | FT7: =IF(E7="","",IF(E7="CE",1,"")) | FU7: =IF(F7="","",IF(F7="CE",1,"")) | FV7: =IF(G7="","",IF(G7="CE",1,"")) | FW7: =IF(H7="","",IF(H7="CE",1,"")) | FX7: =IF(I7="","",IF(I7="CE",1,"")) | ... GU7: =IF(AF7="","",IF(AF7="CE",1,"")) | GV7: =SUM(FQ7:GU7) -> 0 | GW7: =IF(B7="","",IF(B7="A",1,"")) | GX7: =IF(C7="","",IF(C7="A",1,"")) | GY7: =IF(D7="","",IF(D7="A",1,"")) | GZ7: =IF(E7="","",IF(E7="A",1,"")) | HA7: =IF(F7="","",IF(F7="A",1,"")) | HB7: =IF(G7="","",IF(G7="A",1,"")) | HC7: =IF(H7="","",IF(H7="A",1,"")) | HD7: =IF(I7="","",IF(I7="A",1,"")) | ... IA7: =IF(AF7="","",IF(AF7="A",1,"")) | IB7: =SUM(GW7:IA7) -> 0 | IC7: =IF(B7="","",IF(B7="ES",1,"")) | ID7: =IF(C7="","",IF(C7="ES",1,"")) | IE7: =IF(D7="","",IF(D7="ES",1,"")) | IF7: =IF(E7="","",IF(E7="ES",1,"")) | IG7: =IF(F7="","",IF(F7="ES",1,"")) | IH7: =IF(G7="","",IF(G7="ES",1,"")) | II7: =IF(H7="","",IF(H7="ES",1,"")) | IJ7: =IF(I7="","",IF(I7="ES",1,"")) | ... JG7: =IF(AF7="","",IF(AF7="ES",1,"")) | JH7: =SUM(IC7:JG7) -> 0 | JI7: =IF(B7="","",IF(B7="2cp",0.5,"")) | JJ7: =IF(C7="","",IF(C7="2cp",0.5,"")) | JK7: =IF(D7="","",IF(D7="2cp",0.5,"")) | JL7: =IF(E7="","",IF(E7="2cp",0.5,"")) | JM7: =IF(F7="","",IF(F7="2cp",0.5,"")) | JN7: =IF(G7="","",IF(G7="2cp",0.5,"")) | JO7: =IF(H7="","",IF(H7="2cp",0.5,"")) | JP7: =IF(I7="","",IF(I7="2cp",0.5,"")) | ... KM7: =IF(AF7="","",IF(AF7="2cp",0.5,"")) | KN7: =SUM(JI7:KM7) -> 0
