Workbook

Sheet Liste 1
A1: Liste1 | B1: Present in Liste 2 | C1: Present in liste 3
A2: Adaptimmune | B2: =IF(COUNTIF('Liste 2'!A:B,LEFT(A2,5)&"*")>0,"OUI","") | C2: =IF(COUNTIF('Liste 3'!A:A,LEFT(A2,5)&"*")>0,"OUI","")
A3: Adnexus, A Bristol-Myers Squibb R&D Company | B3: =IF(COUNTIF('Liste 2'!A:B,LEFT(A3,5)&"*")>0,"OUI","") | C3: =IF(COUNTIF('Liste 3'!A:A,LEFT(A3,5)&"*")>0,"OUI","")
A4: Adrenergics | B4: =IF(COUNTIF('Liste 2'!A:B,LEFT(A4,5)&"*")>0,"OUI","") | C4: =IF(COUNTIF('Liste 3'!A:A,LEFT(A4,5)&"*")>0,"OUI","")
A5: Advanced Technologies and Regenerative Medicine, LLC (ATRM) | B5: =IF(COUNTIF('Liste 2'!A:B,LEFT(A5,5)&"*")>0,"OUI","") | C5: =IF(COUNTIF('Liste 3'!A:A,LEFT(A5,5)&"*")>0,"OUI","")
A6: Aeglea ltd | B6: =IF(COUNTIF('Liste 2'!A:B,LEFT(A6,5)&"*")>0,"OUI","") | C6: =IF(COUNTIF('Liste 3'!A:A,LEFT(A6,5)&"*")>0,"OUI","")
A7: Aerpio | B7: =IF(COUNTIF('Liste 2'!A:B,LEFT(A7,5)&"*")>0,"OUI","") | C7: =IF(COUNTIF('Liste 3'!A:A,LEFT(A7,5)&"*")>0,"OUI","")
A8: AKD Global Company | B8: =IF(COUNTIF('Liste 2'!A:B,LEFT(A8,5)&"*")>0,"OUI","") | C8: =IF(COUNTIF('Liste 3'!A:A,LEFT(A8,5)&"*")>0,"OUI","")
A9: Alector | B9: =IF(COUNTIF('Liste 2'!A:B,LEFT(A9,5)&"*")>0,"OUI","") | C9: =IF(COUNTIF('Liste 3'!A:A,LEFT(A9,5)&"*")>0,"OUI","")
A10: Alkermes | B10: =IF(COUNTIF('Liste 2'!A:B,LEFT(A10,5)&"*")>0,"OUI","") | C10: =IF(COUNTIF('Liste 3'!A:A,LEFT(A10,5)&"*")>0,"OUI","")
A11: AlphaStemSource | B11: =IF(COUNTIF('Liste 2'!A:B,LEFT(A11,5)&"*")>0,"OUI","") -> OUI | C11: =IF(COUNTIF('Liste 3'!A:A,LEFT(A11,5)&"*")>0,"OUI","") -> OUI
A12: Amunix | B12: =IF(COUNTIF('Liste 2'!A:B,LEFT(A12,5)&"*")>0,"OUI","") | C12: =IF(COUNTIF('Liste 3'!A:A,LEFT(A12,5)&"*")>0,"OUI","") -> OUI
A13: Baxter AG - Austria | B13: =IF(COUNTIF('Liste 2'!A:B,LEFT(A13,5)&"*")>0,"OUI","") | C13: =IF(COUNTIF('Liste 3'!A:A,LEFT(A13,5)&"*")>0,"OUI","")
... A23: Université René Descartes - Paris V - Faculté de Pharmacie | B23: =IF(COUNTIF('Liste 2'!A:B,LEFT(A23,5)&"*")>0,"OUI","") -> OUI | C23: =IF(COUNTIF('Liste 3'!A:A,LEFT(A23,5)&"*")>0,"OUI","") -> OUI

Sheet Liste 2
A1: Account name | B1: Product Interest
A2: Oregon State University College of Veterinary Medicine
A3: Pfizer - MA, Cambridge # | B3: Competitor
A4: Resistentia Pharmaceuticals | B4: Rec Protein E.coli
A5: AlphaStemSource | B5: Rec Protein E.coli; Rec Protein Pichia
A6: Université René Descartes - Paris V - Faculté de Pharmacie
A7: Nycomed AG - Biologics | B7: Mammalian Cell Culture; Rec Protein E.coli; Small Molecule Synthesis
A8: Généthon | B8: Plasmid DNA, API
A9: Genelux Corporation | B9: Kits for SYBR Green FAST Assays
A10: UCB - BE - Braine-l?Alleud
A11: Généthon - Bioproduction | B11: Plasmid DNA, API
A12: Savient Pharmaceuticals | B12: Rec Protein E.coli
A13: Lavaux Capital | B13: Venture Capital
A14: Pharmagenix AG | B14: Rec Protein E.coli
A15: Ipsen - Boulogne Billancourt - Headquarters
A16: Sanofi-Aventis - Chilly Mazarin
A17: AbbVie - BE, Wavre

Sheet Liste 3
A1: Account Name
A2: Oregon State University - College of Veterinary Medicine
A3: Pfizer - MA, Cambridge #
A4: Resistentia Pharmaceuticals AB
A5: AlphaStemSource
A6: Université René Descartes - Paris V - Faculté de Pharmacie
A7: Nycomed AG - Biologics
A8: Généthon
A9: Genelux Corporation
A10: UCB - BE - Braine-l?Alleud
A11: Généthon - Bioproduction
A12: Savient Pharmaceuticals
... A46: University of Illinois-Chicago - Department of Biochemistry and Molecular Genetics
