Workbook
Name bebe: Auto!$D$3:$E$650
Name Tab1Col1: Tables!$A$2:$A$30
Name Tab1Col2: Tables!$B$2:$B$13

Sheet Saisie
B2: Parents
B3: Mâle | C3: yellowside / cinamon | E3: Femelle | F3: pineapple / turquoise
B6: Résultats
B8: Bébés
B9: Mâles | C9: =VLOOKUP("male"&C3&F3,bebe,2,FALSE) -> Yellowside / Cinnamon Yellowside // Cinnamon Turquoise Pineapple Pineapple / Turquoise | E9: Femelles | F9: =VLOOKUP("Femelle"&C3&F3,bebe,2,FALSE) -> Yellowside Yellowside / Turquoise Pineapple Pineapple / Turquoise
C11: ="male"&C3&F3 -> maleyellowside / cinamon pineapple / turquoise

Sheet Tables
A1: Tableau 1 | D1: Tableau2 | G1: Bébe Mâle
A2: Vert | B2: Vert | D2: Vert | E2: Vert | G2: Mâle | I2: Femelle
A3: vert / yellowside | B3: vert /turquoise | D3: vert / yellowside | E3: vert /turquoise | H3: Vert | I3: Vert / Turquoise | J3: Yellowside | K3: Yellowside / Turquoise | L3: Cinnamon | M3: Cinnamon / Turquoise | N3: Pineapple | O3: Pineapple / Turquoise | P3: Turquoise | Q3: TurquoiseCinnamon | R3: TurquoiseYellowside | S3: TurquoisePineapple
A4: vert / cinnamon | B4: Yellowside | D4: vert / cinnamon | E4: Yellowside | G4: Vert | H4: Vert | I4: Vert Vert / Turquoise | J4: Vert / Yellowside | K4: Vert / Yellowside Vert // Yellowside turquoise | L4: Vert / Cinnamon | M4: Vert / Cinnamon Vert // Cinnamon Turquoise | N4: Vert // Yellowside Cinnamon | O4: Vert // Yellowside Cinnamon Vert /// Yellowside Cinamon Turquoise | P4: Vert / Turquoise | Q4: Vert // Cinnamon Turquoise | R4: Vert // Yellowside Turquoise | S4: Vert /// Yellowside Cinnamon Turquoise
A5: vert /turquoise | B5: yellowside / turquoise | D5: vert /turquoise | E5: yellowside / turquoise | G5: Vert / Yellowside | H5: Vert Vert / yellowside | I5: Vert Vert / Yellowside Vert / Turquoise Vert // Yellowside Turquoise | J5: Yellowside Vert / Yellowside | K5: vert / yellowside vert // yellowside turquoise yellowside yellowside / turquoise | L5: Vert / Cinamon Vert // Yellowside Cinnamon | M5: Vert / Cinnamon Vert // Cinnamon Turquoise Vert // Yellowside Turquoise Vert /// Yellowside Cinnamon Turquoise | N5: Vert // Yellowside Cinnamon Yellowside / Cinnamon | O5: Vert // Yellowside Cinnamon Vert /// Yellowside Cinamon Turquoise Yellowside / Cinnamon Yellowside // Cinnamon Turquoise | P5: Vert / Turquoise Vert // Yellowside Turquoise | Q5: Vert // Cinnamon Turquoise Vert /// Yellowside Cinnamon Turquoise | R5: Vert // Yellowside Turquoise Yellowside / turquoise | S5: Vert // Yellowside Turquoise Yellowside / turquoise
A6: vert // yellowside cinnamon | B6: Cinnamon | D6: vert // yellowside cinnamon | E6: Cinnamon | G6: Vert / Cinnamon | H6: Vert Vert / Cinnamon | I6: Vert Vert / Cinnamon Vert / Turquoise Vert // Cinnamon Turquoise | J6: Vert / Yellowside Vert // Yellowside Cinnamon | K6: Vert / Yellowside Vert // Yellowside Cinnamon Vert // Yellowside Turquoise Vert /// Yellowside Cinnamon Turquoise | L6: Vert / Cinnamon Cinnamon | M6: Vert / Cinnamon Vert // Cinnamon Turquoise Cinnamon Cinnamon / Turquoise | N6: Vert // yellowside Cinnamon Cinnamon / Yellowside | O6: Vert // Yellowside Cinnamon Vert /// Yellowside Cinamon Turquoise Cinnamon / Yellowside Cinnamon // Yellowside Turquoise | P6: Vert / Turquoise Vert // Cinnamon Turquoise | Q6: Vert // Cinnamon Turquoise Cinnamon / Turquoise | R6: Vert // Yellowside Turquoise Vert /// Yellowside Cinnamon Turquoise | S6: Vert /// Yellowside Cinnamon Turquoise Cinnamon // Yellowside Turquoise
A7: vert // cinnamon turquoise | B7: cinnamon / turquoise | D7: vert // cinnamon turquoise | E7: cinnamon / turquoise | G7: Vert / Turquoise | H7: Vert Vert / turquoise | I7: vert Vert / turquoise Turquoise | J7: Vert / Yellowside Vert // Yellowside Turquoise | K7: Vert / Yellowside Vert // Yellowside turquoise Turquoise / Yellowside | L7: Vert / cinamon Vert // Cinnamon Turquoise | M7: Vert / Cinnamon Vert // Cinnamon Turquoise Turquoise / Cinnamon | N7: Vert // Yellowside Cinnamon Vert /// Yellowside Cinamon Turquoise | O7: Vert // Yellowside Cinnamon Vert /// Yellowside Cinamon Turquoise Turquoise // Yellowside Cinnamon | P7: Vert / Turquoise Turquoise | Q7: Vert // Cinnamon Turquoise Turquoise / Cinnamon | R7: Vert // Yellowside Turquoise Turquoise / Yellowside | S7: Vert /// Yellowside Cinnamon Turquoise Turquoise // Yellowside Cinnamon
A8: vert // yellowside turquoise | B8: cinnamon / turquoise | D8: vert // yellowside turquoise | E8: Pineapple | G8: Vert // Yellowside Cinnamon | H8: Vert Vert / Cinnamon Vert / Yellowside Vert // Yellowside Cinnamon | I8: Vert Vert / Cinnamon Vert / Yellowside Vert / Turquoise Vert // Yellowside Cinnamon Vert // Yellowside Turquoise Vert //Cinnamon Turquoise Vert /// Yellowside Cinnamon Turquoise | J8: Vert Vert // Yellowside Cinnamon Yellowside Yellowside / Cinamon | K8: Vert / Yellowside Vert // Yellowside Cinnamon Vert // Yellowside Turquoise Vert /// Yellowside Cinnamon Turquoise | L8: Vert / Cinamon Vert // Yellowside Cinnamon Cinnamon Cinnamon / Yellowside | M8: Vert / Cinnamon Vert // Cinnamon Turquoise Vert // Yellowside Cinnamon Vert /// Yellowside Cinnamon Turquoise Cinnamon Cinnamon / Yellowside Cinnamon / Turquoise Cinnamon // Yellowside Turquoise | N8: Vert // Yellowside Cinnamon Yellowside / Cinnamon Cinnamon / Yellowside Pineapple | O8: Vert // Yellowside Cinnamon Vert /// Yellowside Cinamon Turquoise Yellowside / Cinnamon Yellowside // Cinnamon Turquoise Cinnamon / Yellowside Cinnamon // Yellowside Turquoise Pineapple Pineapple / Turquoise | P8: Vert / Turquoise Vert // Cinnamon Turquoise Vert // Yellowside Turquoise Vert /// Yellowside Cinnamon Turquoise | Q8: Vert // Cinnamon Turquoise Vert /// Yellowside Cinnamon Turquoise Cinnamon / Turquoise Cinnamon // Yellowside Turquoise | R8: Vert // Yellowside Turquoise Vert /// Yellowside Cinnamon Turquoise Yellowside / Turquoise Yellowside // Cinnamon Turquoise | S8: Vert /// Yellowside Cinnamon Turquoise Yellowside // Cinnamon Turquoise Cinnamon // Yellowside Turquoise Pineapple / Turquoise
A9: vert /// yellowside cinnamon turquoise | B9: pineapple / turquoise | D9: vert /// yellowside cinnamon turquoise | E9: pineapple / turquoise | G9: Vert // Cinnamon Turquoise | H9: Vert Vert / Cinnamon Vert / Turquoise Vert // Cinnamon Turquoise | I9: Vert Vert / Cinnamon Vert / Turquoise Vert // Cinnamon Turquoise Turquoise Turquoise / Cinnamon | J9: Vert / Yellowside Vert // Yellowside Cinnamon Vert // Yellowside Turquoise Vert /// Yellowside Cinnamon Turquoise | K9: Vert / Yellowside Vert // Yellowside Cinnamon Vert // Yellowside Turquoise Vert /// Yellowside Cinnamon Turquoise Turquoise / Yellowside Turquoise // Yellowside Cinnamon | L9: Vert / Cinnamon Vert // Cinnamon Turquoise Cinnamon Cinnamon / Turquoise | M9: Vert / Cinnamon Vert // Cinnamon Turquoise Cinnamon Cinnamon / Turquoise Turquoise / Cinnamon TurquoiseCinnamon | N9: Vert // Yellowside Cinnamon Vert /// Yellowside Cinamon Turquoise Cinnamon / Yellowside Cinnamon // Yellowside Turquoise | O9: Vert // Yellowside Cinnamon Vert /// Yellowside Cinamon Turquoise Cinnamon / Yellowside Cinnamon // Yellowside Turquoise Turquoise // Yellowside Cinnamon TurquoiseCinnamon / Yellowside | P9: Vert / Turquoise Vert // Cinnamon Turquoise Turquoise Turquoise / Cinnamon | Q9: Vert // Cinnamon Turquoise Cinnamon / Turquoise Turquoise / Cinnamon TurquoiseCinnamon | R9: Vert // Yellowside Turquoise Vert /// Yellowside Cinnamon Turquoise Turquoise / Yellowside Turquoise // Yellowside Cinnamon | S9: Vert /// Yellowside Cinnamon Turquoise Cinnamon // Yellowside Turquoise Turquoise // Yellowside Cinnamon TurquoiseCinnamon / Yellowside
A10: Yellowside | B10: Turquoise | D10: Yellowside | E10: Turquoise | G10: vert // yellowside turquoise | H10: Vert Vert / Yellowside Vert / Turquoise Vert // Yellowside Turquoise | I10: Vert Vert / Yellowside Vert / Turquoise Vert // Yellowside Turquoise Turquoise Turquoise / Yellowside | J10: vert / yellowside vert // yellowside turquoise yellowside yellowside / turquoise | K10: vert / yellowside vert // yellowside turquoise yellowside yellowside / turquoise Turquoise / Yellowside TurquoiseYellowside | L10: Vert / Cinnamon Vert // Cinnamon Turquoise Vert // Yellowside Turquoise Vert /// Yellowside Cinnamon Turquoise | M10: Vert / Cinnamon Vert // Cinnamon Turquoise Vert // Yellowside Cinnamon Vert /// Yellowside Cinnamon Turquoise Turquoise / Cinnamon Turquoise // Yellowside Cinnamon | N10: Vert // Yellowside Cinnamon Vert /// Yellowside Cinamon Turquoise Yellowside / Cinnamon Yellowside // Cinnamon Turquoise | O10: Vert // Yellowside Cinnamon Vert /// Yellowside Cinamon Turquoise Yellowside / Cinnamon Yellowside // Cinnamon Turquoise Turquoise // Yellowside Cinnamon TurquoiseYellowside / Cinnamon | P10: Vert Vert / Yellowside Vert / Turquoise Vert // Yellowside Turquoise Turquoise Turquoise / Yellowside | Q10: Vert // Cinnamon Turquoise Vert /// Yellowside Cinnamon Turquoise Turquoise / Cinnamon Turquoise // Yellowside Cinnamon | R10: Vert // Yellowside Turquoise Yellowside / Turquoise Turquoise / Yellowside TurquoiseYellowside | S10: Vert /// Yellowside Cinnamon Turquoise Yellowside // Cinnamon Turquoise Turquoise // Yellowside Cinnamon TurquoiseYellowside / Cinnamon
A11: yellowside / cinamon | B11: TurquoiseCinnamon | D11: yellowside / cinamon | E11: turquoisecinnamon | G11: Vert /// Yellowside Cinnamon Turquoise | H11: Vert Vert / Cinnamon Vert / Yellowside Vert / Turquoise Vert // Yellowside Cinnamon Vert // Yellowside Turquoise Vert //Cinnamon Turquoise Vert /// Yellowside Cinnamon Turquoise | I11: Vert Vert / Cinnamon Vert / Yellowside Vert / Turquoise Vert // Yellowside Cinnamon Vert // Yellowside Turquoise Vert //Cinnamon Turquoise Vert /// Yellowside Cinnamon Turquoise Turquoise Turquoise / Cinnamon Turquoise / Yellowside Turquoise // Yellowside Cinnamon | J11: Vert / Yellowside Vert // Yellowside Cinnamon Vert // Yellowside Turquoise Vert /// Yellowside Cinnamon Turquoise Yellowside Yellowside / Cinnamon Yellowside / Turquoise Yellowside // Cinnamon Turquoise | K11: Vert / Yellowside Vert // Yellowside Cinnamon Vert // Yellowside Turquoise Vert /// Yellowside Cinnamon Turquoise Yellowside Yellowside / Cinnamon Yellowside / Turquoise Yellowside // Cinnamon Turquoise Turquoise / Yellowside Turquoise // Yellowside Cinnamon TurquoiseYellowside TurquoiseYellowside / Cinnamon | L11: Vert / Cinnamon Vert // Cinnamon Turquoise Vert // Yellowside Cinnamon Vert /// Yellowside Cinnamon Turquoise Cinnamon Cinnamon / Yellowside Cinnamon / Turquoise Cinnamon // Yellowside Turquoise | M11: Vert / Cinnamon Vert // Cinnamon Turquoise Vert // Yellowside Cinnamon Vert /// Yellowside Cinnamon Turquoise Cinnamon Cinnamon / Yellowside Cinnamon / Turquoise Cinnamon // Yellowside Turquoise Turquoise / Cinnamon Turquoise // Yellowside CInnamon TurquoiseCinnamon TurquoiseCinnamon / Yellowside | N11: Vert // Yellowside Cinnamon Vert /// Yellowside Cinamon Turquoise Yellowside / Cinnamon Yellowside / Turquoise Yellowside // Cinnamon Turquoise Cinnamon / Yellowside Cinnamon / Turquoise Cinnamon // Yellowside Turquoise Pineapple Pineapple / Turquoise | O11: Vert // Yellowside Cinnamon Vert /// Yellowside Cinamon Turquoise Yellowside / Cinnamon Yellowside // Cinnamon Turquoise Cinnamon / Yellowside Cinnamon // Yellowside Turquoise Pineapple Pineapple / Turquoise Turquoise // Yellowside Cinnamon TurquoiseYellowside / Cinnamon TurquoiseCinnamon / Yellowside TurquoisePineapple | P11: Vert / Turquoise Vert // Cinnamon Turquoise Vert // Yellowside Turquoise Vert /// Yellowside Cinnamon Turquoise Turquoise Turquoise / Yellowside Turquoise / Cinnamon Turquoise // Yellowside Cinnamon | Q11: Vert // Cinnamon Turquoise Vert /// Yellowside Cinnamon Turquoise Cinnamon / Turquoise Cinnamon // Yellowside Turquoise Turquoise / Cinnamon Turquoise // Yellowside Cinnamon TurquoiseCinnamon TurquoiseCinnamon / Yellowside | R11: Vert // Yellowside Turquoise Vert /// Yellowside Cinnamon Turquoise Yellowside / Turquoise Yellowside // Cinnamon Turquoise Turquoise / Yellowside Turquoise // Yellowside Cinnamon TurquoiseYellowside TurquoiseYellowside / Cinnamon | S11: Vert /// Yellowside Cinnamon Turquoise Yellowside // Cinnamon Turquoise Cinnamon // Yellowside Turquoise Pineapple / Turquoise Turquoise // Yellowside Cinnamon TurquoiseYellowside / Cinnamon TurquoiseCinnamon / Yellowside TurquoisePineapple
A12: yellowside / turquoise | B12: TurquoiseYellowside | D12: yellowside / turquoise | E12: turquoiseyellowside | G12: Yellowside | H12: Vert / Yellowside | I12: Vert / Yellowside Vert // Yellowside Turquoise | J12: Yellowside | K12: Yellowside Yellowside / Turquoise | L12: Vert // Yellowside Cinnamon | M12: Vert // Yellowside Cinnamon Vert /// Yellowside Cinnamon Turquoise | N12: Yellowside / Cinnamon | O12: Yellowside / Cinnamon Yellowside // Cinnamon Turquoise | P12: Vert // Yellowside Turquoise | Q12: Vert /// Yellowside Cinnamon Turquoise | R12: Yellowside / Turquoise | S12: Yellowside // Cinnamon Turquoise
A13: yellowside // turquoise cinnamon | B13: TurquoisePineapple | D13: yellowside // turquoise cinnamon | E13: turquoisepineapple | G13: Yellowside / Cinamon | H13: Vert / Yellowside Vert // Yellowside Cinnamon | I13: Vert / Yellowside Vert // Yellowside Cinnamon Vert // Yellowside Turquoise Vert /// Yellowside Cinnamon Turquoise | J13: Yellowside Yellowside / Cinnamon | K13: Yellowside Yellowside / Cinnamon Yellowside / Turquoise Yellowside // Cinnamon Turquoise | L13: Vert // Yellowside Cinnamon Cinnamon / Yellowside | M13: Vert // Yellowside Cinnamon Vert /// Yellowside Cinnamon Turquoise Cinnamon / Yellowside Cinnamon // Yellowside Turquoise | N13: Yellowside / Cinnamon YellowsideCinnamon | O13: Yellowside / Cinnamon Yellowside // Cinnamon Turquoise Pineapple Pineapple / Turquoise | P13: Vert // Yellowside Turquoise Vert /// Yellowside Cinnamon Turquoise | Q13: Vert /// Yellowside Cinnamon Turquoise Cinnamon // Yellowside Turquoise | R13: Yellowside / Turquoise Yellowside // Cinnamon Turquoise | S13: Yellowside // Cinnamon Turquoise Pineapple / Turquoise
A14: Cinnamon | D14: Cinnamon | G14: Yellowside / Turquoise | H14: Vert / Yellowside Vert // Yellowside Turquoise | I14: Vert / Yellowside Vert // Yellowside Turquoise Turquoise / Yellowside | J14: Yellowside Yellowside / Turquoise | K14: Yellowside Yellowside / Turquoise TurquoiseYellowside | L14: Vert // Yellowside Cinnamon Vert /// Yellowside Cinnamon Turquoise | M14: Vert // Yellowside Cinnamon Vert /// Yellowside Cinnamon Turquoise Turquoise // Yellowside CInnamon | N14: Yellowside / Cinnamon Yellowside // Cinnamon Turquoise | O14: Yellowside / Cinnamon Yellowside // Cinnamon Turquoise TurquoiseYellowside / Cinnamon | P14: Vert // Yellowside Turquoise Turquoise / Yellowside | Q14: Vert /// Yellowside Cinnamon Turquoise Turquoise // Yellowside Cinnamon | R14: Yellowside / Turquoise TurquoiseYellowside | S14: Yellowside // Cinnamon Turquoise TurquoiseYellowside / Cinnamon
A15: cinnamon / yellowside | D15: cinnamon / yellowside | G15: Yellowside // Turquoise cinnamon | H15: Vert / Yellowside Vert // Yellowside Cinnamon Vert // Yellowside Turquoise Vert /// Yellowside Cinnamon Turquoise | I15: Vert / Yellowside Vert // Yellowside Cinnamon Vert // Yellowside Turquoise Vert /// Yellowside Cinnamon Turquoise Turquoise / Yellowside Turquoise // Yellowside Cinnamon | J15: Yellowside Yellowside / Cinnamon Yellowside / Turquoise Yellowside // Cinnamon Turquoise | K15: Yellowside Yellowside / Cinnamon Yellowside / Turquoise Yellowside // Cinnamon Turquoise TurquoiseYellowside TurquoiseYellowside / Cinnamon | L15: Vert // Yellowside Cinnamon Vert /// Yellowside Cinamon Turquoise Cinnamon / Yellowside Cinnamon // Yellowside Turquoise | M15: Vert // Yellowside Cinnamon Vert /// Yellowside Cinnamon Turquoise Cinnamon / Yellowside Cinnamon // Yellowside Turquoise Turquoise // Yellowside CInnamon TurquoiseCinnamon / Yellowside | N15: Yellowside / Cinnamon Yellowside // Cinnamon Turquoise Pineapple Pineapple / Turquoise | O15: Yellowside / Cinnamon Yellowside // Cinnamon Turquoise Pineapple Pineapple / Turquoise TurquoiseYellowside / Cinnamon TurquoisePineapple | P15: Vert // Yellowside Turquoise Vert /// Yellowside Cinnamon Turquoise Turquoise / Yellowside Turquoise // Yellowside Cinnamon | Q15: Vert /// Yellowside Cinnamon Turquoise Cinnamon // Yellowside Turquoise Turquoise // Yellowside Cinnamon TurquoiseCinnamon / Yellowside | R15: Yellowside / Turquoise Yellowside // Cinnamon Turquoise TurquoiseYellowside TurquoiseYellowside / Cinnamon | S15: Yellowside // Cinnamon Turquoise Pineapple / Turquoise TurquoiseYellowside / Cinnamon TurquoisePineapple
A16: cinnamon / turquoise | D16: cinnamon / turquoise | G16: Cinnamon | H16: Vert / Cinnamon | I16: Vert / Cinnamon Vert // Cinnamon Turquoise | J16: Vert // Yellowside Cinnamon | K16: Vert // Yellowside Cinnamon Vert /// Yellowside Cinnamon Turquoise | L16: Cinnamon | M16: Cinnamon Cinnamon / Turquoise | N16: Cinnamon / Yellowside | O16: Cinnamon / Yellowside Cinnamon // Yellowside Turquoise | P16: Vert // Cinnamon Turquoise | Q16: Cinnamon / Turquoise | R16: Vert /// Yellowside Cinnamon Turquoise | S16: Cinnamon // Yellowside Turquoise
A17: cinnamon // turquoise yellowside | D17: cinnamon // turquoise yellowside | G17: cinnamon / yellowside | H17: Vert / Cinnamon Vert // Yellowside Cinnamon | I17: Vert / Cinnamon Vert // Cinnamon Turquoise Vert // Yellowside Cinnamon Vert /// Yellowside Cinnamon Turquoise | J17: Vert // Yellowside Cinnamon Yellowside / Cinnamon | K17: Vert // Yellowside Cinnamon Vert /// Yellowside Cinnamon Turquoise Yellowside / Cinnamon Yellowside / Turquoise | L17: Cinnamon Cinnamon / Yellowside | M17: Cinnamon Cinnamon / Yellowside Cinnamon / Turquoise Cinnamon // Yellowside Turquoise | N17: Cinnamon / Yellowside Pineapple | O17: Cinnamon / Yellowside Cinnamon // Yellowside Turquoise Pineapple Pineapple / Turquoise | P17: Vert // Cinnamon Turquoise Vert /// Yellowside Cinnamon Turquoise | Q17: Cinnamon / Turquoise Cinnamon // Yellowside Turquoise | R17: Vert /// Yellowside Cinnamon Turquoise Yellowside // Cinnamon Turquoise | S17: Cinnamon // Yellowside Turquoise Pineapple / Turquoise
A18: Pineapple | D18: Pineapple | G18: cinnamon / turquoise | H18: Vert / Cinnamon Vert // Cinnamon Turquoise | I18: Vert / Cinnamon Vert // Cinnamon Turquoise Turquoise / Cinnamon | J18: Vert // Yellowside Cinnamon Vert /// Yellowside Cinnamon Turquoise | K18: Vert // Yellowside Cinnamon Vert /// Yellowside Cinnamon Turquoise Turquoise // Yellowside Cinnamon | L18: Cinnamon Cinnamon / Turquoise | M18: Cinnamon Cinnamon / Turquoise TurquoiseCinnamon | N18: Cinnamon / Yellowside Cinnamon // Yellowside Turquoise | O18: Cinnamon / Yellowside Cinnamon // Yellowside Turquoise TurquoiseCinnamon / Yellowside | P18: Vert // Cinnamon Turquoise Turquoise / Cinnamon | Q18: Cinnamon / Turquoise TurquoiseCinnamon | R18: Vert /// Yellowside Cinnamon Turquoise Turquoise // Yellowside Cinnamon | S18: Cinnamon // Yellowside Turquoise TurquoiseCinnamon / Yellowside
A19: pineapple / turquoise | D19: pineapple / turquoise | G19: cinnamon // turquoise yellowside | H19: Vert / Cinnamon Vert // Cinnamon Turquoise Vert // Yellowside Cinnamon Vert /// Yellowside Cinnamon Turquoise | I19: Vert / Cinnamon Vert // Cinnamon Turquoise Vert // Yellowside Cinnamon Vert /// Yellowside Cinnamon Turquoise Turquoise / Cinnamon Turquoise // Yellowside Cinnamon | J19: Vert // Yellowside Cinnamon Vert /// Yellowside Cinnamon Turquoise Yellowside / Cinnamon Yellowside // Cinnamon Turquoise | K19: Vert // Yellowside Cinnamon Vert /// Yellowside Cinnamon Turquoise Yellowside / Cinnamon Yellowside // Cinnamon Turquoise Turquoise // Yellowside Cinnamon TurquoiseYellowside / Cinnamon | L19: Cinnamon Cinnamon / Yellowside Cinnamon / Turquoise Cinnamon // Yellowside Turquoise | M19: Cinnamon Cinnamon / Yellowside Cinnamon / Turquoise Cinnamon // Yellowside Turquoise TurquoiseCinnamon TurquoiseCinnamon / Yellowside | N19: Cinnamon / Yellowside Cinnamon // Yellowside Turquoise Pineapple Pineapple / Turquoise | O19: Cinnamon / Yellowside Cinnamon // Yellowside Turquoise Pineapple Pineapple / Turquoise TurquoiseCinnamon / Yellowside TurquoisePineapple | P19: Vert // Cinnamon Turquoise Vert /// Yellowside Cinnamon Turquoise Turquoise / Cinnamon Turquoise // Yellowside Cinnamon | Q19: Cinnamon / Turquoise Cinnamon // Yellowside Turquoise TurquoiseCinnamon TurquoiseCinnamon / Yellowside | R19: Vert /// Yellowside Cinnamon Turquoise Yellowside // Cinnamon Turquoise Turquoise // Yellowside Cinnamon TurquoiseYellowside / Cinnamon | S19: Cinnamon // Yellowside Turquoise Pineapple / Turquoise TurquoiseCinnamon / Yellowside TurquoisePineapple
A20: Turquoise | D20: Turquoise | G20: Pineapple | H20: Vert // Yellowside Cinnamon | I20: Vert // Yellowside Cinnamon Vert /// Yellowside Cinnamon Turquoise | J20: Yellowside / Cinnamon | K20: Yellowside / Cinnamon Yellowside // Cinnamon Turquoise | L20: Cinnamon / Yellowside | M20: Cinnamon / Yellowside Cinnamon // Yellowside Turquoise | N20: Pineapple | O20: Pineapple Pineapple / Turquoise | P20: Vert /// Yellowside Cinnamon Turquoise | Q20: Cinnamon // Yellowside Turquoise | R20: Yellowside // Cinnamon Turquoise | S20: Pineapple / Turquoise
A21: turquoise / yellowside | D21: turquoise / yellowside | G21: Pineapple / Turquoise | H21: Vert // Yellowside Cinnamon Vert /// Yellowside Cinnamon Turquoise | I21: Vert // Yellowside Cinnamon Vert /// Yellowside Cinnamon Turquoise Turquoise // Yellowside Cinnamon | J21: Yellowside / Cinnamon Yellowside // Cinnamon Turquoise | K21: Yellowside / Cinnamon Yellowside // Cinnamon Turquoise TurquoiseYellowside / Cinnamon | L21: Cinnamon / Yellowside Cinnamon // Yellowside Turquoise | M21: Cinnamon / Yellowside Cinnamon // Yellowside Turquoise TurquoiseCinnamon / Yellowside | N21: Pineapple Pineapple / Turquoise | O21: Pineapple Pineapple / Turquoise TurquoisePineapple | P21: Vert /// Yellowside Cinnamon Turquoise Turquoise // Yellowside Cinnamon | Q21: Cinnamon // Yellowside Turquoise TurquoiseCinnamon / Yellowside | R21: Yellowside // Cinnamon Turquoise TurquoiseYellowside / Cinnamon | S21: Pineapple / Turquoise TurquoisePineapple
A22: turquoise / cinnamon | D22: turquoise / cinnamon | G22: Turquoise | H22: Vert / Turquoise | I22: Vert / Turquoise Turquoise | J22: Vert // Yellowside Turquoise | K22: Vert // Yellowside Turquoise Turquoise / Yellowside | L22: Vert // Cinnamon Turquoise | M22: Vert // Cinnamon Turquoise Turquoise / Cinnamon | N22: Vert /// Yellowside Cinnamon Turquoise | O22: Vert /// Yellowside Cinnamon Turquoise Turquoise // Yellowside Cinnamon | P22: Turquoise | Q22: Turquoise / Cinnamon | R22: Turquoise / Yellowside | S22: Turquoise // Yellowside Cinnamon
A23: turquoise // yellowside cinamon | D23: turquoise // yellowside cinamon | G23: turquoise / yellowside | H23: Vert / Turquoise Vert // Yellowside Turquoise | I23: Vert / Turquoise Vert // Yellowside Turquoise Turquoise Turquoise / Yellowside | J23: Vert // Yellowside Turquoise Yellowside / Turquoise | K23: Vert // Yellowside Turquoise Yellowside / Turquoise Turquoise / Yellowside TurquoiseYellowside | L23: Vert // Cinnamon Turquoise Vert /// Yellowside Cinnamon Turquoise | M23: Vert // Cinnamon Turquoise Vert /// Yellowside Cinnamon Turquoise Turquoise / Cinnamon Turquoise // Yellowside Cinnamon | N23: Vert /// Yellowside Cinnamon Turquoise Yellowside // Cinnamon Turquoise | O23: Vert /// Yellowside Cinnamon Turquoise Yellowside // Cinnamon Turquoise Turquoise // Yellowside CInnamon TurquoiseYellowside / Cinnamon | P23: Turquoise Turquoise / Yellowside | Q23: Turquoise / Cinnamon Turquoise // Yellowside Cinnamon | R23: Turquoise / Yellowside TurquoiseYellowside | S23: Turquoise // Yellowside Cinnamon TurquoiseYellowside / Cinnamon
A24: TurquoiseCinnamon | D24: turquoise cinnamon | G24: Turquoise / Cinnamon | H24: Vert / Turquoise Vert // Cinnamon Turquoise | I24: Vert / Turquoise Vert // Cinnamon Turquoise Turquoise Turquoise / Cinnamon | J24: Vert // Yellowside Turquoise Vert /// Yellowside Cinnamon Turquoise | K24: Vert // Yellowside Turquoise Vert /// Yellowside Cinnamon Turquoise Turquoise / Yellowside Turquoise // Yellowside Cinnamon | L24: Vert // Cinnamon Turquoise Cinnamon / Turquoise | M24: Vert // Cinnamon Turquoise Cinnamon / Turquoise Turquoise / Cinnamon TurquoiseCinnamon | N24: Vert /// Yellowside Cinnamon Turquoise Cinnamon // Yellowside Turquoise | O24: Vert /// Yellowside Cinnamon Turquoise CInnamon // Yellowside Turquoise Turquoise // Yellowside CInnamon TurquoiseCinnamon / Yellowside | P24: Turquoise Turquoise / Cinnamon | Q24: Turquoise / Cinnamon TurquoiseCinnamon | R24: Turquoise / Yellowside Turquoise // Yellowside Cinnamon | S24: Turquoise // Yellowside Cinnamon TurquoiseCinnamon / Yellowside
A25: TurquoiseCinnamon / yellowside | D25: turquoise cinnamon / yellowside | G25: Turquoise // Yellowside Cinamon | H25: Vert / Turquoise Vert // Yellowside Turquoise Vert // Cinnamon Turquoise Vert /// Yellowside Cinnamon Turquoise | I25: Vert / Turquoise Vert // Yellowside Turquoise Vert // Cinnamon Turquoise Vert /// Yellowside Cinnamon Turquoise Turquoise Turquoise / Yellowside Turquoise / Cinnamon Turquoise // Yellowside Cinnamon | J25: Vert // Yellowside Turquoise Vert /// Yellowside Cinnamon Turquoise Yellowside / Turquoise Yellowside // Cinnamon Turquoise | K25: Vert // Yellowside Turquoise Vert /// Yellowside Cinnamon Turquoise Yellowside / Turquoise Yellowside // Cinnamon Turquoise Turquoise / Yellowside Turquoise // Yellowside Cinnamon | L25: Vert // Yellowside Turquoise Vert /// Yellowside Cinnamon Turquoise Cinnamon / Turquoise Cinnamon // Yellowside Turquoise | M25: Vert // Yellowside Turquoise Vert /// Yellowside Cinnamon Turquoise Cinnamon / Turquoise Cinnamon // Yellowside Turquoise Turquoise / Cinnamon Turquoise // Yellowside Cinnamon TurquoiseCinnamon TurquoiseCinnamon / Yellowside | N25: Vert /// Yellowside Cinnamon Turquoise Yellowside // Cinnamon Turquoise Cinnamon // Yellowside Turquoise Pineapple / Turquoise | O25: Vert /// Yellowside Cinnamon Turquoise Yellowside // Cinnamon Turquoise CInnamon // Yellowside Turquoise Pineapple / Turquoise Turquoise // Yellowside CInnamon TurquoiseCinnamon / Yellowside TurquoiseYellowside / Cinnamon TurquoisePinneaple | P25: Turquoise Turquoise / Cinnamon Turquoise / Yellowside Turquoise // Yellowside Cinnamon | Q25: Turquoise / Cinnamon Turquoise// Yellowside Cinnamon TurquoiseCinnamon TurquoiseCinnamon / Yellowside | R25: Turquoise / Yellowside Turquoise // Yellowside Cinnamon TurquoiseYellowside TurquoiseYellowside / Cinnamon | S25: Turquoise // Yellowside Cinnamon TurquoiseYellowside / Cinnamon TurquoiseCinnamon / Yellowside TurquoisePineapple
... A28: TurquoisePineapple | D28: turquoise pineapple | G28: TurquoiseYellowside | H28: Vert // Yellowside Turquoise | I28: Vert // Yellowside Turquoise Turquoise / Yellowside | J28: Yellowside / Turquoise | K28: Yellowside / Turquoise TurquoiseYellowside | L28: Vert /// Yellowside Cinnamon Turquoise | M28: Vert /// Yellowside Cinnamon Turquoise Turquoise // Yellowside Cinnamon | N28: Yellowside // Cinnamon Turquoise | O28: Yellowside // Cinnamon Turquoise TurquoiseYellowside / Cinnamon | P28: Turquoise / Yellowside | Q28: Turquoise // Yellowside Cinnamon | R28: TurquoiseYellowside | S28: TurquoiseYellowside / Cinnamon
G29: TurquoiseYellowside / Cinnamon | H29: Vert // Yellowside Turquoise Vert /// Yellowside Cinnamon Turquoise | I29: Vert // Yellowside Turquoise Vert /// Yellowside Cinnamon Turquoise Turquoise / Yellowside Turquoise // Yellowside Cinnamon | J29: Yellowside / Turquoise Yellowside // Cinnamon Turquoise | K29: Yellowside / Turquoise Yellowside // Cinnamon Turquoise TurquoiseYellowside TurquoiseYellowside / Cinnamon | L29: Vert /// Yellowside Cinnamon Turquoise Cinnamon // Yellowside Turquoise | M29: Vert /// Yellowside Cinnamon Turquoise Cinnamon // Yellowside Turquoise Turquoise // Yellowside Cinnamon TurquoiseCinnamon / Yellowside | N29: Yellowside // Cinnamon Turquoise Pineapple / Turquoise | O29: Yellowside // Cinnamon Turquoise Pineapple / Turquoise TurquoiseYellowside / Cinnamon TurquoisePineapple | P29: Turquoise / Yellowside Turquoise // Yellowside Cinnamon | Q29: Turquoise // Yellowside Cinnamon TurquoiseCinnamon / Yellowside | R29: TurquoiseYellowside TurquoiseYellowside / Cinnamon | S29: TurquoiseYellowside / Cinnamon TurquoisePineapple
G30: TurquoisePineapple | H30: Vert /// Yellowside Cinnamon Turquoise | I30: Vert /// Yellowside Cinnamon Turquoise Turquoise // Yellowside Cinnamon | J30: Yellowside // Cinnamon Turquoise | K30: Yellowside // Cinnamon Turquoise TurquoiseYellowside / Cinnamon | L30: Cinnamon // Yellowside Turquoise | M30: Cinnamon // Yellowside Turquoise TurquoiseCinnamon / Yellowside | N30: Pineapple / Turquoise | O30: Pineapple / Turquoise TurquoisePineapple | P30: Turquoise // Yellowside Cinnamon | Q30: TurquoiseCinnamon / Yellowside | R30: TurquoiseYellowside / Cinnamon | S30: TurquoisePineapple
G31: Bébe Femelle
G32: Mâle | I32: Femelle
H33: Vert | I33: Vert / Turquoise | J33: Yellowside | K33: Yellowside / Turquoise | L33: Cinnamon | M33: Cinnamon / Turquoise | N33: Pineapple | O33: Pineapple / Turquoise | P33: Turquoise | Q33: TurquoiseCinnamon | R33: TurquoiseYellowside | S33: TurquoisePineapple
G34: Vert | H34: Vert | I34: Vert Vert / Turquoise | J34: Vert | K34: Vert Vert / Turquoise | L34: Vert | M34: vert vert / turquoise | N34: Vert | O34: Vert Vert / Turquoise | P34: vert / Turquoise | Q34: Vert / Turquoise | R34: Vert / Turquoise | S34: Vert / Turquoise
G35: Vert / Yellowside | H35: Vert Yellowside | I35: Vert Vert / Turquoise Yellowside Yellowside / Turquoise | J35: Vert Yellowside | K35: Vert Vert / turquoise Yellowside Yellowside / turquoise | L35: Vert Yellowside | M35: vert vert / turquoise yellowside yellowside / turquoise | N35: Vert Yellowside | O35: Vert Vert / turquoise Yellowside Yellowside / turquoise | P35: Vert / Turquoise Yellowside / Turquoise | Q35: Vert / Turquoise Yellowside / Turquoise | R35: Vert / Turquoise Yellowside / Turquoise | S35: Vert / Turquoise Yellowside / Turquoise
G36: Vert / Cinnamon | H36: Vert Cinnamon | I36: Vert Cinnamon Cinnamon / Turquoise | J36: Vert Cinnamon | K36: Vert Cinnamon Cinnamon / Turquoise | L36: Vert Cinnamon | M36: Vert Cinnamon Cinnamon / Turquoise | N36: Vert Cinnamon | O36: Vert Cinnamon Cinnamon / Turquoise | P36: Vert / Turquoise Cinnamon / Turquoise | Q36: Vert / Turquoise Cinnamon / Turquoise | R36: Vert / Turquoise Cinnamon / Turquoise | S36: Vert / Turquoise Cinnamon / Turquoise
G37: Vert / Turquoise | H37: Vert Vert / Turquoise | I37: vert Vert / turquoise Turquoise | J37: Vert Vert / Turquoise | K37: Vert Vert / Turquoise Turquoise | L37: Vert Vert / Turquoise | M37: Vert Vert / Turquoise Turquoise | N37: Vert Vert / Turquoise | O37: Vert Vert / Turquoise Turquoise | P37: Vert / Turquoise Turquoise | Q37: Vert / Turquoise Turquoise | R37: Vert / Turquoise Turquoise | S37: Vert / Turquoise Turquoise
G38: Vert // Yellowside Cinnamon | H38: Cinnamon Yellowside Pineapple | I38: Vert Vert / Turquoise Yellowside Yellowside / Turquoise Cinnamon Cinnamon / Turquoise Pineapple Pineapple / Turquoise | J38: Vert Yellowside Cinnamon Pineapple | K38: Vert Vert / Turquoise Yellowside Yellowside / Turquoise Cinnamon Cinnamon / Turquoise Pineapple Pineapple / Turquoise | L38: Vert Yellowside Cinnamon Pineapple | M38: Vert Vert / Turquoise Yellowside Yellowside / Turquoise Cinnamon Cinnamon / Turquoise Pineapple Pineapple / Turquoise | N38: Vert Yellowside Cinnamon Pineapple | O38: Vert Vert / Turquoise Yellowside Yellowside / Turquoise Cinnamon Cinnamon / Turquoise Pineapple Pineapple / Turquoise | P38: Vert / Turquoise Yellowside / Turquoise Cinnamon / Turquoise Pineapple / Turquoise | Q38: Vert / Turquoise Yellowside / Turquoise Cinnamon / Turquoise Pineapple / Turquoise | R38: Vert / Turquoise Yellowside / Turquoise Cinnamon / Turquoise Pineapple / Turquoise | S38: Vert / Turquoise Yellowside / Turquoise Cinnamon / Turquoise Pineapple / Turquoise
G39: Vert // Cinnamon Turquoise | H39: Vert Vert / Turquoise Cinnamon Cinnamon / Turquoise | I39: Vert Vert / Turquoise Cinnamon Cinnamon / Turquoise Turquoise TurquoiseCinnamon | J39: Vert Vert / Turquoise Cinnamon Cinnamon / Turquoise | K39: Vert Vert / Turquoise Cinnamon Cinnamon / Turquoise Turquoise TurquoiseCinnamon | L39: Vert Vert / Turquoise Cinnamon Cinnamon / Turquoise | M39: Vert Vert / Turquoise Cinnamon Cinnamon / Turquoise Turquoise TurquoiseCinnamon | N39: Vert Vert / Turquoise Cinnamon Cinnamon / Turquoise | O39: Vert Vert / Turquoise Cinnamon Cinnamon / Turquoise Turquoise TurquoiseCinnamon | P39: Vert / Turquoise Cinnamon / Turquoise Turquoise TurquoiseCinnamon | Q39: Vert / Turquoise Cinnamon / Turquoise Turquoise TurquoiseCinnamon | R39: Vert / Turquoise Cinnamon / Turquoise Turquoise TurquoiseCinnamon | S39: Vert / Turquoise Cinnamon / Turquoise Turquoise TurquoiseCinnamon
G40: vert // yellowside turquoise | H40: vert vert / turquoise yellowside yellowside / turquoise | I40: vert vert / turquoise yellowside yellowside / turquoise Turquoise TurquoiseYellowside | J40: Vert Vert / Turquoise Yellowside Yellowside / Turquoise | K40: Vert Vert / Turquoise Yellowside Yellowside / Turquoise Turquoise TurquoiseYellowside | L40: Vert Vert / Turquoise Yellowside Yellowside / Turquoise | M40: Vert Vert / Turquoise Yellowside Yellowside / Turquoise Turquoise TurquoiseYellowside | N40: Vert Vert / Turquoise Yellowside Yellowside / Turquoise | O40: Vert Vert / Turquoise Yellowside Yellowside / Turquoise Turquoise TurquoiseYellowside | P40: Vert Vert / Turquoise Yellowside Yellowside / Turquoise Turquoise TurquoiseYellowside | Q40: Vert / Turquoise Yellowside / Turquoise Turquoise TurquoiseYellowside | R40: Vert / Turquoise Yellowside / Turquoise Turquoise TurquoiseYellowside | S40: Vert / Turquoise Yellowside / Turquoise Turquoise TurquoiseYellowside
G41: Vert /// Yellowside Cinnamon Turquoise | H41: Vert Vert / Turquoise Yellowside Yellowside / Turquoise Cinnamon Cinnamon / Turquoise Pineapple Pineapple / Turquoise | I41: Vert Vert / Turquoise Yellowside Yellowside / Turquoise Cinnamon Cinnamon / Turquoise Pineapple Pineapple / Turquoise Turquoise TurquoiseCinnamon TurquoiseYellowside TurquoisePineapple | J41: Vert Vert / Turquoise Yellowside Yellowside / Turquoise Cinnamon Cinnamon / Turquoise Pineapple Pineapple / Turquoise | K41: Vert Vert / Turquoise Yellowside Yellowside / Turquoise Cinnamon Cinnamon / Turquoise Pineapple Pineapple / Turquoise Turquoise TurquoiseCinnamon TurquoiseYellowside TurquoisePineapple | L41: Vert Vert / Turquoise Yellowside Yellowside / Turquoise Cinnamon Cinnamon / Turquoise Pineapple Pineapple / Turquoise | M41: Vert Vert / Turquoise Yellowside Yellowside / Turquoise Cinnamon Cinnamon / Turquoise Pineapple Pineapple / Turquoise Turquoise TurquoiseCinnamon TurquoiseYellowside TurquoisePineapple | N41: Vert Vert / Turquoise Yellowside Yellowside / Turquoise Cinnamon Cinnamon / Turquoise Pineapple Pineapple / Turquoise | O41: Vert Vert / Turquoise Yellowside Yellowside / Turquoise Cinnamon Cinnamon / Turquoise Pineapple Pineapple / Turquoise Turquoise TurquoiseCinnamon TurquoiseYellowside TurquoisePineapple | P41: Vert / Turquoise Yellowside / Turquoise Cinnamon / Turquoise Pineapple / Turquoise Turquoise TurquoiseCinnamon TurquoiseYellowside TurquoisePineapple | Q41: Vert / Turquoise Yellowside / Turquoise Cinnamon / Turquoise Pineapple / Turquoise Turquoise TurquoiseCinnamon TurquoiseYellowside TurquoisePineapple | R41: Vert / Turquoise Yellowside / Turquoise Cinnamon / Turquoise Pineapple / Turquoise Turquoise TurquoiseCinnamon TurquoiseYellowside TurquoisePineapple | S41: Vert / Turquoise Yellowside / Turquoise Cinnamon / Turquoise Pineapple / Turquoise Turquoise TurquoiseCinnamon TurquoiseYellowside TurquoisePineapple
G42: Yellowside | H42: Yellowside | I42: Yellowside Yellowside / Turquoise | J42: Yellowside | K42: Yellowside Yellowside / Turquoise | L42: Yellowside | M42: Yellowside Yellowside / Turquoise | N42: Yellowside | O42: Yellowside Yellowside / Turquoise | P42: Yellowside / Turquoise | Q42: Yellowside / Turquoise | R42: Yellowside / Turquoise | S42: Yellowside / Turquoise
...

Sheet Auto
A2: SexeBébé | B2: Père | C2: Mère | E2: types bébés | F2: type 1 | G2: reste | H2: type2 | I2: reste | J2: Type3 | K2: reste | L2: Type4 | M2: Reste | N2: Type5 | O2: reste | P2: Type6 | Q2: reste | R2: Type7 | S2: reste | T2: Type8 | U2: reste | V2: Type9 | W2: reste | X2: Type10 | Y2: reste | Z2: Type11 | AA2: reste | AB2: Type12 | AC2: reste | AF2: SexeBebe | AG2: Père | AH2: Mere
A3: Male | B3: =Tables!G4 -> Vert | C3: =Tables!$H$3 -> Vert | D3: =A3&B3&C3 -> MaleVertVert | E3: =Tables!H4 -> Vert | F3: =IF(ISERROR(SEARCH(CHAR(10),E3,1)),E3,LEFT(E3,SEARCH(CHAR(10),E3,1))) -> Vert | G3: =RIGHT(E3,LEN(E3)-LEN(F3)) | H3: =IF(ISERROR(SEARCH(CHAR(10),G3,1)),G3,LEFT(G3,SEARCH(CHAR(10),G3,1))) | I3: =RIGHT(G3,LEN(E3)-LEN(F3)-LEN(H3)) | J3: =IF(ISERROR(SEARCH(CHAR(10),I3,1)),I3,LEFT(I3,SEARCH(CHAR(10),I3,1))) | K3: =RIGHT(I3,LEN(E3)-LEN(F3)-LEN(H3)-LEN(J3)) | L3: =IF(ISERROR(SEARCH(CHAR(10),K3,1)),K3,LEFT(K3,SEARCH(CHAR(10),K3,1))) | M3: =RIGHT(K3,LEN(G3)-LEN(H3)-LEN(J3)-LEN(L3)) | N3: =IF(ISERROR(SEARCH(CHAR(10),M3,1)),M3,LEFT(M3,SEARCH(CHAR(10),M3,1))) | O3: =RIGHT(M3,LEN(I3)-LEN(J3)-LEN(L3)-LEN(N3)) | P3: =IF(ISERROR(SEARCH(CHAR(10),O3,1)),O3,LEFT(O3,SEARCH(CHAR(10),O3,1))) | Q3: =RIGHT(O3,LEN(K3)-LEN(L3)-LEN(N3)-LEN(P3)) | R3: =IF(ISERROR(SEARCH(CHAR(10),Q3,1)),Q3,LEFT(Q3,SEARCH(CHAR(10),Q3,1))) | S3: =RIGHT(Q3,LEN(M3)-LEN(N3)-LEN(P3)-LEN(R3)) | T3: =IF(ISERROR(SEARCH(CHAR(10),S3,1)),S3,LEFT(S3,SEARCH(CHAR(10),S3,1))) | U3: =RIGHT(S3,LEN(O3)-LEN(P3)-LEN(R3)-LEN(T3)) | V3: =IF(ISERROR(SEARCH(CHAR(10),U3,1)),U3,LEFT(U3,SEARCH(CHAR(10),U3,1))) | W3: =RIGHT(U3,LEN(Q3)-LEN(R3)-LEN(T3)-LEN(V3)) | X3: =IF(ISERROR(SEARCH(CHAR(10),W3,1)),W3,LEFT(W3,SEARCH(CHAR(10),W3,1))) | Y3: =RIGHT(W3,LEN(S3)-LEN(T3)-LEN(V3)-LEN(X3)) | Z3: =IF(ISERROR(SEARCH(CHAR(10),Y3,1)),Y3,LEFT(Y3,SEARCH(CHAR(10),Y3,1))) | AA3: =RIGHT(Y3,LEN(U3)-LEN(V3)-LEN(X3)-LEN(Z3)) | AB3: =IF(ISERROR(SEARCH(CHAR(10),AA3,1)),AA3,LEFT(AA3,SEARCH(CHAR(10),AA3,1))) | AC3: =RIGHT(AA3,LEN(W3)-LEN(X3)-LEN(Z3)-LEN(AB3)) | AF3: =A3 -> Male | AG3: =B3 -> Vert | AH3: =C3 -> Vert
A4: =A3 -> Male | B4: =Tables!G5 -> Vert / Yellowside | C4: =Tables!$H$3 -> Vert | D4: =A4&B4&C4 -> MaleVert / YellowsideVert | E4: =Tables!H5 -> Vert Vert / yellowside | F4: =IF(ISERROR(SEARCH(CHAR(10),E4,1)),E4,LEFT(E4,SEARCH(CHAR(10),E4,1))) -> Vert | G4: =RIGHT(E4,LEN(E4)-LEN(F4)) -> Vert / yellowside | H4: =IF(ISERROR(SEARCH(CHAR(10),G4,1)),G4,LEFT(G4,SEARCH(CHAR(10),G4,1))) -> Vert / yellowside | I4: =RIGHT(G4,LEN(E4)-LEN(F4)-LEN(H4)) | J4: =IF(ISERROR(SEARCH(CHAR(10),I4,1)),I4,LEFT(I4,SEARCH(CHAR(10),I4,1))) | K4: =RIGHT(I4,LEN(E4)-LEN(F4)-LEN(H4)-LEN(J4)) | L4: =IF(ISERROR(SEARCH(CHAR(10),K4,1)),K4,LEFT(K4,SEARCH(CHAR(10),K4,1))) | M4: =RIGHT(K4,LEN(G4)-LEN(H4)-LEN(J4)-LEN(L4)) | N4: =IF(ISERROR(SEARCH(CHAR(10),M4,1)),M4,LEFT(M4,SEARCH(CHAR(10),M4,1))) | O4: =RIGHT(M4,LEN(I4)-LEN(J4)-LEN(L4)-LEN(N4)) | P4: =IF(ISERROR(SEARCH(CHAR(10),O4,1)),O4,LEFT(O4,SEARCH(CHAR(10),O4,1))) | Q4: =RIGHT(O4,LEN(K4)-LEN(L4)-LEN(N4)-LEN(P4)) | R4: =IF(ISERROR(SEARCH(CHAR(10),Q4,1)),Q4,LEFT(Q4,SEARCH(CHAR(10),Q4,1))) | S4: =RIGHT(Q4,LEN(M4)-LEN(N4)-LEN(P4)-LEN(R4)) | T4: =IF(ISERROR(SEARCH(CHAR(10),S4,1)),S4,LEFT(S4,SEARCH(CHAR(10),S4,1))) | U4: =RIGHT(S4,LEN(O4)-LEN(P4)-LEN(R4)-LEN(T4)) | V4: =IF(ISERROR(SEARCH(CHAR(10),U4,1)),U4,LEFT(U4,SEARCH(CHAR(10),U4,1))) | W4: =RIGHT(U4,LEN(Q4)-LEN(R4)-LEN(T4)-LEN(V4)) | X4: =IF(ISERROR(SEARCH(CHAR(10),W4,1)),W4,LEFT(W4,SEARCH(CHAR(10),W4,1))) | Y4: =RIGHT(W4,LEN(S4)-LEN(T4)-LEN(V4)-LEN(X4)) | Z4: =IF(ISERROR(SEARCH(CHAR(10),Y4,1)),Y4,LEFT(Y4,SEARCH(CHAR(10),Y4,1))) | AA4: =RIGHT(Y4,LEN(U4)-LEN(V4)-LEN(X4)-LEN(Z4)) | AB4: =IF(ISERROR(SEARCH(CHAR(10),AA4,1)),AA4,LEFT(AA4,SEARCH(CHAR(10),AA4,1))) | AC4: =RIGHT(AA4,LEN(W4)-LEN(X4)-LEN(Z4)-LEN(AB4)) | AF4: =A4 -> Male | AG4: =B4 -> Vert / Yellowside | AH4: =C4 -> Vert
A5: =A4 -> Male | B5: =Tables!G6 -> Vert / Cinnamon | C5: =Tables!$H$3 -> Vert | D5: =A5&B5&C5 -> MaleVert / CinnamonVert | E5: =Tables!H6 -> Vert Vert / Cinnamon | F5: =IF(ISERROR(SEARCH(CHAR(10),E5,1)),E5,LEFT(E5,SEARCH(CHAR(10),E5,1))) -> Vert | G5: =RIGHT(E5,LEN(E5)-LEN(F5)) -> Vert / Cinnamon | H5: =IF(ISERROR(SEARCH(CHAR(10),G5,1)),G5,LEFT(G5,SEARCH(CHAR(10),G5,1))) -> Vert / Cinnamon | I5: =RIGHT(G5,LEN(E5)-LEN(F5)-LEN(H5)) | J5: =IF(ISERROR(SEARCH(CHAR(10),I5,1)),I5,LEFT(I5,SEARCH(CHAR(10),I5,1))) | K5: =RIGHT(I5,LEN(E5)-LEN(F5)-LEN(H5)-LEN(J5)) | L5: =IF(ISERROR(SEARCH(CHAR(10),K5,1)),K5,LEFT(K5,SEARCH(CHAR(10),K5,1))) | M5: =RIGHT(K5,LEN(G5)-LEN(H5)-LEN(J5)-LEN(L5)) | N5: =IF(ISERROR(SEARCH(CHAR(10),M5,1)),M5,LEFT(M5,SEARCH(CHAR(10),M5,1))) | O5: =RIGHT(M5,LEN(I5)-LEN(J5)-LEN(L5)-LEN(N5)) | P5: =IF(ISERROR(SEARCH(CHAR(10),O5,1)),O5,LEFT(O5,SEARCH(CHAR(10),O5,1))) | Q5: =RIGHT(O5,LEN(K5)-LEN(L5)-LEN(N5)-LEN(P5)) | R5: =IF(ISERROR(SEARCH(CHAR(10),Q5,1)),Q5,LEFT(Q5,SEARCH(CHAR(10),Q5,1))) | S5: =RIGHT(Q5,LEN(M5)-LEN(N5)-LEN(P5)-LEN(R5)) | T5: =IF(ISERROR(SEARCH(CHAR(10),S5,1)),S5,LEFT(S5,SEARCH(CHAR(10),S5,1))) | U5: =RIGHT(S5,LEN(O5)-LEN(P5)-LEN(R5)-LEN(T5)) | V5: =IF(ISERROR(SEARCH(CHAR(10),U5,1)),U5,LEFT(U5,SEARCH(CHAR(10),U5,1))) | W5: =RIGHT(U5,LEN(Q5)-LEN(R5)-LEN(T5)-LEN(V5)) | X5: =IF(ISERROR(SEARCH(CHAR(10),W5,1)),W5,LEFT(W5,SEARCH(CHAR(10),W5,1))) | Y5: =RIGHT(W5,LEN(S5)-LEN(T5)-LEN(V5)-LEN(X5)) | Z5: =IF(ISERROR(SEARCH(CHAR(10),Y5,1)),Y5,LEFT(Y5,SEARCH(CHAR(10),Y5,1))) | AA5: =RIGHT(Y5,LEN(U5)-LEN(V5)-LEN(X5)-LEN(Z5)) | AB5: =IF(ISERROR(SEARCH(CHAR(10),AA5,1)),AA5,LEFT(AA5,SEARCH(CHAR(10),AA5,1))) | AC5: =RIGHT(AA5,LEN(W5)-LEN(X5)-LEN(Z5)-LEN(AB5)) | AF5: =A5 -> Male | AG5: =B5 -> Vert / Cinnamon | AH5: =C5 -> Vert
A6: =A5 -> Male | B6: =Tables!G7 -> Vert / Turquoise | C6: =Tables!$H$3 -> Vert | D6: =A6&B6&C6 -> MaleVert / TurquoiseVert | E6: =Tables!H7 -> Vert Vert / turquoise | F6: =IF(ISERROR(SEARCH(CHAR(10),E6,1)),E6,LEFT(E6,SEARCH(CHAR(10),E6,1))) -> Vert | G6: =RIGHT(E6,LEN(E6)-LEN(F6)) -> Vert / turquoise | H6: =IF(ISERROR(SEARCH(CHAR(10),G6,1)),G6,LEFT(G6,SEARCH(CHAR(10),G6,1))) -> Vert / turquoise | I6: =RIGHT(G6,LEN(E6)-LEN(F6)-LEN(H6)) | J6: =IF(ISERROR(SEARCH(CHAR(10),I6,1)),I6,LEFT(I6,SEARCH(CHAR(10),I6,1))) | K6: =RIGHT(I6,LEN(E6)-LEN(F6)-LEN(H6)-LEN(J6)) | L6: =IF(ISERROR(SEARCH(CHAR(10),K6,1)),K6,LEFT(K6,SEARCH(CHAR(10),K6,1))) | M6: =RIGHT(K6,LEN(G6)-LEN(H6)-LEN(J6)-LEN(L6)) | N6: =IF(ISERROR(SEARCH(CHAR(10),M6,1)),M6,LEFT(M6,SEARCH(CHAR(10),M6,1))) | O6: =RIGHT(M6,LEN(I6)-LEN(J6)-LEN(L6)-LEN(N6)) | P6: =IF(ISERROR(SEARCH(CHAR(10),O6,1)),O6,LEFT(O6,SEARCH(CHAR(10),O6,1))) | Q6: =RIGHT(O6,LEN(K6)-LEN(L6)-LEN(N6)-LEN(P6)) | R6: =IF(ISERROR(SEARCH(CHAR(10),Q6,1)),Q6,LEFT(Q6,SEARCH(CHAR(10),Q6,1))) | S6: =RIGHT(Q6,LEN(M6)-LEN(N6)-LEN(P6)-LEN(R6)) | T6: =IF(ISERROR(SEARCH(CHAR(10),S6,1)),S6,LEFT(S6,SEARCH(CHAR(10),S6,1))) | U6: =RIGHT(S6,LEN(O6)-LEN(P6)-LEN(R6)-LEN(T6)) | V6: =IF(ISERROR(SEARCH(CHAR(10),U6,1)),U6,LEFT(U6,SEARCH(CHAR(10),U6,1))) | W6: =RIGHT(U6,LEN(Q6)-LEN(R6)-LEN(T6)-LEN(V6)) | X6: =IF(ISERROR(SEARCH(CHAR(10),W6,1)),W6,LEFT(W6,SEARCH(CHAR(10),W6,1))) | Y6: =RIGHT(W6,LEN(S6)-LEN(T6)-LEN(V6)-LEN(X6)) | Z6: =IF(ISERROR(SEARCH(CHAR(10),Y6,1)),Y6,LEFT(Y6,SEARCH(CHAR(10),Y6,1))) | AA6: =RIGHT(Y6,LEN(U6)-LEN(V6)-LEN(X6)-LEN(Z6)) | AB6: =IF(ISERROR(SEARCH(CHAR(10),AA6,1)),AA6,LEFT(AA6,SEARCH(CHAR(10),AA6,1))) | AC6: =RIGHT(AA6,LEN(W6)-LEN(X6)-LEN(Z6)-LEN(AB6)) | AF6: =A6 -> Male | AG6: =B6 -> Vert / Turquoise | AH6: =C6 -> Vert
A7: =A6 -> Male | B7: =Tables!G8 -> Vert // Yellowside Cinnamon | C7: =Tables!$H$3 -> Vert | D7: =A7&B7&C7 -> MaleVert // Yellowside CinnamonVert | E7: =Tables!H8 -> Vert Vert / Cinnamon Vert / Yellowside Vert // Yellowside Cinnamon | F7: =IF(ISERROR(SEARCH(CHAR(10),E7,1)),E7,LEFT(E7,SEARCH(CHAR(10),E7,1))) -> Vert | G7: =RIGHT(E7,LEN(E7)-LEN(F7)) -> Vert / Cinnamon Vert / Yellowside Vert // Yellowside Cinnamon | H7: =IF(ISERROR(SEARCH(CHAR(10),G7,1)),G7,LEFT(G7,SEARCH(CHAR(10),G7,1))) -> Vert / Cinnamon | I7: =RIGHT(G7,LEN(E7)-LEN(F7)-LEN(H7)) -> Vert / Yellowside Vert // Yellowside Cinnamon | J7: =IF(ISERROR(SEARCH(CHAR(10),I7,1)),I7,LEFT(I7,SEARCH(CHAR(10),I7,1))) -> Vert / Yellowside | K7: =RIGHT(I7,LEN(E7)-LEN(F7)-LEN(H7)-LEN(J7)) -> Vert // Yellowside Cinnamon | L7: =IF(ISERROR(SEARCH(CHAR(10),K7,1)),K7,LEFT(K7,SEARCH(CHAR(10),K7,1))) -> Vert // Yellowside Cinnamon | M7: =RIGHT(K7,LEN(G7)-LEN(H7)-LEN(J7)-LEN(L7)) | N7: =IF(ISERROR(SEARCH(CHAR(10),M7,1)),M7,LEFT(M7,SEARCH(CHAR(10),M7,1))) | O7: =RIGHT(M7,LEN(I7)-LEN(J7)-LEN(L7)-LEN(N7)) | P7: =IF(ISERROR(SEARCH(CHAR(10),O7,1)),O7,LEFT(O7,SEARCH(CHAR(10),O7,1))) | Q7: =RIGHT(O7,LEN(K7)-LEN(L7)-LEN(N7)-LEN(P7)) | R7: =IF(ISERROR(SEARCH(CHAR(10),Q7,1)),Q7,LEFT(Q7,SEARCH(CHAR(10),Q7,1))) | S7: =RIGHT(Q7,LEN(M7)-LEN(N7)-LEN(P7)-LEN(R7)) | T7: =IF(ISERROR(SEARCH(CHAR(10),S7,1)),S7,LEFT(S7,SEARCH(CHAR(10),S7,1))) | U7: =RIGHT(S7,LEN(O7)-LEN(P7)-LEN(R7)-LEN(T7)) | V7: =IF(ISERROR(SEARCH(CHAR(10),U7,1)),U7,LEFT(U7,SEARCH(CHAR(10),U7,1))) | W7: =RIGHT(U7,LEN(Q7)-LEN(R7)-LEN(T7)-LEN(V7)) | X7: =IF(ISERROR(SEARCH(CHAR(10),W7,1)),W7,LEFT(W7,SEARCH(CHAR(10),W7,1))) | Y7: =RIGHT(W7,LEN(S7)-LEN(T7)-LEN(V7)-LEN(X7)) | Z7: =IF(ISERROR(SEARCH(CHAR(10),Y7,1)),Y7,LEFT(Y7,SEARCH(CHAR(10),Y7,1))) | AA7: =RIGHT(Y7,LEN(U7)-LEN(V7)-LEN(X7)-LEN(Z7)) | AB7: =IF(ISERROR(SEARCH(CHAR(10),AA7,1)),AA7,LEFT(AA7,SEARCH(CHAR(10),AA7,1))) | AC7: =RIGHT(AA7,LEN(W7)-LEN(X7)-LEN(Z7)-LEN(AB7)) | AF7: =A7 -> Male | AG7: =B7 -> Vert // Yellowside Cinnamon | AH7: =C7 -> Vert
A8: =A7 -> Male | B8: =Tables!G9 -> Vert // Cinnamon Turquoise | C8: =Tables!$H$3 -> Vert | D8: =A8&B8&C8 -> MaleVert // Cinnamon TurquoiseVert | E8: =Tables!H9 -> Vert Vert / Cinnamon Vert / Turquoise Vert // Cinnamon Turquoise | F8: =IF(ISERROR(SEARCH(CHAR(10),E8,1)),E8,LEFT(E8,SEARCH(CHAR(10),E8,1))) -> Vert | G8: =RIGHT(E8,LEN(E8)-LEN(F8)) -> Vert / Cinnamon Vert / Turquoise Vert // Cinnamon Turquoise | H8: =IF(ISERROR(SEARCH(CHAR(10),G8,1)),G8,LEFT(G8,SEARCH(CHAR(10),G8,1))) -> Vert / Cinnamon | I8: =RIGHT(G8,LEN(E8)-LEN(F8)-LEN(H8)) -> Vert / Turquoise Vert // Cinnamon Turquoise | J8: =IF(ISERROR(SEARCH(CHAR(10),I8,1)),I8,LEFT(I8,SEARCH(CHAR(10),I8,1))) -> Vert / Turquoise | K8: =RIGHT(I8,LEN(E8)-LEN(F8)-LEN(H8)-LEN(J8)) -> Vert // Cinnamon Turquoise | L8: =IF(ISERROR(SEARCH(CHAR(10),K8,1)),K8,LEFT(K8,SEARCH(CHAR(10),K8,1))) -> Vert // Cinnamon Turquoise | M8: =RIGHT(K8,LEN(G8)-LEN(H8)-LEN(J8)-LEN(L8)) | N8: =IF(ISERROR(SEARCH(CHAR(10),M8,1)),M8,LEFT(M8,SEARCH(CHAR(10),M8,1))) | O8: =RIGHT(M8,LEN(I8)-LEN(J8)-LEN(L8)-LEN(N8)) | P8: =IF(ISERROR(SEARCH(CHAR(10),O8,1)),O8,LEFT(O8,SEARCH(CHAR(10),O8,1))) | Q8: =RIGHT(O8,LEN(K8)-LEN(L8)-LEN(N8)-LEN(P8)) | R8: =IF(ISERROR(SEARCH(CHAR(10),Q8,1)),Q8,LEFT(Q8,SEARCH(CHAR(10),Q8,1))) | S8: =RIGHT(Q8,LEN(M8)-LEN(N8)-LEN(P8)-LEN(R8)) | T8: =IF(ISERROR(SEARCH(CHAR(10),S8,1)),S8,LEFT(S8,SEARCH(CHAR(10),S8,1))) | U8: =RIGHT(S8,LEN(O8)-LEN(P8)-LEN(R8)-LEN(T8)) | V8: =IF(ISERROR(SEARCH(CHAR(10),U8,1)),U8,LEFT(U8,SEARCH(CHAR(10),U8,1))) | W8: =RIGHT(U8,LEN(Q8)-LEN(R8)-LEN(T8)-LEN(V8)) | X8: =IF(ISERROR(SEARCH(CHAR(10),W8,1)),W8,LEFT(W8,SEARCH(CHAR(10),W8,1))) | Y8: =RIGHT(W8,LEN(S8)-LEN(T8)-LEN(V8)-LEN(X8)) | Z8: =IF(ISERROR(SEARCH(CHAR(10),Y8,1)),Y8,LEFT(Y8,SEARCH(CHAR(10),Y8,1))) | AA8: =RIGHT(Y8,LEN(U8)-LEN(V8)-LEN(X8)-LEN(Z8)) | AB8: =IF(ISERROR(SEARCH(CHAR(10),AA8,1)),AA8,LEFT(AA8,SEARCH(CHAR(10),AA8,1))) | AC8: =RIGHT(AA8,LEN(W8)-LEN(X8)-LEN(Z8)-LEN(AB8)) | AF8: =A8 -> Male | AG8: =B8 -> Vert // Cinnamon Turquoise | AH8: =C8 -> Vert
A9: =A8 -> Male | B9: =Tables!G10 -> vert // yellowside turquoise | C9: =Tables!$H$3 -> Vert | D9: =A9&B9&C9 -> Malevert // yellowside turquoiseVert | E9: =Tables!H10 -> Vert Vert / Yellowside Vert / Turquoise Vert // Yellowside Turquoise | F9: =IF(ISERROR(SEARCH(CHAR(10),E9,1)),E9,LEFT(E9,SEARCH(CHAR(10),E9,1))) -> Vert | G9: =RIGHT(E9,LEN(E9)-LEN(F9)) -> Vert / Yellowside Vert / Turquoise Vert // Yellowside Turquoise | H9: =IF(ISERROR(SEARCH(CHAR(10),G9,1)),G9,LEFT(G9,SEARCH(CHAR(10),G9,1))) -> Vert / Yellowside | I9: =RIGHT(G9,LEN(E9)-LEN(F9)-LEN(H9)) -> Vert / Turquoise Vert // Yellowside Turquoise | J9: =IF(ISERROR(SEARCH(CHAR(10),I9,1)),I9,LEFT(I9,SEARCH(CHAR(10),I9,1))) -> Vert / Turquoise | K9: =RIGHT(I9,LEN(E9)-LEN(F9)-LEN(H9)-LEN(J9)) -> Vert // Yellowside Turquoise | L9: =IF(ISERROR(SEARCH(CHAR(10),K9,1)),K9,LEFT(K9,SEARCH(CHAR(10),K9,1))) -> Vert // Yellowside Turquoise | M9: =RIGHT(K9,LEN(G9)-LEN(H9)-LEN(J9)-LEN(L9)) | N9: =IF(ISERROR(SEARCH(CHAR(10),M9,1)),M9,LEFT(M9,SEARCH(CHAR(10),M9,1))) | O9: =RIGHT(M9,LEN(I9)-LEN(J9)-LEN(L9)-LEN(N9)) | P9: =IF(ISERROR(SEARCH(CHAR(10),O9,1)),O9,LEFT(O9,SEARCH(CHAR(10),O9,1))) | Q9: =RIGHT(O9,LEN(K9)-LEN(L9)-LEN(N9)-LEN(P9)) | R9: =IF(ISERROR(SEARCH(CHAR(10),Q9,1)),Q9,LEFT(Q9,SEARCH(CHAR(10),Q9,1))) | S9: =RIGHT(Q9,LEN(M9)-LEN(N9)-LEN(P9)-LEN(R9)) | T9: =IF(ISERROR(SEARCH(CHAR(10),S9,1)),S9,LEFT(S9,SEARCH(CHAR(10),S9,1))) | U9: =RIGHT(S9,LEN(O9)-LEN(P9)-LEN(R9)-LEN(T9)) | V9: =IF(ISERROR(SEARCH(CHAR(10),U9,1)),U9,LEFT(U9,SEARCH(CHAR(10),U9,1))) | W9: =RIGHT(U9,LEN(Q9)-LEN(R9)-LEN(T9)-LEN(V9)) | X9: =IF(ISERROR(SEARCH(CHAR(10),W9,1)),W9,LEFT(W9,SEARCH(CHAR(10),W9,1))) | Y9: =RIGHT(W9,LEN(S9)-LEN(T9)-LEN(V9)-LEN(X9)) | Z9: =IF(ISERROR(SEARCH(CHAR(10),Y9,1)),Y9,LEFT(Y9,SEARCH(CHAR(10),Y9,1))) | AA9: =RIGHT(Y9,LEN(U9)-LEN(V9)-LEN(X9)-LEN(Z9)) | AB9: =IF(ISERROR(SEARCH(CHAR(10),AA9,1)),AA9,LEFT(AA9,SEARCH(CHAR(10),AA9,1))) | AC9: =RIGHT(AA9,LEN(W9)-LEN(X9)-LEN(Z9)-LEN(AB9)) | AF9: =A9 -> Male | AG9: =B9 -> vert // yellowside turquoise | AH9: =C9 -> Vert
A10: =A9 -> Male | B10: =Tables!G11 -> Vert /// Yellowside Cinnamon Turquoise | C10: =Tables!$H$3 -> Vert | D10: =A10&B10&C10 -> MaleVert /// Yellowside Cinnamon TurquoiseVert | E10: =Tables!H11 -> Vert Vert / Cinnamon Vert / Yellowside Vert / Turquoise Vert // Yellowside Cinnamon Vert // Yellowside Turquoise Vert //Cinnamon Turquoise Vert /// Yellowside Cinnamon Turquoise | F10: =IF(ISERROR(SEARCH(CHAR(10),E10,1)),E10,LEFT(E10,SEARCH(CHAR(10),E10,1))) -> Vert | G10: =RIGHT(E10,LEN(E10)-LEN(F10)) -> Vert / Cinnamon Vert / Yellowside Vert / Turquoise Vert // Yellowside Cinnamon Vert // Yellowside Turquoise Vert //Cinnamon Turquoise Vert /// Yellowside Cinnamon Turquoise | H10: =IF(ISERROR(SEARCH(CHAR(10),G10,1)),G10,LEFT(G10,SEARCH(CHAR(10),G10,1))) -> Vert / Cinnamon | I10: =RIGHT(G10,LEN(E10)-LEN(F10)-LEN(H10)) -> Vert / Yellowside Vert / Turquoise Vert // Yellowside Cinnamon Vert // Yellowside Turquoise Vert //Cinnamon Turquoise Vert /// Yellowside Cinnamon Turquoise | J10: =IF(ISERROR(SEARCH(CHAR(10),I10,1)),I10,LEFT(I10,SEARCH(CHAR(10),I10,1))) -> Vert / Yellowside | K10: =RIGHT(I10,LEN(E10)-LEN(F10)-LEN(H10)-LEN(J10)) -> Vert / Turquoise Vert // Yellowside Cinnamon Vert // Yellowside Turquoise Vert //Cinnamon Turquoise Vert /// Yellowside Cinnamon Turquoise | L10: =IF(ISERROR(SEARCH(CHAR(10),K10,1)),K10,LEFT(K10,SEARCH(CHAR(10),K10,1))) -> Vert / Turquoise | M10: =RIGHT(K10,LEN(G10)-LEN(H10)-LEN(J10)-LEN(L10)) -> Vert // Yellowside Cinnamon Vert // Yellowside Turquoise Vert //Cinnamon Turquoise Vert /// Yellowside Cinnamon Turquoise | N10: =IF(ISERROR(SEARCH(CHAR(10),M10,1)),M10,LEFT(M10,SEARCH(CHAR(10),M10,1))) -> Vert // Yellowside Cinnamon | O10: =RIGHT(M10,LEN(I10)-LEN(J10)-LEN(L10)-LEN(N10)) -> Vert // Yellowside Turquoise Vert //Cinnamon Turquoise Vert /// Yellowside Cinnamon Turquoise | P10: =IF(ISERROR(SEARCH(CHAR(10),O10,1)),O10,LEFT(O10,SEARCH(CHAR(10),O10,1))) -> Vert // Yellowside Turquoise | Q10: =RIGHT(O10,LEN(K10)-LEN(L10)-LEN(N10)-LEN(P10)) -> Vert //Cinnamon Turquoise Vert /// Yellowside Cinnamon Turquoise | R10: =IF(ISERROR(SEARCH(CHAR(10),Q10,1)),Q10,LEFT(Q10,SEARCH(CHAR(10),Q10,1))) -> Vert //Cinnamon Turquoise | S10: =RIGHT(Q10,LEN(M10)-LEN(N10)-LEN(P10)-LEN(R10)) -> Vert /// Yellowside Cinnamon Turquoise | T10: =IF(ISERROR(SEARCH(CHAR(10),S10,1)),S10,LEFT(S10,SEARCH(CHAR(10),S10,1))) -> Vert /// Yellowside Cinnamon Turquoise | U10: =RIGHT(S10,LEN(O10)-LEN(P10)-LEN(R10)-LEN(T10)) | V10: =IF(ISERROR(SEARCH(CHAR(10),U10,1)),U10,LEFT(U10,SEARCH(CHAR(10),U10,1))) | W10: =RIGHT(U10,LEN(Q10)-LEN(R10)-LEN(T10)-LEN(V10)) | X10: =IF(ISERROR(SEARCH(CHAR(10),W10,1)),W10,LEFT(W10,SEARCH(CHAR(10),W10,1))) | Y10: =RIGHT(W10,LEN(S10)-LEN(T10)-LEN(V10)-LEN(X10)) | Z10: =IF(ISERROR(SEARCH(CHAR(10),Y10,1)),Y10,LEFT(Y10,SEARCH(CHAR(10),Y10,1))) | AA10: =RIGHT(Y10,LEN(U10)-LEN(V10)-LEN(X10)-LEN(Z10)) | AB10: =IF(ISERROR(SEARCH(CHAR(10),AA10,1)),AA10,LEFT(AA10,SEARCH(CHAR(10),AA10,1))) | AC10: =RIGHT(AA10,LEN(W10)-LEN(X10)-LEN(Z10)-LEN(AB10)) | AF10: =A10 -> Male | AG10: =B10 -> Vert /// Yellowside Cinnamon Turquoise | AH10: =C10 -> Vert
A11: =A10 -> Male | B11: =Tables!G12 -> Yellowside | C11: =Tables!$H$3 -> Vert | D11: =A11&B11&C11 -> MaleYellowsideVert | E11: =Tables!H12 -> Vert / Yellowside | F11: =IF(ISERROR(SEARCH(CHAR(10),E11,1)),E11,LEFT(E11,SEARCH(CHAR(10),E11,1))) -> Vert / Yellowside | G11: =RIGHT(E11,LEN(E11)-LEN(F11)) | H11: =IF(ISERROR(SEARCH(CHAR(10),G11,1)),G11,LEFT(G11,SEARCH(CHAR(10),G11,1))) | I11: =RIGHT(G11,LEN(E11)-LEN(F11)-LEN(H11)) | J11: =IF(ISERROR(SEARCH(CHAR(10),I11,1)),I11,LEFT(I11,SEARCH(CHAR(10),I11,1))) | K11: =RIGHT(I11,LEN(E11)-LEN(F11)-LEN(H11)-LEN(J11)) | L11: =IF(ISERROR(SEARCH(CHAR(10),K11,1)),K11,LEFT(K11,SEARCH(CHAR(10),K11,1))) | M11: =RIGHT(K11,LEN(G11)-LEN(H11)-LEN(J11)-LEN(L11)) | N11: =IF(ISERROR(SEARCH(CHAR(10),M11,1)),M11,LEFT(M11,SEARCH(CHAR(10),M11,1))) | O11: =RIGHT(M11,LEN(I11)-LEN(J11)-LEN(L11)-LEN(N11)) | P11: =IF(ISERROR(SEARCH(CHAR(10),O11,1)),O11,LEFT(O11,SEARCH(CHAR(10),O11,1))) | Q11: =RIGHT(O11,LEN(K11)-LEN(L11)-LEN(N11)-LEN(P11)) | R11: =IF(ISERROR(SEARCH(CHAR(10),Q11,1)),Q11,LEFT(Q11,SEARCH(CHAR(10),Q11,1))) | S11: =RIGHT(Q11,LEN(M11)-LEN(N11)-LEN(P11)-LEN(R11)) | T11: =IF(ISERROR(SEARCH(CHAR(10),S11,1)),S11,LEFT(S11,SEARCH(CHAR(10),S11,1))) | U11: =RIGHT(S11,LEN(O11)-LEN(P11)-LEN(R11)-LEN(T11)) | V11: =IF(ISERROR(SEARCH(CHAR(10),U11,1)),U11,LEFT(U11,SEARCH(CHAR(10),U11,1))) | W11: =RIGHT(U11,LEN(Q11)-LEN(R11)-LEN(T11)-LEN(V11)) | X11: =IF(ISERROR(SEARCH(CHAR(10),W11,1)),W11,LEFT(W11,SEARCH(CHAR(10),W11,1))) | Y11: =RIGHT(W11,LEN(S11)-LEN(T11)-LEN(V11)-LEN(X11)) | Z11: =IF(ISERROR(SEARCH(CHAR(10),Y11,1)),Y11,LEFT(Y11,SEARCH(CHAR(10),Y11,1))) | AA11: =RIGHT(Y11,LEN(U11)-LEN(V11)-LEN(X11)-LEN(Z11)) | AB11: =IF(ISERROR(SEARCH(CHAR(10),AA11,1)),AA11,LEFT(AA11,SEARCH(CHAR(10),AA11,1))) | AC11: =RIGHT(AA11,LEN(W11)-LEN(X11)-LEN(Z11)-LEN(AB11)) | AF11: =A11 -> Male | AG11: =B11 -> Yellowside | AH11: =C11 -> Vert
A12: =A11 -> Male | B12: =Tables!G13 -> Yellowside / Cinamon | C12: =Tables!$H$3 -> Vert | D12: =A12&B12&C12 -> MaleYellowside / Cinamon Vert | E12: =Tables!H13 -> Vert / Yellowside Vert // Yellowside Cinnamon | F12: =IF(ISERROR(SEARCH(CHAR(10),E12,1)),E12,LEFT(E12,SEARCH(CHAR(10),E12,1))) -> Vert / Yellowside | G12: =RIGHT(E12,LEN(E12)-LEN(F12)) -> Vert // Yellowside Cinnamon | H12: =IF(ISERROR(SEARCH(CHAR(10),G12,1)),G12,LEFT(G12,SEARCH(CHAR(10),G12,1))) -> Vert // Yellowside Cinnamon | I12: =RIGHT(G12,LEN(E12)-LEN(F12)-LEN(H12)) | J12: =IF(ISERROR(SEARCH(CHAR(10),I12,1)),I12,LEFT(I12,SEARCH(CHAR(10),I12,1))) | K12: =RIGHT(I12,LEN(E12)-LEN(F12)-LEN(H12)-LEN(J12)) | L12: =IF(ISERROR(SEARCH(CHAR(10),K12,1)),K12,LEFT(K12,SEARCH(CHAR(10),K12,1))) | M12: =RIGHT(K12,LEN(G12)-LEN(H12)-LEN(J12)-LEN(L12)) | N12: =IF(ISERROR(SEARCH(CHAR(10),M12,1)),M12,LEFT(M12,SEARCH(CHAR(10),M12,1))) | O12: =RIGHT(M12,LEN(I12)-LEN(J12)-LEN(L12)-LEN(N12)) | P12: =IF(ISERROR(SEARCH(CHAR(10),O12,1)),O12,LEFT(O12,SEARCH(CHAR(10),O12,1))) | Q12: =RIGHT(O12,LEN(K12)-LEN(L12)-LEN(N12)-LEN(P12)) | R12: =IF(ISERROR(SEARCH(CHAR(10),Q12,1)),Q12,LEFT(Q12,SEARCH(CHAR(10),Q12,1))) | S12: =RIGHT(Q12,LEN(M12)-LEN(N12)-LEN(P12)-LEN(R12)) | T12: =IF(ISERROR(SEARCH(CHAR(10),S12,1)),S12,LEFT(S12,SEARCH(CHAR(10),S12,1))) | U12: =RIGHT(S12,LEN(O12)-LEN(P12)-LEN(R12)-LEN(T12)) | V12: =IF(ISERROR(SEARCH(CHAR(10),U12,1)),U12,LEFT(U12,SEARCH(CHAR(10),U12,1))) | W12: =RIGHT(U12,LEN(Q12)-LEN(R12)-LEN(T12)-LEN(V12)) | X12: =IF(ISERROR(SEARCH(CHAR(10),W12,1)),W12,LEFT(W12,SEARCH(CHAR(10),W12,1))) | Y12: =RIGHT(W12,LEN(S12)-LEN(T12)-LEN(V12)-LEN(X12)) | Z12: =IF(ISERROR(SEARCH(CHAR(10),Y12,1)),Y12,LEFT(Y12,SEARCH(CHAR(10),Y12,1))) | AA12: =RIGHT(Y12,LEN(U12)-LEN(V12)-LEN(X12)-LEN(Z12)) | AB12: =IF(ISERROR(SEARCH(CHAR(10),AA12,1)),AA12,LEFT(AA12,SEARCH(CHAR(10),AA12,1))) | AC12: =RIGHT(AA12,LEN(W12)-LEN(X12)-LEN(Z12)-LEN(AB12)) | AF12: =A12 -> Male | AG12: =B12 -> Yellowside / Cinamon | AH12: =C12 -> Vert
A13: =A12 -> Male | B13: =Tables!G14 -> Yellowside / Turquoise | C13: =Tables!$H$3 -> Vert | D13: =A13&B13&C13 -> MaleYellowside / TurquoiseVert | E13: =Tables!H14 -> Vert / Yellowside Vert // Yellowside Turquoise | F13: =IF(ISERROR(SEARCH(CHAR(10),E13,1)),E13,LEFT(E13,SEARCH(CHAR(10),E13,1))) -> Vert / Yellowside | G13: =RIGHT(E13,LEN(E13)-LEN(F13)) -> Vert // Yellowside Turquoise | H13: =IF(ISERROR(SEARCH(CHAR(10),G13,1)),G13,LEFT(G13,SEARCH(CHAR(10),G13,1))) -> Vert // Yellowside Turquoise | I13: =RIGHT(G13,LEN(E13)-LEN(F13)-LEN(H13)) | J13: =IF(ISERROR(SEARCH(CHAR(10),I13,1)),I13,LEFT(I13,SEARCH(CHAR(10),I13,1))) | K13: =RIGHT(I13,LEN(E13)-LEN(F13)-LEN(H13)-LEN(J13)) | L13: =IF(ISERROR(SEARCH(CHAR(10),K13,1)),K13,LEFT(K13,SEARCH(CHAR(10),K13,1))) | M13: =RIGHT(K13,LEN(G13)-LEN(H13)-LEN(J13)-LEN(L13)) | N13: =IF(ISERROR(SEARCH(CHAR(10),M13,1)),M13,LEFT(M13,SEARCH(CHAR(10),M13,1))) | O13: =RIGHT(M13,LEN(I13)-LEN(J13)-LEN(L13)-LEN(N13)) | P13: =IF(ISERROR(SEARCH(CHAR(10),O13,1)),O13,LEFT(O13,SEARCH(CHAR(10),O13,1))) | Q13: =RIGHT(O13,LEN(K13)-LEN(L13)-LEN(N13)-LEN(P13)) | R13: =IF(ISERROR(SEARCH(CHAR(10),Q13,1)),Q13,LEFT(Q13,SEARCH(CHAR(10),Q13,1))) | S13: =RIGHT(Q13,LEN(M13)-LEN(N13)-LEN(P13)-LEN(R13)) | T13: =IF(ISERROR(SEARCH(CHAR(10),S13,1)),S13,LEFT(S13,SEARCH(CHAR(10),S13,1))) | U13: =RIGHT(S13,LEN(O13)-LEN(P13)-LEN(R13)-LEN(T13)) | V13: =IF(ISERROR(SEARCH(CHAR(10),U13,1)),U13,LEFT(U13,SEARCH(CHAR(10),U13,1))) | W13: =RIGHT(U13,LEN(Q13)-LEN(R13)-LEN(T13)-LEN(V13)) | X13: =IF(ISERROR(SEARCH(CHAR(10),W13,1)),W13,LEFT(W13,SEARCH(CHAR(10),W13,1))) | Y13: =RIGHT(W13,LEN(S13)-LEN(T13)-LEN(V13)-LEN(X13)) | Z13: =IF(ISERROR(SEARCH(CHAR(10),Y13,1)),Y13,LEFT(Y13,SEARCH(CHAR(10),Y13,1))) | AA13: =RIGHT(Y13,LEN(U13)-LEN(V13)-LEN(X13)-LEN(Z13)) | AB13: =IF(ISERROR(SEARCH(CHAR(10),AA13,1)),AA13,LEFT(AA13,SEARCH(CHAR(10),AA13,1))) | AC13: =RIGHT(AA13,LEN(W13)-LEN(X13)-LEN(Z13)-LEN(AB13)) | AF13: =A13 -> Male | AG13: =B13 -> Yellowside / Turquoise | AH13: =C13 -> Vert
