Workbook
Name bebe: Auto!$D$3:$E$650
Name Tab1Col1: Tables!$A$2:$A$30
Name Tab1Col2: Tables!$B$2:$B$13

Sheet Saisie
B2: Parents
B3: Mâle | C3: yellowside / cinamon | E3: Femelle | F3: pineapple / turquoise
B6: Résultats
B8: Bébés
B9: Mâles | C9: =VLOOKUP("male"&C3&F3,bebe,2,FALSE) -> Yellowside / Cinnamon Yellowside // Cinnamon Turquoise Pineapple Pineapple / Turquoise | E9: Femelles | F9: =VLOOKUP("Femelle"&C3&F3,bebe,2,FALSE) -> Yellowside Yellowside / Turquoise Pineapple Pineapple / Turquoise
C11: ="male"&C3&F3 -> maleyellowside / cinamon pineapple / turquoise

Sheet Tables
A1: Tableau 1 | D1: Tableau2 | G1: Bébe Mâle
A2: Vert | B2: Vert | D2: Vert | E2: Vert | G2: Mâle | I2: Femelle
A3: vert / yellowside | B3: vert /turquoise | D3: vert / yellowside | E3: vert /turquoise | H3: Vert | I3: Vert / Turquoise | J3: Yellowside | K3: Yellowside / Turquoise | L3: Cinnamon | M3: Cinnamon / Turquoise | N3: Pineapple | O3: Pineapple / Turquoise | P3: Turquoise | Q3: TurquoiseCinnamon | R3: TurquoiseYellowside | S3: TurquoisePineapple
A4: vert / cinnamon | B4: Yellowside | D4: vert / cinnamon | E4: Yellowside | G4: Vert | H4: Vert | I4: Vert Vert / Turquoise | J4: Vert / Yellowside | K4: Vert / Yellowside Vert // Yellowside turquoise | L4: Vert / Cinnamon | M4: Vert / Cinnamon Vert // Cinnamon Turquoise | N4: Vert // Yellowside Cinnamon | O4: Vert // Yellowside Cinnamon Vert /// Yellowside Cinamon Turquoise | P4: Vert / Turquoise | Q4: Vert // Cinnamon Turquoise | R4: Vert // Yellowside Turquoise | S4: Vert /// Yellowside Cinnamon Turquoise
A5: vert /turquoise | B5: yellowside / turquoise | D5: vert /turquoise | E5: yellowside / turquoise | G5: Vert / Yellowside | H5: Vert Vert / yellowside | I5: Vert Vert / Yellowside Vert / Turquoise Vert // Yellowside Turquoise | J5: Yellowside Vert / Yellowside | K5: vert / yellowside vert // yellowside turquoise yellowside yellowside / turquoise | L5: Vert / Cinamon Vert // Yellowside Cinnamon | M5: Vert / Cinnamon Vert // Cinnamon Turquoise Vert // Yellowside Turquoise Vert /// Yellowside Cinnamon Turquoise | N5: Vert // Yellowside Cinnamon Yellowside / Cinnamon | O5: Vert // Yellowside Cinnamon Vert /// Yellowside Cinamon Turquoise Yellowside / Cinnamon Yellowside // Cinnamon Turquoise | P5: Vert / Turquoise Vert // Yellowside Turquoise | Q5: Vert // Cinnamon Turquoise Vert /// Yellowside Cinnamon Turquoise | R5: Vert // Yellowside Turquoise Yellowside / turquoise | S5: Vert // Yellowside Turquoise Yellowside / turquoise
A6: vert // yellowside cinnamon | B6: Cinnamon | D6: vert // yellowside cinnamon | E6: Cinnamon | G6: Vert / Cinnamon | H6: Vert Vert / Cinnamon | I6: Vert Vert / Cinnamon Vert / Turquoise Vert // Cinnamon Turquoise | J6: Vert / Yellowside Vert // Yellowside Cinnamon | K6: Vert / Yellowside Vert // Yellowside Cinnamon Vert // Yellowside Turquoise Vert /// Yellowside Cinnamon Turquoise | L6: Vert / Cinnamon Cinnamon | M6: Vert / Cinnamon Vert // Cinnamon Turquoise Cinnamon Cinnamon / Turquoise | N6: Vert // yellowside Cinnamon Cinnamon / Yellowside | O6: Vert // Yellowside Cinnamon Vert /// Yellowside Cinamon Turquoise Cinnamon / Yellowside Cinnamon // Yellowside Turquoise | P6: Vert / Turquoise Vert // Cinnamon Turquoise | Q6: Vert // Cinnamon Turquoise Cinnamon / Turquoise | R6: Vert // Yellowside Turquoise Vert /// Yellowside Cinnamon Turquoise | S6: Vert /// Yellowside Cinnamon Turquoise Cinnamon // Yellowside Turquoise
A7: vert // cinnamon turquoise | B7: cinnamon / turquoise | D7: vert // cinnamon turquoise | E7: cinnamon / turquoise | G7: Vert / Turquoise | H7: Vert Vert / turquoise | I7: vert Vert / turquoise Turquoise | J7: Vert / Yellowside Vert // Yellowside Turquoise | K7: Vert / Yellowside Vert // Yellowside turquoise Turquoise / Yellowside | L7: Vert / cinamon Vert // Cinnamon Turquoise | M7: Vert / Cinnamon Vert // Cinnamon Turquoise Turquoise / Cinnamon | N7: Vert // Yellowside Cinnamon Vert /// Yellowside Cinamon Turquoise | O7: Vert // Yellowside Cinnamon Vert /// Yellowside Cinamon Turquoise Turquoise // Yellowside Cinnamon | P7: Vert / Turquoise Turquoise | Q7: Vert // Cinnamon Turquoise Turquoise / Cinnamon | R7: Vert // Yellowside Turquoise Turquoise / Yellowside | S7: Vert /// Yellowside Cinnamon Turquoise Turquoise // Yellowside Cinnamon
A8: vert // yellowside turquoise | B8: cinnamon / turquoise | D8: vert // yellowside turquoise | E8: Pineapple | G8: Vert // Yellowside Cinnamon | H8: Vert Vert / Cinnamon Vert / Yellowside Vert // Yellowside Cinnamon | I8: Vert Vert / Cinnamon Vert / Yellowside Vert / Turquoise Vert // Yellowside Cinnamon Vert // Yellowside Turquoise Vert //Cinnamon Turquoise Vert /// Yellowside Cinnamon Turquoise | J8: Vert Vert // Yellowside Cinnamon Yellowside Yellowside / Cinamon | K8: Vert / Yellowside Vert // Yellowside Cinnamon Vert // Yellowside Turquoise Vert /// Yellowside Cinnamon Turquoise | L8: Vert / Cinamon Vert // Yellowside Cinnamon Cinnamon Cinnamon / Yellowside | M8: Vert / Cinnamon Vert // Cinnamon Turquoise Vert // Yellowside Cinnamon Vert /// Yellowside Cinnamon Turquoise Cinnamon Cinnamon / Yellowside Cinnamon / Turquoise Cinnamon // Yellowside Turquoise | N8: Vert // Yellowside Cinnamon Yellowside / Cinnamon Cinnamon / Yellowside Pineapple | O8: Vert // Yellowside Cinnamon Vert /// Yellowside Cinamon Turquoise Yellowside / Cinnamon Yellowside // Cinnamon Turquoise Cinnamon / Yellowside Cinnamon // Yellowside Turquoise Pineapple Pineapple / Turquoise | P8: Vert / Turquoise Vert // Cinnamon Turquoise Vert // Yellowside Turquoise Vert /// Yellowside Cinnamon Turquoise | Q8: Vert // Cinnamon Turquoise Vert /// Yellowside Cinnamon Turquoise Cinnamon / Turquoise Cinnamon // Yellowside Turquoise | R8: Vert // Yellowside Turquoise Vert /// Yellowside Cinnamon Turquoise Yellowside / Turquoise Yellowside // Cinnamon Turquoise | S8: Vert /// Yellowside Cinnamon Turquoise Yellowside // Cinnamon Turquoise Cinnamon // Yellowside Turquoise Pineapple / Turquoise
A9: vert /// yellowside cinnamon turquoise | B9: pineapple / turquoise | D9: vert /// yellowside cinnamon turquoise | E9: pineapple / turquoise | G9: Vert // Cinnamon Turquoise | H9: Vert Vert / Cinnamon Vert / Turquoise Vert // Cinnamon Turquoise | I9: Vert Vert / Cinnamon Vert / Turquoise Vert // Cinnamon Turquoise Turquoise Turquoise / Cinnamon | J9: Vert / Yellowside Vert // Yellowside Cinnamon Vert // Yellowside Turquoise Vert /// Yellowside Cinnamon Turquoise | K9: Vert / Yellowside Vert // Yellowside Cinnamon Vert // Yellowside Turquoise Vert /// Yellowside Cinnamon Turquoise Turquoise / Yellowside Turquoise // Yellowside Cinnamon | L9: Vert / Cinnamon Vert // Cinnamon Turquoise Cinnamon Cinnamon / Turquoise | M9: Vert / Cinnamon Vert // Cinnamon Turquoise Cinnamon Cinnamon / Turquoise Turquoise / Cinnamon TurquoiseCinnamon | N9: Vert // Yellowside Cinnamon Vert /// Yellowside Cinamon Turquoise Cinnamon / Yellowside Cinnamon // Yellowside Turquoise | O9: Vert // Yellowside Cinnamon Vert /// Yellowside Cinamon Turquoise Cinnamon / Yellowside Cinnamon // Yellowside Turquoise Turquoise // Yellowside Cinnamon TurquoiseCinnamon / Yellowside | P9: Vert / Turquoise Vert // Cinnamon Turquoise Turquoise Turquoise / Cinnamon | Q9: Vert // Cinnamon Turquoise Cinnamon / Turquoise Turquoise / Cinnamon TurquoiseCinnamon | R9: Vert // Yellowside Turquoise Vert /// Yellowside Cinnamon Turquoise Turquoise / Yellowside Turquoise // Yellowside Cinnamon | S9: Vert /// Yellowside Cinnamon Turquoise Cinnamon // Yellowside Turquoise Turquoise // Yellowside Cinnamon TurquoiseCinnamon / Yellowside
A10: Yellowside | B10: Turquoise | D10: Yellowside | E10: Turquoise | G10: vert // yellowside turquoise | H10: Vert Vert / Yellowside Vert / Turquoise Vert // Yellowside Turquoise | I10: Vert Vert / Yellowside Vert / Turquoise Vert // Yellowside Turquoise Turquoise Turquoise / Yellowside | J10: vert / yellowside vert // yellowside turquoise yellowside yellowside / turquoise | K10: vert / yellowside vert // yellowside turquoise yellowside yellowside / turquoise Turquoise / Yellowside TurquoiseYellowside | L10: Vert / Cinnamon Vert // Cinnamon Turquoise Vert // Yellowside Turquoise Vert /// Yellowside Cinnamon Turquoise | M10: Vert / Cinnamon Vert // Cinnamon Turquoise Vert // Yellowside Cinnamon Vert /// Yellowside Cinnamon Turquoise Turquoise / Cinnamon Turquoise // Yellowside Cinnamon | N10: Vert // Yellowside Cinnamon Vert /// Yellowside Cinamon Turquoise Yellowside / Cinnamon Yellowside // Cinnamon Turquoise | O10: Vert // Yellowside Cinnamon Vert /// Yellowside Cinamon Turquoise Yellowside / Cinnamon Yellowside // Cinnamon Turquoise Turquoise // Yellowside Cinnamon TurquoiseYellowside / Cinnamon | P10: Vert Vert / Yellowside Vert / Turquoise Vert // Yellowside Turquoise Turquoise Turquoise / Yellowside | Q10: Vert // Cinnamon Turquoise Vert /// Yellowside Cinnamon Turquoise Turquoise / Cinnamon Turquoise // Yellowside Cinnamon | R10: Vert // Yellowside Turquoise Yellowside / Turquoise Turquoise / Yellowside TurquoiseYellowside | S10: Vert /// Yellowside Cinnamon Turquoise Yellowside // Cinnamon Turquoise Turquoise // Yellowside Cinnamon TurquoiseYellowside / Cinnamon
A11: yellowside / cinamon | B11: TurquoiseCinnamon | D11: yellowside / cinamon | E11: turquoisecinnamon | G11: Vert /// Yellowside Cinnamon Turquoise | H11: Vert Vert / Cinnamon Vert / Yellowside Vert / Turquoise Vert // Yellowside Cinnamon Vert // Yellowside Turquoise Vert //Cinnamon Turquoise Vert /// Yellowside Cinnamon Turquoise | I11: Vert Vert / Cinnamon Vert / Yellowside Vert / Turquoise Vert // Yellowside Cinnamon Vert // Yellowside Turquoise Vert //Cinnamon Turquoise Vert /// Yellowside Cinnamon Turquoise Turquoise Turquoise / Cinnamon Turquoise / Yellowside Turquoise // Yellowside Cinnamon | J11: Vert / Yellowside Vert // Yellowside Cinnamon Vert // Yellowside Turquoise Vert /// Yellowside Cinnamon Turquoise Yellowside Yellowside / Cinnamon Yellowside / Turquoise Yellowside // Cinnamon Turquoise | K11: Vert / Yellowside Vert // Yellowside Cinnamon Vert // Yellowside Turquoise Vert /// Yellowside Cinnamon Turquoise Yellowside Yellowside / Cinnamon Yellowside / Turquoise Yellowside // Cinnamon Turquoise Turquoise / Yellowside Turquoise // Yellowside Cinnamon TurquoiseYellowside TurquoiseYellowside / Cinnamon | L11: Vert / Cinnamon Vert // Cinnamon Turquoise Vert // Yellowside Cinnamon Vert /// Yellowside Cinnamon Turquoise Cinnamon Cinnamon / Yellowside Cinnamon / Turquoise Cinnamon // Yellowside Turquoise | M11: Vert / Cinnamon Vert // Cinnamon Turquoise Vert // Yellowside Cinnamon Vert /// Yellowside Cinnamon Turquoise Cinnamon Cinnamon / Yellowside Cinnamon / Turquoise Cinnamon // Yellowside Turquoise Turquoise / Cinnamon Turquoise // Yellowside CInnamon TurquoiseCinnamon TurquoiseCinnamon / Yellowside | N11: Vert // Yellowside Cinnamon Vert /// Yellowside Cinamon Turquoise Yellowside / Cinnamon Yellowside / Turquoise Yellowside // Cinnamon Turquoise Cinnamon / Yellowside Cinnamon / Turquoise Cinnamon // Yellowside Turquoise Pineapple Pineapple / Turquoise | O11: Vert // Yellowside Cinnamon Vert /// Yellowside Cinamon Turquoise Yellowside / Cinnamon Yellowside // Cinnamon Turquoise Cinnamon / Yellowside Cinnamon // Yellowside Turquoise Pineapple Pineapple / Turquoise Turquoise // Yellowside Cinnamon TurquoiseYellowside / Cinnamon TurquoiseCinnamon / Yellowside TurquoisePineapple | P11: Vert / Turquoise Vert // Cinnamon Turquoise Vert // Yellowside Turquoise Vert /// Yellowside Cinnamon Turquoise Turquoise Turquoise / Yellowside Turquoise / Cinnamon Turquoise // Yellowside Cinnamon | Q11: Vert // Cinnamon Turquoise Vert /// Yellowside Cinnamon Turquoise Cinnamon / Turquoise Cinnamon // Yellowside Turquoise Turquoise / Cinnamon Turquoise // Yellowside Cinnamon TurquoiseCinnamon TurquoiseCinnamon / Yellowside | R11: Vert // Yellowside Turquoise Vert /// Yellowside Cinnamon Turquoise Yellowside / Turquoise Yellowside // Cinnamon Turquoise Turquoise / Yellowside Turquoise // Yellowside Cinnamon TurquoiseYellowside TurquoiseYellowside / Cinnamon | S11: Vert /// Yellowside Cinnamon Turquoise Yellowside // Cinnamon Turquoise Cinnamon // Yellowside Turquoise Pineapple / Turquoise Turquoise // Yellowside Cinnamon TurquoiseYellowside / Cinnamon TurquoiseCinnamon / Yellowside TurquoisePineapple
A12: yellowside / turquoise | B12: TurquoiseYellowside | D12: yellowside / turquoise | E12: turquoiseyellowside | G12: Yellowside | H12: Vert / Yellowside | I12: Vert / Yellowside Vert // Yellowside Turquoise | J12: Yellowside | K12: Yellowside Yellowside / Turquoise | L12: Vert // Yellowside Cinnamon | M12: Vert // Yellowside Cinnamon Vert /// Yellowside Cinnamon Turquoise | N12: Yellowside / Cinnamon | O12: Yellowside / Cinnamon Yellowside // Cinnamon Turquoise | P12: Vert // Yellowside Turquoise | Q12: Vert /// Yellowside Cinnamon Turquoise | R12: Yellowside / Turquoise | S12: Yellowside // Cinnamon Turquoise
A13: yellowside // turquoise cinnamon | B13: TurquoisePineapple | D13: yellowside // turquoise cinnamon | E13: turquoisepineapple | G13: Yellowside / Cinamon | H13: Vert / Yellowside Vert // Yellowside Cinnamon | I13: Vert / Yellowside Vert // Yellowside Cinnamon Vert // Yellowside Turquoise Vert /// Yellowside Cinnamon Turquoise | J13: Yellowside Yellowside / Cinnamon | K13: Yellowside Yellowside / Cinnamon Yellowside / Turquoise Yellowside // Cinnamon Turquoise | L13: Vert // Yellowside Cinnamon Cinnamon / Yellowside | M13: Vert // Yellowside Cinnamon Vert /// Yellowside Cinnamon Turquoise Cinnamon / Yellowside Cinnamon // Yellowside Turquoise | N13: Yellowside / Cinnamon YellowsideCinnamon | O13: Yellowside / Cinnamon Yellowside // Cinnamon Turquoise Pineapple Pineapple / Turquoise | P13: Vert // Yellowside Turquoise Vert /// Yellowside Cinnamon Turquoise | Q13: Vert /// Yellowside Cinnamon Turquoise Cinnamon // Yellowside Turquoise | R13: Yellowside / Turquoise Yellowside // Cinnamon Turquoise | S13: Yellowside // Cinnamon Turquoise Pineapple / Turquoise
A14: Cinnamon | D14: Cinnamon | G14: Yellowside / Turquoise | H14: Vert / Yellowside Vert // Yellowside Turquoise | I14: Vert / Yellowside Vert // Yellowside Turquoise Turquoise / Yellowside | J14: Yellowside Yellowside / Turquoise | K14: Yellowside Yellowside / Turquoise TurquoiseYellowside | L14: Vert // Yellowside Cinnamon Vert /// Yellowside Cinnamon Turquoise | M14: Vert // Yellowside Cinnamon Vert /// Yellowside Cinnamon Turquoise Turquoise // Yellowside CInnamon | N14: Yellowside / Cinnamon Yellowside // Cinnamon Turquoise | O14: Yellowside / Cinnamon Yellowside // Cinnamon Turquoise TurquoiseYellowside / Cinnamon | P14: Vert // Yellowside Turquoise Turquoise / Yellowside | Q14: Vert /// Yellowside Cinnamon Turquoise Turquoise // Yellowside Cinnamon | R14: Yellowside / Turquoise TurquoiseYellowside | S14: Yellowside // Cinnamon Turquoise TurquoiseYellowside / Cinnamon
A15: cinnamon / yellowside | D15: cinnamon / yellowside | G15: Yellowside // Turquoise cinnamon | H15: Vert / Yellowside Vert // Yellowside Cinnamon Vert // Yellowside Turquoise Vert /// Yellowside Cinnamon Turquoise | I15: Vert / Yellowside Vert // Yellowside Cinnamon Vert // Yellowside Turquoise Vert /// Yellowside Cinnamon Turquoise Turquoise / Yellowside Turquoise // Yellowside Cinnamon | J15: Yellowside Yellowside / Cinnamon Yellowside / Turquoise Yellowside // Cinnamon Turquoise | K15: Yellowside Yellowside / Cinnamon Yellowside / Turquoise Yellowside // Cinnamon Turquoise TurquoiseYellowside TurquoiseYellowside / Cinnamon | L15: Vert // Yellowside Cinnamon Vert /// Yellowside Cinamon Turquoise Cinnamon / Yellowside Cinnamon // Yellowside Turquoise | M15: Vert // Yellowside Cinnamon Vert /// Yellowside Cinnamon Turquoise Cinnamon / Yellowside Cinnamon // Yellowside Turquoise Turquoise // Yellowside CInnamon TurquoiseCinnamon / Yellowside | N15: Yellowside / Cinnamon Yellowside // Cinnamon Turquoise Pineapple Pineapple / Turquoise | O15: Yellowside / Cinnamon Yellowside // Cinnamon Turquoise Pineapple Pineapple / Turquoise TurquoiseYellowside / Cinnamon TurquoisePineapple | P15: Vert // Yellowside Turquoise Vert /// Yellowside Cinnamon Turquoise Turquoise / Yellowside Turquoise // Yellowside Cinnamon | Q15: Vert /// Yellowside Cinnamon Turquoise Cinnamon // Yellowside Turquoise Turquoise // Yellowside Cinnamon TurquoiseCinnamon / Yellowside | R15: Yellowside / Turquoise Yellowside // Cinnamon Turquoise TurquoiseYellowside TurquoiseYellowside / Cinnamon | S15: Yellowside // Cinnamon Turquoise Pineapple / Turquoise TurquoiseYellowside / Cinnamon TurquoisePineapple
A16: cinnamon / turquoise | D16: cinnamon / turquoise | G16: Cinnamon | H16: Vert / Cinnamon | I16: Vert / Cinnamon Vert // Cinnamon Turquoise | J16: Vert // Yellowside Cinnamon | K16: Vert // Yellowside Cinnamon Vert /// Yellowside Cinnamon Turquoise | L16: Cinnamon | M16: Cinnamon Cinnamon / Turquoise | N16: Cinnamon / Yellowside | O16: Cinnamon / Yellowside Cinnamon // Yellowside Turquoise | P16: Vert // Cinnamon Turquoise | Q16: Cinnamon / Turquoise | R16: Vert /// Yellowside Cinnamon Turquoise | S16: Cinnamon // Yellowside Turquoise
A17: cinnamon // turquoise yellowside | D17: cinnamon // turquoise yellowside | G17: cinnamon / yellowside | H17: Vert / Cinnamon Vert // Yellowside Cinnamon | I17: Vert / Cinnamon Vert // Cinnamon Turquoise Vert // Yellowside Cinnamon Vert /// Yellowside Cinnamon Turquoise | J17: Vert // Yellowside Cinnamon Yellowside / Cinnamon | K17: Vert // Yellowside Cinnamon Vert /// Yellowside Cinnamon Turquoise Yellowside / Cinnamon Yellowside / Turquoise | L17: Cinnamon Cinnamon / Yellowside | M17: Cinnamon Cinnamon / Yellowside Cinnamon / Turquoise Cinnamon // Yellowside Turquoise | N17: Cinnamon / Yellowside Pineapple | O17: Cinnamon / Yellowside Cinnamon // Yellowside Turquoise Pineapple Pineapple / Turquoise | P17: Vert // Cinnamon Turquoise Vert /// Yellowside Cinnamon Turquoise | Q17: Cinnamon / Turquoise Cinnamon // Yellowside Turquoise | R17: Vert /// Yellowside Cinnamon Turquoise Yellowside // Cinnamon Turquoise | S17: Cinnamon // Yellowside Turquoise Pineapple / Turquoise
A18: Pineapple | D18: Pineapple | G18: cinnamon / turquoise | H18: Vert / Cinnamon Vert // Cinnamon Turquoise | I18: Vert / Cinnamon Vert // Cinnamon Turquoise Turquoise / Cinnamon | J18: Vert // Yellowside Cinnamon Vert /// Yellowside Cinnamon Turquoise | K18: Vert // Yellowside Cinnamon Vert /// Yellowside Cinnamon Turquoise Turquoise // Yellowside Cinnamon | L18: Cinnamon Cinnamon / Turquoise | M18: Cinnamon Cinnamon / Turquoise TurquoiseCinnamon | N18: Cinnamon / Yellowside Cinnamon // Yellowside Turquoise | O18: Cinnamon / Yellowside Cinnamon // Yellowside Turquoise TurquoiseCinnamon / Yellowside | P18: Vert // Cinnamon Turquoise Turquoise / Cinnamon | Q18: Cinnamon / Turquoise TurquoiseCinnamon | R18: Vert /// Yellowside Cinnamon Turquoise Turquoise // Yellowside Cinnamon | S18: Cinnamon // Yellowside Turquoise TurquoiseCinnamon / Yellowside
A19: pineapple / turquoise | D19: pineapple / turquoise | G19: cinnamon // turquoise yellowside | H19: Vert / Cinnamon Vert // Cinnamon Turquoise Vert // Yellowside Cinnamon Vert /// Yellowside Cinnamon Turquoise | I19: Vert / Cinnamon Vert // Cinnamon Turquoise Vert // Yellowside Cinnamon Vert /// Yellowside Cinnamon Turquoise Turquoise / Cinnamon Turquoise // Yellowside Cinnamon | J19: Vert // Yellowside Cinnamon Vert /// Yellowside Cinnamon Turquoise Yellowside / Cinnamon Yellowside // Cinnamon Turquoise | K19: Vert // Yellowside Cinnamon Vert /// Yellowside Cinnamon Turquoise Yellowside / Cinnamon Yellowside // Cinnamon Turquoise Turquoise // Yellowside Cinnamon TurquoiseYellowside / Cinnamon | L19: Cinnamon Cinnamon / Yellowside Cinnamon / Turquoise Cinnamon // Yellowside Turquoise | M19: Cinnamon Cinnamon / Yellowside Cinnamon / Turquoise Cinnamon // Yellowside Turquoise TurquoiseCinnamon TurquoiseCinnamon / Yellowside | N19: Cinnamon / Yellowside Cinnamon // Yellowside Turquoise Pineapple Pineapple / Turquoise | O19: Cinnamon / Yellowside Cinnamon // Yellowside Turquoise Pineapple Pineapple / Turquoise TurquoiseCinnamon / Yellowside TurquoisePineapple | P19: Vert // Cinnamon Turquoise Vert /// Yellowside Cinnamon Turquoise Turquoise / Cinnamon Turquoise // Yellowside Cinnamon | Q19: Cinnamon / Turquoise Cinnamon // Yellowside Turquoise TurquoiseCinnamon TurquoiseCinnamon / Yellowside | R19: Vert /// Yellowside Cinnamon Turquoise Yellowside // Cinnamon Turquoise Turquoise // Yellowside Cinnamon TurquoiseYellowside / Cinnamon | S19: Cinnamon // Yellowside Turquoise Pineapple / Turquoise TurquoiseCinnamon / Yellowside TurquoisePineapple
A20: Turquoise | D20: Turquoise | G20: Pineapple | H20: Vert // Yellowside Cinnamon | I20: Vert // Yellowside Cinnamon Vert /// Yellowside Cinnamon Turquoise | J20: Yellowside / Cinnamon | K20: Yellowside / Cinnamon Yellowside // Cinnamon Turquoise | L20: Cinnamon / Yellowside | M20: Cinnamon / Yellowside Cinnamon // Yellowside Turquoise | N20: Pineapple | O20: Pineapple Pineapple / Turquoise | P20: Vert /// Yellowside Cinnamon Turquoise | Q20: Cinnamon // Yellowside Turquoise | R20: Yellowside // Cinnamon Turquoise | S20: Pineapple / Turquoise
A21: turquoise / yellowside | D21: turquoise / yellowside | G21: Pineapple / Turquoise | H21: Vert // Yellowside Cinnamon Vert /// Yellowside Cinnamon Turquoise | I21: Vert // Yellowside Cinnamon Vert /// Yellowside Cinnamon Turquoise Turquoise // Yellowside Cinnamon | J21: Yellowside / Cinnamon Yellowside // Cinnamon Turquoise | K21: Yellowside / Cinnamon Yellowside // Cinnamon Turquoise TurquoiseYellowside / Cinnamon | L21: Cinnamon / Yellowside Cinnamon // Yellowside Turquoise | M21: Cinnamon / Yellowside Cinnamon // Yellowside Turquoise TurquoiseCinnamon / Yellowside | N21: Pineapple Pineapple / Turquoise | O21: Pineapple Pineapple / Turquoise TurquoisePineapple | P21: Vert /// Yellowside Cinnamon Turquoise Turquoise // Yellowside Cinnamon | Q21: Cinnamon // Yellowside Turquoise TurquoiseCinnamon / Yellowside | R21: Yellowside // Cinnamon Turquoise TurquoiseYellowside / Cinnamon | S21: Pineapple / Turquoise TurquoisePineapple
A22: turquoise / cinnamon | D22: turquoise / cinnamon | G22: Turquoise | H22: Vert / Turquoise | I22: Vert / Turquoise Turquoise | J22: Vert // Yellowside Turquoise | K22: Vert // Yellowside Turquoise Turquoise / Yellowside | L22: Vert // Cinnamon Turquoise | M22: Vert // Cinnamon Turquoise Turquoise / Cinnamon | N22: Vert /// Yellowside Cinnamon Turquoise | O22: Vert /// Yellowside Cinnamon Turquoise Turquoise // Yellowside Cinnamon | P22: Turquoise | Q22: Turquoise / Cinnamon | R22: Turquoise / Yellowside | S22: Turquoise // Yellowside Cinnamon
A23: turquoise // yellowside cinamon | D23: turquoise // yellowside cinamon | G23: turquoise / yellowside | H23: Vert / Turquoise Vert // Yellowside Turquoise | I23: Vert / Turquoise Vert // Yellowside Turquoise Turquoise Turquoise / Yellowside | J23: Vert // Yellowside Turquoise Yellowside / Turquoise | K23: Vert // Yellowside Turquoise Yellowside / Turquoise Turquoise / Yellowside TurquoiseYellowside | L23: Vert // Cinnamon Turquoise Vert /// Yellowside Cinnamon Turquoise | M23: Vert // Cinnamon Turquoise Vert /// Yellowside Cinnamon Turquoise Turquoise / Cinnamon Turquoise // Yellowside Cinnamon | N23: Vert /// Yellowside Cinnamon Turquoise Yellowside // Cinnamon Turquoise | O23: Vert /// Yellowside Cinnamon Turquoise Yellowside // Cinnamon Turquoise Turquoise // Yellowside CInnamon TurquoiseYellowside / Cinnamon | P23: Turquoise Turquoise / Yellowside | Q23: Turquoise / Cinnamon Turquoise // Yellowside Cinnamon | R23: Turquoise / Yellowside TurquoiseYellowside | S23: Turquoise // Yellowside Cinnamon TurquoiseYellowside / Cinnamon
A24: TurquoiseCinnamon | D24: turquoise cinnamon | G24: Turquoise / Cinnamon | H24: Vert / Turquoise Vert // Cinnamon Turquoise | I24: Vert / Turquoise Vert // Cinnamon Turquoise Turquoise Turquoise / Cinnamon | J24: Vert // Yellowside Turquoise Vert /// Yellowside Cinnamon Turquoise | K24: Vert // Yellowside Turquoise Vert /// Yellowside Cinnamon Turquoise Turquoise / Yellowside Turquoise // Yellowside Cinnamon | L24: Vert // Cinnamon Turquoise Cinnamon / Turquoise | M24: Vert // Cinnamon Turquoise Cinnamon / Turquoise Turquoise / Cinnamon TurquoiseCinnamon | N24: Vert /// Yellowside Cinnamon Turquoise Cinnamon // Yellowside Turquoise | O24: Vert /// Yellowside Cinnamon Turquoise CInnamon // Yellowside Turquoise Turquoise // Yellowside CInnamon TurquoiseCinnamon / Yellowside | P24: Turquoise Turquoise / Cinnamon | Q24: Turquoise / Cinnamon TurquoiseCinnamon | R24: Turquoise / Yellowside Turquoise // Yellowside Cinnamon | S24: Turquoise // Yellowside Cinnamon TurquoiseCinnamon / Yellowside
A25: TurquoiseCinnamon / yellowside | D25: turquoise cinnamon / yellowside | G25: Turquoise // Yellowside Cinamon | H25: Vert / Turquoise Vert // Yellowside Turquoise Vert // Cinnamon Turquoise Vert /// Yellowside Cinnamon Turquoise | I25: Vert / Turquoise Vert // Yellowside Turquoise Vert // Cinnamon Turquoise Vert /// Yellowside Cinnamon Turquoise Turquoise Turquoise / Yellowside Turquoise / Cinnamon Turquoise // Yellowside Cinnamon | J25: Vert // Yellowside Turquoise Vert /// Yellowside Cinnamon Turquoise Yellowside / Turquoise Yellowside // Cinnamon Turquoise | K25: Vert // Yellowside Turquoise Vert /// Yellowside Cinnamon Turquoise Yellowside / Turquoise Yellowside // Cinnamon Turquoise Turquoise / Yellowside Turquoise // Yellowside Cinnamon | L25: Vert // Yellowside Turquoise Vert /// Yellowside Cinnamon Turquoise Cinnamon / Turquoise Cinnamon // Yellowside Turquoise | M25: Vert // Yellowside Turquoise Vert /// Yellowside Cinnamon Turquoise Cinnamon / Turquoise Cinnamon // Yellowside Turquoise Turquoise / Cinnamon Turquoise // Yellowside Cinnamon TurquoiseCinnamon TurquoiseCinnamon / Yellowside | N25: Vert /// Yellowside Cinnamon Turquoise Yellowside // Cinnamon Turquoise Cinnamon // Yellowside Turquoise Pineapple / Turquoise | O25: Vert /// Yellowside Cinnamon Turquoise Yellowside // Cinnamon Turquoise CInnamon // Yellowside Turquoise Pineapple / Turquoise Turquoise // Yellowside CInnamon TurquoiseCinnamon / Yellowside TurquoiseYellowside / Cinnamon TurquoisePinneaple | P25: Turquoise Turquoise / Cinnamon Turquoise / Yellowside Turquoise // Yellowside Cinnamon | Q25: Turquoise / Cinnamon Turquoise// Yellowside Cinnamon TurquoiseCinnamon TurquoiseCinnamon / Yellowside | R25: Turquoise / Yellowside Turquoise // Yellowside Cinnamon TurquoiseYellowside TurquoiseYellowside / Cinnamon | S25: Turquoise // Yellowside Cinnamon TurquoiseYellowside / Cinnamon TurquoiseCinnamon / Yellowside TurquoisePineapple
... A28: TurquoisePineapple | D28: turquoise pineapple | G28: TurquoiseYellowside | H28: Vert // Yellowside Turquoise | I28: Vert // Yellowside Turquoise Turquoise / Yellowside | J28: Yellowside / Turquoise | K28: Yellowside / Turquoise TurquoiseYellowside | L28: Vert /// Yellowside Cinnamon Turquoise | M28: Vert /// Yellowside Cinnamon Turquoise Turquoise // Yellowside Cinnamon | N28: Yellowside // Cinnamon Turquoise | O28: Yellowside // Cinnamon Turquoise TurquoiseYellowside / Cinnamon | P28: Turquoise / Yellowside | Q28: Turquoise // Yellowside Cinnamon | R28: TurquoiseYellowside | S28: TurquoiseYellowside / Cinnamon
G29: TurquoiseYellowside / Cinnamon | H29: Vert // Yellowside Turquoise Vert /// Yellowside Cinnamon Turquoise | I29: Vert // Yellowside Turquoise Vert /// Yellowside Cinnamon Turquoise Turquoise / Yellowside Turquoise // Yellowside Cinnamon | J29: Yellowside / Turquoise Yellowside // Cinnamon Turquoise | K29: Yellowside / Turquoise Yellowside // Cinnamon Turquoise TurquoiseYellowside TurquoiseYellowside / Cinnamon | L29: Vert /// Yellowside Cinnamon Turquoise Cinnamon // Yellowside Turquoise | M29: Vert /// Yellowside Cinnamon Turquoise Cinnamon // Yellowside Turquoise Turquoise // Yellowside Cinnamon TurquoiseCinnamon / Yellowside | N29: Yellowside // Cinnamon Turquoise Pineapple / Turquoise | O29: Yellowside // Cinnamon Turquoise Pineapple / Turquoise TurquoiseYellowside / Cinnamon TurquoisePineapple | P29: Turquoise / Yellowside Turquoise // Yellowside Cinnamon | Q29: Turquoise // Yellowside Cinnamon TurquoiseCinnamon / Yellowside | R29: TurquoiseYellowside TurquoiseYellowside / Cinnamon | S29: TurquoiseYellowside / Cinnamon TurquoisePineapple
G30: TurquoisePineapple | H30: Vert /// Yellowside Cinnamon Turquoise | I30: Vert /// Yellowside Cinnamon Turquoise Turquoise // Yellowside Cinnamon | J30: Yellowside // Cinnamon Turquoise | K30: Yellowside // Cinnamon Turquoise TurquoiseYellowside / Cinnamon | L30: Cinnamon // Yellowside Turquoise | M30: Cinnamon // Yellowside Turquoise TurquoiseCinnamon / Yellowside | N30: Pineapple / Turquoise | O30: Pineapple / Turquoise TurquoisePineapple | P30: Turquoise // Yellowside Cinnamon | Q30: TurquoiseCinnamon / Yellowside | R30: TurquoiseYellowside / Cinnamon | S30: TurquoisePineapple
G31: Bébe Femelle
G32: Mâle | I32: Femelle
H33: Vert | I33: Vert / Turquoise | J33: Yellowside | K33: Yellowside / Turquoise | L33: Cinnamon | M33: Cinnamon / Turquoise | N33: Pineapple | O33: Pineapple / Turquoise | P33: Turquoise | Q33: TurquoiseCinnamon | R33: TurquoiseYellowside | S33: TurquoisePineapple
G34: Vert | H34: Vert | I34: Vert Vert / Turquoise | J34: Vert | K34: Vert Vert / Turquoise | L34: Vert | M34: vert vert / turquoise | N34: Vert | O34: Vert Vert / Turquoise | P34: vert / Turquoise | Q34: Vert / Turquoise | R34: Vert / Turquoise | S34: Vert / Turquoise
G35: Vert / Yellowside | H35: Vert Yellowside | I35: Vert Vert / Turquoise Yellowside Yellowside / Turquoise | J35: Vert Yellowside | K35: Vert Vert / turquoise Yellowside Yellowside / turquoise | L35: Vert Yellowside | M35: vert vert / turquoise yellowside yellowside / turquoise | N35: Vert Yellowside | O35: Vert Vert / turquoise Yellowside Yellowside / turquoise | P35: Vert / Turquoise Yellowside / Turquoise | Q35: Vert / Turquoise Yellowside / Turquoise | R35: Vert / Turquoise Yellowside / Turquoise | S35: Vert / Turquoise Yellowside / Turquoise
G36: Vert / Cinnamon | H36: Vert Cinnamon | I36: Vert Cinnamon Cinnamon / Turquoise | J36: Vert Cinnamon | K36: Vert Cinnamon Cinnamon / Turquoise | L36: Vert Cinnamon | M36: Vert Cinnamon Cinnamon / Turquoise | N36: Vert Cinnamon | O36: Vert Cinnamon Cinnamon / Turquoise | P36: Vert / Turquoise Cinnamon / Turquoise | Q36: Vert / Turquoise Cinnamon / Turquoise | R36: Vert / Turquoise Cinnamon / Turquoise | S36: Vert / Turquoise Cinnamon / Turquoise
G37: Vert / Turquoise | H37: Vert Vert / Turquoise | I37: vert Vert / turquoise Turquoise | J37: Vert Vert / Turquoise | K37: Vert Vert / Turquoise Turquoise | L37: Vert Vert / Turquoise | M37: Vert Vert / Turquoise Turquoise | N37: Vert Vert / Turquoise | O37: Vert Vert / Turquoise Turquoise | P37: Vert / Turquoise Turquoise | Q37: Vert / Turquoise Turquoise | R37: Vert / Turquoise Turquoise | S37: Vert / Turquoise Turquoise
G38: Vert // Yellowside Cinnamon | H38: Cinnamon Yellowside Pineapple | I38: Vert Vert / Turquoise Yellowside Yellowside / Turquoise Cinnamon Cinnamon / Turquoise Pineapple Pineapple / Turquoise | J38: Vert Yellowside Cinnamon Pineapple | K38: Vert Vert / Turquoise Yellowside Yellowside / Turquoise Cinnamon Cinnamon / Turquoise Pineapple Pineapple / Turquoise | L38: Vert Yellowside Cinnamon Pineapple | M38: Vert Vert / Turquoise Yellowside Yellowside / Turquoise Cinnamon Cinnamon / Turquoise Pineapple Pineapple / Turquoise | N38: Vert Yellowside Cinnamon Pineapple | O38: Vert Vert / Turquoise Yellowside Yellowside / Turquoise Cinnamon Cinnamon / Turquoise Pineapple Pineapple / Turquoise | P38: Vert / Turquoise Yellowside / Turquoise Cinnamon / Turquoise Pineapple / Turquoise | Q38: Vert / Turquoise Yellowside / Turquoise Cinnamon / Turquoise Pineapple / Turquoise | R38: Vert / Turquoise Yellowside / Turquoise Cinnamon / Turquoise Pineapple / Turquoise | S38: Vert / Turquoise Yellowside / Turquoise Cinnamon / Turquoise Pineapple / Turquoise
G39: Vert // Cinnamon Turquoise | H39: Vert Vert / Turquoise Cinnamon Cinnamon / Turquoise | I39: Vert Vert / Turquoise Cinnamon Cinnamon / Turquoise Turquoise TurquoiseCinnamon | J39: Vert Vert / Turquoise Cinnamon Cinnamon / Turquoise | K39: Vert Vert / Turquoise Cinnamon Cinnamon / Turquoise Turquoise TurquoiseCinnamon | L39: Vert Vert / Turquoise Cinnamon Cinnamon / Turquoise | M39: Vert Vert / Turquoise Cinnamon Cinnamon / Turquoise Turquoise TurquoiseCinnamon | N39: Vert Vert / Turquoise Cinnamon Cinnamon / Turquoise | O39: Vert Vert / Turquoise Cinnamon Cinnamon / Turquoise Turquoise TurquoiseCinnamon | P39: Vert / Turquoise Cinnamon / Turquoise Turquoise TurquoiseCinnamon | Q39: Vert / Turquoise Cinnamon / Turquoise Turquoise TurquoiseCinnamon | R39: Vert / Turquoise Cinnamon / Turquoise Turquoise TurquoiseCinnamon | S39: Vert / Turquoise Cinnamon / Turquoise Turquoise TurquoiseCinnamon
G40: vert // yellowside turquoise | H40: vert vert / turquoise yellowside yellowside / turquoise | I40: vert vert / turquoise yellowside yellowside / turquoise Turquoise TurquoiseYellowside | J40: Vert Vert / Turquoise Yellowside Yellowside / Turquoise | K40: Vert Vert / Turquoise Yellowside Yellowside / Turquoise Turquoise TurquoiseYellowside | L40: Vert Vert / Turquoise Yellowside Yellowside / Turquoise | M40: Vert Vert / Turquoise Yellowside Yellowside / Turquoise Turquoise TurquoiseYellowside | N40: Vert Vert / Turquoise Yellowside Yellowside / Turquoise | O40: Vert Vert / Turquoise Yellowside Yellowside / Turquoise Turquoise TurquoiseYellowside | P40: Vert Vert / Turquoise Yellowside Yellowside / Turquoise Turquoise TurquoiseYellowside | Q40: Vert / Turquoise Yellowside / Turquoise Turquoise TurquoiseYellowside | R40: Vert / Turquoise Yellowside / Turquoise Turquoise TurquoiseYellowside | S40: Vert / Turquoise Yellowside / Turquoise Turquoise TurquoiseYellowside
G41: Vert /// Yellowside Cinnamon Turquoise | H41: Vert Vert / Turquoise Yellowside Yellowside / Turquoise Cinnamon Cinnamon / Turquoise Pineapple Pineapple / Turquoise | I41: Vert Vert / Turquoise Yellowside Yellowside / Turquoise Cinnamon Cinnamon / Turquoise Pineapple Pineapple / Turquoise Turquoise TurquoiseCinnamon TurquoiseYellowside TurquoisePineapple | J41: Vert Vert / Turquoise Yellowside Yellowside / Turquoise Cinnamon Cinnamon / Turquoise Pineapple Pineapple / Turquoise | K41: Vert Vert / Turquoise Yellowside Yellowside / Turquoise Cinnamon Cinnamon / Turquoise Pineapple Pineapple / Turquoise Turquoise TurquoiseCinnamon TurquoiseYellowside TurquoisePineapple | L41: Vert Vert / Turquoise Yellowside Yellowside / Turquoise Cinnamon Cinnamon / Turquoise Pineapple Pineapple / Turquoise | M41: Vert Vert / Turquoise Yellowside Yellowside / Turquoise Cinnamon Cinnamon / Turquoise Pineapple Pineapple / Turquoise Turquoise TurquoiseCinnamon TurquoiseYellowside TurquoisePineapple | N41: Vert Vert / Turquoise Yellowside Yellowside / Turquoise Cinnamon Cinnamon / Turquoise Pineapple Pineapple / Turquoise | O41: Vert Vert / Turquoise Yellowside Yellowside / Turquoise Cinnamon Cinnamon / Turquoise Pineapple Pineapple / Turquoise Turquoise TurquoiseCinnamon TurquoiseYellowside TurquoisePineapple | P41: Vert / Turquoise Yellowside / Turquoise Cinnamon / Turquoise Pineapple / Turquoise Turquoise TurquoiseCinnamon TurquoiseYellowside TurquoisePineapple | Q41: Vert / Turquoise Yellowside / Turquoise Cinnamon / Turquoise Pineapple / Turquoise Turquoise TurquoiseCinnamon TurquoiseYellowside TurquoisePineapple | R41: Vert / Turquoise Yellowside / Turquoise Cinnamon / Turquoise Pineapple / Turquoise Turquoise TurquoiseCinnamon TurquoiseYellowside TurquoisePineapple | S41: Vert / Turquoise Yellowside / Turquoise Cinnamon / Turquoise Pineapple / Turquoise Turquoise TurquoiseCinnamon TurquoiseYellowside TurquoisePineapple
G42: Yellowside | H42: Yellowside | I42: Yellowside Yellowside / Turquoise | J42: Yellowside | K42: Yellowside Yellowside / Turquoise | L42: Yellowside | M42: Yellowside Yellowside / Turquoise | N42: Yellowside | O42: Yellowside Yellowside / Turquoise | P42: Yellowside / Turquoise | Q42: Yellowside / Turquoise | R42: Yellowside / Turquoise | S42: Yellowside / Turquoise
G43: Yellowside / Cinamon | H43: Yellowside Pineapple | I43: Yellowside Yellowside / Turquoise Pineapple Pineapple / Turquoise | J43: Yellowside Pineapple | K43: Yellowside Yellowside / Turquoise Pineapple Pineapple / Turquoise | L43: Yellowside Pineapple | M43: Yellowside Yellowside / Turquoise Pineapple Pineapple / Turquoise | N43: Yellowside Pineapple | O43: Yellowside Yellowside / Turquoise Pineapple Pineapple / Turquoise | P43: Yellowside / Turquoise Pineapple / Turquoise | Q43: Yellowside / Turquoise Pineapple / Turquoise | R43: Yellowside / Turquoise Pineapple / Turquoise | S43: Yellowside / Turquoise Pineapple / Turquoise
G44: Yellowside / Turquoise | H44: Yellowside Yellowside / Turquoise | I44: Yellowside Yellowside / Turquoise TurquoiseYellowside | J44: Yellowside Yellowside / Turquoise | K44: Yellowside Yellowside / Turquoise TurquoiseYellowside | L44: Yellowside Yellowside / Turquoise | M44: Yellowside Yellowside / Turquoise Pineapple | N44: Yellowside Yellowside / Turquoise | O44: Yellowside Yellowside / Turquoise TurquoiseYellowside | P44: Yellowside / Turquoise TurquoiseYellowside | Q44: Yellowside / Turquoise TurquoiseYellowside | R44: Yellowside / Turquoise TurquoiseYellowside | S44: Yellowside / Turquoise TurquoiseYellowside
G45: Yellowside // Turquoise cinnamon | H45: Yellowside Yellowside / Turquoise Pineapple Pineapple / Turquoise | I45: Yellowside Yellowside / Turquoise Pineapple Pineapple / Turquoise TurquoiseYellowside TurquoisePineapple | J45: Yellowside Yellowside / Turquoise Pineapple Pineapple / Turquoise | K45: Yellowside Yellowside / Turquoise Pineapple Pineapple / Turquoise TurquoiseYellowside TurquoisePineapple | L45: Yellowside Yellowside / Turquoise Pineapple Pineapple / Turquoise | M45: Yellowside Yellowside / Turquoise Pineapple Pineapple / Turquoise TurquoiseYellowside TurquoisePineapple | N45: Yellowside Yellowside / Turquoise Pineapple Pineapple / Turquoise | O45: Yellowside Yellowside / Turquoise Pineapple Pineapple / Turquoise TurquoiseYellowside TurquoisePineapple | P45: Yellowside / Turquoise Pineapple / Turquoise TurquoiseYellowside TurquoisePineapple | Q45: Yellowside / Turquoise Pineapple / Turquoise TurquoiseYellowside TurquoisePineapple | R45: Yellowside / Turquoise Pineapple / Turquoise TurquoiseYellowside TurquoisePineapple | S45: Yellowside / Turquoise Pineapple / Turquoise TurquoiseYellowside TurquoisePineapple
... G60: TurquoisePineapple | H60: Pineapple / Turquoise | I60: Pineapple / Turquoise TurquoisePineapple | J60: Pineapple / Turquoise | K60: Pineapple / Turquoise TurquoisePineapple | L60: Pineapple / Turquoise | M60: Pineapple / Turquoise TurquoisePineapple | N60: Pineapple / Turquoise | O60: Pineapple / Turquoise TurquoisePineapple | P60: TurquoisePineapple | Q60: TurquoisePineapple | R60: TurquoisePineapple | S60: TurquoisePineapple

Sheet Auto
A2: SexeBébé | B2: Père | C2: Mère | E2: types bébés | F2: type 1 | G2: reste | H2: type2 | I2: reste | J2: Type3 | K2: reste | L2: Type4 | M2: Reste | N2: Type5 | O2: reste | P2: Type6 | Q2: reste | R2: Type7 | S2: reste | T2: Type8 | U2: reste | V2: Type9 | W2: reste | X2: Type10 | Y2: reste | Z2: Type11 | AA2: reste | AB2: Type12 | AC2: reste | AF2: SexeBebe | AG2: Père | AH2: Mere
A3: Male | B3: =Tables!G4 -> Vert | C3: =Tables!$H$3 -> Vert | D3: =A3&B3&C3 -> MaleVertVert | E3: =Tables!H4 -> Vert | F3: =IF(ISERROR(SEARCH(CHAR(10),E3,1)),E3,LEFT(E3,SEARCH(CHAR(10),E3,1))) -> Vert | G3: =RIGHT(E3,LEN(E3)-LEN(F3)) | H3: =IF(ISERROR(SEARCH(CHAR(10),G3,1)),G3,LEFT(G3,SEARCH(CHAR(10),G3,1))) | I3: =RIGHT(G3,LEN(E3)-LEN(F3)-LEN(H3)) | J3: =IF(ISERROR(SEARCH(CHAR(10),I3,1)),I3,LEFT(I3,SEARCH(CHAR(10),I3,1))) | K3: =RIGHT(I3,LEN(E3)-LEN(F3)-LEN(H3)-LEN(J3)) | L3: =IF(ISERROR(SEARCH(CHAR(10),K3,1)),K3,LEFT(K3,SEARCH(CHAR(10),K3,1))) | M3: =RIGHT(K3,LEN(G3)-LEN(H3)-LEN(J3)-LEN(L3)) | N3: =IF(ISERROR(SEARCH(CHAR(10),M3,1)),M3,LEFT(M3,SEARCH(CHAR(10),M3,1))) | O3: =RIGHT(M3,LEN(I3)-LEN(J3)-LEN(L3)-LEN(N3)) | P3: =IF(ISERROR(SEARCH(CHAR(10),O3,1)),O3,LEFT(O3,SEARCH(CHAR(10),O3,1))) | Q3: =RIGHT(O3,LEN(K3)-LEN(L3)-LEN(N3)-LEN(P3)) | R3: =IF(ISERROR(SEARCH(CHAR(10),Q3,1)),Q3,LEFT(Q3,SEARCH(CHAR(10),Q3,1))) | S3: =RIGHT(Q3,LEN(M3)-LEN(N3)-LEN(P3)-LEN(R3)) | T3: =IF(ISERROR(SEARCH(CHAR(10),S3,1)),S3,LEFT(S3,SEARCH(CHAR(10),S3,1))) | U3: =RIGHT(S3,LEN(O3)-LEN(P3)-LEN(R3)-LEN(T3)) | V3: =IF(ISERROR(SEARCH(CHAR(10),U3,1)),U3,LEFT(U3,SEARCH(CHAR(10),U3,1))) | W3: =RIGHT(U3,LEN(Q3)-LEN(R3)-LEN(T3)-LEN(V3)) | X3: =IF(ISERROR(SEARCH(CHAR(10),W3,1)),W3,LEFT(W3,SEARCH(CHAR(10),W3,1))) | Y3: =RIGHT(W3,LEN(S3)-LEN(T3)-LEN(V3)-LEN(X3)) | Z3: =IF(ISERROR(SEARCH(CHAR(10),Y3,1)),Y3,LEFT(Y3,SEARCH(CHAR(10),Y3,1))) | AA3: =RIGHT(Y3,LEN(U3)-LEN(V3)-LEN(X3)-LEN(Z3)) | AB3: =IF(ISERROR(SEARCH(CHAR(10),AA3,1)),AA3,LEFT(AA3,SEARCH(CHAR(10),AA3,1))) | AC3: =RIGHT(AA3,LEN(W3)-LEN(X3)-LEN(Z3)-LEN(AB3)) | AF3: =A3 -> Male | AG3: =B3 -> Vert | AH3: =C3 -> Vert
A4: =A3 -> Male | B4: =Tables!G5 -> Vert / Yellowside | C4: =Tables!$H$3 -> Vert | D4: =A4&B4&C4 -> MaleVert / YellowsideVert | E4: =Tables!H5 -> Vert Vert / yellowside | F4: =IF(ISERROR(SEARCH(CHAR(10),E4,1)),E4,LEFT(E4,SEARCH(CHAR(10),E4,1))) -> Vert | G4: =RIGHT(E4,LEN(E4)-LEN(F4)) -> Vert / yellowside | H4: =IF(ISERROR(SEARCH(CHAR(10),G4,1)),G4,LEFT(G4,SEARCH(CHAR(10),G4,1))) -> Vert / yellowside | I4: =RIGHT(G4,LEN(E4)-LEN(F4)-LEN(H4)) | J4: =IF(ISERROR(SEARCH(CHAR(10),I4,1)),I4,LEFT(I4,SEARCH(CHAR(10),I4,1))) | K4: =RIGHT(I4,LEN(E4)-LEN(F4)-LEN(H4)-LEN(J4)) | L4: =IF(ISERROR(SEARCH(CHAR(10),K4,1)),K4,LEFT(K4,SEARCH(CHAR(10),K4,1))) | M4: =RIGHT(K4,LEN(G4)-LEN(H4)-LEN(J4)-LEN(L4)) | N4: =IF(ISERROR(SEARCH(CHAR(10),M4,1)),M4,LEFT(M4,SEARCH(CHAR(10),M4,1))) | O4: =RIGHT(M4,LEN(I4)-LEN(J4)-LEN(L4)-LEN(N4)) | P4: =IF(ISERROR(SEARCH(CHAR(10),O4,1)),O4,LEFT(O4,SEARCH(CHAR(10),O4,1))) | Q4: =RIGHT(O4,LEN(K4)-LEN(L4)-LEN(N4)-LEN(P4)) | R4: =IF(ISERROR(SEARCH(CHAR(10),Q4,1)),Q4,LEFT(Q4,SEARCH(CHAR(10),Q4,1))) | S4: =RIGHT(Q4,LEN(M4)-LEN(N4)-LEN(P4)-LEN(R4)) | T4: =IF(ISERROR(SEARCH(CHAR(10),S4,1)),S4,LEFT(S4,SEARCH(CHAR(10),S4,1))) | U4: =RIGHT(S4,LEN(O4)-LEN(P4)-LEN(R4)-LEN(T4)) | V4: =IF(ISERROR(SEARCH(CHAR(10),U4,1)),U4,LEFT(U4,SEARCH(CHAR(10),U4,1))) | W4: =RIGHT(U4,LEN(Q4)-LEN(R4)-LEN(T4)-LEN(V4)) | X4: =IF(ISERROR(SEARCH(CHAR(10),W4,1)),W4,LEFT(W4,SEARCH(CHAR(10),W4,1))) | Y4: =RIGHT(W4,LEN(S4)-LEN(T4)-LEN(V4)-LEN(X4)) | Z4: =IF(ISERROR(SEARCH(CHAR(10),Y4,1)),Y4,LEFT(Y4,SEARCH(CHAR(10),Y4,1))) | AA4: =RIGHT(Y4,LEN(U4)-LEN(V4)-LEN(X4)-LEN(Z4)) | AB4: =IF(ISERROR(SEARCH(CHAR(10),AA4,1)),AA4,LEFT(AA4,SEARCH(CHAR(10),AA4,1))) | AC4: =RIGHT(AA4,LEN(W4)-LEN(X4)-LEN(Z4)-LEN(AB4)) | AF4: =A4 -> Male | AG4: =B4 -> Vert / Yellowside | AH4: =C4 -> Vert
A5: =A4 -> Male | B5: =Tables!G6 -> Vert / Cinnamon | C5: =Tables!$H$3 -> Vert | D5: =A5&B5&C5 -> MaleVert / CinnamonVert | E5: =Tables!H6 -> Vert Vert / Cinnamon | F5: =IF(ISERROR(SEARCH(CHAR(10),E5,1)),E5,LEFT(E5,SEARCH(CHAR(10),E5,1))) -> Vert | G5: =RIGHT(E5,LEN(E5)-LEN(F5)) -> Vert / Cinnamon | H5: =IF(ISERROR(SEARCH(CHAR(10),G5,1)),G5,LEFT(G5,SEARCH(CHAR(10),G5,1))) -> Vert / Cinnamon | I5: =RIGHT(G5,LEN(E5)-LEN(F5)-LEN(H5)) | J5: =IF(ISERROR(SEARCH(CHAR(10),I5,1)),I5,LEFT(I5,SEARCH(CHAR(10),I5,1))) | K5: =RIGHT(I5,LEN(E5)-LEN(F5)-LEN(H5)-LEN(J5)) | L5: =IF(ISERROR(SEARCH(CHAR(10),K5,1)),K5,LEFT(K5,SEARCH(CHAR(10),K5,1))) | M5: =RIGHT(K5,LEN(G5)-LEN(H5)-LEN(J5)-LEN(L5)) | N5: =IF(ISERROR(SEARCH(CHAR(10),M5,1)),M5,LEFT(M5,SEARCH(CHAR(10),M5,1))) | O5: =RIGHT(M5,LEN(I5)-LEN(J5)-LEN(L5)-LEN(N5)) | P5: =IF(ISERROR(SEARCH(CHAR(10),O5,1)),O5,LEFT(O5,SEARCH(CHAR(10),O5,1))) | Q5: =RIGHT(O5,LEN(K5)-LEN(L5)-LEN(N5)-LEN(P5)) | R5: =IF(ISERROR(SEARCH(CHAR(10),Q5,1)),Q5,LEFT(Q5,SEARCH(CHAR(10),Q5,1))) | S5: =RIGHT(Q5,LEN(M5)-LEN(N5)-LEN(P5)-LEN(R5)) | T5: =IF(ISERROR(SEARCH(CHAR(10),S5,1)),S5,LEFT(S5,SEARCH(CHAR(10),S5,1))) | U5: =RIGHT(S5,LEN(O5)-LEN(P5)-LEN(R5)-LEN(T5)) | V5: =IF(ISERROR(SEARCH(CHAR(10),U5,1)),U5,LEFT(U5,SEARCH(CHAR(10),U5,1))) | W5: =RIGHT(U5,LEN(Q5)-LEN(R5)-LEN(T5)-LEN(V5)) | X5: =IF(ISERROR(SEARCH(CHAR(10),W5,1)),W5,LEFT(W5,SEARCH(CHAR(10),W5,1))) | Y5: =RIGHT(W5,LEN(S5)-LEN(T5)-LEN(V5)-LEN(X5)) | Z5: =IF(ISERROR(SEARCH(CHAR(10),Y5,1)),Y5,LEFT(Y5,SEARCH(CHAR(10),Y5,1))) | AA5: =RIGHT(Y5,LEN(U5)-LEN(V5)-LEN(X5)-LEN(Z5)) | AB5: =IF(ISERROR(SEARCH(CHAR(10),AA5,1)),AA5,LEFT(AA5,SEARCH(CHAR(10),AA5,1))) | AC5: =RIGHT(AA5,LEN(W5)-LEN(X5)-LEN(Z5)-LEN(AB5)) | AF5: =A5 -> Male | AG5: =B5 -> Vert / Cinnamon | AH5: =C5 -> Vert
A6: =A5 -> Male | B6: =Tables!G7 -> Vert / Turquoise | C6: =Tables!$H$3 -> Vert | D6: =A6&B6&C6 -> MaleVert / TurquoiseVert | E6: =Tables!H7 -> Vert Vert / turquoise | F6: =IF(ISERROR(SEARCH(CHAR(10),E6,1)),E6,LEFT(E6,SEARCH(CHAR(10),E6,1))) -> Vert | G6: =RIGHT(E6,LEN(E6)-LEN(F6)) -> Vert / turquoise | H6: =IF(ISERROR(SEARCH(CHAR(10),G6,1)),G6,LEFT(G6,SEARCH(CHAR(10),G6,1))) -> Vert / turquoise | I6: =RIGHT(G6,LEN(E6)-LEN(F6)-LEN(H6)) | J6: =IF(ISERROR(SEARCH(CHAR(10),I6,1)),I6,LEFT(I6,SEARCH(CHAR(10),I6,1))) | K6: =RIGHT(I6,LEN(E6)-LEN(F6)-LEN(H6)-LEN(J6)) | L6: =IF(ISERROR(SEARCH(CHAR(10),K6,1)),K6,LEFT(K6,SEARCH(CHAR(10),K6,1))) | M6: =RIGHT(K6,LEN(G6)-LEN(H6)-LEN(J6)-LEN(L6)) | N6: =IF(ISERROR(SEARCH(CHAR(10),M6,1)),M6,LEFT(M6,SEARCH(CHAR(10),M6,1))) | O6: =RIGHT(M6,LEN(I6)-LEN(J6)-LEN(L6)-LEN(N6)) | P6: =IF(ISERROR(SEARCH(CHAR(10),O6,1)),O6,LEFT(O6,SEARCH(CHAR(10),O6,1))) | Q6: =RIGHT(O6,LEN(K6)-LEN(L6)-LEN(N6)-LEN(P6)) | R6: =IF(ISERROR(SEARCH(CHAR(10),Q6,1)),Q6,LEFT(Q6,SEARCH(CHAR(10),Q6,1))) | S6: =RIGHT(Q6,LEN(M6)-LEN(N6)-LEN(P6)-LEN(R6)) | T6: =IF(ISERROR(SEARCH(CHAR(10),S6,1)),S6,LEFT(S6,SEARCH(CHAR(10),S6,1))) | U6: =RIGHT(S6,LEN(O6)-LEN(P6)-LEN(R6)-LEN(T6)) | V6: =IF(ISERROR(SEARCH(CHAR(10),U6,1)),U6,LEFT(U6,SEARCH(CHAR(10),U6,1))) | W6: =RIGHT(U6,LEN(Q6)-LEN(R6)-LEN(T6)-LEN(V6)) | X6: =IF(ISERROR(SEARCH(CHAR(10),W6,1)),W6,LEFT(W6,SEARCH(CHAR(10),W6,1))) | Y6: =RIGHT(W6,LEN(S6)-LEN(T6)-LEN(V6)-LEN(X6)) | Z6: =IF(ISERROR(SEARCH(CHAR(10),Y6,1)),Y6,LEFT(Y6,SEARCH(CHAR(10),Y6,1))) | AA6: =RIGHT(Y6,LEN(U6)-LEN(V6)-LEN(X6)-LEN(Z6)) | AB6: =IF(ISERROR(SEARCH(CHAR(10),AA6,1)),AA6,LEFT(AA6,SEARCH(CHAR(10),AA6,1))) | AC6: =RIGHT(AA6,LEN(W6)-LEN(X6)-LEN(Z6)-LEN(AB6)) | AF6: =A6 -> Male | AG6: =B6 -> Vert / Turquoise | AH6: =C6 -> Vert
A7: =A6 -> Male | B7: =Tables!G8 -> Vert // Yellowside Cinnamon | C7: =Tables!$H$3 -> Vert | D7: =A7&B7&C7 -> MaleVert // Yellowside CinnamonVert | E7: =Tables!H8 -> Vert Vert / Cinnamon Vert / Yellowside Vert // Yellowside Cinnamon | F7: =IF(ISERROR(SEARCH(CHAR(10),E7,1)),E7,LEFT(E7,SEARCH(CHAR(10),E7,1))) -> Vert | G7: =RIGHT(E7,LEN(E7)-LEN(F7)) -> Vert / Cinnamon Vert / Yellowside Vert // Yellowside Cinnamon | H7: =IF(ISERROR(SEARCH(CHAR(10),G7,1)),G7,LEFT(G7,SEARCH(CHAR(10),G7,1))) -> Vert / Cinnamon | I7: =RIGHT(G7,LEN(E7)-LEN(F7)-LEN(H7)) -> Vert / Yellowside Vert // Yellowside Cinnamon | J7: =IF(ISERROR(SEARCH(CHAR(10),I7,1)),I7,LEFT(I7,SEARCH(CHAR(10),I7,1))) -> Vert / Yellowside | K7: =RIGHT(I7,LEN(E7)-LEN(F7)-LEN(H7)-LEN(J7)) -> Vert // Yellowside Cinnamon | L7: =IF(ISERROR(SEARCH(CHAR(10),K7,1)),K7,LEFT(K7,SEARCH(CHAR(10),K7,1))) -> Vert // Yellowside Cinnamon | M7: =RIGHT(K7,LEN(G7)-LEN(H7)-LEN(J7)-LEN(L7)) | N7: =IF(ISERROR(SEARCH(CHAR(10),M7,1)),M7,LEFT(M7,SEARCH(CHAR(10),M7,1))) | O7: =RIGHT(M7,LEN(I7)-LEN(J7)-LEN(L7)-LEN(N7)) | P7: =IF(ISERROR(SEARCH(CHAR(10),O7,1)),O7,LEFT(O7,SEARCH(CHAR(10),O7,1))) | Q7: =RIGHT(O7,LEN(K7)-LEN(L7)-LEN(N7)-LEN(P7)) | R7: =IF(ISERROR(SEARCH(CHAR(10),Q7,1)),Q7,LEFT(Q7,SEARCH(CHAR(10),Q7,1))) | S7: =RIGHT(Q7,LEN(M7)-LEN(N7)-LEN(P7)-LEN(R7)) | T7: =IF(ISERROR(SEARCH(CHAR(10),S7,1)),S7,LEFT(S7,SEARCH(CHAR(10),S7,1))) | U7: =RIGHT(S7,LEN(O7)-LEN(P7)-LEN(R7)-LEN(T7)) | V7: =IF(ISERROR(SEARCH(CHAR(10),U7,1)),U7,LEFT(U7,SEARCH(CHAR(10),U7,1))) | W7: =RIGHT(U7,LEN(Q7)-LEN(R7)-LEN(T7)-LEN(V7)) | X7: =IF(ISERROR(SEARCH(CHAR(10),W7,1)),W7,LEFT(W7,SEARCH(CHAR(10),W7,1))) | Y7: =RIGHT(W7,LEN(S7)-LEN(T7)-LEN(V7)-LEN(X7)) | Z7: =IF(ISERROR(SEARCH(CHAR(10),Y7,1)),Y7,LEFT(Y7,SEARCH(CHAR(10),Y7,1))) | AA7: =RIGHT(Y7,LEN(U7)-LEN(V7)-LEN(X7)-LEN(Z7)) | AB7: =IF(ISERROR(SEARCH(CHAR(10),AA7,1)),AA7,LEFT(AA7,SEARCH(CHAR(10),AA7,1))) | AC7: =RIGHT(AA7,LEN(W7)-LEN(X7)-LEN(Z7)-LEN(AB7)) | AF7: =A7 -> Male | AG7: =B7 -> Vert // Yellowside Cinnamon | AH7: =C7 -> Vert
A8: =A7 -> Male | B8: =Tables!G9 -> Vert // Cinnamon Turquoise | C8: =Tables!$H$3 -> Vert | D8: =A8&B8&C8 -> MaleVert // Cinnamon TurquoiseVert | E8: =Tables!H9 -> Vert Vert / Cinnamon Vert / Turquoise Vert // Cinnamon Turquoise | F8: =IF(ISERROR(SEARCH(CHAR(10),E8,1)),E8,LEFT(E8,SEARCH(CHAR(10),E8,1))) -> Vert | G8: =RIGHT(E8,LEN(E8)-LEN(F8)) -> Vert / Cinnamon Vert / Turquoise Vert // Cinnamon Turquoise | H8: =IF(ISERROR(SEARCH(CHAR(10),G8,1)),G8,LEFT(G8,SEARCH(CHAR(10),G8,1))) -> Vert / Cinnamon | I8: =RIGHT(G8,LEN(E8)-LEN(F8)-LEN(H8)) -> Vert / Turquoise Vert // Cinnamon Turquoise | J8: =IF(ISERROR(SEARCH(CHAR(10),I8,1)),I8,LEFT(I8,SEARCH(CHAR(10),I8,1))) -> Vert / Turquoise | K8: =RIGHT(I8,LEN(E8)-LEN(F8)-LEN(H8)-LEN(J8)) -> Vert // Cinnamon Turquoise | L8: =IF(ISERROR(SEARCH(CHAR(10),K8,1)),K8,LEFT(K8,SEARCH(CHAR(10),K8,1))) -> Vert // Cinnamon Turquoise | M8: =RIGHT(K8,LEN(G8)-LEN(H8)-LEN(J8)-LEN(L8)) | N8: =IF(ISERROR(SEARCH(CHAR(10),M8,1)),M8,LEFT(M8,SEARCH(CHAR(10),M8,1))) | O8: =RIGHT(M8,LEN(I8)-LEN(J8)-LEN(L8)-LEN(N8)) | P8: =IF(ISERROR(SEARCH(CHAR(10),O8,1)),O8,LEFT(O8,SEARCH(CHAR(10),O8,1))) | Q8: =RIGHT(O8,LEN(K8)-LEN(L8)-LEN(N8)-LEN(P8)) | R8: =IF(ISERROR(SEARCH(CHAR(10),Q8,1)),Q8,LEFT(Q8,SEARCH(CHAR(10),Q8,1))) | S8: =RIGHT(Q8,LEN(M8)-LEN(N8)-LEN(P8)-LEN(R8)) | T8: =IF(ISERROR(SEARCH(CHAR(10),S8,1)),S8,LEFT(S8,SEARCH(CHAR(10),S8,1))) | U8: =RIGHT(S8,LEN(O8)-LEN(P8)-LEN(R8)-LEN(T8)) | V8: =IF(ISERROR(SEARCH(CHAR(10),U8,1)),U8,LEFT(U8,SEARCH(CHAR(10),U8,1))) | W8: =RIGHT(U8,LEN(Q8)-LEN(R8)-LEN(T8)-LEN(V8)) | X8: =IF(ISERROR(SEARCH(CHAR(10),W8,1)),W8,LEFT(W8,SEARCH(CHAR(10),W8,1))) | Y8: =RIGHT(W8,LEN(S8)-LEN(T8)-LEN(V8)-LEN(X8)) | Z8: =IF(ISERROR(SEARCH(CHAR(10),Y8,1)),Y8,LEFT(Y8,SEARCH(CHAR(10),Y8,1))) | AA8: =RIGHT(Y8,LEN(U8)-LEN(V8)-LEN(X8)-LEN(Z8)) | AB8: =IF(ISERROR(SEARCH(CHAR(10),AA8,1)),AA8,LEFT(AA8,SEARCH(CHAR(10),AA8,1))) | AC8: =RIGHT(AA8,LEN(W8)-LEN(X8)-LEN(Z8)-LEN(AB8)) | AF8: =A8 -> Male | AG8: =B8 -> Vert // Cinnamon Turquoise | AH8: =C8 -> Vert
A9: =A8 -> Male | B9: =Tables!G10 -> vert // yellowside turquoise | C9: =Tables!$H$3 -> Vert | D9: =A9&B9&C9 -> Malevert // yellowside turquoiseVert | E9: =Tables!H10 -> Vert Vert / Yellowside Vert / Turquoise Vert // Yellowside Turquoise | F9: =IF(ISERROR(SEARCH(CHAR(10),E9,1)),E9,LEFT(E9,SEARCH(CHAR(10),E9,1))) -> Vert | G9: =RIGHT(E9,LEN(E9)-LEN(F9)) -> Vert / Yellowside Vert / Turquoise Vert // Yellowside Turquoise | H9: =IF(ISERROR(SEARCH(CHAR(10),G9,1)),G9,LEFT(G9,SEARCH(CHAR(10),G9,1))) -> Vert / Yellowside | I9: =RIGHT(G9,LEN(E9)-LEN(F9)-LEN(H9)) -> Vert / Turquoise Vert // Yellowside Turquoise | J9: =IF(ISERROR(SEARCH(CHAR(10),I9,1)),I9,LEFT(I9,SEARCH(CHAR(10),I9,1))) -> Vert / Turquoise | K9: =RIGHT(I9,LEN(E9)-LEN(F9)-LEN(H9)-LEN(J9)) -> Vert // Yellowside Turquoise | L9: =IF(ISERROR(SEARCH(CHAR(10),K9,1)),K9,LEFT(K9,SEARCH(CHAR(10),K9,1))) -> Vert // Yellowside Turquoise | M9: =RIGHT(K9,LEN(G9)-LEN(H9)-LEN(J9)-LEN(L9)) | N9: =IF(ISERROR(SEARCH(CHAR(10),M9,1)),M9,LEFT(M9,SEARCH(CHAR(10),M9,1))) | O9: =RIGHT(M9,LEN(I9)-LEN(J9)-LEN(L9)-LEN(N9)) | P9: =IF(ISERROR(SEARCH(CHAR(10),O9,1)),O9,LEFT(O9,SEARCH(CHAR(10),O9,1))) | Q9: =RIGHT(O9,LEN(K9)-LEN(L9)-LEN(N9)-LEN(P9)) | R9: =IF(ISERROR(SEARCH(CHAR(10),Q9,1)),Q9,LEFT(Q9,SEARCH(CHAR(10),Q9,1))) | S9: =RIGHT(Q9,LEN(M9)-LEN(N9)-LEN(P9)-LEN(R9)) | T9: =IF(ISERROR(SEARCH(CHAR(10),S9,1)),S9,LEFT(S9,SEARCH(CHAR(10),S9,1))) | U9: =RIGHT(S9,LEN(O9)-LEN(P9)-LEN(R9)-LEN(T9)) | V9: =IF(ISERROR(SEARCH(CHAR(10),U9,1)),U9,LEFT(U9,SEARCH(CHAR(10),U9,1))) | W9: =RIGHT(U9,LEN(Q9)-LEN(R9)-LEN(T9)-LEN(V9)) | X9: =IF(ISERROR(SEARCH(CHAR(10),W9,1)),W9,LEFT(W9,SEARCH(CHAR(10),W9,1))) | Y9: =RIGHT(W9,LEN(S9)-LEN(T9)-LEN(V9)-LEN(X9)) | Z9: =IF(ISERROR(SEARCH(CHAR(10),Y9,1)),Y9,LEFT(Y9,SEARCH(CHAR(10),Y9,1))) | AA9: =RIGHT(Y9,LEN(U9)-LEN(V9)-LEN(X9)-LEN(Z9)) | AB9: =IF(ISERROR(SEARCH(CHAR(10),AA9,1)),AA9,LEFT(AA9,SEARCH(CHAR(10),AA9,1))) | AC9: =RIGHT(AA9,LEN(W9)-LEN(X9)-LEN(Z9)-LEN(AB9)) | AF9: =A9 -> Male | AG9: =B9 -> vert // yellowside turquoise | AH9: =C9 -> Vert
A10: =A9 -> Male | B10: =Tables!G11 -> Vert /// Yellowside Cinnamon Turquoise | C10: =Tables!$H$3 -> Vert | D10: =A10&B10&C10 -> MaleVert /// Yellowside Cinnamon TurquoiseVert | E10: =Tables!H11 -> Vert Vert / Cinnamon Vert / Yellowside Vert / Turquoise Vert // Yellowside Cinnamon Vert // Yellowside Turquoise Vert //Cinnamon Turquoise Vert /// Yellowside Cinnamon Turquoise | F10: =IF(ISERROR(SEARCH(CHAR(10),E10,1)),E10,LEFT(E10,SEARCH(CHAR(10),E10,1))) -> Vert | G10: =RIGHT(E10,LEN(E10)-LEN(F10)) -> Vert / Cinnamon Vert / Yellowside Vert / Turquoise Vert // Yellowside Cinnamon Vert // Yellowside Turquoise Vert //Cinnamon Turquoise Vert /// Yellowside Cinnamon Turquoise | H10: =IF(ISERROR(SEARCH(CHAR(10),G10,1)),G10,LEFT(G10,SEARCH(CHAR(10),G10,1))) -> Vert / Cinnamon | I10: =RIGHT(G10,LEN(E10)-LEN(F10)-LEN(H10)) -> Vert / Yellowside Vert / Turquoise Vert // Yellowside Cinnamon Vert // Yellowside Turquoise Vert //Cinnamon Turquoise Vert /// Yellowside Cinnamon Turquoise | J10: =IF(ISERROR(SEARCH(CHAR(10),I10,1)),I10,LEFT(I10,SEARCH(CHAR(10),I10,1))) -> Vert / Yellowside | K10: =RIGHT(I10,LEN(E10)-LEN(F10)-LEN(H10)-LEN(J10)) -> Vert / Turquoise Vert // Yellowside Cinnamon Vert // Yellowside Turquoise Vert //Cinnamon Turquoise Vert /// Yellowside Cinnamon Turquoise | L10: =IF(ISERROR(SEARCH(CHAR(10),K10,1)),K10,LEFT(K10,SEARCH(CHAR(10),K10,1))) -> Vert / Turquoise | M10: =RIGHT(K10,LEN(G10)-LEN(H10)-LEN(J10)-LEN(L10)) -> Vert // Yellowside Cinnamon Vert // Yellowside Turquoise Vert //Cinnamon Turquoise Vert /// Yellowside Cinnamon Turquoise | N10: =IF(ISERROR(SEARCH(CHAR(10),M10,1)),M10,LEFT(M10,SEARCH(CHAR(10),M10,1))) -> Vert // Yellowside Cinnamon | O10: =RIGHT(M10,LEN(I10)-LEN(J10)-LEN(L10)-LEN(N10)) -> Vert // Yellowside Turquoise Vert //Cinnamon Turquoise Vert /// Yellowside Cinnamon Turquoise | P10: =IF(ISERROR(SEARCH(CHAR(10),O10,1)),O10,LEFT(O10,SEARCH(CHAR(10),O10,1))) -> Vert // Yellowside Turquoise | Q10: =RIGHT(O10,LEN(K10)-LEN(L10)-LEN(N10)-LEN(P10)) -> Vert //Cinnamon Turquoise Vert /// Yellowside Cinnamon Turquoise | R10: =IF(ISERROR(SEARCH(CHAR(10),Q10,1)),Q10,LEFT(Q10,SEARCH(CHAR(10),Q10,1))) -> Vert //Cinnamon Turquoise | S10: =RIGHT(Q10,LEN(M10)-LEN(N10)-LEN(P10)-LEN(R10)) -> Vert /// Yellowside Cinnamon Turquoise | T10: =IF(ISERROR(SEARCH(CHAR(10),S10,1)),S10,LEFT(S10,SEARCH(CHAR(10),S10,1))) -> Vert /// Yellowside Cinnamon Turquoise | U10: =RIGHT(S10,LEN(O10)-LEN(P10)-LEN(R10)-LEN(T10)) | V10: =IF(ISERROR(SEARCH(CHAR(10),U10,1)),U10,LEFT(U10,SEARCH(CHAR(10),U10,1))) | W10: =RIGHT(U10,LEN(Q10)-LEN(R10)-LEN(T10)-LEN(V10)) | X10: =IF(ISERROR(SEARCH(CHAR(10),W10,1)),W10,LEFT(W10,SEARCH(CHAR(10),W10,1))) | Y10: =RIGHT(W10,LEN(S10)-LEN(T10)-LEN(V10)-LEN(X10)) | Z10: =IF(ISERROR(SEARCH(CHAR(10),Y10,1)),Y10,LEFT(Y10,SEARCH(CHAR(10),Y10,1))) | AA10: =RIGHT(Y10,LEN(U10)-LEN(V10)-LEN(X10)-LEN(Z10)) | AB10: =IF(ISERROR(SEARCH(CHAR(10),AA10,1)),AA10,LEFT(AA10,SEARCH(CHAR(10),AA10,1))) | AC10: =RIGHT(AA10,LEN(W10)-LEN(X10)-LEN(Z10)-LEN(AB10)) | AF10: =A10 -> Male | AG10: =B10 -> Vert /// Yellowside Cinnamon Turquoise | AH10: =C10 -> Vert
A11: =A10 -> Male | B11: =Tables!G12 -> Yellowside | C11: =Tables!$H$3 -> Vert | D11: =A11&B11&C11 -> MaleYellowsideVert | E11: =Tables!H12 -> Vert / Yellowside | F11: =IF(ISERROR(SEARCH(CHAR(10),E11,1)),E11,LEFT(E11,SEARCH(CHAR(10),E11,1))) -> Vert / Yellowside | G11: =RIGHT(E11,LEN(E11)-LEN(F11)) | H11: =IF(ISERROR(SEARCH(CHAR(10),G11,1)),G11,LEFT(G11,SEARCH(CHAR(10),G11,1))) | I11: =RIGHT(G11,LEN(E11)-LEN(F11)-LEN(H11)) | J11: =IF(ISERROR(SEARCH(CHAR(10),I11,1)),I11,LEFT(I11,SEARCH(CHAR(10),I11,1))) | K11: =RIGHT(I11,LEN(E11)-LEN(F11)-LEN(H11)-LEN(J11)) | L11: =IF(ISERROR(SEARCH(CHAR(10),K11,1)),K11,LEFT(K11,SEARCH(CHAR(10),K11,1))) | M11: =RIGHT(K11,LEN(G11)-LEN(H11)-LEN(J11)-LEN(L11)) | N11: =IF(ISERROR(SEARCH(CHAR(10),M11,1)),M11,LEFT(M11,SEARCH(CHAR(10),M11,1))) | O11: =RIGHT(M11,LEN(I11)-LEN(J11)-LEN(L11)-LEN(N11)) | P11: =IF(ISERROR(SEARCH(CHAR(10),O11,1)),O11,LEFT(O11,SEARCH(CHAR(10),O11,1))) | Q11: =RIGHT(O11,LEN(K11)-LEN(L11)-LEN(N11)-LEN(P11)) | R11: =IF(ISERROR(SEARCH(CHAR(10),Q11,1)),Q11,LEFT(Q11,SEARCH(CHAR(10),Q11,1))) | S11: =RIGHT(Q11,LEN(M11)-LEN(N11)-LEN(P11)-LEN(R11)) | T11: =IF(ISERROR(SEARCH(CHAR(10),S11,1)),S11,LEFT(S11,SEARCH(CHAR(10),S11,1))) | U11: =RIGHT(S11,LEN(O11)-LEN(P11)-LEN(R11)-LEN(T11)) | V11: =IF(ISERROR(SEARCH(CHAR(10),U11,1)),U11,LEFT(U11,SEARCH(CHAR(10),U11,1))) | W11: =RIGHT(U11,LEN(Q11)-LEN(R11)-LEN(T11)-LEN(V11)) | X11: =IF(ISERROR(SEARCH(CHAR(10),W11,1)),W11,LEFT(W11,SEARCH(CHAR(10),W11,1))) | Y11: =RIGHT(W11,LEN(S11)-LEN(T11)-LEN(V11)-LEN(X11)) | Z11: =IF(ISERROR(SEARCH(CHAR(10),Y11,1)),Y11,LEFT(Y11,SEARCH(CHAR(10),Y11,1))) | AA11: =RIGHT(Y11,LEN(U11)-LEN(V11)-LEN(X11)-LEN(Z11)) | AB11: =IF(ISERROR(SEARCH(CHAR(10),AA11,1)),AA11,LEFT(AA11,SEARCH(CHAR(10),AA11,1))) | AC11: =RIGHT(AA11,LEN(W11)-LEN(X11)-LEN(Z11)-LEN(AB11)) | AF11: =A11 -> Male | AG11: =B11 -> Yellowside | AH11: =C11 -> Vert
A12: =A11 -> Male | B12: =Tables!G13 -> Yellowside / Cinamon | C12: =Tables!$H$3 -> Vert | D12: =A12&B12&C12 -> MaleYellowside / Cinamon Vert | E12: =Tables!H13 -> Vert / Yellowside Vert // Yellowside Cinnamon | F12: =IF(ISERROR(SEARCH(CHAR(10),E12,1)),E12,LEFT(E12,SEARCH(CHAR(10),E12,1))) -> Vert / Yellowside | G12: =RIGHT(E12,LEN(E12)-LEN(F12)) -> Vert // Yellowside Cinnamon | H12: =IF(ISERROR(SEARCH(CHAR(10),G12,1)),G12,LEFT(G12,SEARCH(CHAR(10),G12,1))) -> Vert // Yellowside Cinnamon | I12: =RIGHT(G12,LEN(E12)-LEN(F12)-LEN(H12)) | J12: =IF(ISERROR(SEARCH(CHAR(10),I12,1)),I12,LEFT(I12,SEARCH(CHAR(10),I12,1))) | K12: =RIGHT(I12,LEN(E12)-LEN(F12)-LEN(H12)-LEN(J12)) | L12: =IF(ISERROR(SEARCH(CHAR(10),K12,1)),K12,LEFT(K12,SEARCH(CHAR(10),K12,1))) | M12: =RIGHT(K12,LEN(G12)-LEN(H12)-LEN(J12)-LEN(L12)) | N12: =IF(ISERROR(SEARCH(CHAR(10),M12,1)),M12,LEFT(M12,SEARCH(CHAR(10),M12,1))) | O12: =RIGHT(M12,LEN(I12)-LEN(J12)-LEN(L12)-LEN(N12)) | P12: =IF(ISERROR(SEARCH(CHAR(10),O12,1)),O12,LEFT(O12,SEARCH(CHAR(10),O12,1))) | Q12: =RIGHT(O12,LEN(K12)-LEN(L12)-LEN(N12)-LEN(P12)) | R12: =IF(ISERROR(SEARCH(CHAR(10),Q12,1)),Q12,LEFT(Q12,SEARCH(CHAR(10),Q12,1))) | S12: =RIGHT(Q12,LEN(M12)-LEN(N12)-LEN(P12)-LEN(R12)) | T12: =IF(ISERROR(SEARCH(CHAR(10),S12,1)),S12,LEFT(S12,SEARCH(CHAR(10),S12,1))) | U12: =RIGHT(S12,LEN(O12)-LEN(P12)-LEN(R12)-LEN(T12)) | V12: =IF(ISERROR(SEARCH(CHAR(10),U12,1)),U12,LEFT(U12,SEARCH(CHAR(10),U12,1))) | W12: =RIGHT(U12,LEN(Q12)-LEN(R12)-LEN(T12)-LEN(V12)) | X12: =IF(ISERROR(SEARCH(CHAR(10),W12,1)),W12,LEFT(W12,SEARCH(CHAR(10),W12,1))) | Y12: =RIGHT(W12,LEN(S12)-LEN(T12)-LEN(V12)-LEN(X12)) | Z12: =IF(ISERROR(SEARCH(CHAR(10),Y12,1)),Y12,LEFT(Y12,SEARCH(CHAR(10),Y12,1))) | AA12: =RIGHT(Y12,LEN(U12)-LEN(V12)-LEN(X12)-LEN(Z12)) | AB12: =IF(ISERROR(SEARCH(CHAR(10),AA12,1)),AA12,LEFT(AA12,SEARCH(CHAR(10),AA12,1))) | AC12: =RIGHT(AA12,LEN(W12)-LEN(X12)-LEN(Z12)-LEN(AB12)) | AF12: =A12 -> Male | AG12: =B12 -> Yellowside / Cinamon | AH12: =C12 -> Vert
A13: =A12 -> Male | B13: =Tables!G14 -> Yellowside / Turquoise | C13: =Tables!$H$3 -> Vert | D13: =A13&B13&C13 -> MaleYellowside / TurquoiseVert | E13: =Tables!H14 -> Vert / Yellowside Vert // Yellowside Turquoise | F13: =IF(ISERROR(SEARCH(CHAR(10),E13,1)),E13,LEFT(E13,SEARCH(CHAR(10),E13,1))) -> Vert / Yellowside | G13: =RIGHT(E13,LEN(E13)-LEN(F13)) -> Vert // Yellowside Turquoise | H13: =IF(ISERROR(SEARCH(CHAR(10),G13,1)),G13,LEFT(G13,SEARCH(CHAR(10),G13,1))) -> Vert // Yellowside Turquoise | I13: =RIGHT(G13,LEN(E13)-LEN(F13)-LEN(H13)) | J13: =IF(ISERROR(SEARCH(CHAR(10),I13,1)),I13,LEFT(I13,SEARCH(CHAR(10),I13,1))) | K13: =RIGHT(I13,LEN(E13)-LEN(F13)-LEN(H13)-LEN(J13)) | L13: =IF(ISERROR(SEARCH(CHAR(10),K13,1)),K13,LEFT(K13,SEARCH(CHAR(10),K13,1))) | M13: =RIGHT(K13,LEN(G13)-LEN(H13)-LEN(J13)-LEN(L13)) | N13: =IF(ISERROR(SEARCH(CHAR(10),M13,1)),M13,LEFT(M13,SEARCH(CHAR(10),M13,1))) | O13: =RIGHT(M13,LEN(I13)-LEN(J13)-LEN(L13)-LEN(N13)) | P13: =IF(ISERROR(SEARCH(CHAR(10),O13,1)),O13,LEFT(O13,SEARCH(CHAR(10),O13,1))) | Q13: =RIGHT(O13,LEN(K13)-LEN(L13)-LEN(N13)-LEN(P13)) | R13: =IF(ISERROR(SEARCH(CHAR(10),Q13,1)),Q13,LEFT(Q13,SEARCH(CHAR(10),Q13,1))) | S13: =RIGHT(Q13,LEN(M13)-LEN(N13)-LEN(P13)-LEN(R13)) | T13: =IF(ISERROR(SEARCH(CHAR(10),S13,1)),S13,LEFT(S13,SEARCH(CHAR(10),S13,1))) | U13: =RIGHT(S13,LEN(O13)-LEN(P13)-LEN(R13)-LEN(T13)) | V13: =IF(ISERROR(SEARCH(CHAR(10),U13,1)),U13,LEFT(U13,SEARCH(CHAR(10),U13,1))) | W13: =RIGHT(U13,LEN(Q13)-LEN(R13)-LEN(T13)-LEN(V13)) | X13: =IF(ISERROR(SEARCH(CHAR(10),W13,1)),W13,LEFT(W13,SEARCH(CHAR(10),W13,1))) | Y13: =RIGHT(W13,LEN(S13)-LEN(T13)-LEN(V13)-LEN(X13)) | Z13: =IF(ISERROR(SEARCH(CHAR(10),Y13,1)),Y13,LEFT(Y13,SEARCH(CHAR(10),Y13,1))) | AA13: =RIGHT(Y13,LEN(U13)-LEN(V13)-LEN(X13)-LEN(Z13)) | AB13: =IF(ISERROR(SEARCH(CHAR(10),AA13,1)),AA13,LEFT(AA13,SEARCH(CHAR(10),AA13,1))) | AC13: =RIGHT(AA13,LEN(W13)-LEN(X13)-LEN(Z13)-LEN(AB13)) | AF13: =A13 -> Male | AG13: =B13 -> Yellowside / Turquoise | AH13: =C13 -> Vert
A14: =A13 -> Male | B14: =Tables!G15 -> Yellowside // Turquoise cinnamon | C14: =Tables!$H$3 -> Vert | D14: =A14&B14&C14 -> MaleYellowside // Turquoise cinnamonVert | E14: =Tables!H15 -> Vert / Yellowside Vert // Yellowside Cinnamon Vert // Yellowside Turquoise Vert /// Yellowside Cinnamon Turquoise | F14: =IF(ISERROR(SEARCH(CHAR(10),E14,1)),E14,LEFT(E14,SEARCH(CHAR(10),E14,1))) -> Vert / Yellowside | G14: =RIGHT(E14,LEN(E14)-LEN(F14)) -> Vert // Yellowside Cinnamon Vert // Yellowside Turquoise Vert /// Yellowside Cinnamon Turquoise | H14: =IF(ISERROR(SEARCH(CHAR(10),G14,1)),G14,LEFT(G14,SEARCH(CHAR(10),G14,1))) -> Vert // Yellowside Cinnamon | I14: =RIGHT(G14,LEN(E14)-LEN(F14)-LEN(H14)) -> Vert // Yellowside Turquoise Vert /// Yellowside Cinnamon Turquoise | J14: =IF(ISERROR(SEARCH(CHAR(10),I14,1)),I14,LEFT(I14,SEARCH(CHAR(10),I14,1))) -> Vert // Yellowside Turquoise | K14: =RIGHT(I14,LEN(E14)-LEN(F14)-LEN(H14)-LEN(J14)) -> Vert /// Yellowside Cinnamon Turquoise | L14: =IF(ISERROR(SEARCH(CHAR(10),K14,1)),K14,LEFT(K14,SEARCH(CHAR(10),K14,1))) -> Vert /// Yellowside Cinnamon Turquoise | M14: =RIGHT(K14,LEN(G14)-LEN(H14)-LEN(J14)-LEN(L14)) | N14: =IF(ISERROR(SEARCH(CHAR(10),M14,1)),M14,LEFT(M14,SEARCH(CHAR(10),M14,1))) | O14: =RIGHT(M14,LEN(I14)-LEN(J14)-LEN(L14)-LEN(N14)) | P14: =IF(ISERROR(SEARCH(CHAR(10),O14,1)),O14,LEFT(O14,SEARCH(CHAR(10),O14,1))) | Q14: =RIGHT(O14,LEN(K14)-LEN(L14)-LEN(N14)-LEN(P14)) | R14: =IF(ISERROR(SEARCH(CHAR(10),Q14,1)),Q14,LEFT(Q14,SEARCH(CHAR(10),Q14,1))) | S14: =RIGHT(Q14,LEN(M14)-LEN(N14)-LEN(P14)-LEN(R14)) | T14: =IF(ISERROR(SEARCH(CHAR(10),S14,1)),S14,LEFT(S14,SEARCH(CHAR(10),S14,1))) | U14: =RIGHT(S14,LEN(O14)-LEN(P14)-LEN(R14)-LEN(T14)) | V14: =IF(ISERROR(SEARCH(CHAR(10),U14,1)),U14,LEFT(U14,SEARCH(CHAR(10),U14,1))) | W14: =RIGHT(U14,LEN(Q14)-LEN(R14)-LEN(T14)-LEN(V14)) | X14: =IF(ISERROR(SEARCH(CHAR(10),W14,1)),W14,LEFT(W14,SEARCH(CHAR(10),W14,1))) | Y14: =RIGHT(W14,LEN(S14)-LEN(T14)-LEN(V14)-LEN(X14)) | Z14: =IF(ISERROR(SEARCH(CHAR(10),Y14,1)),Y14,LEFT(Y14,SEARCH(CHAR(10),Y14,1))) | AA14: =RIGHT(Y14,LEN(U14)-LEN(V14)-LEN(X14)-LEN(Z14)) | AB14: =IF(ISERROR(SEARCH(CHAR(10),AA14,1)),AA14,LEFT(AA14,SEARCH(CHAR(10),AA14,1))) | AC14: =RIGHT(AA14,LEN(W14)-LEN(X14)-LEN(Z14)-LEN(AB14)) | AF14: =A14 -> Male | AG14: =B14 -> Yellowside // Turquoise cinnamon | AH14: =C14 -> Vert
A15: =A14 -> Male | B15: =Tables!G16 -> Cinnamon | C15: =Tables!$H$3 -> Vert | D15: =A15&B15&C15 -> MaleCinnamonVert | E15: =Tables!H16 -> Vert / Cinnamon | F15: =IF(ISERROR(SEARCH(CHAR(10),E15,1)),E15,LEFT(E15,SEARCH(CHAR(10),E15,1))) -> Vert / Cinnamon | G15: =RIGHT(E15,LEN(E15)-LEN(F15)) | H15: =IF(ISERROR(SEARCH(CHAR(10),G15,1)),G15,LEFT(G15,SEARCH(CHAR(10),G15,1))) | I15: =RIGHT(G15,LEN(E15)-LEN(F15)-LEN(H15)) | J15: =IF(ISERROR(SEARCH(CHAR(10),I15,1)),I15,LEFT(I15,SEARCH(CHAR(10),I15,1))) | K15: =RIGHT(I15,LEN(E15)-LEN(F15)-LEN(H15)-LEN(J15)) | L15: =IF(ISERROR(SEARCH(CHAR(10),K15,1)),K15,LEFT(K15,SEARCH(CHAR(10),K15,1))) | M15: =RIGHT(K15,LEN(G15)-LEN(H15)-LEN(J15)-LEN(L15)) | N15: =IF(ISERROR(SEARCH(CHAR(10),M15,1)),M15,LEFT(M15,SEARCH(CHAR(10),M15,1))) | O15: =RIGHT(M15,LEN(I15)-LEN(J15)-LEN(L15)-LEN(N15)) | P15: =IF(ISERROR(SEARCH(CHAR(10),O15,1)),O15,LEFT(O15,SEARCH(CHAR(10),O15,1))) | Q15: =RIGHT(O15,LEN(K15)-LEN(L15)-LEN(N15)-LEN(P15)) | R15: =IF(ISERROR(SEARCH(CHAR(10),Q15,1)),Q15,LEFT(Q15,SEARCH(CHAR(10),Q15,1))) | S15: =RIGHT(Q15,LEN(M15)-LEN(N15)-LEN(P15)-LEN(R15)) | T15: =IF(ISERROR(SEARCH(CHAR(10),S15,1)),S15,LEFT(S15,SEARCH(CHAR(10),S15,1))) | U15: =RIGHT(S15,LEN(O15)-LEN(P15)-LEN(R15)-LEN(T15)) | V15: =IF(ISERROR(SEARCH(CHAR(10),U15,1)),U15,LEFT(U15,SEARCH(CHAR(10),U15,1))) | W15: =RIGHT(U15,LEN(Q15)-LEN(R15)-LEN(T15)-LEN(V15)) | X15: =IF(ISERROR(SEARCH(CHAR(10),W15,1)),W15,LEFT(W15,SEARCH(CHAR(10),W15,1))) | Y15: =RIGHT(W15,LEN(S15)-LEN(T15)-LEN(V15)-LEN(X15)) | Z15: =IF(ISERROR(SEARCH(CHAR(10),Y15,1)),Y15,LEFT(Y15,SEARCH(CHAR(10),Y15,1))) | AA15: =RIGHT(Y15,LEN(U15)-LEN(V15)-LEN(X15)-LEN(Z15)) | AB15: =IF(ISERROR(SEARCH(CHAR(10),AA15,1)),AA15,LEFT(AA15,SEARCH(CHAR(10),AA15,1))) | AC15: =RIGHT(AA15,LEN(W15)-LEN(X15)-LEN(Z15)-LEN(AB15)) | AF15: =A15 -> Male | AG15: =B15 -> Cinnamon | AH15: =C15 -> Vert
... A29: =A28 -> Male | B29: =Tables!G30 -> TurquoisePineapple | C29: =Tables!$H$3 -> Vert | D29: =A29&B29&C29 -> MaleTurquoisePineappleVert | E29: =Tables!H30 -> Vert /// Yellowside Cinnamon Turquoise | F29: =IF(ISERROR(SEARCH(CHAR(10),E29,1)),E29,LEFT(E29,SEARCH(CHAR(10),E29,1))) -> Vert /// Yellowside Cinnamon Turquoise | G29: =RIGHT(E29,LEN(E29)-LEN(F29)) | H29: =IF(ISERROR(SEARCH(CHAR(10),G29,1)),G29,LEFT(G29,SEARCH(CHAR(10),G29,1))) | I29: =RIGHT(G29,LEN(E29)-LEN(F29)-LEN(H29)) | J29: =IF(ISERROR(SEARCH(CHAR(10),I29,1)),I29,LEFT(I29,SEARCH(CHAR(10),I29,1))) | K29: =RIGHT(I29,LEN(E29)-LEN(F29)-LEN(H29)-LEN(J29)) | L29: =IF(ISERROR(SEARCH(CHAR(10),K29,1)),K29,LEFT(K29,SEARCH(CHAR(10),K29,1))) | M29: =RIGHT(K29,LEN(G29)-LEN(H29)-LEN(J29)-LEN(L29)) | N29: =IF(ISERROR(SEARCH(CHAR(10),M29,1)),M29,LEFT(M29,SEARCH(CHAR(10),M29,1))) | O29: =RIGHT(M29,LEN(I29)-LEN(J29)-LEN(L29)-LEN(N29)) | P29: =IF(ISERROR(SEARCH(CHAR(10),O29,1)),O29,LEFT(O29,SEARCH(CHAR(10),O29,1))) | Q29: =RIGHT(O29,LEN(K29)-LEN(L29)-LEN(N29)-LEN(P29)) | R29: =IF(ISERROR(SEARCH(CHAR(10),Q29,1)),Q29,LEFT(Q29,SEARCH(CHAR(10),Q29,1))) | S29: =RIGHT(Q29,LEN(M29)-LEN(N29)-LEN(P29)-LEN(R29)) | T29: =IF(ISERROR(SEARCH(CHAR(10),S29,1)),S29,LEFT(S29,SEARCH(CHAR(10),S29,1))) | U29: =RIGHT(S29,LEN(O29)-LEN(P29)-LEN(R29)-LEN(T29)) | V29: =IF(ISERROR(SEARCH(CHAR(10),U29,1)),U29,LEFT(U29,SEARCH(CHAR(10),U29,1))) | W29: =RIGHT(U29,LEN(Q29)-LEN(R29)-LEN(T29)-LEN(V29)) | X29: =IF(ISERROR(SEARCH(CHAR(10),W29,1)),W29,LEFT(W29,SEARCH(CHAR(10),W29,1))) | Y29: =RIGHT(W29,LEN(S29)-LEN(T29)-LEN(V29)-LEN(X29)) | Z29: =IF(ISERROR(SEARCH(CHAR(10),Y29,1)),Y29,LEFT(Y29,SEARCH(CHAR(10),Y29,1))) | AA29: =RIGHT(Y29,LEN(U29)-LEN(V29)-LEN(X29)-LEN(Z29)) | AB29: =IF(ISERROR(SEARCH(CHAR(10),AA29,1)),AA29,LEFT(AA29,SEARCH(CHAR(10),AA29,1))) | AC29: =RIGHT(AA29,LEN(W29)-LEN(X29)-LEN(Z29)-LEN(AB29)) | AF29: =A29 -> Male | AG29: =B29 -> TurquoisePineapple | AH29: =C29 -> Vert
A30: =A3 -> Male | B30: =B3 -> Vert | C30: =Tables!$I$3 -> Vert / Turquoise | D30: =A30&B30&C30 -> MaleVertVert / Turquoise | E30: =Tables!I4 -> Vert Vert / Turquoise | F30: =IF(ISERROR(SEARCH(CHAR(10),E30,1)),E30,LEFT(E30,SEARCH(CHAR(10),E30,1))) -> Vert | G30: =RIGHT(E30,LEN(E30)-LEN(F30)) -> Vert / Turquoise | H30: =IF(ISERROR(SEARCH(CHAR(10),G30,1)),G30,LEFT(G30,SEARCH(CHAR(10),G30,1))) -> Vert / Turquoise | I30: =RIGHT(G30,LEN(E30)-LEN(F30)-LEN(H30)) | J30: =IF(ISERROR(SEARCH(CHAR(10),I30,1)),I30,LEFT(I30,SEARCH(CHAR(10),I30,1))) | K30: =RIGHT(I30,LEN(E30)-LEN(F30)-LEN(H30)-LEN(J30)) | L30: =IF(ISERROR(SEARCH(CHAR(10),K30,1)),K30,LEFT(K30,SEARCH(CHAR(10),K30,1))) | M30: =RIGHT(K30,LEN(G30)-LEN(H30)-LEN(J30)-LEN(L30)) | N30: =IF(ISERROR(SEARCH(CHAR(10),M30,1)),M30,LEFT(M30,SEARCH(CHAR(10),M30,1))) | O30: =RIGHT(M30,LEN(I30)-LEN(J30)-LEN(L30)-LEN(N30)) | P30: =IF(ISERROR(SEARCH(CHAR(10),O30,1)),O30,LEFT(O30,SEARCH(CHAR(10),O30,1))) | Q30: =RIGHT(O30,LEN(K30)-LEN(L30)-LEN(N30)-LEN(P30)) | R30: =IF(ISERROR(SEARCH(CHAR(10),Q30,1)),Q30,LEFT(Q30,SEARCH(CHAR(10),Q30,1))) | S30: =RIGHT(Q30,LEN(M30)-LEN(N30)-LEN(P30)-LEN(R30)) | T30: =IF(ISERROR(SEARCH(CHAR(10),S30,1)),S30,LEFT(S30,SEARCH(CHAR(10),S30,1))) | U30: =RIGHT(S30,LEN(O30)-LEN(P30)-LEN(R30)-LEN(T30)) | V30: =IF(ISERROR(SEARCH(CHAR(10),U30,1)),U30,LEFT(U30,SEARCH(CHAR(10),U30,1))) | W30: =RIGHT(U30,LEN(Q30)-LEN(R30)-LEN(T30)-LEN(V30)) | X30: =IF(ISERROR(SEARCH(CHAR(10),W30,1)),W30,LEFT(W30,SEARCH(CHAR(10),W30,1))) | Y30: =RIGHT(W30,LEN(S30)-LEN(T30)-LEN(V30)-LEN(X30)) | Z30: =IF(ISERROR(SEARCH(CHAR(10),Y30,1)),Y30,LEFT(Y30,SEARCH(CHAR(10),Y30,1))) | AA30: =RIGHT(Y30,LEN(U30)-LEN(V30)-LEN(X30)-LEN(Z30)) | AB30: =IF(ISERROR(SEARCH(CHAR(10),AA30,1)),AA30,LEFT(AA30,SEARCH(CHAR(10),AA30,1))) | AC30: =RIGHT(AA30,LEN(W30)-LEN(X30)-LEN(Z30)-LEN(AB30)) | AF30: =A30 -> Male | AG30: =B30 -> Vert | AH30: =C30 -> Vert / Turquoise
A31: =A4 -> Male | B31: =B4 -> Vert / Yellowside | C31: =Tables!$I$3 -> Vert / Turquoise | D31: =A31&B31&C31 -> MaleVert / YellowsideVert / Turquoise | E31: =Tables!I5 -> Vert Vert / Yellowside Vert / Turquoise Vert // Yellowside Turquoise | F31: =IF(ISERROR(SEARCH(CHAR(10),E31,1)),E31,LEFT(E31,SEARCH(CHAR(10),E31,1))) -> Vert | G31: =RIGHT(E31,LEN(E31)-LEN(F31)) -> Vert / Yellowside Vert / Turquoise Vert // Yellowside Turquoise | H31: =IF(ISERROR(SEARCH(CHAR(10),G31,1)),G31,LEFT(G31,SEARCH(CHAR(10),G31,1))) -> Vert / Yellowside | I31: =RIGHT(G31,LEN(E31)-LEN(F31)-LEN(H31)) -> Vert / Turquoise Vert // Yellowside Turquoise | J31: =IF(ISERROR(SEARCH(CHAR(10),I31,1)),I31,LEFT(I31,SEARCH(CHAR(10),I31,1))) -> Vert / Turquoise | K31: =RIGHT(I31,LEN(E31)-LEN(F31)-LEN(H31)-LEN(J31)) -> Vert // Yellowside Turquoise | L31: =IF(ISERROR(SEARCH(CHAR(10),K31,1)),K31,LEFT(K31,SEARCH(CHAR(10),K31,1))) -> Vert // Yellowside Turquoise | M31: =RIGHT(K31,LEN(G31)-LEN(H31)-LEN(J31)-LEN(L31)) | N31: =IF(ISERROR(SEARCH(CHAR(10),M31,1)),M31,LEFT(M31,SEARCH(CHAR(10),M31,1))) | O31: =RIGHT(M31,LEN(I31)-LEN(J31)-LEN(L31)-LEN(N31)) | P31: =IF(ISERROR(SEARCH(CHAR(10),O31,1)),O31,LEFT(O31,SEARCH(CHAR(10),O31,1))) | Q31: =RIGHT(O31,LEN(K31)-LEN(L31)-LEN(N31)-LEN(P31)) | R31: =IF(ISERROR(SEARCH(CHAR(10),Q31,1)),Q31,LEFT(Q31,SEARCH(CHAR(10),Q31,1))) | S31: =RIGHT(Q31,LEN(M31)-LEN(N31)-LEN(P31)-LEN(R31)) | T31: =IF(ISERROR(SEARCH(CHAR(10),S31,1)),S31,LEFT(S31,SEARCH(CHAR(10),S31,1))) | U31: =RIGHT(S31,LEN(O31)-LEN(P31)-LEN(R31)-LEN(T31)) | V31: =IF(ISERROR(SEARCH(CHAR(10),U31,1)),U31,LEFT(U31,SEARCH(CHAR(10),U31,1))) | W31: =RIGHT(U31,LEN(Q31)-LEN(R31)-LEN(T31)-LEN(V31)) | X31: =IF(ISERROR(SEARCH(CHAR(10),W31,1)),W31,LEFT(W31,SEARCH(CHAR(10),W31,1))) | Y31: =RIGHT(W31,LEN(S31)-LEN(T31)-LEN(V31)-LEN(X31)) | Z31: =IF(ISERROR(SEARCH(CHAR(10),Y31,1)),Y31,LEFT(Y31,SEARCH(CHAR(10),Y31,1))) | AA31: =RIGHT(Y31,LEN(U31)-LEN(V31)-LEN(X31)-LEN(Z31)) | AB31: =IF(ISERROR(SEARCH(CHAR(10),AA31,1)),AA31,LEFT(AA31,SEARCH(CHAR(10),AA31,1))) | AC31: =RIGHT(AA31,LEN(W31)-LEN(X31)-LEN(Z31)-LEN(AB31)) | AF31: =A31 -> Male | AG31: =B31 -> Vert / Yellowside | AH31: =C31 -> Vert / Turquoise
A32: =A5 -> Male | B32: =B5 -> Vert / Cinnamon | C32: =Tables!$I$3 -> Vert / Turquoise | D32: =A32&B32&C32 -> MaleVert / CinnamonVert / Turquoise | E32: =Tables!I6 -> Vert Vert / Cinnamon Vert / Turquoise Vert // Cinnamon Turquoise | F32: =IF(ISERROR(SEARCH(CHAR(10),E32,1)),E32,LEFT(E32,SEARCH(CHAR(10),E32,1))) -> Vert | G32: =RIGHT(E32,LEN(E32)-LEN(F32)) -> Vert / Cinnamon Vert / Turquoise Vert // Cinnamon Turquoise | H32: =IF(ISERROR(SEARCH(CHAR(10),G32,1)),G32,LEFT(G32,SEARCH(CHAR(10),G32,1))) -> Vert / Cinnamon | I32: =RIGHT(G32,LEN(E32)-LEN(F32)-LEN(H32)) -> Vert / Turquoise Vert // Cinnamon Turquoise | J32: =IF(ISERROR(SEARCH(CHAR(10),I32,1)),I32,LEFT(I32,SEARCH(CHAR(10),I32,1))) -> Vert / Turquoise | K32: =RIGHT(I32,LEN(E32)-LEN(F32)-LEN(H32)-LEN(J32)) -> Vert // Cinnamon Turquoise | L32: =IF(ISERROR(SEARCH(CHAR(10),K32,1)),K32,LEFT(K32,SEARCH(CHAR(10),K32,1))) -> Vert // Cinnamon Turquoise | M32: =RIGHT(K32,LEN(G32)-LEN(H32)-LEN(J32)-LEN(L32)) | N32: =IF(ISERROR(SEARCH(CHAR(10),M32,1)),M32,LEFT(M32,SEARCH(CHAR(10),M32,1))) | O32: =RIGHT(M32,LEN(I32)-LEN(J32)-LEN(L32)-LEN(N32)) | P32: =IF(ISERROR(SEARCH(CHAR(10),O32,1)),O32,LEFT(O32,SEARCH(CHAR(10),O32,1))) | Q32: =RIGHT(O32,LEN(K32)-LEN(L32)-LEN(N32)-LEN(P32)) | R32: =IF(ISERROR(SEARCH(CHAR(10),Q32,1)),Q32,LEFT(Q32,SEARCH(CHAR(10),Q32,1))) | S32: =RIGHT(Q32,LEN(M32)-LEN(N32)-LEN(P32)-LEN(R32)) | T32: =IF(ISERROR(SEARCH(CHAR(10),S32,1)),S32,LEFT(S32,SEARCH(CHAR(10),S32,1))) | U32: =RIGHT(S32,LEN(O32)-LEN(P32)-LEN(R32)-LEN(T32)) | V32: =IF(ISERROR(SEARCH(CHAR(10),U32,1)),U32,LEFT(U32,SEARCH(CHAR(10),U32,1))) | W32: =RIGHT(U32,LEN(Q32)-LEN(R32)-LEN(T32)-LEN(V32)) | X32: =IF(ISERROR(SEARCH(CHAR(10),W32,1)),W32,LEFT(W32,SEARCH(CHAR(10),W32,1))) | Y32: =RIGHT(W32,LEN(S32)-LEN(T32)-LEN(V32)-LEN(X32)) | Z32: =IF(ISERROR(SEARCH(CHAR(10),Y32,1)),Y32,LEFT(Y32,SEARCH(CHAR(10),Y32,1))) | AA32: =RIGHT(Y32,LEN(U32)-LEN(V32)-LEN(X32)-LEN(Z32)) | AB32: =IF(ISERROR(SEARCH(CHAR(10),AA32,1)),AA32,LEFT(AA32,SEARCH(CHAR(10),AA32,1))) | AC32: =RIGHT(AA32,LEN(W32)-LEN(X32)-LEN(Z32)-LEN(AB32)) | AF32: =A32 -> Male | AG32: =B32 -> Vert / Cinnamon | AH32: =C32 -> Vert / Turquoise
A33: =A6 -> Male | B33: =B6 -> Vert / Turquoise | C33: =Tables!$I$3 -> Vert / Turquoise | D33: =A33&B33&C33 -> MaleVert / TurquoiseVert / Turquoise | E33: =Tables!I7 -> vert Vert / turquoise Turquoise | F33: =IF(ISERROR(SEARCH(CHAR(10),E33,1)),E33,LEFT(E33,SEARCH(CHAR(10),E33,1))) -> vert | G33: =RIGHT(E33,LEN(E33)-LEN(F33)) -> Vert / turquoise Turquoise | H33: =IF(ISERROR(SEARCH(CHAR(10),G33,1)),G33,LEFT(G33,SEARCH(CHAR(10),G33,1))) -> Vert / turquoise | I33: =RIGHT(G33,LEN(E33)-LEN(F33)-LEN(H33)) -> Turquoise | J33: =IF(ISERROR(SEARCH(CHAR(10),I33,1)),I33,LEFT(I33,SEARCH(CHAR(10),I33,1))) -> Turquoise | K33: =RIGHT(I33,LEN(E33)-LEN(F33)-LEN(H33)-LEN(J33)) | L33: =IF(ISERROR(SEARCH(CHAR(10),K33,1)),K33,LEFT(K33,SEARCH(CHAR(10),K33,1))) | M33: =RIGHT(K33,LEN(G33)-LEN(H33)-LEN(J33)-LEN(L33)) | N33: =IF(ISERROR(SEARCH(CHAR(10),M33,1)),M33,LEFT(M33,SEARCH(CHAR(10),M33,1))) | O33: =RIGHT(M33,LEN(I33)-LEN(J33)-LEN(L33)-LEN(N33)) | P33: =IF(ISERROR(SEARCH(CHAR(10),O33,1)),O33,LEFT(O33,SEARCH(CHAR(10),O33,1))) | Q33: =RIGHT(O33,LEN(K33)-LEN(L33)-LEN(N33)-LEN(P33)) | R33: =IF(ISERROR(SEARCH(CHAR(10),Q33,1)),Q33,LEFT(Q33,SEARCH(CHAR(10),Q33,1))) | S33: =RIGHT(Q33,LEN(M33)-LEN(N33)-LEN(P33)-LEN(R33)) | T33: =IF(ISERROR(SEARCH(CHAR(10),S33,1)),S33,LEFT(S33,SEARCH(CHAR(10),S33,1))) | U33: =RIGHT(S33,LEN(O33)-LEN(P33)-LEN(R33)-LEN(T33)) | V33: =IF(ISERROR(SEARCH(CHAR(10),U33,1)),U33,LEFT(U33,SEARCH(CHAR(10),U33,1))) | W33: =RIGHT(U33,LEN(Q33)-LEN(R33)-LEN(T33)-LEN(V33)) | X33: =IF(ISERROR(SEARCH(CHAR(10),W33,1)),W33,LEFT(W33,SEARCH(CHAR(10),W33,1))) | Y33: =RIGHT(W33,LEN(S33)-LEN(T33)-LEN(V33)-LEN(X33)) | Z33: =IF(ISERROR(SEARCH(CHAR(10),Y33,1)),Y33,LEFT(Y33,SEARCH(CHAR(10),Y33,1))) | AA33: =RIGHT(Y33,LEN(U33)-LEN(V33)-LEN(X33)-LEN(Z33)) | AB33: =IF(ISERROR(SEARCH(CHAR(10),AA33,1)),AA33,LEFT(AA33,SEARCH(CHAR(10),AA33,1))) | AC33: =RIGHT(AA33,LEN(W33)-LEN(X33)-LEN(Z33)-LEN(AB33)) | AF33: =A33 -> Male | AG33: =B33 -> Vert / Turquoise | AH33: =C33 -> Vert / Turquoise
A34: =A7 -> Male | B34: =B7 -> Vert // Yellowside Cinnamon | C34: =Tables!$I$3 -> Vert / Turquoise | D34: =A34&B34&C34 -> MaleVert // Yellowside CinnamonVert / Turquoise | E34: =Tables!I8 -> Vert Vert / Cinnamon Vert / Yellowside Vert / Turquoise Vert // Yellowside Cinnamon Vert // Yellowside Turquoise Vert //Cinnamon Turquoise Vert /// Yellowside Cinnamon Turquoise | F34: =IF(ISERROR(SEARCH(CHAR(10),E34,1)),E34,LEFT(E34,SEARCH(CHAR(10),E34,1))) -> Vert | G34: =RIGHT(E34,LEN(E34)-LEN(F34)) -> Vert / Cinnamon Vert / Yellowside Vert / Turquoise Vert // Yellowside Cinnamon Vert // Yellowside Turquoise Vert //Cinnamon Turquoise Vert /// Yellowside Cinnamon Turquoise | H34: =IF(ISERROR(SEARCH(CHAR(10),G34,1)),G34,LEFT(G34,SEARCH(CHAR(10),G34,1))) -> Vert / Cinnamon | I34: =RIGHT(G34,LEN(E34)-LEN(F34)-LEN(H34)) -> Vert / Yellowside Vert / Turquoise Vert // Yellowside Cinnamon Vert // Yellowside Turquoise Vert //Cinnamon Turquoise Vert /// Yellowside Cinnamon Turquoise | J34: =IF(ISERROR(SEARCH(CHAR(10),I34,1)),I34,LEFT(I34,SEARCH(CHAR(10),I34,1))) -> Vert / Yellowside | K34: =RIGHT(I34,LEN(E34)-LEN(F34)-LEN(H34)-LEN(J34)) -> Vert / Turquoise Vert // Yellowside Cinnamon Vert // Yellowside Turquoise Vert //Cinnamon Turquoise Vert /// Yellowside Cinnamon Turquoise | L34: =IF(ISERROR(SEARCH(CHAR(10),K34,1)),K34,LEFT(K34,SEARCH(CHAR(10),K34,1))) -> Vert / Turquoise | M34: =RIGHT(K34,LEN(G34)-LEN(H34)-LEN(J34)-LEN(L34)) -> Vert // Yellowside Cinnamon Vert // Yellowside Turquoise Vert //Cinnamon Turquoise Vert /// Yellowside Cinnamon Turquoise | N34: =IF(ISERROR(SEARCH(CHAR(10),M34,1)),M34,LEFT(M34,SEARCH(CHAR(10),M34,1))) -> Vert // Yellowside Cinnamon | O34: =RIGHT(M34,LEN(I34)-LEN(J34)-LEN(L34)-LEN(N34)) -> Vert // Yellowside Turquoise Vert //Cinnamon Turquoise Vert /// Yellowside Cinnamon Turquoise | P34: =IF(ISERROR(SEARCH(CHAR(10),O34,1)),O34,LEFT(O34,SEARCH(CHAR(10),O34,1))) -> Vert // Yellowside Turquoise | Q34: =RIGHT(O34,LEN(K34)-LEN(L34)-LEN(N34)-LEN(P34)) -> Vert //Cinnamon Turquoise Vert /// Yellowside Cinnamon Turquoise | R34: =IF(ISERROR(SEARCH(CHAR(10),Q34,1)),Q34,LEFT(Q34,SEARCH(CHAR(10),Q34,1))) -> Vert //Cinnamon Turquoise | S34: =RIGHT(Q34,LEN(M34)-LEN(N34)-LEN(P34)-LEN(R34)) -> Vert /// Yellowside Cinnamon Turquoise | T34: =IF(ISERROR(SEARCH(CHAR(10),S34,1)),S34,LEFT(S34,SEARCH(CHAR(10),S34,1))) -> Vert /// Yellowside Cinnamon Turquoise | U34: =RIGHT(S34,LEN(O34)-LEN(P34)-LEN(R34)-LEN(T34)) | V34: =IF(ISERROR(SEARCH(CHAR(10),U34,1)),U34,LEFT(U34,SEARCH(CHAR(10),U34,1))) | W34: =RIGHT(U34,LEN(Q34)-LEN(R34)-LEN(T34)-LEN(V34)) | X34: =IF(ISERROR(SEARCH(CHAR(10),W34,1)),W34,LEFT(W34,SEARCH(CHAR(10),W34,1))) | Y34: =RIGHT(W34,LEN(S34)-LEN(T34)-LEN(V34)-LEN(X34)) | Z34: =IF(ISERROR(SEARCH(CHAR(10),Y34,1)),Y34,LEFT(Y34,SEARCH(CHAR(10),Y34,1))) | AA34: =RIGHT(Y34,LEN(U34)-LEN(V34)-LEN(X34)-LEN(Z34)) | AB34: =IF(ISERROR(SEARCH(CHAR(10),AA34,1)),AA34,LEFT(AA34,SEARCH(CHAR(10),AA34,1))) | AC34: =RIGHT(AA34,LEN(W34)-LEN(X34)-LEN(Z34)-LEN(AB34)) | AF34: =A34 -> Male | AG34: =B34 -> Vert // Yellowside Cinnamon | AH34: =C34 -> Vert / Turquoise
A35: =A8 -> Male | B35: =B8 -> Vert // Cinnamon Turquoise | C35: =Tables!$I$3 -> Vert / Turquoise | D35: =A35&B35&C35 -> MaleVert // Cinnamon TurquoiseVert / Turquoise | E35: =Tables!I9 -> Vert Vert / Cinnamon Vert / Turquoise Vert // Cinnamon Turquoise Turquoise Turquoise / Cinnamon | F35: =IF(ISERROR(SEARCH(CHAR(10),E35,1)),E35,LEFT(E35,SEARCH(CHAR(10),E35,1))) -> Vert | G35: =RIGHT(E35,LEN(E35)-LEN(F35)) -> Vert / Cinnamon Vert / Turquoise Vert // Cinnamon Turquoise Turquoise Turquoise / Cinnamon | H35: =IF(ISERROR(SEARCH(CHAR(10),G35,1)),G35,LEFT(G35,SEARCH(CHAR(10),G35,1))) -> Vert / Cinnamon | I35: =RIGHT(G35,LEN(E35)-LEN(F35)-LEN(H35)) -> Vert / Turquoise Vert // Cinnamon Turquoise Turquoise Turquoise / Cinnamon | J35: =IF(ISERROR(SEARCH(CHAR(10),I35,1)),I35,LEFT(I35,SEARCH(CHAR(10),I35,1))) -> Vert / Turquoise | K35: =RIGHT(I35,LEN(E35)-LEN(F35)-LEN(H35)-LEN(J35)) -> Vert // Cinnamon Turquoise Turquoise Turquoise / Cinnamon | L35: =IF(ISERROR(SEARCH(CHAR(10),K35,1)),K35,LEFT(K35,SEARCH(CHAR(10),K35,1))) -> Vert // Cinnamon Turquoise | M35: =RIGHT(K35,LEN(G35)-LEN(H35)-LEN(J35)-LEN(L35)) -> Turquoise Turquoise / Cinnamon | N35: =IF(ISERROR(SEARCH(CHAR(10),M35,1)),M35,LEFT(M35,SEARCH(CHAR(10),M35,1))) -> Turquoise | O35: =RIGHT(M35,LEN(I35)-LEN(J35)-LEN(L35)-LEN(N35)) -> Turquoise / Cinnamon | P35: =IF(ISERROR(SEARCH(CHAR(10),O35,1)),O35,LEFT(O35,SEARCH(CHAR(10),O35,1))) -> Turquoise / Cinnamon | Q35: =RIGHT(O35,LEN(K35)-LEN(L35)-LEN(N35)-LEN(P35)) | R35: =IF(ISERROR(SEARCH(CHAR(10),Q35,1)),Q35,LEFT(Q35,SEARCH(CHAR(10),Q35,1))) | S35: =RIGHT(Q35,LEN(M35)-LEN(N35)-LEN(P35)-LEN(R35)) | T35: =IF(ISERROR(SEARCH(CHAR(10),S35,1)),S35,LEFT(S35,SEARCH(CHAR(10),S35,1))) | U35: =RIGHT(S35,LEN(O35)-LEN(P35)-LEN(R35)-LEN(T35)) | V35: =IF(ISERROR(SEARCH(CHAR(10),U35,1)),U35,LEFT(U35,SEARCH(CHAR(10),U35,1))) | W35: =RIGHT(U35,LEN(Q35)-LEN(R35)-LEN(T35)-LEN(V35)) | X35: =IF(ISERROR(SEARCH(CHAR(10),W35,1)),W35,LEFT(W35,SEARCH(CHAR(10),W35,1))) | Y35: =RIGHT(W35,LEN(S35)-LEN(T35)-LEN(V35)-LEN(X35)) | Z35: =IF(ISERROR(SEARCH(CHAR(10),Y35,1)),Y35,LEFT(Y35,SEARCH(CHAR(10),Y35,1))) | AA35: =RIGHT(Y35,LEN(U35)-LEN(V35)-LEN(X35)-LEN(Z35)) | AB35: =IF(ISERROR(SEARCH(CHAR(10),AA35,1)),AA35,LEFT(AA35,SEARCH(CHAR(10),AA35,1))) | AC35: =RIGHT(AA35,LEN(W35)-LEN(X35)-LEN(Z35)-LEN(AB35)) | AF35: =A35 -> Male | AG35: =B35 -> Vert // Cinnamon Turquoise | AH35: =C35 -> Vert / Turquoise
A36: =A9 -> Male | B36: =B9 -> vert // yellowside turquoise | C36: =Tables!$I$3 -> Vert / Turquoise | D36: =A36&B36&C36 -> Malevert // yellowside turquoiseVert / Turquoise | E36: =Tables!I10 -> Vert Vert / Yellowside Vert / Turquoise Vert // Yellowside Turquoise Turquoise Turquoise / Yellowside | F36: =IF(ISERROR(SEARCH(CHAR(10),E36,1)),E36,LEFT(E36,SEARCH(CHAR(10),E36,1))) -> Vert | G36: =RIGHT(E36,LEN(E36)-LEN(F36)) -> Vert / Yellowside Vert / Turquoise Vert // Yellowside Turquoise Turquoise Turquoise / Yellowside | H36: =IF(ISERROR(SEARCH(CHAR(10),G36,1)),G36,LEFT(G36,SEARCH(CHAR(10),G36,1))) -> Vert / Yellowside | I36: =RIGHT(G36,LEN(E36)-LEN(F36)-LEN(H36)) -> Vert / Turquoise Vert // Yellowside Turquoise Turquoise Turquoise / Yellowside | J36: =IF(ISERROR(SEARCH(CHAR(10),I36,1)),I36,LEFT(I36,SEARCH(CHAR(10),I36,1))) -> Vert / Turquoise | K36: =RIGHT(I36,LEN(E36)-LEN(F36)-LEN(H36)-LEN(J36)) -> Vert // Yellowside Turquoise Turquoise Turquoise / Yellowside | L36: =IF(ISERROR(SEARCH(CHAR(10),K36,1)),K36,LEFT(K36,SEARCH(CHAR(10),K36,1))) -> Vert // Yellowside Turquoise | M36: =RIGHT(K36,LEN(G36)-LEN(H36)-LEN(J36)-LEN(L36)) -> Turquoise Turquoise / Yellowside | N36: =IF(ISERROR(SEARCH(CHAR(10),M36,1)),M36,LEFT(M36,SEARCH(CHAR(10),M36,1))) -> Turquoise | O36: =RIGHT(M36,LEN(I36)-LEN(J36)-LEN(L36)-LEN(N36)) -> Turquoise / Yellowside | P36: =IF(ISERROR(SEARCH(CHAR(10),O36,1)),O36,LEFT(O36,SEARCH(CHAR(10),O36,1))) -> Turquoise / Yellowside | Q36: =RIGHT(O36,LEN(K36)-LEN(L36)-LEN(N36)-LEN(P36)) | R36: =IF(ISERROR(SEARCH(CHAR(10),Q36,1)),Q36,LEFT(Q36,SEARCH(CHAR(10),Q36,1))) | S36: =RIGHT(Q36,LEN(M36)-LEN(N36)-LEN(P36)-LEN(R36)) | T36: =IF(ISERROR(SEARCH(CHAR(10),S36,1)),S36,LEFT(S36,SEARCH(CHAR(10),S36,1))) | U36: =RIGHT(S36,LEN(O36)-LEN(P36)-LEN(R36)-LEN(T36)) | V36: =IF(ISERROR(SEARCH(CHAR(10),U36,1)),U36,LEFT(U36,SEARCH(CHAR(10),U36,1))) | W36: =RIGHT(U36,LEN(Q36)-LEN(R36)-LEN(T36)-LEN(V36)) | X36: =IF(ISERROR(SEARCH(CHAR(10),W36,1)),W36,LEFT(W36,SEARCH(CHAR(10),W36,1))) | Y36: =RIGHT(W36,LEN(S36)-LEN(T36)-LEN(V36)-LEN(X36)) | Z36: =IF(ISERROR(SEARCH(CHAR(10),Y36,1)),Y36,LEFT(Y36,SEARCH(CHAR(10),Y36,1))) | AA36: =RIGHT(Y36,LEN(U36)-LEN(V36)-LEN(X36)-LEN(Z36)) | AB36: =IF(ISERROR(SEARCH(CHAR(10),AA36,1)),AA36,LEFT(AA36,SEARCH(CHAR(10),AA36,1))) | AC36: =RIGHT(AA36,LEN(W36)-LEN(X36)-LEN(Z36)-LEN(AB36)) | AF36: =A36 -> Male | AG36: =B36 -> vert // yellowside turquoise | AH36: =C36 -> Vert / Turquoise
A37: =A10 -> Male | B37: =B10 -> Vert /// Yellowside Cinnamon Turquoise | C37: =Tables!$I$3 -> Vert / Turquoise | D37: =A37&B37&C37 -> MaleVert /// Yellowside Cinnamon TurquoiseVert / Turquoise | E37: =Tables!I11 -> Vert Vert / Cinnamon Vert / Yellowside Vert / Turquoise Vert // Yellowside Cinnamon Vert // Yellowside Turquoise Vert //Cinnamon Turquoise Vert /// Yellowside Cinnamon Turquoise Turquoise Turquoise / Cinnamon Turquoise / Yellowside Turquoise // Yellowside Cinnamon | F37: =IF(ISERROR(SEARCH(CHAR(10),E37,1)),E37,LEFT(E37,SEARCH(CHAR(10),E37,1))) -> Vert | G37: =RIGHT(E37,LEN(E37)-LEN(F37)) -> Vert / Cinnamon Vert / Yellowside Vert / Turquoise Vert // Yellowside Cinnamon Vert // Yellowside Turquoise Vert //Cinnamon Turquoise Vert /// Yellowside Cinnamon Turquoise Turquoise Turquoise / Cinnamon Turquoise / Yellowside Turquoise // Yellowside Cinnamon | H37: =IF(ISERROR(SEARCH(CHAR(10),G37,1)),G37,LEFT(G37,SEARCH(CHAR(10),G37,1))) -> Vert / Cinnamon | I37: =RIGHT(G37,LEN(E37)-LEN(F37)-LEN(H37)) -> Vert / Yellowside Vert / Turquoise Vert // Yellowside Cinnamon Vert // Yellowside Turquoise Vert //Cinnamon Turquoise Vert /// Yellowside Cinnamon Turquoise Turquoise Turquoise / Cinnamon Turquoise / Yellowside Turquoise // Yellowside Cinnamon | J37: =IF(ISERROR(SEARCH(CHAR(10),I37,1)),I37,LEFT(I37,SEARCH(CHAR(10),I37,1))) -> Vert / Yellowside | K37: =RIGHT(I37,LEN(E37)-LEN(F37)-LEN(H37)-LEN(J37)) -> Vert / Turquoise Vert // Yellowside Cinnamon Vert // Yellowside Turquoise Vert //Cinnamon Turquoise Vert /// Yellowside Cinnamon Turquoise Turquoise Turquoise / Cinnamon Turquoise / Yellowside Turquoise // Yellowside Cinnamon | L37: =IF(ISERROR(SEARCH(CHAR(10),K37,1)),K37,LEFT(K37,SEARCH(CHAR(10),K37,1))) -> Vert / Turquoise | M37: =RIGHT(K37,LEN(G37)-LEN(H37)-LEN(J37)-LEN(L37)) -> Vert // Yellowside Cinnamon Vert // Yellowside Turquoise Vert //Cinnamon Turquoise Vert /// Yellowside Cinnamon Turquoise Turquoise Turquoise / Cinnamon Turquoise / Yellowside Turquoise // Yellowside Cinnamon | N37: =IF(ISERROR(SEARCH(CHAR(10),M37,1)),M37,LEFT(M37,SEARCH(CHAR(10),M37,1))) -> Vert // Yellowside Cinnamon | O37: =RIGHT(M37,LEN(I37)-LEN(J37)-LEN(L37)-LEN(N37)) -> Vert // Yellowside Turquoise Vert //Cinnamon Turquoise Vert /// Yellowside Cinnamon Turquoise Turquoise Turquoise / Cinnamon Turquoise / Yellowside Turquoise // Yellowside Cinnamon | P37: =IF(ISERROR(SEARCH(CHAR(10),O37,1)),O37,LEFT(O37,SEARCH(CHAR(10),O37,1))) -> Vert // Yellowside Turquoise | Q37: =RIGHT(O37,LEN(K37)-LEN(L37)-LEN(N37)-LEN(P37)) -> Vert //Cinnamon Turquoise Vert /// Yellowside Cinnamon Turquoise Turquoise Turquoise / Cinnamon Turquoise / Yellowside Turquoise // Yellowside Cinnamon | R37: =IF(ISERROR(SEARCH(CHAR(10),Q37,1)),Q37,LEFT(Q37,SEARCH(CHAR(10),Q37,1))) -> Vert //Cinnamon Turquoise | S37: =RIGHT(Q37,LEN(M37)-LEN(N37)-LEN(P37)-LEN(R37)) -> Vert /// Yellowside Cinnamon Turquoise Turquoise Turquoise / Cinnamon Turquoise / Yellowside Turquoise // Yellowside Cinnamon | T37: =IF(ISERROR(SEARCH(CHAR(10),S37,1)),S37,LEFT(S37,SEARCH(CHAR(10),S37,1))) -> Vert /// Yellowside Cinnamon Turquoise | U37: =RIGHT(S37,LEN(O37)-LEN(P37)-LEN(R37)-LEN(T37)) -> Turquoise Turquoise / Cinnamon Turquoise / Yellowside Turquoise // Yellowside Cinnamon | V37: =IF(ISERROR(SEARCH(CHAR(10),U37,1)),U37,LEFT(U37,SEARCH(CHAR(10),U37,1))) -> Turquoise | W37: =RIGHT(U37,LEN(Q37)-LEN(R37)-LEN(T37)-LEN(V37)) -> Turquoise / Cinnamon Turquoise / Yellowside Turquoise // Yellowside Cinnamon | X37: =IF(ISERROR(SEARCH(CHAR(10),W37,1)),W37,LEFT(W37,SEARCH(CHAR(10),W37,1))) -> Turquoise / Cinnamon | Y37: =RIGHT(W37,LEN(S37)-LEN(T37)-LEN(V37)-LEN(X37)) -> Turquoise / Yellowside Turquoise // Yellowside Cinnamon | Z37: =IF(ISERROR(SEARCH(CHAR(10),Y37,1)),Y37,LEFT(Y37,SEARCH(CHAR(10),Y37,1))) -> Turquoise / Yellowside | AA37: =RIGHT(Y37,LEN(U37)-LEN(V37)-LEN(X37)-LEN(Z37)) -> Turquoise // Yellowside Cinnamon | AB37: =IF(ISERROR(SEARCH(CHAR(10),AA37,1)),AA37,LEFT(AA37,SEARCH(CHAR(10),AA37,1))) -> Turquoise // Yellowside Cinnamon | AC37: =RIGHT(AA37,LEN(W37)-LEN(X37)-LEN(Z37)-LEN(AB37)) | AF37: =A37 -> Male | AG37: =B37 -> Vert /// Yellowside Cinnamon Turquoise | AH37: =C37 -> Vert / Turquoise
A38: =A11 -> Male | B38: =B11 -> Yellowside | C38: =Tables!$I$3 -> Vert / Turquoise | D38: =A38&B38&C38 -> MaleYellowsideVert / Turquoise | E38: =Tables!I12 -> Vert / Yellowside Vert // Yellowside Turquoise | F38: =IF(ISERROR(SEARCH(CHAR(10),E38,1)),E38,LEFT(E38,SEARCH(CHAR(10),E38,1))) -> Vert / Yellowside | G38: =RIGHT(E38,LEN(E38)-LEN(F38)) -> Vert // Yellowside Turquoise | H38: =IF(ISERROR(SEARCH(CHAR(10),G38,1)),G38,LEFT(G38,SEARCH(CHAR(10),G38,1))) -> Vert // Yellowside Turquoise | I38: =RIGHT(G38,LEN(E38)-LEN(F38)-LEN(H38)) | J38: =IF(ISERROR(SEARCH(CHAR(10),I38,1)),I38,LEFT(I38,SEARCH(CHAR(10),I38,1))) | K38: =RIGHT(I38,LEN(E38)-LEN(F38)-LEN(H38)-LEN(J38)) | L38: =IF(ISERROR(SEARCH(CHAR(10),K38,1)),K38,LEFT(K38,SEARCH(CHAR(10),K38,1))) | M38: =RIGHT(K38,LEN(G38)-LEN(H38)-LEN(J38)-LEN(L38)) | N38: =IF(ISERROR(SEARCH(CHAR(10),M38,1)),M38,LEFT(M38,SEARCH(CHAR(10),M38,1))) | O38: =RIGHT(M38,LEN(I38)-LEN(J38)-LEN(L38)-LEN(N38)) | P38: =IF(ISERROR(SEARCH(CHAR(10),O38,1)),O38,LEFT(O38,SEARCH(CHAR(10),O38,1))) | Q38: =RIGHT(O38,LEN(K38)-LEN(L38)-LEN(N38)-LEN(P38)) | R38: =IF(ISERROR(SEARCH(CHAR(10),Q38,1)),Q38,LEFT(Q38,SEARCH(CHAR(10),Q38,1))) | S38: =RIGHT(Q38,LEN(M38)-LEN(N38)-LEN(P38)-LEN(R38)) | T38: =IF(ISERROR(SEARCH(CHAR(10),S38,1)),S38,LEFT(S38,SEARCH(CHAR(10),S38,1))) | U38: =RIGHT(S38,LEN(O38)-LEN(P38)-LEN(R38)-LEN(T38)) | V38: =IF(ISERROR(SEARCH(CHAR(10),U38,1)),U38,LEFT(U38,SEARCH(CHAR(10),U38,1))) | W38: =RIGHT(U38,LEN(Q38)-LEN(R38)-LEN(T38)-LEN(V38)) | X38: =IF(ISERROR(SEARCH(CHAR(10),W38,1)),W38,LEFT(W38,SEARCH(CHAR(10),W38,1))) | Y38: =RIGHT(W38,LEN(S38)-LEN(T38)-LEN(V38)-LEN(X38)) | Z38: =IF(ISERROR(SEARCH(CHAR(10),Y38,1)),Y38,LEFT(Y38,SEARCH(CHAR(10),Y38,1))) | AA38: =RIGHT(Y38,LEN(U38)-LEN(V38)-LEN(X38)-LEN(Z38)) | AB38: =IF(ISERROR(SEARCH(CHAR(10),AA38,1)),AA38,LEFT(AA38,SEARCH(CHAR(10),AA38,1))) | AC38: =RIGHT(AA38,LEN(W38)-LEN(X38)-LEN(Z38)-LEN(AB38)) | AF38: =A38 -> Male | AG38: =B38 -> Yellowside | AH38: =C38 -> Vert / Turquoise
A39: =A12 -> Male | B39: =B12 -> Yellowside / Cinamon | C39: =Tables!$I$3 -> Vert / Turquoise | D39: =A39&B39&C39 -> MaleYellowside / Cinamon Vert / Turquoise | E39: =Tables!I13 -> Vert / Yellowside Vert // Yellowside Cinnamon Vert // Yellowside Turquoise Vert /// Yellowside Cinnamon Turquoise | F39: =IF(ISERROR(SEARCH(CHAR(10),E39,1)),E39,LEFT(E39,SEARCH(CHAR(10),E39,1))) -> Vert / Yellowside | G39: =RIGHT(E39,LEN(E39)-LEN(F39)) -> Vert // Yellowside Cinnamon Vert // Yellowside Turquoise Vert /// Yellowside Cinnamon Turquoise | H39: =IF(ISERROR(SEARCH(CHAR(10),G39,1)),G39,LEFT(G39,SEARCH(CHAR(10),G39,1))) -> Vert // Yellowside Cinnamon | I39: =RIGHT(G39,LEN(E39)-LEN(F39)-LEN(H39)) -> Vert // Yellowside Turquoise Vert /// Yellowside Cinnamon Turquoise | J39: =IF(ISERROR(SEARCH(CHAR(10),I39,1)),I39,LEFT(I39,SEARCH(CHAR(10),I39,1))) -> Vert // Yellowside Turquoise | K39: =RIGHT(I39,LEN(E39)-LEN(F39)-LEN(H39)-LEN(J39)) -> Vert /// Yellowside Cinnamon Turquoise | L39: =IF(ISERROR(SEARCH(CHAR(10),K39,1)),K39,LEFT(K39,SEARCH(CHAR(10),K39,1))) -> Vert /// Yellowside Cinnamon Turquoise | M39: =RIGHT(K39,LEN(G39)-LEN(H39)-LEN(J39)-LEN(L39)) | N39: =IF(ISERROR(SEARCH(CHAR(10),M39,1)),M39,LEFT(M39,SEARCH(CHAR(10),M39,1))) | O39: =RIGHT(M39,LEN(I39)-LEN(J39)-LEN(L39)-LEN(N39)) | P39: =IF(ISERROR(SEARCH(CHAR(10),O39,1)),O39,LEFT(O39,SEARCH(CHAR(10),O39,1))) | Q39: =RIGHT(O39,LEN(K39)-LEN(L39)-LEN(N39)-LEN(P39)) | R39: =IF(ISERROR(SEARCH(CHAR(10),Q39,1)),Q39,LEFT(Q39,SEARCH(CHAR(10),Q39,1))) | S39: =RIGHT(Q39,LEN(M39)-LEN(N39)-LEN(P39)-LEN(R39)) | T39: =IF(ISERROR(SEARCH(CHAR(10),S39,1)),S39,LEFT(S39,SEARCH(CHAR(10),S39,1))) | U39: =RIGHT(S39,LEN(O39)-LEN(P39)-LEN(R39)-LEN(T39)) | V39: =IF(ISERROR(SEARCH(CHAR(10),U39,1)),U39,LEFT(U39,SEARCH(CHAR(10),U39,1))) | W39: =RIGHT(U39,LEN(Q39)-LEN(R39)-LEN(T39)-LEN(V39)) | X39: =IF(ISERROR(SEARCH(CHAR(10),W39,1)),W39,LEFT(W39,SEARCH(CHAR(10),W39,1))) | Y39: =RIGHT(W39,LEN(S39)-LEN(T39)-LEN(V39)-LEN(X39)) | Z39: =IF(ISERROR(SEARCH(CHAR(10),Y39,1)),Y39,LEFT(Y39,SEARCH(CHAR(10),Y39,1))) | AA39: =RIGHT(Y39,LEN(U39)-LEN(V39)-LEN(X39)-LEN(Z39)) | AB39: =IF(ISERROR(SEARCH(CHAR(10),AA39,1)),AA39,LEFT(AA39,SEARCH(CHAR(10),AA39,1))) | AC39: =RIGHT(AA39,LEN(W39)-LEN(X39)-LEN(Z39)-LEN(AB39)) | AF39: =A39 -> Male | AG39: =B39 -> Yellowside / Cinamon | AH39: =C39 -> Vert / Turquoise
A40: =A13 -> Male | B40: =B13 -> Yellowside / Turquoise | C40: =Tables!$I$3 -> Vert / Turquoise | D40: =A40&B40&C40 -> MaleYellowside / TurquoiseVert / Turquoise | E40: =Tables!I14 -> Vert / Yellowside Vert // Yellowside Turquoise Turquoise / Yellowside | F40: =IF(ISERROR(SEARCH(CHAR(10),E40,1)),E40,LEFT(E40,SEARCH(CHAR(10),E40,1))) -> Vert / Yellowside | G40: =RIGHT(E40,LEN(E40)-LEN(F40)) -> Vert // Yellowside Turquoise Turquoise / Yellowside | H40: =IF(ISERROR(SEARCH(CHAR(10),G40,1)),G40,LEFT(G40,SEARCH(CHAR(10),G40,1))) -> Vert // Yellowside Turquoise | I40: =RIGHT(G40,LEN(E40)-LEN(F40)-LEN(H40)) -> Turquoise / Yellowside | J40: =IF(ISERROR(SEARCH(CHAR(10),I40,1)),I40,LEFT(I40,SEARCH(CHAR(10),I40,1))) -> Turquoise / Yellowside | K40: =RIGHT(I40,LEN(E40)-LEN(F40)-LEN(H40)-LEN(J40)) | L40: =IF(ISERROR(SEARCH(CHAR(10),K40,1)),K40,LEFT(K40,SEARCH(CHAR(10),K40,1))) | M40: =RIGHT(K40,LEN(G40)-LEN(H40)-LEN(J40)-LEN(L40)) | N40: =IF(ISERROR(SEARCH(CHAR(10),M40,1)),M40,LEFT(M40,SEARCH(CHAR(10),M40,1))) | O40: =RIGHT(M40,LEN(I40)-LEN(J40)-LEN(L40)-LEN(N40)) | P40: =IF(ISERROR(SEARCH(CHAR(10),O40,1)),O40,LEFT(O40,SEARCH(CHAR(10),O40,1))) | Q40: =RIGHT(O40,LEN(K40)-LEN(L40)-LEN(N40)-LEN(P40)) | R40: =IF(ISERROR(SEARCH(CHAR(10),Q40,1)),Q40,LEFT(Q40,SEARCH(CHAR(10),Q40,1))) | S40: =RIGHT(Q40,LEN(M40)-LEN(N40)-LEN(P40)-LEN(R40)) | T40: =IF(ISERROR(SEARCH(CHAR(10),S40,1)),S40,LEFT(S40,SEARCH(CHAR(10),S40,1))) | U40: =RIGHT(S40,LEN(O40)-LEN(P40)-LEN(R40)-LEN(T40)) | V40: =IF(ISERROR(SEARCH(CHAR(10),U40,1)),U40,LEFT(U40,SEARCH(CHAR(10),U40,1))) | W40: =RIGHT(U40,LEN(Q40)-LEN(R40)-LEN(T40)-LEN(V40)) | X40: =IF(ISERROR(SEARCH(CHAR(10),W40,1)),W40,LEFT(W40,SEARCH(CHAR(10),W40,1))) | Y40: =RIGHT(W40,LEN(S40)-LEN(T40)-LEN(V40)-LEN(X40)) | Z40: =IF(ISERROR(SEARCH(CHAR(10),Y40,1)),Y40,LEFT(Y40,SEARCH(CHAR(10),Y40,1))) | AA40: =RIGHT(Y40,LEN(U40)-LEN(V40)-LEN(X40)-LEN(Z40)) | AB40: =IF(ISERROR(SEARCH(CHAR(10),AA40,1)),AA40,LEFT(AA40,SEARCH(CHAR(10),AA40,1))) | AC40: =RIGHT(AA40,LEN(W40)-LEN(X40)-LEN(Z40)-LEN(AB40)) | AF40: =A40 -> Male | AG40: =B40 -> Yellowside / Turquoise | AH40: =C40 -> Vert / Turquoise
A41: =A14 -> Male | B41: =B14 -> Yellowside // Turquoise cinnamon | C41: =Tables!$I$3 -> Vert / Turquoise | D41: =A41&B41&C41 -> MaleYellowside // Turquoise cinnamonVert / Turquoise | E41: =Tables!I15 -> Vert / Yellowside Vert // Yellowside Cinnamon Vert // Yellowside Turquoise Vert /// Yellowside Cinnamon Turquoise Turquoise / Yellowside Turquoise // Yellowside Cinnamon | F41: =IF(ISERROR(SEARCH(CHAR(10),E41,1)),E41,LEFT(E41,SEARCH(CHAR(10),E41,1))) -> Vert / Yellowside | G41: =RIGHT(E41,LEN(E41)-LEN(F41)) -> Vert // Yellowside Cinnamon Vert // Yellowside Turquoise Vert /// Yellowside Cinnamon Turquoise Turquoise / Yellowside Turquoise // Yellowside Cinnamon | H41: =IF(ISERROR(SEARCH(CHAR(10),G41,1)),G41,LEFT(G41,SEARCH(CHAR(10),G41,1))) -> Vert // Yellowside Cinnamon | I41: =RIGHT(G41,LEN(E41)-LEN(F41)-LEN(H41)) -> Vert // Yellowside Turquoise Vert /// Yellowside Cinnamon Turquoise Turquoise / Yellowside Turquoise // Yellowside Cinnamon | J41: =IF(ISERROR(SEARCH(CHAR(10),I41,1)),I41,LEFT(I41,SEARCH(CHAR(10),I41,1))) -> Vert // Yellowside Turquoise | K41: =RIGHT(I41,LEN(E41)-LEN(F41)-LEN(H41)-LEN(J41)) -> Vert /// Yellowside Cinnamon Turquoise Turquoise / Yellowside Turquoise // Yellowside Cinnamon | L41: =IF(ISERROR(SEARCH(CHAR(10),K41,1)),K41,LEFT(K41,SEARCH(CHAR(10),K41,1))) -> Vert /// Yellowside Cinnamon Turquoise | M41: =RIGHT(K41,LEN(G41)-LEN(H41)-LEN(J41)-LEN(L41)) -> Turquoise / Yellowside Turquoise // Yellowside Cinnamon | N41: =IF(ISERROR(SEARCH(CHAR(10),M41,1)),M41,LEFT(M41,SEARCH(CHAR(10),M41,1))) -> Turquoise / Yellowside | O41: =RIGHT(M41,LEN(I41)-LEN(J41)-LEN(L41)-LEN(N41)) -> Turquoise // Yellowside Cinnamon | P41: =IF(ISERROR(SEARCH(CHAR(10),O41,1)),O41,LEFT(O41,SEARCH(CHAR(10),O41,1))) -> Turquoise // Yellowside Cinnamon | Q41: =RIGHT(O41,LEN(K41)-LEN(L41)-LEN(N41)-LEN(P41)) | R41: =IF(ISERROR(SEARCH(CHAR(10),Q41,1)),Q41,LEFT(Q41,SEARCH(CHAR(10),Q41,1))) | S41: =RIGHT(Q41,LEN(M41)-LEN(N41)-LEN(P41)-LEN(R41)) | T41: =IF(ISERROR(SEARCH(CHAR(10),S41,1)),S41,LEFT(S41,SEARCH(CHAR(10),S41,1))) | U41: =RIGHT(S41,LEN(O41)-LEN(P41)-LEN(R41)-LEN(T41)) | V41: =IF(ISERROR(SEARCH(CHAR(10),U41,1)),U41,LEFT(U41,SEARCH(CHAR(10),U41,1))) | W41: =RIGHT(U41,LEN(Q41)-LEN(R41)-LEN(T41)-LEN(V41)) | X41: =IF(ISERROR(SEARCH(CHAR(10),W41,1)),W41,LEFT(W41,SEARCH(CHAR(10),W41,1))) | Y41: =RIGHT(W41,LEN(S41)-LEN(T41)-LEN(V41)-LEN(X41)) | Z41: =IF(ISERROR(SEARCH(CHAR(10),Y41,1)),Y41,LEFT(Y41,SEARCH(CHAR(10),Y41,1))) | AA41: =RIGHT(Y41,LEN(U41)-LEN(V41)-LEN(X41)-LEN(Z41)) | AB41: =IF(ISERROR(SEARCH(CHAR(10),AA41,1)),AA41,LEFT(AA41,SEARCH(CHAR(10),AA41,1))) | AC41: =RIGHT(AA41,LEN(W41)-LEN(X41)-LEN(Z41)-LEN(AB41)) | AF41: =A41 -> Male | AG41: =B41 -> Yellowside // Turquoise cinnamon | AH41: =C41 -> Vert / Turquoise
... A56: =A29 -> Male | B56: =B29 -> TurquoisePineapple | C56: =Tables!$I$3 -> Vert / Turquoise | D56: =A56&B56&C56 -> MaleTurquoisePineappleVert / Turquoise | E56: =Tables!I30 -> Vert /// Yellowside Cinnamon Turquoise Turquoise // Yellowside Cinnamon | F56: =IF(ISERROR(SEARCH(CHAR(10),E56,1)),E56,LEFT(E56,SEARCH(CHAR(10),E56,1))) -> Vert /// Yellowside Cinnamon Turquoise | G56: =RIGHT(E56,LEN(E56)-LEN(F56)) -> Turquoise // Yellowside Cinnamon | H56: =IF(ISERROR(SEARCH(CHAR(10),G56,1)),G56,LEFT(G56,SEARCH(CHAR(10),G56,1))) -> Turquoise // Yellowside Cinnamon | I56: =RIGHT(G56,LEN(E56)-LEN(F56)-LEN(H56)) | J56: =IF(ISERROR(SEARCH(CHAR(10),I56,1)),I56,LEFT(I56,SEARCH(CHAR(10),I56,1))) | K56: =RIGHT(I56,LEN(E56)-LEN(F56)-LEN(H56)-LEN(J56)) | L56: =IF(ISERROR(SEARCH(CHAR(10),K56,1)),K56,LEFT(K56,SEARCH(CHAR(10),K56,1))) | M56: =RIGHT(K56,LEN(G56)-LEN(H56)-LEN(J56)-LEN(L56)) | N56: =IF(ISERROR(SEARCH(CHAR(10),M56,1)),M56,LEFT(M56,SEARCH(CHAR(10),M56,1))) | O56: =RIGHT(M56,LEN(I56)-LEN(J56)-LEN(L56)-LEN(N56)) | P56: =IF(ISERROR(SEARCH(CHAR(10),O56,1)),O56,LEFT(O56,SEARCH(CHAR(10),O56,1))) | Q56: =RIGHT(O56,LEN(K56)-LEN(L56)-LEN(N56)-LEN(P56)) | R56: =IF(ISERROR(SEARCH(CHAR(10),Q56,1)),Q56,LEFT(Q56,SEARCH(CHAR(10),Q56,1))) | S56: =RIGHT(Q56,LEN(M56)-LEN(N56)-LEN(P56)-LEN(R56)) | T56: =IF(ISERROR(SEARCH(CHAR(10),S56,1)),S56,LEFT(S56,SEARCH(CHAR(10),S56,1))) | U56: =RIGHT(S56,LEN(O56)-LEN(P56)-LEN(R56)-LEN(T56)) | V56: =IF(ISERROR(SEARCH(CHAR(10),U56,1)),U56,LEFT(U56,SEARCH(CHAR(10),U56,1))) | W56: =RIGHT(U56,LEN(Q56)-LEN(R56)-LEN(T56)-LEN(V56)) | X56: =IF(ISERROR(SEARCH(CHAR(10),W56,1)),W56,LEFT(W56,SEARCH(CHAR(10),W56,1))) | Y56: =RIGHT(W56,LEN(S56)-LEN(T56)-LEN(V56)-LEN(X56)) | Z56: =IF(ISERROR(SEARCH(CHAR(10),Y56,1)),Y56,LEFT(Y56,SEARCH(CHAR(10),Y56,1))) | AA56: =RIGHT(Y56,LEN(U56)-LEN(V56)-LEN(X56)-LEN(Z56)) | AB56: =IF(ISERROR(SEARCH(CHAR(10),AA56,1)),AA56,LEFT(AA56,SEARCH(CHAR(10),AA56,1))) | AC56: =RIGHT(AA56,LEN(W56)-LEN(X56)-LEN(Z56)-LEN(AB56)) | AF56: =A56 -> Male | AG56: =B56 -> TurquoisePineapple | AH56: =C56 -> Vert / Turquoise
A57: =A30 -> Male | B57: =B30 -> Vert | C57: =Tables!$J$3 -> Yellowside | D57: =A57&B57&C57 -> MaleVertYellowside | E57: =Tables!J4 -> Vert / Yellowside | F57: =IF(ISERROR(SEARCH(CHAR(10),E57,1)),E57,LEFT(E57,SEARCH(CHAR(10),E57,1))) -> Vert / Yellowside | G57: =RIGHT(E57,LEN(E57)-LEN(F57)) | H57: =IF(ISERROR(SEARCH(CHAR(10),G57,1)),G57,LEFT(G57,SEARCH(CHAR(10),G57,1))) | I57: =RIGHT(G57,LEN(E57)-LEN(F57)-LEN(H57)) | J57: =IF(ISERROR(SEARCH(CHAR(10),I57,1)),I57,LEFT(I57,SEARCH(CHAR(10),I57,1))) | K57: =RIGHT(I57,LEN(E57)-LEN(F57)-LEN(H57)-LEN(J57)) | L57: =IF(ISERROR(SEARCH(CHAR(10),K57,1)),K57,LEFT(K57,SEARCH(CHAR(10),K57,1))) | M57: =RIGHT(K57,LEN(G57)-LEN(H57)-LEN(J57)-LEN(L57)) | N57: =IF(ISERROR(SEARCH(CHAR(10),M57,1)),M57,LEFT(M57,SEARCH(CHAR(10),M57,1))) | O57: =RIGHT(M57,LEN(I57)-LEN(J57)-LEN(L57)-LEN(N57)) | P57: =IF(ISERROR(SEARCH(CHAR(10),O57,1)),O57,LEFT(O57,SEARCH(CHAR(10),O57,1))) | Q57: =RIGHT(O57,LEN(K57)-LEN(L57)-LEN(N57)-LEN(P57)) | R57: =IF(ISERROR(SEARCH(CHAR(10),Q57,1)),Q57,LEFT(Q57,SEARCH(CHAR(10),Q57,1))) | S57: =RIGHT(Q57,LEN(M57)-LEN(N57)-LEN(P57)-LEN(R57)) | T57: =IF(ISERROR(SEARCH(CHAR(10),S57,1)),S57,LEFT(S57,SEARCH(CHAR(10),S57,1))) | U57: =RIGHT(S57,LEN(O57)-LEN(P57)-LEN(R57)-LEN(T57)) | V57: =IF(ISERROR(SEARCH(CHAR(10),U57,1)),U57,LEFT(U57,SEARCH(CHAR(10),U57,1))) | W57: =RIGHT(U57,LEN(Q57)-LEN(R57)-LEN(T57)-LEN(V57)) | X57: =IF(ISERROR(SEARCH(CHAR(10),W57,1)),W57,LEFT(W57,SEARCH(CHAR(10),W57,1))) | Y57: =RIGHT(W57,LEN(S57)-LEN(T57)-LEN(V57)-LEN(X57)) | Z57: =IF(ISERROR(SEARCH(CHAR(10),Y57,1)),Y57,LEFT(Y57,SEARCH(CHAR(10),Y57,1))) | AA57: =RIGHT(Y57,LEN(U57)-LEN(V57)-LEN(X57)-LEN(Z57)) | AB57: =IF(ISERROR(SEARCH(CHAR(10),AA57,1)),AA57,LEFT(AA57,SEARCH(CHAR(10),AA57,1))) | AC57: =RIGHT(AA57,LEN(W57)-LEN(X57)-LEN(Z57)-LEN(AB57)) | AF57: =A57 -> Male | AG57: =B57 -> Vert | AH57: =C57 -> Yellowside
A58: =A31 -> Male | B58: =B31 -> Vert / Yellowside | C58: =Tables!$J$3 -> Yellowside | D58: =A58&B58&C58 -> MaleVert / YellowsideYellowside | E58: =Tables!J5 -> Yellowside Vert / Yellowside | F58: =IF(ISERROR(SEARCH(CHAR(10),E58,1)),E58,LEFT(E58,SEARCH(CHAR(10),E58,1))) -> Yellowside | G58: =RIGHT(E58,LEN(E58)-LEN(F58)) -> Vert / Yellowside | H58: =IF(ISERROR(SEARCH(CHAR(10),G58,1)),G58,LEFT(G58,SEARCH(CHAR(10),G58,1))) -> Vert / Yellowside | I58: =RIGHT(G58,LEN(E58)-LEN(F58)-LEN(H58)) | J58: =IF(ISERROR(SEARCH(CHAR(10),I58,1)),I58,LEFT(I58,SEARCH(CHAR(10),I58,1))) | K58: =RIGHT(I58,LEN(E58)-LEN(F58)-LEN(H58)-LEN(J58)) | L58: =IF(ISERROR(SEARCH(CHAR(10),K58,1)),K58,LEFT(K58,SEARCH(CHAR(10),K58,1))) | M58: =RIGHT(K58,LEN(G58)-LEN(H58)-LEN(J58)-LEN(L58)) | N58: =IF(ISERROR(SEARCH(CHAR(10),M58,1)),M58,LEFT(M58,SEARCH(CHAR(10),M58,1))) | O58: =RIGHT(M58,LEN(I58)-LEN(J58)-LEN(L58)-LEN(N58)) | P58: =IF(ISERROR(SEARCH(CHAR(10),O58,1)),O58,LEFT(O58,SEARCH(CHAR(10),O58,1))) | Q58: =RIGHT(O58,LEN(K58)-LEN(L58)-LEN(N58)-LEN(P58)) | R58: =IF(ISERROR(SEARCH(CHAR(10),Q58,1)),Q58,LEFT(Q58,SEARCH(CHAR(10),Q58,1))) | S58: =RIGHT(Q58,LEN(M58)-LEN(N58)-LEN(P58)-LEN(R58)) | T58: =IF(ISERROR(SEARCH(CHAR(10),S58,1)),S58,LEFT(S58,SEARCH(CHAR(10),S58,1))) | U58: =RIGHT(S58,LEN(O58)-LEN(P58)-LEN(R58)-LEN(T58)) | V58: =IF(ISERROR(SEARCH(CHAR(10),U58,1)),U58,LEFT(U58,SEARCH(CHAR(10),U58,1))) | W58: =RIGHT(U58,LEN(Q58)-LEN(R58)-LEN(T58)-LEN(V58)) | X58: =IF(ISERROR(SEARCH(CHAR(10),W58,1)),W58,LEFT(W58,SEARCH(CHAR(10),W58,1))) | Y58: =RIGHT(W58,LEN(S58)-LEN(T58)-LEN(V58)-LEN(X58)) | Z58: =IF(ISERROR(SEARCH(CHAR(10),Y58,1)),Y58,LEFT(Y58,SEARCH(CHAR(10),Y58,1))) | AA58: =RIGHT(Y58,LEN(U58)-LEN(V58)-LEN(X58)-LEN(Z58)) | AB58: =IF(ISERROR(SEARCH(CHAR(10),AA58,1)),AA58,LEFT(AA58,SEARCH(CHAR(10),AA58,1))) | AC58: =RIGHT(AA58,LEN(W58)-LEN(X58)-LEN(Z58)-LEN(AB58)) | AF58: =A58 -> Male | AG58: =B58 -> Vert / Yellowside | AH58: =C58 -> Yellowside
A59: =A32 -> Male | B59: =B32 -> Vert / Cinnamon | C59: =Tables!$J$3 -> Yellowside | D59: =A59&B59&C59 -> MaleVert / CinnamonYellowside | E59: =Tables!J6 -> Vert / Yellowside Vert // Yellowside Cinnamon | F59: =IF(ISERROR(SEARCH(CHAR(10),E59,1)),E59,LEFT(E59,SEARCH(CHAR(10),E59,1))) -> Vert / Yellowside | G59: =RIGHT(E59,LEN(E59)-LEN(F59)) -> Vert // Yellowside Cinnamon | H59: =IF(ISERROR(SEARCH(CHAR(10),G59,1)),G59,LEFT(G59,SEARCH(CHAR(10),G59,1))) -> Vert // Yellowside Cinnamon | I59: =RIGHT(G59,LEN(E59)-LEN(F59)-LEN(H59)) | J59: =IF(ISERROR(SEARCH(CHAR(10),I59,1)),I59,LEFT(I59,SEARCH(CHAR(10),I59,1))) | K59: =RIGHT(I59,LEN(E59)-LEN(F59)-LEN(H59)-LEN(J59)) | L59: =IF(ISERROR(SEARCH(CHAR(10),K59,1)),K59,LEFT(K59,SEARCH(CHAR(10),K59,1))) | M59: =RIGHT(K59,LEN(G59)-LEN(H59)-LEN(J59)-LEN(L59)) | N59: =IF(ISERROR(SEARCH(CHAR(10),M59,1)),M59,LEFT(M59,SEARCH(CHAR(10),M59,1))) | O59: =RIGHT(M59,LEN(I59)-LEN(J59)-LEN(L59)-LEN(N59)) | P59: =IF(ISERROR(SEARCH(CHAR(10),O59,1)),O59,LEFT(O59,SEARCH(CHAR(10),O59,1))) | Q59: =RIGHT(O59,LEN(K59)-LEN(L59)-LEN(N59)-LEN(P59)) | R59: =IF(ISERROR(SEARCH(CHAR(10),Q59,1)),Q59,LEFT(Q59,SEARCH(CHAR(10),Q59,1))) | S59: =RIGHT(Q59,LEN(M59)-LEN(N59)-LEN(P59)-LEN(R59)) | T59: =IF(ISERROR(SEARCH(CHAR(10),S59,1)),S59,LEFT(S59,SEARCH(CHAR(10),S59,1))) | U59: =RIGHT(S59,LEN(O59)-LEN(P59)-LEN(R59)-LEN(T59)) | V59: =IF(ISERROR(SEARCH(CHAR(10),U59,1)),U59,LEFT(U59,SEARCH(CHAR(10),U59,1))) | W59: =RIGHT(U59,LEN(Q59)-LEN(R59)-LEN(T59)-LEN(V59)) | X59: =IF(ISERROR(SEARCH(CHAR(10),W59,1)),W59,LEFT(W59,SEARCH(CHAR(10),W59,1))) | Y59: =RIGHT(W59,LEN(S59)-LEN(T59)-LEN(V59)-LEN(X59)) | Z59: =IF(ISERROR(SEARCH(CHAR(10),Y59,1)),Y59,LEFT(Y59,SEARCH(CHAR(10),Y59,1))) | AA59: =RIGHT(Y59,LEN(U59)-LEN(V59)-LEN(X59)-LEN(Z59)) | AB59: =IF(ISERROR(SEARCH(CHAR(10),AA59,1)),AA59,LEFT(AA59,SEARCH(CHAR(10),AA59,1))) | AC59: =RIGHT(AA59,LEN(W59)-LEN(X59)-LEN(Z59)-LEN(AB59)) | AF59: =A59 -> Male | AG59: =B59 -> Vert / Cinnamon | AH59: =C59 -> Yellowside
A60: =A33 -> Male | B60: =B33 -> Vert / Turquoise | C60: =Tables!$J$3 -> Yellowside | D60: =A60&B60&C60 -> MaleVert / TurquoiseYellowside | E60: =Tables!J7 -> Vert / Yellowside Vert // Yellowside Turquoise | F60: =IF(ISERROR(SEARCH(CHAR(10),E60,1)),E60,LEFT(E60,SEARCH(CHAR(10),E60,1))) -> Vert / Yellowside | G60: =RIGHT(E60,LEN(E60)-LEN(F60)) -> Vert // Yellowside Turquoise | H60: =IF(ISERROR(SEARCH(CHAR(10),G60,1)),G60,LEFT(G60,SEARCH(CHAR(10),G60,1))) -> Vert // Yellowside Turquoise | I60: =RIGHT(G60,LEN(E60)-LEN(F60)-LEN(H60)) | J60: =IF(ISERROR(SEARCH(CHAR(10),I60,1)),I60,LEFT(I60,SEARCH(CHAR(10),I60,1))) | K60: =RIGHT(I60,LEN(E60)-LEN(F60)-LEN(H60)-LEN(J60)) | L60: =IF(ISERROR(SEARCH(CHAR(10),K60,1)),K60,LEFT(K60,SEARCH(CHAR(10),K60,1))) | M60: =RIGHT(K60,LEN(G60)-LEN(H60)-LEN(J60)-LEN(L60)) | N60: =IF(ISERROR(SEARCH(CHAR(10),M60,1)),M60,LEFT(M60,SEARCH(CHAR(10),M60,1))) | O60: =RIGHT(M60,LEN(I60)-LEN(J60)-LEN(L60)-LEN(N60)) | P60: =IF(ISERROR(SEARCH(CHAR(10),O60,1)),O60,LEFT(O60,SEARCH(CHAR(10),O60,1))) | Q60: =RIGHT(O60,LEN(K60)-LEN(L60)-LEN(N60)-LEN(P60)) | R60: =IF(ISERROR(SEARCH(CHAR(10),Q60,1)),Q60,LEFT(Q60,SEARCH(CHAR(10),Q60,1))) | S60: =RIGHT(Q60,LEN(M60)-LEN(N60)-LEN(P60)-LEN(R60)) | T60: =IF(ISERROR(SEARCH(CHAR(10),S60,1)),S60,LEFT(S60,SEARCH(CHAR(10),S60,1))) | U60: =RIGHT(S60,LEN(O60)-LEN(P60)-LEN(R60)-LEN(T60)) | V60: =IF(ISERROR(SEARCH(CHAR(10),U60,1)),U60,LEFT(U60,SEARCH(CHAR(10),U60,1))) | W60: =RIGHT(U60,LEN(Q60)-LEN(R60)-LEN(T60)-LEN(V60)) | X60: =IF(ISERROR(SEARCH(CHAR(10),W60,1)),W60,LEFT(W60,SEARCH(CHAR(10),W60,1))) | Y60: =RIGHT(W60,LEN(S60)-LEN(T60)-LEN(V60)-LEN(X60)) | Z60: =IF(ISERROR(SEARCH(CHAR(10),Y60,1)),Y60,LEFT(Y60,SEARCH(CHAR(10),Y60,1))) | AA60: =RIGHT(Y60,LEN(U60)-LEN(V60)-LEN(X60)-LEN(Z60)) | AB60: =IF(ISERROR(SEARCH(CHAR(10),AA60,1)),AA60,LEFT(AA60,SEARCH(CHAR(10),AA60,1))) | AC60: =RIGHT(AA60,LEN(W60)-LEN(X60)-LEN(Z60)-LEN(AB60)) | AF60: =A60 -> Male | AG60: =B60 -> Vert / Turquoise | AH60: =C60 -> Yellowside
A61: =A34 -> Male | B61: =B34 -> Vert // Yellowside Cinnamon | C61: =Tables!$J$3 -> Yellowside | D61: =A61&B61&C61 -> MaleVert // Yellowside CinnamonYellowside | E61: =Tables!J8 -> Vert Vert // Yellowside Cinnamon Yellowside Yellowside / Cinamon | F61: =IF(ISERROR(SEARCH(CHAR(10),E61,1)),E61,LEFT(E61,SEARCH(CHAR(10),E61,1))) -> Vert | G61: =RIGHT(E61,LEN(E61)-LEN(F61)) -> Vert // Yellowside Cinnamon Yellowside Yellowside / Cinamon | H61: =IF(ISERROR(SEARCH(CHAR(10),G61,1)),G61,LEFT(G61,SEARCH(CHAR(10),G61,1))) -> Vert // Yellowside Cinnamon | I61: =RIGHT(G61,LEN(E61)-LEN(F61)-LEN(H61)) -> Yellowside Yellowside / Cinamon | J61: =IF(ISERROR(SEARCH(CHAR(10),I61,1)),I61,LEFT(I61,SEARCH(CHAR(10),I61,1))) -> Yellowside | K61: =RIGHT(I61,LEN(E61)-LEN(F61)-LEN(H61)-LEN(J61)) -> Yellowside / Cinamon | L61: =IF(ISERROR(SEARCH(CHAR(10),K61,1)),K61,LEFT(K61,SEARCH(CHAR(10),K61,1))) -> Yellowside / Cinamon | M61: =RIGHT(K61,LEN(G61)-LEN(H61)-LEN(J61)-LEN(L61)) | N61: =IF(ISERROR(SEARCH(CHAR(10),M61,1)),M61,LEFT(M61,SEARCH(CHAR(10),M61,1))) | O61: =RIGHT(M61,LEN(I61)-LEN(J61)-LEN(L61)-LEN(N61)) | P61: =IF(ISERROR(SEARCH(CHAR(10),O61,1)),O61,LEFT(O61,SEARCH(CHAR(10),O61,1))) | Q61: =RIGHT(O61,LEN(K61)-LEN(L61)-LEN(N61)-LEN(P61)) | R61: =IF(ISERROR(SEARCH(CHAR(10),Q61,1)),Q61,LEFT(Q61,SEARCH(CHAR(10),Q61,1))) | S61: =RIGHT(Q61,LEN(M61)-LEN(N61)-LEN(P61)-LEN(R61)) | T61: =IF(ISERROR(SEARCH(CHAR(10),S61,1)),S61,LEFT(S61,SEARCH(CHAR(10),S61,1))) | U61: =RIGHT(S61,LEN(O61)-LEN(P61)-LEN(R61)-LEN(T61)) | V61: =IF(ISERROR(SEARCH(CHAR(10),U61,1)),U61,LEFT(U61,SEARCH(CHAR(10),U61,1))) | W61: =RIGHT(U61,LEN(Q61)-LEN(R61)-LEN(T61)-LEN(V61)) | X61: =IF(ISERROR(SEARCH(CHAR(10),W61,1)),W61,LEFT(W61,SEARCH(CHAR(10),W61,1))) | Y61: =RIGHT(W61,LEN(S61)-LEN(T61)-LEN(V61)-LEN(X61)) | Z61: =IF(ISERROR(SEARCH(CHAR(10),Y61,1)),Y61,LEFT(Y61,SEARCH(CHAR(10),Y61,1))) | AA61: =RIGHT(Y61,LEN(U61)-LEN(V61)-LEN(X61)-LEN(Z61)) | AB61: =IF(ISERROR(SEARCH(CHAR(10),AA61,1)),AA61,LEFT(AA61,SEARCH(CHAR(10),AA61,1))) | AC61: =RIGHT(AA61,LEN(W61)-LEN(X61)-LEN(Z61)-LEN(AB61)) | AF61: =A61 -> Male | AG61: =B61 -> Vert // Yellowside Cinnamon | AH61: =C61 -> Yellowside
A62: =A35 -> Male | B62: =B35 -> Vert // Cinnamon Turquoise | C62: =Tables!$J$3 -> Yellowside | D62: =A62&B62&C62 -> MaleVert // Cinnamon TurquoiseYellowside | E62: =Tables!J9 -> Vert / Yellowside Vert // Yellowside Cinnamon Vert // Yellowside Turquoise Vert /// Yellowside Cinnamon Turquoise | F62: =IF(ISERROR(SEARCH(CHAR(10),E62,1)),E62,LEFT(E62,SEARCH(CHAR(10),E62,1))) -> Vert / Yellowside | G62: =RIGHT(E62,LEN(E62)-LEN(F62)) -> Vert // Yellowside Cinnamon Vert // Yellowside Turquoise Vert /// Yellowside Cinnamon Turquoise | H62: =IF(ISERROR(SEARCH(CHAR(10),G62,1)),G62,LEFT(G62,SEARCH(CHAR(10),G62,1))) -> Vert // Yellowside Cinnamon | I62: =RIGHT(G62,LEN(E62)-LEN(F62)-LEN(H62)) -> Vert // Yellowside Turquoise Vert /// Yellowside Cinnamon Turquoise | J62: =IF(ISERROR(SEARCH(CHAR(10),I62,1)),I62,LEFT(I62,SEARCH(CHAR(10),I62,1))) -> Vert // Yellowside Turquoise | K62: =RIGHT(I62,LEN(E62)-LEN(F62)-LEN(H62)-LEN(J62)) -> Vert /// Yellowside Cinnamon Turquoise | L62: =IF(ISERROR(SEARCH(CHAR(10),K62,1)),K62,LEFT(K62,SEARCH(CHAR(10),K62,1))) -> Vert /// Yellowside Cinnamon Turquoise | M62: =RIGHT(K62,LEN(G62)-LEN(H62)-LEN(J62)-LEN(L62)) | N62: =IF(ISERROR(SEARCH(CHAR(10),M62,1)),M62,LEFT(M62,SEARCH(CHAR(10),M62,1))) | O62: =RIGHT(M62,LEN(I62)-LEN(J62)-LEN(L62)-LEN(N62)) | P62: =IF(ISERROR(SEARCH(CHAR(10),O62,1)),O62,LEFT(O62,SEARCH(CHAR(10),O62,1))) | Q62: =RIGHT(O62,LEN(K62)-LEN(L62)-LEN(N62)-LEN(P62)) | R62: =IF(ISERROR(SEARCH(CHAR(10),Q62,1)),Q62,LEFT(Q62,SEARCH(CHAR(10),Q62,1))) | S62: =RIGHT(Q62,LEN(M62)-LEN(N62)-LEN(P62)-LEN(R62)) | T62: =IF(ISERROR(SEARCH(CHAR(10),S62,1)),S62,LEFT(S62,SEARCH(CHAR(10),S62,1))) | U62: =RIGHT(S62,LEN(O62)-LEN(P62)-LEN(R62)-LEN(T62)) | V62: =IF(ISERROR(SEARCH(CHAR(10),U62,1)),U62,LEFT(U62,SEARCH(CHAR(10),U62,1))) | W62: =RIGHT(U62,LEN(Q62)-LEN(R62)-LEN(T62)-LEN(V62)) | X62: =IF(ISERROR(SEARCH(CHAR(10),W62,1)),W62,LEFT(W62,SEARCH(CHAR(10),W62,1))) | Y62: =RIGHT(W62,LEN(S62)-LEN(T62)-LEN(V62)-LEN(X62)) | Z62: =IF(ISERROR(SEARCH(CHAR(10),Y62,1)),Y62,LEFT(Y62,SEARCH(CHAR(10),Y62,1))) | AA62: =RIGHT(Y62,LEN(U62)-LEN(V62)-LEN(X62)-LEN(Z62)) | AB62: =IF(ISERROR(SEARCH(CHAR(10),AA62,1)),AA62,LEFT(AA62,SEARCH(CHAR(10),AA62,1))) | AC62: =RIGHT(AA62,LEN(W62)-LEN(X62)-LEN(Z62)-LEN(AB62)) | AF62: =A62 -> Male | AG62: =B62 -> Vert // Cinnamon Turquoise | AH62: =C62 -> Yellowside
A63: =A36 -> Male | B63: =B36 -> vert // yellowside turquoise | C63: =Tables!$J$3 -> Yellowside | D63: =A63&B63&C63 -> Malevert // yellowside turquoiseYellowside | E63: =Tables!J10 -> vert / yellowside vert // yellowside turquoise yellowside yellowside / turquoise | F63: =IF(ISERROR(SEARCH(CHAR(10),E63,1)),E63,LEFT(E63,SEARCH(CHAR(10),E63,1))) -> vert / yellowside | G63: =RIGHT(E63,LEN(E63)-LEN(F63)) -> vert // yellowside turquoise yellowside yellowside / turquoise | H63: =IF(ISERROR(SEARCH(CHAR(10),G63,1)),G63,LEFT(G63,SEARCH(CHAR(10),G63,1))) -> vert // yellowside turquoise | I63: =RIGHT(G63,LEN(E63)-LEN(F63)-LEN(H63)) -> yellowside yellowside / turquoise | J63: =IF(ISERROR(SEARCH(CHAR(10),I63,1)),I63,LEFT(I63,SEARCH(CHAR(10),I63,1))) -> yellowside | K63: =RIGHT(I63,LEN(E63)-LEN(F63)-LEN(H63)-LEN(J63)) -> yellowside / turquoise | L63: =IF(ISERROR(SEARCH(CHAR(10),K63,1)),K63,LEFT(K63,SEARCH(CHAR(10),K63,1))) -> yellowside / turquoise | M63: =RIGHT(K63,LEN(G63)-LEN(H63)-LEN(J63)-LEN(L63)) | N63: =IF(ISERROR(SEARCH(CHAR(10),M63,1)),M63,LEFT(M63,SEARCH(CHAR(10),M63,1))) | O63: =RIGHT(M63,LEN(I63)-LEN(J63)-LEN(L63)-LEN(N63)) | P63: =IF(ISERROR(SEARCH(CHAR(10),O63,1)),O63,LEFT(O63,SEARCH(CHAR(10),O63,1))) | Q63: =RIGHT(O63,LEN(K63)-LEN(L63)-LEN(N63)-LEN(P63)) | R63: =IF(ISERROR(SEARCH(CHAR(10),Q63,1)),Q63,LEFT(Q63,SEARCH(CHAR(10),Q63,1))) | S63: =RIGHT(Q63,LEN(M63)-LEN(N63)-LEN(P63)-LEN(R63)) | T63: =IF(ISERROR(SEARCH(CHAR(10),S63,1)),S63,LEFT(S63,SEARCH(CHAR(10),S63,1))) | U63: =RIGHT(S63,LEN(O63)-LEN(P63)-LEN(R63)-LEN(T63)) | V63: =IF(ISERROR(SEARCH(CHAR(10),U63,1)),U63,LEFT(U63,SEARCH(CHAR(10),U63,1))) | W63: =RIGHT(U63,LEN(Q63)-LEN(R63)-LEN(T63)-LEN(V63)) | X63: =IF(ISERROR(SEARCH(CHAR(10),W63,1)),W63,LEFT(W63,SEARCH(CHAR(10),W63,1))) | Y63: =RIGHT(W63,LEN(S63)-LEN(T63)-LEN(V63)-LEN(X63)) | Z63: =IF(ISERROR(SEARCH(CHAR(10),Y63,1)),Y63,LEFT(Y63,SEARCH(CHAR(10),Y63,1))) | AA63: =RIGHT(Y63,LEN(U63)-LEN(V63)-LEN(X63)-LEN(Z63)) | AB63: =IF(ISERROR(SEARCH(CHAR(10),AA63,1)),AA63,LEFT(AA63,SEARCH(CHAR(10),AA63,1))) | AC63: =RIGHT(AA63,LEN(W63)-LEN(X63)-LEN(Z63)-LEN(AB63)) | AF63: =A63 -> Male | AG63: =B63 -> vert // yellowside turquoise | AH63: =C63 -> Yellowside
A64: =A37 -> Male | B64: =B37 -> Vert /// Yellowside Cinnamon Turquoise | C64: =Tables!$J$3 -> Yellowside | D64: =A64&B64&C64 -> MaleVert /// Yellowside Cinnamon TurquoiseYellowside | E64: =Tables!J11 -> Vert / Yellowside Vert // Yellowside Cinnamon Vert // Yellowside Turquoise Vert /// Yellowside Cinnamon Turquoise Yellowside Yellowside / Cinnamon Yellowside / Turquoise Yellowside // Cinnamon Turquoise | F64: =IF(ISERROR(SEARCH(CHAR(10),E64,1)),E64,LEFT(E64,SEARCH(CHAR(10),E64,1))) -> Vert / Yellowside | G64: =RIGHT(E64,LEN(E64)-LEN(F64)) -> Vert // Yellowside Cinnamon Vert // Yellowside Turquoise Vert /// Yellowside Cinnamon Turquoise Yellowside Yellowside / Cinnamon Yellowside / Turquoise Yellowside // Cinnamon Turquoise | H64: =IF(ISERROR(SEARCH(CHAR(10),G64,1)),G64,LEFT(G64,SEARCH(CHAR(10),G64,1))) -> Vert // Yellowside Cinnamon | I64: =RIGHT(G64,LEN(E64)-LEN(F64)-LEN(H64)) -> Vert // Yellowside Turquoise Vert /// Yellowside Cinnamon Turquoise Yellowside Yellowside / Cinnamon Yellowside / Turquoise Yellowside // Cinnamon Turquoise | J64: =IF(ISERROR(SEARCH(CHAR(10),I64,1)),I64,LEFT(I64,SEARCH(CHAR(10),I64,1))) -> Vert // Yellowside Turquoise | K64: =RIGHT(I64,LEN(E64)-LEN(F64)-LEN(H64)-LEN(J64)) -> Vert /// Yellowside Cinnamon Turquoise Yellowside Yellowside / Cinnamon Yellowside / Turquoise Yellowside // Cinnamon Turquoise | L64: =IF(ISERROR(SEARCH(CHAR(10),K64,1)),K64,LEFT(K64,SEARCH(CHAR(10),K64,1))) -> Vert /// Yellowside Cinnamon Turquoise | M64: =RIGHT(K64,LEN(G64)-LEN(H64)-LEN(J64)-LEN(L64)) -> Yellowside Yellowside / Cinnamon Yellowside / Turquoise Yellowside // Cinnamon Turquoise | N64: =IF(ISERROR(SEARCH(CHAR(10),M64,1)),M64,LEFT(M64,SEARCH(CHAR(10),M64,1))) -> Yellowside | O64: =RIGHT(M64,LEN(I64)-LEN(J64)-LEN(L64)-LEN(N64)) -> Yellowside / Cinnamon Yellowside / Turquoise Yellowside // Cinnamon Turquoise | P64: =IF(ISERROR(SEARCH(CHAR(10),O64,1)),O64,LEFT(O64,SEARCH(CHAR(10),O64,1))) -> Yellowside / Cinnamon | Q64: =RIGHT(O64,LEN(K64)-LEN(L64)-LEN(N64)-LEN(P64)) -> Yellowside / Turquoise Yellowside // Cinnamon Turquoise | R64: =IF(ISERROR(SEARCH(CHAR(10),Q64,1)),Q64,LEFT(Q64,SEARCH(CHAR(10),Q64,1))) -> Yellowside / Turquoise | S64: =RIGHT(Q64,LEN(M64)-LEN(N64)-LEN(P64)-LEN(R64)) -> Yellowside // Cinnamon Turquoise | T64: =IF(ISERROR(SEARCH(CHAR(10),S64,1)),S64,LEFT(S64,SEARCH(CHAR(10),S64,1))) -> Yellowside // Cinnamon Turquoise | U64: =RIGHT(S64,LEN(O64)-LEN(P64)-LEN(R64)-LEN(T64)) | V64: =IF(ISERROR(SEARCH(CHAR(10),U64,1)),U64,LEFT(U64,SEARCH(CHAR(10),U64,1))) | W64: =RIGHT(U64,LEN(Q64)-LEN(R64)-LEN(T64)-LEN(V64)) | X64: =IF(ISERROR(SEARCH(CHAR(10),W64,1)),W64,LEFT(W64,SEARCH(CHAR(10),W64,1))) | Y64: =RIGHT(W64,LEN(S64)-LEN(T64)-LEN(V64)-LEN(X64)) | Z64: =IF(ISERROR(SEARCH(CHAR(10),Y64,1)),Y64,LEFT(Y64,SEARCH(CHAR(10),Y64,1))) | AA64: =RIGHT(Y64,LEN(U64)-LEN(V64)-LEN(X64)-LEN(Z64)) | AB64: =IF(ISERROR(SEARCH(CHAR(10),AA64,1)),AA64,LEFT(AA64,SEARCH(CHAR(10),AA64,1))) | AC64: =RIGHT(AA64,LEN(W64)-LEN(X64)-LEN(Z64)-LEN(AB64)) | AF64: =A64 -> Male | AG64: =B64 -> Vert /// Yellowside Cinnamon Turquoise | AH64: =C64 -> Yellowside
A65: =A38 -> Male | B65: =B38 -> Yellowside | C65: =Tables!$J$3 -> Yellowside | D65: =A65&B65&C65 -> MaleYellowsideYellowside | E65: =Tables!J12 -> Yellowside | F65: =IF(ISERROR(SEARCH(CHAR(10),E65,1)),E65,LEFT(E65,SEARCH(CHAR(10),E65,1))) -> Yellowside | G65: =RIGHT(E65,LEN(E65)-LEN(F65)) | H65: =IF(ISERROR(SEARCH(CHAR(10),G65,1)),G65,LEFT(G65,SEARCH(CHAR(10),G65,1))) | I65: =RIGHT(G65,LEN(E65)-LEN(F65)-LEN(H65)) | J65: =IF(ISERROR(SEARCH(CHAR(10),I65,1)),I65,LEFT(I65,SEARCH(CHAR(10),I65,1))) | K65: =RIGHT(I65,LEN(E65)-LEN(F65)-LEN(H65)-LEN(J65)) | L65: =IF(ISERROR(SEARCH(CHAR(10),K65,1)),K65,LEFT(K65,SEARCH(CHAR(10),K65,1))) | M65: =RIGHT(K65,LEN(G65)-LEN(H65)-LEN(J65)-LEN(L65)) | N65: =IF(ISERROR(SEARCH(CHAR(10),M65,1)),M65,LEFT(M65,SEARCH(CHAR(10),M65,1))) | O65: =RIGHT(M65,LEN(I65)-LEN(J65)-LEN(L65)-LEN(N65)) | P65: =IF(ISERROR(SEARCH(CHAR(10),O65,1)),O65,LEFT(O65,SEARCH(CHAR(10),O65,1))) | Q65: =RIGHT(O65,LEN(K65)-LEN(L65)-LEN(N65)-LEN(P65)) | R65: =IF(ISERROR(SEARCH(CHAR(10),Q65,1)),Q65,LEFT(Q65,SEARCH(CHAR(10),Q65,1))) | S65: =RIGHT(Q65,LEN(M65)-LEN(N65)-LEN(P65)-LEN(R65)) | T65: =IF(ISERROR(SEARCH(CHAR(10),S65,1)),S65,LEFT(S65,SEARCH(CHAR(10),S65,1))) | U65: =RIGHT(S65,LEN(O65)-LEN(P65)-LEN(R65)-LEN(T65)) | V65: =IF(ISERROR(SEARCH(CHAR(10),U65,1)),U65,LEFT(U65,SEARCH(CHAR(10),U65,1))) | W65: =RIGHT(U65,LEN(Q65)-LEN(R65)-LEN(T65)-LEN(V65)) | X65: =IF(ISERROR(SEARCH(CHAR(10),W65,1)),W65,LEFT(W65,SEARCH(CHAR(10),W65,1))) | Y65: =RIGHT(W65,LEN(S65)-LEN(T65)-LEN(V65)-LEN(X65)) | Z65: =IF(ISERROR(SEARCH(CHAR(10),Y65,1)),Y65,LEFT(Y65,SEARCH(CHAR(10),Y65,1))) | AA65: =RIGHT(Y65,LEN(U65)-LEN(V65)-LEN(X65)-LEN(Z65)) | AB65: =IF(ISERROR(SEARCH(CHAR(10),AA65,1)),AA65,LEFT(AA65,SEARCH(CHAR(10),AA65,1))) | AC65: =RIGHT(AA65,LEN(W65)-LEN(X65)-LEN(Z65)-LEN(AB65)) | AF65: =A65 -> Male | AG65: =B65 -> Yellowside | AH65: =C65 -> Yellowside
A66: =A39 -> Male | B66: =B39 -> Yellowside / Cinamon | C66: =Tables!$J$3 -> Yellowside | D66: =A66&B66&C66 -> MaleYellowside / Cinamon Yellowside | E66: =Tables!J13 -> Yellowside Yellowside / Cinnamon | F66: =IF(ISERROR(SEARCH(CHAR(10),E66,1)),E66,LEFT(E66,SEARCH(CHAR(10),E66,1))) -> Yellowside | G66: =RIGHT(E66,LEN(E66)-LEN(F66)) -> Yellowside / Cinnamon | H66: =IF(ISERROR(SEARCH(CHAR(10),G66,1)),G66,LEFT(G66,SEARCH(CHAR(10),G66,1))) -> Yellowside / Cinnamon | I66: =RIGHT(G66,LEN(E66)-LEN(F66)-LEN(H66)) | J66: =IF(ISERROR(SEARCH(CHAR(10),I66,1)),I66,LEFT(I66,SEARCH(CHAR(10),I66,1))) | K66: =RIGHT(I66,LEN(E66)-LEN(F66)-LEN(H66)-LEN(J66)) | L66: =IF(ISERROR(SEARCH(CHAR(10),K66,1)),K66,LEFT(K66,SEARCH(CHAR(10),K66,1))) | M66: =RIGHT(K66,LEN(G66)-LEN(H66)-LEN(J66)-LEN(L66)) | N66: =IF(ISERROR(SEARCH(CHAR(10),M66,1)),M66,LEFT(M66,SEARCH(CHAR(10),M66,1))) | O66: =RIGHT(M66,LEN(I66)-LEN(J66)-LEN(L66)-LEN(N66)) | P66: =IF(ISERROR(SEARCH(CHAR(10),O66,1)),O66,LEFT(O66,SEARCH(CHAR(10),O66,1))) | Q66: =RIGHT(O66,LEN(K66)-LEN(L66)-LEN(N66)-LEN(P66)) | R66: =IF(ISERROR(SEARCH(CHAR(10),Q66,1)),Q66,LEFT(Q66,SEARCH(CHAR(10),Q66,1))) | S66: =RIGHT(Q66,LEN(M66)-LEN(N66)-LEN(P66)-LEN(R66)) | T66: =IF(ISERROR(SEARCH(CHAR(10),S66,1)),S66,LEFT(S66,SEARCH(CHAR(10),S66,1))) | U66: =RIGHT(S66,LEN(O66)-LEN(P66)-LEN(R66)-LEN(T66)) | V66: =IF(ISERROR(SEARCH(CHAR(10),U66,1)),U66,LEFT(U66,SEARCH(CHAR(10),U66,1))) | W66: =RIGHT(U66,LEN(Q66)-LEN(R66)-LEN(T66)-LEN(V66)) | X66: =IF(ISERROR(SEARCH(CHAR(10),W66,1)),W66,LEFT(W66,SEARCH(CHAR(10),W66,1))) | Y66: =RIGHT(W66,LEN(S66)-LEN(T66)-LEN(V66)-LEN(X66)) | Z66: =IF(ISERROR(SEARCH(CHAR(10),Y66,1)),Y66,LEFT(Y66,SEARCH(CHAR(10),Y66,1))) | AA66: =RIGHT(Y66,LEN(U66)-LEN(V66)-LEN(X66)-LEN(Z66)) | AB66: =IF(ISERROR(SEARCH(CHAR(10),AA66,1)),AA66,LEFT(AA66,SEARCH(CHAR(10),AA66,1))) | AC66: =RIGHT(AA66,LEN(W66)-LEN(X66)-LEN(Z66)-LEN(AB66)) | AF66: =A66 -> Male | AG66: =B66 -> Yellowside / Cinamon | AH66: =C66 -> Yellowside
A67: =A40 -> Male | B67: =B40 -> Yellowside / Turquoise | C67: =Tables!$J$3 -> Yellowside | D67: =A67&B67&C67 -> MaleYellowside / TurquoiseYellowside | E67: =Tables!J14 -> Yellowside Yellowside / Turquoise | F67: =IF(ISERROR(SEARCH(CHAR(10),E67,1)),E67,LEFT(E67,SEARCH(CHAR(10),E67,1))) -> Yellowside | G67: =RIGHT(E67,LEN(E67)-LEN(F67)) -> Yellowside / Turquoise | H67: =IF(ISERROR(SEARCH(CHAR(10),G67,1)),G67,LEFT(G67,SEARCH(CHAR(10),G67,1))) -> Yellowside / Turquoise | I67: =RIGHT(G67,LEN(E67)-LEN(F67)-LEN(H67)) | J67: =IF(ISERROR(SEARCH(CHAR(10),I67,1)),I67,LEFT(I67,SEARCH(CHAR(10),I67,1))) | K67: =RIGHT(I67,LEN(E67)-LEN(F67)-LEN(H67)-LEN(J67)) | L67: =IF(ISERROR(SEARCH(CHAR(10),K67,1)),K67,LEFT(K67,SEARCH(CHAR(10),K67,1))) | M67: =RIGHT(K67,LEN(G67)-LEN(H67)-LEN(J67)-LEN(L67)) | N67: =IF(ISERROR(SEARCH(CHAR(10),M67,1)),M67,LEFT(M67,SEARCH(CHAR(10),M67,1))) | O67: =RIGHT(M67,LEN(I67)-LEN(J67)-LEN(L67)-LEN(N67)) | P67: =IF(ISERROR(SEARCH(CHAR(10),O67,1)),O67,LEFT(O67,SEARCH(CHAR(10),O67,1))) | Q67: =RIGHT(O67,LEN(K67)-LEN(L67)-LEN(N67)-LEN(P67)) | R67: =IF(ISERROR(SEARCH(CHAR(10),Q67,1)),Q67,LEFT(Q67,SEARCH(CHAR(10),Q67,1))) | S67: =RIGHT(Q67,LEN(M67)-LEN(N67)-LEN(P67)-LEN(R67)) | T67: =IF(ISERROR(SEARCH(CHAR(10),S67,1)),S67,LEFT(S67,SEARCH(CHAR(10),S67,1))) | U67: =RIGHT(S67,LEN(O67)-LEN(P67)-LEN(R67)-LEN(T67)) | V67: =IF(ISERROR(SEARCH(CHAR(10),U67,1)),U67,LEFT(U67,SEARCH(CHAR(10),U67,1))) | W67: =RIGHT(U67,LEN(Q67)-LEN(R67)-LEN(T67)-LEN(V67)) | X67: =IF(ISERROR(SEARCH(CHAR(10),W67,1)),W67,LEFT(W67,SEARCH(CHAR(10),W67,1))) | Y67: =RIGHT(W67,LEN(S67)-LEN(T67)-LEN(V67)-LEN(X67)) | Z67: =IF(ISERROR(SEARCH(CHAR(10),Y67,1)),Y67,LEFT(Y67,SEARCH(CHAR(10),Y67,1))) | AA67: =RIGHT(Y67,LEN(U67)-LEN(V67)-LEN(X67)-LEN(Z67)) | AB67: =IF(ISERROR(SEARCH(CHAR(10),AA67,1)),AA67,LEFT(AA67,SEARCH(CHAR(10),AA67,1))) | AC67: =RIGHT(AA67,LEN(W67)-LEN(X67)-LEN(Z67)-LEN(AB67)) | AF67: =A67 -> Male | AG67: =B67 -> Yellowside / Turquoise | AH67: =C67 -> Yellowside
A68: =A41 -> Male | B68: =B41 -> Yellowside // Turquoise cinnamon | C68: =Tables!$J$3 -> Yellowside | D68: =A68&B68&C68 -> MaleYellowside // Turquoise cinnamonYellowside | E68: =Tables!J15 -> Yellowside Yellowside / Cinnamon Yellowside / Turquoise Yellowside // Cinnamon Turquoise | F68: =IF(ISERROR(SEARCH(CHAR(10),E68,1)),E68,LEFT(E68,SEARCH(CHAR(10),E68,1))) -> Yellowside | G68: =RIGHT(E68,LEN(E68)-LEN(F68)) -> Yellowside / Cinnamon Yellowside / Turquoise Yellowside // Cinnamon Turquoise | H68: =IF(ISERROR(SEARCH(CHAR(10),G68,1)),G68,LEFT(G68,SEARCH(CHAR(10),G68,1))) -> Yellowside / Cinnamon | I68: =RIGHT(G68,LEN(E68)-LEN(F68)-LEN(H68)) -> Yellowside / Turquoise Yellowside // Cinnamon Turquoise | J68: =IF(ISERROR(SEARCH(CHAR(10),I68,1)),I68,LEFT(I68,SEARCH(CHAR(10),I68,1))) -> Yellowside / Turquoise | K68: =RIGHT(I68,LEN(E68)-LEN(F68)-LEN(H68)-LEN(J68)) -> Yellowside // Cinnamon Turquoise | L68: =IF(ISERROR(SEARCH(CHAR(10),K68,1)),K68,LEFT(K68,SEARCH(CHAR(10),K68,1))) -> Yellowside // Cinnamon Turquoise | M68: =RIGHT(K68,LEN(G68)-LEN(H68)-LEN(J68)-LEN(L68)) | N68: =IF(ISERROR(SEARCH(CHAR(10),M68,1)),M68,LEFT(M68,SEARCH(CHAR(10),M68,1))) | O68: =RIGHT(M68,LEN(I68)-LEN(J68)-LEN(L68)-LEN(N68)) | P68: =IF(ISERROR(SEARCH(CHAR(10),O68,1)),O68,LEFT(O68,SEARCH(CHAR(10),O68,1))) | Q68: =RIGHT(O68,LEN(K68)-LEN(L68)-LEN(N68)-LEN(P68)) | R68: =IF(ISERROR(SEARCH(CHAR(10),Q68,1)),Q68,LEFT(Q68,SEARCH(CHAR(10),Q68,1))) | S68: =RIGHT(Q68,LEN(M68)-LEN(N68)-LEN(P68)-LEN(R68)) | T68: =IF(ISERROR(SEARCH(CHAR(10),S68,1)),S68,LEFT(S68,SEARCH(CHAR(10),S68,1))) | U68: =RIGHT(S68,LEN(O68)-LEN(P68)-LEN(R68)-LEN(T68)) | V68: =IF(ISERROR(SEARCH(CHAR(10),U68,1)),U68,LEFT(U68,SEARCH(CHAR(10),U68,1))) | W68: =RIGHT(U68,LEN(Q68)-LEN(R68)-LEN(T68)-LEN(V68)) | X68: =IF(ISERROR(SEARCH(CHAR(10),W68,1)),W68,LEFT(W68,SEARCH(CHAR(10),W68,1))) | Y68: =RIGHT(W68,LEN(S68)-LEN(T68)-LEN(V68)-LEN(X68)) | Z68: =IF(ISERROR(SEARCH(CHAR(10),Y68,1)),Y68,LEFT(Y68,SEARCH(CHAR(10),Y68,1))) | AA68: =RIGHT(Y68,LEN(U68)-LEN(V68)-LEN(X68)-LEN(Z68)) | AB68: =IF(ISERROR(SEARCH(CHAR(10),AA68,1)),AA68,LEFT(AA68,SEARCH(CHAR(10),AA68,1))) | AC68: =RIGHT(AA68,LEN(W68)-LEN(X68)-LEN(Z68)-LEN(AB68)) | AF68: =A68 -> Male | AG68: =B68 -> Yellowside // Turquoise cinnamon | AH68: =C68 -> Yellowside
... A83: =A56 -> Male | B83: =B56 -> TurquoisePineapple | C83: =Tables!$J$3 -> Yellowside | D83: =A83&B83&C83 -> MaleTurquoisePineappleYellowside | E83: =Tables!J30 -> Yellowside // Cinnamon Turquoise | F83: =IF(ISERROR(SEARCH(CHAR(10),E83,1)),E83,LEFT(E83,SEARCH(CHAR(10),E83,1))) -> Yellowside // Cinnamon Turquoise | G83: =RIGHT(E83,LEN(E83)-LEN(F83)) | H83: =IF(ISERROR(SEARCH(CHAR(10),G83,1)),G83,LEFT(G83,SEARCH(CHAR(10),G83,1))) | I83: =RIGHT(G83,LEN(E83)-LEN(F83)-LEN(H83)) | J83: =IF(ISERROR(SEARCH(CHAR(10),I83,1)),I83,LEFT(I83,SEARCH(CHAR(10),I83,1))) | K83: =RIGHT(I83,LEN(E83)-LEN(F83)-LEN(H83)-LEN(J83)) | L83: =IF(ISERROR(SEARCH(CHAR(10),K83,1)),K83,LEFT(K83,SEARCH(CHAR(10),K83,1))) | M83: =RIGHT(K83,LEN(G83)-LEN(H83)-LEN(J83)-LEN(L83)) | N83: =IF(ISERROR(SEARCH(CHAR(10),M83,1)),M83,LEFT(M83,SEARCH(CHAR(10),M83,1))) | O83: =RIGHT(M83,LEN(I83)-LEN(J83)-LEN(L83)-LEN(N83)) | P83: =IF(ISERROR(SEARCH(CHAR(10),O83,1)),O83,LEFT(O83,SEARCH(CHAR(10),O83,1))) | Q83: =RIGHT(O83,LEN(K83)-LEN(L83)-LEN(N83)-LEN(P83)) | R83: =IF(ISERROR(SEARCH(CHAR(10),Q83,1)),Q83,LEFT(Q83,SEARCH(CHAR(10),Q83,1))) | S83: =RIGHT(Q83,LEN(M83)-LEN(N83)-LEN(P83)-LEN(R83)) | T83: =IF(ISERROR(SEARCH(CHAR(10),S83,1)),S83,LEFT(S83,SEARCH(CHAR(10),S83,1))) | U83: =RIGHT(S83,LEN(O83)-LEN(P83)-LEN(R83)-LEN(T83)) | V83: =IF(ISERROR(SEARCH(CHAR(10),U83,1)),U83,LEFT(U83,SEARCH(CHAR(10),U83,1))) | W83: =RIGHT(U83,LEN(Q83)-LEN(R83)-LEN(T83)-LEN(V83)) | X83: =IF(ISERROR(SEARCH(CHAR(10),W83,1)),W83,LEFT(W83,SEARCH(CHAR(10),W83,1))) | Y83: =RIGHT(W83,LEN(S83)-LEN(T83)-LEN(V83)-LEN(X83)) | Z83: =IF(ISERROR(SEARCH(CHAR(10),Y83,1)),Y83,LEFT(Y83,SEARCH(CHAR(10),Y83,1))) | AA83: =RIGHT(Y83,LEN(U83)-LEN(V83)-LEN(X83)-LEN(Z83)) | AB83: =IF(ISERROR(SEARCH(CHAR(10),AA83,1)),AA83,LEFT(AA83,SEARCH(CHAR(10),AA83,1))) | AC83: =RIGHT(AA83,LEN(W83)-LEN(X83)-LEN(Z83)-LEN(AB83)) | AF83: =A83 -> Male | AG83: =B83 -> TurquoisePineapple | AH83: =C83 -> Yellowside
A84: =A57 -> Male | B84: =B57 -> Vert | C84: =Tables!$K$3 -> Yellowside / Turquoise | D84: =A84&B84&C84 -> MaleVertYellowside / Turquoise | E84: =Tables!K4 -> Vert / Yellowside Vert // Yellowside turquoise | F84: =IF(ISERROR(SEARCH(CHAR(10),E84,1)),E84,LEFT(E84,SEARCH(CHAR(10),E84,1))) -> Vert / Yellowside | G84: =RIGHT(E84,LEN(E84)-LEN(F84)) -> Vert // Yellowside turquoise | H84: =IF(ISERROR(SEARCH(CHAR(10),G84,1)),G84,LEFT(G84,SEARCH(CHAR(10),G84,1))) -> Vert // Yellowside turquoise | I84: =RIGHT(G84,LEN(E84)-LEN(F84)-LEN(H84)) | J84: =IF(ISERROR(SEARCH(CHAR(10),I84,1)),I84,LEFT(I84,SEARCH(CHAR(10),I84,1))) | K84: =RIGHT(I84,LEN(E84)-LEN(F84)-LEN(H84)-LEN(J84)) | L84: =IF(ISERROR(SEARCH(CHAR(10),K84,1)),K84,LEFT(K84,SEARCH(CHAR(10),K84,1))) | M84: =RIGHT(K84,LEN(G84)-LEN(H84)-LEN(J84)-LEN(L84)) | N84: =IF(ISERROR(SEARCH(CHAR(10),M84,1)),M84,LEFT(M84,SEARCH(CHAR(10),M84,1))) | O84: =RIGHT(M84,LEN(I84)-LEN(J84)-LEN(L84)-LEN(N84)) | P84: =IF(ISERROR(SEARCH(CHAR(10),O84,1)),O84,LEFT(O84,SEARCH(CHAR(10),O84,1))) | Q84: =RIGHT(O84,LEN(K84)-LEN(L84)-LEN(N84)-LEN(P84)) | R84: =IF(ISERROR(SEARCH(CHAR(10),Q84,1)),Q84,LEFT(Q84,SEARCH(CHAR(10),Q84,1))) | S84: =RIGHT(Q84,LEN(M84)-LEN(N84)-LEN(P84)-LEN(R84)) | T84: =IF(ISERROR(SEARCH(CHAR(10),S84,1)),S84,LEFT(S84,SEARCH(CHAR(10),S84,1))) | U84: =RIGHT(S84,LEN(O84)-LEN(P84)-LEN(R84)-LEN(T84)) | V84: =IF(ISERROR(SEARCH(CHAR(10),U84,1)),U84,LEFT(U84,SEARCH(CHAR(10),U84,1))) | W84: =RIGHT(U84,LEN(Q84)-LEN(R84)-LEN(T84)-LEN(V84)) | X84: =IF(ISERROR(SEARCH(CHAR(10),W84,1)),W84,LEFT(W84,SEARCH(CHAR(10),W84,1))) | Y84: =RIGHT(W84,LEN(S84)-LEN(T84)-LEN(V84)-LEN(X84)) | Z84: =IF(ISERROR(SEARCH(CHAR(10),Y84,1)),Y84,LEFT(Y84,SEARCH(CHAR(10),Y84,1))) | AA84: =RIGHT(Y84,LEN(U84)-LEN(V84)-LEN(X84)-LEN(Z84)) | AB84: =IF(ISERROR(SEARCH(CHAR(10),AA84,1)),AA84,LEFT(AA84,SEARCH(CHAR(10),AA84,1))) | AC84: =RIGHT(AA84,LEN(W84)-LEN(X84)-LEN(Z84)-LEN(AB84)) | AF84: =A84 -> Male | AG84: =B84 -> Vert | AH84: =C84 -> Yellowside / Turquoise
A85: =A58 -> Male | B85: =B58 -> Vert / Yellowside | C85: =Tables!$K$3 -> Yellowside / Turquoise | D85: =A85&B85&C85 -> MaleVert / YellowsideYellowside / Turquoise | E85: =Tables!K5 -> vert / yellowside vert // yellowside turquoise yellowside yellowside / turquoise | F85: =IF(ISERROR(SEARCH(CHAR(10),E85,1)),E85,LEFT(E85,SEARCH(CHAR(10),E85,1))) -> vert / yellowside | G85: =RIGHT(E85,LEN(E85)-LEN(F85)) -> vert // yellowside turquoise yellowside yellowside / turquoise | H85: =IF(ISERROR(SEARCH(CHAR(10),G85,1)),G85,LEFT(G85,SEARCH(CHAR(10),G85,1))) -> vert // yellowside turquoise | I85: =RIGHT(G85,LEN(E85)-LEN(F85)-LEN(H85)) -> yellowside yellowside / turquoise | J85: =IF(ISERROR(SEARCH(CHAR(10),I85,1)),I85,LEFT(I85,SEARCH(CHAR(10),I85,1))) -> yellowside | K85: =RIGHT(I85,LEN(E85)-LEN(F85)-LEN(H85)-LEN(J85)) -> yellowside / turquoise | L85: =IF(ISERROR(SEARCH(CHAR(10),K85,1)),K85,LEFT(K85,SEARCH(CHAR(10),K85,1))) -> yellowside / turquoise | M85: =RIGHT(K85,LEN(G85)-LEN(H85)-LEN(J85)-LEN(L85)) | N85: =IF(ISERROR(SEARCH(CHAR(10),M85,1)),M85,LEFT(M85,SEARCH(CHAR(10),M85,1))) | O85: =RIGHT(M85,LEN(I85)-LEN(J85)-LEN(L85)-LEN(N85)) | P85: =IF(ISERROR(SEARCH(CHAR(10),O85,1)),O85,LEFT(O85,SEARCH(CHAR(10),O85,1))) | Q85: =RIGHT(O85,LEN(K85)-LEN(L85)-LEN(N85)-LEN(P85)) | R85: =IF(ISERROR(SEARCH(CHAR(10),Q85,1)),Q85,LEFT(Q85,SEARCH(CHAR(10),Q85,1))) | S85: =RIGHT(Q85,LEN(M85)-LEN(N85)-LEN(P85)-LEN(R85)) | T85: =IF(ISERROR(SEARCH(CHAR(10),S85,1)),S85,LEFT(S85,SEARCH(CHAR(10),S85,1))) | U85: =RIGHT(S85,LEN(O85)-LEN(P85)-LEN(R85)-LEN(T85)) | V85: =IF(ISERROR(SEARCH(CHAR(10),U85,1)),U85,LEFT(U85,SEARCH(CHAR(10),U85,1))) | W85: =RIGHT(U85,LEN(Q85)-LEN(R85)-LEN(T85)-LEN(V85)) | X85: =IF(ISERROR(SEARCH(CHAR(10),W85,1)),W85,LEFT(W85,SEARCH(CHAR(10),W85,1))) | Y85: =RIGHT(W85,LEN(S85)-LEN(T85)-LEN(V85)-LEN(X85)) | Z85: =IF(ISERROR(SEARCH(CHAR(10),Y85,1)),Y85,LEFT(Y85,SEARCH(CHAR(10),Y85,1))) | AA85: =RIGHT(Y85,LEN(U85)-LEN(V85)-LEN(X85)-LEN(Z85)) | AB85: =IF(ISERROR(SEARCH(CHAR(10),AA85,1)),AA85,LEFT(AA85,SEARCH(CHAR(10),AA85,1))) | AC85: =RIGHT(AA85,LEN(W85)-LEN(X85)-LEN(Z85)-LEN(AB85)) | AF85: =A85 -> Male | AG85: =B85 -> Vert / Yellowside | AH85: =C85 -> Yellowside / Turquoise
A86: =A59 -> Male | B86: =B59 -> Vert / Cinnamon | C86: =Tables!$K$3 -> Yellowside / Turquoise | D86: =A86&B86&C86 -> MaleVert / CinnamonYellowside / Turquoise | E86: =Tables!K6 -> Vert / Yellowside Vert // Yellowside Cinnamon Vert // Yellowside Turquoise Vert /// Yellowside Cinnamon Turquoise | F86: =IF(ISERROR(SEARCH(CHAR(10),E86,1)),E86,LEFT(E86,SEARCH(CHAR(10),E86,1))) -> Vert / Yellowside | G86: =RIGHT(E86,LEN(E86)-LEN(F86)) -> Vert // Yellowside Cinnamon Vert // Yellowside Turquoise Vert /// Yellowside Cinnamon Turquoise | H86: =IF(ISERROR(SEARCH(CHAR(10),G86,1)),G86,LEFT(G86,SEARCH(CHAR(10),G86,1))) -> Vert // Yellowside Cinnamon | I86: =RIGHT(G86,LEN(E86)-LEN(F86)-LEN(H86)) -> Vert // Yellowside Turquoise Vert /// Yellowside Cinnamon Turquoise | J86: =IF(ISERROR(SEARCH(CHAR(10),I86,1)),I86,LEFT(I86,SEARCH(CHAR(10),I86,1))) -> Vert // Yellowside Turquoise | K86: =RIGHT(I86,LEN(E86)-LEN(F86)-LEN(H86)-LEN(J86)) -> Vert /// Yellowside Cinnamon Turquoise | L86: =IF(ISERROR(SEARCH(CHAR(10),K86,1)),K86,LEFT(K86,SEARCH(CHAR(10),K86,1))) -> Vert /// Yellowside Cinnamon Turquoise | M86: =RIGHT(K86,LEN(G86)-LEN(H86)-LEN(J86)-LEN(L86)) | N86: =IF(ISERROR(SEARCH(CHAR(10),M86,1)),M86,LEFT(M86,SEARCH(CHAR(10),M86,1))) | O86: =RIGHT(M86,LEN(I86)-LEN(J86)-LEN(L86)-LEN(N86)) | P86: =IF(ISERROR(SEARCH(CHAR(10),O86,1)),O86,LEFT(O86,SEARCH(CHAR(10),O86,1))) | Q86: =RIGHT(O86,LEN(K86)-LEN(L86)-LEN(N86)-LEN(P86)) | R86: =IF(ISERROR(SEARCH(CHAR(10),Q86,1)),Q86,LEFT(Q86,SEARCH(CHAR(10),Q86,1))) | S86: =RIGHT(Q86,LEN(M86)-LEN(N86)-LEN(P86)-LEN(R86)) | T86: =IF(ISERROR(SEARCH(CHAR(10),S86,1)),S86,LEFT(S86,SEARCH(CHAR(10),S86,1))) | U86: =RIGHT(S86,LEN(O86)-LEN(P86)-LEN(R86)-LEN(T86)) | V86: =IF(ISERROR(SEARCH(CHAR(10),U86,1)),U86,LEFT(U86,SEARCH(CHAR(10),U86,1))) | W86: =RIGHT(U86,LEN(Q86)-LEN(R86)-LEN(T86)-LEN(V86)) | X86: =IF(ISERROR(SEARCH(CHAR(10),W86,1)),W86,LEFT(W86,SEARCH(CHAR(10),W86,1))) | Y86: =RIGHT(W86,LEN(S86)-LEN(T86)-LEN(V86)-LEN(X86)) | Z86: =IF(ISERROR(SEARCH(CHAR(10),Y86,1)),Y86,LEFT(Y86,SEARCH(CHAR(10),Y86,1))) | AA86: =RIGHT(Y86,LEN(U86)-LEN(V86)-LEN(X86)-LEN(Z86)) | AB86: =IF(ISERROR(SEARCH(CHAR(10),AA86,1)),AA86,LEFT(AA86,SEARCH(CHAR(10),AA86,1))) | AC86: =RIGHT(AA86,LEN(W86)-LEN(X86)-LEN(Z86)-LEN(AB86)) | AF86: =A86 -> Male | AG86: =B86 -> Vert / Cinnamon | AH86: =C86 -> Yellowside / Turquoise
A87: =A60 -> Male | B87: =B60 -> Vert / Turquoise | C87: =Tables!$K$3 -> Yellowside / Turquoise | D87: =A87&B87&C87 -> MaleVert / TurquoiseYellowside / Turquoise | E87: =Tables!K7 -> Vert / Yellowside Vert // Yellowside turquoise Turquoise / Yellowside | F87: =IF(ISERROR(SEARCH(CHAR(10),E87,1)),E87,LEFT(E87,SEARCH(CHAR(10),E87,1))) -> Vert / Yellowside | G87: =RIGHT(E87,LEN(E87)-LEN(F87)) -> Vert // Yellowside turquoise Turquoise / Yellowside | H87: =IF(ISERROR(SEARCH(CHAR(10),G87,1)),G87,LEFT(G87,SEARCH(CHAR(10),G87,1))) -> Vert // Yellowside turquoise | I87: =RIGHT(G87,LEN(E87)-LEN(F87)-LEN(H87)) -> Turquoise / Yellowside | J87: =IF(ISERROR(SEARCH(CHAR(10),I87,1)),I87,LEFT(I87,SEARCH(CHAR(10),I87,1))) -> Turquoise / Yellowside | K87: =RIGHT(I87,LEN(E87)-LEN(F87)-LEN(H87)-LEN(J87)) | L87: =IF(ISERROR(SEARCH(CHAR(10),K87,1)),K87,LEFT(K87,SEARCH(CHAR(10),K87,1))) | M87: =RIGHT(K87,LEN(G87)-LEN(H87)-LEN(J87)-LEN(L87)) | N87: =IF(ISERROR(SEARCH(CHAR(10),M87,1)),M87,LEFT(M87,SEARCH(CHAR(10),M87,1))) | O87: =RIGHT(M87,LEN(I87)-LEN(J87)-LEN(L87)-LEN(N87)) | P87: =IF(ISERROR(SEARCH(CHAR(10),O87,1)),O87,LEFT(O87,SEARCH(CHAR(10),O87,1))) | Q87: =RIGHT(O87,LEN(K87)-LEN(L87)-LEN(N87)-LEN(P87)) | R87: =IF(ISERROR(SEARCH(CHAR(10),Q87,1)),Q87,LEFT(Q87,SEARCH(CHAR(10),Q87,1))) | S87: =RIGHT(Q87,LEN(M87)-LEN(N87)-LEN(P87)-LEN(R87)) | T87: =IF(ISERROR(SEARCH(CHAR(10),S87,1)),S87,LEFT(S87,SEARCH(CHAR(10),S87,1))) | U87: =RIGHT(S87,LEN(O87)-LEN(P87)-LEN(R87)-LEN(T87)) | V87: =IF(ISERROR(SEARCH(CHAR(10),U87,1)),U87,LEFT(U87,SEARCH(CHAR(10),U87,1))) | W87: =RIGHT(U87,LEN(Q87)-LEN(R87)-LEN(T87)-LEN(V87)) | X87: =IF(ISERROR(SEARCH(CHAR(10),W87,1)),W87,LEFT(W87,SEARCH(CHAR(10),W87,1))) | Y87: =RIGHT(W87,LEN(S87)-LEN(T87)-LEN(V87)-LEN(X87)) | Z87: =IF(ISERROR(SEARCH(CHAR(10),Y87,1)),Y87,LEFT(Y87,SEARCH(CHAR(10),Y87,1))) | AA87: =RIGHT(Y87,LEN(U87)-LEN(V87)-LEN(X87)-LEN(Z87)) | AB87: =IF(ISERROR(SEARCH(CHAR(10),AA87,1)),AA87,LEFT(AA87,SEARCH(CHAR(10),AA87,1))) | AC87: =RIGHT(AA87,LEN(W87)-LEN(X87)-LEN(Z87)-LEN(AB87)) | AF87: =A87 -> Male | AG87: =B87 -> Vert / Turquoise | AH87: =C87 -> Yellowside / Turquoise
A88: =A61 -> Male | B88: =B61 -> Vert // Yellowside Cinnamon | C88: =Tables!$K$3 -> Yellowside / Turquoise | D88: =A88&B88&C88 -> MaleVert // Yellowside CinnamonYellowside / Turquoise | E88: =Tables!K8 -> Vert / Yellowside Vert // Yellowside Cinnamon Vert // Yellowside Turquoise Vert /// Yellowside Cinnamon Turquoise | F88: =IF(ISERROR(SEARCH(CHAR(10),E88,1)),E88,LEFT(E88,SEARCH(CHAR(10),E88,1))) -> Vert / Yellowside | G88: =RIGHT(E88,LEN(E88)-LEN(F88)) -> Vert // Yellowside Cinnamon Vert // Yellowside Turquoise Vert /// Yellowside Cinnamon Turquoise | H88: =IF(ISERROR(SEARCH(CHAR(10),G88,1)),G88,LEFT(G88,SEARCH(CHAR(10),G88,1))) -> Vert // Yellowside Cinnamon | I88: =RIGHT(G88,LEN(E88)-LEN(F88)-LEN(H88)) -> Vert // Yellowside Turquoise Vert /// Yellowside Cinnamon Turquoise | J88: =IF(ISERROR(SEARCH(CHAR(10),I88,1)),I88,LEFT(I88,SEARCH(CHAR(10),I88,1))) -> Vert // Yellowside Turquoise | K88: =RIGHT(I88,LEN(E88)-LEN(F88)-LEN(H88)-LEN(J88)) -> Vert /// Yellowside Cinnamon Turquoise | L88: =IF(ISERROR(SEARCH(CHAR(10),K88,1)),K88,LEFT(K88,SEARCH(CHAR(10),K88,1))) -> Vert /// Yellowside Cinnamon Turquoise | M88: =RIGHT(K88,LEN(G88)-LEN(H88)-LEN(J88)-LEN(L88)) | N88: =IF(ISERROR(SEARCH(CHAR(10),M88,1)),M88,LEFT(M88,SEARCH(CHAR(10),M88,1))) | O88: =RIGHT(M88,LEN(I88)-LEN(J88)-LEN(L88)-LEN(N88)) | P88: =IF(ISERROR(SEARCH(CHAR(10),O88,1)),O88,LEFT(O88,SEARCH(CHAR(10),O88,1))) | Q88: =RIGHT(O88,LEN(K88)-LEN(L88)-LEN(N88)-LEN(P88)) | R88: =IF(ISERROR(SEARCH(CHAR(10),Q88,1)),Q88,LEFT(Q88,SEARCH(CHAR(10),Q88,1))) | S88: =RIGHT(Q88,LEN(M88)-LEN(N88)-LEN(P88)-LEN(R88)) | T88: =IF(ISERROR(SEARCH(CHAR(10),S88,1)),S88,LEFT(S88,SEARCH(CHAR(10),S88,1))) | U88: =RIGHT(S88,LEN(O88)-LEN(P88)-LEN(R88)-LEN(T88)) | V88: =IF(ISERROR(SEARCH(CHAR(10),U88,1)),U88,LEFT(U88,SEARCH(CHAR(10),U88,1))) | W88: =RIGHT(U88,LEN(Q88)-LEN(R88)-LEN(T88)-LEN(V88)) | X88: =IF(ISERROR(SEARCH(CHAR(10),W88,1)),W88,LEFT(W88,SEARCH(CHAR(10),W88,1))) | Y88: =RIGHT(W88,LEN(S88)-LEN(T88)-LEN(V88)-LEN(X88)) | Z88: =IF(ISERROR(SEARCH(CHAR(10),Y88,1)),Y88,LEFT(Y88,SEARCH(CHAR(10),Y88,1))) | AA88: =RIGHT(Y88,LEN(U88)-LEN(V88)-LEN(X88)-LEN(Z88)) | AB88: =IF(ISERROR(SEARCH(CHAR(10),AA88,1)),AA88,LEFT(AA88,SEARCH(CHAR(10),AA88,1))) | AC88: =RIGHT(AA88,LEN(W88)-LEN(X88)-LEN(Z88)-LEN(AB88)) | AF88: =A88 -> Male | AG88: =B88 -> Vert // Yellowside Cinnamon | AH88: =C88 -> Yellowside / Turquoise
A89: =A62 -> Male | B89: =B62 -> Vert // Cinnamon Turquoise | C89: =Tables!$K$3 -> Yellowside / Turquoise | D89: =A89&B89&C89 -> MaleVert // Cinnamon TurquoiseYellowside / Turquoise | E89: =Tables!K9 -> Vert / Yellowside Vert // Yellowside Cinnamon Vert // Yellowside Turquoise Vert /// Yellowside Cinnamon Turquoise Turquoise / Yellowside Turquoise // Yellowside Cinnamon | F89: =IF(ISERROR(SEARCH(CHAR(10),E89,1)),E89,LEFT(E89,SEARCH(CHAR(10),E89,1))) -> Vert / Yellowside | G89: =RIGHT(E89,LEN(E89)-LEN(F89)) -> Vert // Yellowside Cinnamon Vert // Yellowside Turquoise Vert /// Yellowside Cinnamon Turquoise Turquoise / Yellowside Turquoise // Yellowside Cinnamon | H89: =IF(ISERROR(SEARCH(CHAR(10),G89,1)),G89,LEFT(G89,SEARCH(CHAR(10),G89,1))) -> Vert // Yellowside Cinnamon | I89: =RIGHT(G89,LEN(E89)-LEN(F89)-LEN(H89)) -> Vert // Yellowside Turquoise Vert /// Yellowside Cinnamon Turquoise Turquoise / Yellowside Turquoise // Yellowside Cinnamon | J89: =IF(ISERROR(SEARCH(CHAR(10),I89,1)),I89,LEFT(I89,SEARCH(CHAR(10),I89,1))) -> Vert // Yellowside Turquoise | K89: =RIGHT(I89,LEN(E89)-LEN(F89)-LEN(H89)-LEN(J89)) -> Vert /// Yellowside Cinnamon Turquoise Turquoise / Yellowside Turquoise // Yellowside Cinnamon | L89: =IF(ISERROR(SEARCH(CHAR(10),K89,1)),K89,LEFT(K89,SEARCH(CHAR(10),K89,1))) -> Vert /// Yellowside Cinnamon Turquoise | M89: =RIGHT(K89,LEN(G89)-LEN(H89)-LEN(J89)-LEN(L89)) -> Turquoise / Yellowside Turquoise // Yellowside Cinnamon | N89: =IF(ISERROR(SEARCH(CHAR(10),M89,1)),M89,LEFT(M89,SEARCH(CHAR(10),M89,1))) -> Turquoise / Yellowside | O89: =RIGHT(M89,LEN(I89)-LEN(J89)-LEN(L89)-LEN(N89)) -> Turquoise // Yellowside Cinnamon | P89: =IF(ISERROR(SEARCH(CHAR(10),O89,1)),O89,LEFT(O89,SEARCH(CHAR(10),O89,1))) -> Turquoise // Yellowside Cinnamon | Q89: =RIGHT(O89,LEN(K89)-LEN(L89)-LEN(N89)-LEN(P89)) | R89: =IF(ISERROR(SEARCH(CHAR(10),Q89,1)),Q89,LEFT(Q89,SEARCH(CHAR(10),Q89,1))) | S89: =RIGHT(Q89,LEN(M89)-LEN(N89)-LEN(P89)-LEN(R89)) | T89: =IF(ISERROR(SEARCH(CHAR(10),S89,1)),S89,LEFT(S89,SEARCH(CHAR(10),S89,1))) | U89: =RIGHT(S89,LEN(O89)-LEN(P89)-LEN(R89)-LEN(T89)) | V89: =IF(ISERROR(SEARCH(CHAR(10),U89,1)),U89,LEFT(U89,SEARCH(CHAR(10),U89,1))) | W89: =RIGHT(U89,LEN(Q89)-LEN(R89)-LEN(T89)-LEN(V89)) | X89: =IF(ISERROR(SEARCH(CHAR(10),W89,1)),W89,LEFT(W89,SEARCH(CHAR(10),W89,1))) | Y89: =RIGHT(W89,LEN(S89)-LEN(T89)-LEN(V89)-LEN(X89)) | Z89: =IF(ISERROR(SEARCH(CHAR(10),Y89,1)),Y89,LEFT(Y89,SEARCH(CHAR(10),Y89,1))) | AA89: =RIGHT(Y89,LEN(U89)-LEN(V89)-LEN(X89)-LEN(Z89)) | AB89: =IF(ISERROR(SEARCH(CHAR(10),AA89,1)),AA89,LEFT(AA89,SEARCH(CHAR(10),AA89,1))) | AC89: =RIGHT(AA89,LEN(W89)-LEN(X89)-LEN(Z89)-LEN(AB89)) | AF89: =A89 -> Male | AG89: =B89 -> Vert // Cinnamon Turquoise | AH89: =C89 -> Yellowside / Turquoise
A90: =A63 -> Male | B90: =B63 -> vert // yellowside turquoise | C90: =Tables!$K$3 -> Yellowside / Turquoise | D90: =A90&B90&C90 -> Malevert // yellowside turquoiseYellowside / Turquoise | E90: =Tables!K10 -> vert / yellowside vert // yellowside turquoise yellowside yellowside / turquoise Turquoise / Yellowside TurquoiseYellowside | F90: =IF(ISERROR(SEARCH(CHAR(10),E90,1)),E90,LEFT(E90,SEARCH(CHAR(10),E90,1))) -> vert / yellowside | G90: =RIGHT(E90,LEN(E90)-LEN(F90)) -> vert // yellowside turquoise yellowside yellowside / turquoise Turquoise / Yellowside TurquoiseYellowside | H90: =IF(ISERROR(SEARCH(CHAR(10),G90,1)),G90,LEFT(G90,SEARCH(CHAR(10),G90,1))) -> vert // yellowside turquoise | I90: =RIGHT(G90,LEN(E90)-LEN(F90)-LEN(H90)) -> yellowside yellowside / turquoise Turquoise / Yellowside TurquoiseYellowside | J90: =IF(ISERROR(SEARCH(CHAR(10),I90,1)),I90,LEFT(I90,SEARCH(CHAR(10),I90,1))) -> yellowside | K90: =RIGHT(I90,LEN(E90)-LEN(F90)-LEN(H90)-LEN(J90)) -> yellowside / turquoise Turquoise / Yellowside TurquoiseYellowside | L90: =IF(ISERROR(SEARCH(CHAR(10),K90,1)),K90,LEFT(K90,SEARCH(CHAR(10),K90,1))) -> yellowside / turquoise | M90: =RIGHT(K90,LEN(G90)-LEN(H90)-LEN(J90)-LEN(L90)) -> Turquoise / Yellowside TurquoiseYellowside | N90: =IF(ISERROR(SEARCH(CHAR(10),M90,1)),M90,LEFT(M90,SEARCH(CHAR(10),M90,1))) -> Turquoise / Yellowside | O90: =RIGHT(M90,LEN(I90)-LEN(J90)-LEN(L90)-LEN(N90)) -> TurquoiseYellowside | P90: =IF(ISERROR(SEARCH(CHAR(10),O90,1)),O90,LEFT(O90,SEARCH(CHAR(10),O90,1))) -> TurquoiseYellowside | Q90: =RIGHT(O90,LEN(K90)-LEN(L90)-LEN(N90)-LEN(P90)) | R90: =IF(ISERROR(SEARCH(CHAR(10),Q90,1)),Q90,LEFT(Q90,SEARCH(CHAR(10),Q90,1))) | S90: =RIGHT(Q90,LEN(M90)-LEN(N90)-LEN(P90)-LEN(R90)) | T90: =IF(ISERROR(SEARCH(CHAR(10),S90,1)),S90,LEFT(S90,SEARCH(CHAR(10),S90,1))) | U90: =RIGHT(S90,LEN(O90)-LEN(P90)-LEN(R90)-LEN(T90)) | V90: =IF(ISERROR(SEARCH(CHAR(10),U90,1)),U90,LEFT(U90,SEARCH(CHAR(10),U90,1))) | W90: =RIGHT(U90,LEN(Q90)-LEN(R90)-LEN(T90)-LEN(V90)) | X90: =IF(ISERROR(SEARCH(CHAR(10),W90,1)),W90,LEFT(W90,SEARCH(CHAR(10),W90,1))) | Y90: =RIGHT(W90,LEN(S90)-LEN(T90)-LEN(V90)-LEN(X90)) | Z90: =IF(ISERROR(SEARCH(CHAR(10),Y90,1)),Y90,LEFT(Y90,SEARCH(CHAR(10),Y90,1))) | AA90: =RIGHT(Y90,LEN(U90)-LEN(V90)-LEN(X90)-LEN(Z90)) | AB90: =IF(ISERROR(SEARCH(CHAR(10),AA90,1)),AA90,LEFT(AA90,SEARCH(CHAR(10),AA90,1))) | AC90: =RIGHT(AA90,LEN(W90)-LEN(X90)-LEN(Z90)-LEN(AB90)) | AF90: =A90 -> Male | AG90: =B90 -> vert // yellowside turquoise | AH90: =C90 -> Yellowside / Turquoise
A91: =A64 -> Male | B91: =B64 -> Vert /// Yellowside Cinnamon Turquoise | C91: =Tables!$K$3 -> Yellowside / Turquoise | D91: =A91&B91&C91 -> MaleVert /// Yellowside Cinnamon TurquoiseYellowside / Turquoise | E91: =Tables!K11 -> Vert / Yellowside Vert // Yellowside Cinnamon Vert // Yellowside Turquoise Vert /// Yellowside Cinnamon Turquoise Yellowside Yellowside / Cinnamon Yellowside / Turquoise Yellowside // Cinnamon Turquoise Turquoise / Yellowside Turquoise // Yellowside Cinnamon TurquoiseYellowside TurquoiseYellowside / Cinnamon | F91: =IF(ISERROR(SEARCH(CHAR(10),E91,1)),E91,LEFT(E91,SEARCH(CHAR(10),E91,1))) -> Vert / Yellowside | G91: =RIGHT(E91,LEN(E91)-LEN(F91)) -> Vert // Yellowside Cinnamon Vert // Yellowside Turquoise Vert /// Yellowside Cinnamon Turquoise Yellowside Yellowside / Cinnamon Yellowside / Turquoise Yellowside // Cinnamon Turquoise Turquoise / Yellowside Turquoise // Yellowside Cinnamon TurquoiseYellowside TurquoiseYellowside / Cinnamon | H91: =IF(ISERROR(SEARCH(CHAR(10),G91,1)),G91,LEFT(G91,SEARCH(CHAR(10),G91,1))) -> Vert // Yellowside Cinnamon | I91: =RIGHT(G91,LEN(E91)-LEN(F91)-LEN(H91)) -> Vert // Yellowside Turquoise Vert /// Yellowside Cinnamon Turquoise Yellowside Yellowside / Cinnamon Yellowside / Turquoise Yellowside // Cinnamon Turquoise Turquoise / Yellowside Turquoise // Yellowside Cinnamon TurquoiseYellowside TurquoiseYellowside / Cinnamon | J91: =IF(ISERROR(SEARCH(CHAR(10),I91,1)),I91,LEFT(I91,SEARCH(CHAR(10),I91,1))) -> Vert // Yellowside Turquoise | K91: =RIGHT(I91,LEN(E91)-LEN(F91)-LEN(H91)-LEN(J91)) -> Vert /// Yellowside Cinnamon Turquoise Yellowside Yellowside / Cinnamon Yellowside / Turquoise Yellowside // Cinnamon Turquoise Turquoise / Yellowside Turquoise // Yellowside Cinnamon TurquoiseYellowside TurquoiseYellowside / Cinnamon | L91: =IF(ISERROR(SEARCH(CHAR(10),K91,1)),K91,LEFT(K91,SEARCH(CHAR(10),K91,1))) -> Vert /// Yellowside Cinnamon Turquoise | M91: =RIGHT(K91,LEN(G91)-LEN(H91)-LEN(J91)-LEN(L91)) -> Yellowside Yellowside / Cinnamon Yellowside / Turquoise Yellowside // Cinnamon Turquoise Turquoise / Yellowside Turquoise // Yellowside Cinnamon TurquoiseYellowside TurquoiseYellowside / Cinnamon | N91: =IF(ISERROR(SEARCH(CHAR(10),M91,1)),M91,LEFT(M91,SEARCH(CHAR(10),M91,1))) -> Yellowside | O91: =RIGHT(M91,LEN(I91)-LEN(J91)-LEN(L91)-LEN(N91)) -> Yellowside / Cinnamon Yellowside / Turquoise Yellowside // Cinnamon Turquoise Turquoise / Yellowside Turquoise // Yellowside Cinnamon TurquoiseYellowside TurquoiseYellowside / Cinnamon | P91: =IF(ISERROR(SEARCH(CHAR(10),O91,1)),O91,LEFT(O91,SEARCH(CHAR(10),O91,1))) -> Yellowside / Cinnamon | Q91: =RIGHT(O91,LEN(K91)-LEN(L91)-LEN(N91)-LEN(P91)) -> Yellowside / Turquoise Yellowside // Cinnamon Turquoise Turquoise / Yellowside Turquoise // Yellowside Cinnamon TurquoiseYellowside TurquoiseYellowside / Cinnamon | R91: =IF(ISERROR(SEARCH(CHAR(10),Q91,1)),Q91,LEFT(Q91,SEARCH(CHAR(10),Q91,1))) -> Yellowside / Turquoise | S91: =RIGHT(Q91,LEN(M91)-LEN(N91)-LEN(P91)-LEN(R91)) -> Yellowside // Cinnamon Turquoise Turquoise / Yellowside Turquoise // Yellowside Cinnamon TurquoiseYellowside TurquoiseYellowside / Cinnamon | T91: =IF(ISERROR(SEARCH(CHAR(10),S91,1)),S91,LEFT(S91,SEARCH(CHAR(10),S91,1))) -> Yellowside // Cinnamon Turquoise | U91: =RIGHT(S91,LEN(O91)-LEN(P91)-LEN(R91)-LEN(T91)) -> Turquoise / Yellowside Turquoise // Yellowside Cinnamon TurquoiseYellowside TurquoiseYellowside / Cinnamon | V91: =IF(ISERROR(SEARCH(CHAR(10),U91,1)),U91,LEFT(U91,SEARCH(CHAR(10),U91,1))) -> Turquoise / Yellowside | W91: =RIGHT(U91,LEN(Q91)-LEN(R91)-LEN(T91)-LEN(V91)) -> Turquoise // Yellowside Cinnamon TurquoiseYellowside TurquoiseYellowside / Cinnamon | X91: =IF(ISERROR(SEARCH(CHAR(10),W91,1)),W91,LEFT(W91,SEARCH(CHAR(10),W91,1))) -> Turquoise // Yellowside Cinnamon | Y91: =RIGHT(W91,LEN(S91)-LEN(T91)-LEN(V91)-LEN(X91)) -> TurquoiseYellowside TurquoiseYellowside / Cinnamon | Z91: =IF(ISERROR(SEARCH(CHAR(10),Y91,1)),Y91,LEFT(Y91,SEARCH(CHAR(10),Y91,1))) -> TurquoiseYellowside | AA91: =RIGHT(Y91,LEN(U91)-LEN(V91)-LEN(X91)-LEN(Z91)) -> TurquoiseYellowside / Cinnamon | AB91: =IF(ISERROR(SEARCH(CHAR(10),AA91,1)),AA91,LEFT(AA91,SEARCH(CHAR(10),AA91,1))) -> TurquoiseYellowside / Cinnamon | AC91: =RIGHT(AA91,LEN(W91)-LEN(X91)-LEN(Z91)-LEN(AB91)) | AF91: =A91 -> Male | AG91: =B91 -> Vert /// Yellowside Cinnamon Turquoise | AH91: =C91 -> Yellowside / Turquoise
A92: =A65 -> Male | B92: =B65 -> Yellowside | C92: =Tables!$K$3 -> Yellowside / Turquoise | D92: =A92&B92&C92 -> MaleYellowsideYellowside / Turquoise | E92: =Tables!K12 -> Yellowside Yellowside / Turquoise | F92: =IF(ISERROR(SEARCH(CHAR(10),E92,1)),E92,LEFT(E92,SEARCH(CHAR(10),E92,1))) -> Yellowside | G92: =RIGHT(E92,LEN(E92)-LEN(F92)) -> Yellowside / Turquoise | H92: =IF(ISERROR(SEARCH(CHAR(10),G92,1)),G92,LEFT(G92,SEARCH(CHAR(10),G92,1))) -> Yellowside / Turquoise | I92: =RIGHT(G92,LEN(E92)-LEN(F92)-LEN(H92)) | J92: =IF(ISERROR(SEARCH(CHAR(10),I92,1)),I92,LEFT(I92,SEARCH(CHAR(10),I92,1))) | K92: =RIGHT(I92,LEN(E92)-LEN(F92)-LEN(H92)-LEN(J92)) | L92: =IF(ISERROR(SEARCH(CHAR(10),K92,1)),K92,LEFT(K92,SEARCH(CHAR(10),K92,1))) | M92: =RIGHT(K92,LEN(G92)-LEN(H92)-LEN(J92)-LEN(L92)) | N92: =IF(ISERROR(SEARCH(CHAR(10),M92,1)),M92,LEFT(M92,SEARCH(CHAR(10),M92,1))) | O92: =RIGHT(M92,LEN(I92)-LEN(J92)-LEN(L92)-LEN(N92)) | P92: =IF(ISERROR(SEARCH(CHAR(10),O92,1)),O92,LEFT(O92,SEARCH(CHAR(10),O92,1))) | Q92: =RIGHT(O92,LEN(K92)-LEN(L92)-LEN(N92)-LEN(P92)) | R92: =IF(ISERROR(SEARCH(CHAR(10),Q92,1)),Q92,LEFT(Q92,SEARCH(CHAR(10),Q92,1))) | S92: =RIGHT(Q92,LEN(M92)-LEN(N92)-LEN(P92)-LEN(R92)) | T92: =IF(ISERROR(SEARCH(CHAR(10),S92,1)),S92,LEFT(S92,SEARCH(CHAR(10),S92,1))) | U92: =RIGHT(S92,LEN(O92)-LEN(P92)-LEN(R92)-LEN(T92)) | V92: =IF(ISERROR(SEARCH(CHAR(10),U92,1)),U92,LEFT(U92,SEARCH(CHAR(10),U92,1))) | W92: =RIGHT(U92,LEN(Q92)-LEN(R92)-LEN(T92)-LEN(V92)) | X92: =IF(ISERROR(SEARCH(CHAR(10),W92,1)),W92,LEFT(W92,SEARCH(CHAR(10),W92,1))) | Y92: =RIGHT(W92,LEN(S92)-LEN(T92)-LEN(V92)-LEN(X92)) | Z92: =IF(ISERROR(SEARCH(CHAR(10),Y92,1)),Y92,LEFT(Y92,SEARCH(CHAR(10),Y92,1))) | AA92: =RIGHT(Y92,LEN(U92)-LEN(V92)-LEN(X92)-LEN(Z92)) | AB92: =IF(ISERROR(SEARCH(CHAR(10),AA92,1)),AA92,LEFT(AA92,SEARCH(CHAR(10),AA92,1))) | AC92: =RIGHT(AA92,LEN(W92)-LEN(X92)-LEN(Z92)-LEN(AB92)) | AF92: =A92 -> Male | AG92: =B92 -> Yellowside | AH92: =C92 -> Yellowside / Turquoise
A93: =A66 -> Male | B93: =B66 -> Yellowside / Cinamon | C93: =Tables!$K$3 -> Yellowside / Turquoise | D93: =A93&B93&C93 -> MaleYellowside / Cinamon Yellowside / Turquoise | E93: =Tables!K13 -> Yellowside Yellowside / Cinnamon Yellowside / Turquoise Yellowside // Cinnamon Turquoise | F93: =IF(ISERROR(SEARCH(CHAR(10),E93,1)),E93,LEFT(E93,SEARCH(CHAR(10),E93,1))) -> Yellowside | G93: =RIGHT(E93,LEN(E93)-LEN(F93)) -> Yellowside / Cinnamon Yellowside / Turquoise Yellowside // Cinnamon Turquoise | H93: =IF(ISERROR(SEARCH(CHAR(10),G93,1)),G93,LEFT(G93,SEARCH(CHAR(10),G93,1))) -> Yellowside / Cinnamon | I93: =RIGHT(G93,LEN(E93)-LEN(F93)-LEN(H93)) -> Yellowside / Turquoise Yellowside // Cinnamon Turquoise | J93: =IF(ISERROR(SEARCH(CHAR(10),I93,1)),I93,LEFT(I93,SEARCH(CHAR(10),I93,1))) -> Yellowside / Turquoise | K93: =RIGHT(I93,LEN(E93)-LEN(F93)-LEN(H93)-LEN(J93)) -> Yellowside // Cinnamon Turquoise | L93: =IF(ISERROR(SEARCH(CHAR(10),K93,1)),K93,LEFT(K93,SEARCH(CHAR(10),K93,1))) -> Yellowside // Cinnamon Turquoise | M93: =RIGHT(K93,LEN(G93)-LEN(H93)-LEN(J93)-LEN(L93)) | N93: =IF(ISERROR(SEARCH(CHAR(10),M93,1)),M93,LEFT(M93,SEARCH(CHAR(10),M93,1))) | O93: =RIGHT(M93,LEN(I93)-LEN(J93)-LEN(L93)-LEN(N93)) | P93: =IF(ISERROR(SEARCH(CHAR(10),O93,1)),O93,LEFT(O93,SEARCH(CHAR(10),O93,1))) | Q93: =RIGHT(O93,LEN(K93)-LEN(L93)-LEN(N93)-LEN(P93)) | R93: =IF(ISERROR(SEARCH(CHAR(10),Q93,1)),Q93,LEFT(Q93,SEARCH(CHAR(10),Q93,1))) | S93: =RIGHT(Q93,LEN(M93)-LEN(N93)-LEN(P93)-LEN(R93)) | T93: =IF(ISERROR(SEARCH(CHAR(10),S93,1)),S93,LEFT(S93,SEARCH(CHAR(10),S93,1))) | U93: =RIGHT(S93,LEN(O93)-LEN(P93)-LEN(R93)-LEN(T93)) | V93: =IF(ISERROR(SEARCH(CHAR(10),U93,1)),U93,LEFT(U93,SEARCH(CHAR(10),U93,1))) | W93: =RIGHT(U93,LEN(Q93)-LEN(R93)-LEN(T93)-LEN(V93)) | X93: =IF(ISERROR(SEARCH(CHAR(10),W93,1)),W93,LEFT(W93,SEARCH(CHAR(10),W93,1))) | Y93: =RIGHT(W93,LEN(S93)-LEN(T93)-LEN(V93)-LEN(X93)) | Z93: =IF(ISERROR(SEARCH(CHAR(10),Y93,1)),Y93,LEFT(Y93,SEARCH(CHAR(10),Y93,1))) | AA93: =RIGHT(Y93,LEN(U93)-LEN(V93)-LEN(X93)-LEN(Z93)) | AB93: =IF(ISERROR(SEARCH(CHAR(10),AA93,1)),AA93,LEFT(AA93,SEARCH(CHAR(10),AA93,1))) | AC93: =RIGHT(AA93,LEN(W93)-LEN(X93)-LEN(Z93)-LEN(AB93)) | AF93: =A93 -> Male | AG93: =B93 -> Yellowside / Cinamon | AH93: =C93 -> Yellowside / Turquoise
A94: =A67 -> Male | B94: =B67 -> Yellowside / Turquoise | C94: =Tables!$K$3 -> Yellowside / Turquoise | D94: =A94&B94&C94 -> MaleYellowside / TurquoiseYellowside / Turquoise | E94: =Tables!K14 -> Yellowside Yellowside / Turquoise TurquoiseYellowside | F94: =IF(ISERROR(SEARCH(CHAR(10),E94,1)),E94,LEFT(E94,SEARCH(CHAR(10),E94,1))) -> Yellowside | G94: =RIGHT(E94,LEN(E94)-LEN(F94)) -> Yellowside / Turquoise TurquoiseYellowside | H94: =IF(ISERROR(SEARCH(CHAR(10),G94,1)),G94,LEFT(G94,SEARCH(CHAR(10),G94,1))) -> Yellowside / Turquoise | I94: =RIGHT(G94,LEN(E94)-LEN(F94)-LEN(H94)) -> TurquoiseYellowside | J94: =IF(ISERROR(SEARCH(CHAR(10),I94,1)),I94,LEFT(I94,SEARCH(CHAR(10),I94,1))) -> TurquoiseYellowside | K94: =RIGHT(I94,LEN(E94)-LEN(F94)-LEN(H94)-LEN(J94)) | L94: =IF(ISERROR(SEARCH(CHAR(10),K94,1)),K94,LEFT(K94,SEARCH(CHAR(10),K94,1))) | M94: =RIGHT(K94,LEN(G94)-LEN(H94)-LEN(J94)-LEN(L94)) | N94: =IF(ISERROR(SEARCH(CHAR(10),M94,1)),M94,LEFT(M94,SEARCH(CHAR(10),M94,1))) | O94: =RIGHT(M94,LEN(I94)-LEN(J94)-LEN(L94)-LEN(N94)) | P94: =IF(ISERROR(SEARCH(CHAR(10),O94,1)),O94,LEFT(O94,SEARCH(CHAR(10),O94,1))) | Q94: =RIGHT(O94,LEN(K94)-LEN(L94)-LEN(N94)-LEN(P94)) | R94: =IF(ISERROR(SEARCH(CHAR(10),Q94,1)),Q94,LEFT(Q94,SEARCH(CHAR(10),Q94,1))) | S94: =RIGHT(Q94,LEN(M94)-LEN(N94)-LEN(P94)-LEN(R94)) | T94: =IF(ISERROR(SEARCH(CHAR(10),S94,1)),S94,LEFT(S94,SEARCH(CHAR(10),S94,1))) | U94: =RIGHT(S94,LEN(O94)-LEN(P94)-LEN(R94)-LEN(T94)) | V94: =IF(ISERROR(SEARCH(CHAR(10),U94,1)),U94,LEFT(U94,SEARCH(CHAR(10),U94,1))) | W94: =RIGHT(U94,LEN(Q94)-LEN(R94)-LEN(T94)-LEN(V94)) | X94: =IF(ISERROR(SEARCH(CHAR(10),W94,1)),W94,LEFT(W94,SEARCH(CHAR(10),W94,1))) | Y94: =RIGHT(W94,LEN(S94)-LEN(T94)-LEN(V94)-LEN(X94)) | Z94: =IF(ISERROR(SEARCH(CHAR(10),Y94,1)),Y94,LEFT(Y94,SEARCH(CHAR(10),Y94,1))) | AA94: =RIGHT(Y94,LEN(U94)-LEN(V94)-LEN(X94)-LEN(Z94)) | AB94: =IF(ISERROR(SEARCH(CHAR(10),AA94,1)),AA94,LEFT(AA94,SEARCH(CHAR(10),AA94,1))) | AC94: =RIGHT(AA94,LEN(W94)-LEN(X94)-LEN(Z94)-LEN(AB94)) | AF94: =A94 -> Male | AG94: =B94 -> Yellowside / Turquoise | AH94: =C94 -> Yellowside / Turquoise
A95: =A68 -> Male | B95: =B68 -> Yellowside // Turquoise cinnamon | C95: =Tables!$K$3 -> Yellowside / Turquoise | D95: =A95&B95&C95 -> MaleYellowside // Turquoise cinnamonYellowside / Turquoise | E95: =Tables!K15 -> Yellowside Yellowside / Cinnamon Yellowside / Turquoise Yellowside // Cinnamon Turquoise TurquoiseYellowside TurquoiseYellowside / Cinnamon | F95: =IF(ISERROR(SEARCH(CHAR(10),E95,1)),E95,LEFT(E95,SEARCH(CHAR(10),E95,1))) -> Yellowside | G95: =RIGHT(E95,LEN(E95)-LEN(F95)) -> Yellowside / Cinnamon Yellowside / Turquoise Yellowside // Cinnamon Turquoise TurquoiseYellowside TurquoiseYellowside / Cinnamon | H95: =IF(ISERROR(SEARCH(CHAR(10),G95,1)),G95,LEFT(G95,SEARCH(CHAR(10),G95,1))) -> Yellowside / Cinnamon | I95: =RIGHT(G95,LEN(E95)-LEN(F95)-LEN(H95)) -> Yellowside / Turquoise Yellowside // Cinnamon Turquoise TurquoiseYellowside TurquoiseYellowside / Cinnamon | J95: =IF(ISERROR(SEARCH(CHAR(10),I95,1)),I95,LEFT(I95,SEARCH(CHAR(10),I95,1))) -> Yellowside / Turquoise | K95: =RIGHT(I95,LEN(E95)-LEN(F95)-LEN(H95)-LEN(J95)) -> Yellowside // Cinnamon Turquoise TurquoiseYellowside TurquoiseYellowside / Cinnamon | L95: =IF(ISERROR(SEARCH(CHAR(10),K95,1)),K95,LEFT(K95,SEARCH(CHAR(10),K95,1))) -> Yellowside // Cinnamon Turquoise | M95: =RIGHT(K95,LEN(G95)-LEN(H95)-LEN(J95)-LEN(L95)) -> TurquoiseYellowside TurquoiseYellowside / Cinnamon | N95: =IF(ISERROR(SEARCH(CHAR(10),M95,1)),M95,LEFT(M95,SEARCH(CHAR(10),M95,1))) -> TurquoiseYellowside | O95: =RIGHT(M95,LEN(I95)-LEN(J95)-LEN(L95)-LEN(N95)) -> TurquoiseYellowside / Cinnamon | P95: =IF(ISERROR(SEARCH(CHAR(10),O95,1)),O95,LEFT(O95,SEARCH(CHAR(10),O95,1))) -> TurquoiseYellowside / Cinnamon | Q95: =RIGHT(O95,LEN(K95)-LEN(L95)-LEN(N95)-LEN(P95)) | R95: =IF(ISERROR(SEARCH(CHAR(10),Q95,1)),Q95,LEFT(Q95,SEARCH(CHAR(10),Q95,1))) | S95: =RIGHT(Q95,LEN(M95)-LEN(N95)-LEN(P95)-LEN(R95)) | T95: =IF(ISERROR(SEARCH(CHAR(10),S95,1)),S95,LEFT(S95,SEARCH(CHAR(10),S95,1))) | U95: =RIGHT(S95,LEN(O95)-LEN(P95)-LEN(R95)-LEN(T95)) | V95: =IF(ISERROR(SEARCH(CHAR(10),U95,1)),U95,LEFT(U95,SEARCH(CHAR(10),U95,1))) | W95: =RIGHT(U95,LEN(Q95)-LEN(R95)-LEN(T95)-LEN(V95)) | X95: =IF(ISERROR(SEARCH(CHAR(10),W95,1)),W95,LEFT(W95,SEARCH(CHAR(10),W95,1))) | Y95: =RIGHT(W95,LEN(S95)-LEN(T95)-LEN(V95)-LEN(X95)) | Z95: =IF(ISERROR(SEARCH(CHAR(10),Y95,1)),Y95,LEFT(Y95,SEARCH(CHAR(10),Y95,1))) | AA95: =RIGHT(Y95,LEN(U95)-LEN(V95)-LEN(X95)-LEN(Z95)) | AB95: =IF(ISERROR(SEARCH(CHAR(10),AA95,1)),AA95,LEFT(AA95,SEARCH(CHAR(10),AA95,1))) | AC95: =RIGHT(AA95,LEN(W95)-LEN(X95)-LEN(Z95)-LEN(AB95)) | AF95: =A95 -> Male | AG95: =B95 -> Yellowside // Turquoise cinnamon | AH95: =C95 -> Yellowside / Turquoise
... A110: =A83 -> Male | B110: =B83 -> TurquoisePineapple | C110: =Tables!$K$3 -> Yellowside / Turquoise | D110: =A110&B110&C110 -> MaleTurquoisePineappleYellowside / Turquoise | E110: =Tables!K30 -> Yellowside // Cinnamon Turquoise TurquoiseYellowside / Cinnamon | F110: =IF(ISERROR(SEARCH(CHAR(10),E110,1)),E110,LEFT(E110,SEARCH(CHAR(10),E110,1))) -> Yellowside // Cinnamon Turquoise | G110: =RIGHT(E110,LEN(E110)-LEN(F110)) -> TurquoiseYellowside / Cinnamon | H110: =IF(ISERROR(SEARCH(CHAR(10),G110,1)),G110,LEFT(G110,SEARCH(CHAR(10),G110,1))) -> TurquoiseYellowside / Cinnamon | I110: =RIGHT(G110,LEN(E110)-LEN(F110)-LEN(H110)) | J110: =IF(ISERROR(SEARCH(CHAR(10),I110,1)),I110,LEFT(I110,SEARCH(CHAR(10),I110,1))) | K110: =RIGHT(I110,LEN(E110)-LEN(F110)-LEN(H110)-LEN(J110)) | L110: =IF(ISERROR(SEARCH(CHAR(10),K110,1)),K110,LEFT(K110,SEARCH(CHAR(10),K110,1))) | M110: =RIGHT(K110,LEN(G110)-LEN(H110)-LEN(J110)-LEN(L110)) | N110: =IF(ISERROR(SEARCH(CHAR(10),M110,1)),M110,LEFT(M110,SEARCH(CHAR(10),M110,1))) | O110: =RIGHT(M110,LEN(I110)-LEN(J110)-LEN(L110)-LEN(N110)) | P110: =IF(ISERROR(SEARCH(CHAR(10),O110,1)),O110,LEFT(O110,SEARCH(CHAR(10),O110,1))) | Q110: =RIGHT(O110,LEN(K110)-LEN(L110)-LEN(N110)-LEN(P110)) | R110: =IF(ISERROR(SEARCH(CHAR(10),Q110,1)),Q110,LEFT(Q110,SEARCH(CHAR(10),Q110,1))) | S110: =RIGHT(Q110,LEN(M110)-LEN(N110)-LEN(P110)-LEN(R110)) | T110: =IF(ISERROR(SEARCH(CHAR(10),S110,1)),S110,LEFT(S110,SEARCH(CHAR(10),S110,1))) | U110: =RIGHT(S110,LEN(O110)-LEN(P110)-LEN(R110)-LEN(T110)) | V110: =IF(ISERROR(SEARCH(CHAR(10),U110,1)),U110,LEFT(U110,SEARCH(CHAR(10),U110,1))) | W110: =RIGHT(U110,LEN(Q110)-LEN(R110)-LEN(T110)-LEN(V110)) | X110: =IF(ISERROR(SEARCH(CHAR(10),W110,1)),W110,LEFT(W110,SEARCH(CHAR(10),W110,1))) | Y110: =RIGHT(W110,LEN(S110)-LEN(T110)-LEN(V110)-LEN(X110)) | Z110: =IF(ISERROR(SEARCH(CHAR(10),Y110,1)),Y110,LEFT(Y110,SEARCH(CHAR(10),Y110,1))) | AA110: =RIGHT(Y110,LEN(U110)-LEN(V110)-LEN(X110)-LEN(Z110)) | AB110: =IF(ISERROR(SEARCH(CHAR(10),AA110,1)),AA110,LEFT(AA110,SEARCH(CHAR(10),AA110,1))) | AC110: =RIGHT(AA110,LEN(W110)-LEN(X110)-LEN(Z110)-LEN(AB110)) | AF110: =A110 -> Male | AG110: =B110 -> TurquoisePineapple | AH110: =C110 -> Yellowside / Turquoise
A111: =A84 -> Male | B111: =B84 -> Vert | C111: =Tables!$L$3 -> Cinnamon | D111: =A111&B111&C111 -> MaleVertCinnamon | E111: =Tables!L4 -> Vert / Cinnamon | F111: =IF(ISERROR(SEARCH(CHAR(10),E111,1)),E111,LEFT(E111,SEARCH(CHAR(10),E111,1))) -> Vert / Cinnamon | G111: =RIGHT(E111,LEN(E111)-LEN(F111)) | H111: =IF(ISERROR(SEARCH(CHAR(10),G111,1)),G111,LEFT(G111,SEARCH(CHAR(10),G111,1))) | I111: =RIGHT(G111,LEN(E111)-LEN(F111)-LEN(H111)) | J111: =IF(ISERROR(SEARCH(CHAR(10),I111,1)),I111,LEFT(I111,SEARCH(CHAR(10),I111,1))) | K111: =RIGHT(I111,LEN(E111)-LEN(F111)-LEN(H111)-LEN(J111)) | L111: =IF(ISERROR(SEARCH(CHAR(10),K111,1)),K111,LEFT(K111,SEARCH(CHAR(10),K111,1))) | M111: =RIGHT(K111,LEN(G111)-LEN(H111)-LEN(J111)-LEN(L111)) | N111: =IF(ISERROR(SEARCH(CHAR(10),M111,1)),M111,LEFT(M111,SEARCH(CHAR(10),M111,1))) | O111: =RIGHT(M111,LEN(I111)-LEN(J111)-LEN(L111)-LEN(N111)) | P111: =IF(ISERROR(SEARCH(CHAR(10),O111,1)),O111,LEFT(O111,SEARCH(CHAR(10),O111,1))) | Q111: =RIGHT(O111,LEN(K111)-LEN(L111)-LEN(N111)-LEN(P111)) | R111: =IF(ISERROR(SEARCH(CHAR(10),Q111,1)),Q111,LEFT(Q111,SEARCH(CHAR(10),Q111,1))) | S111: =RIGHT(Q111,LEN(M111)-LEN(N111)-LEN(P111)-LEN(R111)) | T111: =IF(ISERROR(SEARCH(CHAR(10),S111,1)),S111,LEFT(S111,SEARCH(CHAR(10),S111,1))) | U111: =RIGHT(S111,LEN(O111)-LEN(P111)-LEN(R111)-LEN(T111)) | V111: =IF(ISERROR(SEARCH(CHAR(10),U111,1)),U111,LEFT(U111,SEARCH(CHAR(10),U111,1))) | W111: =RIGHT(U111,LEN(Q111)-LEN(R111)-LEN(T111)-LEN(V111)) | X111: =IF(ISERROR(SEARCH(CHAR(10),W111,1)),W111,LEFT(W111,SEARCH(CHAR(10),W111,1))) | Y111: =RIGHT(W111,LEN(S111)-LEN(T111)-LEN(V111)-LEN(X111)) | Z111: =IF(ISERROR(SEARCH(CHAR(10),Y111,1)),Y111,LEFT(Y111,SEARCH(CHAR(10),Y111,1))) | AA111: =RIGHT(Y111,LEN(U111)-LEN(V111)-LEN(X111)-LEN(Z111)) | AB111: =IF(ISERROR(SEARCH(CHAR(10),AA111,1)),AA111,LEFT(AA111,SEARCH(CHAR(10),AA111,1))) | AC111: =RIGHT(AA111,LEN(W111)-LEN(X111)-LEN(Z111)-LEN(AB111)) | AF111: =A111 -> Male | AG111: =B111 -> Vert | AH111: =C111 -> Cinnamon
A112: =A85 -> Male | B112: =B85 -> Vert / Yellowside | C112: =Tables!$L$3 -> Cinnamon | D112: =A112&B112&C112 -> MaleVert / YellowsideCinnamon | E112: =Tables!L5 -> Vert / Cinamon Vert // Yellowside Cinnamon | F112: =IF(ISERROR(SEARCH(CHAR(10),E112,1)),E112,LEFT(E112,SEARCH(CHAR(10),E112,1))) -> Vert / Cinamon | G112: =RIGHT(E112,LEN(E112)-LEN(F112)) -> Vert // Yellowside Cinnamon | H112: =IF(ISERROR(SEARCH(CHAR(10),G112,1)),G112,LEFT(G112,SEARCH(CHAR(10),G112,1))) -> Vert // Yellowside Cinnamon | I112: =RIGHT(G112,LEN(E112)-LEN(F112)-LEN(H112)) | J112: =IF(ISERROR(SEARCH(CHAR(10),I112,1)),I112,LEFT(I112,SEARCH(CHAR(10),I112,1))) | K112: =RIGHT(I112,LEN(E112)-LEN(F112)-LEN(H112)-LEN(J112)) | L112: =IF(ISERROR(SEARCH(CHAR(10),K112,1)),K112,LEFT(K112,SEARCH(CHAR(10),K112,1))) | M112: =RIGHT(K112,LEN(G112)-LEN(H112)-LEN(J112)-LEN(L112)) | N112: =IF(ISERROR(SEARCH(CHAR(10),M112,1)),M112,LEFT(M112,SEARCH(CHAR(10),M112,1))) | O112: =RIGHT(M112,LEN(I112)-LEN(J112)-LEN(L112)-LEN(N112)) | P112: =IF(ISERROR(SEARCH(CHAR(10),O112,1)),O112,LEFT(O112,SEARCH(CHAR(10),O112,1))) | Q112: =RIGHT(O112,LEN(K112)-LEN(L112)-LEN(N112)-LEN(P112)) | R112: =IF(ISERROR(SEARCH(CHAR(10),Q112,1)),Q112,LEFT(Q112,SEARCH(CHAR(10),Q112,1))) | S112: =RIGHT(Q112,LEN(M112)-LEN(N112)-LEN(P112)-LEN(R112)) | T112: =IF(ISERROR(SEARCH(CHAR(10),S112,1)),S112,LEFT(S112,SEARCH(CHAR(10),S112,1))) | U112: =RIGHT(S112,LEN(O112)-LEN(P112)-LEN(R112)-LEN(T112)) | V112: =IF(ISERROR(SEARCH(CHAR(10),U112,1)),U112,LEFT(U112,SEARCH(CHAR(10),U112,1))) | W112: =RIGHT(U112,LEN(Q112)-LEN(R112)-LEN(T112)-LEN(V112)) | X112: =IF(ISERROR(SEARCH(CHAR(10),W112,1)),W112,LEFT(W112,SEARCH(CHAR(10),W112,1))) | Y112: =RIGHT(W112,LEN(S112)-LEN(T112)-LEN(V112)-LEN(X112)) | Z112: =IF(ISERROR(SEARCH(CHAR(10),Y112,1)),Y112,LEFT(Y112,SEARCH(CHAR(10),Y112,1))) | AA112: =RIGHT(Y112,LEN(U112)-LEN(V112)-LEN(X112)-LEN(Z112)) | AB112: =IF(ISERROR(SEARCH(CHAR(10),AA112,1)),AA112,LEFT(AA112,SEARCH(CHAR(10),AA112,1))) | AC112: =RIGHT(AA112,LEN(W112)-LEN(X112)-LEN(Z112)-LEN(AB112)) | AF112: =A112 -> Male | AG112: =B112 -> Vert / Yellowside | AH112: =C112 -> Cinnamon
A113: =A86 -> Male | B113: =B86 -> Vert / Cinnamon | C113: =Tables!$L$3 -> Cinnamon | D113: =A113&B113&C113 -> MaleVert / CinnamonCinnamon | E113: =Tables!L6 -> Vert / Cinnamon Cinnamon | F113: =IF(ISERROR(SEARCH(CHAR(10),E113,1)),E113,LEFT(E113,SEARCH(CHAR(10),E113,1))) -> Vert / Cinnamon | G113: =RIGHT(E113,LEN(E113)-LEN(F113)) -> Cinnamon | H113: =IF(ISERROR(SEARCH(CHAR(10),G113,1)),G113,LEFT(G113,SEARCH(CHAR(10),G113,1))) -> Cinnamon | I113: =RIGHT(G113,LEN(E113)-LEN(F113)-LEN(H113)) | J113: =IF(ISERROR(SEARCH(CHAR(10),I113,1)),I113,LEFT(I113,SEARCH(CHAR(10),I113,1))) | K113: =RIGHT(I113,LEN(E113)-LEN(F113)-LEN(H113)-LEN(J113)) | L113: =IF(ISERROR(SEARCH(CHAR(10),K113,1)),K113,LEFT(K113,SEARCH(CHAR(10),K113,1))) | M113: =RIGHT(K113,LEN(G113)-LEN(H113)-LEN(J113)-LEN(L113)) | N113: =IF(ISERROR(SEARCH(CHAR(10),M113,1)),M113,LEFT(M113,SEARCH(CHAR(10),M113,1))) | O113: =RIGHT(M113,LEN(I113)-LEN(J113)-LEN(L113)-LEN(N113)) | P113: =IF(ISERROR(SEARCH(CHAR(10),O113,1)),O113,LEFT(O113,SEARCH(CHAR(10),O113,1))) | Q113: =RIGHT(O113,LEN(K113)-LEN(L113)-LEN(N113)-LEN(P113)) | R113: =IF(ISERROR(SEARCH(CHAR(10),Q113,1)),Q113,LEFT(Q113,SEARCH(CHAR(10),Q113,1))) | S113: =RIGHT(Q113,LEN(M113)-LEN(N113)-LEN(P113)-LEN(R113)) | T113: =IF(ISERROR(SEARCH(CHAR(10),S113,1)),S113,LEFT(S113,SEARCH(CHAR(10),S113,1))) | U113: =RIGHT(S113,LEN(O113)-LEN(P113)-LEN(R113)-LEN(T113)) | V113: =IF(ISERROR(SEARCH(CHAR(10),U113,1)),U113,LEFT(U113,SEARCH(CHAR(10),U113,1))) | W113: =RIGHT(U113,LEN(Q113)-LEN(R113)-LEN(T113)-LEN(V113)) | X113: =IF(ISERROR(SEARCH(CHAR(10),W113,1)),W113,LEFT(W113,SEARCH(CHAR(10),W113,1))) | Y113: =RIGHT(W113,LEN(S113)-LEN(T113)-LEN(V113)-LEN(X113)) | Z113: =IF(ISERROR(SEARCH(CHAR(10),Y113,1)),Y113,LEFT(Y113,SEARCH(CHAR(10),Y113,1))) | AA113: =RIGHT(Y113,LEN(U113)-LEN(V113)-LEN(X113)-LEN(Z113)) | AB113: =IF(ISERROR(SEARCH(CHAR(10),AA113,1)),AA113,LEFT(AA113,SEARCH(CHAR(10),AA113,1))) | AC113: =RIGHT(AA113,LEN(W113)-LEN(X113)-LEN(Z113)-LEN(AB113)) | AF113: =A113 -> Male | AG113: =B113 -> Vert / Cinnamon | AH113: =C113 -> Cinnamon
A114: =A87 -> Male | B114: =B87 -> Vert / Turquoise | C114: =Tables!$L$3 -> Cinnamon | D114: =A114&B114&C114 -> MaleVert / TurquoiseCinnamon | E114: =Tables!L7 -> Vert / cinamon Vert // Cinnamon Turquoise | F114: =IF(ISERROR(SEARCH(CHAR(10),E114,1)),E114,LEFT(E114,SEARCH(CHAR(10),E114,1))) -> Vert / cinamon | G114: =RIGHT(E114,LEN(E114)-LEN(F114)) -> Vert // Cinnamon Turquoise | H114: =IF(ISERROR(SEARCH(CHAR(10),G114,1)),G114,LEFT(G114,SEARCH(CHAR(10),G114,1))) -> Vert // Cinnamon Turquoise | I114: =RIGHT(G114,LEN(E114)-LEN(F114)-LEN(H114)) | J114: =IF(ISERROR(SEARCH(CHAR(10),I114,1)),I114,LEFT(I114,SEARCH(CHAR(10),I114,1))) | K114: =RIGHT(I114,LEN(E114)-LEN(F114)-LEN(H114)-LEN(J114)) | L114: =IF(ISERROR(SEARCH(CHAR(10),K114,1)),K114,LEFT(K114,SEARCH(CHAR(10),K114,1))) | M114: =RIGHT(K114,LEN(G114)-LEN(H114)-LEN(J114)-LEN(L114)) | N114: =IF(ISERROR(SEARCH(CHAR(10),M114,1)),M114,LEFT(M114,SEARCH(CHAR(10),M114,1))) | O114: =RIGHT(M114,LEN(I114)-LEN(J114)-LEN(L114)-LEN(N114)) | P114: =IF(ISERROR(SEARCH(CHAR(10),O114,1)),O114,LEFT(O114,SEARCH(CHAR(10),O114,1))) | Q114: =RIGHT(O114,LEN(K114)-LEN(L114)-LEN(N114)-LEN(P114)) | R114: =IF(ISERROR(SEARCH(CHAR(10),Q114,1)),Q114,LEFT(Q114,SEARCH(CHAR(10),Q114,1))) | S114: =RIGHT(Q114,LEN(M114)-LEN(N114)-LEN(P114)-LEN(R114)) | T114: =IF(ISERROR(SEARCH(CHAR(10),S114,1)),S114,LEFT(S114,SEARCH(CHAR(10),S114,1))) | U114: =RIGHT(S114,LEN(O114)-LEN(P114)-LEN(R114)-LEN(T114)) | V114: =IF(ISERROR(SEARCH(CHAR(10),U114,1)),U114,LEFT(U114,SEARCH(CHAR(10),U114,1))) | W114: =RIGHT(U114,LEN(Q114)-LEN(R114)-LEN(T114)-LEN(V114)) | X114: =IF(ISERROR(SEARCH(CHAR(10),W114,1)),W114,LEFT(W114,SEARCH(CHAR(10),W114,1))) | Y114: =RIGHT(W114,LEN(S114)-LEN(T114)-LEN(V114)-LEN(X114)) | Z114: =IF(ISERROR(SEARCH(CHAR(10),Y114,1)),Y114,LEFT(Y114,SEARCH(CHAR(10),Y114,1))) | AA114: =RIGHT(Y114,LEN(U114)-LEN(V114)-LEN(X114)-LEN(Z114)) | AB114: =IF(ISERROR(SEARCH(CHAR(10),AA114,1)),AA114,LEFT(AA114,SEARCH(CHAR(10),AA114,1))) | AC114: =RIGHT(AA114,LEN(W114)-LEN(X114)-LEN(Z114)-LEN(AB114)) | AF114: =A114 -> Male | AG114: =B114 -> Vert / Turquoise | AH114: =C114 -> Cinnamon
A115: =A88 -> Male | B115: =B88 -> Vert // Yellowside Cinnamon | C115: =Tables!$L$3 -> Cinnamon | D115: =A115&B115&C115 -> MaleVert // Yellowside CinnamonCinnamon | E115: =Tables!L8 -> Vert / Cinamon Vert // Yellowside Cinnamon Cinnamon Cinnamon / Yellowside | F115: =IF(ISERROR(SEARCH(CHAR(10),E115,1)),E115,LEFT(E115,SEARCH(CHAR(10),E115,1))) -> Vert / Cinamon | G115: =RIGHT(E115,LEN(E115)-LEN(F115)) -> Vert // Yellowside Cinnamon Cinnamon Cinnamon / Yellowside | H115: =IF(ISERROR(SEARCH(CHAR(10),G115,1)),G115,LEFT(G115,SEARCH(CHAR(10),G115,1))) -> Vert // Yellowside Cinnamon | I115: =RIGHT(G115,LEN(E115)-LEN(F115)-LEN(H115)) -> Cinnamon Cinnamon / Yellowside | J115: =IF(ISERROR(SEARCH(CHAR(10),I115,1)),I115,LEFT(I115,SEARCH(CHAR(10),I115,1))) -> Cinnamon | K115: =RIGHT(I115,LEN(E115)-LEN(F115)-LEN(H115)-LEN(J115)) -> Cinnamon / Yellowside | L115: =IF(ISERROR(SEARCH(CHAR(10),K115,1)),K115,LEFT(K115,SEARCH(CHAR(10),K115,1))) -> Cinnamon / Yellowside | M115: =RIGHT(K115,LEN(G115)-LEN(H115)-LEN(J115)-LEN(L115)) | N115: =IF(ISERROR(SEARCH(CHAR(10),M115,1)),M115,LEFT(M115,SEARCH(CHAR(10),M115,1))) | O115: =RIGHT(M115,LEN(I115)-LEN(J115)-LEN(L115)-LEN(N115)) | P115: =IF(ISERROR(SEARCH(CHAR(10),O115,1)),O115,LEFT(O115,SEARCH(CHAR(10),O115,1))) | Q115: =RIGHT(O115,LEN(K115)-LEN(L115)-LEN(N115)-LEN(P115)) | R115: =IF(ISERROR(SEARCH(CHAR(10),Q115,1)),Q115,LEFT(Q115,SEARCH(CHAR(10),Q115,1))) | S115: =RIGHT(Q115,LEN(M115)-LEN(N115)-LEN(P115)-LEN(R115)) | T115: =IF(ISERROR(SEARCH(CHAR(10),S115,1)),S115,LEFT(S115,SEARCH(CHAR(10),S115,1))) | U115: =RIGHT(S115,LEN(O115)-LEN(P115)-LEN(R115)-LEN(T115)) | V115: =IF(ISERROR(SEARCH(CHAR(10),U115,1)),U115,LEFT(U115,SEARCH(CHAR(10),U115,1))) | W115: =RIGHT(U115,LEN(Q115)-LEN(R115)-LEN(T115)-LEN(V115)) | X115: =IF(ISERROR(SEARCH(CHAR(10),W115,1)),W115,LEFT(W115,SEARCH(CHAR(10),W115,1))) | Y115: =RIGHT(W115,LEN(S115)-LEN(T115)-LEN(V115)-LEN(X115)) | Z115: =IF(ISERROR(SEARCH(CHAR(10),Y115,1)),Y115,LEFT(Y115,SEARCH(CHAR(10),Y115,1))) | AA115: =RIGHT(Y115,LEN(U115)-LEN(V115)-LEN(X115)-LEN(Z115)) | AB115: =IF(ISERROR(SEARCH(CHAR(10),AA115,1)),AA115,LEFT(AA115,SEARCH(CHAR(10),AA115,1))) | AC115: =RIGHT(AA115,LEN(W115)-LEN(X115)-LEN(Z115)-LEN(AB115)) | AF115: =A115 -> Male | AG115: =B115 -> Vert // Yellowside Cinnamon | AH115: =C115 -> Cinnamon
A116: =A89 -> Male | B116: =B89 -> Vert // Cinnamon Turquoise | C116: =Tables!$L$3 -> Cinnamon | D116: =A116&B116&C116 -> MaleVert // Cinnamon TurquoiseCinnamon | E116: =Tables!L9 -> Vert / Cinnamon Vert // Cinnamon Turquoise Cinnamon Cinnamon / Turquoise | F116: =IF(ISERROR(SEARCH(CHAR(10),E116,1)),E116,LEFT(E116,SEARCH(CHAR(10),E116,1))) -> Vert / Cinnamon | G116: =RIGHT(E116,LEN(E116)-LEN(F116)) -> Vert // Cinnamon Turquoise Cinnamon Cinnamon / Turquoise | H116: =IF(ISERROR(SEARCH(CHAR(10),G116,1)),G116,LEFT(G116,SEARCH(CHAR(10),G116,1))) -> Vert // Cinnamon Turquoise | I116: =RIGHT(G116,LEN(E116)-LEN(F116)-LEN(H116)) -> Cinnamon Cinnamon / Turquoise | J116: =IF(ISERROR(SEARCH(CHAR(10),I116,1)),I116,LEFT(I116,SEARCH(CHAR(10),I116,1))) -> Cinnamon | K116: =RIGHT(I116,LEN(E116)-LEN(F116)-LEN(H116)-LEN(J116)) -> Cinnamon / Turquoise | L116: =IF(ISERROR(SEARCH(CHAR(10),K116,1)),K116,LEFT(K116,SEARCH(CHAR(10),K116,1))) -> Cinnamon / Turquoise | M116: =RIGHT(K116,LEN(G116)-LEN(H116)-LEN(J116)-LEN(L116)) | N116: =IF(ISERROR(SEARCH(CHAR(10),M116,1)),M116,LEFT(M116,SEARCH(CHAR(10),M116,1))) | O116: =RIGHT(M116,LEN(I116)-LEN(J116)-LEN(L116)-LEN(N116)) | P116: =IF(ISERROR(SEARCH(CHAR(10),O116,1)),O116,LEFT(O116,SEARCH(CHAR(10),O116,1))) | Q116: =RIGHT(O116,LEN(K116)-LEN(L116)-LEN(N116)-LEN(P116)) | R116: =IF(ISERROR(SEARCH(CHAR(10),Q116,1)),Q116,LEFT(Q116,SEARCH(CHAR(10),Q116,1))) | S116: =RIGHT(Q116,LEN(M116)-LEN(N116)-LEN(P116)-LEN(R116)) | T116: =IF(ISERROR(SEARCH(CHAR(10),S116,1)),S116,LEFT(S116,SEARCH(CHAR(10),S116,1))) | U116: =RIGHT(S116,LEN(O116)-LEN(P116)-LEN(R116)-LEN(T116)) | V116: =IF(ISERROR(SEARCH(CHAR(10),U116,1)),U116,LEFT(U116,SEARCH(CHAR(10),U116,1))) | W116: =RIGHT(U116,LEN(Q116)-LEN(R116)-LEN(T116)-LEN(V116)) | X116: =IF(ISERROR(SEARCH(CHAR(10),W116,1)),W116,LEFT(W116,SEARCH(CHAR(10),W116,1))) | Y116: =RIGHT(W116,LEN(S116)-LEN(T116)-LEN(V116)-LEN(X116)) | Z116: =IF(ISERROR(SEARCH(CHAR(10),Y116,1)),Y116,LEFT(Y116,SEARCH(CHAR(10),Y116,1))) | AA116: =RIGHT(Y116,LEN(U116)-LEN(V116)-LEN(X116)-LEN(Z116)) | AB116: =IF(ISERROR(SEARCH(CHAR(10),AA116,1)),AA116,LEFT(AA116,SEARCH(CHAR(10),AA116,1))) | AC116: =RIGHT(AA116,LEN(W116)-LEN(X116)-LEN(Z116)-LEN(AB116)) | AF116: =A116 -> Male | AG116: =B116 -> Vert // Cinnamon Turquoise | AH116: =C116 -> Cinnamon
A117: =A90 -> Male | B117: =B90 -> vert // yellowside turquoise | C117: =Tables!$L$3 -> Cinnamon | D117: =A117&B117&C117 -> Malevert // yellowside turquoiseCinnamon | E117: =Tables!L10 -> Vert / Cinnamon Vert // Cinnamon Turquoise Vert // Yellowside Turquoise Vert /// Yellowside Cinnamon Turquoise | F117: =IF(ISERROR(SEARCH(CHAR(10),E117,1)),E117,LEFT(E117,SEARCH(CHAR(10),E117,1))) -> Vert / Cinnamon | G117: =RIGHT(E117,LEN(E117)-LEN(F117)) -> Vert // Cinnamon Turquoise Vert // Yellowside Turquoise Vert /// Yellowside Cinnamon Turquoise | H117: =IF(ISERROR(SEARCH(CHAR(10),G117,1)),G117,LEFT(G117,SEARCH(CHAR(10),G117,1))) -> Vert // Cinnamon Turquoise | I117: =RIGHT(G117,LEN(E117)-LEN(F117)-LEN(H117)) -> Vert // Yellowside Turquoise Vert /// Yellowside Cinnamon Turquoise | J117: =IF(ISERROR(SEARCH(CHAR(10),I117,1)),I117,LEFT(I117,SEARCH(CHAR(10),I117,1))) -> Vert // Yellowside Turquoise | K117: =RIGHT(I117,LEN(E117)-LEN(F117)-LEN(H117)-LEN(J117)) -> Vert /// Yellowside Cinnamon Turquoise | L117: =IF(ISERROR(SEARCH(CHAR(10),K117,1)),K117,LEFT(K117,SEARCH(CHAR(10),K117,1))) -> Vert /// Yellowside Cinnamon Turquoise | M117: =RIGHT(K117,LEN(G117)-LEN(H117)-LEN(J117)-LEN(L117)) | N117: =IF(ISERROR(SEARCH(CHAR(10),M117,1)),M117,LEFT(M117,SEARCH(CHAR(10),M117,1))) | O117: =RIGHT(M117,LEN(I117)-LEN(J117)-LEN(L117)-LEN(N117)) | P117: =IF(ISERROR(SEARCH(CHAR(10),O117,1)),O117,LEFT(O117,SEARCH(CHAR(10),O117,1))) | Q117: =RIGHT(O117,LEN(K117)-LEN(L117)-LEN(N117)-LEN(P117)) | R117: =IF(ISERROR(SEARCH(CHAR(10),Q117,1)),Q117,LEFT(Q117,SEARCH(CHAR(10),Q117,1))) | S117: =RIGHT(Q117,LEN(M117)-LEN(N117)-LEN(P117)-LEN(R117)) | T117: =IF(ISERROR(SEARCH(CHAR(10),S117,1)),S117,LEFT(S117,SEARCH(CHAR(10),S117,1))) | U117: =RIGHT(S117,LEN(O117)-LEN(P117)-LEN(R117)-LEN(T117)) | V117: =IF(ISERROR(SEARCH(CHAR(10),U117,1)),U117,LEFT(U117,SEARCH(CHAR(10),U117,1))) | W117: =RIGHT(U117,LEN(Q117)-LEN(R117)-LEN(T117)-LEN(V117)) | X117: =IF(ISERROR(SEARCH(CHAR(10),W117,1)),W117,LEFT(W117,SEARCH(CHAR(10),W117,1))) | Y117: =RIGHT(W117,LEN(S117)-LEN(T117)-LEN(V117)-LEN(X117)) | Z117: =IF(ISERROR(SEARCH(CHAR(10),Y117,1)),Y117,LEFT(Y117,SEARCH(CHAR(10),Y117,1))) | AA117: =RIGHT(Y117,LEN(U117)-LEN(V117)-LEN(X117)-LEN(Z117)) | AB117: =IF(ISERROR(SEARCH(CHAR(10),AA117,1)),AA117,LEFT(AA117,SEARCH(CHAR(10),AA117,1))) | AC117: =RIGHT(AA117,LEN(W117)-LEN(X117)-LEN(Z117)-LEN(AB117)) | AF117: =A117 -> Male | AG117: =B117 -> vert // yellowside turquoise | AH117: =C117 -> Cinnamon
A118: =A91 -> Male | B118: =B91 -> Vert /// Yellowside Cinnamon Turquoise | C118: =Tables!$L$3 -> Cinnamon | D118: =A118&B118&C118 -> MaleVert /// Yellowside Cinnamon TurquoiseCinnamon | E118: =Tables!L11 -> Vert / Cinnamon Vert // Cinnamon Turquoise Vert // Yellowside Cinnamon Vert /// Yellowside Cinnamon Turquoise Cinnamon Cinnamon / Yellowside Cinnamon / Turquoise Cinnamon // Yellowside Turquoise | F118: =IF(ISERROR(SEARCH(CHAR(10),E118,1)),E118,LEFT(E118,SEARCH(CHAR(10),E118,1))) -> Vert / Cinnamon | G118: =RIGHT(E118,LEN(E118)-LEN(F118)) -> Vert // Cinnamon Turquoise Vert // Yellowside Cinnamon Vert /// Yellowside Cinnamon Turquoise Cinnamon Cinnamon / Yellowside Cinnamon / Turquoise Cinnamon // Yellowside Turquoise | H118: =IF(ISERROR(SEARCH(CHAR(10),G118,1)),G118,LEFT(G118,SEARCH(CHAR(10),G118,1))) -> Vert // Cinnamon Turquoise | I118: =RIGHT(G118,LEN(E118)-LEN(F118)-LEN(H118)) -> Vert // Yellowside Cinnamon Vert /// Yellowside Cinnamon Turquoise Cinnamon Cinnamon / Yellowside Cinnamon / Turquoise Cinnamon // Yellowside Turquoise | J118: =IF(ISERROR(SEARCH(CHAR(10),I118,1)),I118,LEFT(I118,SEARCH(CHAR(10),I118,1))) -> Vert // Yellowside Cinnamon | K118: =RIGHT(I118,LEN(E118)-LEN(F118)-LEN(H118)-LEN(J118)) -> Vert /// Yellowside Cinnamon Turquoise Cinnamon Cinnamon / Yellowside Cinnamon / Turquoise Cinnamon // Yellowside Turquoise | L118: =IF(ISERROR(SEARCH(CHAR(10),K118,1)),K118,LEFT(K118,SEARCH(CHAR(10),K118,1))) -> Vert /// Yellowside Cinnamon Turquoise | M118: =RIGHT(K118,LEN(G118)-LEN(H118)-LEN(J118)-LEN(L118)) -> Cinnamon Cinnamon / Yellowside Cinnamon / Turquoise Cinnamon // Yellowside Turquoise | N118: =IF(ISERROR(SEARCH(CHAR(10),M118,1)),M118,LEFT(M118,SEARCH(CHAR(10),M118,1))) -> Cinnamon | O118: =RIGHT(M118,LEN(I118)-LEN(J118)-LEN(L118)-LEN(N118)) -> Cinnamon / Yellowside Cinnamon / Turquoise Cinnamon // Yellowside Turquoise | P118: =IF(ISERROR(SEARCH(CHAR(10),O118,1)),O118,LEFT(O118,SEARCH(CHAR(10),O118,1))) -> Cinnamon / Yellowside | Q118: =RIGHT(O118,LEN(K118)-LEN(L118)-LEN(N118)-LEN(P118)) -> Cinnamon / Turquoise Cinnamon // Yellowside Turquoise | R118: =IF(ISERROR(SEARCH(CHAR(10),Q118,1)),Q118,LEFT(Q118,SEARCH(CHAR(10),Q118,1))) -> Cinnamon / Turquoise | S118: =RIGHT(Q118,LEN(M118)-LEN(N118)-LEN(P118)-LEN(R118)) -> Cinnamon // Yellowside Turquoise | T118: =IF(ISERROR(SEARCH(CHAR(10),S118,1)),S118,LEFT(S118,SEARCH(CHAR(10),S118,1))) -> Cinnamon // Yellowside Turquoise | U118: =RIGHT(S118,LEN(O118)-LEN(P118)-LEN(R118)-LEN(T118)) | V118: =IF(ISERROR(SEARCH(CHAR(10),U118,1)),U118,LEFT(U118,SEARCH(CHAR(10),U118,1))) | W118: =RIGHT(U118,LEN(Q118)-LEN(R118)-LEN(T118)-LEN(V118)) | X118: =IF(ISERROR(SEARCH(CHAR(10),W118,1)),W118,LEFT(W118,SEARCH(CHAR(10),W118,1))) | Y118: =RIGHT(W118,LEN(S118)-LEN(T118)-LEN(V118)-LEN(X118)) | Z118: =IF(ISERROR(SEARCH(CHAR(10),Y118,1)),Y118,LEFT(Y118,SEARCH(CHAR(10),Y118,1))) | AA118: =RIGHT(Y118,LEN(U118)-LEN(V118)-LEN(X118)-LEN(Z118)) | AB118: =IF(ISERROR(SEARCH(CHAR(10),AA118,1)),AA118,LEFT(AA118,SEARCH(CHAR(10),AA118,1))) | AC118: =RIGHT(AA118,LEN(W118)-LEN(X118)-LEN(Z118)-LEN(AB118)) | AF118: =A118 -> Male | AG118: =B118 -> Vert /// Yellowside Cinnamon Turquoise | AH118: =C118 -> Cinnamon
A119: =A92 -> Male | B119: =B92 -> Yellowside | C119: =Tables!$L$3 -> Cinnamon | D119: =A119&B119&C119 -> MaleYellowsideCinnamon | E119: =Tables!L12 -> Vert // Yellowside Cinnamon | F119: =IF(ISERROR(SEARCH(CHAR(10),E119,1)),E119,LEFT(E119,SEARCH(CHAR(10),E119,1))) -> Vert // Yellowside Cinnamon | G119: =RIGHT(E119,LEN(E119)-LEN(F119)) | H119: =IF(ISERROR(SEARCH(CHAR(10),G119,1)),G119,LEFT(G119,SEARCH(CHAR(10),G119,1))) | I119: =RIGHT(G119,LEN(E119)-LEN(F119)-LEN(H119)) | J119: =IF(ISERROR(SEARCH(CHAR(10),I119,1)),I119,LEFT(I119,SEARCH(CHAR(10),I119,1))) | K119: =RIGHT(I119,LEN(E119)-LEN(F119)-LEN(H119)-LEN(J119)) | L119: =IF(ISERROR(SEARCH(CHAR(10),K119,1)),K119,LEFT(K119,SEARCH(CHAR(10),K119,1))) | M119: =RIGHT(K119,LEN(G119)-LEN(H119)-LEN(J119)-LEN(L119)) | N119: =IF(ISERROR(SEARCH(CHAR(10),M119,1)),M119,LEFT(M119,SEARCH(CHAR(10),M119,1))) | O119: =RIGHT(M119,LEN(I119)-LEN(J119)-LEN(L119)-LEN(N119)) | P119: =IF(ISERROR(SEARCH(CHAR(10),O119,1)),O119,LEFT(O119,SEARCH(CHAR(10),O119,1))) | Q119: =RIGHT(O119,LEN(K119)-LEN(L119)-LEN(N119)-LEN(P119)) | R119: =IF(ISERROR(SEARCH(CHAR(10),Q119,1)),Q119,LEFT(Q119,SEARCH(CHAR(10),Q119,1))) | S119: =RIGHT(Q119,LEN(M119)-LEN(N119)-LEN(P119)-LEN(R119)) | T119: =IF(ISERROR(SEARCH(CHAR(10),S119,1)),S119,LEFT(S119,SEARCH(CHAR(10),S119,1))) | U119: =RIGHT(S119,LEN(O119)-LEN(P119)-LEN(R119)-LEN(T119)) | V119: =IF(ISERROR(SEARCH(CHAR(10),U119,1)),U119,LEFT(U119,SEARCH(CHAR(10),U119,1))) | W119: =RIGHT(U119,LEN(Q119)-LEN(R119)-LEN(T119)-LEN(V119)) | X119: =IF(ISERROR(SEARCH(CHAR(10),W119,1)),W119,LEFT(W119,SEARCH(CHAR(10),W119,1))) | Y119: =RIGHT(W119,LEN(S119)-LEN(T119)-LEN(V119)-LEN(X119)) | Z119: =IF(ISERROR(SEARCH(CHAR(10),Y119,1)),Y119,LEFT(Y119,SEARCH(CHAR(10),Y119,1))) | AA119: =RIGHT(Y119,LEN(U119)-LEN(V119)-LEN(X119)-LEN(Z119)) | AB119: =IF(ISERROR(SEARCH(CHAR(10),AA119,1)),AA119,LEFT(AA119,SEARCH(CHAR(10),AA119,1))) | AC119: =RIGHT(AA119,LEN(W119)-LEN(X119)-LEN(Z119)-LEN(AB119)) | AF119: =A119 -> Male | AG119: =B119 -> Yellowside | AH119: =C119 -> Cinnamon
A120: =A93 -> Male | B120: =B93 -> Yellowside / Cinamon | C120: =Tables!$L$3 -> Cinnamon | D120: =A120&B120&C120 -> MaleYellowside / Cinamon Cinnamon | E120: =Tables!L13 -> Vert // Yellowside Cinnamon Cinnamon / Yellowside | F120: =IF(ISERROR(SEARCH(CHAR(10),E120,1)),E120,LEFT(E120,SEARCH(CHAR(10),E120,1))) -> Vert // Yellowside Cinnamon | G120: =RIGHT(E120,LEN(E120)-LEN(F120)) -> Cinnamon / Yellowside | H120: =IF(ISERROR(SEARCH(CHAR(10),G120,1)),G120,LEFT(G120,SEARCH(CHAR(10),G120,1))) -> Cinnamon / Yellowside | I120: =RIGHT(G120,LEN(E120)-LEN(F120)-LEN(H120)) | J120: =IF(ISERROR(SEARCH(CHAR(10),I120,1)),I120,LEFT(I120,SEARCH(CHAR(10),I120,1))) | K120: =RIGHT(I120,LEN(E120)-LEN(F120)-LEN(H120)-LEN(J120)) | L120: =IF(ISERROR(SEARCH(CHAR(10),K120,1)),K120,LEFT(K120,SEARCH(CHAR(10),K120,1))) | M120: =RIGHT(K120,LEN(G120)-LEN(H120)-LEN(J120)-LEN(L120)) | N120: =IF(ISERROR(SEARCH(CHAR(10),M120,1)),M120,LEFT(M120,SEARCH(CHAR(10),M120,1))) | O120: =RIGHT(M120,LEN(I120)-LEN(J120)-LEN(L120)-LEN(N120)) | P120: =IF(ISERROR(SEARCH(CHAR(10),O120,1)),O120,LEFT(O120,SEARCH(CHAR(10),O120,1))) | Q120: =RIGHT(O120,LEN(K120)-LEN(L120)-LEN(N120)-LEN(P120)) | R120: =IF(ISERROR(SEARCH(CHAR(10),Q120,1)),Q120,LEFT(Q120,SEARCH(CHAR(10),Q120,1))) | S120: =RIGHT(Q120,LEN(M120)-LEN(N120)-LEN(P120)-LEN(R120)) | T120: =IF(ISERROR(SEARCH(CHAR(10),S120,1)),S120,LEFT(S120,SEARCH(CHAR(10),S120,1))) | U120: =RIGHT(S120,LEN(O120)-LEN(P120)-LEN(R120)-LEN(T120)) | V120: =IF(ISERROR(SEARCH(CHAR(10),U120,1)),U120,LEFT(U120,SEARCH(CHAR(10),U120,1))) | W120: =RIGHT(U120,LEN(Q120)-LEN(R120)-LEN(T120)-LEN(V120)) | X120: =IF(ISERROR(SEARCH(CHAR(10),W120,1)),W120,LEFT(W120,SEARCH(CHAR(10),W120,1))) | Y120: =RIGHT(W120,LEN(S120)-LEN(T120)-LEN(V120)-LEN(X120)) | Z120: =IF(ISERROR(SEARCH(CHAR(10),Y120,1)),Y120,LEFT(Y120,SEARCH(CHAR(10),Y120,1))) | AA120: =RIGHT(Y120,LEN(U120)-LEN(V120)-LEN(X120)-LEN(Z120)) | AB120: =IF(ISERROR(SEARCH(CHAR(10),AA120,1)),AA120,LEFT(AA120,SEARCH(CHAR(10),AA120,1))) | AC120: =RIGHT(AA120,LEN(W120)-LEN(X120)-LEN(Z120)-LEN(AB120)) | AF120: =A120 -> Male | AG120: =B120 -> Yellowside / Cinamon | AH120: =C120 -> Cinnamon
A121: =A94 -> Male | B121: =B94 -> Yellowside / Turquoise | C121: =Tables!$L$3 -> Cinnamon | D121: =A121&B121&C121 -> MaleYellowside / TurquoiseCinnamon | E121: =Tables!L14 -> Vert // Yellowside Cinnamon Vert /// Yellowside Cinnamon Turquoise | F121: =IF(ISERROR(SEARCH(CHAR(10),E121,1)),E121,LEFT(E121,SEARCH(CHAR(10),E121,1))) -> Vert // Yellowside Cinnamon | G121: =RIGHT(E121,LEN(E121)-LEN(F121)) -> Vert /// Yellowside Cinnamon Turquoise | H121: =IF(ISERROR(SEARCH(CHAR(10),G121,1)),G121,LEFT(G121,SEARCH(CHAR(10),G121,1))) -> Vert /// Yellowside Cinnamon Turquoise | I121: =RIGHT(G121,LEN(E121)-LEN(F121)-LEN(H121)) | J121: =IF(ISERROR(SEARCH(CHAR(10),I121,1)),I121,LEFT(I121,SEARCH(CHAR(10),I121,1))) | K121: =RIGHT(I121,LEN(E121)-LEN(F121)-LEN(H121)-LEN(J121)) | L121: =IF(ISERROR(SEARCH(CHAR(10),K121,1)),K121,LEFT(K121,SEARCH(CHAR(10),K121,1))) | M121: =RIGHT(K121,LEN(G121)-LEN(H121)-LEN(J121)-LEN(L121)) | N121: =IF(ISERROR(SEARCH(CHAR(10),M121,1)),M121,LEFT(M121,SEARCH(CHAR(10),M121,1))) | O121: =RIGHT(M121,LEN(I121)-LEN(J121)-LEN(L121)-LEN(N121)) | P121: =IF(ISERROR(SEARCH(CHAR(10),O121,1)),O121,LEFT(O121,SEARCH(CHAR(10),O121,1))) | Q121: =RIGHT(O121,LEN(K121)-LEN(L121)-LEN(N121)-LEN(P121)) | R121: =IF(ISERROR(SEARCH(CHAR(10),Q121,1)),Q121,LEFT(Q121,SEARCH(CHAR(10),Q121,1))) | S121: =RIGHT(Q121,LEN(M121)-LEN(N121)-LEN(P121)-LEN(R121)) | T121: =IF(ISERROR(SEARCH(CHAR(10),S121,1)),S121,LEFT(S121,SEARCH(CHAR(10),S121,1))) | U121: =RIGHT(S121,LEN(O121)-LEN(P121)-LEN(R121)-LEN(T121)) | V121: =IF(ISERROR(SEARCH(CHAR(10),U121,1)),U121,LEFT(U121,SEARCH(CHAR(10),U121,1))) | W121: =RIGHT(U121,LEN(Q121)-LEN(R121)-LEN(T121)-LEN(V121)) | X121: =IF(ISERROR(SEARCH(CHAR(10),W121,1)),W121,LEFT(W121,SEARCH(CHAR(10),W121,1))) | Y121: =RIGHT(W121,LEN(S121)-LEN(T121)-LEN(V121)-LEN(X121)) | Z121: =IF(ISERROR(SEARCH(CHAR(10),Y121,1)),Y121,LEFT(Y121,SEARCH(CHAR(10),Y121,1))) | AA121: =RIGHT(Y121,LEN(U121)-LEN(V121)-LEN(X121)-LEN(Z121)) | AB121: =IF(ISERROR(SEARCH(CHAR(10),AA121,1)),AA121,LEFT(AA121,SEARCH(CHAR(10),AA121,1))) | AC121: =RIGHT(AA121,LEN(W121)-LEN(X121)-LEN(Z121)-LEN(AB121)) | AF121: =A121 -> Male | AG121: =B121 -> Yellowside / Turquoise | AH121: =C121 -> Cinnamon
A122: =A95 -> Male | B122: =B95 -> Yellowside // Turquoise cinnamon | C122: =Tables!$L$3 -> Cinnamon | D122: =A122&B122&C122 -> MaleYellowside // Turquoise cinnamonCinnamon | E122: =Tables!L15 -> Vert // Yellowside Cinnamon Vert /// Yellowside Cinamon Turquoise Cinnamon / Yellowside Cinnamon // Yellowside Turquoise | F122: =IF(ISERROR(SEARCH(CHAR(10),E122,1)),E122,LEFT(E122,SEARCH(CHAR(10),E122,1))) -> Vert // Yellowside Cinnamon | G122: =RIGHT(E122,LEN(E122)-LEN(F122)) -> Vert /// Yellowside Cinamon Turquoise Cinnamon / Yellowside Cinnamon // Yellowside Turquoise | H122: =IF(ISERROR(SEARCH(CHAR(10),G122,1)),G122,LEFT(G122,SEARCH(CHAR(10),G122,1))) -> Vert /// Yellowside Cinamon Turquoise | I122: =RIGHT(G122,LEN(E122)-LEN(F122)-LEN(H122)) -> Cinnamon / Yellowside Cinnamon // Yellowside Turquoise | J122: =IF(ISERROR(SEARCH(CHAR(10),I122,1)),I122,LEFT(I122,SEARCH(CHAR(10),I122,1))) -> Cinnamon / Yellowside | K122: =RIGHT(I122,LEN(E122)-LEN(F122)-LEN(H122)-LEN(J122)) -> Cinnamon // Yellowside Turquoise | L122: =IF(ISERROR(SEARCH(CHAR(10),K122,1)),K122,LEFT(K122,SEARCH(CHAR(10),K122,1))) -> Cinnamon // Yellowside Turquoise | M122: =RIGHT(K122,LEN(G122)-LEN(H122)-LEN(J122)-LEN(L122)) | N122: =IF(ISERROR(SEARCH(CHAR(10),M122,1)),M122,LEFT(M122,SEARCH(CHAR(10),M122,1))) | O122: =RIGHT(M122,LEN(I122)-LEN(J122)-LEN(L122)-LEN(N122)) | P122: =IF(ISERROR(SEARCH(CHAR(10),O122,1)),O122,LEFT(O122,SEARCH(CHAR(10),O122,1))) | Q122: =RIGHT(O122,LEN(K122)-LEN(L122)-LEN(N122)-LEN(P122)) | R122: =IF(ISERROR(SEARCH(CHAR(10),Q122,1)),Q122,LEFT(Q122,SEARCH(CHAR(10),Q122,1))) | S122: =RIGHT(Q122,LEN(M122)-LEN(N122)-LEN(P122)-LEN(R122)) | T122: =IF(ISERROR(SEARCH(CHAR(10),S122,1)),S122,LEFT(S122,SEARCH(CHAR(10),S122,1))) | U122: =RIGHT(S122,LEN(O122)-LEN(P122)-LEN(R122)-LEN(T122)) | V122: =IF(ISERROR(SEARCH(CHAR(10),U122,1)),U122,LEFT(U122,SEARCH(CHAR(10),U122,1))) | W122: =RIGHT(U122,LEN(Q122)-LEN(R122)-LEN(T122)-LEN(V122)) | X122: =IF(ISERROR(SEARCH(CHAR(10),W122,1)),W122,LEFT(W122,SEARCH(CHAR(10),W122,1))) | Y122: =RIGHT(W122,LEN(S122)-LEN(T122)-LEN(V122)-LEN(X122)) | Z122: =IF(ISERROR(SEARCH(CHAR(10),Y122,1)),Y122,LEFT(Y122,SEARCH(CHAR(10),Y122,1))) | AA122: =RIGHT(Y122,LEN(U122)-LEN(V122)-LEN(X122)-LEN(Z122)) | AB122: =IF(ISERROR(SEARCH(CHAR(10),AA122,1)),AA122,LEFT(AA122,SEARCH(CHAR(10),AA122,1))) | AC122: =RIGHT(AA122,LEN(W122)-LEN(X122)-LEN(Z122)-LEN(AB122)) | AF122: =A122 -> Male | AG122: =B122 -> Yellowside // Turquoise cinnamon | AH122: =C122 -> Cinnamon
... A137: =A110 -> Male | B137: =B110 -> TurquoisePineapple | C137: =Tables!$L$3 -> Cinnamon | D137: =A137&B137&C137 -> MaleTurquoisePineappleCinnamon | E137: =Tables!L30 -> Cinnamon // Yellowside Turquoise | F137: =IF(ISERROR(SEARCH(CHAR(10),E137,1)),E137,LEFT(E137,SEARCH(CHAR(10),E137,1))) -> Cinnamon // Yellowside Turquoise | G137: =RIGHT(E137,LEN(E137)-LEN(F137)) | H137: =IF(ISERROR(SEARCH(CHAR(10),G137,1)),G137,LEFT(G137,SEARCH(CHAR(10),G137,1))) | I137: =RIGHT(G137,LEN(E137)-LEN(F137)-LEN(H137)) | J137: =IF(ISERROR(SEARCH(CHAR(10),I137,1)),I137,LEFT(I137,SEARCH(CHAR(10),I137,1))) | K137: =RIGHT(I137,LEN(E137)-LEN(F137)-LEN(H137)-LEN(J137)) | L137: =IF(ISERROR(SEARCH(CHAR(10),K137,1)),K137,LEFT(K137,SEARCH(CHAR(10),K137,1))) | M137: =RIGHT(K137,LEN(G137)-LEN(H137)-LEN(J137)-LEN(L137)) | N137: =IF(ISERROR(SEARCH(CHAR(10),M137,1)),M137,LEFT(M137,SEARCH(CHAR(10),M137,1))) | O137: =RIGHT(M137,LEN(I137)-LEN(J137)-LEN(L137)-LEN(N137)) | P137: =IF(ISERROR(SEARCH(CHAR(10),O137,1)),O137,LEFT(O137,SEARCH(CHAR(10),O137,1))) | Q137: =RIGHT(O137,LEN(K137)-LEN(L137)-LEN(N137)-LEN(P137)) | R137: =IF(ISERROR(SEARCH(CHAR(10),Q137,1)),Q137,LEFT(Q137,SEARCH(CHAR(10),Q137,1))) | S137: =RIGHT(Q137,LEN(M137)-LEN(N137)-LEN(P137)-LEN(R137)) | T137: =IF(ISERROR(SEARCH(CHAR(10),S137,1)),S137,LEFT(S137,SEARCH(CHAR(10),S137,1))) | U137: =RIGHT(S137,LEN(O137)-LEN(P137)-LEN(R137)-LEN(T137)) | V137: =IF(ISERROR(SEARCH(CHAR(10),U137,1)),U137,LEFT(U137,SEARCH(CHAR(10),U137,1))) | W137: =RIGHT(U137,LEN(Q137)-LEN(R137)-LEN(T137)-LEN(V137)) | X137: =IF(ISERROR(SEARCH(CHAR(10),W137,1)),W137,LEFT(W137,SEARCH(CHAR(10),W137,1))) | Y137: =RIGHT(W137,LEN(S137)-LEN(T137)-LEN(V137)-LEN(X137)) | Z137: =IF(ISERROR(SEARCH(CHAR(10),Y137,1)),Y137,LEFT(Y137,SEARCH(CHAR(10),Y137,1))) | AA137: =RIGHT(Y137,LEN(U137)-LEN(V137)-LEN(X137)-LEN(Z137)) | AB137: =IF(ISERROR(SEARCH(CHAR(10),AA137,1)),AA137,LEFT(AA137,SEARCH(CHAR(10),AA137,1))) | AC137: =RIGHT(AA137,LEN(W137)-LEN(X137)-LEN(Z137)-LEN(AB137)) | AF137: =A137 -> Male | AG137: =B137 -> TurquoisePineapple | AH137: =C137 -> Cinnamon
A138: =A111 -> Male | B138: =B111 -> Vert | C138: =Tables!$M$3 -> Cinnamon / Turquoise | D138: =A138&B138&C138 -> MaleVertCinnamon / Turquoise | E138: =Tables!M4 -> Vert / Cinnamon Vert // Cinnamon Turquoise | F138: =IF(ISERROR(SEARCH(CHAR(10),E138,1)),E138,LEFT(E138,SEARCH(CHAR(10),E138,1))) -> Vert / Cinnamon | G138: =RIGHT(E138,LEN(E138)-LEN(F138)) -> Vert // Cinnamon Turquoise | H138: =IF(ISERROR(SEARCH(CHAR(10),G138,1)),G138,LEFT(G138,SEARCH(CHAR(10),G138,1))) -> Vert // Cinnamon Turquoise | I138: =RIGHT(G138,LEN(E138)-LEN(F138)-LEN(H138)) | J138: =IF(ISERROR(SEARCH(CHAR(10),I138,1)),I138,LEFT(I138,SEARCH(CHAR(10),I138,1))) | K138: =RIGHT(I138,LEN(E138)-LEN(F138)-LEN(H138)-LEN(J138)) | L138: =IF(ISERROR(SEARCH(CHAR(10),K138,1)),K138,LEFT(K138,SEARCH(CHAR(10),K138,1))) | M138: =RIGHT(K138,LEN(G138)-LEN(H138)-LEN(J138)-LEN(L138)) | N138: =IF(ISERROR(SEARCH(CHAR(10),M138,1)),M138,LEFT(M138,SEARCH(CHAR(10),M138,1))) | O138: =RIGHT(M138,LEN(I138)-LEN(J138)-LEN(L138)-LEN(N138)) | P138: =IF(ISERROR(SEARCH(CHAR(10),O138,1)),O138,LEFT(O138,SEARCH(CHAR(10),O138,1))) | Q138: =RIGHT(O138,LEN(K138)-LEN(L138)-LEN(N138)-LEN(P138)) | R138: =IF(ISERROR(SEARCH(CHAR(10),Q138,1)),Q138,LEFT(Q138,SEARCH(CHAR(10),Q138,1))) | S138: =RIGHT(Q138,LEN(M138)-LEN(N138)-LEN(P138)-LEN(R138)) | T138: =IF(ISERROR(SEARCH(CHAR(10),S138,1)),S138,LEFT(S138,SEARCH(CHAR(10),S138,1))) | U138: =RIGHT(S138,LEN(O138)-LEN(P138)-LEN(R138)-LEN(T138)) | V138: =IF(ISERROR(SEARCH(CHAR(10),U138,1)),U138,LEFT(U138,SEARCH(CHAR(10),U138,1))) | W138: =RIGHT(U138,LEN(Q138)-LEN(R138)-LEN(T138)-LEN(V138)) | X138: =IF(ISERROR(SEARCH(CHAR(10),W138,1)),W138,LEFT(W138,SEARCH(CHAR(10),W138,1))) | Y138: =RIGHT(W138,LEN(S138)-LEN(T138)-LEN(V138)-LEN(X138)) | Z138: =IF(ISERROR(SEARCH(CHAR(10),Y138,1)),Y138,LEFT(Y138,SEARCH(CHAR(10),Y138,1))) | AA138: =RIGHT(Y138,LEN(U138)-LEN(V138)-LEN(X138)-LEN(Z138)) | AB138: =IF(ISERROR(SEARCH(CHAR(10),AA138,1)),AA138,LEFT(AA138,SEARCH(CHAR(10),AA138,1))) | AC138: =RIGHT(AA138,LEN(W138)-LEN(X138)-LEN(Z138)-LEN(AB138)) | AF138: =A138 -> Male | AG138: =B138 -> Vert | AH138: =C138 -> Cinnamon / Turquoise
A139: =A112 -> Male | B139: =B112 -> Vert / Yellowside | C139: =Tables!$M$3 -> Cinnamon / Turquoise | D139: =A139&B139&C139 -> MaleVert / YellowsideCinnamon / Turquoise | E139: =Tables!M5 -> Vert / Cinnamon Vert // Cinnamon Turquoise Vert // Yellowside Turquoise Vert /// Yellowside Cinnamon Turquoise | F139: =IF(ISERROR(SEARCH(CHAR(10),E139,1)),E139,LEFT(E139,SEARCH(CHAR(10),E139,1))) -> Vert / Cinnamon | G139: =RIGHT(E139,LEN(E139)-LEN(F139)) -> Vert // Cinnamon Turquoise Vert // Yellowside Turquoise Vert /// Yellowside Cinnamon Turquoise | H139: =IF(ISERROR(SEARCH(CHAR(10),G139,1)),G139,LEFT(G139,SEARCH(CHAR(10),G139,1))) -> Vert // Cinnamon Turquoise | I139: =RIGHT(G139,LEN(E139)-LEN(F139)-LEN(H139)) -> Vert // Yellowside Turquoise Vert /// Yellowside Cinnamon Turquoise | J139: =IF(ISERROR(SEARCH(CHAR(10),I139,1)),I139,LEFT(I139,SEARCH(CHAR(10),I139,1))) -> Vert // Yellowside Turquoise | K139: =RIGHT(I139,LEN(E139)-LEN(F139)-LEN(H139)-LEN(J139)) -> Vert /// Yellowside Cinnamon Turquoise | L139: =IF(ISERROR(SEARCH(CHAR(10),K139,1)),K139,LEFT(K139,SEARCH(CHAR(10),K139,1))) -> Vert /// Yellowside Cinnamon Turquoise | M139: =RIGHT(K139,LEN(G139)-LEN(H139)-LEN(J139)-LEN(L139)) | N139: =IF(ISERROR(SEARCH(CHAR(10),M139,1)),M139,LEFT(M139,SEARCH(CHAR(10),M139,1))) | O139: =RIGHT(M139,LEN(I139)-LEN(J139)-LEN(L139)-LEN(N139)) | P139: =IF(ISERROR(SEARCH(CHAR(10),O139,1)),O139,LEFT(O139,SEARCH(CHAR(10),O139,1))) | Q139: =RIGHT(O139,LEN(K139)-LEN(L139)-LEN(N139)-LEN(P139)) | R139: =IF(ISERROR(SEARCH(CHAR(10),Q139,1)),Q139,LEFT(Q139,SEARCH(CHAR(10),Q139,1))) | S139: =RIGHT(Q139,LEN(M139)-LEN(N139)-LEN(P139)-LEN(R139)) | T139: =IF(ISERROR(SEARCH(CHAR(10),S139,1)),S139,LEFT(S139,SEARCH(CHAR(10),S139,1))) | U139: =RIGHT(S139,LEN(O139)-LEN(P139)-LEN(R139)-LEN(T139)) | V139: =IF(ISERROR(SEARCH(CHAR(10),U139,1)),U139,LEFT(U139,SEARCH(CHAR(10),U139,1))) | W139: =RIGHT(U139,LEN(Q139)-LEN(R139)-LEN(T139)-LEN(V139)) | X139: =IF(ISERROR(SEARCH(CHAR(10),W139,1)),W139,LEFT(W139,SEARCH(CHAR(10),W139,1))) | Y139: =RIGHT(W139,LEN(S139)-LEN(T139)-LEN(V139)-LEN(X139)) | Z139: =IF(ISERROR(SEARCH(CHAR(10),Y139,1)),Y139,LEFT(Y139,SEARCH(CHAR(10),Y139,1))) | AA139: =RIGHT(Y139,LEN(U139)-LEN(V139)-LEN(X139)-LEN(Z139)) | AB139: =IF(ISERROR(SEARCH(CHAR(10),AA139,1)),AA139,LEFT(AA139,SEARCH(CHAR(10),AA139,1))) | AC139: =RIGHT(AA139,LEN(W139)-LEN(X139)-LEN(Z139)-LEN(AB139)) | AF139: =A139 -> Male | AG139: =B139 -> Vert / Yellowside | AH139: =C139 -> Cinnamon / Turquoise
A140: =A113 -> Male | B140: =B113 -> Vert / Cinnamon | C140: =Tables!$M$3 -> Cinnamon / Turquoise | D140: =A140&B140&C140 -> MaleVert / CinnamonCinnamon / Turquoise | E140: =Tables!M6 -> Vert / Cinnamon Vert // Cinnamon Turquoise Cinnamon Cinnamon / Turquoise | F140: =IF(ISERROR(SEARCH(CHAR(10),E140,1)),E140,LEFT(E140,SEARCH(CHAR(10),E140,1))) -> Vert / Cinnamon | G140: =RIGHT(E140,LEN(E140)-LEN(F140)) -> Vert // Cinnamon Turquoise Cinnamon Cinnamon / Turquoise | H140: =IF(ISERROR(SEARCH(CHAR(10),G140,1)),G140,LEFT(G140,SEARCH(CHAR(10),G140,1))) -> Vert // Cinnamon Turquoise | I140: =RIGHT(G140,LEN(E140)-LEN(F140)-LEN(H140)) -> Cinnamon Cinnamon / Turquoise | J140: =IF(ISERROR(SEARCH(CHAR(10),I140,1)),I140,LEFT(I140,SEARCH(CHAR(10),I140,1))) -> Cinnamon | K140: =RIGHT(I140,LEN(E140)-LEN(F140)-LEN(H140)-LEN(J140)) -> Cinnamon / Turquoise | L140: =IF(ISERROR(SEARCH(CHAR(10),K140,1)),K140,LEFT(K140,SEARCH(CHAR(10),K140,1))) -> Cinnamon / Turquoise | M140: =RIGHT(K140,LEN(G140)-LEN(H140)-LEN(J140)-LEN(L140)) | N140: =IF(ISERROR(SEARCH(CHAR(10),M140,1)),M140,LEFT(M140,SEARCH(CHAR(10),M140,1))) | O140: =RIGHT(M140,LEN(I140)-LEN(J140)-LEN(L140)-LEN(N140)) | P140: =IF(ISERROR(SEARCH(CHAR(10),O140,1)),O140,LEFT(O140,SEARCH(CHAR(10),O140,1))) | Q140: =RIGHT(O140,LEN(K140)-LEN(L140)-LEN(N140)-LEN(P140)) | R140: =IF(ISERROR(SEARCH(CHAR(10),Q140,1)),Q140,LEFT(Q140,SEARCH(CHAR(10),Q140,1))) | S140: =RIGHT(Q140,LEN(M140)-LEN(N140)-LEN(P140)-LEN(R140)) | T140: =IF(ISERROR(SEARCH(CHAR(10),S140,1)),S140,LEFT(S140,SEARCH(CHAR(10),S140,1))) | U140: =RIGHT(S140,LEN(O140)-LEN(P140)-LEN(R140)-LEN(T140)) | V140: =IF(ISERROR(SEARCH(CHAR(10),U140,1)),U140,LEFT(U140,SEARCH(CHAR(10),U140,1))) | W140: =RIGHT(U140,LEN(Q140)-LEN(R140)-LEN(T140)-LEN(V140)) | X140: =IF(ISERROR(SEARCH(CHAR(10),W140,1)),W140,LEFT(W140,SEARCH(CHAR(10),W140,1))) | Y140: =RIGHT(W140,LEN(S140)-LEN(T140)-LEN(V140)-LEN(X140)) | Z140: =IF(ISERROR(SEARCH(CHAR(10),Y140,1)),Y140,LEFT(Y140,SEARCH(CHAR(10),Y140,1))) | AA140: =RIGHT(Y140,LEN(U140)-LEN(V140)-LEN(X140)-LEN(Z140)) | AB140: =IF(ISERROR(SEARCH(CHAR(10),AA140,1)),AA140,LEFT(AA140,SEARCH(CHAR(10),AA140,1))) | AC140: =RIGHT(AA140,LEN(W140)-LEN(X140)-LEN(Z140)-LEN(AB140)) | AF140: =A140 -> Male | AG140: =B140 -> Vert / Cinnamon | AH140: =C140 -> Cinnamon / Turquoise
A141: =A114 -> Male | B141: =B114 -> Vert / Turquoise | C141: =Tables!$M$3 -> Cinnamon / Turquoise | D141: =A141&B141&C141 -> MaleVert / TurquoiseCinnamon / Turquoise | E141: =Tables!M7 -> Vert / Cinnamon Vert // Cinnamon Turquoise Turquoise / Cinnamon | F141: =IF(ISERROR(SEARCH(CHAR(10),E141,1)),E141,LEFT(E141,SEARCH(CHAR(10),E141,1))) -> Vert / Cinnamon | G141: =RIGHT(E141,LEN(E141)-LEN(F141)) -> Vert // Cinnamon Turquoise Turquoise / Cinnamon | H141: =IF(ISERROR(SEARCH(CHAR(10),G141,1)),G141,LEFT(G141,SEARCH(CHAR(10),G141,1))) -> Vert // Cinnamon Turquoise | I141: =RIGHT(G141,LEN(E141)-LEN(F141)-LEN(H141)) -> Turquoise / Cinnamon | J141: =IF(ISERROR(SEARCH(CHAR(10),I141,1)),I141,LEFT(I141,SEARCH(CHAR(10),I141,1))) -> Turquoise / Cinnamon | K141: =RIGHT(I141,LEN(E141)-LEN(F141)-LEN(H141)-LEN(J141)) | L141: =IF(ISERROR(SEARCH(CHAR(10),K141,1)),K141,LEFT(K141,SEARCH(CHAR(10),K141,1))) | M141: =RIGHT(K141,LEN(G141)-LEN(H141)-LEN(J141)-LEN(L141)) | N141: =IF(ISERROR(SEARCH(CHAR(10),M141,1)),M141,LEFT(M141,SEARCH(CHAR(10),M141,1))) | O141: =RIGHT(M141,LEN(I141)-LEN(J141)-LEN(L141)-LEN(N141)) | P141: =IF(ISERROR(SEARCH(CHAR(10),O141,1)),O141,LEFT(O141,SEARCH(CHAR(10),O141,1))) | Q141: =RIGHT(O141,LEN(K141)-LEN(L141)-LEN(N141)-LEN(P141)) | R141: =IF(ISERROR(SEARCH(CHAR(10),Q141,1)),Q141,LEFT(Q141,SEARCH(CHAR(10),Q141,1))) | S141: =RIGHT(Q141,LEN(M141)-LEN(N141)-LEN(P141)-LEN(R141)) | T141: =IF(ISERROR(SEARCH(CHAR(10),S141,1)),S141,LEFT(S141,SEARCH(CHAR(10),S141,1))) | U141: =RIGHT(S141,LEN(O141)-LEN(P141)-LEN(R141)-LEN(T141)) | V141: =IF(ISERROR(SEARCH(CHAR(10),U141,1)),U141,LEFT(U141,SEARCH(CHAR(10),U141,1))) | W141: =RIGHT(U141,LEN(Q141)-LEN(R141)-LEN(T141)-LEN(V141)) | X141: =IF(ISERROR(SEARCH(CHAR(10),W141,1)),W141,LEFT(W141,SEARCH(CHAR(10),W141,1))) | Y141: =RIGHT(W141,LEN(S141)-LEN(T141)-LEN(V141)-LEN(X141)) | Z141: =IF(ISERROR(SEARCH(CHAR(10),Y141,1)),Y141,LEFT(Y141,SEARCH(CHAR(10),Y141,1))) | AA141: =RIGHT(Y141,LEN(U141)-LEN(V141)-LEN(X141)-LEN(Z141)) | AB141: =IF(ISERROR(SEARCH(CHAR(10),AA141,1)),AA141,LEFT(AA141,SEARCH(CHAR(10),AA141,1))) | AC141: =RIGHT(AA141,LEN(W141)-LEN(X141)-LEN(Z141)-LEN(AB141)) | AF141: =A141 -> Male | AG141: =B141 -> Vert / Turquoise | AH141: =C141 -> Cinnamon / Turquoise
