Workbook
Name Assemblage: Feuil2!$B$1:$M$8
Name cout: Feuil1!$A$2:$E$12

Sheet Feuil1
A1: Reference/Tache | B1: Usinage | C1: découpe | D1: montage | E1: assemblage
A2: A | B2: =HLOOKUP($A2,Feuil2!$B$1:$M$6,3+COLUMN()-2,0) -> 1 | C2: =HLOOKUP($A2,Feuil2!$B$1:$M$6,3+COLUMN()-2,0) -> 10 | D2: =HLOOKUP($A2,Feuil2!$B$1:$M$6,3+COLUMN()-2,0) -> 100 | E2: =HLOOKUP($A2,Feuil2!$B$1:$M$6,3+COLUMN()-2,0) -> 1000
A3: B | B3: =HLOOKUP($A3,Feuil2!$B$1:$M$6,3+COLUMN()-2,0) -> 2 | C3: =HLOOKUP($A3,Feuil2!$B$1:$M$6,3+COLUMN()-2,0) -> 20 | D3: =HLOOKUP($A3,Feuil2!$B$1:$M$6,3+COLUMN()-2,0) -> 200 | E3: =HLOOKUP($A3,Feuil2!$B$1:$M$6,3+COLUMN()-2,0) -> 2000
A4: C | B4: =HLOOKUP($A4,Feuil2!$B$1:$M$6,3+COLUMN()-2,0) -> 3 | C4: =HLOOKUP($A4,Feuil2!$B$1:$M$6,3+COLUMN()-2,0) -> 30 | D4: =HLOOKUP($A4,Feuil2!$B$1:$M$6,3+COLUMN()-2,0) -> 300 | E4: =HLOOKUP($A4,Feuil2!$B$1:$M$6,3+COLUMN()-2,0) -> 3000
A5: D | B5: =HLOOKUP($A5,Feuil2!$B$1:$M$6,3+COLUMN()-2,0) -> 4 | C5: =HLOOKUP($A5,Feuil2!$B$1:$M$6,3+COLUMN()-2,0) -> 40 | D5: =HLOOKUP($A5,Feuil2!$B$1:$M$6,3+COLUMN()-2,0) -> 400 | E5: =HLOOKUP($A5,Feuil2!$B$1:$M$6,3+COLUMN()-2,0) -> 4000
A6: E | B6: =HLOOKUP($A6,Feuil2!$B$1:$M$6,3+COLUMN()-2,0) -> 5 | C6: =HLOOKUP($A6,Feuil2!$B$1:$M$6,3+COLUMN()-2,0) -> 50 | D6: =HLOOKUP($A6,Feuil2!$B$1:$M$6,3+COLUMN()-2,0) -> 500 | E6: =HLOOKUP($A6,Feuil2!$B$1:$M$6,3+COLUMN()-2,0) -> 5000
A7: F | B7: =HLOOKUP($A7,Feuil2!$B$1:$M$6,3+COLUMN()-2,0) -> 6 | C7: =HLOOKUP($A7,Feuil2!$B$1:$M$6,3+COLUMN()-2,0) -> 60 | D7: =HLOOKUP($A7,Feuil2!$B$1:$M$6,3+COLUMN()-2,0) -> 600 | E7: =HLOOKUP($A7,Feuil2!$B$1:$M$6,3+COLUMN()-2,0) -> 6000
A8: G | B8: =HLOOKUP($A8,Feuil2!$B$1:$M$6,3+COLUMN()-2,0) -> 7 | C8: =HLOOKUP($A8,Feuil2!$B$1:$M$6,3+COLUMN()-2,0) -> 70 | D8: =HLOOKUP($A8,Feuil2!$B$1:$M$6,3+COLUMN()-2,0) -> 700 | E8: =HLOOKUP($A8,Feuil2!$B$1:$M$6,3+COLUMN()-2,0) -> 7000
A9: H | B9: =HLOOKUP($A9,Feuil2!$B$1:$M$6,3+COLUMN()-2,0) -> 8 | C9: =HLOOKUP($A9,Feuil2!$B$1:$M$6,3+COLUMN()-2,0) -> 80 | D9: =HLOOKUP($A9,Feuil2!$B$1:$M$6,3+COLUMN()-2,0) -> 800 | E9: =HLOOKUP($A9,Feuil2!$B$1:$M$6,3+COLUMN()-2,0) -> 8000
A10: I | B10: =HLOOKUP($A10,Feuil2!$B$1:$M$6,3+COLUMN()-2,0) -> 9 | C10: =HLOOKUP($A10,Feuil2!$B$1:$M$6,3+COLUMN()-2,0) -> 90 | D10: =HLOOKUP($A10,Feuil2!$B$1:$M$6,3+COLUMN()-2,0) -> 900 | E10: =HLOOKUP($A10,Feuil2!$B$1:$M$6,3+COLUMN()-2,0) -> 9000
A11: J | B11: =HLOOKUP($A11,Feuil2!$B$1:$M$6,3+COLUMN()-2,0) -> 10 | C11: =HLOOKUP($A11,Feuil2!$B$1:$M$6,3+COLUMN()-2,0) -> 100 | D11: =HLOOKUP($A11,Feuil2!$B$1:$M$6,3+COLUMN()-2,0) -> 1000 | E11: =HLOOKUP($A11,Feuil2!$B$1:$M$6,3+COLUMN()-2,0) -> 10000
A12: K | B12: =HLOOKUP($A12,Feuil2!$B$1:$M$6,3+COLUMN()-2,0) -> 11 | C12: =HLOOKUP($A12,Feuil2!$B$1:$M$6,3+COLUMN()-2,0) -> 110 | D12: =HLOOKUP($A12,Feuil2!$B$1:$M$6,3+COLUMN()-2,0) -> 1100 | E12: =HLOOKUP($A12,Feuil2!$B$1:$M$6,3+COLUMN()-2,0) -> 11000

Sheet Feuil2
B1: Reference/Tache | C1: A | D1: B | E1: C | F1: D | G1: E | H1: F | I1: G | J1: H | K1: I | L1: J | M1: K
A3: Assemblage | B3: Usinage | C3: 1 | D3: 2 | E3: 3 | F3: 4 | G3: 5 | H3: 6 | I3: 7 | J3: 8 | K3: 9 | L3: 10 | M3: 11
B4: Decoupe | C4: =C3*10 -> 10 | D4: =D3*10 -> 20 | E4: =E3*10 -> 30 | F4: =F3*10 -> 40 | G4: =G3*10 -> 50 | H4: =H3*10 -> 60 | I4: =I3*10 -> 70 | J4: =J3*10 -> 80 | ... M4: =M3*10 -> 110
B5: Montage | C5: =C4*10 -> 100 | D5: =D4*10 -> 200 | E5: =E4*10 -> 300 | F5: =F4*10 -> 400 | G5: =G4*10 -> 500 | H5: =H4*10 -> 600 | I5: =I4*10 -> 700 | J5: =J4*10 -> 800 | ... M5: =M4*10 -> 1100
B6: ASSEMBLage | C6: =C5*10 -> 1000 | D6: =D5*10 -> 2000 | E6: =E5*10 -> 3000 | F6: =F5*10 -> 4000 | G6: =G5*10 -> 5000 | H6: =H5*10 -> 6000 | I6: =I5*10 -> 7000 | J6: =J5*10 -> 8000 | ... M6: =M5*10 -> 11000
