Workbook

Sheet Liste des élèves
A1: Numéro | B1: Prénom | C1: Nom
A2: 1 | B2: P1 | C2: N1
A3: 2 | B3: P2 | C3: N2
A4: 3 | B4: P3 | C4: N3
A5: 4 | B5: P4 | C5: N4
A6: 5 | B6: P5 | C6: N5
A7: 6 | B7: P6 | C7: N6
A8: 7 | B8: P7 | C8: N7
A9: 8 | B9: P8 | C9: N8
A10: 9 | B10: P9 | C10: N9
A11: 10 | B11: P10 | C11: N10
A12: 11
A13: 12
A14: 13
A15: 14
A16: 15
A17: 16
A18: 17
A19: 18
A20: 19
A21: 20
A22: 21
A23: 22
... A31: 30

Sheet étiquettes individuelles
A1: dictée 3 | B1: ='Liste des élèves'!$B2 -> P1 | D1: =A1 -> dictée 3 | E1: ='Liste des élèves'!$B3 -> P2 | G1: =A1 -> dictée 3 | H1: ='Liste des élèves'!$B4 -> P3 | J1: =A1 -> dictée 3 | K1: ='Liste des élèves'!$B5 -> P4 | L1: =A1 -> dictée 3 | M1: ='Liste des élèves'!$B14 -> 0 | O1: =A1 -> dictée 3 | P1: ='Liste des élèves'!$B15 -> 0 | R1: =A1 -> dictée 3 | S1: ='Liste des élèves'!$B16 -> 0 | U1: =A1 -> dictée 3 | V1: ='Liste des élèves'!$B17 -> 0
A2: Nombre de mots | B2: =INDEX('Suivi classe'!$A$1:$AF$38,MATCH('étiquettes individuelles'!A1,'Suivi classe'!$A$1:$A$38,0),MATCH('étiquettes individuelles'!B1,'Suivi classe'!$A$1:$AF$1,0)) -> 130 | D2: Nombre de mots | E2: =INDEX('Suivi classe'!$A$1:$AF$38,MATCH('étiquettes individuelles'!D1,'Suivi classe'!$A$1:$A$38,0),MATCH('étiquettes individuelles'!E1,'Suivi classe'!$A$1:$AF$1,0)) -> 130 | G2: Nombre de mots | H2: =INDEX('Suivi classe'!$A$1:$AF$38,MATCH('étiquettes individuelles'!G1,'Suivi classe'!$A$1:$A$38,0),MATCH('étiquettes individuelles'!H1,'Suivi classe'!$A$1:$AF$1,0)) -> 130 | J2: Nombre de mots | K2: =INDEX('Suivi classe'!$A$1:$AF$38,MATCH('étiquettes individuelles'!J1,'Suivi classe'!$A$1:$A$38,0),MATCH('étiquettes individuelles'!K1,'Suivi classe'!$A$1:$AF$1,0)) -> 130 | L2: Nombre de mots | M2: =INDEX('Suivi classe'!$A$1:$AF$38,MATCH('étiquettes individuelles'!L1,'Suivi classe'!$A$1:$A$38,0),MATCH('étiquettes individuelles'!M1,'Suivi classe'!$A$1:$AF$1,0)) -> 130 | O2: Nombre de mots | P2: =INDEX('Suivi classe'!$A$1:$AF$38,MATCH('étiquettes individuelles'!O1,'Suivi classe'!$A$1:$A$38,0),MATCH('étiquettes individuelles'!P1,'Suivi classe'!$A$1:$AF$1,0)) -> 130 | R2: Nombre de mots | S2: =INDEX('Suivi classe'!$A$1:$AF$38,MATCH('étiquettes individuelles'!R1,'Suivi classe'!$A$1:$A$38,0),MATCH('étiquettes individuelles'!S1,'Suivi classe'!$A$1:$AF$1,0)) -> 130 | U2: Nombre de mots | V2: =INDEX('Suivi classe'!$A$1:$AF$38,MATCH('étiquettes individuelles'!U1,'Suivi classe'!$A$1:$A$38,0),MATCH('étiquettes individuelles'!V1,'Suivi classe'!$A$1:$AF$1,0)) -> 130
A3: Erreurs lexicales | B3: =INDEX('Suivi classe'!$A$1:$AF$38,MATCH('étiquettes individuelles'!A1,'Suivi classe'!$A$1:$A$38,0)+1,MATCH('étiquettes individuelles'!B1,'Suivi classe'!$A$1:$AF$1,0)) -> 13 | D3: Erreurs lexicales | E3: =INDEX('Suivi classe'!$A$1:$AF$38,MATCH('étiquettes individuelles'!D1,'Suivi classe'!$A$1:$A$38,0)+1,MATCH('étiquettes individuelles'!E1,'Suivi classe'!$A$1:$AF$1,0)) -> 23 | G3: Erreurs lexicales | H3: =INDEX('Suivi classe'!$A$1:$AF$38,MATCH('étiquettes individuelles'!G1,'Suivi classe'!$A$1:$A$38,0)+1,MATCH('étiquettes individuelles'!H1,'Suivi classe'!$A$1:$AF$1,0)) -> 33 | J3: Erreurs lexicales | K3: =INDEX('Suivi classe'!$A$1:$AF$38,MATCH('étiquettes individuelles'!J1,'Suivi classe'!$A$1:$A$38,0)+1,MATCH('étiquettes individuelles'!K1,'Suivi classe'!$A$1:$AF$1,0)) -> 0 | L3: Erreurs lexicales | M3: =INDEX('Suivi classe'!$A$1:$AF$38,MATCH('étiquettes individuelles'!L1,'Suivi classe'!$A$1:$A$38,0)+1,MATCH('étiquettes individuelles'!M1,'Suivi classe'!$A$1:$AF$1,0)) -> 0 | O3: Erreurs lexicales | P3: =INDEX('Suivi classe'!$A$1:$AF$38,MATCH('étiquettes individuelles'!O1,'Suivi classe'!$A$1:$A$38,0)+1,MATCH('étiquettes individuelles'!P1,'Suivi classe'!$A$1:$AF$1,0)) -> 0 | R3: Erreurs lexicales | S3: =INDEX('Suivi classe'!$A$1:$AF$38,MATCH('étiquettes individuelles'!R1,'Suivi classe'!$A$1:$A$38,0)+1,MATCH('étiquettes individuelles'!S1,'Suivi classe'!$A$1:$AF$1,0)) -> 0 | U3: Erreurs lexicales | V3: =INDEX('Suivi classe'!$A$1:$AF$38,MATCH('étiquettes individuelles'!U1,'Suivi classe'!$A$1:$A$38,0)+1,MATCH('étiquettes individuelles'!V1,'Suivi classe'!$A$1:$AF$1,0)) -> 0
A4: Erreurs grammaticales | B4: =INDEX('Suivi classe'!$A$1:$AF$38,MATCH('étiquettes individuelles'!A1,'Suivi classe'!$A$1:$A$38,0)+2,MATCH('étiquettes individuelles'!B1,'Suivi classe'!$A$1:$AF$1,0)) -> 1 | D4: Erreurs grammaticales | E4: =INDEX('Suivi classe'!$A$1:$AF$38,MATCH('étiquettes individuelles'!D1,'Suivi classe'!$A$1:$A$38,0)+2,MATCH('étiquettes individuelles'!E1,'Suivi classe'!$A$1:$AF$1,0)) -> 2 | G4: Erreurs grammaticales | H4: =INDEX('Suivi classe'!$A$1:$AF$38,MATCH('étiquettes individuelles'!G1,'Suivi classe'!$A$1:$A$38,0)+2,MATCH('étiquettes individuelles'!H1,'Suivi classe'!$A$1:$AF$1,0)) -> 3 | J4: Erreurs grammaticales | K4: =INDEX('Suivi classe'!$A$1:$AF$38,MATCH('étiquettes individuelles'!J1,'Suivi classe'!$A$1:$A$38,0)+2,MATCH('étiquettes individuelles'!K1,'Suivi classe'!$A$1:$AF$1,0)) -> 0 | L4: Erreurs grammaticales | M4: =INDEX('Suivi classe'!$A$1:$AF$38,MATCH('étiquettes individuelles'!L1,'Suivi classe'!$A$1:$A$38,0)+2,MATCH('étiquettes individuelles'!M1,'Suivi classe'!$A$1:$AF$1,0)) -> 0 | O4: Erreurs grammaticales | P4: =INDEX('Suivi classe'!$A$1:$AF$38,MATCH('étiquettes individuelles'!O1,'Suivi classe'!$A$1:$A$38,0)+2,MATCH('étiquettes individuelles'!P1,'Suivi classe'!$A$1:$AF$1,0)) -> 0 | R4: Erreurs grammaticales | S4: =INDEX('Suivi classe'!$A$1:$AF$38,MATCH('étiquettes individuelles'!R1,'Suivi classe'!$A$1:$A$38,0)+2,MATCH('étiquettes individuelles'!S1,'Suivi classe'!$A$1:$AF$1,0)) -> 0 | U4: Erreurs grammaticales | V4: =INDEX('Suivi classe'!$A$1:$AF$38,MATCH('étiquettes individuelles'!U1,'Suivi classe'!$A$1:$A$38,0)+2,MATCH('étiquettes individuelles'!V1,'Suivi classe'!$A$1:$AF$1,0)) -> 0
A5: % de réussite | B5: =(B2-B3-B4)/B2 -> 0.89230769 | D5: % de réussite | E5: =(E2-E3-E4)/E2 -> 0.80769231 | G5: % de réussite | H5: =(H2-H3-H4)/H2 -> 0.72307692 | J5: % de réussite | K5: =(K2-K3-K4)/K2 -> 1 | L5: % de réussite | M5: =(M2-M3-M4)/M2 -> 1 | O5: % de réussite | P5: =(P2-P3-P4)/P2 -> 1 | R5: % de réussite | S5: =(S2-S3-S4)/S2 -> 1 | U5: % de réussite | V5: =(V2-V3-V4)/V2 -> 1
A7: =A1 -> dictée 3 | B7: ='Liste des élèves'!$B6 -> P5 | D7: =A1 -> dictée 3 | E7: ='Liste des élèves'!$B7 -> P6 | G7: =A1 -> dictée 3 | H7: ='Liste des élèves'!$B8 -> P7 | J7: =A1 -> dictée 3 | K7: ='Liste des élèves'!$B9 -> P8 | L7: =A1 -> dictée 3 | M7: ='Liste des élèves'!$B18 -> 0 | O7: =A1 -> dictée 3 | P7: ='Liste des élèves'!$B19 -> 0 | R7: =A1 -> dictée 3 | S7: ='Liste des élèves'!$B20 -> 0 | U7: =A1 -> dictée 3 | V7: ='Liste des élèves'!$B21 -> 0
A8: Nombre de mots | B8: =INDEX('Suivi classe'!$A$1:$AF$38,MATCH('étiquettes individuelles'!A7,'Suivi classe'!$A$1:$A$38,0),MATCH('étiquettes individuelles'!B7,'Suivi classe'!$A$1:$AF$1,0)) -> 130 | D8: Nombre de mots | E8: =INDEX('Suivi classe'!$A$1:$AF$38,MATCH('étiquettes individuelles'!D7,'Suivi classe'!$A$1:$A$38,0),MATCH('étiquettes individuelles'!E7,'Suivi classe'!$A$1:$AF$1,0)) -> 130 | G8: Nombre de mots | H8: =INDEX('Suivi classe'!$A$1:$AF$38,MATCH('étiquettes individuelles'!G7,'Suivi classe'!$A$1:$A$38,0),MATCH('étiquettes individuelles'!H7,'Suivi classe'!$A$1:$AF$1,0)) -> 130 | J8: Nombre de mots | K8: =INDEX('Suivi classe'!$A$1:$AF$38,MATCH('étiquettes individuelles'!J7,'Suivi classe'!$A$1:$A$38,0),MATCH('étiquettes individuelles'!K7,'Suivi classe'!$A$1:$AF$1,0)) -> 130 | L8: Nombre de mots | M8: =INDEX('Suivi classe'!$A$1:$AF$38,MATCH('étiquettes individuelles'!L7,'Suivi classe'!$A$1:$A$38,0),MATCH('étiquettes individuelles'!M7,'Suivi classe'!$A$1:$AF$1,0)) -> 130 | O8: Nombre de mots | P8: =INDEX('Suivi classe'!$A$1:$AF$38,MATCH('étiquettes individuelles'!O7,'Suivi classe'!$A$1:$A$38,0),MATCH('étiquettes individuelles'!P7,'Suivi classe'!$A$1:$AF$1,0)) -> 130 | R8: Nombre de mots | S8: =INDEX('Suivi classe'!$A$1:$AF$38,MATCH('étiquettes individuelles'!R7,'Suivi classe'!$A$1:$A$38,0),MATCH('étiquettes individuelles'!S7,'Suivi classe'!$A$1:$AF$1,0)) -> 130 | U8: Nombre de mots | V8: =INDEX('Suivi classe'!$A$1:$AF$38,MATCH('étiquettes individuelles'!U7,'Suivi classe'!$A$1:$A$38,0),MATCH('étiquettes individuelles'!V7,'Suivi classe'!$A$1:$AF$1,0)) -> 130
A9: Erreurs lexicales | B9: =INDEX('Suivi classe'!$A$1:$AF$38,MATCH('étiquettes individuelles'!A7,'Suivi classe'!$A$1:$A$38,0)+1,MATCH('étiquettes individuelles'!B7,'Suivi classe'!$A$1:$AF$1,0)) -> 0 | D9: Erreurs lexicales | E9: =INDEX('Suivi classe'!$A$1:$AF$38,MATCH('étiquettes individuelles'!D7,'Suivi classe'!$A$1:$A$38,0)+1,MATCH('étiquettes individuelles'!E7,'Suivi classe'!$A$1:$AF$1,0)) -> 0 | G9: Erreurs lexicales | H9: =INDEX('Suivi classe'!$A$1:$AF$38,MATCH('étiquettes individuelles'!G7,'Suivi classe'!$A$1:$A$38,0)+1,MATCH('étiquettes individuelles'!H7,'Suivi classe'!$A$1:$AF$1,0)) -> 0 | J9: Erreurs lexicales | K9: =INDEX('Suivi classe'!$A$1:$AF$38,MATCH('étiquettes individuelles'!J7,'Suivi classe'!$A$1:$A$38,0)+1,MATCH('étiquettes individuelles'!K7,'Suivi classe'!$A$1:$AF$1,0)) -> 0 | L9: Erreurs lexicales | M9: =INDEX('Suivi classe'!$A$1:$AF$38,MATCH('étiquettes individuelles'!L7,'Suivi classe'!$A$1:$A$38,0)+1,MATCH('étiquettes individuelles'!M7,'Suivi classe'!$A$1:$AF$1,0)) -> 0 | O9: Erreurs lexicales | P9: =INDEX('Suivi classe'!$A$1:$AF$38,MATCH('étiquettes individuelles'!O7,'Suivi classe'!$A$1:$A$38,0)+1,MATCH('étiquettes individuelles'!P7,'Suivi classe'!$A$1:$AF$1,0)) -> 0 | R9: Erreurs lexicales | S9: =INDEX('Suivi classe'!$A$1:$AF$38,MATCH('étiquettes individuelles'!R7,'Suivi classe'!$A$1:$A$38,0)+1,MATCH('étiquettes individuelles'!S7,'Suivi classe'!$A$1:$AF$1,0)) -> 0 | U9: Erreurs lexicales | V9: =INDEX('Suivi classe'!$A$1:$AF$38,MATCH('étiquettes individuelles'!U7,'Suivi classe'!$A$1:$A$38,0)+1,MATCH('étiquettes individuelles'!V7,'Suivi classe'!$A$1:$AF$1,0)) -> 0
A10: Erreurs grammaticales | B10: =INDEX('Suivi classe'!$A$1:$AF$38,MATCH('étiquettes individuelles'!A7,'Suivi classe'!$A$1:$A$38,0)+2,MATCH('étiquettes individuelles'!B7,'Suivi classe'!$A$1:$AF$1,0)) -> 0 | D10: Erreurs grammaticales | E10: =INDEX('Suivi classe'!$A$1:$AF$38,MATCH('étiquettes individuelles'!D7,'Suivi classe'!$A$1:$A$38,0)+2,MATCH('étiquettes individuelles'!E7,'Suivi classe'!$A$1:$AF$1,0)) -> 0 | G10: Erreurs grammaticales | H10: =INDEX('Suivi classe'!$A$1:$AF$38,MATCH('étiquettes individuelles'!G7,'Suivi classe'!$A$1:$A$38,0)+2,MATCH('étiquettes individuelles'!H7,'Suivi classe'!$A$1:$AF$1,0)) -> 0 | J10: Erreurs grammaticales | K10: =INDEX('Suivi classe'!$A$1:$AF$38,MATCH('étiquettes individuelles'!J7,'Suivi classe'!$A$1:$A$38,0)+2,MATCH('étiquettes individuelles'!K7,'Suivi classe'!$A$1:$AF$1,0)) -> 0 | L10: Erreurs grammaticales | M10: =INDEX('Suivi classe'!$A$1:$AF$38,MATCH('étiquettes individuelles'!L7,'Suivi classe'!$A$1:$A$38,0)+2,MATCH('étiquettes individuelles'!M7,'Suivi classe'!$A$1:$AF$1,0)) -> 0 | O10: Erreurs grammaticales | P10: =INDEX('Suivi classe'!$A$1:$AF$38,MATCH('étiquettes individuelles'!O7,'Suivi classe'!$A$1:$A$38,0)+2,MATCH('étiquettes individuelles'!P7,'Suivi classe'!$A$1:$AF$1,0)) -> 0 | R10: Erreurs grammaticales | S10: =INDEX('Suivi classe'!$A$1:$AF$38,MATCH('étiquettes individuelles'!R7,'Suivi classe'!$A$1:$A$38,0)+2,MATCH('étiquettes individuelles'!S7,'Suivi classe'!$A$1:$AF$1,0)) -> 0 | U10: Erreurs grammaticales | V10: =INDEX('Suivi classe'!$A$1:$AF$38,MATCH('étiquettes individuelles'!U7,'Suivi classe'!$A$1:$A$38,0)+2,MATCH('étiquettes individuelles'!V7,'Suivi classe'!$A$1:$AF$1,0)) -> 0
A11: % de réussite | B11: =(B8-B9-B10)/B8 -> 1 | D11: % de réussite | E11: =(E8-E9-E10)/E8 -> 1 | G11: % de réussite | H11: =(H8-H9-H10)/H8 -> 1 | J11: % de réussite | K11: =(K8-K9-K10)/K8 -> 1 | L11: % de réussite | M11: =(M8-M9-M10)/M8 -> 1 | O11: % de réussite | P11: =(P8-P9-P10)/P8 -> 1 | R11: % de réussite | S11: =(S8-S9-S10)/S8 -> 1 | U11: % de réussite | V11: =(V8-V9-V10)/V8 -> 1
A13: =A1 -> dictée 3 | B13: ='Liste des élèves'!$B10 -> P9 | D13: =A1 -> dictée 3 | E13: ='Liste des élèves'!$B11 -> P10 | G13: =A1 -> dictée 3 | H13: ='Liste des élèves'!$B12 -> 0 | J13: =A1 -> dictée 3 | K13: ='Liste des élèves'!$B13 -> 0 | L13: =A1 -> dictée 3 | M13: ='Liste des élèves'!$B22 -> 0 | O13: =A1 -> dictée 3 | P13: ='Liste des élèves'!$B23 -> 0 | R13: =A1 -> dictée 3 | S13: ='Liste des élèves'!$B24 -> 0 | U13: =A1 -> dictée 3 | V13: ='Liste des élèves'!$B25 -> 0
A14: Nombre de mots | B14: =INDEX('Suivi classe'!$A$1:$AF$38,MATCH('étiquettes individuelles'!A13,'Suivi classe'!$A$1:$A$38,0),MATCH('étiquettes individuelles'!B13,'Suivi classe'!$A$1:$AF$1,0)) -> 130 | D14: Nombre de mots | E14: =INDEX('Suivi classe'!$A$1:$AF$38,MATCH('étiquettes individuelles'!D13,'Suivi classe'!$A$1:$A$38,0),MATCH('étiquettes individuelles'!E13,'Suivi classe'!$A$1:$AF$1,0)) -> 130 | G14: Nombre de mots | H14: =INDEX('Suivi classe'!$A$1:$AF$38,MATCH('étiquettes individuelles'!G13,'Suivi classe'!$A$1:$A$38,0),MATCH('étiquettes individuelles'!H13,'Suivi classe'!$A$1:$AF$1,0)) -> 130 | J14: Nombre de mots | K14: =INDEX('Suivi classe'!$A$1:$AF$38,MATCH('étiquettes individuelles'!J13,'Suivi classe'!$A$1:$A$38,0),MATCH('étiquettes individuelles'!K13,'Suivi classe'!$A$1:$AF$1,0)) -> 130 | L14: Nombre de mots | M14: =INDEX('Suivi classe'!$A$1:$AF$38,MATCH('étiquettes individuelles'!L13,'Suivi classe'!$A$1:$A$38,0),MATCH('étiquettes individuelles'!M13,'Suivi classe'!$A$1:$AF$1,0)) -> 130 | O14: Nombre de mots | P14: =INDEX('Suivi classe'!$A$1:$AF$38,MATCH('étiquettes individuelles'!O13,'Suivi classe'!$A$1:$A$38,0),MATCH('étiquettes individuelles'!P13,'Suivi classe'!$A$1:$AF$1,0)) -> 130 | R14: Nombre de mots | S14: =INDEX('Suivi classe'!$A$1:$AF$38,MATCH('étiquettes individuelles'!R13,'Suivi classe'!$A$1:$A$38,0),MATCH('étiquettes individuelles'!S13,'Suivi classe'!$A$1:$AF$1,0)) -> 130 | U14: Nombre de mots | V14: =INDEX('Suivi classe'!$A$1:$AF$38,MATCH('étiquettes individuelles'!U13,'Suivi classe'!$A$1:$A$38,0),MATCH('étiquettes individuelles'!V13,'Suivi classe'!$A$1:$AF$1,0)) -> 130
A15: Erreurs lexicales | B15: =INDEX('Suivi classe'!$A$1:$AF$38,MATCH('étiquettes individuelles'!A13,'Suivi classe'!$A$1:$A$38,0)+1,MATCH('étiquettes individuelles'!B13,'Suivi classe'!$A$1:$AF$1,0)) -> 0 | D15: Erreurs lexicales | E15: =INDEX('Suivi classe'!$A$1:$AF$38,MATCH('étiquettes individuelles'!D13,'Suivi classe'!$A$1:$A$38,0)+1,MATCH('étiquettes individuelles'!E13,'Suivi classe'!$A$1:$AF$1,0)) -> 103 | G15: Erreurs lexicales | H15: =INDEX('Suivi classe'!$A$1:$AF$38,MATCH('étiquettes individuelles'!G13,'Suivi classe'!$A$1:$A$38,0)+1,MATCH('étiquettes individuelles'!H13,'Suivi classe'!$A$1:$AF$1,0)) -> 0 | J15: Erreurs lexicales | K15: =INDEX('Suivi classe'!$A$1:$AF$38,MATCH('étiquettes individuelles'!J13,'Suivi classe'!$A$1:$A$38,0)+1,MATCH('étiquettes individuelles'!K13,'Suivi classe'!$A$1:$AF$1,0)) -> 0 | L15: Erreurs lexicales | M15: =INDEX('Suivi classe'!$A$1:$AF$38,MATCH('étiquettes individuelles'!L13,'Suivi classe'!$A$1:$A$38,0)+1,MATCH('étiquettes individuelles'!M13,'Suivi classe'!$A$1:$AF$1,0)) -> 0 | O15: Erreurs lexicales | P15: =INDEX('Suivi classe'!$A$1:$AF$38,MATCH('étiquettes individuelles'!O13,'Suivi classe'!$A$1:$A$38,0)+1,MATCH('étiquettes individuelles'!P13,'Suivi classe'!$A$1:$AF$1,0)) -> 0 | R15: Erreurs lexicales | S15: =INDEX('Suivi classe'!$A$1:$AF$38,MATCH('étiquettes individuelles'!R13,'Suivi classe'!$A$1:$A$38,0)+1,MATCH('étiquettes individuelles'!S13,'Suivi classe'!$A$1:$AF$1,0)) -> 0 | U15: Erreurs lexicales | V15: =INDEX('Suivi classe'!$A$1:$AF$38,MATCH('étiquettes individuelles'!U13,'Suivi classe'!$A$1:$A$38,0)+1,MATCH('étiquettes individuelles'!V13,'Suivi classe'!$A$1:$AF$1,0)) -> 0
A16: Erreurs grammaticales | B16: =INDEX('Suivi classe'!$A$1:$AF$38,MATCH('étiquettes individuelles'!A13,'Suivi classe'!$A$1:$A$38,0)+2,MATCH('étiquettes individuelles'!B13,'Suivi classe'!$A$1:$AF$1,0)) -> 0 | D16: Erreurs grammaticales | E16: =INDEX('Suivi classe'!$A$1:$AF$38,MATCH('étiquettes individuelles'!D13,'Suivi classe'!$A$1:$A$38,0)+2,MATCH('étiquettes individuelles'!E13,'Suivi classe'!$A$1:$AF$1,0)) -> 10 | G16: Erreurs grammaticales | H16: =INDEX('Suivi classe'!$A$1:$AF$38,MATCH('étiquettes individuelles'!G13,'Suivi classe'!$A$1:$A$38,0)+2,MATCH('étiquettes individuelles'!H13,'Suivi classe'!$A$1:$AF$1,0)) -> 0 | J16: Erreurs grammaticales | K16: =INDEX('Suivi classe'!$A$1:$AF$38,MATCH('étiquettes individuelles'!J13,'Suivi classe'!$A$1:$A$38,0)+2,MATCH('étiquettes individuelles'!K13,'Suivi classe'!$A$1:$AF$1,0)) -> 0 | L16: Erreurs grammaticales | M16: =INDEX('Suivi classe'!$A$1:$AF$38,MATCH('étiquettes individuelles'!L13,'Suivi classe'!$A$1:$A$38,0)+2,MATCH('étiquettes individuelles'!M13,'Suivi classe'!$A$1:$AF$1,0)) -> 0 | O16: Erreurs grammaticales | P16: =INDEX('Suivi classe'!$A$1:$AF$38,MATCH('étiquettes individuelles'!O13,'Suivi classe'!$A$1:$A$38,0)+2,MATCH('étiquettes individuelles'!P13,'Suivi classe'!$A$1:$AF$1,0)) -> 0 | R16: Erreurs grammaticales | S16: =INDEX('Suivi classe'!$A$1:$AF$38,MATCH('étiquettes individuelles'!R13,'Suivi classe'!$A$1:$A$38,0)+2,MATCH('étiquettes individuelles'!S13,'Suivi classe'!$A$1:$AF$1,0)) -> 0 | U16: Erreurs grammaticales | V16: =INDEX('Suivi classe'!$A$1:$AF$38,MATCH('étiquettes individuelles'!U13,'Suivi classe'!$A$1:$A$38,0)+2,MATCH('étiquettes individuelles'!V13,'Suivi classe'!$A$1:$AF$1,0)) -> 0
A17: % de réussite | B17: =(B14-B15-B16)/B14 -> 1 | D17: % de réussite | E17: =(E14-E15-E16)/E14 -> 0.13076923 | G17: % de réussite | H17: =(H14-H15-H16)/H14 -> 1 | J17: % de réussite | K17: =(K14-K15-K16)/K14 -> 1 | L17: % de réussite | M17: =(M14-M15-M16)/M14 -> 1 | O17: % de réussite | P17: =(P14-P15-P16)/P14 -> 1 | R17: % de réussite | S17: =(S14-S15-S16)/S14 -> 1 | U17: % de réussite | V17: =(V14-V15-V16)/V14 -> 1
A23: =A1 -> dictée 3 | B23: ='Liste des élèves'!$B26 -> 0 | D23: =A1 -> dictée 3 | E23: ='Liste des élèves'!$B27 -> 0 | G23: =A1 -> dictée 3 | H23: ='Liste des élèves'!$B28 -> 0 | J23: =A1 -> dictée 3 | K23: ='Liste des élèves'!$B29 -> 0
A24: Nombre de mots | D24: Nombre de mots | G24: Nombre de mots | J24: Nombre de mots
A25: Erreurs lexicales | D25: Erreurs lexicales | G25: Erreurs lexicales | J25: Erreurs lexicales
A26: Erreurs grammaticales | D26: Erreurs grammaticales | G26: Erreurs grammaticales | J26: Erreurs grammaticales
A27: % de réussite | B27: =(B24-B25-B26)/B24 -> #DIV/0! | D27: % de réussite | E27: =(E24-E25-E26)/E24 -> #DIV/0! | G27: % de réussite | H27: =(H24-H25-H26)/H24 -> #DIV/0! | J27: % de réussite | K27: =(K24-K25-K26)/K24 -> #DIV/0!
A29: =A1 -> dictée 3 | B29: ='Liste des élèves'!$B30 -> 0 | D29: =A1 -> dictée 3 | E29: ='Liste des élèves'!$B31 -> 0 | G29: =A1 -> dictée 3 | H29: ='Liste des élèves'!$B32 -> 0 | J29: =A1 -> dictée 3 | K29: ='Liste des élèves'!$B33 -> 0
A30: Nombre de mots | D30: Nombre de mots | G30: Nombre de mots | J30: Nombre de mots
A31: Erreurs lexicales | D31: Erreurs lexicales | G31: Erreurs lexicales | J31: Erreurs lexicales
A32: Erreurs grammaticales | D32: Erreurs grammaticales | G32: Erreurs grammaticales | J32: Erreurs grammaticales
A33: % de réussite | B33: =(B30-B31-B32)/B30 -> #DIV/0! | D33: % de réussite | G33: % de réussite | J33: % de réussite
A35: =A1 -> dictée 3 | B35: ='Liste des élèves'!$B34 -> 0 | D35: =A1 -> dictée 3 | E35: ='Liste des élèves'!$B35 -> 0 | G35: =A1 -> dictée 3 | H35: ='Liste des élèves'!$B36 -> 0 | J35: =A1 -> dictée 3 | K35: ='Liste des élèves'!$B37 -> 0
A36: Nombre de mots | D36: Nombre de mots | G36: Nombre de mots | J36: Nombre de mots
A37: Erreurs lexicales | D37: Erreurs lexicales | G37: Erreurs lexicales | J37: Erreurs lexicales
A38: Erreurs grammaticales | D38: Erreurs grammaticales | G38: Erreurs grammaticales | J38: Erreurs grammaticales
A39: % de réussite | B39: =(B36-B37-B38)/B36 -> #DIV/0! | D39: % de réussite | E39: =(E36-E37-E38)/E36 -> #DIV/0! | G39: % de réussite | H39: =(H36-H37-H38)/H36 -> #DIV/0! | J39: % de réussite | K39: =(K36-K37-K38)/K36 -> #DIV/0!

Sheet Suivi classe
A1: dictée n° | B1: Prénom | C1: ='Liste des élèves'!B2 -> P1 | D1: ='Liste des élèves'!B3 -> P2 | E1: ='Liste des élèves'!B4 -> P3 | F1: ='Liste des élèves'!B5 -> P4 | G1: ='Liste des élèves'!B6 -> P5 | H1: ='Liste des élèves'!B7 -> P6 | I1: ='Liste des élèves'!B8 -> P7 | J1: ='Liste des élèves'!B9 -> P8 | K1: ='Liste des élèves'!B10 -> P9 | L1: ='Liste des élèves'!B11 -> P10 | M1: ='Liste des élèves'!B12 -> 0 | N1: ='Liste des élèves'!B13 -> 0 | O1: ='Liste des élèves'!B14 -> 0 | P1: ='Liste des élèves'!B15 -> 0 | Q1: ='Liste des élèves'!B16 -> 0 | R1: ='Liste des élèves'!B17 -> 0 | S1: ='Liste des élèves'!B18 -> 0 | T1: ='Liste des élèves'!B19 -> 0 | U1: ='Liste des élèves'!B20 -> 0 | V1: ='Liste des élèves'!B21 -> 0 | W1: ='Liste des élèves'!B22 -> 0 | X1: ='Liste des élèves'!B23 -> 0 | Y1: ='Liste des élèves'!B24 -> 0 | Z1: ='Liste des élèves'!B25 -> 0 | AA1: ='Liste des élèves'!B26 -> 0 | AB1: ='Liste des élèves'!B27 -> 0 | AC1: ='Liste des élèves'!B28 -> 0 | AD1: ='Liste des élèves'!B29 -> 0 | AE1: ='Liste des élèves'!B30 -> 0 | AF1: ='Liste des élèves'!B31 -> 0
B2: Nom | C2: ='Liste des élèves'!C2 -> N1 | D2: ='Liste des élèves'!C3 -> N2 | E2: ='Liste des élèves'!C4 -> N3 | F2: ='Liste des élèves'!C5 -> N4 | G2: ='Liste des élèves'!C6 -> N5 | H2: ='Liste des élèves'!C7 -> N6 | I2: ='Liste des élèves'!C8 -> N7 | J2: ='Liste des élèves'!C9 -> N8 | K2: ='Liste des élèves'!C10 -> N9 | L2: ='Liste des élèves'!C11 -> N10 | M2: ='Liste des élèves'!C12 -> 0 | N2: ='Liste des élèves'!C13 -> 0 | O2: ='Liste des élèves'!C14 -> 0 | P2: ='Liste des élèves'!C15 -> 0 | Q2: ='Liste des élèves'!C16 -> 0 | R2: ='Liste des élèves'!C17 -> 0 | S2: ='Liste des élèves'!C18 -> 0 | T2: ='Liste des élèves'!C19 -> 0 | U2: ='Liste des élèves'!C20 -> 0 | V2: ='Liste des élèves'!C21 -> 0 | W2: ='Liste des élèves'!C22 -> 0 | X2: ='Liste des élèves'!C23 -> 0 | Y2: ='Liste des élèves'!C24 -> 0 | Z2: ='Liste des élèves'!C25 -> 0 | AA2: ='Liste des élèves'!C26 -> 0 | AB2: ='Liste des élèves'!C27 -> 0 | AC2: ='Liste des élèves'!C28 -> 0 | AD2: ='Liste des élèves'!C29 -> 0 | AE2: ='Liste des élèves'!C30 -> 0 | AF2: ='Liste des élèves'!C31 -> 0
A3: dictée 1 | B3: Mots | C3: 110 | D3: =$C3 -> 110 | E3: =$C3 -> 110 | F3: =$C3 -> 110 | G3: =$C3 -> 110 | H3: =$C3 -> 110 | I3: =$C3 -> 110 | J3: =$C3 -> 110 | K3: =$C3 -> 110 | ... AF3: =$C3 -> 110
B4: lex. | C4: 11 | D4: 21 | E4: 31
B5: gram. | C5: 1 | D5: 2 | E5: 3
B6: % | C6: =(C3-C4-C5)/C3 -> 0.89090909 | D6: =(D3-D4-D5)/D3 -> 0.79090909 | E6: =(E3-E4-E5)/E3 -> 0.69090909 | F6: =(F3-F4-F5)/F3 -> 1 | G6: =(G3-G4-G5)/G3 -> 1 | H6: =(H3-H4-H5)/H3 -> 1 | I6: =(I3-I4-I5)/I3 -> 1 | J6: =(J3-J4-J5)/J3 -> 1 | ... AF6: =(AF3-AF4-AF5)/AF3 -> 1
A7: dictée 2 | B7: Mots | C7: 120 | D7: =$C7 -> 120 | E7: =$C7 -> 120 | F7: =$C7 -> 120 | G7: =$C7 -> 120 | H7: =$C7 -> 120 | I7: =$C7 -> 120 | J7: =$C7 -> 120 | K7: =$C7 -> 120 | ... AF7: =$C7 -> 120
B8: lex. | C8: 12 | D8: 22 | E8: 32
B9: gram. | C9: 1 | D9: 2 | E9: 3
B10: % | C10: =(C7-C8-C9)/C7 -> 0.89166667 | D10: =(D7-D8-D9)/D7 -> 0.8 | E10: =(E7-E8-E9)/E7 -> 0.70833333 | F10: =(F7-F8-F9)/F7 -> 1 | G10: =(G7-G8-G9)/G7 -> 1 | H10: =(H7-H8-H9)/H7 -> 1 | I10: =(I7-I8-I9)/I7 -> 1 | J10: =(J7-J8-J9)/J7 -> 1 | ... AF10: =(AF7-AF8-AF9)/AF7 -> 1
A11: dictée 3 | B11: Mots | C11: 130 | D11: =$C11 -> 130 | E11: =$C11 -> 130 | F11: =$C11 -> 130 | G11: =$C11 -> 130 | H11: =$C11 -> 130 | I11: =$C11 -> 130 | J11: =$C11 -> 130 | K11: =$C11 -> 130 | ... AF11: =$C11 -> 130
B12: lex. | C12: 13 | D12: 23 | E12: 33 | L12: 103
B13: gram. | C13: 1 | D13: 2 | E13: 3 | L13: 10
B14: % | C14: =(C11-C12-C13)/C11 -> 0.89230769 | D14: =(D11-D12-D13)/D11 -> 0.80769231 | E14: =(E11-E12-E13)/E11 -> 0.72307692 | F14: =(F11-F12-F13)/F11 -> 1 | G14: =(G11-G12-G13)/G11 -> 1 | H14: =(H11-H12-H13)/H11 -> 1 | I14: =(I11-I12-I13)/I11 -> 1 | J14: =(J11-J12-J13)/J11 -> 1 | ... AF14: =(AF11-AF12-AF13)/AF11 -> 1
A15: dictée 4 | B15: Mots | D15: =$C15 -> 0 | E15: =$C15 -> 0 | F15: =$C15 -> 0 | G15: =$C15 -> 0 | H15: =$C15 -> 0 | I15: =$C15 -> 0 | J15: =$C15 -> 0 | K15: =$C15 -> 0 | ... AF15: =$C15 -> 0
B16: lex.
B17: gram.
B18: % | C18: =(C15-C16-C17)/C15 -> #DIV/0! | D18: =(D15-D16-D17)/D15 -> #DIV/0! | E18: =(E15-E16-E17)/E15 -> #DIV/0! | F18: =(F15-F16-F17)/F15 -> #DIV/0! | G18: =(G15-G16-G17)/G15 -> #DIV/0! | H18: =(H15-H16-H17)/H15 -> #DIV/0! | I18: =(I15-I16-I17)/I15 -> #DIV/0! | J18: =(J15-J16-J17)/J15 -> #DIV/0! | ... AF18: =(AF15-AF16-AF17)/AF15 -> #DIV/0!
A19: dictée 5 | B19: Mots | D19: =$C19 -> 0 | E19: =$C19 -> 0 | F19: =$C19 -> 0 | G19: =$C19 -> 0 | H19: =$C19 -> 0 | I19: =$C19 -> 0 | J19: =$C19 -> 0 | K19: =$C19 -> 0 | ... AF19: =$C19 -> 0
B20: lex.
B21: gram.
B22: % | C22: =(C19-C20-C21)/C19 -> #DIV/0! | D22: =(D19-D20-D21)/D19 -> #DIV/0! | E22: =(E19-E20-E21)/E19 -> #DIV/0! | F22: =(F19-F20-F21)/F19 -> #DIV/0! | G22: =(G19-G20-G21)/G19 -> #DIV/0! | H22: =(H19-H20-H21)/H19 -> #DIV/0! | I22: =(I19-I20-I21)/I19 -> #DIV/0! | J22: =(J19-J20-J21)/J19 -> #DIV/0! | ... AF22: =(AF19-AF20-AF21)/AF19 -> #DIV/0!
A23: dictée 6 | B23: Mots | D23: =$C23 -> 0 | E23: =$C23 -> 0 | F23: =$C23 -> 0 | G23: =$C23 -> 0 | H23: =$C23 -> 0 | I23: =$C23 -> 0 | J23: =$C23 -> 0 | K23: =$C23 -> 0 | ... AF23: =$C23 -> 0
B24: lex.
B25: gram.
B26: % | C26: =(C23-C24-C25)/C23 -> #DIV/0! | D26: =(D23-D24-D25)/D23 -> #DIV/0! | E26: =(E23-E24-E25)/E23 -> #DIV/0! | F26: =(F23-F24-F25)/F23 -> #DIV/0! | G26: =(G23-G24-G25)/G23 -> #DIV/0! | H26: =(H23-H24-H25)/H23 -> #DIV/0! | I26: =(I23-I24-I25)/I23 -> #DIV/0! | J26: =(J23-J24-J25)/J23 -> #DIV/0! | ... AF26: =(AF23-AF24-AF25)/AF23 -> #DIV/0!
A27: dictée 7 | B27: Mots | D27: =$C27 -> 0 | E27: =$C27 -> 0 | F27: =$C27 -> 0 | G27: =$C27 -> 0 | H27: =$C27 -> 0 | I27: =$C27 -> 0 | J27: =$C27 -> 0 | K27: =$C27 -> 0 | ... AF27: =$C27 -> 0
B28: lex.
B29: gram.
B30: % | C30: =(C27-C28-C29)/C27 -> #DIV/0! | D30: =(D27-D28-D29)/D27 -> #DIV/0! | E30: =(E27-E28-E29)/E27 -> #DIV/0! | F30: =(F27-F28-F29)/F27 -> #DIV/0! | G30: =(G27-G28-G29)/G27 -> #DIV/0! | H30: =(H27-H28-H29)/H27 -> #DIV/0! | I30: =(I27-I28-I29)/I27 -> #DIV/0! | J30: =(J27-J28-J29)/J27 -> #DIV/0! | ... AF30: =(AF27-AF28-AF29)/AF27 -> #DIV/0!
A31: dictée 8 | B31: Mots | D31: =$C31 -> 0 | E31: =$C31 -> 0 | F31: =$C31 -> 0 | G31: =$C31 -> 0 | H31: =$C31 -> 0 | I31: =$C31 -> 0 | J31: =$C31 -> 0 | K31: =$C31 -> 0 | ... AF31: =$C31 -> 0
B32: lex.
B33: gram.
B34: % | C34: =(C31-C32-C33)/C31 -> #DIV/0! | D34: =(D31-D32-D33)/D31 -> #DIV/0! | E34: =(E31-E32-E33)/E31 -> #DIV/0! | F34: =(F31-F32-F33)/F31 -> #DIV/0! | G34: =(G31-G32-G33)/G31 -> #DIV/0! | H34: =(H31-H32-H33)/H31 -> #DIV/0! | I34: =(I31-I32-I33)/I31 -> #DIV/0! | J34: =(J31-J32-J33)/J31 -> #DIV/0! | ... AF34: =(AF31-AF32-AF33)/AF31 -> #DIV/0!
A35: dictée 9 | B35: Mots | D35: =$C35 -> 0 | E35: =$C35 -> 0 | F35: =$C35 -> 0 | G35: =$C35 -> 0 | H35: =$C35 -> 0 | I35: =$C35 -> 0 | J35: =$C35 -> 0 | K35: =$C35 -> 0 | ... AF35: =$C35 -> 0
B36: lex.
B37: gram.
B38: % | C38: =(C35-C36-C37)/C35 -> #DIV/0! | D38: =(D35-D36-D37)/D35 -> #DIV/0! | E38: =(E35-E36-E37)/E35 -> #DIV/0! | F38: =(F35-F36-F37)/F35 -> #DIV/0! | G38: =(G35-G36-G37)/G35 -> #DIV/0! | H38: =(H35-H36-H37)/H35 -> #DIV/0! | I38: =(I35-I36-I37)/I35 -> #DIV/0! | J38: =(J35-J36-J37)/J35 -> #DIV/0! | ... AF38: =(AF35-AF36-AF37)/AF35 -> #DIV/0!
