Workbook

Sheet Lundi
B1: Classe B | C1: Restaurant | D1: Self | E1: Espace vert | F1: At. Polyvalent | G1: Cadre de vie | H1: Horti | I1: Classe D | J1: Espace Ressource
A2: Matin | B2: Pierre | C2: Alain | D2: Martin
B3: Paul | C3: Rose | D3: Virginie
B4: Jacques | C4: Léon | D4: Damien
B5: Amandine | C5: Benoit | D5: Louis
A17: Après midi | B17: Alain | C17: Martin | D17: Pierre
B18: Rose | C18: Virginie | D18: Paul
B19: Léon | C19: Damien | D19: Jacques
B20: Benoit | C20: Louis | D20: Amandine

Sheet Mardi
B1: Classe B | C1: Restaurant | D1: Self | E1: Espace vert | F1: At. Polyvalent | G1: Cadre de vie | H1: Horti | I1: Classe D | J1: Espace Ressource
A2: Matin | B2: Martin | C2: Pierre | D2: Alain
B3: Virginie | C3: Paul | D3: Rose
B4: Damien | C4: Jacques | D4: Léon
B5: Louis | C5: Amandine | D5: Benoit
A17: Après midi | B17: Alain | C17: Martin | D17: Pierre
B18: Rose | C18: Virginie | D18: Paul
B19: Léon | C19: Damien | D19: Jacques
B20: Benoit | C20: Louis | D20: Amandine

Sheet Mercredi
B1: Classe B | C1: Restaurant | D1: Self | E1: Espace vert | F1: At. Polyvalent | G1: Cadre de vie | H1: Horti | I1: Classe D | J1: Espace Ressource
A2: Matin | E2: Pierre | F2: Alain | G2: Martin
E3: Paul | F3: Rose | G3: Virginie
E4: Jacques | F4: Léon | G4: Damien
E5: Amandine | F5: Benoit | G5: Louis

Sheet Jeudi
B1: Classe B | C1: Restaurant | D1: Self | E1: Espace vert | F1: At. Polyvalent | G1: Cadre de vie | H1: Horti | I1: Classe D | J1: Espace Ressource
A2: Matin | H2: Pierre | I2: Alain | J2: Martin
H3: Paul | I3: Rose | J3: Virginie
H4: Jacques | I4: Léon | J4: Damien
H5: Amandine | I5: Benoit | J5: Louis
A17: Après midi | D17: Alain | E17: Martin | F17: Pierre
D18: Rose | E18: Virginie | F18: Paul
D19: Léon | E19: Damien | F19: Jacques
D20: Benoit | E20: Louis | F20: Amandine

Sheet Vendredi
B1: Classe B | C1: Restaurant | D1: Self | E1: Espace vert | F1: At. Polyvalent | G1: Cadre de vie | H1: Horti | I1: Classe D | J1: Espace Ressource
A2: Matin | D2: Alain | E2: Martin | F2: Pierre
D3: Rose | E3: Virginie | F3: Paul
D4: Léon | E4: Damien | F4: Jacques
D5: Benoit | E5: Louis | F5: Amandine
A17: Après midi | C17: Alain | D17: Martin | E17: Pierre
C18: Rose | D18: Virginie | E18: Paul
C19: Léon | D19: Damien | E19: Jacques
C20: Benoit | D20: Louis | E20: Amandine

Sheet Planning des jeunes
C1: Lundi | D1: Mardi | E1: Mercredi | F1: Jeudi | G1: Vendredi | I1: Lundi | R1: Mardi | AA1: Mercredi | AJ1: Jeudi | AS1: Vendredi
I2: Classe B | J2: Restaurant | K2: Self | L2: Espace vert | M2: At. Polyvalent | N2: Cadre de vie | O2: Horti | P2: Classe D | Q2: Espace Ressource | R2: Classe B | S2: Restaurant | T2: Self | U2: Espace vert | V2: At. Polyvalent | W2: Cadre de vie | X2: Horti | Y2: Classe D | Z2: Espace Ressource | AA2: Classe B | AB2: Restaurant | AC2: Self | AD2: Espace vert | AE2: At. Polyvalent | AF2: Cadre de vie | AG2: Horti | AH2: Classe D | AI2: Espace Ressource | AJ2: Classe B | AK2: Restaurant | AL2: Self | AM2: Espace vert | AN2: At. Polyvalent | AO2: Cadre de vie | AP2: Horti | AQ2: Classe D | AR2: Espace Ressource | AS2: Classe B | AT2: Restaurant | AU2: Self | AV2: Espace vert | AW2: At. Polyvalent | AX2: Cadre de vie | AY2: Horti | AZ2: Classe D | BA2: Espace Ressource
A3: Pierre | B3: Matin | C3: =I3&J3&K3&L3&M3&N3&O3&P3&Q3 -> Classe B | D3: =R3&S3&T3&U3&V3&W3&X3&Y3&Z3 -> Restaurant | E3: =AA3&AB3&AC3&AD3&AE3&AF3&AG3&AH3&AI3 -> Espace vert | F3: =AJ3&AK3&AL3&AM3&AN3&AO3&AP3&AQ3&AR3 -> Horti | G3: =AS3&AT3&AU3&AV3&AW3&AX3&AY3&AZ3&BA3 -> At. Polyvalent | I3: =IF(Lundi!B$2=$A3,Lundi!B$1,IF(Lundi!B$3=$A3,Lundi!B$1,IF(Lundi!B$4=$A3,Lundi!B$1,IF(Lundi!B$5=$A3,Lundi!B$1,IF(Lundi!B$6=$A3,Lundi!B$1,IF(Lundi!B$7=$A3,Lundi!B$1,IF(Lundi!B$8=$A3,Lundi!B$1,IF(Lundi!B$9=$A3,Lundi!B$1,IF(Lundi!B$10=$A3,Lundi!B$1,IF(Lundi!B$11=$A3,Lundi!B$1,IF(Lundi!B$12=$A3,Lundi!B$1,IF(Lundi!B$13=$A3,Lundi!B$1,IF(Lundi!B$14=$A3,Lundi!B$1,IF(Lundi!B$15=$A3,Lundi!B$1,"")))))))))))))) -> Classe B | J3: =IF(Lundi!C$2=$A3,Lundi!C$1,IF(Lundi!C$3=$A3,Lundi!C$1,IF(Lundi!C$4=$A3,Lundi!C$1,IF(Lundi!C$5=$A3,Lundi!C$1,IF(Lundi!C$6=$A3,Lundi!C$1,IF(Lundi!C$7=$A3,Lundi!C$1,IF(Lundi!C$8=$A3,Lundi!C$1,IF(Lundi!C$9=$A3,Lundi!C$1,IF(Lundi!C$10=$A3,Lundi!C$1,IF(Lundi!C$11=$A3,Lundi!C$1,IF(Lundi!C$12=$A3,Lundi!C$1,IF(Lundi!C$13=$A3,Lundi!C$1,IF(Lundi!C$14=$A3,Lundi!C$1,IF(Lundi!C$15=$A3,Lundi!C$1,"")))))))))))))) | K3: =IF(Lundi!D$2=$A3,Lundi!D$1,IF(Lundi!D$3=$A3,Lundi!D$1,IF(Lundi!D$4=$A3,Lundi!D$1,IF(Lundi!D$5=$A3,Lundi!D$1,IF(Lundi!D$6=$A3,Lundi!D$1,IF(Lundi!D$7=$A3,Lundi!D$1,IF(Lundi!D$8=$A3,Lundi!D$1,IF(Lundi!D$9=$A3,Lundi!D$1,IF(Lundi!D$10=$A3,Lundi!D$1,IF(Lundi!D$11=$A3,Lundi!D$1,IF(Lundi!D$12=$A3,Lundi!D$1,IF(Lundi!D$13=$A3,Lundi!D$1,IF(Lundi!D$14=$A3,Lundi!D$1,IF(Lundi!D$15=$A3,Lundi!D$1,"")))))))))))))) | L3: =IF(Lundi!E$2=$A3,Lundi!E$1,IF(Lundi!E$3=$A3,Lundi!E$1,IF(Lundi!E$4=$A3,Lundi!E$1,IF(Lundi!E$5=$A3,Lundi!E$1,IF(Lundi!E$6=$A3,Lundi!E$1,IF(Lundi!E$7=$A3,Lundi!E$1,IF(Lundi!E$8=$A3,Lundi!E$1,IF(Lundi!E$9=$A3,Lundi!E$1,IF(Lundi!E$10=$A3,Lundi!E$1,IF(Lundi!E$11=$A3,Lundi!E$1,IF(Lundi!E$12=$A3,Lundi!E$1,IF(Lundi!E$13=$A3,Lundi!E$1,IF(Lundi!E$14=$A3,Lundi!E$1,IF(Lundi!E$15=$A3,Lundi!E$1,"")))))))))))))) | M3: =IF(Lundi!F$2=$A3,Lundi!F$1,IF(Lundi!F$3=$A3,Lundi!F$1,IF(Lundi!F$4=$A3,Lundi!F$1,IF(Lundi!F$5=$A3,Lundi!F$1,IF(Lundi!F$6=$A3,Lundi!F$1,IF(Lundi!F$7=$A3,Lundi!F$1,IF(Lundi!F$8=$A3,Lundi!F$1,IF(Lundi!F$9=$A3,Lundi!F$1,IF(Lundi!F$10=$A3,Lundi!F$1,IF(Lundi!F$11=$A3,Lundi!F$1,IF(Lundi!F$12=$A3,Lundi!F$1,IF(Lundi!F$13=$A3,Lundi!F$1,IF(Lundi!F$14=$A3,Lundi!F$1,IF(Lundi!F$15=$A3,Lundi!F$1,"")))))))))))))) | N3: =IF(Lundi!G$2=$A3,Lundi!G$1,IF(Lundi!G$3=$A3,Lundi!G$1,IF(Lundi!G$4=$A3,Lundi!G$1,IF(Lundi!G$5=$A3,Lundi!G$1,IF(Lundi!G$6=$A3,Lundi!G$1,IF(Lundi!G$7=$A3,Lundi!G$1,IF(Lundi!G$8=$A3,Lundi!G$1,IF(Lundi!G$9=$A3,Lundi!G$1,IF(Lundi!G$10=$A3,Lundi!G$1,IF(Lundi!G$11=$A3,Lundi!G$1,IF(Lundi!G$12=$A3,Lundi!G$1,IF(Lundi!G$13=$A3,Lundi!G$1,IF(Lundi!G$14=$A3,Lundi!G$1,IF(Lundi!G$15=$A3,Lundi!G$1,"")))))))))))))) | O3: =IF(Lundi!H$2=$A3,Lundi!H$1,IF(Lundi!H$3=$A3,Lundi!H$1,IF(Lundi!H$4=$A3,Lundi!H$1,IF(Lundi!H$5=$A3,Lundi!H$1,IF(Lundi!H$6=$A3,Lundi!H$1,IF(Lundi!H$7=$A3,Lundi!H$1,IF(Lundi!H$8=$A3,Lundi!H$1,IF(Lundi!H$9=$A3,Lundi!H$1,IF(Lundi!H$10=$A3,Lundi!H$1,IF(Lundi!H$11=$A3,Lundi!H$1,IF(Lundi!H$12=$A3,Lundi!H$1,IF(Lundi!H$13=$A3,Lundi!H$1,IF(Lundi!H$14=$A3,Lundi!H$1,IF(Lundi!H$15=$A3,Lundi!H$1,"")))))))))))))) | P3: =IF(Lundi!I$2=$A3,Lundi!I$1,IF(Lundi!I$3=$A3,Lundi!I$1,IF(Lundi!I$4=$A3,Lundi!I$1,IF(Lundi!I$5=$A3,Lundi!I$1,IF(Lundi!I$6=$A3,Lundi!I$1,IF(Lundi!I$7=$A3,Lundi!I$1,IF(Lundi!I$8=$A3,Lundi!I$1,IF(Lundi!I$9=$A3,Lundi!I$1,IF(Lundi!I$10=$A3,Lundi!I$1,IF(Lundi!I$11=$A3,Lundi!I$1,IF(Lundi!I$12=$A3,Lundi!I$1,IF(Lundi!I$13=$A3,Lundi!I$1,IF(Lundi!I$14=$A3,Lundi!I$1,IF(Lundi!I$15=$A3,Lundi!I$1,"")))))))))))))) | Q3: =IF(Lundi!J$2=$A3,Lundi!J$1,IF(Lundi!J$3=$A3,Lundi!J$1,IF(Lundi!J$4=$A3,Lundi!J$1,IF(Lundi!J$5=$A3,Lundi!J$1,IF(Lundi!J$6=$A3,Lundi!J$1,IF(Lundi!J$7=$A3,Lundi!J$1,IF(Lundi!J$8=$A3,Lundi!J$1,IF(Lundi!J$9=$A3,Lundi!J$1,IF(Lundi!J$10=$A3,Lundi!J$1,IF(Lundi!J$11=$A3,Lundi!J$1,IF(Lundi!J$12=$A3,Lundi!J$1,IF(Lundi!J$13=$A3,Lundi!J$1,IF(Lundi!J$14=$A3,Lundi!J$1,IF(Lundi!J$15=$A3,Lundi!J$1,"")))))))))))))) | R3: =IF(Mardi!B$2=$A3,Mardi!B$1,IF(Mardi!B$3=$A3,Mardi!B$1,IF(Mardi!B$4=$A3,Mardi!B$1,IF(Mardi!B$5=$A3,Mardi!B$1,IF(Mardi!B$6=$A3,Mardi!B$1,IF(Mardi!B$7=$A3,Mardi!B$1,IF(Mardi!B$8=$A3,Mardi!B$1,IF(Mardi!B$9=$A3,Mardi!B$1,IF(Mardi!B$10=$A3,Mardi!B$1,IF(Mardi!B$11=$A3,Mardi!B$1,IF(Mardi!B$12=$A3,Mardi!B$1,IF(Mardi!B$13=$A3,Mardi!B$1,IF(Mardi!B$14=$A3,Mardi!B$1,IF(Mardi!B$15=$A3,Mardi!B$1,"")))))))))))))) | S3: =IF(Mardi!C$2=$A3,Mardi!C$1,IF(Mardi!C$3=$A3,Mardi!C$1,IF(Mardi!C$4=$A3,Mardi!C$1,IF(Mardi!C$5=$A3,Mardi!C$1,IF(Mardi!C$6=$A3,Mardi!C$1,IF(Mardi!C$7=$A3,Mardi!C$1,IF(Mardi!C$8=$A3,Mardi!C$1,IF(Mardi!C$9=$A3,Mardi!C$1,IF(Mardi!C$10=$A3,Mardi!C$1,IF(Mardi!C$11=$A3,Mardi!C$1,IF(Mardi!C$12=$A3,Mardi!C$1,IF(Mardi!C$13=$A3,Mardi!C$1,IF(Mardi!C$14=$A3,Mardi!C$1,IF(Mardi!C$15=$A3,Mardi!C$1,"")))))))))))))) -> Restaurant | T3: =IF(Mardi!D$2=$A3,Mardi!D$1,IF(Mardi!D$3=$A3,Mardi!D$1,IF(Mardi!D$4=$A3,Mardi!D$1,IF(Mardi!D$5=$A3,Mardi!D$1,IF(Mardi!D$6=$A3,Mardi!D$1,IF(Mardi!D$7=$A3,Mardi!D$1,IF(Mardi!D$8=$A3,Mardi!D$1,IF(Mardi!D$9=$A3,Mardi!D$1,IF(Mardi!D$10=$A3,Mardi!D$1,IF(Mardi!D$11=$A3,Mardi!D$1,IF(Mardi!D$12=$A3,Mardi!D$1,IF(Mardi!D$13=$A3,Mardi!D$1,IF(Mardi!D$14=$A3,Mardi!D$1,IF(Mardi!D$15=$A3,Mardi!D$1,"")))))))))))))) | U3: =IF(Mardi!E$2=$A3,Mardi!E$1,IF(Mardi!E$3=$A3,Mardi!E$1,IF(Mardi!E$4=$A3,Mardi!E$1,IF(Mardi!E$5=$A3,Mardi!E$1,IF(Mardi!E$6=$A3,Mardi!E$1,IF(Mardi!E$7=$A3,Mardi!E$1,IF(Mardi!E$8=$A3,Mardi!E$1,IF(Mardi!E$9=$A3,Mardi!E$1,IF(Mardi!E$10=$A3,Mardi!E$1,IF(Mardi!E$11=$A3,Mardi!E$1,IF(Mardi!E$12=$A3,Mardi!E$1,IF(Mardi!E$13=$A3,Mardi!E$1,IF(Mardi!E$14=$A3,Mardi!E$1,IF(Mardi!E$15=$A3,Mardi!E$1,"")))))))))))))) | V3: =IF(Mardi!F$2=$A3,Mardi!F$1,IF(Mardi!F$3=$A3,Mardi!F$1,IF(Mardi!F$4=$A3,Mardi!F$1,IF(Mardi!F$5=$A3,Mardi!F$1,IF(Mardi!F$6=$A3,Mardi!F$1,IF(Mardi!F$7=$A3,Mardi!F$1,IF(Mardi!F$8=$A3,Mardi!F$1,IF(Mardi!F$9=$A3,Mardi!F$1,IF(Mardi!F$10=$A3,Mardi!F$1,IF(Mardi!F$11=$A3,Mardi!F$1,IF(Mardi!F$12=$A3,Mardi!F$1,IF(Mardi!F$13=$A3,Mardi!F$1,IF(Mardi!F$14=$A3,Mardi!F$1,IF(Mardi!F$15=$A3,Mardi!F$1,"")))))))))))))) | W3: =IF(Mardi!G$2=$A3,Mardi!G$1,IF(Mardi!G$3=$A3,Mardi!G$1,IF(Mardi!G$4=$A3,Mardi!G$1,IF(Mardi!G$5=$A3,Mardi!G$1,IF(Mardi!G$6=$A3,Mardi!G$1,IF(Mardi!G$7=$A3,Mardi!G$1,IF(Mardi!G$8=$A3,Mardi!G$1,IF(Mardi!G$9=$A3,Mardi!G$1,IF(Mardi!G$10=$A3,Mardi!G$1,IF(Mardi!G$11=$A3,Mardi!G$1,IF(Mardi!G$12=$A3,Mardi!G$1,IF(Mardi!G$13=$A3,Mardi!G$1,IF(Mardi!G$14=$A3,Mardi!G$1,IF(Mardi!G$15=$A3,Mardi!G$1,"")))))))))))))) | X3: =IF(Mardi!H$2=$A3,Mardi!H$1,IF(Mardi!H$3=$A3,Mardi!H$1,IF(Mardi!H$4=$A3,Mardi!H$1,IF(Mardi!H$5=$A3,Mardi!H$1,IF(Mardi!H$6=$A3,Mardi!H$1,IF(Mardi!H$7=$A3,Mardi!H$1,IF(Mardi!H$8=$A3,Mardi!H$1,IF(Mardi!H$9=$A3,Mardi!H$1,IF(Mardi!H$10=$A3,Mardi!H$1,IF(Mardi!H$11=$A3,Mardi!H$1,IF(Mardi!H$12=$A3,Mardi!H$1,IF(Mardi!H$13=$A3,Mardi!H$1,IF(Mardi!H$14=$A3,Mardi!H$1,IF(Mardi!H$15=$A3,Mardi!H$1,"")))))))))))))) | Y3: =IF(Mardi!I$2=$A3,Mardi!I$1,IF(Mardi!I$3=$A3,Mardi!I$1,IF(Mardi!I$4=$A3,Mardi!I$1,IF(Mardi!I$5=$A3,Mardi!I$1,IF(Mardi!I$6=$A3,Mardi!I$1,IF(Mardi!I$7=$A3,Mardi!I$1,IF(Mardi!I$8=$A3,Mardi!I$1,IF(Mardi!I$9=$A3,Mardi!I$1,IF(Mardi!I$10=$A3,Mardi!I$1,IF(Mardi!I$11=$A3,Mardi!I$1,IF(Mardi!I$12=$A3,Mardi!I$1,IF(Mardi!I$13=$A3,Mardi!I$1,IF(Mardi!I$14=$A3,Mardi!I$1,IF(Mardi!I$15=$A3,Mardi!I$1,"")))))))))))))) | Z3: =IF(Mardi!J$2=$A3,Mardi!J$1,IF(Mardi!J$3=$A3,Mardi!J$1,IF(Mardi!J$4=$A3,Mardi!J$1,IF(Mardi!J$5=$A3,Mardi!J$1,IF(Mardi!J$6=$A3,Mardi!J$1,IF(Mardi!J$7=$A3,Mardi!J$1,IF(Mardi!J$8=$A3,Mardi!J$1,IF(Mardi!J$9=$A3,Mardi!J$1,IF(Mardi!J$10=$A3,Mardi!J$1,IF(Mardi!J$11=$A3,Mardi!J$1,IF(Mardi!J$12=$A3,Mardi!J$1,IF(Mardi!J$13=$A3,Mardi!J$1,IF(Mardi!J$14=$A3,Mardi!J$1,IF(Mardi!J$15=$A3,Mardi!J$1,"")))))))))))))) | AA3: =IF(Mercredi!B$2=$A3,Mercredi!B$1,IF(Mercredi!B$3=$A3,Mercredi!B$1,IF(Mercredi!B$4=$A3,Mercredi!B$1,IF(Mercredi!B$5=$A3,Mercredi!B$1,IF(Mercredi!B$6=$A3,Mercredi!B$1,IF(Mercredi!B$7=$A3,Mercredi!B$1,IF(Mercredi!B$8=$A3,Mercredi!B$1,IF(Mercredi!B$9=$A3,Mercredi!B$1,IF(Mercredi!B$10=$A3,Mercredi!B$1,IF(Mercredi!B$11=$A3,Mercredi!B$1,IF(Mercredi!B$12=$A3,Mercredi!B$1,IF(Mercredi!B$13=$A3,Mercredi!B$1,IF(Mercredi!B$14=$A3,Mercredi!B$1,IF(Mercredi!B$15=$A3,Mercredi!B$1,"")))))))))))))) | AB3: =IF(Mercredi!C$2=$A3,Mercredi!C$1,IF(Mercredi!C$3=$A3,Mercredi!C$1,IF(Mercredi!C$4=$A3,Mercredi!C$1,IF(Mercredi!C$5=$A3,Mercredi!C$1,IF(Mercredi!C$6=$A3,Mercredi!C$1,IF(Mercredi!C$7=$A3,Mercredi!C$1,IF(Mercredi!C$8=$A3,Mercredi!C$1,IF(Mercredi!C$9=$A3,Mercredi!C$1,IF(Mercredi!C$10=$A3,Mercredi!C$1,IF(Mercredi!C$11=$A3,Mercredi!C$1,IF(Mercredi!C$12=$A3,Mercredi!C$1,IF(Mercredi!C$13=$A3,Mercredi!C$1,IF(Mercredi!C$14=$A3,Mercredi!C$1,IF(Mercredi!C$15=$A3,Mercredi!C$1,"")))))))))))))) | AC3: =IF(Mercredi!D$2=$A3,Mercredi!D$1,IF(Mercredi!D$3=$A3,Mercredi!D$1,IF(Mercredi!D$4=$A3,Mercredi!D$1,IF(Mercredi!D$5=$A3,Mercredi!D$1,IF(Mercredi!D$6=$A3,Mercredi!D$1,IF(Mercredi!D$7=$A3,Mercredi!D$1,IF(Mercredi!D$8=$A3,Mercredi!D$1,IF(Mercredi!D$9=$A3,Mercredi!D$1,IF(Mercredi!D$10=$A3,Mercredi!D$1,IF(Mercredi!D$11=$A3,Mercredi!D$1,IF(Mercredi!D$12=$A3,Mercredi!D$1,IF(Mercredi!D$13=$A3,Mercredi!D$1,IF(Mercredi!D$14=$A3,Mercredi!D$1,IF(Mercredi!D$15=$A3,Mercredi!D$1,"")))))))))))))) | AD3: =IF(Mercredi!E$2=$A3,Mercredi!E$1,IF(Mercredi!E$3=$A3,Mercredi!E$1,IF(Mercredi!E$4=$A3,Mercredi!E$1,IF(Mercredi!E$5=$A3,Mercredi!E$1,IF(Mercredi!E$6=$A3,Mercredi!E$1,IF(Mercredi!E$7=$A3,Mercredi!E$1,IF(Mercredi!E$8=$A3,Mercredi!E$1,IF(Mercredi!E$9=$A3,Mercredi!E$1,IF(Mercredi!E$10=$A3,Mercredi!E$1,IF(Mercredi!E$11=$A3,Mercredi!E$1,IF(Mercredi!E$12=$A3,Mercredi!E$1,IF(Mercredi!E$13=$A3,Mercredi!E$1,IF(Mercredi!E$14=$A3,Mercredi!E$1,IF(Mercredi!E$15=$A3,Mercredi!E$1,"")))))))))))))) -> Espace vert | AE3: =IF(Mercredi!F$2=$A3,Mercredi!F$1,IF(Mercredi!F$3=$A3,Mercredi!F$1,IF(Mercredi!F$4=$A3,Mercredi!F$1,IF(Mercredi!F$5=$A3,Mercredi!F$1,IF(Mercredi!F$6=$A3,Mercredi!F$1,IF(Mercredi!F$7=$A3,Mercredi!F$1,IF(Mercredi!F$8=$A3,Mercredi!F$1,IF(Mercredi!F$9=$A3,Mercredi!F$1,IF(Mercredi!F$10=$A3,Mercredi!F$1,IF(Mercredi!F$11=$A3,Mercredi!F$1,IF(Mercredi!F$12=$A3,Mercredi!F$1,IF(Mercredi!F$13=$A3,Mercredi!F$1,IF(Mercredi!F$14=$A3,Mercredi!F$1,IF(Mercredi!F$15=$A3,Mercredi!F$1,"")))))))))))))) | AF3: =IF(Mercredi!G$2=$A3,Mercredi!G$1,IF(Mercredi!G$3=$A3,Mercredi!G$1,IF(Mercredi!G$4=$A3,Mercredi!G$1,IF(Mercredi!G$5=$A3,Mercredi!G$1,IF(Mercredi!G$6=$A3,Mercredi!G$1,IF(Mercredi!G$7=$A3,Mercredi!G$1,IF(Mercredi!G$8=$A3,Mercredi!G$1,IF(Mercredi!G$9=$A3,Mercredi!G$1,IF(Mercredi!G$10=$A3,Mercredi!G$1,IF(Mercredi!G$11=$A3,Mercredi!G$1,IF(Mercredi!G$12=$A3,Mercredi!G$1,IF(Mercredi!G$13=$A3,Mercredi!G$1,IF(Mercredi!G$14=$A3,Mercredi!G$1,IF(Mercredi!G$15=$A3,Mercredi!G$1,"")))))))))))))) | AG3: =IF(Mercredi!H$2=$A3,Mercredi!H$1,IF(Mercredi!H$3=$A3,Mercredi!H$1,IF(Mercredi!H$4=$A3,Mercredi!H$1,IF(Mercredi!H$5=$A3,Mercredi!H$1,IF(Mercredi!H$6=$A3,Mercredi!H$1,IF(Mercredi!H$7=$A3,Mercredi!H$1,IF(Mercredi!H$8=$A3,Mercredi!H$1,IF(Mercredi!H$9=$A3,Mercredi!H$1,IF(Mercredi!H$10=$A3,Mercredi!H$1,IF(Mercredi!H$11=$A3,Mercredi!H$1,IF(Mercredi!H$12=$A3,Mercredi!H$1,IF(Mercredi!H$13=$A3,Mercredi!H$1,IF(Mercredi!H$14=$A3,Mercredi!H$1,IF(Mercredi!H$15=$A3,Mercredi!H$1,"")))))))))))))) | AH3: =IF(Mercredi!I$2=$A3,Mercredi!I$1,IF(Mercredi!I$3=$A3,Mercredi!I$1,IF(Mercredi!I$4=$A3,Mercredi!I$1,IF(Mercredi!I$5=$A3,Mercredi!I$1,IF(Mercredi!I$6=$A3,Mercredi!I$1,IF(Mercredi!I$7=$A3,Mercredi!I$1,IF(Mercredi!I$8=$A3,Mercredi!I$1,IF(Mercredi!I$9=$A3,Mercredi!I$1,IF(Mercredi!I$10=$A3,Mercredi!I$1,IF(Mercredi!I$11=$A3,Mercredi!I$1,IF(Mercredi!I$12=$A3,Mercredi!I$1,IF(Mercredi!I$13=$A3,Mercredi!I$1,IF(Mercredi!I$14=$A3,Mercredi!I$1,IF(Mercredi!I$15=$A3,Mercredi!I$1,"")))))))))))))) | AI3: =IF(Mercredi!J$2=$A3,Mercredi!J$1,IF(Mercredi!J$3=$A3,Mercredi!J$1,IF(Mercredi!J$4=$A3,Mercredi!J$1,IF(Mercredi!J$5=$A3,Mercredi!J$1,IF(Mercredi!J$6=$A3,Mercredi!J$1,IF(Mercredi!J$7=$A3,Mercredi!J$1,IF(Mercredi!J$8=$A3,Mercredi!J$1,IF(Mercredi!J$9=$A3,Mercredi!J$1,IF(Mercredi!J$10=$A3,Mercredi!J$1,IF(Mercredi!J$11=$A3,Mercredi!J$1,IF(Mercredi!J$12=$A3,Mercredi!J$1,IF(Mercredi!J$13=$A3,Mercredi!J$1,IF(Mercredi!J$14=$A3,Mercredi!J$1,IF(Mercredi!J$15=$A3,Mercredi!J$1,"")))))))))))))) | AJ3: =IF(Jeudi!B$2=$A3,Jeudi!B$1,IF(Jeudi!B$3=$A3,Jeudi!B$1,IF(Jeudi!B$4=$A3,Jeudi!B$1,IF(Jeudi!B$5=$A3,Jeudi!B$1,IF(Jeudi!B$6=$A3,Jeudi!B$1,IF(Jeudi!B$7=$A3,Jeudi!B$1,IF(Jeudi!B$8=$A3,Jeudi!B$1,IF(Jeudi!B$9=$A3,Jeudi!B$1,IF(Jeudi!B$10=$A3,Jeudi!B$1,IF(Jeudi!B$11=$A3,Jeudi!B$1,IF(Jeudi!B$12=$A3,Jeudi!B$1,IF(Jeudi!B$13=$A3,Jeudi!B$1,IF(Jeudi!B$14=$A3,Jeudi!B$1,IF(Jeudi!B$15=$A3,Jeudi!B$1,"")))))))))))))) | AK3: =IF(Jeudi!C$2=$A3,Jeudi!C$1,IF(Jeudi!C$3=$A3,Jeudi!C$1,IF(Jeudi!C$4=$A3,Jeudi!C$1,IF(Jeudi!C$5=$A3,Jeudi!C$1,IF(Jeudi!C$6=$A3,Jeudi!C$1,IF(Jeudi!C$7=$A3,Jeudi!C$1,IF(Jeudi!C$8=$A3,Jeudi!C$1,IF(Jeudi!C$9=$A3,Jeudi!C$1,IF(Jeudi!C$10=$A3,Jeudi!C$1,IF(Jeudi!C$11=$A3,Jeudi!C$1,IF(Jeudi!C$12=$A3,Jeudi!C$1,IF(Jeudi!C$13=$A3,Jeudi!C$1,IF(Jeudi!C$14=$A3,Jeudi!C$1,IF(Jeudi!C$15=$A3,Jeudi!C$1,"")))))))))))))) | AL3: =IF(Jeudi!D$2=$A3,Jeudi!D$1,IF(Jeudi!D$3=$A3,Jeudi!D$1,IF(Jeudi!D$4=$A3,Jeudi!D$1,IF(Jeudi!D$5=$A3,Jeudi!D$1,IF(Jeudi!D$6=$A3,Jeudi!D$1,IF(Jeudi!D$7=$A3,Jeudi!D$1,IF(Jeudi!D$8=$A3,Jeudi!D$1,IF(Jeudi!D$9=$A3,Jeudi!D$1,IF(Jeudi!D$10=$A3,Jeudi!D$1,IF(Jeudi!D$11=$A3,Jeudi!D$1,IF(Jeudi!D$12=$A3,Jeudi!D$1,IF(Jeudi!D$13=$A3,Jeudi!D$1,IF(Jeudi!D$14=$A3,Jeudi!D$1,IF(Jeudi!D$15=$A3,Jeudi!D$1,"")))))))))))))) | AM3: =IF(Jeudi!E$2=$A3,Jeudi!E$1,IF(Jeudi!E$3=$A3,Jeudi!E$1,IF(Jeudi!E$4=$A3,Jeudi!E$1,IF(Jeudi!E$5=$A3,Jeudi!E$1,IF(Jeudi!E$6=$A3,Jeudi!E$1,IF(Jeudi!E$7=$A3,Jeudi!E$1,IF(Jeudi!E$8=$A3,Jeudi!E$1,IF(Jeudi!E$9=$A3,Jeudi!E$1,IF(Jeudi!E$10=$A3,Jeudi!E$1,IF(Jeudi!E$11=$A3,Jeudi!E$1,IF(Jeudi!E$12=$A3,Jeudi!E$1,IF(Jeudi!E$13=$A3,Jeudi!E$1,IF(Jeudi!E$14=$A3,Jeudi!E$1,IF(Jeudi!E$15=$A3,Jeudi!E$1,"")))))))))))))) | AN3: =IF(Jeudi!F$2=$A3,Jeudi!F$1,IF(Jeudi!F$3=$A3,Jeudi!F$1,IF(Jeudi!F$4=$A3,Jeudi!F$1,IF(Jeudi!F$5=$A3,Jeudi!F$1,IF(Jeudi!F$6=$A3,Jeudi!F$1,IF(Jeudi!F$7=$A3,Jeudi!F$1,IF(Jeudi!F$8=$A3,Jeudi!F$1,IF(Jeudi!F$9=$A3,Jeudi!F$1,IF(Jeudi!F$10=$A3,Jeudi!F$1,IF(Jeudi!F$11=$A3,Jeudi!F$1,IF(Jeudi!F$12=$A3,Jeudi!F$1,IF(Jeudi!F$13=$A3,Jeudi!F$1,IF(Jeudi!F$14=$A3,Jeudi!F$1,IF(Jeudi!F$15=$A3,Jeudi!F$1,"")))))))))))))) | AO3: =IF(Jeudi!G$2=$A3,Jeudi!G$1,IF(Jeudi!G$3=$A3,Jeudi!G$1,IF(Jeudi!G$4=$A3,Jeudi!G$1,IF(Jeudi!G$5=$A3,Jeudi!G$1,IF(Jeudi!G$6=$A3,Jeudi!G$1,IF(Jeudi!G$7=$A3,Jeudi!G$1,IF(Jeudi!G$8=$A3,Jeudi!G$1,IF(Jeudi!G$9=$A3,Jeudi!G$1,IF(Jeudi!G$10=$A3,Jeudi!G$1,IF(Jeudi!G$11=$A3,Jeudi!G$1,IF(Jeudi!G$12=$A3,Jeudi!G$1,IF(Jeudi!G$13=$A3,Jeudi!G$1,IF(Jeudi!G$14=$A3,Jeudi!G$1,IF(Jeudi!G$15=$A3,Jeudi!G$1,"")))))))))))))) | AP3: =IF(Jeudi!H$2=$A3,Jeudi!H$1,IF(Jeudi!H$3=$A3,Jeudi!H$1,IF(Jeudi!H$4=$A3,Jeudi!H$1,IF(Jeudi!H$5=$A3,Jeudi!H$1,IF(Jeudi!H$6=$A3,Jeudi!H$1,IF(Jeudi!H$7=$A3,Jeudi!H$1,IF(Jeudi!H$8=$A3,Jeudi!H$1,IF(Jeudi!H$9=$A3,Jeudi!H$1,IF(Jeudi!H$10=$A3,Jeudi!H$1,IF(Jeudi!H$11=$A3,Jeudi!H$1,IF(Jeudi!H$12=$A3,Jeudi!H$1,IF(Jeudi!H$13=$A3,Jeudi!H$1,IF(Jeudi!H$14=$A3,Jeudi!H$1,IF(Jeudi!H$15=$A3,Jeudi!H$1,"")))))))))))))) -> Horti | AQ3: =IF(Jeudi!I$2=$A3,Jeudi!I$1,IF(Jeudi!I$3=$A3,Jeudi!I$1,IF(Jeudi!I$4=$A3,Jeudi!I$1,IF(Jeudi!I$5=$A3,Jeudi!I$1,IF(Jeudi!I$6=$A3,Jeudi!I$1,IF(Jeudi!I$7=$A3,Jeudi!I$1,IF(Jeudi!I$8=$A3,Jeudi!I$1,IF(Jeudi!I$9=$A3,Jeudi!I$1,IF(Jeudi!I$10=$A3,Jeudi!I$1,IF(Jeudi!I$11=$A3,Jeudi!I$1,IF(Jeudi!I$12=$A3,Jeudi!I$1,IF(Jeudi!I$13=$A3,Jeudi!I$1,IF(Jeudi!I$14=$A3,Jeudi!I$1,IF(Jeudi!I$15=$A3,Jeudi!I$1,"")))))))))))))) | AR3: =IF(Jeudi!J$2=$A3,Jeudi!J$1,IF(Jeudi!J$3=$A3,Jeudi!J$1,IF(Jeudi!J$4=$A3,Jeudi!J$1,IF(Jeudi!J$5=$A3,Jeudi!J$1,IF(Jeudi!J$6=$A3,Jeudi!J$1,IF(Jeudi!J$7=$A3,Jeudi!J$1,IF(Jeudi!J$8=$A3,Jeudi!J$1,IF(Jeudi!J$9=$A3,Jeudi!J$1,IF(Jeudi!J$10=$A3,Jeudi!J$1,IF(Jeudi!J$11=$A3,Jeudi!J$1,IF(Jeudi!J$12=$A3,Jeudi!J$1,IF(Jeudi!J$13=$A3,Jeudi!J$1,IF(Jeudi!J$14=$A3,Jeudi!J$1,IF(Jeudi!J$15=$A3,Jeudi!J$1,"")))))))))))))) | AS3: =IF(Vendredi!B$2=$A3,Vendredi!B$1,IF(Vendredi!B$3=$A3,Vendredi!B$1,IF(Vendredi!B$4=$A3,Vendredi!B$1,IF(Vendredi!B$5=$A3,Vendredi!B$1,IF(Vendredi!B$6=$A3,Vendredi!B$1,IF(Vendredi!B$7=$A3,Vendredi!B$1,IF(Vendredi!B$8=$A3,Vendredi!B$1,IF(Vendredi!B$9=$A3,Vendredi!B$1,IF(Vendredi!B$10=$A3,Vendredi!B$1,IF(Vendredi!B$11=$A3,Vendredi!B$1,IF(Vendredi!B$12=$A3,Vendredi!B$1,IF(Vendredi!B$13=$A3,Vendredi!B$1,IF(Vendredi!B$14=$A3,Vendredi!B$1,IF(Vendredi!B$15=$A3,Vendredi!B$1,"")))))))))))))) | AT3: =IF(Vendredi!C$2=$A3,Vendredi!C$1,IF(Vendredi!C$3=$A3,Vendredi!C$1,IF(Vendredi!C$4=$A3,Vendredi!C$1,IF(Vendredi!C$5=$A3,Vendredi!C$1,IF(Vendredi!C$6=$A3,Vendredi!C$1,IF(Vendredi!C$7=$A3,Vendredi!C$1,IF(Vendredi!C$8=$A3,Vendredi!C$1,IF(Vendredi!C$9=$A3,Vendredi!C$1,IF(Vendredi!C$10=$A3,Vendredi!C$1,IF(Vendredi!C$11=$A3,Vendredi!C$1,IF(Vendredi!C$12=$A3,Vendredi!C$1,IF(Vendredi!C$13=$A3,Vendredi!C$1,IF(Vendredi!C$14=$A3,Vendredi!C$1,IF(Vendredi!C$15=$A3,Vendredi!C$1,"")))))))))))))) | AU3: =IF(Vendredi!D$2=$A3,Vendredi!D$1,IF(Vendredi!D$3=$A3,Vendredi!D$1,IF(Vendredi!D$4=$A3,Vendredi!D$1,IF(Vendredi!D$5=$A3,Vendredi!D$1,IF(Vendredi!D$6=$A3,Vendredi!D$1,IF(Vendredi!D$7=$A3,Vendredi!D$1,IF(Vendredi!D$8=$A3,Vendredi!D$1,IF(Vendredi!D$9=$A3,Vendredi!D$1,IF(Vendredi!D$10=$A3,Vendredi!D$1,IF(Vendredi!D$11=$A3,Vendredi!D$1,IF(Vendredi!D$12=$A3,Vendredi!D$1,IF(Vendredi!D$13=$A3,Vendredi!D$1,IF(Vendredi!D$14=$A3,Vendredi!D$1,IF(Vendredi!D$15=$A3,Vendredi!D$1,"")))))))))))))) | AV3: =IF(Vendredi!E$2=$A3,Vendredi!E$1,IF(Vendredi!E$3=$A3,Vendredi!E$1,IF(Vendredi!E$4=$A3,Vendredi!E$1,IF(Vendredi!E$5=$A3,Vendredi!E$1,IF(Vendredi!E$6=$A3,Vendredi!E$1,IF(Vendredi!E$7=$A3,Vendredi!E$1,IF(Vendredi!E$8=$A3,Vendredi!E$1,IF(Vendredi!E$9=$A3,Vendredi!E$1,IF(Vendredi!E$10=$A3,Vendredi!E$1,IF(Vendredi!E$11=$A3,Vendredi!E$1,IF(Vendredi!E$12=$A3,Vendredi!E$1,IF(Vendredi!E$13=$A3,Vendredi!E$1,IF(Vendredi!E$14=$A3,Vendredi!E$1,IF(Vendredi!E$15=$A3,Vendredi!E$1,"")))))))))))))) | AW3: =IF(Vendredi!F$2=$A3,Vendredi!F$1,IF(Vendredi!F$3=$A3,Vendredi!F$1,IF(Vendredi!F$4=$A3,Vendredi!F$1,IF(Vendredi!F$5=$A3,Vendredi!F$1,IF(Vendredi!F$6=$A3,Vendredi!F$1,IF(Vendredi!F$7=$A3,Vendredi!F$1,IF(Vendredi!F$8=$A3,Vendredi!F$1,IF(Vendredi!F$9=$A3,Vendredi!F$1,IF(Vendredi!F$10=$A3,Vendredi!F$1,IF(Vendredi!F$11=$A3,Vendredi!F$1,IF(Vendredi!F$12=$A3,Vendredi!F$1,IF(Vendredi!F$13=$A3,Vendredi!F$1,IF(Vendredi!F$14=$A3,Vendredi!F$1,IF(Vendredi!F$15=$A3,Vendredi!F$1,"")))))))))))))) -> At. Polyvalent | AX3: =IF(Vendredi!G$2=$A3,Vendredi!G$1,IF(Vendredi!G$3=$A3,Vendredi!G$1,IF(Vendredi!G$4=$A3,Vendredi!G$1,IF(Vendredi!G$5=$A3,Vendredi!G$1,IF(Vendredi!G$6=$A3,Vendredi!G$1,IF(Vendredi!G$7=$A3,Vendredi!G$1,IF(Vendredi!G$8=$A3,Vendredi!G$1,IF(Vendredi!G$9=$A3,Vendredi!G$1,IF(Vendredi!G$10=$A3,Vendredi!G$1,IF(Vendredi!G$11=$A3,Vendredi!G$1,IF(Vendredi!G$12=$A3,Vendredi!G$1,IF(Vendredi!G$13=$A3,Vendredi!G$1,IF(Vendredi!G$14=$A3,Vendredi!G$1,IF(Vendredi!G$15=$A3,Vendredi!G$1,"")))))))))))))) | AY3: =IF(Vendredi!H$2=$A3,Vendredi!H$1,IF(Vendredi!H$3=$A3,Vendredi!H$1,IF(Vendredi!H$4=$A3,Vendredi!H$1,IF(Vendredi!H$5=$A3,Vendredi!H$1,IF(Vendredi!H$6=$A3,Vendredi!H$1,IF(Vendredi!H$7=$A3,Vendredi!H$1,IF(Vendredi!H$8=$A3,Vendredi!H$1,IF(Vendredi!H$9=$A3,Vendredi!H$1,IF(Vendredi!H$10=$A3,Vendredi!H$1,IF(Vendredi!H$11=$A3,Vendredi!H$1,IF(Vendredi!H$12=$A3,Vendredi!H$1,IF(Vendredi!H$13=$A3,Vendredi!H$1,IF(Vendredi!H$14=$A3,Vendredi!H$1,IF(Vendredi!H$15=$A3,Vendredi!H$1,"")))))))))))))) | AZ3: =IF(Vendredi!I$2=$A3,Vendredi!I$1,IF(Vendredi!I$3=$A3,Vendredi!I$1,IF(Vendredi!I$4=$A3,Vendredi!I$1,IF(Vendredi!I$5=$A3,Vendredi!I$1,IF(Vendredi!I$6=$A3,Vendredi!I$1,IF(Vendredi!I$7=$A3,Vendredi!I$1,IF(Vendredi!I$8=$A3,Vendredi!I$1,IF(Vendredi!I$9=$A3,Vendredi!I$1,IF(Vendredi!I$10=$A3,Vendredi!I$1,IF(Vendredi!I$11=$A3,Vendredi!I$1,IF(Vendredi!I$12=$A3,Vendredi!I$1,IF(Vendredi!I$13=$A3,Vendredi!I$1,IF(Vendredi!I$14=$A3,Vendredi!I$1,IF(Vendredi!I$15=$A3,Vendredi!I$1,"")))))))))))))) | BA3: =IF(Vendredi!J$2=$A3,Vendredi!J$1,IF(Vendredi!J$3=$A3,Vendredi!J$1,IF(Vendredi!J$4=$A3,Vendredi!J$1,IF(Vendredi!J$5=$A3,Vendredi!J$1,IF(Vendredi!J$6=$A3,Vendredi!J$1,IF(Vendredi!J$7=$A3,Vendredi!J$1,IF(Vendredi!J$8=$A3,Vendredi!J$1,IF(Vendredi!J$9=$A3,Vendredi!J$1,IF(Vendredi!J$10=$A3,Vendredi!J$1,IF(Vendredi!J$11=$A3,Vendredi!J$1,IF(Vendredi!J$12=$A3,Vendredi!J$1,IF(Vendredi!J$13=$A3,Vendredi!J$1,IF(Vendredi!J$14=$A3,Vendredi!J$1,IF(Vendredi!J$15=$A3,Vendredi!J$1,""))))))))))))))
B4: Après Midi | C4: =I4&J4&K4&L4&M4&N4&O4&P4&Q4 -> Self | D4: =R4&S4&T4&U4&V4&W4&X4&Y4&Z4 -> Self | F4: =AJ4&AK4&AL4&AM4&AN4&AO4&AP4&AQ4&AR4 -> At. Polyvalent | G4: =AS4&AT4&AU4&AV4&AW4&AX4&AY4&AZ4&BA4 -> Espace vert | I4: =IF(Lundi!B$17=$A3,Lundi!B$1,IF(Lundi!B$18=$A3,Lundi!B$1,IF(Lundi!B$19=$A3,Lundi!B$1,IF(Lundi!B$20=$A3,Lundi!B$1,IF(Lundi!B$21=$A3,Lundi!B$1,IF(Lundi!B$22=$A3,Lundi!B$1,IF(Lundi!B$23=$A3,Lundi!B$1,IF(Lundi!B$24=$A3,Lundi!B$1,IF(Lundi!B$25=$A3,Lundi!B$1,IF(Lundi!B$26=$A3,Lundi!B$1,IF(Lundi!B$27=$A3,Lundi!B$1,IF(Lundi!B$28=$A3,Lundi!B$1,IF(Lundi!B$29=$A3,Lundi!B$1,IF(Lundi!B$30=$A3,Lundi!B$1,"")))))))))))))) | J4: =IF(Lundi!C$17=$A3,Lundi!C$1,IF(Lundi!C$18=$A3,Lundi!C$1,IF(Lundi!C$19=$A3,Lundi!C$1,IF(Lundi!C$20=$A3,Lundi!C$1,IF(Lundi!C$21=$A3,Lundi!C$1,IF(Lundi!C$22=$A3,Lundi!C$1,IF(Lundi!C$23=$A3,Lundi!C$1,IF(Lundi!C$24=$A3,Lundi!C$1,IF(Lundi!C$25=$A3,Lundi!C$1,IF(Lundi!C$26=$A3,Lundi!C$1,IF(Lundi!C$27=$A3,Lundi!C$1,IF(Lundi!C$28=$A3,Lundi!C$1,IF(Lundi!C$29=$A3,Lundi!C$1,IF(Lundi!C$30=$A3,Lundi!C$1,"")))))))))))))) | K4: =IF(Lundi!D$17=$A3,Lundi!D$1,IF(Lundi!D$18=$A3,Lundi!D$1,IF(Lundi!D$19=$A3,Lundi!D$1,IF(Lundi!D$20=$A3,Lundi!D$1,IF(Lundi!D$21=$A3,Lundi!D$1,IF(Lundi!D$22=$A3,Lundi!D$1,IF(Lundi!D$23=$A3,Lundi!D$1,IF(Lundi!D$24=$A3,Lundi!D$1,IF(Lundi!D$25=$A3,Lundi!D$1,IF(Lundi!D$26=$A3,Lundi!D$1,IF(Lundi!D$27=$A3,Lundi!D$1,IF(Lundi!D$28=$A3,Lundi!D$1,IF(Lundi!D$29=$A3,Lundi!D$1,IF(Lundi!D$30=$A3,Lundi!D$1,"")))))))))))))) -> Self | L4: =IF(Lundi!E$17=$A3,Lundi!E$1,IF(Lundi!E$18=$A3,Lundi!E$1,IF(Lundi!E$19=$A3,Lundi!E$1,IF(Lundi!E$20=$A3,Lundi!E$1,IF(Lundi!E$21=$A3,Lundi!E$1,IF(Lundi!E$22=$A3,Lundi!E$1,IF(Lundi!E$23=$A3,Lundi!E$1,IF(Lundi!E$24=$A3,Lundi!E$1,IF(Lundi!E$25=$A3,Lundi!E$1,IF(Lundi!E$26=$A3,Lundi!E$1,IF(Lundi!E$27=$A3,Lundi!E$1,IF(Lundi!E$28=$A3,Lundi!E$1,IF(Lundi!E$29=$A3,Lundi!E$1,IF(Lundi!E$30=$A3,Lundi!E$1,"")))))))))))))) | M4: =IF(Lundi!F$17=$A3,Lundi!F$1,IF(Lundi!F$18=$A3,Lundi!F$1,IF(Lundi!F$19=$A3,Lundi!F$1,IF(Lundi!F$20=$A3,Lundi!F$1,IF(Lundi!F$21=$A3,Lundi!F$1,IF(Lundi!F$22=$A3,Lundi!F$1,IF(Lundi!F$23=$A3,Lundi!F$1,IF(Lundi!F$24=$A3,Lundi!F$1,IF(Lundi!F$25=$A3,Lundi!F$1,IF(Lundi!F$26=$A3,Lundi!F$1,IF(Lundi!F$27=$A3,Lundi!F$1,IF(Lundi!F$28=$A3,Lundi!F$1,IF(Lundi!F$29=$A3,Lundi!F$1,IF(Lundi!F$30=$A3,Lundi!F$1,"")))))))))))))) | N4: =IF(Lundi!G$17=$A3,Lundi!G$1,IF(Lundi!G$18=$A3,Lundi!G$1,IF(Lundi!G$19=$A3,Lundi!G$1,IF(Lundi!G$20=$A3,Lundi!G$1,IF(Lundi!G$21=$A3,Lundi!G$1,IF(Lundi!G$22=$A3,Lundi!G$1,IF(Lundi!G$23=$A3,Lundi!G$1,IF(Lundi!G$24=$A3,Lundi!G$1,IF(Lundi!G$25=$A3,Lundi!G$1,IF(Lundi!G$26=$A3,Lundi!G$1,IF(Lundi!G$27=$A3,Lundi!G$1,IF(Lundi!G$28=$A3,Lundi!G$1,IF(Lundi!G$29=$A3,Lundi!G$1,IF(Lundi!G$30=$A3,Lundi!G$1,"")))))))))))))) | O4: =IF(Lundi!H$17=$A3,Lundi!H$1,IF(Lundi!H$18=$A3,Lundi!H$1,IF(Lundi!H$19=$A3,Lundi!H$1,IF(Lundi!H$20=$A3,Lundi!H$1,IF(Lundi!H$21=$A3,Lundi!H$1,IF(Lundi!H$22=$A3,Lundi!H$1,IF(Lundi!H$23=$A3,Lundi!H$1,IF(Lundi!H$24=$A3,Lundi!H$1,IF(Lundi!H$25=$A3,Lundi!H$1,IF(Lundi!H$26=$A3,Lundi!H$1,IF(Lundi!H$27=$A3,Lundi!H$1,IF(Lundi!H$28=$A3,Lundi!H$1,IF(Lundi!H$29=$A3,Lundi!H$1,IF(Lundi!H$30=$A3,Lundi!H$1,"")))))))))))))) | P4: =IF(Lundi!I$17=$A3,Lundi!I$1,IF(Lundi!I$18=$A3,Lundi!I$1,IF(Lundi!I$19=$A3,Lundi!I$1,IF(Lundi!I$20=$A3,Lundi!I$1,IF(Lundi!I$21=$A3,Lundi!I$1,IF(Lundi!I$22=$A3,Lundi!I$1,IF(Lundi!I$23=$A3,Lundi!I$1,IF(Lundi!I$24=$A3,Lundi!I$1,IF(Lundi!I$25=$A3,Lundi!I$1,IF(Lundi!I$26=$A3,Lundi!I$1,IF(Lundi!I$27=$A3,Lundi!I$1,IF(Lundi!I$28=$A3,Lundi!I$1,IF(Lundi!I$29=$A3,Lundi!I$1,IF(Lundi!I$30=$A3,Lundi!I$1,"")))))))))))))) | Q4: =IF(Lundi!J$17=$A3,Lundi!J$1,IF(Lundi!J$18=$A3,Lundi!J$1,IF(Lundi!J$19=$A3,Lundi!J$1,IF(Lundi!J$20=$A3,Lundi!J$1,IF(Lundi!J$21=$A3,Lundi!J$1,IF(Lundi!J$22=$A3,Lundi!J$1,IF(Lundi!J$23=$A3,Lundi!J$1,IF(Lundi!J$24=$A3,Lundi!J$1,IF(Lundi!J$25=$A3,Lundi!J$1,IF(Lundi!J$26=$A3,Lundi!J$1,IF(Lundi!J$27=$A3,Lundi!J$1,IF(Lundi!J$28=$A3,Lundi!J$1,IF(Lundi!J$29=$A3,Lundi!J$1,IF(Lundi!J$30=$A3,Lundi!J$1,"")))))))))))))) | R4: =IF(Mardi!B$17=$A3,Mardi!B$1,IF(Mardi!B$18=$A3,Mardi!B$1,IF(Mardi!B$19=$A3,Mardi!B$1,IF(Mardi!B$20=$A3,Mardi!B$1,IF(Mardi!B$21=$A3,Mardi!B$1,IF(Mardi!B$22=$A3,Mardi!B$1,IF(Mardi!B$23=$A3,Mardi!B$1,IF(Mardi!B$24=$A3,Mardi!B$1,IF(Mardi!B$25=$A3,Mardi!B$1,IF(Mardi!B$26=$A3,Mardi!B$1,IF(Mardi!B$27=$A3,Mardi!B$1,IF(Mardi!B$28=$A3,Mardi!B$1,IF(Mardi!B$29=$A3,Mardi!B$1,IF(Mardi!B$30=$A3,Mardi!B$1,"")))))))))))))) | S4: =IF(Mardi!C$17=$A3,Mardi!C$1,IF(Mardi!C$18=$A3,Mardi!C$1,IF(Mardi!C$19=$A3,Mardi!C$1,IF(Mardi!C$20=$A3,Mardi!C$1,IF(Mardi!C$21=$A3,Mardi!C$1,IF(Mardi!C$22=$A3,Mardi!C$1,IF(Mardi!C$23=$A3,Mardi!C$1,IF(Mardi!C$24=$A3,Mardi!C$1,IF(Mardi!C$25=$A3,Mardi!C$1,IF(Mardi!C$26=$A3,Mardi!C$1,IF(Mardi!C$27=$A3,Mardi!C$1,IF(Mardi!C$28=$A3,Mardi!C$1,IF(Mardi!C$29=$A3,Mardi!C$1,IF(Mardi!C$30=$A3,Mardi!C$1,"")))))))))))))) | T4: =IF(Mardi!D$17=$A3,Mardi!D$1,IF(Mardi!D$18=$A3,Mardi!D$1,IF(Mardi!D$19=$A3,Mardi!D$1,IF(Mardi!D$20=$A3,Mardi!D$1,IF(Mardi!D$21=$A3,Mardi!D$1,IF(Mardi!D$22=$A3,Mardi!D$1,IF(Mardi!D$23=$A3,Mardi!D$1,IF(Mardi!D$24=$A3,Mardi!D$1,IF(Mardi!D$25=$A3,Mardi!D$1,IF(Mardi!D$26=$A3,Mardi!D$1,IF(Mardi!D$27=$A3,Mardi!D$1,IF(Mardi!D$28=$A3,Mardi!D$1,IF(Mardi!D$29=$A3,Mardi!D$1,IF(Mardi!D$30=$A3,Mardi!D$1,"")))))))))))))) -> Self | U4: =IF(Mardi!E$17=$A3,Mardi!E$1,IF(Mardi!E$18=$A3,Mardi!E$1,IF(Mardi!E$19=$A3,Mardi!E$1,IF(Mardi!E$20=$A3,Mardi!E$1,IF(Mardi!E$21=$A3,Mardi!E$1,IF(Mardi!E$22=$A3,Mardi!E$1,IF(Mardi!E$23=$A3,Mardi!E$1,IF(Mardi!E$24=$A3,Mardi!E$1,IF(Mardi!E$25=$A3,Mardi!E$1,IF(Mardi!E$26=$A3,Mardi!E$1,IF(Mardi!E$27=$A3,Mardi!E$1,IF(Mardi!E$28=$A3,Mardi!E$1,IF(Mardi!E$29=$A3,Mardi!E$1,IF(Mardi!E$30=$A3,Mardi!E$1,"")))))))))))))) | V4: =IF(Mardi!F$17=$A3,Mardi!F$1,IF(Mardi!F$18=$A3,Mardi!F$1,IF(Mardi!F$19=$A3,Mardi!F$1,IF(Mardi!F$20=$A3,Mardi!F$1,IF(Mardi!F$21=$A3,Mardi!F$1,IF(Mardi!F$22=$A3,Mardi!F$1,IF(Mardi!F$23=$A3,Mardi!F$1,IF(Mardi!F$24=$A3,Mardi!F$1,IF(Mardi!F$25=$A3,Mardi!F$1,IF(Mardi!F$26=$A3,Mardi!F$1,IF(Mardi!F$27=$A3,Mardi!F$1,IF(Mardi!F$28=$A3,Mardi!F$1,IF(Mardi!F$29=$A3,Mardi!F$1,IF(Mardi!F$30=$A3,Mardi!F$1,"")))))))))))))) | W4: =IF(Mardi!G$17=$A3,Mardi!G$1,IF(Mardi!G$18=$A3,Mardi!G$1,IF(Mardi!G$19=$A3,Mardi!G$1,IF(Mardi!G$20=$A3,Mardi!G$1,IF(Mardi!G$21=$A3,Mardi!G$1,IF(Mardi!G$22=$A3,Mardi!G$1,IF(Mardi!G$23=$A3,Mardi!G$1,IF(Mardi!G$24=$A3,Mardi!G$1,IF(Mardi!G$25=$A3,Mardi!G$1,IF(Mardi!G$26=$A3,Mardi!G$1,IF(Mardi!G$27=$A3,Mardi!G$1,IF(Mardi!G$28=$A3,Mardi!G$1,IF(Mardi!G$29=$A3,Mardi!G$1,IF(Mardi!G$30=$A3,Mardi!G$1,"")))))))))))))) | X4: =IF(Mardi!H$17=$A3,Mardi!H$1,IF(Mardi!H$18=$A3,Mardi!H$1,IF(Mardi!H$19=$A3,Mardi!H$1,IF(Mardi!H$20=$A3,Mardi!H$1,IF(Mardi!H$21=$A3,Mardi!H$1,IF(Mardi!H$22=$A3,Mardi!H$1,IF(Mardi!H$23=$A3,Mardi!H$1,IF(Mardi!H$24=$A3,Mardi!H$1,IF(Mardi!H$25=$A3,Mardi!H$1,IF(Mardi!H$26=$A3,Mardi!H$1,IF(Mardi!H$27=$A3,Mardi!H$1,IF(Mardi!H$28=$A3,Mardi!H$1,IF(Mardi!H$29=$A3,Mardi!H$1,IF(Mardi!H$30=$A3,Mardi!H$1,"")))))))))))))) | Y4: =IF(Mardi!I$17=$A3,Mardi!I$1,IF(Mardi!I$18=$A3,Mardi!I$1,IF(Mardi!I$19=$A3,Mardi!I$1,IF(Mardi!I$20=$A3,Mardi!I$1,IF(Mardi!I$21=$A3,Mardi!I$1,IF(Mardi!I$22=$A3,Mardi!I$1,IF(Mardi!I$23=$A3,Mardi!I$1,IF(Mardi!I$24=$A3,Mardi!I$1,IF(Mardi!I$25=$A3,Mardi!I$1,IF(Mardi!I$26=$A3,Mardi!I$1,IF(Mardi!I$27=$A3,Mardi!I$1,IF(Mardi!I$28=$A3,Mardi!I$1,IF(Mardi!I$29=$A3,Mardi!I$1,IF(Mardi!I$30=$A3,Mardi!I$1,"")))))))))))))) | Z4: =IF(Mardi!J$17=$A3,Mardi!J$1,IF(Mardi!J$18=$A3,Mardi!J$1,IF(Mardi!J$19=$A3,Mardi!J$1,IF(Mardi!J$20=$A3,Mardi!J$1,IF(Mardi!J$21=$A3,Mardi!J$1,IF(Mardi!J$22=$A3,Mardi!J$1,IF(Mardi!J$23=$A3,Mardi!J$1,IF(Mardi!J$24=$A3,Mardi!J$1,IF(Mardi!J$25=$A3,Mardi!J$1,IF(Mardi!J$26=$A3,Mardi!J$1,IF(Mardi!J$27=$A3,Mardi!J$1,IF(Mardi!J$28=$A3,Mardi!J$1,IF(Mardi!J$29=$A3,Mardi!J$1,IF(Mardi!J$30=$A3,Mardi!J$1,"")))))))))))))) | AA4: =IF(Mercredi!B$17=$A3,Mercredi!B$1,IF(Mercredi!B$18=$A3,Mercredi!B$1,IF(Mercredi!B$19=$A3,Mercredi!B$1,IF(Mercredi!B$20=$A3,Mercredi!B$1,IF(Mercredi!B$21=$A3,Mercredi!B$1,IF(Mercredi!B$22=$A3,Mercredi!B$1,IF(Mercredi!B$23=$A3,Mercredi!B$1,IF(Mercredi!B$24=$A3,Mercredi!B$1,IF(Mercredi!B$25=$A3,Mercredi!B$1,IF(Mercredi!B$26=$A3,Mercredi!B$1,IF(Mercredi!B$27=$A3,Mercredi!B$1,IF(Mercredi!B$28=$A3,Mercredi!B$1,IF(Mercredi!B$29=$A3,Mercredi!B$1,IF(Mercredi!B$30=$A3,Mercredi!B$1,"")))))))))))))) | AB4: =IF(Mercredi!C$17=$A3,Mercredi!C$1,IF(Mercredi!C$18=$A3,Mercredi!C$1,IF(Mercredi!C$19=$A3,Mercredi!C$1,IF(Mercredi!C$20=$A3,Mercredi!C$1,IF(Mercredi!C$21=$A3,Mercredi!C$1,IF(Mercredi!C$22=$A3,Mercredi!C$1,IF(Mercredi!C$23=$A3,Mercredi!C$1,IF(Mercredi!C$24=$A3,Mercredi!C$1,IF(Mercredi!C$25=$A3,Mercredi!C$1,IF(Mercredi!C$26=$A3,Mercredi!C$1,IF(Mercredi!C$27=$A3,Mercredi!C$1,IF(Mercredi!C$28=$A3,Mercredi!C$1,IF(Mercredi!C$29=$A3,Mercredi!C$1,IF(Mercredi!C$30=$A3,Mercredi!C$1,"")))))))))))))) | AC4: =IF(Mercredi!D$17=$A3,Mercredi!D$1,IF(Mercredi!D$18=$A3,Mercredi!D$1,IF(Mercredi!D$19=$A3,Mercredi!D$1,IF(Mercredi!D$20=$A3,Mercredi!D$1,IF(Mercredi!D$21=$A3,Mercredi!D$1,IF(Mercredi!D$22=$A3,Mercredi!D$1,IF(Mercredi!D$23=$A3,Mercredi!D$1,IF(Mercredi!D$24=$A3,Mercredi!D$1,IF(Mercredi!D$25=$A3,Mercredi!D$1,IF(Mercredi!D$26=$A3,Mercredi!D$1,IF(Mercredi!D$27=$A3,Mercredi!D$1,IF(Mercredi!D$28=$A3,Mercredi!D$1,IF(Mercredi!D$29=$A3,Mercredi!D$1,IF(Mercredi!D$30=$A3,Mercredi!D$1,"")))))))))))))) | AD4: =IF(Mercredi!E$17=$A3,Mercredi!E$1,IF(Mercredi!E$18=$A3,Mercredi!E$1,IF(Mercredi!E$19=$A3,Mercredi!E$1,IF(Mercredi!E$20=$A3,Mercredi!E$1,IF(Mercredi!E$21=$A3,Mercredi!E$1,IF(Mercredi!E$22=$A3,Mercredi!E$1,IF(Mercredi!E$23=$A3,Mercredi!E$1,IF(Mercredi!E$24=$A3,Mercredi!E$1,IF(Mercredi!E$25=$A3,Mercredi!E$1,IF(Mercredi!E$26=$A3,Mercredi!E$1,IF(Mercredi!E$27=$A3,Mercredi!E$1,IF(Mercredi!E$28=$A3,Mercredi!E$1,IF(Mercredi!E$29=$A3,Mercredi!E$1,IF(Mercredi!E$30=$A3,Mercredi!E$1,"")))))))))))))) | AE4: =IF(Mercredi!F$17=$A3,Mercredi!F$1,IF(Mercredi!F$18=$A3,Mercredi!F$1,IF(Mercredi!F$19=$A3,Mercredi!F$1,IF(Mercredi!F$20=$A3,Mercredi!F$1,IF(Mercredi!F$21=$A3,Mercredi!F$1,IF(Mercredi!F$22=$A3,Mercredi!F$1,IF(Mercredi!F$23=$A3,Mercredi!F$1,IF(Mercredi!F$24=$A3,Mercredi!F$1,IF(Mercredi!F$25=$A3,Mercredi!F$1,IF(Mercredi!F$26=$A3,Mercredi!F$1,IF(Mercredi!F$27=$A3,Mercredi!F$1,IF(Mercredi!F$28=$A3,Mercredi!F$1,IF(Mercredi!F$29=$A3,Mercredi!F$1,IF(Mercredi!F$30=$A3,Mercredi!F$1,"")))))))))))))) | AF4: =IF(Mercredi!G$17=$A3,Mercredi!G$1,IF(Mercredi!G$18=$A3,Mercredi!G$1,IF(Mercredi!G$19=$A3,Mercredi!G$1,IF(Mercredi!G$20=$A3,Mercredi!G$1,IF(Mercredi!G$21=$A3,Mercredi!G$1,IF(Mercredi!G$22=$A3,Mercredi!G$1,IF(Mercredi!G$23=$A3,Mercredi!G$1,IF(Mercredi!G$24=$A3,Mercredi!G$1,IF(Mercredi!G$25=$A3,Mercredi!G$1,IF(Mercredi!G$26=$A3,Mercredi!G$1,IF(Mercredi!G$27=$A3,Mercredi!G$1,IF(Mercredi!G$28=$A3,Mercredi!G$1,IF(Mercredi!G$29=$A3,Mercredi!G$1,IF(Mercredi!G$30=$A3,Mercredi!G$1,"")))))))))))))) | AG4: =IF(Mercredi!H$17=$A3,Mercredi!H$1,IF(Mercredi!H$18=$A3,Mercredi!H$1,IF(Mercredi!H$19=$A3,Mercredi!H$1,IF(Mercredi!H$20=$A3,Mercredi!H$1,IF(Mercredi!H$21=$A3,Mercredi!H$1,IF(Mercredi!H$22=$A3,Mercredi!H$1,IF(Mercredi!H$23=$A3,Mercredi!H$1,IF(Mercredi!H$24=$A3,Mercredi!H$1,IF(Mercredi!H$25=$A3,Mercredi!H$1,IF(Mercredi!H$26=$A3,Mercredi!H$1,IF(Mercredi!H$27=$A3,Mercredi!H$1,IF(Mercredi!H$28=$A3,Mercredi!H$1,IF(Mercredi!H$29=$A3,Mercredi!H$1,IF(Mercredi!H$30=$A3,Mercredi!H$1,"")))))))))))))) | AH4: =IF(Mercredi!I$17=$A3,Mercredi!I$1,IF(Mercredi!I$18=$A3,Mercredi!I$1,IF(Mercredi!I$19=$A3,Mercredi!I$1,IF(Mercredi!I$20=$A3,Mercredi!I$1,IF(Mercredi!I$21=$A3,Mercredi!I$1,IF(Mercredi!I$22=$A3,Mercredi!I$1,IF(Mercredi!I$23=$A3,Mercredi!I$1,IF(Mercredi!I$24=$A3,Mercredi!I$1,IF(Mercredi!I$25=$A3,Mercredi!I$1,IF(Mercredi!I$26=$A3,Mercredi!I$1,IF(Mercredi!I$27=$A3,Mercredi!I$1,IF(Mercredi!I$28=$A3,Mercredi!I$1,IF(Mercredi!I$29=$A3,Mercredi!I$1,IF(Mercredi!I$30=$A3,Mercredi!I$1,"")))))))))))))) | AI4: =IF(Mercredi!J$17=$A3,Mercredi!J$1,IF(Mercredi!J$18=$A3,Mercredi!J$1,IF(Mercredi!J$19=$A3,Mercredi!J$1,IF(Mercredi!J$20=$A3,Mercredi!J$1,IF(Mercredi!J$21=$A3,Mercredi!J$1,IF(Mercredi!J$22=$A3,Mercredi!J$1,IF(Mercredi!J$23=$A3,Mercredi!J$1,IF(Mercredi!J$24=$A3,Mercredi!J$1,IF(Mercredi!J$25=$A3,Mercredi!J$1,IF(Mercredi!J$26=$A3,Mercredi!J$1,IF(Mercredi!J$27=$A3,Mercredi!J$1,IF(Mercredi!J$28=$A3,Mercredi!J$1,IF(Mercredi!J$29=$A3,Mercredi!J$1,IF(Mercredi!J$30=$A3,Mercredi!J$1,"")))))))))))))) | AJ4: =IF(Jeudi!B$17=$A3,Jeudi!B$1,IF(Jeudi!B$18=$A3,Jeudi!B$1,IF(Jeudi!B$19=$A3,Jeudi!B$1,IF(Jeudi!B$20=$A3,Jeudi!B$1,IF(Jeudi!B$21=$A3,Jeudi!B$1,IF(Jeudi!B$22=$A3,Jeudi!B$1,IF(Jeudi!B$23=$A3,Jeudi!B$1,IF(Jeudi!B$24=$A3,Jeudi!B$1,IF(Jeudi!B$25=$A3,Jeudi!B$1,IF(Jeudi!B$26=$A3,Jeudi!B$1,IF(Jeudi!B$27=$A3,Jeudi!B$1,IF(Jeudi!B$28=$A3,Jeudi!B$1,IF(Jeudi!B$29=$A3,Jeudi!B$1,IF(Jeudi!B$30=$A3,Jeudi!B$1,"")))))))))))))) | AK4: =IF(Jeudi!C$17=$A3,Jeudi!C$1,IF(Jeudi!C$18=$A3,Jeudi!C$1,IF(Jeudi!C$19=$A3,Jeudi!C$1,IF(Jeudi!C$20=$A3,Jeudi!C$1,IF(Jeudi!C$21=$A3,Jeudi!C$1,IF(Jeudi!C$22=$A3,Jeudi!C$1,IF(Jeudi!C$23=$A3,Jeudi!C$1,IF(Jeudi!C$24=$A3,Jeudi!C$1,IF(Jeudi!C$25=$A3,Jeudi!C$1,IF(Jeudi!C$26=$A3,Jeudi!C$1,IF(Jeudi!C$27=$A3,Jeudi!C$1,IF(Jeudi!C$28=$A3,Jeudi!C$1,IF(Jeudi!C$29=$A3,Jeudi!C$1,IF(Jeudi!C$30=$A3,Jeudi!C$1,"")))))))))))))) | AL4: =IF(Jeudi!D$17=$A3,Jeudi!D$1,IF(Jeudi!D$18=$A3,Jeudi!D$1,IF(Jeudi!D$19=$A3,Jeudi!D$1,IF(Jeudi!D$20=$A3,Jeudi!D$1,IF(Jeudi!D$21=$A3,Jeudi!D$1,IF(Jeudi!D$22=$A3,Jeudi!D$1,IF(Jeudi!D$23=$A3,Jeudi!D$1,IF(Jeudi!D$24=$A3,Jeudi!D$1,IF(Jeudi!D$25=$A3,Jeudi!D$1,IF(Jeudi!D$26=$A3,Jeudi!D$1,IF(Jeudi!D$27=$A3,Jeudi!D$1,IF(Jeudi!D$28=$A3,Jeudi!D$1,IF(Jeudi!D$29=$A3,Jeudi!D$1,IF(Jeudi!D$30=$A3,Jeudi!D$1,"")))))))))))))) | AM4: =IF(Jeudi!E$17=$A3,Jeudi!E$1,IF(Jeudi!E$18=$A3,Jeudi!E$1,IF(Jeudi!E$19=$A3,Jeudi!E$1,IF(Jeudi!E$20=$A3,Jeudi!E$1,IF(Jeudi!E$21=$A3,Jeudi!E$1,IF(Jeudi!E$22=$A3,Jeudi!E$1,IF(Jeudi!E$23=$A3,Jeudi!E$1,IF(Jeudi!E$24=$A3,Jeudi!E$1,IF(Jeudi!E$25=$A3,Jeudi!E$1,IF(Jeudi!E$26=$A3,Jeudi!E$1,IF(Jeudi!E$27=$A3,Jeudi!E$1,IF(Jeudi!E$28=$A3,Jeudi!E$1,IF(Jeudi!E$29=$A3,Jeudi!E$1,IF(Jeudi!E$30=$A3,Jeudi!E$1,"")))))))))))))) | AN4: =IF(Jeudi!F$17=$A3,Jeudi!F$1,IF(Jeudi!F$18=$A3,Jeudi!F$1,IF(Jeudi!F$19=$A3,Jeudi!F$1,IF(Jeudi!F$20=$A3,Jeudi!F$1,IF(Jeudi!F$21=$A3,Jeudi!F$1,IF(Jeudi!F$22=$A3,Jeudi!F$1,IF(Jeudi!F$23=$A3,Jeudi!F$1,IF(Jeudi!F$24=$A3,Jeudi!F$1,IF(Jeudi!F$25=$A3,Jeudi!F$1,IF(Jeudi!F$26=$A3,Jeudi!F$1,IF(Jeudi!F$27=$A3,Jeudi!F$1,IF(Jeudi!F$28=$A3,Jeudi!F$1,IF(Jeudi!F$29=$A3,Jeudi!F$1,IF(Jeudi!F$30=$A3,Jeudi!F$1,"")))))))))))))) -> At. Polyvalent | AO4: =IF(Jeudi!G$17=$A3,Jeudi!G$1,IF(Jeudi!G$18=$A3,Jeudi!G$1,IF(Jeudi!G$19=$A3,Jeudi!G$1,IF(Jeudi!G$20=$A3,Jeudi!G$1,IF(Jeudi!G$21=$A3,Jeudi!G$1,IF(Jeudi!G$22=$A3,Jeudi!G$1,IF(Jeudi!G$23=$A3,Jeudi!G$1,IF(Jeudi!G$24=$A3,Jeudi!G$1,IF(Jeudi!G$25=$A3,Jeudi!G$1,IF(Jeudi!G$26=$A3,Jeudi!G$1,IF(Jeudi!G$27=$A3,Jeudi!G$1,IF(Jeudi!G$28=$A3,Jeudi!G$1,IF(Jeudi!G$29=$A3,Jeudi!G$1,IF(Jeudi!G$30=$A3,Jeudi!G$1,"")))))))))))))) | AP4: =IF(Jeudi!H$17=$A3,Jeudi!H$1,IF(Jeudi!H$18=$A3,Jeudi!H$1,IF(Jeudi!H$19=$A3,Jeudi!H$1,IF(Jeudi!H$20=$A3,Jeudi!H$1,IF(Jeudi!H$21=$A3,Jeudi!H$1,IF(Jeudi!H$22=$A3,Jeudi!H$1,IF(Jeudi!H$23=$A3,Jeudi!H$1,IF(Jeudi!H$24=$A3,Jeudi!H$1,IF(Jeudi!H$25=$A3,Jeudi!H$1,IF(Jeudi!H$26=$A3,Jeudi!H$1,IF(Jeudi!H$27=$A3,Jeudi!H$1,IF(Jeudi!H$28=$A3,Jeudi!H$1,IF(Jeudi!H$29=$A3,Jeudi!H$1,IF(Jeudi!H$30=$A3,Jeudi!H$1,"")))))))))))))) | AQ4: =IF(Jeudi!I$17=$A3,Jeudi!I$1,IF(Jeudi!I$18=$A3,Jeudi!I$1,IF(Jeudi!I$19=$A3,Jeudi!I$1,IF(Jeudi!I$20=$A3,Jeudi!I$1,IF(Jeudi!I$21=$A3,Jeudi!I$1,IF(Jeudi!I$22=$A3,Jeudi!I$1,IF(Jeudi!I$23=$A3,Jeudi!I$1,IF(Jeudi!I$24=$A3,Jeudi!I$1,IF(Jeudi!I$25=$A3,Jeudi!I$1,IF(Jeudi!I$26=$A3,Jeudi!I$1,IF(Jeudi!I$27=$A3,Jeudi!I$1,IF(Jeudi!I$28=$A3,Jeudi!I$1,IF(Jeudi!I$29=$A3,Jeudi!I$1,IF(Jeudi!I$30=$A3,Jeudi!I$1,"")))))))))))))) | AR4: =IF(Jeudi!J$17=$A3,Jeudi!J$1,IF(Jeudi!J$18=$A3,Jeudi!J$1,IF(Jeudi!J$19=$A3,Jeudi!J$1,IF(Jeudi!J$20=$A3,Jeudi!J$1,IF(Jeudi!J$21=$A3,Jeudi!J$1,IF(Jeudi!J$22=$A3,Jeudi!J$1,IF(Jeudi!J$23=$A3,Jeudi!J$1,IF(Jeudi!J$24=$A3,Jeudi!J$1,IF(Jeudi!J$25=$A3,Jeudi!J$1,IF(Jeudi!J$26=$A3,Jeudi!J$1,IF(Jeudi!J$27=$A3,Jeudi!J$1,IF(Jeudi!J$28=$A3,Jeudi!J$1,IF(Jeudi!J$29=$A3,Jeudi!J$1,IF(Jeudi!J$30=$A3,Jeudi!J$1,"")))))))))))))) | AS4: =IF(Vendredi!B$17=$A3,Vendredi!B$1,IF(Vendredi!B$18=$A3,Vendredi!B$1,IF(Vendredi!B$19=$A3,Vendredi!B$1,IF(Vendredi!B$20=$A3,Vendredi!B$1,IF(Vendredi!B$21=$A3,Vendredi!B$1,IF(Vendredi!B$22=$A3,Vendredi!B$1,IF(Vendredi!B$23=$A3,Vendredi!B$1,IF(Vendredi!B$24=$A3,Vendredi!B$1,IF(Vendredi!B$25=$A3,Vendredi!B$1,IF(Vendredi!B$26=$A3,Vendredi!B$1,IF(Vendredi!B$27=$A3,Vendredi!B$1,IF(Vendredi!B$28=$A3,Vendredi!B$1,IF(Vendredi!B$29=$A3,Vendredi!B$1,IF(Vendredi!B$30=$A3,Vendredi!B$1,"")))))))))))))) | AT4: =IF(Vendredi!C$17=$A3,Vendredi!C$1,IF(Vendredi!C$18=$A3,Vendredi!C$1,IF(Vendredi!C$19=$A3,Vendredi!C$1,IF(Vendredi!C$20=$A3,Vendredi!C$1,IF(Vendredi!C$21=$A3,Vendredi!C$1,IF(Vendredi!C$22=$A3,Vendredi!C$1,IF(Vendredi!C$23=$A3,Vendredi!C$1,IF(Vendredi!C$24=$A3,Vendredi!C$1,IF(Vendredi!C$25=$A3,Vendredi!C$1,IF(Vendredi!C$26=$A3,Vendredi!C$1,IF(Vendredi!C$27=$A3,Vendredi!C$1,IF(Vendredi!C$28=$A3,Vendredi!C$1,IF(Vendredi!C$29=$A3,Vendredi!C$1,IF(Vendredi!C$30=$A3,Vendredi!C$1,"")))))))))))))) | AU4: =IF(Vendredi!D$17=$A3,Vendredi!D$1,IF(Vendredi!D$18=$A3,Vendredi!D$1,IF(Vendredi!D$19=$A3,Vendredi!D$1,IF(Vendredi!D$20=$A3,Vendredi!D$1,IF(Vendredi!D$21=$A3,Vendredi!D$1,IF(Vendredi!D$22=$A3,Vendredi!D$1,IF(Vendredi!D$23=$A3,Vendredi!D$1,IF(Vendredi!D$24=$A3,Vendredi!D$1,IF(Vendredi!D$25=$A3,Vendredi!D$1,IF(Vendredi!D$26=$A3,Vendredi!D$1,IF(Vendredi!D$27=$A3,Vendredi!D$1,IF(Vendredi!D$28=$A3,Vendredi!D$1,IF(Vendredi!D$29=$A3,Vendredi!D$1,IF(Vendredi!D$30=$A3,Vendredi!D$1,"")))))))))))))) | AV4: =IF(Vendredi!E$17=$A3,Vendredi!E$1,IF(Vendredi!E$18=$A3,Vendredi!E$1,IF(Vendredi!E$19=$A3,Vendredi!E$1,IF(Vendredi!E$20=$A3,Vendredi!E$1,IF(Vendredi!E$21=$A3,Vendredi!E$1,IF(Vendredi!E$22=$A3,Vendredi!E$1,IF(Vendredi!E$23=$A3,Vendredi!E$1,IF(Vendredi!E$24=$A3,Vendredi!E$1,IF(Vendredi!E$25=$A3,Vendredi!E$1,IF(Vendredi!E$26=$A3,Vendredi!E$1,IF(Vendredi!E$27=$A3,Vendredi!E$1,IF(Vendredi!E$28=$A3,Vendredi!E$1,IF(Vendredi!E$29=$A3,Vendredi!E$1,IF(Vendredi!E$30=$A3,Vendredi!E$1,"")))))))))))))) -> Espace vert | AW4: =IF(Vendredi!F$17=$A3,Vendredi!F$1,IF(Vendredi!F$18=$A3,Vendredi!F$1,IF(Vendredi!F$19=$A3,Vendredi!F$1,IF(Vendredi!F$20=$A3,Vendredi!F$1,IF(Vendredi!F$21=$A3,Vendredi!F$1,IF(Vendredi!F$22=$A3,Vendredi!F$1,IF(Vendredi!F$23=$A3,Vendredi!F$1,IF(Vendredi!F$24=$A3,Vendredi!F$1,IF(Vendredi!F$25=$A3,Vendredi!F$1,IF(Vendredi!F$26=$A3,Vendredi!F$1,IF(Vendredi!F$27=$A3,Vendredi!F$1,IF(Vendredi!F$28=$A3,Vendredi!F$1,IF(Vendredi!F$29=$A3,Vendredi!F$1,IF(Vendredi!F$30=$A3,Vendredi!F$1,"")))))))))))))) | AX4: =IF(Vendredi!G$17=$A3,Vendredi!G$1,IF(Vendredi!G$18=$A3,Vendredi!G$1,IF(Vendredi!G$19=$A3,Vendredi!G$1,IF(Vendredi!G$20=$A3,Vendredi!G$1,IF(Vendredi!G$21=$A3,Vendredi!G$1,IF(Vendredi!G$22=$A3,Vendredi!G$1,IF(Vendredi!G$23=$A3,Vendredi!G$1,IF(Vendredi!G$24=$A3,Vendredi!G$1,IF(Vendredi!G$25=$A3,Vendredi!G$1,IF(Vendredi!G$26=$A3,Vendredi!G$1,IF(Vendredi!G$27=$A3,Vendredi!G$1,IF(Vendredi!G$28=$A3,Vendredi!G$1,IF(Vendredi!G$29=$A3,Vendredi!G$1,IF(Vendredi!G$30=$A3,Vendredi!G$1,"")))))))))))))) | AY4: =IF(Vendredi!H$17=$A3,Vendredi!H$1,IF(Vendredi!H$18=$A3,Vendredi!H$1,IF(Vendredi!H$19=$A3,Vendredi!H$1,IF(Vendredi!H$20=$A3,Vendredi!H$1,IF(Vendredi!H$21=$A3,Vendredi!H$1,IF(Vendredi!H$22=$A3,Vendredi!H$1,IF(Vendredi!H$23=$A3,Vendredi!H$1,IF(Vendredi!H$24=$A3,Vendredi!H$1,IF(Vendredi!H$25=$A3,Vendredi!H$1,IF(Vendredi!H$26=$A3,Vendredi!H$1,IF(Vendredi!H$27=$A3,Vendredi!H$1,IF(Vendredi!H$28=$A3,Vendredi!H$1,IF(Vendredi!H$29=$A3,Vendredi!H$1,IF(Vendredi!H$30=$A3,Vendredi!H$1,"")))))))))))))) | AZ4: =IF(Vendredi!I$17=$A3,Vendredi!I$1,IF(Vendredi!I$18=$A3,Vendredi!I$1,IF(Vendredi!I$19=$A3,Vendredi!I$1,IF(Vendredi!I$20=$A3,Vendredi!I$1,IF(Vendredi!I$21=$A3,Vendredi!I$1,IF(Vendredi!I$22=$A3,Vendredi!I$1,IF(Vendredi!I$23=$A3,Vendredi!I$1,IF(Vendredi!I$24=$A3,Vendredi!I$1,IF(Vendredi!I$25=$A3,Vendredi!I$1,IF(Vendredi!I$26=$A3,Vendredi!I$1,IF(Vendredi!I$27=$A3,Vendredi!I$1,IF(Vendredi!I$28=$A3,Vendredi!I$1,IF(Vendredi!I$29=$A3,Vendredi!I$1,IF(Vendredi!I$30=$A3,Vendredi!I$1,"")))))))))))))) | BA4: =IF(Vendredi!J$17=$A3,Vendredi!J$1,IF(Vendredi!J$18=$A3,Vendredi!J$1,IF(Vendredi!J$19=$A3,Vendredi!J$1,IF(Vendredi!J$20=$A3,Vendredi!J$1,IF(Vendredi!J$21=$A3,Vendredi!J$1,IF(Vendredi!J$22=$A3,Vendredi!J$1,IF(Vendredi!J$23=$A3,Vendredi!J$1,IF(Vendredi!J$24=$A3,Vendredi!J$1,IF(Vendredi!J$25=$A3,Vendredi!J$1,IF(Vendredi!J$26=$A3,Vendredi!J$1,IF(Vendredi!J$27=$A3,Vendredi!J$1,IF(Vendredi!J$28=$A3,Vendredi!J$1,IF(Vendredi!J$29=$A3,Vendredi!J$1,IF(Vendredi!J$30=$A3,Vendredi!J$1,""))))))))))))))
