Workbook

Sheet Lundi
B1: Classe B | C1: Restaurant | D1: Self | E1: Espace vert | F1: At. Polyvalent | G1: Cadre de vie | H1: Horti | I1: Classe D | J1: Espace Ressource
A2: Matin | B2: Pierre | C2: Alain | D2: Martin
B3: Paul | C3: Rose | D3: Virginie
B4: Jacques | C4: Léon | D4: Damien
B5: Amandine | C5: Benoit | D5: Louis
A17: Après midi | B17: Alain | C17: Martin | D17: Pierre
B18: Rose | C18: Virginie | D18: Paul
B19: Léon | C19: Damien | D19: Jacques
B20: Benoit | C20: Louis | D20: Amandine

Sheet Mardi
B1: Classe B | C1: Restaurant | D1: Self | E1: Espace vert | F1: At. Polyvalent | G1: Cadre de vie | H1: Horti | I1: Classe D | J1: Espace Ressource
A2: Matin | B2: Martin | C2: Pierre | D2: Alain
B3: Virginie | C3: Paul | D3: Rose
B4: Damien | C4: Jacques | D4: Léon
B5: Louis | C5: Amandine | D5: Benoit
A17: Après midi | B17: Alain | C17: Martin | D17: Pierre
B18: Rose | C18: Virginie | D18: Paul
B19: Léon | C19: Damien | D19: Jacques
B20: Benoit | C20: Louis | D20: Amandine

Sheet Mercredi
B1: Classe B | C1: Restaurant | D1: Self | E1: Espace vert | F1: At. Polyvalent | G1: Cadre de vie | H1: Horti | I1: Classe D | J1: Espace Ressource
A2: Matin | E2: Pierre | F2: Alain | G2: Martin
E3: Paul | F3: Rose | G3: Virginie
E4: Jacques | F4: Léon | G4: Damien
E5: Amandine | F5: Benoit | G5: Louis

Sheet Jeudi
B1: Classe B | C1: Restaurant | D1: Self | E1: Espace vert | F1: At. Polyvalent | G1: Cadre de vie | H1: Horti | I1: Classe D | J1: Espace Ressource
A2: Matin | H2: Pierre | I2: Alain | J2: Martin
H3: Paul | I3: Rose | J3: Virginie
H4: Jacques | I4: Léon | J4: Damien
H5: Amandine | I5: Benoit | J5: Louis
A17: Après midi | D17: Alain | E17: Martin | F17: Pierre
D18: Rose | E18: Virginie | F18: Paul
D19: Léon | E19: Damien | F19: Jacques
D20: Benoit | E20: Louis | F20: Amandine

Sheet Vendredi
B1: Classe B | C1: Restaurant | D1: Self | E1: Espace vert | F1: At. Polyvalent | G1: Cadre de vie | H1: Horti | I1: Classe D | J1: Espace Ressource
A2: Matin | D2: Alain | E2: Martin | F2: Pierre
D3: Rose | E3: Virginie | F3: Paul
D4: Léon | E4: Damien | F4: Jacques
D5: Benoit | E5: Louis | F5: Amandine
A17: Après midi | C17: Alain | D17: Martin | E17: Pierre
C18: Rose | D18: Virginie | E18: Paul
C19: Léon | D19: Damien | E19: Jacques
C20: Benoit | D20: Louis | E20: Amandine

Sheet Planning des jeunes
C1: Lundi | D1: Mardi | E1: Mercredi | F1: Jeudi | G1: Vendredi | I1: Lundi | R1: Mardi | AA1: Mercredi | AJ1: Jeudi | AS1: Vendredi
I2: Classe B | J2: Restaurant | K2: Self | L2: Espace vert | M2: At. Polyvalent | N2: Cadre de vie | O2: Horti | P2: Classe D | Q2: Espace Ressource | R2: Classe B | S2: Restaurant | T2: Self | U2: Espace vert | V2: At. Polyvalent | W2: Cadre de vie | X2: Horti | Y2: Classe D | Z2: Espace Ressource | AA2: Classe B | AB2: Restaurant | AC2: Self | AD2: Espace vert | AE2: At. Polyvalent | AF2: Cadre de vie | AG2: Horti | AH2: Classe D | AI2: Espace Ressource | AJ2: Classe B | AK2: Restaurant | AL2: Self | AM2: Espace vert | AN2: At. Polyvalent | AO2: Cadre de vie | AP2: Horti | AQ2: Classe D | AR2: Espace Ressource | AS2: Classe B | AT2: Restaurant | AU2: Self | AV2: Espace vert | AW2: At. Polyvalent | AX2: Cadre de vie | AY2: Horti | AZ2: Classe D | BA2: Espace Ressource
A3: Pierre | B3: Matin | C3: =I3&J3&K3&L3&M3&N3&O3&P3&Q3 -> Classe B | D3: =R3&S3&T3&U3&V3&W3&X3&Y3&Z3 -> Restaurant | E3: =AA3&AB3&AC3&AD3&AE3&AF3&AG3&AH3&AI3 -> Espace vert | F3: =AJ3&AK3&AL3&AM3&AN3&AO3&AP3&AQ3&AR3 -> Horti | G3: =AS3&AT3&AU3&AV3&AW3&AX3&AY3&AZ3&BA3 -> At. Polyvalent | I3: =IF(Lundi!B$2=$A3,Lundi!B$1,IF(Lundi!B$3=$A3,Lundi!B$1,IF(Lundi!B$4=$A3,Lundi!B$1,IF(Lundi!B$5=$A3,Lundi!B$1,IF(Lundi!B$6=$A3,Lundi!B$1,IF(Lundi!B$7=$A3,Lundi!B$1,IF(Lundi!B$8=$A3,Lundi!B$1,IF(Lundi!B$9=$A3,Lundi!B$1,IF(Lundi!B$10=$A3,Lundi!B$1,IF(Lundi!B$11=$A3,Lundi!B$1,IF(Lundi!B$12=$A3,Lundi!B$1,IF(Lundi!B$13=$A3,Lundi!B$1,IF(Lundi!B$14=$A3,Lundi!B$1,IF(Lundi!B$15=$A3,Lundi!B$1,"")))))))))))))) -> Classe B | J3: =IF(Lundi!C$2=$A3,Lundi!C$1,IF(Lundi!C$3=$A3,Lundi!C$1,IF(Lundi!C$4=$A3,Lundi!C$1,IF(Lundi!C$5=$A3,Lundi!C$1,IF(Lundi!C$6=$A3,Lundi!C$1,IF(Lundi!C$7=$A3,Lundi!C$1,IF(Lundi!C$8=$A3,Lundi!C$1,IF(Lundi!C$9=$A3,Lundi!C$1,IF(Lundi!C$10=$A3,Lundi!C$1,IF(Lundi!C$11=$A3,Lundi!C$1,IF(Lundi!C$12=$A3,Lundi!C$1,IF(Lundi!C$13=$A3,Lundi!C$1,IF(Lundi!C$14=$A3,Lundi!C$1,IF(Lundi!C$15=$A3,Lundi!C$1,"")))))))))))))) | K3: =IF(Lundi!D$2=$A3,Lundi!D$1,IF(Lundi!D$3=$A3,Lundi!D$1,IF(Lundi!D$4=$A3,Lundi!D$1,IF(Lundi!D$5=$A3,Lundi!D$1,IF(Lundi!D$6=$A3,Lundi!D$1,IF(Lundi!D$7=$A3,Lundi!D$1,IF(Lundi!D$8=$A3,Lundi!D$1,IF(Lundi!D$9=$A3,Lundi!D$1,IF(Lundi!D$10=$A3,Lundi!D$1,IF(Lundi!D$11=$A3,Lundi!D$1,IF(Lundi!D$12=$A3,Lundi!D$1,IF(Lundi!D$13=$A3,Lundi!D$1,IF(Lundi!D$14=$A3,Lundi!D$1,IF(Lundi!D$15=$A3,Lundi!D$1,"")))))))))))))) | L3: =IF(Lundi!E$2=$A3,Lundi!E$1,IF(Lundi!E$3=$A3,Lundi!E$1,IF(Lundi!E$4=$A3,Lundi!E$1,IF(Lundi!E$5=$A3,Lundi!E$1,IF(Lundi!E$6=$A3,Lundi!E$1,IF(Lundi!E$7=$A3,Lundi!E$1,IF(Lundi!E$8=$A3,Lundi!E$1,IF(Lundi!E$9=$A3,Lundi!E$1,IF(Lundi!E$10=$A3,Lundi!E$1,IF(Lundi!E$11=$A3,Lundi!E$1,IF(Lundi!E$12=$A3,Lundi!E$1,IF(Lundi!E$13=$A3,Lundi!E$1,IF(Lundi!E$14=$A3,Lundi!E$1,IF(Lundi!E$15=$A3,Lundi!E$1,"")))))))))))))) | M3: =IF(Lundi!F$2=$A3,Lundi!F$1,IF(Lundi!F$3=$A3,Lundi!F$1,IF(Lundi!F$4=$A3,Lundi!F$1,IF(Lundi!F$5=$A3,Lundi!F$1,IF(Lundi!F$6=$A3,Lundi!F$1,IF(Lundi!F$7=$A3,Lundi!F$1,IF(Lundi!F$8=$A3,Lundi!F$1,IF(Lundi!F$9=$A3,Lundi!F$1,IF(Lundi!F$10=$A3,Lundi!F$1,IF(Lundi!F$11=$A3,Lundi!F$1,IF(Lundi!F$12=$A3,Lundi!F$1,IF(Lundi!F$13=$A3,Lundi!F$1,IF(Lundi!F$14=$A3,Lundi!F$1,IF(Lundi!F$15=$A3,Lundi!F$1,"")))))))))))))) | N3: =IF(Lundi!G$2=$A3,Lundi!G$1,IF(Lundi!G$3=$A3,Lundi!G$1,IF(Lundi!G$4=$A3,Lundi!G$1,IF(Lundi!G$5=$A3,Lundi!G$1,IF(Lundi!G$6=$A3,Lundi!G$1,IF(Lundi!G$7=$A3,Lundi!G$1,IF(Lundi!G$8=$A3,Lundi!G$1,IF(Lundi!G$9=$A3,Lundi!G$1,IF(Lundi!G$10=$A3,Lundi!G$1,IF(Lundi!G$11=$A3,Lundi!G$1,IF(Lundi!G$12=$A3,Lundi!G$1,IF(Lundi!G$13=$A3,Lundi!G$1,IF(Lundi!G$14=$A3,Lundi!G$1,IF(Lundi!G$15=$A3,Lundi!G$1,"")))))))))))))) | O3: =IF(Lundi!H$2=$A3,Lundi!H$1,IF(Lundi!H$3=$A3,Lundi!H$1,IF(Lundi!H$4=$A3,Lundi!H$1,IF(Lundi!H$5=$A3,Lundi!H$1,IF(Lundi!H$6=$A3,Lundi!H$1,IF(Lundi!H$7=$A3,Lundi!H$1,IF(Lundi!H$8=$A3,Lundi!H$1,IF(Lundi!H$9=$A3,Lundi!H$1,IF(Lundi!H$10=$A3,Lundi!H$1,IF(Lundi!H$11=$A3,Lundi!H$1,IF(Lundi!H$12=$A3,Lundi!H$1,IF(Lundi!H$13=$A3,Lundi!H$1,IF(Lundi!H$14=$A3,Lundi!H$1,IF(Lundi!H$15=$A3,Lundi!H$1,"")))))))))))))) | P3: =IF(Lundi!I$2=$A3,Lundi!I$1,IF(Lundi!I$3=$A3,Lundi!I$1,IF(Lundi!I$4=$A3,Lundi!I$1,IF(Lundi!I$5=$A3,Lundi!I$1,IF(Lundi!I$6=$A3,Lundi!I$1,IF(Lundi!I$7=$A3,Lundi!I$1,IF(Lundi!I$8=$A3,Lundi!I$1,IF(Lundi!I$9=$A3,Lundi!I$1,IF(Lundi!I$10=$A3,Lundi!I$1,IF(Lundi!I$11=$A3,Lundi!I$1,IF(Lundi!I$12=$A3,Lundi!I$1,IF(Lundi!I$13=$A3,Lundi!I$1,IF(Lundi!I$14=$A3,Lundi!I$1,IF(Lundi!I$15=$A3,Lundi!I$1,"")))))))))))))) | Q3: =IF(Lundi!J$2=$A3,Lundi!J$1,IF(Lundi!J$3=$A3,Lundi!J$1,IF(Lundi!J$4=$A3,Lundi!J$1,IF(Lundi!J$5=$A3,Lundi!J$1,IF(Lundi!J$6=$A3,Lundi!J$1,IF(Lundi!J$7=$A3,Lundi!J$1,IF(Lundi!J$8=$A3,Lundi!J$1,IF(Lundi!J$9=$A3,Lundi!J$1,IF(Lundi!J$10=$A3,Lundi!J$1,IF(Lundi!J$11=$A3,Lundi!J$1,IF(Lundi!J$12=$A3,Lundi!J$1,IF(Lundi!J$13=$A3,Lundi!J$1,IF(Lundi!J$14=$A3,Lundi!J$1,IF(Lundi!J$15=$A3,Lundi!J$1,"")))))))))))))) | R3: =IF(Mardi!B$2=$A3,Mardi!B$1,IF(Mardi!B$3=$A3,Mardi!B$1,IF(Mardi!B$4=$A3,Mardi!B$1,IF(Mardi!B$5=$A3,Mardi!B$1,IF(Mardi!B$6=$A3,Mardi!B$1,IF(Mardi!B$7=$A3,Mardi!B$1,IF(Mardi!B$8=$A3,Mardi!B$1,IF(Mardi!B$9=$A3,Mardi!B$1,IF(Mardi!B$10=$A3,Mardi!B$1,IF(Mardi!B$11=$A3,Mardi!B$1,IF(Mardi!B$12=$A3,Mardi!B$1,IF(Mardi!B$13=$A3,Mardi!B$1,IF(Mardi!B$14=$A3,Mardi!B$1,IF(Mardi!B$15=$A3,Mardi!B$1,"")))))))))))))) | S3: =IF(Mardi!C$2=$A3,Mardi!C$1,IF(Mardi!C$3=$A3,Mardi!C$1,IF(Mardi!C$4=$A3,Mardi!C$1,IF(Mardi!C$5=$A3,Mardi!C$1,IF(Mardi!C$6=$A3,Mardi!C$1,IF(Mardi!C$7=$A3,Mardi!C$1,IF(Mardi!C$8=$A3,Mardi!C$1,IF(Mardi!C$9=$A3,Mardi!C$1,IF(Mardi!C$10=$A3,Mardi!C$1,IF(Mardi!C$11=$A3,Mardi!C$1,IF(Mardi!C$12=$A3,Mardi!C$1,IF(Mardi!C$13=$A3,Mardi!C$1,IF(Mardi!C$14=$A3,Mardi!C$1,IF(Mardi!C$15=$A3,Mardi!C$1,"")))))))))))))) -> Restaurant | T3: =IF(Mardi!D$2=$A3,Mardi!D$1,IF(Mardi!D$3=$A3,Mardi!D$1,IF(Mardi!D$4=$A3,Mardi!D$1,IF(Mardi!D$5=$A3,Mardi!D$1,IF(Mardi!D$6=$A3,Mardi!D$1,IF(Mardi!D$7=$A3,Mardi!D$1,IF(Mardi!D$8=$A3,Mardi!D$1,IF(Mardi!D$9=$A3,Mardi!D$1,IF(Mardi!D$10=$A3,Mardi!D$1,IF(Mardi!D$11=$A3,Mardi!D$1,IF(Mardi!D$12=$A3,Mardi!D$1,IF(Mardi!D$13=$A3,Mardi!D$1,IF(Mardi!D$14=$A3,Mardi!D$1,IF(Mardi!D$15=$A3,Mardi!D$1,"")))))))))))))) | U3: =IF(Mardi!E$2=$A3,Mardi!E$1,IF(Mardi!E$3=$A3,Mardi!E$1,IF(Mardi!E$4=$A3,Mardi!E$1,IF(Mardi!E$5=$A3,Mardi!E$1,IF(Mardi!E$6=$A3,Mardi!E$1,IF(Mardi!E$7=$A3,Mardi!E$1,IF(Mardi!E$8=$A3,Mardi!E$1,IF(Mardi!E$9=$A3,Mardi!E$1,IF(Mardi!E$10=$A3,Mardi!E$1,IF(Mardi!E$11=$A3,Mardi!E$1,IF(Mardi!E$12=$A3,Mardi!E$1,IF(Mardi!E$13=$A3,Mardi!E$1,IF(Mardi!E$14=$A3,Mardi!E$1,IF(Mardi!E$15=$A3,Mardi!E$1,"")))))))))))))) | V3: =IF(Mardi!F$2=$A3,Mardi!F$1,IF(Mardi!F$3=$A3,Mardi!F$1,IF(Mardi!F$4=$A3,Mardi!F$1,IF(Mardi!F$5=$A3,Mardi!F$1,IF(Mardi!F$6=$A3,Mardi!F$1,IF(Mardi!F$7=$A3,Mardi!F$1,IF(Mardi!F$8=$A3,Mardi!F$1,IF(Mardi!F$9=$A3,Mardi!F$1,IF(Mardi!F$10=$A3,Mardi!F$1,IF(Mardi!F$11=$A3,Mardi!F$1,IF(Mardi!F$12=$A3,Mardi!F$1,IF(Mardi!F$13=$A3,Mardi!F$1,IF(Mardi!F$14=$A3,Mardi!F$1,IF(Mardi!F$15=$A3,Mardi!F$1,"")))))))))))))) | W3: =IF(Mardi!G$2=$A3,Mardi!G$1,IF(Mardi!G$3=$A3,Mardi!G$1,IF(Mardi!G$4=$A3,Mardi!G$1,IF(Mardi!G$5=$A3,Mardi!G$1,IF(Mardi!G$6=$A3,Mardi!G$1,IF(Mardi!G$7=$A3,Mardi!G$1,IF(Mardi!G$8=$A3,Mardi!G$1,IF(Mardi!G$9=$A3,Mardi!G$1,IF(Mardi!G$10=$A3,Mardi!G$1,IF(Mardi!G$11=$A3,Mardi!G$1,IF(Mardi!G$12=$A3,Mardi!G$1,IF(Mardi!G$13=$A3,Mardi!G$1,IF(Mardi!G$14=$A3,Mardi!G$1,IF(Mardi!G$15=$A3,Mardi!G$1,"")))))))))))))) | X3: =IF(Mardi!H$2=$A3,Mardi!H$1,IF(Mardi!H$3=$A3,Mardi!H$1,IF(Mardi!H$4=$A3,Mardi!H$1,IF(Mardi!H$5=$A3,Mardi!H$1,IF(Mardi!H$6=$A3,Mardi!H$1,IF(Mardi!H$7=$A3,Mardi!H$1,IF(Mardi!H$8=$A3,Mardi!H$1,IF(Mardi!H$9=$A3,Mardi!H$1,IF(Mardi!H$10=$A3,Mardi!H$1,IF(Mardi!H$11=$A3,Mardi!H$1,IF(Mardi!H$12=$A3,Mardi!H$1,IF(Mardi!H$13=$A3,Mardi!H$1,IF(Mardi!H$14=$A3,Mardi!H$1,IF(Mardi!H$15=$A3,Mardi!H$1,"")))))))))))))) | Y3: =IF(Mardi!I$2=$A3,Mardi!I$1,IF(Mardi!I$3=$A3,Mardi!I$1,IF(Mardi!I$4=$A3,Mardi!I$1,IF(Mardi!I$5=$A3,Mardi!I$1,IF(Mardi!I$6=$A3,Mardi!I$1,IF(Mardi!I$7=$A3,Mardi!I$1,IF(Mardi!I$8=$A3,Mardi!I$1,IF(Mardi!I$9=$A3,Mardi!I$1,IF(Mardi!I$10=$A3,Mardi!I$1,IF(Mardi!I$11=$A3,Mardi!I$1,IF(Mardi!I$12=$A3,Mardi!I$1,IF(Mardi!I$13=$A3,Mardi!I$1,IF(Mardi!I$14=$A3,Mardi!I$1,IF(Mardi!I$15=$A3,Mardi!I$1,"")))))))))))))) | Z3: =IF(Mardi!J$2=$A3,Mardi!J$1,IF(Mardi!J$3=$A3,Mardi!J$1,IF(Mardi!J$4=$A3,Mardi!J$1,IF(Mardi!J$5=$A3,Mardi!J$1,IF(Mardi!J$6=$A3,Mardi!J$1,IF(Mardi!J$7=$A3,Mardi!J$1,IF(Mardi!J$8=$A3,Mardi!J$1,IF(Mardi!J$9=$A3,Mardi!J$1,IF(Mardi!J$10=$A3,Mardi!J$1,IF(Mardi!J$11=$A3,Mardi!J$1,IF(Mardi!J$12=$A3,Mardi!J$1,IF(Mardi!J$13=$A3,Mardi!J$1,IF(Mardi!J$14=$A3,Mardi!J$1,IF(Mardi!J$15=$A3,Mardi!J$1,"")))))))))))))) | AA3: =IF(Mercredi!B$2=$A3,Mercredi!B$1,IF(Mercredi!B$3=$A3,Mercredi!B$1,IF(Mercredi!B$4=$A3,Mercredi!B$1,IF(Mercredi!B$5=$A3,Mercredi!B$1,IF(Mercredi!B$6=$A3,Mercredi!B$1,IF(Mercredi!B$7=$A3,Mercredi!B$1,IF(Mercredi!B$8=$A3,Mercredi!B$1,IF(Mercredi!B$9=$A3,Mercredi!B$1,IF(Mercredi!B$10=$A3,Mercredi!B$1,IF(Mercredi!B$11=$A3,Mercredi!B$1,IF(Mercredi!B$12=$A3,Mercredi!B$1,IF(Mercredi!B$13=$A3,Mercredi!B$1,IF(Mercredi!B$14=$A3,Mercredi!B$1,IF(Mercredi!B$15=$A3,Mercredi!B$1,"")))))))))))))) | AB3: =IF(Mercredi!C$2=$A3,Mercredi!C$1,IF(Mercredi!C$3=$A3,Mercredi!C$1,IF(Mercredi!C$4=$A3,Mercredi!C$1,IF(Mercredi!C$5=$A3,Mercredi!C$1,IF(Mercredi!C$6=$A3,Mercredi!C$1,IF(Mercredi!C$7=$A3,Mercredi!C$1,IF(Mercredi!C$8=$A3,Mercredi!C$1,IF(Mercredi!C$9=$A3,Mercredi!C$1,IF(Mercredi!C$10=$A3,Mercredi!C$1,IF(Mercredi!C$11=$A3,Mercredi!C$1,IF(Mercredi!C$12=$A3,Mercredi!C$1,IF(Mercredi!C$13=$A3,Mercredi!C$1,IF(Mercredi!C$14=$A3,Mercredi!C$1,IF(Mercredi!C$15=$A3,Mercredi!C$1,"")))))))))))))) | AC3: =IF(Mercredi!D$2=$A3,Mercredi!D$1,IF(Mercredi!D$3=$A3,Mercredi!D$1,IF(Mercredi!D$4=$A3,Mercredi!D$1,IF(Mercredi!D$5=$A3,Mercredi!D$1,IF(Mercredi!D$6=$A3,Mercredi!D$1,IF(Mercredi!D$7=$A3,Mercredi!D$1,IF(Mercredi!D$8=$A3,Mercredi!D$1,IF(Mercredi!D$9=$A3,Mercredi!D$1,IF(Mercredi!D$10=$A3,Mercredi!D$1,IF(Mercredi!D$11=$A3,Mercredi!D$1,IF(Mercredi!D$12=$A3,Mercredi!D$1,IF(Mercredi!D$13=$A3,Mercredi!D$1,IF(Mercredi!D$14=$A3,Mercredi!D$1,IF(Mercredi!D$15=$A3,Mercredi!D$1,"")))))))))))))) | AD3: =IF(Mercredi!E$2=$A3,Mercredi!E$1,IF(Mercredi!E$3=$A3,Mercredi!E$1,IF(Mercredi!E$4=$A3,Mercredi!E$1,IF(Mercredi!E$5=$A3,Mercredi!E$1,IF(Mercredi!E$6=$A3,Mercredi!E$1,IF(Mercredi!E$7=$A3,Mercredi!E$1,IF(Mercredi!E$8=$A3,Mercredi!E$1,IF(Mercredi!E$9=$A3,Mercredi!E$1,IF(Mercredi!E$10=$A3,Mercredi!E$1,IF(Mercredi!E$11=$A3,Mercredi!E$1,IF(Mercredi!E$12=$A3,Mercredi!E$1,IF(Mercredi!E$13=$A3,Mercredi!E$1,IF(Mercredi!E$14=$A3,Mercredi!E$1,IF(Mercredi!E$15=$A3,Mercredi!E$1,"")))))))))))))) -> Espace vert | AE3: =IF(Mercredi!F$2=$A3,Mercredi!F$1,IF(Mercredi!F$3=$A3,Mercredi!F$1,IF(Mercredi!F$4=$A3,Mercredi!F$1,IF(Mercredi!F$5=$A3,Mercredi!F$1,IF(Mercredi!F$6=$A3,Mercredi!F$1,IF(Mercredi!F$7=$A3,Mercredi!F$1,IF(Mercredi!F$8=$A3,Mercredi!F$1,IF(Mercredi!F$9=$A3,Mercredi!F$1,IF(Mercredi!F$10=$A3,Mercredi!F$1,IF(Mercredi!F$11=$A3,Mercredi!F$1,IF(Mercredi!F$12=$A3,Mercredi!F$1,IF(Mercredi!F$13=$A3,Mercredi!F$1,IF(Mercredi!F$14=$A3,Mercredi!F$1,IF(Mercredi!F$15=$A3,Mercredi!F$1,"")))))))))))))) | AF3: =IF(Mercredi!G$2=$A3,Mercredi!G$1,IF(Mercredi!G$3=$A3,Mercredi!G$1,IF(Mercredi!G$4=$A3,Mercredi!G$1,IF(Mercredi!G$5=$A3,Mercredi!G$1,IF(Mercredi!G$6=$A3,Mercredi!G$1,IF(Mercredi!G$7=$A3,Mercredi!G$1,IF(Mercredi!G$8=$A3,Mercredi!G$1,IF(Mercredi!G$9=$A3,Mercredi!G$1,IF(Mercredi!G$10=$A3,Mercredi!G$1,IF(Mercredi!G$11=$A3,Mercredi!G$1,IF(Mercredi!G$12=$A3,Mercredi!G$1,IF(Mercredi!G$13=$A3,Mercredi!G$1,IF(Mercredi!G$14=$A3,Mercredi!G$1,IF(Mercredi!G$15=$A3,Mercredi!G$1,"")))))))))))))) | AG3: =IF(Mercredi!H$2=$A3,Mercredi!H$1,IF(Mercredi!H$3=$A3,Mercredi!H$1,IF(Mercredi!H$4=$A3,Mercredi!H$1,IF(Mercredi!H$5=$A3,Mercredi!H$1,IF(Mercredi!H$6=$A3,Mercredi!H$1,IF(Mercredi!H$7=$A3,Mercredi!H$1,IF(Mercredi!H$8=$A3,Mercredi!H$1,IF(Mercredi!H$9=$A3,Mercredi!H$1,IF(Mercredi!H$10=$A3,Mercredi!H$1,IF(Mercredi!H$11=$A3,Mercredi!H$1,IF(Mercredi!H$12=$A3,Mercredi!H$1,IF(Mercredi!H$13=$A3,Mercredi!H$1,IF(Mercredi!H$14=$A3,Mercredi!H$1,IF(Mercredi!H$15=$A3,Mercredi!H$1,"")))))))))))))) | AH3: =IF(Mercredi!I$2=$A3,Mercredi!I$1,IF(Mercredi!I$3=$A3,Mercredi!I$1,IF(Mercredi!I$4=$A3,Mercredi!I$1,IF(Mercredi!I$5=$A3,Mercredi!I$1,IF(Mercredi!I$6=$A3,Mercredi!I$1,IF(Mercredi!I$7=$A3,Mercredi!I$1,IF(Mercredi!I$8=$A3,Mercredi!I$1,IF(Mercredi!I$9=$A3,Mercredi!I$1,IF(Mercredi!I$10=$A3,Mercredi!I$1,IF(Mercredi!I$11=$A3,Mercredi!I$1,IF(Mercredi!I$12=$A3,Mercredi!I$1,IF(Mercredi!I$13=$A3,Mercredi!I$1,IF(Mercredi!I$14=$A3,Mercredi!I$1,IF(Mercredi!I$15=$A3,Mercredi!I$1,"")))))))))))))) | AI3: =IF(Mercredi!J$2=$A3,Mercredi!J$1,IF(Mercredi!J$3=$A3,Mercredi!J$1,IF(Mercredi!J$4=$A3,Mercredi!J$1,IF(Mercredi!J$5=$A3,Mercredi!J$1,IF(Mercredi!J$6=$A3,Mercredi!J$1,IF(Mercredi!J$7=$A3,Mercredi!J$1,IF(Mercredi!J$8=$A3,Mercredi!J$1,IF(Mercredi!J$9=$A3,Mercredi!J$1,IF(Mercredi!J$10=$A3,Mercredi!J$1,IF(Mercredi!J$11=$A3,Mercredi!J$1,IF(Mercredi!J$12=$A3,Mercredi!J$1,IF(Mercredi!J$13=$A3,Mercredi!J$1,IF(Mercredi!J$14=$A3,Mercredi!J$1,IF(Mercredi!J$15=$A3,Mercredi!J$1,"")))))))))))))) | AJ3: =IF(Jeudi!B$2=$A3,Jeudi!B$1,IF(Jeudi!B$3=$A3,Jeudi!B$1,IF(Jeudi!B$4=$A3,Jeudi!B$1,IF(Jeudi!B$5=$A3,Jeudi!B$1,IF(Jeudi!B$6=$A3,Jeudi!B$1,IF(Jeudi!B$7=$A3,Jeudi!B$1,IF(Jeudi!B$8=$A3,Jeudi!B$1,IF(Jeudi!B$9=$A3,Jeudi!B$1,IF(Jeudi!B$10=$A3,Jeudi!B$1,IF(Jeudi!B$11=$A3,Jeudi!B$1,IF(Jeudi!B$12=$A3,Jeudi!B$1,IF(Jeudi!B$13=$A3,Jeudi!B$1,IF(Jeudi!B$14=$A3,Jeudi!B$1,IF(Jeudi!B$15=$A3,Jeudi!B$1,"")))))))))))))) | AK3: =IF(Jeudi!C$2=$A3,Jeudi!C$1,IF(Jeudi!C$3=$A3,Jeudi!C$1,IF(Jeudi!C$4=$A3,Jeudi!C$1,IF(Jeudi!C$5=$A3,Jeudi!C$1,IF(Jeudi!C$6=$A3,Jeudi!C$1,IF(Jeudi!C$7=$A3,Jeudi!C$1,IF(Jeudi!C$8=$A3,Jeudi!C$1,IF(Jeudi!C$9=$A3,Jeudi!C$1,IF(Jeudi!C$10=$A3,Jeudi!C$1,IF(Jeudi!C$11=$A3,Jeudi!C$1,IF(Jeudi!C$12=$A3,Jeudi!C$1,IF(Jeudi!C$13=$A3,Jeudi!C$1,IF(Jeudi!C$14=$A3,Jeudi!C$1,IF(Jeudi!C$15=$A3,Jeudi!C$1,"")))))))))))))) | AL3: =IF(Jeudi!D$2=$A3,Jeudi!D$1,IF(Jeudi!D$3=$A3,Jeudi!D$1,IF(Jeudi!D$4=$A3,Jeudi!D$1,IF(Jeudi!D$5=$A3,Jeudi!D$1,IF(Jeudi!D$6=$A3,Jeudi!D$1,IF(Jeudi!D$7=$A3,Jeudi!D$1,IF(Jeudi!D$8=$A3,Jeudi!D$1,IF(Jeudi!D$9=$A3,Jeudi!D$1,IF(Jeudi!D$10=$A3,Jeudi!D$1,IF(Jeudi!D$11=$A3,Jeudi!D$1,IF(Jeudi!D$12=$A3,Jeudi!D$1,IF(Jeudi!D$13=$A3,Jeudi!D$1,IF(Jeudi!D$14=$A3,Jeudi!D$1,IF(Jeudi!D$15=$A3,Jeudi!D$1,"")))))))))))))) | AM3: =IF(Jeudi!E$2=$A3,Jeudi!E$1,IF(Jeudi!E$3=$A3,Jeudi!E$1,IF(Jeudi!E$4=$A3,Jeudi!E$1,IF(Jeudi!E$5=$A3,Jeudi!E$1,IF(Jeudi!E$6=$A3,Jeudi!E$1,IF(Jeudi!E$7=$A3,Jeudi!E$1,IF(Jeudi!E$8=$A3,Jeudi!E$1,IF(Jeudi!E$9=$A3,Jeudi!E$1,IF(Jeudi!E$10=$A3,Jeudi!E$1,IF(Jeudi!E$11=$A3,Jeudi!E$1,IF(Jeudi!E$12=$A3,Jeudi!E$1,IF(Jeudi!E$13=$A3,Jeudi!E$1,IF(Jeudi!E$14=$A3,Jeudi!E$1,IF(Jeudi!E$15=$A3,Jeudi!E$1,"")))))))))))))) | AN3: =IF(Jeudi!F$2=$A3,Jeudi!F$1,IF(Jeudi!F$3=$A3,Jeudi!F$1,IF(Jeudi!F$4=$A3,Jeudi!F$1,IF(Jeudi!F$5=$A3,Jeudi!F$1,IF(Jeudi!F$6=$A3,Jeudi!F$1,IF(Jeudi!F$7=$A3,Jeudi!F$1,IF(Jeudi!F$8=$A3,Jeudi!F$1,IF(Jeudi!F$9=$A3,Jeudi!F$1,IF(Jeudi!F$10=$A3,Jeudi!F$1,IF(Jeudi!F$11=$A3,Jeudi!F$1,IF(Jeudi!F$12=$A3,Jeudi!F$1,IF(Jeudi!F$13=$A3,Jeudi!F$1,IF(Jeudi!F$14=$A3,Jeudi!F$1,IF(Jeudi!F$15=$A3,Jeudi!F$1,"")))))))))))))) | AO3: =IF(Jeudi!G$2=$A3,Jeudi!G$1,IF(Jeudi!G$3=$A3,Jeudi!G$1,IF(Jeudi!G$4=$A3,Jeudi!G$1,IF(Jeudi!G$5=$A3,Jeudi!G$1,IF(Jeudi!G$6=$A3,Jeudi!G$1,IF(Jeudi!G$7=$A3,Jeudi!G$1,IF(Jeudi!G$8=$A3,Jeudi!G$1,IF(Jeudi!G$9=$A3,Jeudi!G$1,IF(Jeudi!G$10=$A3,Jeudi!G$1,IF(Jeudi!G$11=$A3,Jeudi!G$1,IF(Jeudi!G$12=$A3,Jeudi!G$1,IF(Jeudi!G$13=$A3,Jeudi!G$1,IF(Jeudi!G$14=$A3,Jeudi!G$1,IF(Jeudi!G$15=$A3,Jeudi!G$1,"")))))))))))))) | AP3: =IF(Jeudi!H$2=$A3,Jeudi!H$1,IF(Jeudi!H$3=$A3,Jeudi!H$1,IF(Jeudi!H$4=$A3,Jeudi!H$1,IF(Jeudi!H$5=$A3,Jeudi!H$1,IF(Jeudi!H$6=$A3,Jeudi!H$1,IF(Jeudi!H$7=$A3,Jeudi!H$1,IF(Jeudi!H$8=$A3,Jeudi!H$1,IF(Jeudi!H$9=$A3,Jeudi!H$1,IF(Jeudi!H$10=$A3,Jeudi!H$1,IF(Jeudi!H$11=$A3,Jeudi!H$1,IF(Jeudi!H$12=$A3,Jeudi!H$1,IF(Jeudi!H$13=$A3,Jeudi!H$1,IF(Jeudi!H$14=$A3,Jeudi!H$1,IF(Jeudi!H$15=$A3,Jeudi!H$1,"")))))))))))))) -> Horti | AQ3: =IF(Jeudi!I$2=$A3,Jeudi!I$1,IF(Jeudi!I$3=$A3,Jeudi!I$1,IF(Jeudi!I$4=$A3,Jeudi!I$1,IF(Jeudi!I$5=$A3,Jeudi!I$1,IF(Jeudi!I$6=$A3,Jeudi!I$1,IF(Jeudi!I$7=$A3,Jeudi!I$1,IF(Jeudi!I$8=$A3,Jeudi!I$1,IF(Jeudi!I$9=$A3,Jeudi!I$1,IF(Jeudi!I$10=$A3,Jeudi!I$1,IF(Jeudi!I$11=$A3,Jeudi!I$1,IF(Jeudi!I$12=$A3,Jeudi!I$1,IF(Jeudi!I$13=$A3,Jeudi!I$1,IF(Jeudi!I$14=$A3,Jeudi!I$1,IF(Jeudi!I$15=$A3,Jeudi!I$1,"")))))))))))))) | AR3: =IF(Jeudi!J$2=$A3,Jeudi!J$1,IF(Jeudi!J$3=$A3,Jeudi!J$1,IF(Jeudi!J$4=$A3,Jeudi!J$1,IF(Jeudi!J$5=$A3,Jeudi!J$1,IF(Jeudi!J$6=$A3,Jeudi!J$1,IF(Jeudi!J$7=$A3,Jeudi!J$1,IF(Jeudi!J$8=$A3,Jeudi!J$1,IF(Jeudi!J$9=$A3,Jeudi!J$1,IF(Jeudi!J$10=$A3,Jeudi!J$1,IF(Jeudi!J$11=$A3,Jeudi!J$1,IF(Jeudi!J$12=$A3,Jeudi!J$1,IF(Jeudi!J$13=$A3,Jeudi!J$1,IF(Jeudi!J$14=$A3,Jeudi!J$1,IF(Jeudi!J$15=$A3,Jeudi!J$1,"")))))))))))))) | AS3: =IF(Vendredi!B$2=$A3,Vendredi!B$1,IF(Vendredi!B$3=$A3,Vendredi!B$1,IF(Vendredi!B$4=$A3,Vendredi!B$1,IF(Vendredi!B$5=$A3,Vendredi!B$1,IF(Vendredi!B$6=$A3,Vendredi!B$1,IF(Vendredi!B$7=$A3,Vendredi!B$1,IF(Vendredi!B$8=$A3,Vendredi!B$1,IF(Vendredi!B$9=$A3,Vendredi!B$1,IF(Vendredi!B$10=$A3,Vendredi!B$1,IF(Vendredi!B$11=$A3,Vendredi!B$1,IF(Vendredi!B$12=$A3,Vendredi!B$1,IF(Vendredi!B$13=$A3,Vendredi!B$1,IF(Vendredi!B$14=$A3,Vendredi!B$1,IF(Vendredi!B$15=$A3,Vendredi!B$1,"")))))))))))))) | AT3: =IF(Vendredi!C$2=$A3,Vendredi!C$1,IF(Vendredi!C$3=$A3,Vendredi!C$1,IF(Vendredi!C$4=$A3,Vendredi!C$1,IF(Vendredi!C$5=$A3,Vendredi!C$1,IF(Vendredi!C$6=$A3,Vendredi!C$1,IF(Vendredi!C$7=$A3,Vendredi!C$1,IF(Vendredi!C$8=$A3,Vendredi!C$1,IF(Vendredi!C$9=$A3,Vendredi!C$1,IF(Vendredi!C$10=$A3,Vendredi!C$1,IF(Vendredi!C$11=$A3,Vendredi!C$1,IF(Vendredi!C$12=$A3,Vendredi!C$1,IF(Vendredi!C$13=$A3,Vendredi!C$1,IF(Vendredi!C$14=$A3,Vendredi!C$1,IF(Vendredi!C$15=$A3,Vendredi!C$1,"")))))))))))))) | AU3: =IF(Vendredi!D$2=$A3,Vendredi!D$1,IF(Vendredi!D$3=$A3,Vendredi!D$1,IF(Vendredi!D$4=$A3,Vendredi!D$1,IF(Vendredi!D$5=$A3,Vendredi!D$1,IF(Vendredi!D$6=$A3,Vendredi!D$1,IF(Vendredi!D$7=$A3,Vendredi!D$1,IF(Vendredi!D$8=$A3,Vendredi!D$1,IF(Vendredi!D$9=$A3,Vendredi!D$1,IF(Vendredi!D$10=$A3,Vendredi!D$1,IF(Vendredi!D$11=$A3,Vendredi!D$1,IF(Vendredi!D$12=$A3,Vendredi!D$1,IF(Vendredi!D$13=$A3,Vendredi!D$1,IF(Vendredi!D$14=$A3,Vendredi!D$1,IF(Vendredi!D$15=$A3,Vendredi!D$1,"")))))))))))))) | AV3: =IF(Vendredi!E$2=$A3,Vendredi!E$1,IF(Vendredi!E$3=$A3,Vendredi!E$1,IF(Vendredi!E$4=$A3,Vendredi!E$1,IF(Vendredi!E$5=$A3,Vendredi!E$1,IF(Vendredi!E$6=$A3,Vendredi!E$1,IF(Vendredi!E$7=$A3,Vendredi!E$1,IF(Vendredi!E$8=$A3,Vendredi!E$1,IF(Vendredi!E$9=$A3,Vendredi!E$1,IF(Vendredi!E$10=$A3,Vendredi!E$1,IF(Vendredi!E$11=$A3,Vendredi!E$1,IF(Vendredi!E$12=$A3,Vendredi!E$1,IF(Vendredi!E$13=$A3,Vendredi!E$1,IF(Vendredi!E$14=$A3,Vendredi!E$1,IF(Vendredi!E$15=$A3,Vendredi!E$1,"")))))))))))))) | AW3: =IF(Vendredi!F$2=$A3,Vendredi!F$1,IF(Vendredi!F$3=$A3,Vendredi!F$1,IF(Vendredi!F$4=$A3,Vendredi!F$1,IF(Vendredi!F$5=$A3,Vendredi!F$1,IF(Vendredi!F$6=$A3,Vendredi!F$1,IF(Vendredi!F$7=$A3,Vendredi!F$1,IF(Vendredi!F$8=$A3,Vendredi!F$1,IF(Vendredi!F$9=$A3,Vendredi!F$1,IF(Vendredi!F$10=$A3,Vendredi!F$1,IF(Vendredi!F$11=$A3,Vendredi!F$1,IF(Vendredi!F$12=$A3,Vendredi!F$1,IF(Vendredi!F$13=$A3,Vendredi!F$1,IF(Vendredi!F$14=$A3,Vendredi!F$1,IF(Vendredi!F$15=$A3,Vendredi!F$1,"")))))))))))))) -> At. Polyvalent | AX3: =IF(Vendredi!G$2=$A3,Vendredi!G$1,IF(Vendredi!G$3=$A3,Vendredi!G$1,IF(Vendredi!G$4=$A3,Vendredi!G$1,IF(Vendredi!G$5=$A3,Vendredi!G$1,IF(Vendredi!G$6=$A3,Vendredi!G$1,IF(Vendredi!G$7=$A3,Vendredi!G$1,IF(Vendredi!G$8=$A3,Vendredi!G$1,IF(Vendredi!G$9=$A3,Vendredi!G$1,IF(Vendredi!G$10=$A3,Vendredi!G$1,IF(Vendredi!G$11=$A3,Vendredi!G$1,IF(Vendredi!G$12=$A3,Vendredi!G$1,IF(Vendredi!G$13=$A3,Vendredi!G$1,IF(Vendredi!G$14=$A3,Vendredi!G$1,IF(Vendredi!G$15=$A3,Vendredi!G$1,"")))))))))))))) | AY3: =IF(Vendredi!H$2=$A3,Vendredi!H$1,IF(Vendredi!H$3=$A3,Vendredi!H$1,IF(Vendredi!H$4=$A3,Vendredi!H$1,IF(Vendredi!H$5=$A3,Vendredi!H$1,IF(Vendredi!H$6=$A3,Vendredi!H$1,IF(Vendredi!H$7=$A3,Vendredi!H$1,IF(Vendredi!H$8=$A3,Vendredi!H$1,IF(Vendredi!H$9=$A3,Vendredi!H$1,IF(Vendredi!H$10=$A3,Vendredi!H$1,IF(Vendredi!H$11=$A3,Vendredi!H$1,IF(Vendredi!H$12=$A3,Vendredi!H$1,IF(Vendredi!H$13=$A3,Vendredi!H$1,IF(Vendredi!H$14=$A3,Vendredi!H$1,IF(Vendredi!H$15=$A3,Vendredi!H$1,"")))))))))))))) | AZ3: =IF(Vendredi!I$2=$A3,Vendredi!I$1,IF(Vendredi!I$3=$A3,Vendredi!I$1,IF(Vendredi!I$4=$A3,Vendredi!I$1,IF(Vendredi!I$5=$A3,Vendredi!I$1,IF(Vendredi!I$6=$A3,Vendredi!I$1,IF(Vendredi!I$7=$A3,Vendredi!I$1,IF(Vendredi!I$8=$A3,Vendredi!I$1,IF(Vendredi!I$9=$A3,Vendredi!I$1,IF(Vendredi!I$10=$A3,Vendredi!I$1,IF(Vendredi!I$11=$A3,Vendredi!I$1,IF(Vendredi!I$12=$A3,Vendredi!I$1,IF(Vendredi!I$13=$A3,Vendredi!I$1,IF(Vendredi!I$14=$A3,Vendredi!I$1,IF(Vendredi!I$15=$A3,Vendredi!I$1,"")))))))))))))) | BA3: =IF(Vendredi!J$2=$A3,Vendredi!J$1,IF(Vendredi!J$3=$A3,Vendredi!J$1,IF(Vendredi!J$4=$A3,Vendredi!J$1,IF(Vendredi!J$5=$A3,Vendredi!J$1,IF(Vendredi!J$6=$A3,Vendredi!J$1,IF(Vendredi!J$7=$A3,Vendredi!J$1,IF(Vendredi!J$8=$A3,Vendredi!J$1,IF(Vendredi!J$9=$A3,Vendredi!J$1,IF(Vendredi!J$10=$A3,Vendredi!J$1,IF(Vendredi!J$11=$A3,Vendredi!J$1,IF(Vendredi!J$12=$A3,Vendredi!J$1,IF(Vendredi!J$13=$A3,Vendredi!J$1,IF(Vendredi!J$14=$A3,Vendredi!J$1,IF(Vendredi!J$15=$A3,Vendredi!J$1,""))))))))))))))
B4: Après Midi | C4: =I4&J4&K4&L4&M4&N4&O4&P4&Q4 -> Self | D4: =R4&S4&T4&U4&V4&W4&X4&Y4&Z4 -> Self | F4: =AJ4&AK4&AL4&AM4&AN4&AO4&AP4&AQ4&AR4 -> At. Polyvalent | G4: =AS4&AT4&AU4&AV4&AW4&AX4&AY4&AZ4&BA4 -> Espace vert | I4: =IF(Lundi!B$17=$A3,Lundi!B$1,IF(Lundi!B$18=$A3,Lundi!B$1,IF(Lundi!B$19=$A3,Lundi!B$1,IF(Lundi!B$20=$A3,Lundi!B$1,IF(Lundi!B$21=$A3,Lundi!B$1,IF(Lundi!B$22=$A3,Lundi!B$1,IF(Lundi!B$23=$A3,Lundi!B$1,IF(Lundi!B$24=$A3,Lundi!B$1,IF(Lundi!B$25=$A3,Lundi!B$1,IF(Lundi!B$26=$A3,Lundi!B$1,IF(Lundi!B$27=$A3,Lundi!B$1,IF(Lundi!B$28=$A3,Lundi!B$1,IF(Lundi!B$29=$A3,Lundi!B$1,IF(Lundi!B$30=$A3,Lundi!B$1,"")))))))))))))) | J4: =IF(Lundi!C$17=$A3,Lundi!C$1,IF(Lundi!C$18=$A3,Lundi!C$1,IF(Lundi!C$19=$A3,Lundi!C$1,IF(Lundi!C$20=$A3,Lundi!C$1,IF(Lundi!C$21=$A3,Lundi!C$1,IF(Lundi!C$22=$A3,Lundi!C$1,IF(Lundi!C$23=$A3,Lundi!C$1,IF(Lundi!C$24=$A3,Lundi!C$1,IF(Lundi!C$25=$A3,Lundi!C$1,IF(Lundi!C$26=$A3,Lundi!C$1,IF(Lundi!C$27=$A3,Lundi!C$1,IF(Lundi!C$28=$A3,Lundi!C$1,IF(Lundi!C$29=$A3,Lundi!C$1,IF(Lundi!C$30=$A3,Lundi!C$1,"")))))))))))))) | K4: =IF(Lundi!D$17=$A3,Lundi!D$1,IF(Lundi!D$18=$A3,Lundi!D$1,IF(Lundi!D$19=$A3,Lundi!D$1,IF(Lundi!D$20=$A3,Lundi!D$1,IF(Lundi!D$21=$A3,Lundi!D$1,IF(Lundi!D$22=$A3,Lundi!D$1,IF(Lundi!D$23=$A3,Lundi!D$1,IF(Lundi!D$24=$A3,Lundi!D$1,IF(Lundi!D$25=$A3,Lundi!D$1,IF(Lundi!D$26=$A3,Lundi!D$1,IF(Lundi!D$27=$A3,Lundi!D$1,IF(Lundi!D$28=$A3,Lundi!D$1,IF(Lundi!D$29=$A3,Lundi!D$1,IF(Lundi!D$30=$A3,Lundi!D$1,"")))))))))))))) -> Self | L4: =IF(Lundi!E$17=$A3,Lundi!E$1,IF(Lundi!E$18=$A3,Lundi!E$1,IF(Lundi!E$19=$A3,Lundi!E$1,IF(Lundi!E$20=$A3,Lundi!E$1,IF(Lundi!E$21=$A3,Lundi!E$1,IF(Lundi!E$22=$A3,Lundi!E$1,IF(Lundi!E$23=$A3,Lundi!E$1,IF(Lundi!E$24=$A3,Lundi!E$1,IF(Lundi!E$25=$A3,Lundi!E$1,IF(Lundi!E$26=$A3,Lundi!E$1,IF(Lundi!E$27=$A3,Lundi!E$1,IF(Lundi!E$28=$A3,Lundi!E$1,IF(Lundi!E$29=$A3,Lundi!E$1,IF(Lundi!E$30=$A3,Lundi!E$1,"")))))))))))))) | M4: =IF(Lundi!F$17=$A3,Lundi!F$1,IF(Lundi!F$18=$A3,Lundi!F$1,IF(Lundi!F$19=$A3,Lundi!F$1,IF(Lundi!F$20=$A3,Lundi!F$1,IF(Lundi!F$21=$A3,Lundi!F$1,IF(Lundi!F$22=$A3,Lundi!F$1,IF(Lundi!F$23=$A3,Lundi!F$1,IF(Lundi!F$24=$A3,Lundi!F$1,IF(Lundi!F$25=$A3,Lundi!F$1,IF(Lundi!F$26=$A3,Lundi!F$1,IF(Lundi!F$27=$A3,Lundi!F$1,IF(Lundi!F$28=$A3,Lundi!F$1,IF(Lundi!F$29=$A3,Lundi!F$1,IF(Lundi!F$30=$A3,Lundi!F$1,"")))))))))))))) | N4: =IF(Lundi!G$17=$A3,Lundi!G$1,IF(Lundi!G$18=$A3,Lundi!G$1,IF(Lundi!G$19=$A3,Lundi!G$1,IF(Lundi!G$20=$A3,Lundi!G$1,IF(Lundi!G$21=$A3,Lundi!G$1,IF(Lundi!G$22=$A3,Lundi!G$1,IF(Lundi!G$23=$A3,Lundi!G$1,IF(Lundi!G$24=$A3,Lundi!G$1,IF(Lundi!G$25=$A3,Lundi!G$1,IF(Lundi!G$26=$A3,Lundi!G$1,IF(Lundi!G$27=$A3,Lundi!G$1,IF(Lundi!G$28=$A3,Lundi!G$1,IF(Lundi!G$29=$A3,Lundi!G$1,IF(Lundi!G$30=$A3,Lundi!G$1,"")))))))))))))) | O4: =IF(Lundi!H$17=$A3,Lundi!H$1,IF(Lundi!H$18=$A3,Lundi!H$1,IF(Lundi!H$19=$A3,Lundi!H$1,IF(Lundi!H$20=$A3,Lundi!H$1,IF(Lundi!H$21=$A3,Lundi!H$1,IF(Lundi!H$22=$A3,Lundi!H$1,IF(Lundi!H$23=$A3,Lundi!H$1,IF(Lundi!H$24=$A3,Lundi!H$1,IF(Lundi!H$25=$A3,Lundi!H$1,IF(Lundi!H$26=$A3,Lundi!H$1,IF(Lundi!H$27=$A3,Lundi!H$1,IF(Lundi!H$28=$A3,Lundi!H$1,IF(Lundi!H$29=$A3,Lundi!H$1,IF(Lundi!H$30=$A3,Lundi!H$1,"")))))))))))))) | P4: =IF(Lundi!I$17=$A3,Lundi!I$1,IF(Lundi!I$18=$A3,Lundi!I$1,IF(Lundi!I$19=$A3,Lundi!I$1,IF(Lundi!I$20=$A3,Lundi!I$1,IF(Lundi!I$21=$A3,Lundi!I$1,IF(Lundi!I$22=$A3,Lundi!I$1,IF(Lundi!I$23=$A3,Lundi!I$1,IF(Lundi!I$24=$A3,Lundi!I$1,IF(Lundi!I$25=$A3,Lundi!I$1,IF(Lundi!I$26=$A3,Lundi!I$1,IF(Lundi!I$27=$A3,Lundi!I$1,IF(Lundi!I$28=$A3,Lundi!I$1,IF(Lundi!I$29=$A3,Lundi!I$1,IF(Lundi!I$30=$A3,Lundi!I$1,"")))))))))))))) | Q4: =IF(Lundi!J$17=$A3,Lundi!J$1,IF(Lundi!J$18=$A3,Lundi!J$1,IF(Lundi!J$19=$A3,Lundi!J$1,IF(Lundi!J$20=$A3,Lundi!J$1,IF(Lundi!J$21=$A3,Lundi!J$1,IF(Lundi!J$22=$A3,Lundi!J$1,IF(Lundi!J$23=$A3,Lundi!J$1,IF(Lundi!J$24=$A3,Lundi!J$1,IF(Lundi!J$25=$A3,Lundi!J$1,IF(Lundi!J$26=$A3,Lundi!J$1,IF(Lundi!J$27=$A3,Lundi!J$1,IF(Lundi!J$28=$A3,Lundi!J$1,IF(Lundi!J$29=$A3,Lundi!J$1,IF(Lundi!J$30=$A3,Lundi!J$1,"")))))))))))))) | R4: =IF(Mardi!B$17=$A3,Mardi!B$1,IF(Mardi!B$18=$A3,Mardi!B$1,IF(Mardi!B$19=$A3,Mardi!B$1,IF(Mardi!B$20=$A3,Mardi!B$1,IF(Mardi!B$21=$A3,Mardi!B$1,IF(Mardi!B$22=$A3,Mardi!B$1,IF(Mardi!B$23=$A3,Mardi!B$1,IF(Mardi!B$24=$A3,Mardi!B$1,IF(Mardi!B$25=$A3,Mardi!B$1,IF(Mardi!B$26=$A3,Mardi!B$1,IF(Mardi!B$27=$A3,Mardi!B$1,IF(Mardi!B$28=$A3,Mardi!B$1,IF(Mardi!B$29=$A3,Mardi!B$1,IF(Mardi!B$30=$A3,Mardi!B$1,"")))))))))))))) | S4: =IF(Mardi!C$17=$A3,Mardi!C$1,IF(Mardi!C$18=$A3,Mardi!C$1,IF(Mardi!C$19=$A3,Mardi!C$1,IF(Mardi!C$20=$A3,Mardi!C$1,IF(Mardi!C$21=$A3,Mardi!C$1,IF(Mardi!C$22=$A3,Mardi!C$1,IF(Mardi!C$23=$A3,Mardi!C$1,IF(Mardi!C$24=$A3,Mardi!C$1,IF(Mardi!C$25=$A3,Mardi!C$1,IF(Mardi!C$26=$A3,Mardi!C$1,IF(Mardi!C$27=$A3,Mardi!C$1,IF(Mardi!C$28=$A3,Mardi!C$1,IF(Mardi!C$29=$A3,Mardi!C$1,IF(Mardi!C$30=$A3,Mardi!C$1,"")))))))))))))) | T4: =IF(Mardi!D$17=$A3,Mardi!D$1,IF(Mardi!D$18=$A3,Mardi!D$1,IF(Mardi!D$19=$A3,Mardi!D$1,IF(Mardi!D$20=$A3,Mardi!D$1,IF(Mardi!D$21=$A3,Mardi!D$1,IF(Mardi!D$22=$A3,Mardi!D$1,IF(Mardi!D$23=$A3,Mardi!D$1,IF(Mardi!D$24=$A3,Mardi!D$1,IF(Mardi!D$25=$A3,Mardi!D$1,IF(Mardi!D$26=$A3,Mardi!D$1,IF(Mardi!D$27=$A3,Mardi!D$1,IF(Mardi!D$28=$A3,Mardi!D$1,IF(Mardi!D$29=$A3,Mardi!D$1,IF(Mardi!D$30=$A3,Mardi!D$1,"")))))))))))))) -> Self | U4: =IF(Mardi!E$17=$A3,Mardi!E$1,IF(Mardi!E$18=$A3,Mardi!E$1,IF(Mardi!E$19=$A3,Mardi!E$1,IF(Mardi!E$20=$A3,Mardi!E$1,IF(Mardi!E$21=$A3,Mardi!E$1,IF(Mardi!E$22=$A3,Mardi!E$1,IF(Mardi!E$23=$A3,Mardi!E$1,IF(Mardi!E$24=$A3,Mardi!E$1,IF(Mardi!E$25=$A3,Mardi!E$1,IF(Mardi!E$26=$A3,Mardi!E$1,IF(Mardi!E$27=$A3,Mardi!E$1,IF(Mardi!E$28=$A3,Mardi!E$1,IF(Mardi!E$29=$A3,Mardi!E$1,IF(Mardi!E$30=$A3,Mardi!E$1,"")))))))))))))) | V4: =IF(Mardi!F$17=$A3,Mardi!F$1,IF(Mardi!F$18=$A3,Mardi!F$1,IF(Mardi!F$19=$A3,Mardi!F$1,IF(Mardi!F$20=$A3,Mardi!F$1,IF(Mardi!F$21=$A3,Mardi!F$1,IF(Mardi!F$22=$A3,Mardi!F$1,IF(Mardi!F$23=$A3,Mardi!F$1,IF(Mardi!F$24=$A3,Mardi!F$1,IF(Mardi!F$25=$A3,Mardi!F$1,IF(Mardi!F$26=$A3,Mardi!F$1,IF(Mardi!F$27=$A3,Mardi!F$1,IF(Mardi!F$28=$A3,Mardi!F$1,IF(Mardi!F$29=$A3,Mardi!F$1,IF(Mardi!F$30=$A3,Mardi!F$1,"")))))))))))))) | W4: =IF(Mardi!G$17=$A3,Mardi!G$1,IF(Mardi!G$18=$A3,Mardi!G$1,IF(Mardi!G$19=$A3,Mardi!G$1,IF(Mardi!G$20=$A3,Mardi!G$1,IF(Mardi!G$21=$A3,Mardi!G$1,IF(Mardi!G$22=$A3,Mardi!G$1,IF(Mardi!G$23=$A3,Mardi!G$1,IF(Mardi!G$24=$A3,Mardi!G$1,IF(Mardi!G$25=$A3,Mardi!G$1,IF(Mardi!G$26=$A3,Mardi!G$1,IF(Mardi!G$27=$A3,Mardi!G$1,IF(Mardi!G$28=$A3,Mardi!G$1,IF(Mardi!G$29=$A3,Mardi!G$1,IF(Mardi!G$30=$A3,Mardi!G$1,"")))))))))))))) | X4: =IF(Mardi!H$17=$A3,Mardi!H$1,IF(Mardi!H$18=$A3,Mardi!H$1,IF(Mardi!H$19=$A3,Mardi!H$1,IF(Mardi!H$20=$A3,Mardi!H$1,IF(Mardi!H$21=$A3,Mardi!H$1,IF(Mardi!H$22=$A3,Mardi!H$1,IF(Mardi!H$23=$A3,Mardi!H$1,IF(Mardi!H$24=$A3,Mardi!H$1,IF(Mardi!H$25=$A3,Mardi!H$1,IF(Mardi!H$26=$A3,Mardi!H$1,IF(Mardi!H$27=$A3,Mardi!H$1,IF(Mardi!H$28=$A3,Mardi!H$1,IF(Mardi!H$29=$A3,Mardi!H$1,IF(Mardi!H$30=$A3,Mardi!H$1,"")))))))))))))) | Y4: =IF(Mardi!I$17=$A3,Mardi!I$1,IF(Mardi!I$18=$A3,Mardi!I$1,IF(Mardi!I$19=$A3,Mardi!I$1,IF(Mardi!I$20=$A3,Mardi!I$1,IF(Mardi!I$21=$A3,Mardi!I$1,IF(Mardi!I$22=$A3,Mardi!I$1,IF(Mardi!I$23=$A3,Mardi!I$1,IF(Mardi!I$24=$A3,Mardi!I$1,IF(Mardi!I$25=$A3,Mardi!I$1,IF(Mardi!I$26=$A3,Mardi!I$1,IF(Mardi!I$27=$A3,Mardi!I$1,IF(Mardi!I$28=$A3,Mardi!I$1,IF(Mardi!I$29=$A3,Mardi!I$1,IF(Mardi!I$30=$A3,Mardi!I$1,"")))))))))))))) | Z4: =IF(Mardi!J$17=$A3,Mardi!J$1,IF(Mardi!J$18=$A3,Mardi!J$1,IF(Mardi!J$19=$A3,Mardi!J$1,IF(Mardi!J$20=$A3,Mardi!J$1,IF(Mardi!J$21=$A3,Mardi!J$1,IF(Mardi!J$22=$A3,Mardi!J$1,IF(Mardi!J$23=$A3,Mardi!J$1,IF(Mardi!J$24=$A3,Mardi!J$1,IF(Mardi!J$25=$A3,Mardi!J$1,IF(Mardi!J$26=$A3,Mardi!J$1,IF(Mardi!J$27=$A3,Mardi!J$1,IF(Mardi!J$28=$A3,Mardi!J$1,IF(Mardi!J$29=$A3,Mardi!J$1,IF(Mardi!J$30=$A3,Mardi!J$1,"")))))))))))))) | AA4: =IF(Mercredi!B$17=$A3,Mercredi!B$1,IF(Mercredi!B$18=$A3,Mercredi!B$1,IF(Mercredi!B$19=$A3,Mercredi!B$1,IF(Mercredi!B$20=$A3,Mercredi!B$1,IF(Mercredi!B$21=$A3,Mercredi!B$1,IF(Mercredi!B$22=$A3,Mercredi!B$1,IF(Mercredi!B$23=$A3,Mercredi!B$1,IF(Mercredi!B$24=$A3,Mercredi!B$1,IF(Mercredi!B$25=$A3,Mercredi!B$1,IF(Mercredi!B$26=$A3,Mercredi!B$1,IF(Mercredi!B$27=$A3,Mercredi!B$1,IF(Mercredi!B$28=$A3,Mercredi!B$1,IF(Mercredi!B$29=$A3,Mercredi!B$1,IF(Mercredi!B$30=$A3,Mercredi!B$1,"")))))))))))))) | AB4: =IF(Mercredi!C$17=$A3,Mercredi!C$1,IF(Mercredi!C$18=$A3,Mercredi!C$1,IF(Mercredi!C$19=$A3,Mercredi!C$1,IF(Mercredi!C$20=$A3,Mercredi!C$1,IF(Mercredi!C$21=$A3,Mercredi!C$1,IF(Mercredi!C$22=$A3,Mercredi!C$1,IF(Mercredi!C$23=$A3,Mercredi!C$1,IF(Mercredi!C$24=$A3,Mercredi!C$1,IF(Mercredi!C$25=$A3,Mercredi!C$1,IF(Mercredi!C$26=$A3,Mercredi!C$1,IF(Mercredi!C$27=$A3,Mercredi!C$1,IF(Mercredi!C$28=$A3,Mercredi!C$1,IF(Mercredi!C$29=$A3,Mercredi!C$1,IF(Mercredi!C$30=$A3,Mercredi!C$1,"")))))))))))))) | AC4: =IF(Mercredi!D$17=$A3,Mercredi!D$1,IF(Mercredi!D$18=$A3,Mercredi!D$1,IF(Mercredi!D$19=$A3,Mercredi!D$1,IF(Mercredi!D$20=$A3,Mercredi!D$1,IF(Mercredi!D$21=$A3,Mercredi!D$1,IF(Mercredi!D$22=$A3,Mercredi!D$1,IF(Mercredi!D$23=$A3,Mercredi!D$1,IF(Mercredi!D$24=$A3,Mercredi!D$1,IF(Mercredi!D$25=$A3,Mercredi!D$1,IF(Mercredi!D$26=$A3,Mercredi!D$1,IF(Mercredi!D$27=$A3,Mercredi!D$1,IF(Mercredi!D$28=$A3,Mercredi!D$1,IF(Mercredi!D$29=$A3,Mercredi!D$1,IF(Mercredi!D$30=$A3,Mercredi!D$1,"")))))))))))))) | AD4: =IF(Mercredi!E$17=$A3,Mercredi!E$1,IF(Mercredi!E$18=$A3,Mercredi!E$1,IF(Mercredi!E$19=$A3,Mercredi!E$1,IF(Mercredi!E$20=$A3,Mercredi!E$1,IF(Mercredi!E$21=$A3,Mercredi!E$1,IF(Mercredi!E$22=$A3,Mercredi!E$1,IF(Mercredi!E$23=$A3,Mercredi!E$1,IF(Mercredi!E$24=$A3,Mercredi!E$1,IF(Mercredi!E$25=$A3,Mercredi!E$1,IF(Mercredi!E$26=$A3,Mercredi!E$1,IF(Mercredi!E$27=$A3,Mercredi!E$1,IF(Mercredi!E$28=$A3,Mercredi!E$1,IF(Mercredi!E$29=$A3,Mercredi!E$1,IF(Mercredi!E$30=$A3,Mercredi!E$1,"")))))))))))))) | AE4: =IF(Mercredi!F$17=$A3,Mercredi!F$1,IF(Mercredi!F$18=$A3,Mercredi!F$1,IF(Mercredi!F$19=$A3,Mercredi!F$1,IF(Mercredi!F$20=$A3,Mercredi!F$1,IF(Mercredi!F$21=$A3,Mercredi!F$1,IF(Mercredi!F$22=$A3,Mercredi!F$1,IF(Mercredi!F$23=$A3,Mercredi!F$1,IF(Mercredi!F$24=$A3,Mercredi!F$1,IF(Mercredi!F$25=$A3,Mercredi!F$1,IF(Mercredi!F$26=$A3,Mercredi!F$1,IF(Mercredi!F$27=$A3,Mercredi!F$1,IF(Mercredi!F$28=$A3,Mercredi!F$1,IF(Mercredi!F$29=$A3,Mercredi!F$1,IF(Mercredi!F$30=$A3,Mercredi!F$1,"")))))))))))))) | AF4: =IF(Mercredi!G$17=$A3,Mercredi!G$1,IF(Mercredi!G$18=$A3,Mercredi!G$1,IF(Mercredi!G$19=$A3,Mercredi!G$1,IF(Mercredi!G$20=$A3,Mercredi!G$1,IF(Mercredi!G$21=$A3,Mercredi!G$1,IF(Mercredi!G$22=$A3,Mercredi!G$1,IF(Mercredi!G$23=$A3,Mercredi!G$1,IF(Mercredi!G$24=$A3,Mercredi!G$1,IF(Mercredi!G$25=$A3,Mercredi!G$1,IF(Mercredi!G$26=$A3,Mercredi!G$1,IF(Mercredi!G$27=$A3,Mercredi!G$1,IF(Mercredi!G$28=$A3,Mercredi!G$1,IF(Mercredi!G$29=$A3,Mercredi!G$1,IF(Mercredi!G$30=$A3,Mercredi!G$1,"")))))))))))))) | AG4: =IF(Mercredi!H$17=$A3,Mercredi!H$1,IF(Mercredi!H$18=$A3,Mercredi!H$1,IF(Mercredi!H$19=$A3,Mercredi!H$1,IF(Mercredi!H$20=$A3,Mercredi!H$1,IF(Mercredi!H$21=$A3,Mercredi!H$1,IF(Mercredi!H$22=$A3,Mercredi!H$1,IF(Mercredi!H$23=$A3,Mercredi!H$1,IF(Mercredi!H$24=$A3,Mercredi!H$1,IF(Mercredi!H$25=$A3,Mercredi!H$1,IF(Mercredi!H$26=$A3,Mercredi!H$1,IF(Mercredi!H$27=$A3,Mercredi!H$1,IF(Mercredi!H$28=$A3,Mercredi!H$1,IF(Mercredi!H$29=$A3,Mercredi!H$1,IF(Mercredi!H$30=$A3,Mercredi!H$1,"")))))))))))))) | AH4: =IF(Mercredi!I$17=$A3,Mercredi!I$1,IF(Mercredi!I$18=$A3,Mercredi!I$1,IF(Mercredi!I$19=$A3,Mercredi!I$1,IF(Mercredi!I$20=$A3,Mercredi!I$1,IF(Mercredi!I$21=$A3,Mercredi!I$1,IF(Mercredi!I$22=$A3,Mercredi!I$1,IF(Mercredi!I$23=$A3,Mercredi!I$1,IF(Mercredi!I$24=$A3,Mercredi!I$1,IF(Mercredi!I$25=$A3,Mercredi!I$1,IF(Mercredi!I$26=$A3,Mercredi!I$1,IF(Mercredi!I$27=$A3,Mercredi!I$1,IF(Mercredi!I$28=$A3,Mercredi!I$1,IF(Mercredi!I$29=$A3,Mercredi!I$1,IF(Mercredi!I$30=$A3,Mercredi!I$1,"")))))))))))))) | AI4: =IF(Mercredi!J$17=$A3,Mercredi!J$1,IF(Mercredi!J$18=$A3,Mercredi!J$1,IF(Mercredi!J$19=$A3,Mercredi!J$1,IF(Mercredi!J$20=$A3,Mercredi!J$1,IF(Mercredi!J$21=$A3,Mercredi!J$1,IF(Mercredi!J$22=$A3,Mercredi!J$1,IF(Mercredi!J$23=$A3,Mercredi!J$1,IF(Mercredi!J$24=$A3,Mercredi!J$1,IF(Mercredi!J$25=$A3,Mercredi!J$1,IF(Mercredi!J$26=$A3,Mercredi!J$1,IF(Mercredi!J$27=$A3,Mercredi!J$1,IF(Mercredi!J$28=$A3,Mercredi!J$1,IF(Mercredi!J$29=$A3,Mercredi!J$1,IF(Mercredi!J$30=$A3,Mercredi!J$1,"")))))))))))))) | AJ4: =IF(Jeudi!B$17=$A3,Jeudi!B$1,IF(Jeudi!B$18=$A3,Jeudi!B$1,IF(Jeudi!B$19=$A3,Jeudi!B$1,IF(Jeudi!B$20=$A3,Jeudi!B$1,IF(Jeudi!B$21=$A3,Jeudi!B$1,IF(Jeudi!B$22=$A3,Jeudi!B$1,IF(Jeudi!B$23=$A3,Jeudi!B$1,IF(Jeudi!B$24=$A3,Jeudi!B$1,IF(Jeudi!B$25=$A3,Jeudi!B$1,IF(Jeudi!B$26=$A3,Jeudi!B$1,IF(Jeudi!B$27=$A3,Jeudi!B$1,IF(Jeudi!B$28=$A3,Jeudi!B$1,IF(Jeudi!B$29=$A3,Jeudi!B$1,IF(Jeudi!B$30=$A3,Jeudi!B$1,"")))))))))))))) | AK4: =IF(Jeudi!C$17=$A3,Jeudi!C$1,IF(Jeudi!C$18=$A3,Jeudi!C$1,IF(Jeudi!C$19=$A3,Jeudi!C$1,IF(Jeudi!C$20=$A3,Jeudi!C$1,IF(Jeudi!C$21=$A3,Jeudi!C$1,IF(Jeudi!C$22=$A3,Jeudi!C$1,IF(Jeudi!C$23=$A3,Jeudi!C$1,IF(Jeudi!C$24=$A3,Jeudi!C$1,IF(Jeudi!C$25=$A3,Jeudi!C$1,IF(Jeudi!C$26=$A3,Jeudi!C$1,IF(Jeudi!C$27=$A3,Jeudi!C$1,IF(Jeudi!C$28=$A3,Jeudi!C$1,IF(Jeudi!C$29=$A3,Jeudi!C$1,IF(Jeudi!C$30=$A3,Jeudi!C$1,"")))))))))))))) | AL4: =IF(Jeudi!D$17=$A3,Jeudi!D$1,IF(Jeudi!D$18=$A3,Jeudi!D$1,IF(Jeudi!D$19=$A3,Jeudi!D$1,IF(Jeudi!D$20=$A3,Jeudi!D$1,IF(Jeudi!D$21=$A3,Jeudi!D$1,IF(Jeudi!D$22=$A3,Jeudi!D$1,IF(Jeudi!D$23=$A3,Jeudi!D$1,IF(Jeudi!D$24=$A3,Jeudi!D$1,IF(Jeudi!D$25=$A3,Jeudi!D$1,IF(Jeudi!D$26=$A3,Jeudi!D$1,IF(Jeudi!D$27=$A3,Jeudi!D$1,IF(Jeudi!D$28=$A3,Jeudi!D$1,IF(Jeudi!D$29=$A3,Jeudi!D$1,IF(Jeudi!D$30=$A3,Jeudi!D$1,"")))))))))))))) | AM4: =IF(Jeudi!E$17=$A3,Jeudi!E$1,IF(Jeudi!E$18=$A3,Jeudi!E$1,IF(Jeudi!E$19=$A3,Jeudi!E$1,IF(Jeudi!E$20=$A3,Jeudi!E$1,IF(Jeudi!E$21=$A3,Jeudi!E$1,IF(Jeudi!E$22=$A3,Jeudi!E$1,IF(Jeudi!E$23=$A3,Jeudi!E$1,IF(Jeudi!E$24=$A3,Jeudi!E$1,IF(Jeudi!E$25=$A3,Jeudi!E$1,IF(Jeudi!E$26=$A3,Jeudi!E$1,IF(Jeudi!E$27=$A3,Jeudi!E$1,IF(Jeudi!E$28=$A3,Jeudi!E$1,IF(Jeudi!E$29=$A3,Jeudi!E$1,IF(Jeudi!E$30=$A3,Jeudi!E$1,"")))))))))))))) | AN4: =IF(Jeudi!F$17=$A3,Jeudi!F$1,IF(Jeudi!F$18=$A3,Jeudi!F$1,IF(Jeudi!F$19=$A3,Jeudi!F$1,IF(Jeudi!F$20=$A3,Jeudi!F$1,IF(Jeudi!F$21=$A3,Jeudi!F$1,IF(Jeudi!F$22=$A3,Jeudi!F$1,IF(Jeudi!F$23=$A3,Jeudi!F$1,IF(Jeudi!F$24=$A3,Jeudi!F$1,IF(Jeudi!F$25=$A3,Jeudi!F$1,IF(Jeudi!F$26=$A3,Jeudi!F$1,IF(Jeudi!F$27=$A3,Jeudi!F$1,IF(Jeudi!F$28=$A3,Jeudi!F$1,IF(Jeudi!F$29=$A3,Jeudi!F$1,IF(Jeudi!F$30=$A3,Jeudi!F$1,"")))))))))))))) -> At. Polyvalent | AO4: =IF(Jeudi!G$17=$A3,Jeudi!G$1,IF(Jeudi!G$18=$A3,Jeudi!G$1,IF(Jeudi!G$19=$A3,Jeudi!G$1,IF(Jeudi!G$20=$A3,Jeudi!G$1,IF(Jeudi!G$21=$A3,Jeudi!G$1,IF(Jeudi!G$22=$A3,Jeudi!G$1,IF(Jeudi!G$23=$A3,Jeudi!G$1,IF(Jeudi!G$24=$A3,Jeudi!G$1,IF(Jeudi!G$25=$A3,Jeudi!G$1,IF(Jeudi!G$26=$A3,Jeudi!G$1,IF(Jeudi!G$27=$A3,Jeudi!G$1,IF(Jeudi!G$28=$A3,Jeudi!G$1,IF(Jeudi!G$29=$A3,Jeudi!G$1,IF(Jeudi!G$30=$A3,Jeudi!G$1,"")))))))))))))) | AP4: =IF(Jeudi!H$17=$A3,Jeudi!H$1,IF(Jeudi!H$18=$A3,Jeudi!H$1,IF(Jeudi!H$19=$A3,Jeudi!H$1,IF(Jeudi!H$20=$A3,Jeudi!H$1,IF(Jeudi!H$21=$A3,Jeudi!H$1,IF(Jeudi!H$22=$A3,Jeudi!H$1,IF(Jeudi!H$23=$A3,Jeudi!H$1,IF(Jeudi!H$24=$A3,Jeudi!H$1,IF(Jeudi!H$25=$A3,Jeudi!H$1,IF(Jeudi!H$26=$A3,Jeudi!H$1,IF(Jeudi!H$27=$A3,Jeudi!H$1,IF(Jeudi!H$28=$A3,Jeudi!H$1,IF(Jeudi!H$29=$A3,Jeudi!H$1,IF(Jeudi!H$30=$A3,Jeudi!H$1,"")))))))))))))) | AQ4: =IF(Jeudi!I$17=$A3,Jeudi!I$1,IF(Jeudi!I$18=$A3,Jeudi!I$1,IF(Jeudi!I$19=$A3,Jeudi!I$1,IF(Jeudi!I$20=$A3,Jeudi!I$1,IF(Jeudi!I$21=$A3,Jeudi!I$1,IF(Jeudi!I$22=$A3,Jeudi!I$1,IF(Jeudi!I$23=$A3,Jeudi!I$1,IF(Jeudi!I$24=$A3,Jeudi!I$1,IF(Jeudi!I$25=$A3,Jeudi!I$1,IF(Jeudi!I$26=$A3,Jeudi!I$1,IF(Jeudi!I$27=$A3,Jeudi!I$1,IF(Jeudi!I$28=$A3,Jeudi!I$1,IF(Jeudi!I$29=$A3,Jeudi!I$1,IF(Jeudi!I$30=$A3,Jeudi!I$1,"")))))))))))))) | AR4: =IF(Jeudi!J$17=$A3,Jeudi!J$1,IF(Jeudi!J$18=$A3,Jeudi!J$1,IF(Jeudi!J$19=$A3,Jeudi!J$1,IF(Jeudi!J$20=$A3,Jeudi!J$1,IF(Jeudi!J$21=$A3,Jeudi!J$1,IF(Jeudi!J$22=$A3,Jeudi!J$1,IF(Jeudi!J$23=$A3,Jeudi!J$1,IF(Jeudi!J$24=$A3,Jeudi!J$1,IF(Jeudi!J$25=$A3,Jeudi!J$1,IF(Jeudi!J$26=$A3,Jeudi!J$1,IF(Jeudi!J$27=$A3,Jeudi!J$1,IF(Jeudi!J$28=$A3,Jeudi!J$1,IF(Jeudi!J$29=$A3,Jeudi!J$1,IF(Jeudi!J$30=$A3,Jeudi!J$1,"")))))))))))))) | AS4: =IF(Vendredi!B$17=$A3,Vendredi!B$1,IF(Vendredi!B$18=$A3,Vendredi!B$1,IF(Vendredi!B$19=$A3,Vendredi!B$1,IF(Vendredi!B$20=$A3,Vendredi!B$1,IF(Vendredi!B$21=$A3,Vendredi!B$1,IF(Vendredi!B$22=$A3,Vendredi!B$1,IF(Vendredi!B$23=$A3,Vendredi!B$1,IF(Vendredi!B$24=$A3,Vendredi!B$1,IF(Vendredi!B$25=$A3,Vendredi!B$1,IF(Vendredi!B$26=$A3,Vendredi!B$1,IF(Vendredi!B$27=$A3,Vendredi!B$1,IF(Vendredi!B$28=$A3,Vendredi!B$1,IF(Vendredi!B$29=$A3,Vendredi!B$1,IF(Vendredi!B$30=$A3,Vendredi!B$1,"")))))))))))))) | AT4: =IF(Vendredi!C$17=$A3,Vendredi!C$1,IF(Vendredi!C$18=$A3,Vendredi!C$1,IF(Vendredi!C$19=$A3,Vendredi!C$1,IF(Vendredi!C$20=$A3,Vendredi!C$1,IF(Vendredi!C$21=$A3,Vendredi!C$1,IF(Vendredi!C$22=$A3,Vendredi!C$1,IF(Vendredi!C$23=$A3,Vendredi!C$1,IF(Vendredi!C$24=$A3,Vendredi!C$1,IF(Vendredi!C$25=$A3,Vendredi!C$1,IF(Vendredi!C$26=$A3,Vendredi!C$1,IF(Vendredi!C$27=$A3,Vendredi!C$1,IF(Vendredi!C$28=$A3,Vendredi!C$1,IF(Vendredi!C$29=$A3,Vendredi!C$1,IF(Vendredi!C$30=$A3,Vendredi!C$1,"")))))))))))))) | AU4: =IF(Vendredi!D$17=$A3,Vendredi!D$1,IF(Vendredi!D$18=$A3,Vendredi!D$1,IF(Vendredi!D$19=$A3,Vendredi!D$1,IF(Vendredi!D$20=$A3,Vendredi!D$1,IF(Vendredi!D$21=$A3,Vendredi!D$1,IF(Vendredi!D$22=$A3,Vendredi!D$1,IF(Vendredi!D$23=$A3,Vendredi!D$1,IF(Vendredi!D$24=$A3,Vendredi!D$1,IF(Vendredi!D$25=$A3,Vendredi!D$1,IF(Vendredi!D$26=$A3,Vendredi!D$1,IF(Vendredi!D$27=$A3,Vendredi!D$1,IF(Vendredi!D$28=$A3,Vendredi!D$1,IF(Vendredi!D$29=$A3,Vendredi!D$1,IF(Vendredi!D$30=$A3,Vendredi!D$1,"")))))))))))))) | AV4: =IF(Vendredi!E$17=$A3,Vendredi!E$1,IF(Vendredi!E$18=$A3,Vendredi!E$1,IF(Vendredi!E$19=$A3,Vendredi!E$1,IF(Vendredi!E$20=$A3,Vendredi!E$1,IF(Vendredi!E$21=$A3,Vendredi!E$1,IF(Vendredi!E$22=$A3,Vendredi!E$1,IF(Vendredi!E$23=$A3,Vendredi!E$1,IF(Vendredi!E$24=$A3,Vendredi!E$1,IF(Vendredi!E$25=$A3,Vendredi!E$1,IF(Vendredi!E$26=$A3,Vendredi!E$1,IF(Vendredi!E$27=$A3,Vendredi!E$1,IF(Vendredi!E$28=$A3,Vendredi!E$1,IF(Vendredi!E$29=$A3,Vendredi!E$1,IF(Vendredi!E$30=$A3,Vendredi!E$1,"")))))))))))))) -> Espace vert | AW4: =IF(Vendredi!F$17=$A3,Vendredi!F$1,IF(Vendredi!F$18=$A3,Vendredi!F$1,IF(Vendredi!F$19=$A3,Vendredi!F$1,IF(Vendredi!F$20=$A3,Vendredi!F$1,IF(Vendredi!F$21=$A3,Vendredi!F$1,IF(Vendredi!F$22=$A3,Vendredi!F$1,IF(Vendredi!F$23=$A3,Vendredi!F$1,IF(Vendredi!F$24=$A3,Vendredi!F$1,IF(Vendredi!F$25=$A3,Vendredi!F$1,IF(Vendredi!F$26=$A3,Vendredi!F$1,IF(Vendredi!F$27=$A3,Vendredi!F$1,IF(Vendredi!F$28=$A3,Vendredi!F$1,IF(Vendredi!F$29=$A3,Vendredi!F$1,IF(Vendredi!F$30=$A3,Vendredi!F$1,"")))))))))))))) | AX4: =IF(Vendredi!G$17=$A3,Vendredi!G$1,IF(Vendredi!G$18=$A3,Vendredi!G$1,IF(Vendredi!G$19=$A3,Vendredi!G$1,IF(Vendredi!G$20=$A3,Vendredi!G$1,IF(Vendredi!G$21=$A3,Vendredi!G$1,IF(Vendredi!G$22=$A3,Vendredi!G$1,IF(Vendredi!G$23=$A3,Vendredi!G$1,IF(Vendredi!G$24=$A3,Vendredi!G$1,IF(Vendredi!G$25=$A3,Vendredi!G$1,IF(Vendredi!G$26=$A3,Vendredi!G$1,IF(Vendredi!G$27=$A3,Vendredi!G$1,IF(Vendredi!G$28=$A3,Vendredi!G$1,IF(Vendredi!G$29=$A3,Vendredi!G$1,IF(Vendredi!G$30=$A3,Vendredi!G$1,"")))))))))))))) | AY4: =IF(Vendredi!H$17=$A3,Vendredi!H$1,IF(Vendredi!H$18=$A3,Vendredi!H$1,IF(Vendredi!H$19=$A3,Vendredi!H$1,IF(Vendredi!H$20=$A3,Vendredi!H$1,IF(Vendredi!H$21=$A3,Vendredi!H$1,IF(Vendredi!H$22=$A3,Vendredi!H$1,IF(Vendredi!H$23=$A3,Vendredi!H$1,IF(Vendredi!H$24=$A3,Vendredi!H$1,IF(Vendredi!H$25=$A3,Vendredi!H$1,IF(Vendredi!H$26=$A3,Vendredi!H$1,IF(Vendredi!H$27=$A3,Vendredi!H$1,IF(Vendredi!H$28=$A3,Vendredi!H$1,IF(Vendredi!H$29=$A3,Vendredi!H$1,IF(Vendredi!H$30=$A3,Vendredi!H$1,"")))))))))))))) | AZ4: =IF(Vendredi!I$17=$A3,Vendredi!I$1,IF(Vendredi!I$18=$A3,Vendredi!I$1,IF(Vendredi!I$19=$A3,Vendredi!I$1,IF(Vendredi!I$20=$A3,Vendredi!I$1,IF(Vendredi!I$21=$A3,Vendredi!I$1,IF(Vendredi!I$22=$A3,Vendredi!I$1,IF(Vendredi!I$23=$A3,Vendredi!I$1,IF(Vendredi!I$24=$A3,Vendredi!I$1,IF(Vendredi!I$25=$A3,Vendredi!I$1,IF(Vendredi!I$26=$A3,Vendredi!I$1,IF(Vendredi!I$27=$A3,Vendredi!I$1,IF(Vendredi!I$28=$A3,Vendredi!I$1,IF(Vendredi!I$29=$A3,Vendredi!I$1,IF(Vendredi!I$30=$A3,Vendredi!I$1,"")))))))))))))) | BA4: =IF(Vendredi!J$17=$A3,Vendredi!J$1,IF(Vendredi!J$18=$A3,Vendredi!J$1,IF(Vendredi!J$19=$A3,Vendredi!J$1,IF(Vendredi!J$20=$A3,Vendredi!J$1,IF(Vendredi!J$21=$A3,Vendredi!J$1,IF(Vendredi!J$22=$A3,Vendredi!J$1,IF(Vendredi!J$23=$A3,Vendredi!J$1,IF(Vendredi!J$24=$A3,Vendredi!J$1,IF(Vendredi!J$25=$A3,Vendredi!J$1,IF(Vendredi!J$26=$A3,Vendredi!J$1,IF(Vendredi!J$27=$A3,Vendredi!J$1,IF(Vendredi!J$28=$A3,Vendredi!J$1,IF(Vendredi!J$29=$A3,Vendredi!J$1,IF(Vendredi!J$30=$A3,Vendredi!J$1,""))))))))))))))
A6: Paul | B6: Matin | C6: =I6&J6&K6&L6&M6&N6&O6&P6&Q6 -> Classe B | D6: =R6&S6&T6&U6&V6&W6&X6&Y6&Z6 -> Restaurant | E6: =AA6&AB6&AC6&AD6&AE6&AF6&AG6&AH6&AI6 -> Espace vert | F6: =AJ6&AK6&AL6&AM6&AN6&AO6&AP6&AQ6&AR6 -> Horti | G6: =AS6&AT6&AU6&AV6&AW6&AX6&AY6&AZ6&BA6 -> At. Polyvalent | I6: =IF(Lundi!B$2=$A6,Lundi!B$1,IF(Lundi!B$3=$A6,Lundi!B$1,IF(Lundi!B$4=$A6,Lundi!B$1,IF(Lundi!B$5=$A6,Lundi!B$1,IF(Lundi!B$6=$A6,Lundi!B$1,IF(Lundi!B$7=$A6,Lundi!B$1,IF(Lundi!B$8=$A6,Lundi!B$1,IF(Lundi!B$9=$A6,Lundi!B$1,IF(Lundi!B$10=$A6,Lundi!B$1,IF(Lundi!B$11=$A6,Lundi!B$1,IF(Lundi!B$12=$A6,Lundi!B$1,IF(Lundi!B$13=$A6,Lundi!B$1,IF(Lundi!B$14=$A6,Lundi!B$1,IF(Lundi!B$15=$A6,Lundi!B$1,"")))))))))))))) -> Classe B | J6: =IF(Lundi!C$2=$A6,Lundi!C$1,IF(Lundi!C$3=$A6,Lundi!C$1,IF(Lundi!C$4=$A6,Lundi!C$1,IF(Lundi!C$5=$A6,Lundi!C$1,IF(Lundi!C$6=$A6,Lundi!C$1,IF(Lundi!C$7=$A6,Lundi!C$1,IF(Lundi!C$8=$A6,Lundi!C$1,IF(Lundi!C$9=$A6,Lundi!C$1,IF(Lundi!C$10=$A6,Lundi!C$1,IF(Lundi!C$11=$A6,Lundi!C$1,IF(Lundi!C$12=$A6,Lundi!C$1,IF(Lundi!C$13=$A6,Lundi!C$1,IF(Lundi!C$14=$A6,Lundi!C$1,IF(Lundi!C$15=$A6,Lundi!C$1,"")))))))))))))) | K6: =IF(Lundi!D$2=$A6,Lundi!D$1,IF(Lundi!D$3=$A6,Lundi!D$1,IF(Lundi!D$4=$A6,Lundi!D$1,IF(Lundi!D$5=$A6,Lundi!D$1,IF(Lundi!D$6=$A6,Lundi!D$1,IF(Lundi!D$7=$A6,Lundi!D$1,IF(Lundi!D$8=$A6,Lundi!D$1,IF(Lundi!D$9=$A6,Lundi!D$1,IF(Lundi!D$10=$A6,Lundi!D$1,IF(Lundi!D$11=$A6,Lundi!D$1,IF(Lundi!D$12=$A6,Lundi!D$1,IF(Lundi!D$13=$A6,Lundi!D$1,IF(Lundi!D$14=$A6,Lundi!D$1,IF(Lundi!D$15=$A6,Lundi!D$1,"")))))))))))))) | L6: =IF(Lundi!E5=$A6,Lundi!E$1,IF(Lundi!E6=$A6,Lundi!E$1,IF(Lundi!E7=$A6,Lundi!E$1,IF(Lundi!E8=$A6,Lundi!E$1,IF(Lundi!E9=$A6,Lundi!E$1,IF(Lundi!E10=$A6,Lundi!E$1,IF(Lundi!E11=$A6,Lundi!E$1,IF(Lundi!E12=$A6,Lundi!E$1,IF(Lundi!E13=$A6,Lundi!E$1,IF(Lundi!E14=$A6,Lundi!E$1,IF(Lundi!E15=$A6,Lundi!E$1,IF(Lundi!E16=$A6,Lundi!E$1,IF(Lundi!E17=$A6,Lundi!E$1,IF(Lundi!E18=$A6,Lundi!E$1,"")))))))))))))) | M6: =IF(Lundi!F5=$A6,Lundi!F$1,IF(Lundi!F6=$A6,Lundi!F$1,IF(Lundi!F7=$A6,Lundi!F$1,IF(Lundi!F8=$A6,Lundi!F$1,IF(Lundi!F9=$A6,Lundi!F$1,IF(Lundi!F10=$A6,Lundi!F$1,IF(Lundi!F11=$A6,Lundi!F$1,IF(Lundi!F12=$A6,Lundi!F$1,IF(Lundi!F13=$A6,Lundi!F$1,IF(Lundi!F14=$A6,Lundi!F$1,IF(Lundi!F15=$A6,Lundi!F$1,IF(Lundi!F16=$A6,Lundi!F$1,IF(Lundi!F17=$A6,Lundi!F$1,IF(Lundi!F18=$A6,Lundi!F$1,"")))))))))))))) | R6: =IF(Mardi!B$2=$A6,Mardi!B$1,IF(Mardi!B$3=$A6,Mardi!B$1,IF(Mardi!B$4=$A6,Mardi!B$1,IF(Mardi!B$5=$A6,Mardi!B$1,IF(Mardi!B$6=$A6,Mardi!B$1,IF(Mardi!B$7=$A6,Mardi!B$1,IF(Mardi!B$8=$A6,Mardi!B$1,IF(Mardi!B$9=$A6,Mardi!B$1,IF(Mardi!B$10=$A6,Mardi!B$1,IF(Mardi!B$11=$A6,Mardi!B$1,IF(Mardi!B$12=$A6,Mardi!B$1,IF(Mardi!B$13=$A6,Mardi!B$1,IF(Mardi!B$14=$A6,Mardi!B$1,IF(Mardi!B$15=$A6,Mardi!B$1,"")))))))))))))) | S6: =IF(Mardi!C$2=$A6,Mardi!C$1,IF(Mardi!C$3=$A6,Mardi!C$1,IF(Mardi!C$4=$A6,Mardi!C$1,IF(Mardi!C$5=$A6,Mardi!C$1,IF(Mardi!C$6=$A6,Mardi!C$1,IF(Mardi!C$7=$A6,Mardi!C$1,IF(Mardi!C$8=$A6,Mardi!C$1,IF(Mardi!C$9=$A6,Mardi!C$1,IF(Mardi!C$10=$A6,Mardi!C$1,IF(Mardi!C$11=$A6,Mardi!C$1,IF(Mardi!C$12=$A6,Mardi!C$1,IF(Mardi!C$13=$A6,Mardi!C$1,IF(Mardi!C$14=$A6,Mardi!C$1,IF(Mardi!C$15=$A6,Mardi!C$1,"")))))))))))))) -> Restaurant | T6: =IF(Mardi!D$2=$A6,Mardi!D$1,IF(Mardi!D$3=$A6,Mardi!D$1,IF(Mardi!D$4=$A6,Mardi!D$1,IF(Mardi!D$5=$A6,Mardi!D$1,IF(Mardi!D$6=$A6,Mardi!D$1,IF(Mardi!D$7=$A6,Mardi!D$1,IF(Mardi!D$8=$A6,Mardi!D$1,IF(Mardi!D$9=$A6,Mardi!D$1,IF(Mardi!D$10=$A6,Mardi!D$1,IF(Mardi!D$11=$A6,Mardi!D$1,IF(Mardi!D$12=$A6,Mardi!D$1,IF(Mardi!D$13=$A6,Mardi!D$1,IF(Mardi!D$14=$A6,Mardi!D$1,IF(Mardi!D$15=$A6,Mardi!D$1,"")))))))))))))) | U6: =IF(Mardi!E$2=$A6,Mardi!E$1,IF(Mardi!E$3=$A6,Mardi!E$1,IF(Mardi!E$4=$A6,Mardi!E$1,IF(Mardi!E$5=$A6,Mardi!E$1,IF(Mardi!E$6=$A6,Mardi!E$1,IF(Mardi!E$7=$A6,Mardi!E$1,IF(Mardi!E$8=$A6,Mardi!E$1,IF(Mardi!E$9=$A6,Mardi!E$1,IF(Mardi!E$10=$A6,Mardi!E$1,IF(Mardi!E$11=$A6,Mardi!E$1,IF(Mardi!E$12=$A6,Mardi!E$1,IF(Mardi!E$13=$A6,Mardi!E$1,IF(Mardi!E$14=$A6,Mardi!E$1,IF(Mardi!E$15=$A6,Mardi!E$1,"")))))))))))))) | V6: =IF(Mardi!F$2=$A6,Mardi!F$1,IF(Mardi!F$3=$A6,Mardi!F$1,IF(Mardi!F$4=$A6,Mardi!F$1,IF(Mardi!F$5=$A6,Mardi!F$1,IF(Mardi!F$6=$A6,Mardi!F$1,IF(Mardi!F$7=$A6,Mardi!F$1,IF(Mardi!F$8=$A6,Mardi!F$1,IF(Mardi!F$9=$A6,Mardi!F$1,IF(Mardi!F$10=$A6,Mardi!F$1,IF(Mardi!F$11=$A6,Mardi!F$1,IF(Mardi!F$12=$A6,Mardi!F$1,IF(Mardi!F$13=$A6,Mardi!F$1,IF(Mardi!F$14=$A6,Mardi!F$1,IF(Mardi!F$15=$A6,Mardi!F$1,"")))))))))))))) | W6: =IF(Mardi!G$2=$A6,Mardi!G$1,IF(Mardi!G$3=$A6,Mardi!G$1,IF(Mardi!G$4=$A6,Mardi!G$1,IF(Mardi!G$5=$A6,Mardi!G$1,IF(Mardi!G$6=$A6,Mardi!G$1,IF(Mardi!G$7=$A6,Mardi!G$1,IF(Mardi!G$8=$A6,Mardi!G$1,IF(Mardi!G$9=$A6,Mardi!G$1,IF(Mardi!G$10=$A6,Mardi!G$1,IF(Mardi!G$11=$A6,Mardi!G$1,IF(Mardi!G$12=$A6,Mardi!G$1,IF(Mardi!G$13=$A6,Mardi!G$1,IF(Mardi!G$14=$A6,Mardi!G$1,IF(Mardi!G$15=$A6,Mardi!G$1,"")))))))))))))) | X6: =IF(Mardi!H$2=$A6,Mardi!H$1,IF(Mardi!H$3=$A6,Mardi!H$1,IF(Mardi!H$4=$A6,Mardi!H$1,IF(Mardi!H$5=$A6,Mardi!H$1,IF(Mardi!H$6=$A6,Mardi!H$1,IF(Mardi!H$7=$A6,Mardi!H$1,IF(Mardi!H$8=$A6,Mardi!H$1,IF(Mardi!H$9=$A6,Mardi!H$1,IF(Mardi!H$10=$A6,Mardi!H$1,IF(Mardi!H$11=$A6,Mardi!H$1,IF(Mardi!H$12=$A6,Mardi!H$1,IF(Mardi!H$13=$A6,Mardi!H$1,IF(Mardi!H$14=$A6,Mardi!H$1,IF(Mardi!H$15=$A6,Mardi!H$1,"")))))))))))))) | Y6: =IF(Mardi!I$2=$A6,Mardi!I$1,IF(Mardi!I$3=$A6,Mardi!I$1,IF(Mardi!I$4=$A6,Mardi!I$1,IF(Mardi!I$5=$A6,Mardi!I$1,IF(Mardi!I$6=$A6,Mardi!I$1,IF(Mardi!I$7=$A6,Mardi!I$1,IF(Mardi!I$8=$A6,Mardi!I$1,IF(Mardi!I$9=$A6,Mardi!I$1,IF(Mardi!I$10=$A6,Mardi!I$1,IF(Mardi!I$11=$A6,Mardi!I$1,IF(Mardi!I$12=$A6,Mardi!I$1,IF(Mardi!I$13=$A6,Mardi!I$1,IF(Mardi!I$14=$A6,Mardi!I$1,IF(Mardi!I$15=$A6,Mardi!I$1,"")))))))))))))) | Z6: =IF(Mardi!J$2=$A6,Mardi!J$1,IF(Mardi!J$3=$A6,Mardi!J$1,IF(Mardi!J$4=$A6,Mardi!J$1,IF(Mardi!J$5=$A6,Mardi!J$1,IF(Mardi!J$6=$A6,Mardi!J$1,IF(Mardi!J$7=$A6,Mardi!J$1,IF(Mardi!J$8=$A6,Mardi!J$1,IF(Mardi!J$9=$A6,Mardi!J$1,IF(Mardi!J$10=$A6,Mardi!J$1,IF(Mardi!J$11=$A6,Mardi!J$1,IF(Mardi!J$12=$A6,Mardi!J$1,IF(Mardi!J$13=$A6,Mardi!J$1,IF(Mardi!J$14=$A6,Mardi!J$1,IF(Mardi!J$15=$A6,Mardi!J$1,"")))))))))))))) | AA6: =IF(Mercredi!B$2=$A6,Mercredi!B$1,IF(Mercredi!B$3=$A6,Mercredi!B$1,IF(Mercredi!B$4=$A6,Mercredi!B$1,IF(Mercredi!B$5=$A6,Mercredi!B$1,IF(Mercredi!B$6=$A6,Mercredi!B$1,IF(Mercredi!B$7=$A6,Mercredi!B$1,IF(Mercredi!B$8=$A6,Mercredi!B$1,IF(Mercredi!B$9=$A6,Mercredi!B$1,IF(Mercredi!B$10=$A6,Mercredi!B$1,IF(Mercredi!B$11=$A6,Mercredi!B$1,IF(Mercredi!B$12=$A6,Mercredi!B$1,IF(Mercredi!B$13=$A6,Mercredi!B$1,IF(Mercredi!B$14=$A6,Mercredi!B$1,IF(Mercredi!B$15=$A6,Mercredi!B$1,"")))))))))))))) | AB6: =IF(Mercredi!C$2=$A6,Mercredi!C$1,IF(Mercredi!C$3=$A6,Mercredi!C$1,IF(Mercredi!C$4=$A6,Mercredi!C$1,IF(Mercredi!C$5=$A6,Mercredi!C$1,IF(Mercredi!C$6=$A6,Mercredi!C$1,IF(Mercredi!C$7=$A6,Mercredi!C$1,IF(Mercredi!C$8=$A6,Mercredi!C$1,IF(Mercredi!C$9=$A6,Mercredi!C$1,IF(Mercredi!C$10=$A6,Mercredi!C$1,IF(Mercredi!C$11=$A6,Mercredi!C$1,IF(Mercredi!C$12=$A6,Mercredi!C$1,IF(Mercredi!C$13=$A6,Mercredi!C$1,IF(Mercredi!C$14=$A6,Mercredi!C$1,IF(Mercredi!C$15=$A6,Mercredi!C$1,"")))))))))))))) | AC6: =IF(Mercredi!D$2=$A6,Mercredi!D$1,IF(Mercredi!D$3=$A6,Mercredi!D$1,IF(Mercredi!D$4=$A6,Mercredi!D$1,IF(Mercredi!D$5=$A6,Mercredi!D$1,IF(Mercredi!D$6=$A6,Mercredi!D$1,IF(Mercredi!D$7=$A6,Mercredi!D$1,IF(Mercredi!D$8=$A6,Mercredi!D$1,IF(Mercredi!D$9=$A6,Mercredi!D$1,IF(Mercredi!D$10=$A6,Mercredi!D$1,IF(Mercredi!D$11=$A6,Mercredi!D$1,IF(Mercredi!D$12=$A6,Mercredi!D$1,IF(Mercredi!D$13=$A6,Mercredi!D$1,IF(Mercredi!D$14=$A6,Mercredi!D$1,IF(Mercredi!D$15=$A6,Mercredi!D$1,"")))))))))))))) | AD6: =IF(Mercredi!E$2=$A6,Mercredi!E$1,IF(Mercredi!E$3=$A6,Mercredi!E$1,IF(Mercredi!E$4=$A6,Mercredi!E$1,IF(Mercredi!E$5=$A6,Mercredi!E$1,IF(Mercredi!E$6=$A6,Mercredi!E$1,IF(Mercredi!E$7=$A6,Mercredi!E$1,IF(Mercredi!E$8=$A6,Mercredi!E$1,IF(Mercredi!E$9=$A6,Mercredi!E$1,IF(Mercredi!E$10=$A6,Mercredi!E$1,IF(Mercredi!E$11=$A6,Mercredi!E$1,IF(Mercredi!E$12=$A6,Mercredi!E$1,IF(Mercredi!E$13=$A6,Mercredi!E$1,IF(Mercredi!E$14=$A6,Mercredi!E$1,IF(Mercredi!E$15=$A6,Mercredi!E$1,"")))))))))))))) -> Espace vert | AE6: =IF(Mercredi!F$2=$A6,Mercredi!F$1,IF(Mercredi!F$3=$A6,Mercredi!F$1,IF(Mercredi!F$4=$A6,Mercredi!F$1,IF(Mercredi!F$5=$A6,Mercredi!F$1,IF(Mercredi!F$6=$A6,Mercredi!F$1,IF(Mercredi!F$7=$A6,Mercredi!F$1,IF(Mercredi!F$8=$A6,Mercredi!F$1,IF(Mercredi!F$9=$A6,Mercredi!F$1,IF(Mercredi!F$10=$A6,Mercredi!F$1,IF(Mercredi!F$11=$A6,Mercredi!F$1,IF(Mercredi!F$12=$A6,Mercredi!F$1,IF(Mercredi!F$13=$A6,Mercredi!F$1,IF(Mercredi!F$14=$A6,Mercredi!F$1,IF(Mercredi!F$15=$A6,Mercredi!F$1,"")))))))))))))) | AF6: =IF(Mercredi!G$2=$A6,Mercredi!G$1,IF(Mercredi!G$3=$A6,Mercredi!G$1,IF(Mercredi!G$4=$A6,Mercredi!G$1,IF(Mercredi!G$5=$A6,Mercredi!G$1,IF(Mercredi!G$6=$A6,Mercredi!G$1,IF(Mercredi!G$7=$A6,Mercredi!G$1,IF(Mercredi!G$8=$A6,Mercredi!G$1,IF(Mercredi!G$9=$A6,Mercredi!G$1,IF(Mercredi!G$10=$A6,Mercredi!G$1,IF(Mercredi!G$11=$A6,Mercredi!G$1,IF(Mercredi!G$12=$A6,Mercredi!G$1,IF(Mercredi!G$13=$A6,Mercredi!G$1,IF(Mercredi!G$14=$A6,Mercredi!G$1,IF(Mercredi!G$15=$A6,Mercredi!G$1,"")))))))))))))) | AG6: =IF(Mercredi!H$2=$A6,Mercredi!H$1,IF(Mercredi!H$3=$A6,Mercredi!H$1,IF(Mercredi!H$4=$A6,Mercredi!H$1,IF(Mercredi!H$5=$A6,Mercredi!H$1,IF(Mercredi!H$6=$A6,Mercredi!H$1,IF(Mercredi!H$7=$A6,Mercredi!H$1,IF(Mercredi!H$8=$A6,Mercredi!H$1,IF(Mercredi!H$9=$A6,Mercredi!H$1,IF(Mercredi!H$10=$A6,Mercredi!H$1,IF(Mercredi!H$11=$A6,Mercredi!H$1,IF(Mercredi!H$12=$A6,Mercredi!H$1,IF(Mercredi!H$13=$A6,Mercredi!H$1,IF(Mercredi!H$14=$A6,Mercredi!H$1,IF(Mercredi!H$15=$A6,Mercredi!H$1,"")))))))))))))) | AH6: =IF(Mercredi!I$2=$A6,Mercredi!I$1,IF(Mercredi!I$3=$A6,Mercredi!I$1,IF(Mercredi!I$4=$A6,Mercredi!I$1,IF(Mercredi!I$5=$A6,Mercredi!I$1,IF(Mercredi!I$6=$A6,Mercredi!I$1,IF(Mercredi!I$7=$A6,Mercredi!I$1,IF(Mercredi!I$8=$A6,Mercredi!I$1,IF(Mercredi!I$9=$A6,Mercredi!I$1,IF(Mercredi!I$10=$A6,Mercredi!I$1,IF(Mercredi!I$11=$A6,Mercredi!I$1,IF(Mercredi!I$12=$A6,Mercredi!I$1,IF(Mercredi!I$13=$A6,Mercredi!I$1,IF(Mercredi!I$14=$A6,Mercredi!I$1,IF(Mercredi!I$15=$A6,Mercredi!I$1,"")))))))))))))) | AI6: =IF(Mercredi!J$2=$A6,Mercredi!J$1,IF(Mercredi!J$3=$A6,Mercredi!J$1,IF(Mercredi!J$4=$A6,Mercredi!J$1,IF(Mercredi!J$5=$A6,Mercredi!J$1,IF(Mercredi!J$6=$A6,Mercredi!J$1,IF(Mercredi!J$7=$A6,Mercredi!J$1,IF(Mercredi!J$8=$A6,Mercredi!J$1,IF(Mercredi!J$9=$A6,Mercredi!J$1,IF(Mercredi!J$10=$A6,Mercredi!J$1,IF(Mercredi!J$11=$A6,Mercredi!J$1,IF(Mercredi!J$12=$A6,Mercredi!J$1,IF(Mercredi!J$13=$A6,Mercredi!J$1,IF(Mercredi!J$14=$A6,Mercredi!J$1,IF(Mercredi!J$15=$A6,Mercredi!J$1,"")))))))))))))) | AJ6: =IF(Jeudi!B$2=$A6,Jeudi!B$1,IF(Jeudi!B$3=$A6,Jeudi!B$1,IF(Jeudi!B$4=$A6,Jeudi!B$1,IF(Jeudi!B$5=$A6,Jeudi!B$1,IF(Jeudi!B$6=$A6,Jeudi!B$1,IF(Jeudi!B$7=$A6,Jeudi!B$1,IF(Jeudi!B$8=$A6,Jeudi!B$1,IF(Jeudi!B$9=$A6,Jeudi!B$1,IF(Jeudi!B$10=$A6,Jeudi!B$1,IF(Jeudi!B$11=$A6,Jeudi!B$1,IF(Jeudi!B$12=$A6,Jeudi!B$1,IF(Jeudi!B$13=$A6,Jeudi!B$1,IF(Jeudi!B$14=$A6,Jeudi!B$1,IF(Jeudi!B$15=$A6,Jeudi!B$1,"")))))))))))))) | AK6: =IF(Jeudi!C$2=$A6,Jeudi!C$1,IF(Jeudi!C$3=$A6,Jeudi!C$1,IF(Jeudi!C$4=$A6,Jeudi!C$1,IF(Jeudi!C$5=$A6,Jeudi!C$1,IF(Jeudi!C$6=$A6,Jeudi!C$1,IF(Jeudi!C$7=$A6,Jeudi!C$1,IF(Jeudi!C$8=$A6,Jeudi!C$1,IF(Jeudi!C$9=$A6,Jeudi!C$1,IF(Jeudi!C$10=$A6,Jeudi!C$1,IF(Jeudi!C$11=$A6,Jeudi!C$1,IF(Jeudi!C$12=$A6,Jeudi!C$1,IF(Jeudi!C$13=$A6,Jeudi!C$1,IF(Jeudi!C$14=$A6,Jeudi!C$1,IF(Jeudi!C$15=$A6,Jeudi!C$1,"")))))))))))))) | AL6: =IF(Jeudi!D$2=$A6,Jeudi!D$1,IF(Jeudi!D$3=$A6,Jeudi!D$1,IF(Jeudi!D$4=$A6,Jeudi!D$1,IF(Jeudi!D$5=$A6,Jeudi!D$1,IF(Jeudi!D$6=$A6,Jeudi!D$1,IF(Jeudi!D$7=$A6,Jeudi!D$1,IF(Jeudi!D$8=$A6,Jeudi!D$1,IF(Jeudi!D$9=$A6,Jeudi!D$1,IF(Jeudi!D$10=$A6,Jeudi!D$1,IF(Jeudi!D$11=$A6,Jeudi!D$1,IF(Jeudi!D$12=$A6,Jeudi!D$1,IF(Jeudi!D$13=$A6,Jeudi!D$1,IF(Jeudi!D$14=$A6,Jeudi!D$1,IF(Jeudi!D$15=$A6,Jeudi!D$1,"")))))))))))))) | AM6: =IF(Jeudi!E$2=$A6,Jeudi!E$1,IF(Jeudi!E$3=$A6,Jeudi!E$1,IF(Jeudi!E$4=$A6,Jeudi!E$1,IF(Jeudi!E$5=$A6,Jeudi!E$1,IF(Jeudi!E$6=$A6,Jeudi!E$1,IF(Jeudi!E$7=$A6,Jeudi!E$1,IF(Jeudi!E$8=$A6,Jeudi!E$1,IF(Jeudi!E$9=$A6,Jeudi!E$1,IF(Jeudi!E$10=$A6,Jeudi!E$1,IF(Jeudi!E$11=$A6,Jeudi!E$1,IF(Jeudi!E$12=$A6,Jeudi!E$1,IF(Jeudi!E$13=$A6,Jeudi!E$1,IF(Jeudi!E$14=$A6,Jeudi!E$1,IF(Jeudi!E$15=$A6,Jeudi!E$1,"")))))))))))))) | AN6: =IF(Jeudi!F$2=$A6,Jeudi!F$1,IF(Jeudi!F$3=$A6,Jeudi!F$1,IF(Jeudi!F$4=$A6,Jeudi!F$1,IF(Jeudi!F$5=$A6,Jeudi!F$1,IF(Jeudi!F$6=$A6,Jeudi!F$1,IF(Jeudi!F$7=$A6,Jeudi!F$1,IF(Jeudi!F$8=$A6,Jeudi!F$1,IF(Jeudi!F$9=$A6,Jeudi!F$1,IF(Jeudi!F$10=$A6,Jeudi!F$1,IF(Jeudi!F$11=$A6,Jeudi!F$1,IF(Jeudi!F$12=$A6,Jeudi!F$1,IF(Jeudi!F$13=$A6,Jeudi!F$1,IF(Jeudi!F$14=$A6,Jeudi!F$1,IF(Jeudi!F$15=$A6,Jeudi!F$1,"")))))))))))))) | AO6: =IF(Jeudi!G$2=$A6,Jeudi!G$1,IF(Jeudi!G$3=$A6,Jeudi!G$1,IF(Jeudi!G$4=$A6,Jeudi!G$1,IF(Jeudi!G$5=$A6,Jeudi!G$1,IF(Jeudi!G$6=$A6,Jeudi!G$1,IF(Jeudi!G$7=$A6,Jeudi!G$1,IF(Jeudi!G$8=$A6,Jeudi!G$1,IF(Jeudi!G$9=$A6,Jeudi!G$1,IF(Jeudi!G$10=$A6,Jeudi!G$1,IF(Jeudi!G$11=$A6,Jeudi!G$1,IF(Jeudi!G$12=$A6,Jeudi!G$1,IF(Jeudi!G$13=$A6,Jeudi!G$1,IF(Jeudi!G$14=$A6,Jeudi!G$1,IF(Jeudi!G$15=$A6,Jeudi!G$1,"")))))))))))))) | AP6: =IF(Jeudi!H$2=$A6,Jeudi!H$1,IF(Jeudi!H$3=$A6,Jeudi!H$1,IF(Jeudi!H$4=$A6,Jeudi!H$1,IF(Jeudi!H$5=$A6,Jeudi!H$1,IF(Jeudi!H$6=$A6,Jeudi!H$1,IF(Jeudi!H$7=$A6,Jeudi!H$1,IF(Jeudi!H$8=$A6,Jeudi!H$1,IF(Jeudi!H$9=$A6,Jeudi!H$1,IF(Jeudi!H$10=$A6,Jeudi!H$1,IF(Jeudi!H$11=$A6,Jeudi!H$1,IF(Jeudi!H$12=$A6,Jeudi!H$1,IF(Jeudi!H$13=$A6,Jeudi!H$1,IF(Jeudi!H$14=$A6,Jeudi!H$1,IF(Jeudi!H$15=$A6,Jeudi!H$1,"")))))))))))))) -> Horti | AQ6: =IF(Jeudi!I$2=$A6,Jeudi!I$1,IF(Jeudi!I$3=$A6,Jeudi!I$1,IF(Jeudi!I$4=$A6,Jeudi!I$1,IF(Jeudi!I$5=$A6,Jeudi!I$1,IF(Jeudi!I$6=$A6,Jeudi!I$1,IF(Jeudi!I$7=$A6,Jeudi!I$1,IF(Jeudi!I$8=$A6,Jeudi!I$1,IF(Jeudi!I$9=$A6,Jeudi!I$1,IF(Jeudi!I$10=$A6,Jeudi!I$1,IF(Jeudi!I$11=$A6,Jeudi!I$1,IF(Jeudi!I$12=$A6,Jeudi!I$1,IF(Jeudi!I$13=$A6,Jeudi!I$1,IF(Jeudi!I$14=$A6,Jeudi!I$1,IF(Jeudi!I$15=$A6,Jeudi!I$1,"")))))))))))))) | AR6: =IF(Jeudi!J$2=$A6,Jeudi!J$1,IF(Jeudi!J$3=$A6,Jeudi!J$1,IF(Jeudi!J$4=$A6,Jeudi!J$1,IF(Jeudi!J$5=$A6,Jeudi!J$1,IF(Jeudi!J$6=$A6,Jeudi!J$1,IF(Jeudi!J$7=$A6,Jeudi!J$1,IF(Jeudi!J$8=$A6,Jeudi!J$1,IF(Jeudi!J$9=$A6,Jeudi!J$1,IF(Jeudi!J$10=$A6,Jeudi!J$1,IF(Jeudi!J$11=$A6,Jeudi!J$1,IF(Jeudi!J$12=$A6,Jeudi!J$1,IF(Jeudi!J$13=$A6,Jeudi!J$1,IF(Jeudi!J$14=$A6,Jeudi!J$1,IF(Jeudi!J$15=$A6,Jeudi!J$1,"")))))))))))))) | AS6: =IF(Vendredi!B$2=$A6,Vendredi!B$1,IF(Vendredi!B$3=$A6,Vendredi!B$1,IF(Vendredi!B$4=$A6,Vendredi!B$1,IF(Vendredi!B$5=$A6,Vendredi!B$1,IF(Vendredi!B$6=$A6,Vendredi!B$1,IF(Vendredi!B$7=$A6,Vendredi!B$1,IF(Vendredi!B$8=$A6,Vendredi!B$1,IF(Vendredi!B$9=$A6,Vendredi!B$1,IF(Vendredi!B$10=$A6,Vendredi!B$1,IF(Vendredi!B$11=$A6,Vendredi!B$1,IF(Vendredi!B$12=$A6,Vendredi!B$1,IF(Vendredi!B$13=$A6,Vendredi!B$1,IF(Vendredi!B$14=$A6,Vendredi!B$1,IF(Vendredi!B$15=$A6,Vendredi!B$1,"")))))))))))))) | AT6: =IF(Vendredi!C$2=$A6,Vendredi!C$1,IF(Vendredi!C$3=$A6,Vendredi!C$1,IF(Vendredi!C$4=$A6,Vendredi!C$1,IF(Vendredi!C$5=$A6,Vendredi!C$1,IF(Vendredi!C$6=$A6,Vendredi!C$1,IF(Vendredi!C$7=$A6,Vendredi!C$1,IF(Vendredi!C$8=$A6,Vendredi!C$1,IF(Vendredi!C$9=$A6,Vendredi!C$1,IF(Vendredi!C$10=$A6,Vendredi!C$1,IF(Vendredi!C$11=$A6,Vendredi!C$1,IF(Vendredi!C$12=$A6,Vendredi!C$1,IF(Vendredi!C$13=$A6,Vendredi!C$1,IF(Vendredi!C$14=$A6,Vendredi!C$1,IF(Vendredi!C$15=$A6,Vendredi!C$1,"")))))))))))))) | AU6: =IF(Vendredi!D$2=$A6,Vendredi!D$1,IF(Vendredi!D$3=$A6,Vendredi!D$1,IF(Vendredi!D$4=$A6,Vendredi!D$1,IF(Vendredi!D$5=$A6,Vendredi!D$1,IF(Vendredi!D$6=$A6,Vendredi!D$1,IF(Vendredi!D$7=$A6,Vendredi!D$1,IF(Vendredi!D$8=$A6,Vendredi!D$1,IF(Vendredi!D$9=$A6,Vendredi!D$1,IF(Vendredi!D$10=$A6,Vendredi!D$1,IF(Vendredi!D$11=$A6,Vendredi!D$1,IF(Vendredi!D$12=$A6,Vendredi!D$1,IF(Vendredi!D$13=$A6,Vendredi!D$1,IF(Vendredi!D$14=$A6,Vendredi!D$1,IF(Vendredi!D$15=$A6,Vendredi!D$1,"")))))))))))))) | AV6: =IF(Vendredi!E$2=$A6,Vendredi!E$1,IF(Vendredi!E$3=$A6,Vendredi!E$1,IF(Vendredi!E$4=$A6,Vendredi!E$1,IF(Vendredi!E$5=$A6,Vendredi!E$1,IF(Vendredi!E$6=$A6,Vendredi!E$1,IF(Vendredi!E$7=$A6,Vendredi!E$1,IF(Vendredi!E$8=$A6,Vendredi!E$1,IF(Vendredi!E$9=$A6,Vendredi!E$1,IF(Vendredi!E$10=$A6,Vendredi!E$1,IF(Vendredi!E$11=$A6,Vendredi!E$1,IF(Vendredi!E$12=$A6,Vendredi!E$1,IF(Vendredi!E$13=$A6,Vendredi!E$1,IF(Vendredi!E$14=$A6,Vendredi!E$1,IF(Vendredi!E$15=$A6,Vendredi!E$1,"")))))))))))))) | AW6: =IF(Vendredi!F$2=$A6,Vendredi!F$1,IF(Vendredi!F$3=$A6,Vendredi!F$1,IF(Vendredi!F$4=$A6,Vendredi!F$1,IF(Vendredi!F$5=$A6,Vendredi!F$1,IF(Vendredi!F$6=$A6,Vendredi!F$1,IF(Vendredi!F$7=$A6,Vendredi!F$1,IF(Vendredi!F$8=$A6,Vendredi!F$1,IF(Vendredi!F$9=$A6,Vendredi!F$1,IF(Vendredi!F$10=$A6,Vendredi!F$1,IF(Vendredi!F$11=$A6,Vendredi!F$1,IF(Vendredi!F$12=$A6,Vendredi!F$1,IF(Vendredi!F$13=$A6,Vendredi!F$1,IF(Vendredi!F$14=$A6,Vendredi!F$1,IF(Vendredi!F$15=$A6,Vendredi!F$1,"")))))))))))))) -> At. Polyvalent | AX6: =IF(Vendredi!G$2=$A6,Vendredi!G$1,IF(Vendredi!G$3=$A6,Vendredi!G$1,IF(Vendredi!G$4=$A6,Vendredi!G$1,IF(Vendredi!G$5=$A6,Vendredi!G$1,IF(Vendredi!G$6=$A6,Vendredi!G$1,IF(Vendredi!G$7=$A6,Vendredi!G$1,IF(Vendredi!G$8=$A6,Vendredi!G$1,IF(Vendredi!G$9=$A6,Vendredi!G$1,IF(Vendredi!G$10=$A6,Vendredi!G$1,IF(Vendredi!G$11=$A6,Vendredi!G$1,IF(Vendredi!G$12=$A6,Vendredi!G$1,IF(Vendredi!G$13=$A6,Vendredi!G$1,IF(Vendredi!G$14=$A6,Vendredi!G$1,IF(Vendredi!G$15=$A6,Vendredi!G$1,"")))))))))))))) | AY6: =IF(Vendredi!H$2=$A6,Vendredi!H$1,IF(Vendredi!H$3=$A6,Vendredi!H$1,IF(Vendredi!H$4=$A6,Vendredi!H$1,IF(Vendredi!H$5=$A6,Vendredi!H$1,IF(Vendredi!H$6=$A6,Vendredi!H$1,IF(Vendredi!H$7=$A6,Vendredi!H$1,IF(Vendredi!H$8=$A6,Vendredi!H$1,IF(Vendredi!H$9=$A6,Vendredi!H$1,IF(Vendredi!H$10=$A6,Vendredi!H$1,IF(Vendredi!H$11=$A6,Vendredi!H$1,IF(Vendredi!H$12=$A6,Vendredi!H$1,IF(Vendredi!H$13=$A6,Vendredi!H$1,IF(Vendredi!H$14=$A6,Vendredi!H$1,IF(Vendredi!H$15=$A6,Vendredi!H$1,"")))))))))))))) | AZ6: =IF(Vendredi!I$2=$A6,Vendredi!I$1,IF(Vendredi!I$3=$A6,Vendredi!I$1,IF(Vendredi!I$4=$A6,Vendredi!I$1,IF(Vendredi!I$5=$A6,Vendredi!I$1,IF(Vendredi!I$6=$A6,Vendredi!I$1,IF(Vendredi!I$7=$A6,Vendredi!I$1,IF(Vendredi!I$8=$A6,Vendredi!I$1,IF(Vendredi!I$9=$A6,Vendredi!I$1,IF(Vendredi!I$10=$A6,Vendredi!I$1,IF(Vendredi!I$11=$A6,Vendredi!I$1,IF(Vendredi!I$12=$A6,Vendredi!I$1,IF(Vendredi!I$13=$A6,Vendredi!I$1,IF(Vendredi!I$14=$A6,Vendredi!I$1,IF(Vendredi!I$15=$A6,Vendredi!I$1,"")))))))))))))) | BA6: =IF(Vendredi!J$2=$A6,Vendredi!J$1,IF(Vendredi!J$3=$A6,Vendredi!J$1,IF(Vendredi!J$4=$A6,Vendredi!J$1,IF(Vendredi!J$5=$A6,Vendredi!J$1,IF(Vendredi!J$6=$A6,Vendredi!J$1,IF(Vendredi!J$7=$A6,Vendredi!J$1,IF(Vendredi!J$8=$A6,Vendredi!J$1,IF(Vendredi!J$9=$A6,Vendredi!J$1,IF(Vendredi!J$10=$A6,Vendredi!J$1,IF(Vendredi!J$11=$A6,Vendredi!J$1,IF(Vendredi!J$12=$A6,Vendredi!J$1,IF(Vendredi!J$13=$A6,Vendredi!J$1,IF(Vendredi!J$14=$A6,Vendredi!J$1,IF(Vendredi!J$15=$A6,Vendredi!J$1,""))))))))))))))
B7: Après Midi | C7: =I7&J7&K7&L7&M7&N7&O7&P7&Q7 -> Self | D7: =R7&S7&T7&U7&V7&W7&X7&Y7&Z7 -> Self | F7: =AJ7&AK7&AL7&AM7&AN7&AO7&AP7&AQ7&AR7 -> At. Polyvalent | G7: =AS7&AT7&AU7&AV7&AW7&AX7&AY7&AZ7&BA7 -> Espace vert | I7: =IF(Lundi!B$17=$A6,Lundi!B$1,IF(Lundi!B$18=$A6,Lundi!B$1,IF(Lundi!B$19=$A6,Lundi!B$1,IF(Lundi!B$20=$A6,Lundi!B$1,IF(Lundi!B$21=$A6,Lundi!B$1,IF(Lundi!B$22=$A6,Lundi!B$1,IF(Lundi!B$23=$A6,Lundi!B$1,IF(Lundi!B$24=$A6,Lundi!B$1,IF(Lundi!B$25=$A6,Lundi!B$1,IF(Lundi!B$26=$A6,Lundi!B$1,IF(Lundi!B$27=$A6,Lundi!B$1,IF(Lundi!B$28=$A6,Lundi!B$1,IF(Lundi!B$29=$A6,Lundi!B$1,IF(Lundi!B$30=$A6,Lundi!B$1,"")))))))))))))) | J7: =IF(Lundi!C$17=$A6,Lundi!C$1,IF(Lundi!C$18=$A6,Lundi!C$1,IF(Lundi!C$19=$A6,Lundi!C$1,IF(Lundi!C$20=$A6,Lundi!C$1,IF(Lundi!C$21=$A6,Lundi!C$1,IF(Lundi!C$22=$A6,Lundi!C$1,IF(Lundi!C$23=$A6,Lundi!C$1,IF(Lundi!C$24=$A6,Lundi!C$1,IF(Lundi!C$25=$A6,Lundi!C$1,IF(Lundi!C$26=$A6,Lundi!C$1,IF(Lundi!C$27=$A6,Lundi!C$1,IF(Lundi!C$28=$A6,Lundi!C$1,IF(Lundi!C$29=$A6,Lundi!C$1,IF(Lundi!C$30=$A6,Lundi!C$1,"")))))))))))))) | K7: =IF(Lundi!D$17=$A6,Lundi!D$1,IF(Lundi!D$18=$A6,Lundi!D$1,IF(Lundi!D$19=$A6,Lundi!D$1,IF(Lundi!D$20=$A6,Lundi!D$1,IF(Lundi!D$21=$A6,Lundi!D$1,IF(Lundi!D$22=$A6,Lundi!D$1,IF(Lundi!D$23=$A6,Lundi!D$1,IF(Lundi!D$24=$A6,Lundi!D$1,IF(Lundi!D$25=$A6,Lundi!D$1,IF(Lundi!D$26=$A6,Lundi!D$1,IF(Lundi!D$27=$A6,Lundi!D$1,IF(Lundi!D$28=$A6,Lundi!D$1,IF(Lundi!D$29=$A6,Lundi!D$1,IF(Lundi!D$30=$A6,Lundi!D$1,"")))))))))))))) -> Self | L7: =IF(Lundi!E20=$A6,Lundi!E$1,IF(Lundi!E21=$A6,Lundi!E$1,IF(Lundi!E22=$A6,Lundi!E$1,IF(Lundi!E23=$A6,Lundi!E$1,IF(Lundi!E24=$A6,Lundi!E$1,IF(Lundi!E25=$A6,Lundi!E$1,IF(Lundi!E26=$A6,Lundi!E$1,IF(Lundi!E27=$A6,Lundi!E$1,IF(Lundi!E28=$A6,Lundi!E$1,IF(Lundi!E29=$A6,Lundi!E$1,IF(Lundi!E30=$A6,Lundi!E$1,IF(Lundi!E31=$A6,Lundi!E$1,IF(Lundi!E32=$A6,Lundi!E$1,IF(Lundi!E33=$A6,Lundi!E$1,"")))))))))))))) | M7: =IF(Lundi!F20=$A6,Lundi!F$1,IF(Lundi!F21=$A6,Lundi!F$1,IF(Lundi!F22=$A6,Lundi!F$1,IF(Lundi!F23=$A6,Lundi!F$1,IF(Lundi!F24=$A6,Lundi!F$1,IF(Lundi!F25=$A6,Lundi!F$1,IF(Lundi!F26=$A6,Lundi!F$1,IF(Lundi!F27=$A6,Lundi!F$1,IF(Lundi!F28=$A6,Lundi!F$1,IF(Lundi!F29=$A6,Lundi!F$1,IF(Lundi!F30=$A6,Lundi!F$1,IF(Lundi!F31=$A6,Lundi!F$1,IF(Lundi!F32=$A6,Lundi!F$1,IF(Lundi!F33=$A6,Lundi!F$1,"")))))))))))))) | R7: =IF(Mardi!B$17=$A6,Mardi!B$1,IF(Mardi!B$18=$A6,Mardi!B$1,IF(Mardi!B$19=$A6,Mardi!B$1,IF(Mardi!B$20=$A6,Mardi!B$1,IF(Mardi!B$21=$A6,Mardi!B$1,IF(Mardi!B$22=$A6,Mardi!B$1,IF(Mardi!B$23=$A6,Mardi!B$1,IF(Mardi!B$24=$A6,Mardi!B$1,IF(Mardi!B$25=$A6,Mardi!B$1,IF(Mardi!B$26=$A6,Mardi!B$1,IF(Mardi!B$27=$A6,Mardi!B$1,IF(Mardi!B$28=$A6,Mardi!B$1,IF(Mardi!B$29=$A6,Mardi!B$1,IF(Mardi!B$30=$A6,Mardi!B$1,"")))))))))))))) | S7: =IF(Mardi!C$17=$A6,Mardi!C$1,IF(Mardi!C$18=$A6,Mardi!C$1,IF(Mardi!C$19=$A6,Mardi!C$1,IF(Mardi!C$20=$A6,Mardi!C$1,IF(Mardi!C$21=$A6,Mardi!C$1,IF(Mardi!C$22=$A6,Mardi!C$1,IF(Mardi!C$23=$A6,Mardi!C$1,IF(Mardi!C$24=$A6,Mardi!C$1,IF(Mardi!C$25=$A6,Mardi!C$1,IF(Mardi!C$26=$A6,Mardi!C$1,IF(Mardi!C$27=$A6,Mardi!C$1,IF(Mardi!C$28=$A6,Mardi!C$1,IF(Mardi!C$29=$A6,Mardi!C$1,IF(Mardi!C$30=$A6,Mardi!C$1,"")))))))))))))) | T7: =IF(Mardi!D$17=$A6,Mardi!D$1,IF(Mardi!D$18=$A6,Mardi!D$1,IF(Mardi!D$19=$A6,Mardi!D$1,IF(Mardi!D$20=$A6,Mardi!D$1,IF(Mardi!D$21=$A6,Mardi!D$1,IF(Mardi!D$22=$A6,Mardi!D$1,IF(Mardi!D$23=$A6,Mardi!D$1,IF(Mardi!D$24=$A6,Mardi!D$1,IF(Mardi!D$25=$A6,Mardi!D$1,IF(Mardi!D$26=$A6,Mardi!D$1,IF(Mardi!D$27=$A6,Mardi!D$1,IF(Mardi!D$28=$A6,Mardi!D$1,IF(Mardi!D$29=$A6,Mardi!D$1,IF(Mardi!D$30=$A6,Mardi!D$1,"")))))))))))))) -> Self | U7: =IF(Mardi!E$17=$A6,Mardi!E$1,IF(Mardi!E$18=$A6,Mardi!E$1,IF(Mardi!E$19=$A6,Mardi!E$1,IF(Mardi!E$20=$A6,Mardi!E$1,IF(Mardi!E$21=$A6,Mardi!E$1,IF(Mardi!E$22=$A6,Mardi!E$1,IF(Mardi!E$23=$A6,Mardi!E$1,IF(Mardi!E$24=$A6,Mardi!E$1,IF(Mardi!E$25=$A6,Mardi!E$1,IF(Mardi!E$26=$A6,Mardi!E$1,IF(Mardi!E$27=$A6,Mardi!E$1,IF(Mardi!E$28=$A6,Mardi!E$1,IF(Mardi!E$29=$A6,Mardi!E$1,IF(Mardi!E$30=$A6,Mardi!E$1,"")))))))))))))) | V7: =IF(Mardi!F$17=$A6,Mardi!F$1,IF(Mardi!F$18=$A6,Mardi!F$1,IF(Mardi!F$19=$A6,Mardi!F$1,IF(Mardi!F$20=$A6,Mardi!F$1,IF(Mardi!F$21=$A6,Mardi!F$1,IF(Mardi!F$22=$A6,Mardi!F$1,IF(Mardi!F$23=$A6,Mardi!F$1,IF(Mardi!F$24=$A6,Mardi!F$1,IF(Mardi!F$25=$A6,Mardi!F$1,IF(Mardi!F$26=$A6,Mardi!F$1,IF(Mardi!F$27=$A6,Mardi!F$1,IF(Mardi!F$28=$A6,Mardi!F$1,IF(Mardi!F$29=$A6,Mardi!F$1,IF(Mardi!F$30=$A6,Mardi!F$1,"")))))))))))))) | W7: =IF(Mardi!G$17=$A6,Mardi!G$1,IF(Mardi!G$18=$A6,Mardi!G$1,IF(Mardi!G$19=$A6,Mardi!G$1,IF(Mardi!G$20=$A6,Mardi!G$1,IF(Mardi!G$21=$A6,Mardi!G$1,IF(Mardi!G$22=$A6,Mardi!G$1,IF(Mardi!G$23=$A6,Mardi!G$1,IF(Mardi!G$24=$A6,Mardi!G$1,IF(Mardi!G$25=$A6,Mardi!G$1,IF(Mardi!G$26=$A6,Mardi!G$1,IF(Mardi!G$27=$A6,Mardi!G$1,IF(Mardi!G$28=$A6,Mardi!G$1,IF(Mardi!G$29=$A6,Mardi!G$1,IF(Mardi!G$30=$A6,Mardi!G$1,"")))))))))))))) | X7: =IF(Mardi!H$17=$A6,Mardi!H$1,IF(Mardi!H$18=$A6,Mardi!H$1,IF(Mardi!H$19=$A6,Mardi!H$1,IF(Mardi!H$20=$A6,Mardi!H$1,IF(Mardi!H$21=$A6,Mardi!H$1,IF(Mardi!H$22=$A6,Mardi!H$1,IF(Mardi!H$23=$A6,Mardi!H$1,IF(Mardi!H$24=$A6,Mardi!H$1,IF(Mardi!H$25=$A6,Mardi!H$1,IF(Mardi!H$26=$A6,Mardi!H$1,IF(Mardi!H$27=$A6,Mardi!H$1,IF(Mardi!H$28=$A6,Mardi!H$1,IF(Mardi!H$29=$A6,Mardi!H$1,IF(Mardi!H$30=$A6,Mardi!H$1,"")))))))))))))) | Y7: =IF(Mardi!I$17=$A6,Mardi!I$1,IF(Mardi!I$18=$A6,Mardi!I$1,IF(Mardi!I$19=$A6,Mardi!I$1,IF(Mardi!I$20=$A6,Mardi!I$1,IF(Mardi!I$21=$A6,Mardi!I$1,IF(Mardi!I$22=$A6,Mardi!I$1,IF(Mardi!I$23=$A6,Mardi!I$1,IF(Mardi!I$24=$A6,Mardi!I$1,IF(Mardi!I$25=$A6,Mardi!I$1,IF(Mardi!I$26=$A6,Mardi!I$1,IF(Mardi!I$27=$A6,Mardi!I$1,IF(Mardi!I$28=$A6,Mardi!I$1,IF(Mardi!I$29=$A6,Mardi!I$1,IF(Mardi!I$30=$A6,Mardi!I$1,"")))))))))))))) | Z7: =IF(Mardi!J$17=$A6,Mardi!J$1,IF(Mardi!J$18=$A6,Mardi!J$1,IF(Mardi!J$19=$A6,Mardi!J$1,IF(Mardi!J$20=$A6,Mardi!J$1,IF(Mardi!J$21=$A6,Mardi!J$1,IF(Mardi!J$22=$A6,Mardi!J$1,IF(Mardi!J$23=$A6,Mardi!J$1,IF(Mardi!J$24=$A6,Mardi!J$1,IF(Mardi!J$25=$A6,Mardi!J$1,IF(Mardi!J$26=$A6,Mardi!J$1,IF(Mardi!J$27=$A6,Mardi!J$1,IF(Mardi!J$28=$A6,Mardi!J$1,IF(Mardi!J$29=$A6,Mardi!J$1,IF(Mardi!J$30=$A6,Mardi!J$1,"")))))))))))))) | AA7: =IF(Mercredi!B$17=$A6,Mercredi!B$1,IF(Mercredi!B$18=$A6,Mercredi!B$1,IF(Mercredi!B$19=$A6,Mercredi!B$1,IF(Mercredi!B$20=$A6,Mercredi!B$1,IF(Mercredi!B$21=$A6,Mercredi!B$1,IF(Mercredi!B$22=$A6,Mercredi!B$1,IF(Mercredi!B$23=$A6,Mercredi!B$1,IF(Mercredi!B$24=$A6,Mercredi!B$1,IF(Mercredi!B$25=$A6,Mercredi!B$1,IF(Mercredi!B$26=$A6,Mercredi!B$1,IF(Mercredi!B$27=$A6,Mercredi!B$1,IF(Mercredi!B$28=$A6,Mercredi!B$1,IF(Mercredi!B$29=$A6,Mercredi!B$1,IF(Mercredi!B$30=$A6,Mercredi!B$1,"")))))))))))))) | AB7: =IF(Mercredi!C$17=$A6,Mercredi!C$1,IF(Mercredi!C$18=$A6,Mercredi!C$1,IF(Mercredi!C$19=$A6,Mercredi!C$1,IF(Mercredi!C$20=$A6,Mercredi!C$1,IF(Mercredi!C$21=$A6,Mercredi!C$1,IF(Mercredi!C$22=$A6,Mercredi!C$1,IF(Mercredi!C$23=$A6,Mercredi!C$1,IF(Mercredi!C$24=$A6,Mercredi!C$1,IF(Mercredi!C$25=$A6,Mercredi!C$1,IF(Mercredi!C$26=$A6,Mercredi!C$1,IF(Mercredi!C$27=$A6,Mercredi!C$1,IF(Mercredi!C$28=$A6,Mercredi!C$1,IF(Mercredi!C$29=$A6,Mercredi!C$1,IF(Mercredi!C$30=$A6,Mercredi!C$1,"")))))))))))))) | AC7: =IF(Mercredi!D$17=$A6,Mercredi!D$1,IF(Mercredi!D$18=$A6,Mercredi!D$1,IF(Mercredi!D$19=$A6,Mercredi!D$1,IF(Mercredi!D$20=$A6,Mercredi!D$1,IF(Mercredi!D$21=$A6,Mercredi!D$1,IF(Mercredi!D$22=$A6,Mercredi!D$1,IF(Mercredi!D$23=$A6,Mercredi!D$1,IF(Mercredi!D$24=$A6,Mercredi!D$1,IF(Mercredi!D$25=$A6,Mercredi!D$1,IF(Mercredi!D$26=$A6,Mercredi!D$1,IF(Mercredi!D$27=$A6,Mercredi!D$1,IF(Mercredi!D$28=$A6,Mercredi!D$1,IF(Mercredi!D$29=$A6,Mercredi!D$1,IF(Mercredi!D$30=$A6,Mercredi!D$1,"")))))))))))))) | AD7: =IF(Mercredi!E$17=$A6,Mercredi!E$1,IF(Mercredi!E$18=$A6,Mercredi!E$1,IF(Mercredi!E$19=$A6,Mercredi!E$1,IF(Mercredi!E$20=$A6,Mercredi!E$1,IF(Mercredi!E$21=$A6,Mercredi!E$1,IF(Mercredi!E$22=$A6,Mercredi!E$1,IF(Mercredi!E$23=$A6,Mercredi!E$1,IF(Mercredi!E$24=$A6,Mercredi!E$1,IF(Mercredi!E$25=$A6,Mercredi!E$1,IF(Mercredi!E$26=$A6,Mercredi!E$1,IF(Mercredi!E$27=$A6,Mercredi!E$1,IF(Mercredi!E$28=$A6,Mercredi!E$1,IF(Mercredi!E$29=$A6,Mercredi!E$1,IF(Mercredi!E$30=$A6,Mercredi!E$1,"")))))))))))))) | AE7: =IF(Mercredi!F$17=$A6,Mercredi!F$1,IF(Mercredi!F$18=$A6,Mercredi!F$1,IF(Mercredi!F$19=$A6,Mercredi!F$1,IF(Mercredi!F$20=$A6,Mercredi!F$1,IF(Mercredi!F$21=$A6,Mercredi!F$1,IF(Mercredi!F$22=$A6,Mercredi!F$1,IF(Mercredi!F$23=$A6,Mercredi!F$1,IF(Mercredi!F$24=$A6,Mercredi!F$1,IF(Mercredi!F$25=$A6,Mercredi!F$1,IF(Mercredi!F$26=$A6,Mercredi!F$1,IF(Mercredi!F$27=$A6,Mercredi!F$1,IF(Mercredi!F$28=$A6,Mercredi!F$1,IF(Mercredi!F$29=$A6,Mercredi!F$1,IF(Mercredi!F$30=$A6,Mercredi!F$1,"")))))))))))))) | AF7: =IF(Mercredi!G$17=$A6,Mercredi!G$1,IF(Mercredi!G$18=$A6,Mercredi!G$1,IF(Mercredi!G$19=$A6,Mercredi!G$1,IF(Mercredi!G$20=$A6,Mercredi!G$1,IF(Mercredi!G$21=$A6,Mercredi!G$1,IF(Mercredi!G$22=$A6,Mercredi!G$1,IF(Mercredi!G$23=$A6,Mercredi!G$1,IF(Mercredi!G$24=$A6,Mercredi!G$1,IF(Mercredi!G$25=$A6,Mercredi!G$1,IF(Mercredi!G$26=$A6,Mercredi!G$1,IF(Mercredi!G$27=$A6,Mercredi!G$1,IF(Mercredi!G$28=$A6,Mercredi!G$1,IF(Mercredi!G$29=$A6,Mercredi!G$1,IF(Mercredi!G$30=$A6,Mercredi!G$1,"")))))))))))))) | AG7: =IF(Mercredi!H$17=$A6,Mercredi!H$1,IF(Mercredi!H$18=$A6,Mercredi!H$1,IF(Mercredi!H$19=$A6,Mercredi!H$1,IF(Mercredi!H$20=$A6,Mercredi!H$1,IF(Mercredi!H$21=$A6,Mercredi!H$1,IF(Mercredi!H$22=$A6,Mercredi!H$1,IF(Mercredi!H$23=$A6,Mercredi!H$1,IF(Mercredi!H$24=$A6,Mercredi!H$1,IF(Mercredi!H$25=$A6,Mercredi!H$1,IF(Mercredi!H$26=$A6,Mercredi!H$1,IF(Mercredi!H$27=$A6,Mercredi!H$1,IF(Mercredi!H$28=$A6,Mercredi!H$1,IF(Mercredi!H$29=$A6,Mercredi!H$1,IF(Mercredi!H$30=$A6,Mercredi!H$1,"")))))))))))))) | AH7: =IF(Mercredi!I$17=$A6,Mercredi!I$1,IF(Mercredi!I$18=$A6,Mercredi!I$1,IF(Mercredi!I$19=$A6,Mercredi!I$1,IF(Mercredi!I$20=$A6,Mercredi!I$1,IF(Mercredi!I$21=$A6,Mercredi!I$1,IF(Mercredi!I$22=$A6,Mercredi!I$1,IF(Mercredi!I$23=$A6,Mercredi!I$1,IF(Mercredi!I$24=$A6,Mercredi!I$1,IF(Mercredi!I$25=$A6,Mercredi!I$1,IF(Mercredi!I$26=$A6,Mercredi!I$1,IF(Mercredi!I$27=$A6,Mercredi!I$1,IF(Mercredi!I$28=$A6,Mercredi!I$1,IF(Mercredi!I$29=$A6,Mercredi!I$1,IF(Mercredi!I$30=$A6,Mercredi!I$1,"")))))))))))))) | AI7: =IF(Mercredi!J$17=$A6,Mercredi!J$1,IF(Mercredi!J$18=$A6,Mercredi!J$1,IF(Mercredi!J$19=$A6,Mercredi!J$1,IF(Mercredi!J$20=$A6,Mercredi!J$1,IF(Mercredi!J$21=$A6,Mercredi!J$1,IF(Mercredi!J$22=$A6,Mercredi!J$1,IF(Mercredi!J$23=$A6,Mercredi!J$1,IF(Mercredi!J$24=$A6,Mercredi!J$1,IF(Mercredi!J$25=$A6,Mercredi!J$1,IF(Mercredi!J$26=$A6,Mercredi!J$1,IF(Mercredi!J$27=$A6,Mercredi!J$1,IF(Mercredi!J$28=$A6,Mercredi!J$1,IF(Mercredi!J$29=$A6,Mercredi!J$1,IF(Mercredi!J$30=$A6,Mercredi!J$1,"")))))))))))))) | AJ7: =IF(Jeudi!B$17=$A6,Jeudi!B$1,IF(Jeudi!B$18=$A6,Jeudi!B$1,IF(Jeudi!B$19=$A6,Jeudi!B$1,IF(Jeudi!B$20=$A6,Jeudi!B$1,IF(Jeudi!B$21=$A6,Jeudi!B$1,IF(Jeudi!B$22=$A6,Jeudi!B$1,IF(Jeudi!B$23=$A6,Jeudi!B$1,IF(Jeudi!B$24=$A6,Jeudi!B$1,IF(Jeudi!B$25=$A6,Jeudi!B$1,IF(Jeudi!B$26=$A6,Jeudi!B$1,IF(Jeudi!B$27=$A6,Jeudi!B$1,IF(Jeudi!B$28=$A6,Jeudi!B$1,IF(Jeudi!B$29=$A6,Jeudi!B$1,IF(Jeudi!B$30=$A6,Jeudi!B$1,"")))))))))))))) | AK7: =IF(Jeudi!C$17=$A6,Jeudi!C$1,IF(Jeudi!C$18=$A6,Jeudi!C$1,IF(Jeudi!C$19=$A6,Jeudi!C$1,IF(Jeudi!C$20=$A6,Jeudi!C$1,IF(Jeudi!C$21=$A6,Jeudi!C$1,IF(Jeudi!C$22=$A6,Jeudi!C$1,IF(Jeudi!C$23=$A6,Jeudi!C$1,IF(Jeudi!C$24=$A6,Jeudi!C$1,IF(Jeudi!C$25=$A6,Jeudi!C$1,IF(Jeudi!C$26=$A6,Jeudi!C$1,IF(Jeudi!C$27=$A6,Jeudi!C$1,IF(Jeudi!C$28=$A6,Jeudi!C$1,IF(Jeudi!C$29=$A6,Jeudi!C$1,IF(Jeudi!C$30=$A6,Jeudi!C$1,"")))))))))))))) | AL7: =IF(Jeudi!D$17=$A6,Jeudi!D$1,IF(Jeudi!D$18=$A6,Jeudi!D$1,IF(Jeudi!D$19=$A6,Jeudi!D$1,IF(Jeudi!D$20=$A6,Jeudi!D$1,IF(Jeudi!D$21=$A6,Jeudi!D$1,IF(Jeudi!D$22=$A6,Jeudi!D$1,IF(Jeudi!D$23=$A6,Jeudi!D$1,IF(Jeudi!D$24=$A6,Jeudi!D$1,IF(Jeudi!D$25=$A6,Jeudi!D$1,IF(Jeudi!D$26=$A6,Jeudi!D$1,IF(Jeudi!D$27=$A6,Jeudi!D$1,IF(Jeudi!D$28=$A6,Jeudi!D$1,IF(Jeudi!D$29=$A6,Jeudi!D$1,IF(Jeudi!D$30=$A6,Jeudi!D$1,"")))))))))))))) | AM7: =IF(Jeudi!E$17=$A6,Jeudi!E$1,IF(Jeudi!E$18=$A6,Jeudi!E$1,IF(Jeudi!E$19=$A6,Jeudi!E$1,IF(Jeudi!E$20=$A6,Jeudi!E$1,IF(Jeudi!E$21=$A6,Jeudi!E$1,IF(Jeudi!E$22=$A6,Jeudi!E$1,IF(Jeudi!E$23=$A6,Jeudi!E$1,IF(Jeudi!E$24=$A6,Jeudi!E$1,IF(Jeudi!E$25=$A6,Jeudi!E$1,IF(Jeudi!E$26=$A6,Jeudi!E$1,IF(Jeudi!E$27=$A6,Jeudi!E$1,IF(Jeudi!E$28=$A6,Jeudi!E$1,IF(Jeudi!E$29=$A6,Jeudi!E$1,IF(Jeudi!E$30=$A6,Jeudi!E$1,"")))))))))))))) | AN7: =IF(Jeudi!F$17=$A6,Jeudi!F$1,IF(Jeudi!F$18=$A6,Jeudi!F$1,IF(Jeudi!F$19=$A6,Jeudi!F$1,IF(Jeudi!F$20=$A6,Jeudi!F$1,IF(Jeudi!F$21=$A6,Jeudi!F$1,IF(Jeudi!F$22=$A6,Jeudi!F$1,IF(Jeudi!F$23=$A6,Jeudi!F$1,IF(Jeudi!F$24=$A6,Jeudi!F$1,IF(Jeudi!F$25=$A6,Jeudi!F$1,IF(Jeudi!F$26=$A6,Jeudi!F$1,IF(Jeudi!F$27=$A6,Jeudi!F$1,IF(Jeudi!F$28=$A6,Jeudi!F$1,IF(Jeudi!F$29=$A6,Jeudi!F$1,IF(Jeudi!F$30=$A6,Jeudi!F$1,"")))))))))))))) -> At. Polyvalent | AO7: =IF(Jeudi!G$17=$A6,Jeudi!G$1,IF(Jeudi!G$18=$A6,Jeudi!G$1,IF(Jeudi!G$19=$A6,Jeudi!G$1,IF(Jeudi!G$20=$A6,Jeudi!G$1,IF(Jeudi!G$21=$A6,Jeudi!G$1,IF(Jeudi!G$22=$A6,Jeudi!G$1,IF(Jeudi!G$23=$A6,Jeudi!G$1,IF(Jeudi!G$24=$A6,Jeudi!G$1,IF(Jeudi!G$25=$A6,Jeudi!G$1,IF(Jeudi!G$26=$A6,Jeudi!G$1,IF(Jeudi!G$27=$A6,Jeudi!G$1,IF(Jeudi!G$28=$A6,Jeudi!G$1,IF(Jeudi!G$29=$A6,Jeudi!G$1,IF(Jeudi!G$30=$A6,Jeudi!G$1,"")))))))))))))) | AP7: =IF(Jeudi!H$17=$A6,Jeudi!H$1,IF(Jeudi!H$18=$A6,Jeudi!H$1,IF(Jeudi!H$19=$A6,Jeudi!H$1,IF(Jeudi!H$20=$A6,Jeudi!H$1,IF(Jeudi!H$21=$A6,Jeudi!H$1,IF(Jeudi!H$22=$A6,Jeudi!H$1,IF(Jeudi!H$23=$A6,Jeudi!H$1,IF(Jeudi!H$24=$A6,Jeudi!H$1,IF(Jeudi!H$25=$A6,Jeudi!H$1,IF(Jeudi!H$26=$A6,Jeudi!H$1,IF(Jeudi!H$27=$A6,Jeudi!H$1,IF(Jeudi!H$28=$A6,Jeudi!H$1,IF(Jeudi!H$29=$A6,Jeudi!H$1,IF(Jeudi!H$30=$A6,Jeudi!H$1,"")))))))))))))) | AQ7: =IF(Jeudi!I$17=$A6,Jeudi!I$1,IF(Jeudi!I$18=$A6,Jeudi!I$1,IF(Jeudi!I$19=$A6,Jeudi!I$1,IF(Jeudi!I$20=$A6,Jeudi!I$1,IF(Jeudi!I$21=$A6,Jeudi!I$1,IF(Jeudi!I$22=$A6,Jeudi!I$1,IF(Jeudi!I$23=$A6,Jeudi!I$1,IF(Jeudi!I$24=$A6,Jeudi!I$1,IF(Jeudi!I$25=$A6,Jeudi!I$1,IF(Jeudi!I$26=$A6,Jeudi!I$1,IF(Jeudi!I$27=$A6,Jeudi!I$1,IF(Jeudi!I$28=$A6,Jeudi!I$1,IF(Jeudi!I$29=$A6,Jeudi!I$1,IF(Jeudi!I$30=$A6,Jeudi!I$1,"")))))))))))))) | AR7: =IF(Jeudi!J$17=$A6,Jeudi!J$1,IF(Jeudi!J$18=$A6,Jeudi!J$1,IF(Jeudi!J$19=$A6,Jeudi!J$1,IF(Jeudi!J$20=$A6,Jeudi!J$1,IF(Jeudi!J$21=$A6,Jeudi!J$1,IF(Jeudi!J$22=$A6,Jeudi!J$1,IF(Jeudi!J$23=$A6,Jeudi!J$1,IF(Jeudi!J$24=$A6,Jeudi!J$1,IF(Jeudi!J$25=$A6,Jeudi!J$1,IF(Jeudi!J$26=$A6,Jeudi!J$1,IF(Jeudi!J$27=$A6,Jeudi!J$1,IF(Jeudi!J$28=$A6,Jeudi!J$1,IF(Jeudi!J$29=$A6,Jeudi!J$1,IF(Jeudi!J$30=$A6,Jeudi!J$1,"")))))))))))))) | AS7: =IF(Vendredi!B$17=$A6,Vendredi!B$1,IF(Vendredi!B$18=$A6,Vendredi!B$1,IF(Vendredi!B$19=$A6,Vendredi!B$1,IF(Vendredi!B$20=$A6,Vendredi!B$1,IF(Vendredi!B$21=$A6,Vendredi!B$1,IF(Vendredi!B$22=$A6,Vendredi!B$1,IF(Vendredi!B$23=$A6,Vendredi!B$1,IF(Vendredi!B$24=$A6,Vendredi!B$1,IF(Vendredi!B$25=$A6,Vendredi!B$1,IF(Vendredi!B$26=$A6,Vendredi!B$1,IF(Vendredi!B$27=$A6,Vendredi!B$1,IF(Vendredi!B$28=$A6,Vendredi!B$1,IF(Vendredi!B$29=$A6,Vendredi!B$1,IF(Vendredi!B$30=$A6,Vendredi!B$1,"")))))))))))))) | AT7: =IF(Vendredi!C$17=$A6,Vendredi!C$1,IF(Vendredi!C$18=$A6,Vendredi!C$1,IF(Vendredi!C$19=$A6,Vendredi!C$1,IF(Vendredi!C$20=$A6,Vendredi!C$1,IF(Vendredi!C$21=$A6,Vendredi!C$1,IF(Vendredi!C$22=$A6,Vendredi!C$1,IF(Vendredi!C$23=$A6,Vendredi!C$1,IF(Vendredi!C$24=$A6,Vendredi!C$1,IF(Vendredi!C$25=$A6,Vendredi!C$1,IF(Vendredi!C$26=$A6,Vendredi!C$1,IF(Vendredi!C$27=$A6,Vendredi!C$1,IF(Vendredi!C$28=$A6,Vendredi!C$1,IF(Vendredi!C$29=$A6,Vendredi!C$1,IF(Vendredi!C$30=$A6,Vendredi!C$1,"")))))))))))))) | AU7: =IF(Vendredi!D$17=$A6,Vendredi!D$1,IF(Vendredi!D$18=$A6,Vendredi!D$1,IF(Vendredi!D$19=$A6,Vendredi!D$1,IF(Vendredi!D$20=$A6,Vendredi!D$1,IF(Vendredi!D$21=$A6,Vendredi!D$1,IF(Vendredi!D$22=$A6,Vendredi!D$1,IF(Vendredi!D$23=$A6,Vendredi!D$1,IF(Vendredi!D$24=$A6,Vendredi!D$1,IF(Vendredi!D$25=$A6,Vendredi!D$1,IF(Vendredi!D$26=$A6,Vendredi!D$1,IF(Vendredi!D$27=$A6,Vendredi!D$1,IF(Vendredi!D$28=$A6,Vendredi!D$1,IF(Vendredi!D$29=$A6,Vendredi!D$1,IF(Vendredi!D$30=$A6,Vendredi!D$1,"")))))))))))))) | AV7: =IF(Vendredi!E$17=$A6,Vendredi!E$1,IF(Vendredi!E$18=$A6,Vendredi!E$1,IF(Vendredi!E$19=$A6,Vendredi!E$1,IF(Vendredi!E$20=$A6,Vendredi!E$1,IF(Vendredi!E$21=$A6,Vendredi!E$1,IF(Vendredi!E$22=$A6,Vendredi!E$1,IF(Vendredi!E$23=$A6,Vendredi!E$1,IF(Vendredi!E$24=$A6,Vendredi!E$1,IF(Vendredi!E$25=$A6,Vendredi!E$1,IF(Vendredi!E$26=$A6,Vendredi!E$1,IF(Vendredi!E$27=$A6,Vendredi!E$1,IF(Vendredi!E$28=$A6,Vendredi!E$1,IF(Vendredi!E$29=$A6,Vendredi!E$1,IF(Vendredi!E$30=$A6,Vendredi!E$1,"")))))))))))))) -> Espace vert | AW7: =IF(Vendredi!F$17=$A6,Vendredi!F$1,IF(Vendredi!F$18=$A6,Vendredi!F$1,IF(Vendredi!F$19=$A6,Vendredi!F$1,IF(Vendredi!F$20=$A6,Vendredi!F$1,IF(Vendredi!F$21=$A6,Vendredi!F$1,IF(Vendredi!F$22=$A6,Vendredi!F$1,IF(Vendredi!F$23=$A6,Vendredi!F$1,IF(Vendredi!F$24=$A6,Vendredi!F$1,IF(Vendredi!F$25=$A6,Vendredi!F$1,IF(Vendredi!F$26=$A6,Vendredi!F$1,IF(Vendredi!F$27=$A6,Vendredi!F$1,IF(Vendredi!F$28=$A6,Vendredi!F$1,IF(Vendredi!F$29=$A6,Vendredi!F$1,IF(Vendredi!F$30=$A6,Vendredi!F$1,"")))))))))))))) | AX7: =IF(Vendredi!G$17=$A6,Vendredi!G$1,IF(Vendredi!G$18=$A6,Vendredi!G$1,IF(Vendredi!G$19=$A6,Vendredi!G$1,IF(Vendredi!G$20=$A6,Vendredi!G$1,IF(Vendredi!G$21=$A6,Vendredi!G$1,IF(Vendredi!G$22=$A6,Vendredi!G$1,IF(Vendredi!G$23=$A6,Vendredi!G$1,IF(Vendredi!G$24=$A6,Vendredi!G$1,IF(Vendredi!G$25=$A6,Vendredi!G$1,IF(Vendredi!G$26=$A6,Vendredi!G$1,IF(Vendredi!G$27=$A6,Vendredi!G$1,IF(Vendredi!G$28=$A6,Vendredi!G$1,IF(Vendredi!G$29=$A6,Vendredi!G$1,IF(Vendredi!G$30=$A6,Vendredi!G$1,"")))))))))))))) | AY7: =IF(Vendredi!H$17=$A6,Vendredi!H$1,IF(Vendredi!H$18=$A6,Vendredi!H$1,IF(Vendredi!H$19=$A6,Vendredi!H$1,IF(Vendredi!H$20=$A6,Vendredi!H$1,IF(Vendredi!H$21=$A6,Vendredi!H$1,IF(Vendredi!H$22=$A6,Vendredi!H$1,IF(Vendredi!H$23=$A6,Vendredi!H$1,IF(Vendredi!H$24=$A6,Vendredi!H$1,IF(Vendredi!H$25=$A6,Vendredi!H$1,IF(Vendredi!H$26=$A6,Vendredi!H$1,IF(Vendredi!H$27=$A6,Vendredi!H$1,IF(Vendredi!H$28=$A6,Vendredi!H$1,IF(Vendredi!H$29=$A6,Vendredi!H$1,IF(Vendredi!H$30=$A6,Vendredi!H$1,"")))))))))))))) | AZ7: =IF(Vendredi!I$17=$A6,Vendredi!I$1,IF(Vendredi!I$18=$A6,Vendredi!I$1,IF(Vendredi!I$19=$A6,Vendredi!I$1,IF(Vendredi!I$20=$A6,Vendredi!I$1,IF(Vendredi!I$21=$A6,Vendredi!I$1,IF(Vendredi!I$22=$A6,Vendredi!I$1,IF(Vendredi!I$23=$A6,Vendredi!I$1,IF(Vendredi!I$24=$A6,Vendredi!I$1,IF(Vendredi!I$25=$A6,Vendredi!I$1,IF(Vendredi!I$26=$A6,Vendredi!I$1,IF(Vendredi!I$27=$A6,Vendredi!I$1,IF(Vendredi!I$28=$A6,Vendredi!I$1,IF(Vendredi!I$29=$A6,Vendredi!I$1,IF(Vendredi!I$30=$A6,Vendredi!I$1,"")))))))))))))) | BA7: =IF(Vendredi!J$17=$A6,Vendredi!J$1,IF(Vendredi!J$18=$A6,Vendredi!J$1,IF(Vendredi!J$19=$A6,Vendredi!J$1,IF(Vendredi!J$20=$A6,Vendredi!J$1,IF(Vendredi!J$21=$A6,Vendredi!J$1,IF(Vendredi!J$22=$A6,Vendredi!J$1,IF(Vendredi!J$23=$A6,Vendredi!J$1,IF(Vendredi!J$24=$A6,Vendredi!J$1,IF(Vendredi!J$25=$A6,Vendredi!J$1,IF(Vendredi!J$26=$A6,Vendredi!J$1,IF(Vendredi!J$27=$A6,Vendredi!J$1,IF(Vendredi!J$28=$A6,Vendredi!J$1,IF(Vendredi!J$29=$A6,Vendredi!J$1,IF(Vendredi!J$30=$A6,Vendredi!J$1,""))))))))))))))
A9: Jacques | B9: Matin | C9: =I9&J9&K9&L9&M9&N9&O9&P9&Q9 -> Classe B | D9: =R9&S9&T9&U9&V9&W9&X9&Y9&Z9 -> Restaurant | E9: =AA9&AB9&AC9&AD9&AE9&AF9&AG9&AH9&AI9 -> Espace vert | F9: =AJ9&AK9&AL9&AM9&AN9&AO9&AP9&AQ9&AR9 -> Horti | G9: =AS9&AT9&AU9&AV9&AW9&AX9&AY9&AZ9&BA9 -> At. Polyvalent | I9: =IF(Lundi!B$2=$A9,Lundi!B$1,IF(Lundi!B$3=$A9,Lundi!B$1,IF(Lundi!B$4=$A9,Lundi!B$1,IF(Lundi!B$5=$A9,Lundi!B$1,IF(Lundi!B$6=$A9,Lundi!B$1,IF(Lundi!B$7=$A9,Lundi!B$1,IF(Lundi!B$8=$A9,Lundi!B$1,IF(Lundi!B$9=$A9,Lundi!B$1,IF(Lundi!B$10=$A9,Lundi!B$1,IF(Lundi!B$11=$A9,Lundi!B$1,IF(Lundi!B$12=$A9,Lundi!B$1,IF(Lundi!B$13=$A9,Lundi!B$1,IF(Lundi!B$14=$A9,Lundi!B$1,IF(Lundi!B$15=$A9,Lundi!B$1,"")))))))))))))) -> Classe B | J9: =IF(Lundi!C$2=$A9,Lundi!C$1,IF(Lundi!C$3=$A9,Lundi!C$1,IF(Lundi!C$4=$A9,Lundi!C$1,IF(Lundi!C$5=$A9,Lundi!C$1,IF(Lundi!C$6=$A9,Lundi!C$1,IF(Lundi!C$7=$A9,Lundi!C$1,IF(Lundi!C$8=$A9,Lundi!C$1,IF(Lundi!C$9=$A9,Lundi!C$1,IF(Lundi!C$10=$A9,Lundi!C$1,IF(Lundi!C$11=$A9,Lundi!C$1,IF(Lundi!C$12=$A9,Lundi!C$1,IF(Lundi!C$13=$A9,Lundi!C$1,IF(Lundi!C$14=$A9,Lundi!C$1,IF(Lundi!C$15=$A9,Lundi!C$1,"")))))))))))))) | K9: =IF(Lundi!D$2=$A9,Lundi!D$1,IF(Lundi!D$3=$A9,Lundi!D$1,IF(Lundi!D$4=$A9,Lundi!D$1,IF(Lundi!D$5=$A9,Lundi!D$1,IF(Lundi!D$6=$A9,Lundi!D$1,IF(Lundi!D$7=$A9,Lundi!D$1,IF(Lundi!D$8=$A9,Lundi!D$1,IF(Lundi!D$9=$A9,Lundi!D$1,IF(Lundi!D$10=$A9,Lundi!D$1,IF(Lundi!D$11=$A9,Lundi!D$1,IF(Lundi!D$12=$A9,Lundi!D$1,IF(Lundi!D$13=$A9,Lundi!D$1,IF(Lundi!D$14=$A9,Lundi!D$1,IF(Lundi!D$15=$A9,Lundi!D$1,"")))))))))))))) | L9: =IF(Lundi!E8=$A9,Lundi!E$1,IF(Lundi!E9=$A9,Lundi!E$1,IF(Lundi!E10=$A9,Lundi!E$1,IF(Lundi!E11=$A9,Lundi!E$1,IF(Lundi!E12=$A9,Lundi!E$1,IF(Lundi!E13=$A9,Lundi!E$1,IF(Lundi!E14=$A9,Lundi!E$1,IF(Lundi!E15=$A9,Lundi!E$1,IF(Lundi!E16=$A9,Lundi!E$1,IF(Lundi!E17=$A9,Lundi!E$1,IF(Lundi!E18=$A9,Lundi!E$1,IF(Lundi!E19=$A9,Lundi!E$1,IF(Lundi!E20=$A9,Lundi!E$1,IF(Lundi!E21=$A9,Lundi!E$1,"")))))))))))))) | M9: =IF(Lundi!F8=$A9,Lundi!F$1,IF(Lundi!F9=$A9,Lundi!F$1,IF(Lundi!F10=$A9,Lundi!F$1,IF(Lundi!F11=$A9,Lundi!F$1,IF(Lundi!F12=$A9,Lundi!F$1,IF(Lundi!F13=$A9,Lundi!F$1,IF(Lundi!F14=$A9,Lundi!F$1,IF(Lundi!F15=$A9,Lundi!F$1,IF(Lundi!F16=$A9,Lundi!F$1,IF(Lundi!F17=$A9,Lundi!F$1,IF(Lundi!F18=$A9,Lundi!F$1,IF(Lundi!F19=$A9,Lundi!F$1,IF(Lundi!F20=$A9,Lundi!F$1,IF(Lundi!F21=$A9,Lundi!F$1,"")))))))))))))) | R9: =IF(Mardi!B$2=$A9,Mardi!B$1,IF(Mardi!B$3=$A9,Mardi!B$1,IF(Mardi!B$4=$A9,Mardi!B$1,IF(Mardi!B$5=$A9,Mardi!B$1,IF(Mardi!B$6=$A9,Mardi!B$1,IF(Mardi!B$7=$A9,Mardi!B$1,IF(Mardi!B$8=$A9,Mardi!B$1,IF(Mardi!B$9=$A9,Mardi!B$1,IF(Mardi!B$10=$A9,Mardi!B$1,IF(Mardi!B$11=$A9,Mardi!B$1,IF(Mardi!B$12=$A9,Mardi!B$1,IF(Mardi!B$13=$A9,Mardi!B$1,IF(Mardi!B$14=$A9,Mardi!B$1,IF(Mardi!B$15=$A9,Mardi!B$1,"")))))))))))))) | S9: =IF(Mardi!C$2=$A9,Mardi!C$1,IF(Mardi!C$3=$A9,Mardi!C$1,IF(Mardi!C$4=$A9,Mardi!C$1,IF(Mardi!C$5=$A9,Mardi!C$1,IF(Mardi!C$6=$A9,Mardi!C$1,IF(Mardi!C$7=$A9,Mardi!C$1,IF(Mardi!C$8=$A9,Mardi!C$1,IF(Mardi!C$9=$A9,Mardi!C$1,IF(Mardi!C$10=$A9,Mardi!C$1,IF(Mardi!C$11=$A9,Mardi!C$1,IF(Mardi!C$12=$A9,Mardi!C$1,IF(Mardi!C$13=$A9,Mardi!C$1,IF(Mardi!C$14=$A9,Mardi!C$1,IF(Mardi!C$15=$A9,Mardi!C$1,"")))))))))))))) -> Restaurant | T9: =IF(Mardi!D$2=$A9,Mardi!D$1,IF(Mardi!D$3=$A9,Mardi!D$1,IF(Mardi!D$4=$A9,Mardi!D$1,IF(Mardi!D$5=$A9,Mardi!D$1,IF(Mardi!D$6=$A9,Mardi!D$1,IF(Mardi!D$7=$A9,Mardi!D$1,IF(Mardi!D$8=$A9,Mardi!D$1,IF(Mardi!D$9=$A9,Mardi!D$1,IF(Mardi!D$10=$A9,Mardi!D$1,IF(Mardi!D$11=$A9,Mardi!D$1,IF(Mardi!D$12=$A9,Mardi!D$1,IF(Mardi!D$13=$A9,Mardi!D$1,IF(Mardi!D$14=$A9,Mardi!D$1,IF(Mardi!D$15=$A9,Mardi!D$1,"")))))))))))))) | U9: =IF(Mardi!E$2=$A9,Mardi!E$1,IF(Mardi!E$3=$A9,Mardi!E$1,IF(Mardi!E$4=$A9,Mardi!E$1,IF(Mardi!E$5=$A9,Mardi!E$1,IF(Mardi!E$6=$A9,Mardi!E$1,IF(Mardi!E$7=$A9,Mardi!E$1,IF(Mardi!E$8=$A9,Mardi!E$1,IF(Mardi!E$9=$A9,Mardi!E$1,IF(Mardi!E$10=$A9,Mardi!E$1,IF(Mardi!E$11=$A9,Mardi!E$1,IF(Mardi!E$12=$A9,Mardi!E$1,IF(Mardi!E$13=$A9,Mardi!E$1,IF(Mardi!E$14=$A9,Mardi!E$1,IF(Mardi!E$15=$A9,Mardi!E$1,"")))))))))))))) | V9: =IF(Mardi!F$2=$A9,Mardi!F$1,IF(Mardi!F$3=$A9,Mardi!F$1,IF(Mardi!F$4=$A9,Mardi!F$1,IF(Mardi!F$5=$A9,Mardi!F$1,IF(Mardi!F$6=$A9,Mardi!F$1,IF(Mardi!F$7=$A9,Mardi!F$1,IF(Mardi!F$8=$A9,Mardi!F$1,IF(Mardi!F$9=$A9,Mardi!F$1,IF(Mardi!F$10=$A9,Mardi!F$1,IF(Mardi!F$11=$A9,Mardi!F$1,IF(Mardi!F$12=$A9,Mardi!F$1,IF(Mardi!F$13=$A9,Mardi!F$1,IF(Mardi!F$14=$A9,Mardi!F$1,IF(Mardi!F$15=$A9,Mardi!F$1,"")))))))))))))) | W9: =IF(Mardi!G$2=$A9,Mardi!G$1,IF(Mardi!G$3=$A9,Mardi!G$1,IF(Mardi!G$4=$A9,Mardi!G$1,IF(Mardi!G$5=$A9,Mardi!G$1,IF(Mardi!G$6=$A9,Mardi!G$1,IF(Mardi!G$7=$A9,Mardi!G$1,IF(Mardi!G$8=$A9,Mardi!G$1,IF(Mardi!G$9=$A9,Mardi!G$1,IF(Mardi!G$10=$A9,Mardi!G$1,IF(Mardi!G$11=$A9,Mardi!G$1,IF(Mardi!G$12=$A9,Mardi!G$1,IF(Mardi!G$13=$A9,Mardi!G$1,IF(Mardi!G$14=$A9,Mardi!G$1,IF(Mardi!G$15=$A9,Mardi!G$1,"")))))))))))))) | X9: =IF(Mardi!H$2=$A9,Mardi!H$1,IF(Mardi!H$3=$A9,Mardi!H$1,IF(Mardi!H$4=$A9,Mardi!H$1,IF(Mardi!H$5=$A9,Mardi!H$1,IF(Mardi!H$6=$A9,Mardi!H$1,IF(Mardi!H$7=$A9,Mardi!H$1,IF(Mardi!H$8=$A9,Mardi!H$1,IF(Mardi!H$9=$A9,Mardi!H$1,IF(Mardi!H$10=$A9,Mardi!H$1,IF(Mardi!H$11=$A9,Mardi!H$1,IF(Mardi!H$12=$A9,Mardi!H$1,IF(Mardi!H$13=$A9,Mardi!H$1,IF(Mardi!H$14=$A9,Mardi!H$1,IF(Mardi!H$15=$A9,Mardi!H$1,"")))))))))))))) | Y9: =IF(Mardi!I$2=$A9,Mardi!I$1,IF(Mardi!I$3=$A9,Mardi!I$1,IF(Mardi!I$4=$A9,Mardi!I$1,IF(Mardi!I$5=$A9,Mardi!I$1,IF(Mardi!I$6=$A9,Mardi!I$1,IF(Mardi!I$7=$A9,Mardi!I$1,IF(Mardi!I$8=$A9,Mardi!I$1,IF(Mardi!I$9=$A9,Mardi!I$1,IF(Mardi!I$10=$A9,Mardi!I$1,IF(Mardi!I$11=$A9,Mardi!I$1,IF(Mardi!I$12=$A9,Mardi!I$1,IF(Mardi!I$13=$A9,Mardi!I$1,IF(Mardi!I$14=$A9,Mardi!I$1,IF(Mardi!I$15=$A9,Mardi!I$1,"")))))))))))))) | Z9: =IF(Mardi!J$2=$A9,Mardi!J$1,IF(Mardi!J$3=$A9,Mardi!J$1,IF(Mardi!J$4=$A9,Mardi!J$1,IF(Mardi!J$5=$A9,Mardi!J$1,IF(Mardi!J$6=$A9,Mardi!J$1,IF(Mardi!J$7=$A9,Mardi!J$1,IF(Mardi!J$8=$A9,Mardi!J$1,IF(Mardi!J$9=$A9,Mardi!J$1,IF(Mardi!J$10=$A9,Mardi!J$1,IF(Mardi!J$11=$A9,Mardi!J$1,IF(Mardi!J$12=$A9,Mardi!J$1,IF(Mardi!J$13=$A9,Mardi!J$1,IF(Mardi!J$14=$A9,Mardi!J$1,IF(Mardi!J$15=$A9,Mardi!J$1,"")))))))))))))) | AA9: =IF(Mercredi!B$2=$A9,Mercredi!B$1,IF(Mercredi!B$3=$A9,Mercredi!B$1,IF(Mercredi!B$4=$A9,Mercredi!B$1,IF(Mercredi!B$5=$A9,Mercredi!B$1,IF(Mercredi!B$6=$A9,Mercredi!B$1,IF(Mercredi!B$7=$A9,Mercredi!B$1,IF(Mercredi!B$8=$A9,Mercredi!B$1,IF(Mercredi!B$9=$A9,Mercredi!B$1,IF(Mercredi!B$10=$A9,Mercredi!B$1,IF(Mercredi!B$11=$A9,Mercredi!B$1,IF(Mercredi!B$12=$A9,Mercredi!B$1,IF(Mercredi!B$13=$A9,Mercredi!B$1,IF(Mercredi!B$14=$A9,Mercredi!B$1,IF(Mercredi!B$15=$A9,Mercredi!B$1,"")))))))))))))) | AB9: =IF(Mercredi!C$2=$A9,Mercredi!C$1,IF(Mercredi!C$3=$A9,Mercredi!C$1,IF(Mercredi!C$4=$A9,Mercredi!C$1,IF(Mercredi!C$5=$A9,Mercredi!C$1,IF(Mercredi!C$6=$A9,Mercredi!C$1,IF(Mercredi!C$7=$A9,Mercredi!C$1,IF(Mercredi!C$8=$A9,Mercredi!C$1,IF(Mercredi!C$9=$A9,Mercredi!C$1,IF(Mercredi!C$10=$A9,Mercredi!C$1,IF(Mercredi!C$11=$A9,Mercredi!C$1,IF(Mercredi!C$12=$A9,Mercredi!C$1,IF(Mercredi!C$13=$A9,Mercredi!C$1,IF(Mercredi!C$14=$A9,Mercredi!C$1,IF(Mercredi!C$15=$A9,Mercredi!C$1,"")))))))))))))) | AC9: =IF(Mercredi!D$2=$A9,Mercredi!D$1,IF(Mercredi!D$3=$A9,Mercredi!D$1,IF(Mercredi!D$4=$A9,Mercredi!D$1,IF(Mercredi!D$5=$A9,Mercredi!D$1,IF(Mercredi!D$6=$A9,Mercredi!D$1,IF(Mercredi!D$7=$A9,Mercredi!D$1,IF(Mercredi!D$8=$A9,Mercredi!D$1,IF(Mercredi!D$9=$A9,Mercredi!D$1,IF(Mercredi!D$10=$A9,Mercredi!D$1,IF(Mercredi!D$11=$A9,Mercredi!D$1,IF(Mercredi!D$12=$A9,Mercredi!D$1,IF(Mercredi!D$13=$A9,Mercredi!D$1,IF(Mercredi!D$14=$A9,Mercredi!D$1,IF(Mercredi!D$15=$A9,Mercredi!D$1,"")))))))))))))) | AD9: =IF(Mercredi!E$2=$A9,Mercredi!E$1,IF(Mercredi!E$3=$A9,Mercredi!E$1,IF(Mercredi!E$4=$A9,Mercredi!E$1,IF(Mercredi!E$5=$A9,Mercredi!E$1,IF(Mercredi!E$6=$A9,Mercredi!E$1,IF(Mercredi!E$7=$A9,Mercredi!E$1,IF(Mercredi!E$8=$A9,Mercredi!E$1,IF(Mercredi!E$9=$A9,Mercredi!E$1,IF(Mercredi!E$10=$A9,Mercredi!E$1,IF(Mercredi!E$11=$A9,Mercredi!E$1,IF(Mercredi!E$12=$A9,Mercredi!E$1,IF(Mercredi!E$13=$A9,Mercredi!E$1,IF(Mercredi!E$14=$A9,Mercredi!E$1,IF(Mercredi!E$15=$A9,Mercredi!E$1,"")))))))))))))) -> Espace vert | AE9: =IF(Mercredi!F$2=$A9,Mercredi!F$1,IF(Mercredi!F$3=$A9,Mercredi!F$1,IF(Mercredi!F$4=$A9,Mercredi!F$1,IF(Mercredi!F$5=$A9,Mercredi!F$1,IF(Mercredi!F$6=$A9,Mercredi!F$1,IF(Mercredi!F$7=$A9,Mercredi!F$1,IF(Mercredi!F$8=$A9,Mercredi!F$1,IF(Mercredi!F$9=$A9,Mercredi!F$1,IF(Mercredi!F$10=$A9,Mercredi!F$1,IF(Mercredi!F$11=$A9,Mercredi!F$1,IF(Mercredi!F$12=$A9,Mercredi!F$1,IF(Mercredi!F$13=$A9,Mercredi!F$1,IF(Mercredi!F$14=$A9,Mercredi!F$1,IF(Mercredi!F$15=$A9,Mercredi!F$1,"")))))))))))))) | AF9: =IF(Mercredi!G$2=$A9,Mercredi!G$1,IF(Mercredi!G$3=$A9,Mercredi!G$1,IF(Mercredi!G$4=$A9,Mercredi!G$1,IF(Mercredi!G$5=$A9,Mercredi!G$1,IF(Mercredi!G$6=$A9,Mercredi!G$1,IF(Mercredi!G$7=$A9,Mercredi!G$1,IF(Mercredi!G$8=$A9,Mercredi!G$1,IF(Mercredi!G$9=$A9,Mercredi!G$1,IF(Mercredi!G$10=$A9,Mercredi!G$1,IF(Mercredi!G$11=$A9,Mercredi!G$1,IF(Mercredi!G$12=$A9,Mercredi!G$1,IF(Mercredi!G$13=$A9,Mercredi!G$1,IF(Mercredi!G$14=$A9,Mercredi!G$1,IF(Mercredi!G$15=$A9,Mercredi!G$1,"")))))))))))))) | AG9: =IF(Mercredi!H$2=$A9,Mercredi!H$1,IF(Mercredi!H$3=$A9,Mercredi!H$1,IF(Mercredi!H$4=$A9,Mercredi!H$1,IF(Mercredi!H$5=$A9,Mercredi!H$1,IF(Mercredi!H$6=$A9,Mercredi!H$1,IF(Mercredi!H$7=$A9,Mercredi!H$1,IF(Mercredi!H$8=$A9,Mercredi!H$1,IF(Mercredi!H$9=$A9,Mercredi!H$1,IF(Mercredi!H$10=$A9,Mercredi!H$1,IF(Mercredi!H$11=$A9,Mercredi!H$1,IF(Mercredi!H$12=$A9,Mercredi!H$1,IF(Mercredi!H$13=$A9,Mercredi!H$1,IF(Mercredi!H$14=$A9,Mercredi!H$1,IF(Mercredi!H$15=$A9,Mercredi!H$1,"")))))))))))))) | AH9: =IF(Mercredi!I$2=$A9,Mercredi!I$1,IF(Mercredi!I$3=$A9,Mercredi!I$1,IF(Mercredi!I$4=$A9,Mercredi!I$1,IF(Mercredi!I$5=$A9,Mercredi!I$1,IF(Mercredi!I$6=$A9,Mercredi!I$1,IF(Mercredi!I$7=$A9,Mercredi!I$1,IF(Mercredi!I$8=$A9,Mercredi!I$1,IF(Mercredi!I$9=$A9,Mercredi!I$1,IF(Mercredi!I$10=$A9,Mercredi!I$1,IF(Mercredi!I$11=$A9,Mercredi!I$1,IF(Mercredi!I$12=$A9,Mercredi!I$1,IF(Mercredi!I$13=$A9,Mercredi!I$1,IF(Mercredi!I$14=$A9,Mercredi!I$1,IF(Mercredi!I$15=$A9,Mercredi!I$1,"")))))))))))))) | AI9: =IF(Mercredi!J$2=$A9,Mercredi!J$1,IF(Mercredi!J$3=$A9,Mercredi!J$1,IF(Mercredi!J$4=$A9,Mercredi!J$1,IF(Mercredi!J$5=$A9,Mercredi!J$1,IF(Mercredi!J$6=$A9,Mercredi!J$1,IF(Mercredi!J$7=$A9,Mercredi!J$1,IF(Mercredi!J$8=$A9,Mercredi!J$1,IF(Mercredi!J$9=$A9,Mercredi!J$1,IF(Mercredi!J$10=$A9,Mercredi!J$1,IF(Mercredi!J$11=$A9,Mercredi!J$1,IF(Mercredi!J$12=$A9,Mercredi!J$1,IF(Mercredi!J$13=$A9,Mercredi!J$1,IF(Mercredi!J$14=$A9,Mercredi!J$1,IF(Mercredi!J$15=$A9,Mercredi!J$1,"")))))))))))))) | AJ9: =IF(Jeudi!B$2=$A9,Jeudi!B$1,IF(Jeudi!B$3=$A9,Jeudi!B$1,IF(Jeudi!B$4=$A9,Jeudi!B$1,IF(Jeudi!B$5=$A9,Jeudi!B$1,IF(Jeudi!B$6=$A9,Jeudi!B$1,IF(Jeudi!B$7=$A9,Jeudi!B$1,IF(Jeudi!B$8=$A9,Jeudi!B$1,IF(Jeudi!B$9=$A9,Jeudi!B$1,IF(Jeudi!B$10=$A9,Jeudi!B$1,IF(Jeudi!B$11=$A9,Jeudi!B$1,IF(Jeudi!B$12=$A9,Jeudi!B$1,IF(Jeudi!B$13=$A9,Jeudi!B$1,IF(Jeudi!B$14=$A9,Jeudi!B$1,IF(Jeudi!B$15=$A9,Jeudi!B$1,"")))))))))))))) | AK9: =IF(Jeudi!C$2=$A9,Jeudi!C$1,IF(Jeudi!C$3=$A9,Jeudi!C$1,IF(Jeudi!C$4=$A9,Jeudi!C$1,IF(Jeudi!C$5=$A9,Jeudi!C$1,IF(Jeudi!C$6=$A9,Jeudi!C$1,IF(Jeudi!C$7=$A9,Jeudi!C$1,IF(Jeudi!C$8=$A9,Jeudi!C$1,IF(Jeudi!C$9=$A9,Jeudi!C$1,IF(Jeudi!C$10=$A9,Jeudi!C$1,IF(Jeudi!C$11=$A9,Jeudi!C$1,IF(Jeudi!C$12=$A9,Jeudi!C$1,IF(Jeudi!C$13=$A9,Jeudi!C$1,IF(Jeudi!C$14=$A9,Jeudi!C$1,IF(Jeudi!C$15=$A9,Jeudi!C$1,"")))))))))))))) | AL9: =IF(Jeudi!D$2=$A9,Jeudi!D$1,IF(Jeudi!D$3=$A9,Jeudi!D$1,IF(Jeudi!D$4=$A9,Jeudi!D$1,IF(Jeudi!D$5=$A9,Jeudi!D$1,IF(Jeudi!D$6=$A9,Jeudi!D$1,IF(Jeudi!D$7=$A9,Jeudi!D$1,IF(Jeudi!D$8=$A9,Jeudi!D$1,IF(Jeudi!D$9=$A9,Jeudi!D$1,IF(Jeudi!D$10=$A9,Jeudi!D$1,IF(Jeudi!D$11=$A9,Jeudi!D$1,IF(Jeudi!D$12=$A9,Jeudi!D$1,IF(Jeudi!D$13=$A9,Jeudi!D$1,IF(Jeudi!D$14=$A9,Jeudi!D$1,IF(Jeudi!D$15=$A9,Jeudi!D$1,"")))))))))))))) | AM9: =IF(Jeudi!E$2=$A9,Jeudi!E$1,IF(Jeudi!E$3=$A9,Jeudi!E$1,IF(Jeudi!E$4=$A9,Jeudi!E$1,IF(Jeudi!E$5=$A9,Jeudi!E$1,IF(Jeudi!E$6=$A9,Jeudi!E$1,IF(Jeudi!E$7=$A9,Jeudi!E$1,IF(Jeudi!E$8=$A9,Jeudi!E$1,IF(Jeudi!E$9=$A9,Jeudi!E$1,IF(Jeudi!E$10=$A9,Jeudi!E$1,IF(Jeudi!E$11=$A9,Jeudi!E$1,IF(Jeudi!E$12=$A9,Jeudi!E$1,IF(Jeudi!E$13=$A9,Jeudi!E$1,IF(Jeudi!E$14=$A9,Jeudi!E$1,IF(Jeudi!E$15=$A9,Jeudi!E$1,"")))))))))))))) | AN9: =IF(Jeudi!F$2=$A9,Jeudi!F$1,IF(Jeudi!F$3=$A9,Jeudi!F$1,IF(Jeudi!F$4=$A9,Jeudi!F$1,IF(Jeudi!F$5=$A9,Jeudi!F$1,IF(Jeudi!F$6=$A9,Jeudi!F$1,IF(Jeudi!F$7=$A9,Jeudi!F$1,IF(Jeudi!F$8=$A9,Jeudi!F$1,IF(Jeudi!F$9=$A9,Jeudi!F$1,IF(Jeudi!F$10=$A9,Jeudi!F$1,IF(Jeudi!F$11=$A9,Jeudi!F$1,IF(Jeudi!F$12=$A9,Jeudi!F$1,IF(Jeudi!F$13=$A9,Jeudi!F$1,IF(Jeudi!F$14=$A9,Jeudi!F$1,IF(Jeudi!F$15=$A9,Jeudi!F$1,"")))))))))))))) | AO9: =IF(Jeudi!G$2=$A9,Jeudi!G$1,IF(Jeudi!G$3=$A9,Jeudi!G$1,IF(Jeudi!G$4=$A9,Jeudi!G$1,IF(Jeudi!G$5=$A9,Jeudi!G$1,IF(Jeudi!G$6=$A9,Jeudi!G$1,IF(Jeudi!G$7=$A9,Jeudi!G$1,IF(Jeudi!G$8=$A9,Jeudi!G$1,IF(Jeudi!G$9=$A9,Jeudi!G$1,IF(Jeudi!G$10=$A9,Jeudi!G$1,IF(Jeudi!G$11=$A9,Jeudi!G$1,IF(Jeudi!G$12=$A9,Jeudi!G$1,IF(Jeudi!G$13=$A9,Jeudi!G$1,IF(Jeudi!G$14=$A9,Jeudi!G$1,IF(Jeudi!G$15=$A9,Jeudi!G$1,"")))))))))))))) | AP9: =IF(Jeudi!H$2=$A9,Jeudi!H$1,IF(Jeudi!H$3=$A9,Jeudi!H$1,IF(Jeudi!H$4=$A9,Jeudi!H$1,IF(Jeudi!H$5=$A9,Jeudi!H$1,IF(Jeudi!H$6=$A9,Jeudi!H$1,IF(Jeudi!H$7=$A9,Jeudi!H$1,IF(Jeudi!H$8=$A9,Jeudi!H$1,IF(Jeudi!H$9=$A9,Jeudi!H$1,IF(Jeudi!H$10=$A9,Jeudi!H$1,IF(Jeudi!H$11=$A9,Jeudi!H$1,IF(Jeudi!H$12=$A9,Jeudi!H$1,IF(Jeudi!H$13=$A9,Jeudi!H$1,IF(Jeudi!H$14=$A9,Jeudi!H$1,IF(Jeudi!H$15=$A9,Jeudi!H$1,"")))))))))))))) -> Horti | AQ9: =IF(Jeudi!I$2=$A9,Jeudi!I$1,IF(Jeudi!I$3=$A9,Jeudi!I$1,IF(Jeudi!I$4=$A9,Jeudi!I$1,IF(Jeudi!I$5=$A9,Jeudi!I$1,IF(Jeudi!I$6=$A9,Jeudi!I$1,IF(Jeudi!I$7=$A9,Jeudi!I$1,IF(Jeudi!I$8=$A9,Jeudi!I$1,IF(Jeudi!I$9=$A9,Jeudi!I$1,IF(Jeudi!I$10=$A9,Jeudi!I$1,IF(Jeudi!I$11=$A9,Jeudi!I$1,IF(Jeudi!I$12=$A9,Jeudi!I$1,IF(Jeudi!I$13=$A9,Jeudi!I$1,IF(Jeudi!I$14=$A9,Jeudi!I$1,IF(Jeudi!I$15=$A9,Jeudi!I$1,"")))))))))))))) | AR9: =IF(Jeudi!J$2=$A9,Jeudi!J$1,IF(Jeudi!J$3=$A9,Jeudi!J$1,IF(Jeudi!J$4=$A9,Jeudi!J$1,IF(Jeudi!J$5=$A9,Jeudi!J$1,IF(Jeudi!J$6=$A9,Jeudi!J$1,IF(Jeudi!J$7=$A9,Jeudi!J$1,IF(Jeudi!J$8=$A9,Jeudi!J$1,IF(Jeudi!J$9=$A9,Jeudi!J$1,IF(Jeudi!J$10=$A9,Jeudi!J$1,IF(Jeudi!J$11=$A9,Jeudi!J$1,IF(Jeudi!J$12=$A9,Jeudi!J$1,IF(Jeudi!J$13=$A9,Jeudi!J$1,IF(Jeudi!J$14=$A9,Jeudi!J$1,IF(Jeudi!J$15=$A9,Jeudi!J$1,"")))))))))))))) | AS9: =IF(Vendredi!B$2=$A9,Vendredi!B$1,IF(Vendredi!B$3=$A9,Vendredi!B$1,IF(Vendredi!B$4=$A9,Vendredi!B$1,IF(Vendredi!B$5=$A9,Vendredi!B$1,IF(Vendredi!B$6=$A9,Vendredi!B$1,IF(Vendredi!B$7=$A9,Vendredi!B$1,IF(Vendredi!B$8=$A9,Vendredi!B$1,IF(Vendredi!B$9=$A9,Vendredi!B$1,IF(Vendredi!B$10=$A9,Vendredi!B$1,IF(Vendredi!B$11=$A9,Vendredi!B$1,IF(Vendredi!B$12=$A9,Vendredi!B$1,IF(Vendredi!B$13=$A9,Vendredi!B$1,IF(Vendredi!B$14=$A9,Vendredi!B$1,IF(Vendredi!B$15=$A9,Vendredi!B$1,"")))))))))))))) | AT9: =IF(Vendredi!C$2=$A9,Vendredi!C$1,IF(Vendredi!C$3=$A9,Vendredi!C$1,IF(Vendredi!C$4=$A9,Vendredi!C$1,IF(Vendredi!C$5=$A9,Vendredi!C$1,IF(Vendredi!C$6=$A9,Vendredi!C$1,IF(Vendredi!C$7=$A9,Vendredi!C$1,IF(Vendredi!C$8=$A9,Vendredi!C$1,IF(Vendredi!C$9=$A9,Vendredi!C$1,IF(Vendredi!C$10=$A9,Vendredi!C$1,IF(Vendredi!C$11=$A9,Vendredi!C$1,IF(Vendredi!C$12=$A9,Vendredi!C$1,IF(Vendredi!C$13=$A9,Vendredi!C$1,IF(Vendredi!C$14=$A9,Vendredi!C$1,IF(Vendredi!C$15=$A9,Vendredi!C$1,"")))))))))))))) | AU9: =IF(Vendredi!D$2=$A9,Vendredi!D$1,IF(Vendredi!D$3=$A9,Vendredi!D$1,IF(Vendredi!D$4=$A9,Vendredi!D$1,IF(Vendredi!D$5=$A9,Vendredi!D$1,IF(Vendredi!D$6=$A9,Vendredi!D$1,IF(Vendredi!D$7=$A9,Vendredi!D$1,IF(Vendredi!D$8=$A9,Vendredi!D$1,IF(Vendredi!D$9=$A9,Vendredi!D$1,IF(Vendredi!D$10=$A9,Vendredi!D$1,IF(Vendredi!D$11=$A9,Vendredi!D$1,IF(Vendredi!D$12=$A9,Vendredi!D$1,IF(Vendredi!D$13=$A9,Vendredi!D$1,IF(Vendredi!D$14=$A9,Vendredi!D$1,IF(Vendredi!D$15=$A9,Vendredi!D$1,"")))))))))))))) | AV9: =IF(Vendredi!E$2=$A9,Vendredi!E$1,IF(Vendredi!E$3=$A9,Vendredi!E$1,IF(Vendredi!E$4=$A9,Vendredi!E$1,IF(Vendredi!E$5=$A9,Vendredi!E$1,IF(Vendredi!E$6=$A9,Vendredi!E$1,IF(Vendredi!E$7=$A9,Vendredi!E$1,IF(Vendredi!E$8=$A9,Vendredi!E$1,IF(Vendredi!E$9=$A9,Vendredi!E$1,IF(Vendredi!E$10=$A9,Vendredi!E$1,IF(Vendredi!E$11=$A9,Vendredi!E$1,IF(Vendredi!E$12=$A9,Vendredi!E$1,IF(Vendredi!E$13=$A9,Vendredi!E$1,IF(Vendredi!E$14=$A9,Vendredi!E$1,IF(Vendredi!E$15=$A9,Vendredi!E$1,"")))))))))))))) | AW9: =IF(Vendredi!F$2=$A9,Vendredi!F$1,IF(Vendredi!F$3=$A9,Vendredi!F$1,IF(Vendredi!F$4=$A9,Vendredi!F$1,IF(Vendredi!F$5=$A9,Vendredi!F$1,IF(Vendredi!F$6=$A9,Vendredi!F$1,IF(Vendredi!F$7=$A9,Vendredi!F$1,IF(Vendredi!F$8=$A9,Vendredi!F$1,IF(Vendredi!F$9=$A9,Vendredi!F$1,IF(Vendredi!F$10=$A9,Vendredi!F$1,IF(Vendredi!F$11=$A9,Vendredi!F$1,IF(Vendredi!F$12=$A9,Vendredi!F$1,IF(Vendredi!F$13=$A9,Vendredi!F$1,IF(Vendredi!F$14=$A9,Vendredi!F$1,IF(Vendredi!F$15=$A9,Vendredi!F$1,"")))))))))))))) -> At. Polyvalent | AX9: =IF(Vendredi!G$2=$A9,Vendredi!G$1,IF(Vendredi!G$3=$A9,Vendredi!G$1,IF(Vendredi!G$4=$A9,Vendredi!G$1,IF(Vendredi!G$5=$A9,Vendredi!G$1,IF(Vendredi!G$6=$A9,Vendredi!G$1,IF(Vendredi!G$7=$A9,Vendredi!G$1,IF(Vendredi!G$8=$A9,Vendredi!G$1,IF(Vendredi!G$9=$A9,Vendredi!G$1,IF(Vendredi!G$10=$A9,Vendredi!G$1,IF(Vendredi!G$11=$A9,Vendredi!G$1,IF(Vendredi!G$12=$A9,Vendredi!G$1,IF(Vendredi!G$13=$A9,Vendredi!G$1,IF(Vendredi!G$14=$A9,Vendredi!G$1,IF(Vendredi!G$15=$A9,Vendredi!G$1,"")))))))))))))) | AY9: =IF(Vendredi!H$2=$A9,Vendredi!H$1,IF(Vendredi!H$3=$A9,Vendredi!H$1,IF(Vendredi!H$4=$A9,Vendredi!H$1,IF(Vendredi!H$5=$A9,Vendredi!H$1,IF(Vendredi!H$6=$A9,Vendredi!H$1,IF(Vendredi!H$7=$A9,Vendredi!H$1,IF(Vendredi!H$8=$A9,Vendredi!H$1,IF(Vendredi!H$9=$A9,Vendredi!H$1,IF(Vendredi!H$10=$A9,Vendredi!H$1,IF(Vendredi!H$11=$A9,Vendredi!H$1,IF(Vendredi!H$12=$A9,Vendredi!H$1,IF(Vendredi!H$13=$A9,Vendredi!H$1,IF(Vendredi!H$14=$A9,Vendredi!H$1,IF(Vendredi!H$15=$A9,Vendredi!H$1,"")))))))))))))) | AZ9: =IF(Vendredi!I$2=$A9,Vendredi!I$1,IF(Vendredi!I$3=$A9,Vendredi!I$1,IF(Vendredi!I$4=$A9,Vendredi!I$1,IF(Vendredi!I$5=$A9,Vendredi!I$1,IF(Vendredi!I$6=$A9,Vendredi!I$1,IF(Vendredi!I$7=$A9,Vendredi!I$1,IF(Vendredi!I$8=$A9,Vendredi!I$1,IF(Vendredi!I$9=$A9,Vendredi!I$1,IF(Vendredi!I$10=$A9,Vendredi!I$1,IF(Vendredi!I$11=$A9,Vendredi!I$1,IF(Vendredi!I$12=$A9,Vendredi!I$1,IF(Vendredi!I$13=$A9,Vendredi!I$1,IF(Vendredi!I$14=$A9,Vendredi!I$1,IF(Vendredi!I$15=$A9,Vendredi!I$1,"")))))))))))))) | BA9: =IF(Vendredi!J$2=$A9,Vendredi!J$1,IF(Vendredi!J$3=$A9,Vendredi!J$1,IF(Vendredi!J$4=$A9,Vendredi!J$1,IF(Vendredi!J$5=$A9,Vendredi!J$1,IF(Vendredi!J$6=$A9,Vendredi!J$1,IF(Vendredi!J$7=$A9,Vendredi!J$1,IF(Vendredi!J$8=$A9,Vendredi!J$1,IF(Vendredi!J$9=$A9,Vendredi!J$1,IF(Vendredi!J$10=$A9,Vendredi!J$1,IF(Vendredi!J$11=$A9,Vendredi!J$1,IF(Vendredi!J$12=$A9,Vendredi!J$1,IF(Vendredi!J$13=$A9,Vendredi!J$1,IF(Vendredi!J$14=$A9,Vendredi!J$1,IF(Vendredi!J$15=$A9,Vendredi!J$1,""))))))))))))))
B10: Après Midi | C10: =I10&J10&K10&L10&M10&N10&O10&P10&Q10 -> Self | D10: =R10&S10&T10&U10&V10&W10&X10&Y10&Z10 -> Self | F10: =AJ10&AK10&AL10&AM10&AN10&AO10&AP10&AQ10&AR10 -> At. Polyvalent | G10: =AS10&AT10&AU10&AV10&AW10&AX10&AY10&AZ10&BA10 -> Espace vert | I10: =IF(Lundi!B$17=$A9,Lundi!B$1,IF(Lundi!B$18=$A9,Lundi!B$1,IF(Lundi!B$19=$A9,Lundi!B$1,IF(Lundi!B$20=$A9,Lundi!B$1,IF(Lundi!B$21=$A9,Lundi!B$1,IF(Lundi!B$22=$A9,Lundi!B$1,IF(Lundi!B$23=$A9,Lundi!B$1,IF(Lundi!B$24=$A9,Lundi!B$1,IF(Lundi!B$25=$A9,Lundi!B$1,IF(Lundi!B$26=$A9,Lundi!B$1,IF(Lundi!B$27=$A9,Lundi!B$1,IF(Lundi!B$28=$A9,Lundi!B$1,IF(Lundi!B$29=$A9,Lundi!B$1,IF(Lundi!B$30=$A9,Lundi!B$1,"")))))))))))))) | J10: =IF(Lundi!C$17=$A9,Lundi!C$1,IF(Lundi!C$18=$A9,Lundi!C$1,IF(Lundi!C$19=$A9,Lundi!C$1,IF(Lundi!C$20=$A9,Lundi!C$1,IF(Lundi!C$21=$A9,Lundi!C$1,IF(Lundi!C$22=$A9,Lundi!C$1,IF(Lundi!C$23=$A9,Lundi!C$1,IF(Lundi!C$24=$A9,Lundi!C$1,IF(Lundi!C$25=$A9,Lundi!C$1,IF(Lundi!C$26=$A9,Lundi!C$1,IF(Lundi!C$27=$A9,Lundi!C$1,IF(Lundi!C$28=$A9,Lundi!C$1,IF(Lundi!C$29=$A9,Lundi!C$1,IF(Lundi!C$30=$A9,Lundi!C$1,"")))))))))))))) | K10: =IF(Lundi!D$17=$A9,Lundi!D$1,IF(Lundi!D$18=$A9,Lundi!D$1,IF(Lundi!D$19=$A9,Lundi!D$1,IF(Lundi!D$20=$A9,Lundi!D$1,IF(Lundi!D$21=$A9,Lundi!D$1,IF(Lundi!D$22=$A9,Lundi!D$1,IF(Lundi!D$23=$A9,Lundi!D$1,IF(Lundi!D$24=$A9,Lundi!D$1,IF(Lundi!D$25=$A9,Lundi!D$1,IF(Lundi!D$26=$A9,Lundi!D$1,IF(Lundi!D$27=$A9,Lundi!D$1,IF(Lundi!D$28=$A9,Lundi!D$1,IF(Lundi!D$29=$A9,Lundi!D$1,IF(Lundi!D$30=$A9,Lundi!D$1,"")))))))))))))) -> Self | L10: =IF(Lundi!E23=$A9,Lundi!E$1,IF(Lundi!E24=$A9,Lundi!E$1,IF(Lundi!E25=$A9,Lundi!E$1,IF(Lundi!E26=$A9,Lundi!E$1,IF(Lundi!E27=$A9,Lundi!E$1,IF(Lundi!E28=$A9,Lundi!E$1,IF(Lundi!E29=$A9,Lundi!E$1,IF(Lundi!E30=$A9,Lundi!E$1,IF(Lundi!E31=$A9,Lundi!E$1,IF(Lundi!E32=$A9,Lundi!E$1,IF(Lundi!E33=$A9,Lundi!E$1,IF(Lundi!E34=$A9,Lundi!E$1,IF(Lundi!E35=$A9,Lundi!E$1,IF(Lundi!E36=$A9,Lundi!E$1,"")))))))))))))) | M10: =IF(Lundi!F23=$A9,Lundi!F$1,IF(Lundi!F24=$A9,Lundi!F$1,IF(Lundi!F25=$A9,Lundi!F$1,IF(Lundi!F26=$A9,Lundi!F$1,IF(Lundi!F27=$A9,Lundi!F$1,IF(Lundi!F28=$A9,Lundi!F$1,IF(Lundi!F29=$A9,Lundi!F$1,IF(Lundi!F30=$A9,Lundi!F$1,IF(Lundi!F31=$A9,Lundi!F$1,IF(Lundi!F32=$A9,Lundi!F$1,IF(Lundi!F33=$A9,Lundi!F$1,IF(Lundi!F34=$A9,Lundi!F$1,IF(Lundi!F35=$A9,Lundi!F$1,IF(Lundi!F36=$A9,Lundi!F$1,"")))))))))))))) | R10: =IF(Mardi!B$17=$A9,Mardi!B$1,IF(Mardi!B$18=$A9,Mardi!B$1,IF(Mardi!B$19=$A9,Mardi!B$1,IF(Mardi!B$20=$A9,Mardi!B$1,IF(Mardi!B$21=$A9,Mardi!B$1,IF(Mardi!B$22=$A9,Mardi!B$1,IF(Mardi!B$23=$A9,Mardi!B$1,IF(Mardi!B$24=$A9,Mardi!B$1,IF(Mardi!B$25=$A9,Mardi!B$1,IF(Mardi!B$26=$A9,Mardi!B$1,IF(Mardi!B$27=$A9,Mardi!B$1,IF(Mardi!B$28=$A9,Mardi!B$1,IF(Mardi!B$29=$A9,Mardi!B$1,IF(Mardi!B$30=$A9,Mardi!B$1,"")))))))))))))) | S10: =IF(Mardi!C$17=$A9,Mardi!C$1,IF(Mardi!C$18=$A9,Mardi!C$1,IF(Mardi!C$19=$A9,Mardi!C$1,IF(Mardi!C$20=$A9,Mardi!C$1,IF(Mardi!C$21=$A9,Mardi!C$1,IF(Mardi!C$22=$A9,Mardi!C$1,IF(Mardi!C$23=$A9,Mardi!C$1,IF(Mardi!C$24=$A9,Mardi!C$1,IF(Mardi!C$25=$A9,Mardi!C$1,IF(Mardi!C$26=$A9,Mardi!C$1,IF(Mardi!C$27=$A9,Mardi!C$1,IF(Mardi!C$28=$A9,Mardi!C$1,IF(Mardi!C$29=$A9,Mardi!C$1,IF(Mardi!C$30=$A9,Mardi!C$1,"")))))))))))))) | T10: =IF(Mardi!D$17=$A9,Mardi!D$1,IF(Mardi!D$18=$A9,Mardi!D$1,IF(Mardi!D$19=$A9,Mardi!D$1,IF(Mardi!D$20=$A9,Mardi!D$1,IF(Mardi!D$21=$A9,Mardi!D$1,IF(Mardi!D$22=$A9,Mardi!D$1,IF(Mardi!D$23=$A9,Mardi!D$1,IF(Mardi!D$24=$A9,Mardi!D$1,IF(Mardi!D$25=$A9,Mardi!D$1,IF(Mardi!D$26=$A9,Mardi!D$1,IF(Mardi!D$27=$A9,Mardi!D$1,IF(Mardi!D$28=$A9,Mardi!D$1,IF(Mardi!D$29=$A9,Mardi!D$1,IF(Mardi!D$30=$A9,Mardi!D$1,"")))))))))))))) -> Self | U10: =IF(Mardi!E$17=$A9,Mardi!E$1,IF(Mardi!E$18=$A9,Mardi!E$1,IF(Mardi!E$19=$A9,Mardi!E$1,IF(Mardi!E$20=$A9,Mardi!E$1,IF(Mardi!E$21=$A9,Mardi!E$1,IF(Mardi!E$22=$A9,Mardi!E$1,IF(Mardi!E$23=$A9,Mardi!E$1,IF(Mardi!E$24=$A9,Mardi!E$1,IF(Mardi!E$25=$A9,Mardi!E$1,IF(Mardi!E$26=$A9,Mardi!E$1,IF(Mardi!E$27=$A9,Mardi!E$1,IF(Mardi!E$28=$A9,Mardi!E$1,IF(Mardi!E$29=$A9,Mardi!E$1,IF(Mardi!E$30=$A9,Mardi!E$1,"")))))))))))))) | V10: =IF(Mardi!F$17=$A9,Mardi!F$1,IF(Mardi!F$18=$A9,Mardi!F$1,IF(Mardi!F$19=$A9,Mardi!F$1,IF(Mardi!F$20=$A9,Mardi!F$1,IF(Mardi!F$21=$A9,Mardi!F$1,IF(Mardi!F$22=$A9,Mardi!F$1,IF(Mardi!F$23=$A9,Mardi!F$1,IF(Mardi!F$24=$A9,Mardi!F$1,IF(Mardi!F$25=$A9,Mardi!F$1,IF(Mardi!F$26=$A9,Mardi!F$1,IF(Mardi!F$27=$A9,Mardi!F$1,IF(Mardi!F$28=$A9,Mardi!F$1,IF(Mardi!F$29=$A9,Mardi!F$1,IF(Mardi!F$30=$A9,Mardi!F$1,"")))))))))))))) | W10: =IF(Mardi!G$17=$A9,Mardi!G$1,IF(Mardi!G$18=$A9,Mardi!G$1,IF(Mardi!G$19=$A9,Mardi!G$1,IF(Mardi!G$20=$A9,Mardi!G$1,IF(Mardi!G$21=$A9,Mardi!G$1,IF(Mardi!G$22=$A9,Mardi!G$1,IF(Mardi!G$23=$A9,Mardi!G$1,IF(Mardi!G$24=$A9,Mardi!G$1,IF(Mardi!G$25=$A9,Mardi!G$1,IF(Mardi!G$26=$A9,Mardi!G$1,IF(Mardi!G$27=$A9,Mardi!G$1,IF(Mardi!G$28=$A9,Mardi!G$1,IF(Mardi!G$29=$A9,Mardi!G$1,IF(Mardi!G$30=$A9,Mardi!G$1,"")))))))))))))) | X10: =IF(Mardi!H$17=$A9,Mardi!H$1,IF(Mardi!H$18=$A9,Mardi!H$1,IF(Mardi!H$19=$A9,Mardi!H$1,IF(Mardi!H$20=$A9,Mardi!H$1,IF(Mardi!H$21=$A9,Mardi!H$1,IF(Mardi!H$22=$A9,Mardi!H$1,IF(Mardi!H$23=$A9,Mardi!H$1,IF(Mardi!H$24=$A9,Mardi!H$1,IF(Mardi!H$25=$A9,Mardi!H$1,IF(Mardi!H$26=$A9,Mardi!H$1,IF(Mardi!H$27=$A9,Mardi!H$1,IF(Mardi!H$28=$A9,Mardi!H$1,IF(Mardi!H$29=$A9,Mardi!H$1,IF(Mardi!H$30=$A9,Mardi!H$1,"")))))))))))))) | Y10: =IF(Mardi!I$17=$A9,Mardi!I$1,IF(Mardi!I$18=$A9,Mardi!I$1,IF(Mardi!I$19=$A9,Mardi!I$1,IF(Mardi!I$20=$A9,Mardi!I$1,IF(Mardi!I$21=$A9,Mardi!I$1,IF(Mardi!I$22=$A9,Mardi!I$1,IF(Mardi!I$23=$A9,Mardi!I$1,IF(Mardi!I$24=$A9,Mardi!I$1,IF(Mardi!I$25=$A9,Mardi!I$1,IF(Mardi!I$26=$A9,Mardi!I$1,IF(Mardi!I$27=$A9,Mardi!I$1,IF(Mardi!I$28=$A9,Mardi!I$1,IF(Mardi!I$29=$A9,Mardi!I$1,IF(Mardi!I$30=$A9,Mardi!I$1,"")))))))))))))) | Z10: =IF(Mardi!J$17=$A9,Mardi!J$1,IF(Mardi!J$18=$A9,Mardi!J$1,IF(Mardi!J$19=$A9,Mardi!J$1,IF(Mardi!J$20=$A9,Mardi!J$1,IF(Mardi!J$21=$A9,Mardi!J$1,IF(Mardi!J$22=$A9,Mardi!J$1,IF(Mardi!J$23=$A9,Mardi!J$1,IF(Mardi!J$24=$A9,Mardi!J$1,IF(Mardi!J$25=$A9,Mardi!J$1,IF(Mardi!J$26=$A9,Mardi!J$1,IF(Mardi!J$27=$A9,Mardi!J$1,IF(Mardi!J$28=$A9,Mardi!J$1,IF(Mardi!J$29=$A9,Mardi!J$1,IF(Mardi!J$30=$A9,Mardi!J$1,"")))))))))))))) | AA10: =IF(Mercredi!B$17=$A9,Mercredi!B$1,IF(Mercredi!B$18=$A9,Mercredi!B$1,IF(Mercredi!B$19=$A9,Mercredi!B$1,IF(Mercredi!B$20=$A9,Mercredi!B$1,IF(Mercredi!B$21=$A9,Mercredi!B$1,IF(Mercredi!B$22=$A9,Mercredi!B$1,IF(Mercredi!B$23=$A9,Mercredi!B$1,IF(Mercredi!B$24=$A9,Mercredi!B$1,IF(Mercredi!B$25=$A9,Mercredi!B$1,IF(Mercredi!B$26=$A9,Mercredi!B$1,IF(Mercredi!B$27=$A9,Mercredi!B$1,IF(Mercredi!B$28=$A9,Mercredi!B$1,IF(Mercredi!B$29=$A9,Mercredi!B$1,IF(Mercredi!B$30=$A9,Mercredi!B$1,"")))))))))))))) | AB10: =IF(Mercredi!C$17=$A9,Mercredi!C$1,IF(Mercredi!C$18=$A9,Mercredi!C$1,IF(Mercredi!C$19=$A9,Mercredi!C$1,IF(Mercredi!C$20=$A9,Mercredi!C$1,IF(Mercredi!C$21=$A9,Mercredi!C$1,IF(Mercredi!C$22=$A9,Mercredi!C$1,IF(Mercredi!C$23=$A9,Mercredi!C$1,IF(Mercredi!C$24=$A9,Mercredi!C$1,IF(Mercredi!C$25=$A9,Mercredi!C$1,IF(Mercredi!C$26=$A9,Mercredi!C$1,IF(Mercredi!C$27=$A9,Mercredi!C$1,IF(Mercredi!C$28=$A9,Mercredi!C$1,IF(Mercredi!C$29=$A9,Mercredi!C$1,IF(Mercredi!C$30=$A9,Mercredi!C$1,"")))))))))))))) | AC10: =IF(Mercredi!D$17=$A9,Mercredi!D$1,IF(Mercredi!D$18=$A9,Mercredi!D$1,IF(Mercredi!D$19=$A9,Mercredi!D$1,IF(Mercredi!D$20=$A9,Mercredi!D$1,IF(Mercredi!D$21=$A9,Mercredi!D$1,IF(Mercredi!D$22=$A9,Mercredi!D$1,IF(Mercredi!D$23=$A9,Mercredi!D$1,IF(Mercredi!D$24=$A9,Mercredi!D$1,IF(Mercredi!D$25=$A9,Mercredi!D$1,IF(Mercredi!D$26=$A9,Mercredi!D$1,IF(Mercredi!D$27=$A9,Mercredi!D$1,IF(Mercredi!D$28=$A9,Mercredi!D$1,IF(Mercredi!D$29=$A9,Mercredi!D$1,IF(Mercredi!D$30=$A9,Mercredi!D$1,"")))))))))))))) | AD10: =IF(Mercredi!E$17=$A9,Mercredi!E$1,IF(Mercredi!E$18=$A9,Mercredi!E$1,IF(Mercredi!E$19=$A9,Mercredi!E$1,IF(Mercredi!E$20=$A9,Mercredi!E$1,IF(Mercredi!E$21=$A9,Mercredi!E$1,IF(Mercredi!E$22=$A9,Mercredi!E$1,IF(Mercredi!E$23=$A9,Mercredi!E$1,IF(Mercredi!E$24=$A9,Mercredi!E$1,IF(Mercredi!E$25=$A9,Mercredi!E$1,IF(Mercredi!E$26=$A9,Mercredi!E$1,IF(Mercredi!E$27=$A9,Mercredi!E$1,IF(Mercredi!E$28=$A9,Mercredi!E$1,IF(Mercredi!E$29=$A9,Mercredi!E$1,IF(Mercredi!E$30=$A9,Mercredi!E$1,"")))))))))))))) | AE10: =IF(Mercredi!F$17=$A9,Mercredi!F$1,IF(Mercredi!F$18=$A9,Mercredi!F$1,IF(Mercredi!F$19=$A9,Mercredi!F$1,IF(Mercredi!F$20=$A9,Mercredi!F$1,IF(Mercredi!F$21=$A9,Mercredi!F$1,IF(Mercredi!F$22=$A9,Mercredi!F$1,IF(Mercredi!F$23=$A9,Mercredi!F$1,IF(Mercredi!F$24=$A9,Mercredi!F$1,IF(Mercredi!F$25=$A9,Mercredi!F$1,IF(Mercredi!F$26=$A9,Mercredi!F$1,IF(Mercredi!F$27=$A9,Mercredi!F$1,IF(Mercredi!F$28=$A9,Mercredi!F$1,IF(Mercredi!F$29=$A9,Mercredi!F$1,IF(Mercredi!F$30=$A9,Mercredi!F$1,"")))))))))))))) | AF10: =IF(Mercredi!G$17=$A9,Mercredi!G$1,IF(Mercredi!G$18=$A9,Mercredi!G$1,IF(Mercredi!G$19=$A9,Mercredi!G$1,IF(Mercredi!G$20=$A9,Mercredi!G$1,IF(Mercredi!G$21=$A9,Mercredi!G$1,IF(Mercredi!G$22=$A9,Mercredi!G$1,IF(Mercredi!G$23=$A9,Mercredi!G$1,IF(Mercredi!G$24=$A9,Mercredi!G$1,IF(Mercredi!G$25=$A9,Mercredi!G$1,IF(Mercredi!G$26=$A9,Mercredi!G$1,IF(Mercredi!G$27=$A9,Mercredi!G$1,IF(Mercredi!G$28=$A9,Mercredi!G$1,IF(Mercredi!G$29=$A9,Mercredi!G$1,IF(Mercredi!G$30=$A9,Mercredi!G$1,"")))))))))))))) | AG10: =IF(Mercredi!H$17=$A9,Mercredi!H$1,IF(Mercredi!H$18=$A9,Mercredi!H$1,IF(Mercredi!H$19=$A9,Mercredi!H$1,IF(Mercredi!H$20=$A9,Mercredi!H$1,IF(Mercredi!H$21=$A9,Mercredi!H$1,IF(Mercredi!H$22=$A9,Mercredi!H$1,IF(Mercredi!H$23=$A9,Mercredi!H$1,IF(Mercredi!H$24=$A9,Mercredi!H$1,IF(Mercredi!H$25=$A9,Mercredi!H$1,IF(Mercredi!H$26=$A9,Mercredi!H$1,IF(Mercredi!H$27=$A9,Mercredi!H$1,IF(Mercredi!H$28=$A9,Mercredi!H$1,IF(Mercredi!H$29=$A9,Mercredi!H$1,IF(Mercredi!H$30=$A9,Mercredi!H$1,"")))))))))))))) | AH10: =IF(Mercredi!I$17=$A9,Mercredi!I$1,IF(Mercredi!I$18=$A9,Mercredi!I$1,IF(Mercredi!I$19=$A9,Mercredi!I$1,IF(Mercredi!I$20=$A9,Mercredi!I$1,IF(Mercredi!I$21=$A9,Mercredi!I$1,IF(Mercredi!I$22=$A9,Mercredi!I$1,IF(Mercredi!I$23=$A9,Mercredi!I$1,IF(Mercredi!I$24=$A9,Mercredi!I$1,IF(Mercredi!I$25=$A9,Mercredi!I$1,IF(Mercredi!I$26=$A9,Mercredi!I$1,IF(Mercredi!I$27=$A9,Mercredi!I$1,IF(Mercredi!I$28=$A9,Mercredi!I$1,IF(Mercredi!I$29=$A9,Mercredi!I$1,IF(Mercredi!I$30=$A9,Mercredi!I$1,"")))))))))))))) | AI10: =IF(Mercredi!J$17=$A9,Mercredi!J$1,IF(Mercredi!J$18=$A9,Mercredi!J$1,IF(Mercredi!J$19=$A9,Mercredi!J$1,IF(Mercredi!J$20=$A9,Mercredi!J$1,IF(Mercredi!J$21=$A9,Mercredi!J$1,IF(Mercredi!J$22=$A9,Mercredi!J$1,IF(Mercredi!J$23=$A9,Mercredi!J$1,IF(Mercredi!J$24=$A9,Mercredi!J$1,IF(Mercredi!J$25=$A9,Mercredi!J$1,IF(Mercredi!J$26=$A9,Mercredi!J$1,IF(Mercredi!J$27=$A9,Mercredi!J$1,IF(Mercredi!J$28=$A9,Mercredi!J$1,IF(Mercredi!J$29=$A9,Mercredi!J$1,IF(Mercredi!J$30=$A9,Mercredi!J$1,"")))))))))))))) | AJ10: =IF(Jeudi!B$17=$A9,Jeudi!B$1,IF(Jeudi!B$18=$A9,Jeudi!B$1,IF(Jeudi!B$19=$A9,Jeudi!B$1,IF(Jeudi!B$20=$A9,Jeudi!B$1,IF(Jeudi!B$21=$A9,Jeudi!B$1,IF(Jeudi!B$22=$A9,Jeudi!B$1,IF(Jeudi!B$23=$A9,Jeudi!B$1,IF(Jeudi!B$24=$A9,Jeudi!B$1,IF(Jeudi!B$25=$A9,Jeudi!B$1,IF(Jeudi!B$26=$A9,Jeudi!B$1,IF(Jeudi!B$27=$A9,Jeudi!B$1,IF(Jeudi!B$28=$A9,Jeudi!B$1,IF(Jeudi!B$29=$A9,Jeudi!B$1,IF(Jeudi!B$30=$A9,Jeudi!B$1,"")))))))))))))) | AK10: =IF(Jeudi!C$17=$A9,Jeudi!C$1,IF(Jeudi!C$18=$A9,Jeudi!C$1,IF(Jeudi!C$19=$A9,Jeudi!C$1,IF(Jeudi!C$20=$A9,Jeudi!C$1,IF(Jeudi!C$21=$A9,Jeudi!C$1,IF(Jeudi!C$22=$A9,Jeudi!C$1,IF(Jeudi!C$23=$A9,Jeudi!C$1,IF(Jeudi!C$24=$A9,Jeudi!C$1,IF(Jeudi!C$25=$A9,Jeudi!C$1,IF(Jeudi!C$26=$A9,Jeudi!C$1,IF(Jeudi!C$27=$A9,Jeudi!C$1,IF(Jeudi!C$28=$A9,Jeudi!C$1,IF(Jeudi!C$29=$A9,Jeudi!C$1,IF(Jeudi!C$30=$A9,Jeudi!C$1,"")))))))))))))) | AL10: =IF(Jeudi!D$17=$A9,Jeudi!D$1,IF(Jeudi!D$18=$A9,Jeudi!D$1,IF(Jeudi!D$19=$A9,Jeudi!D$1,IF(Jeudi!D$20=$A9,Jeudi!D$1,IF(Jeudi!D$21=$A9,Jeudi!D$1,IF(Jeudi!D$22=$A9,Jeudi!D$1,IF(Jeudi!D$23=$A9,Jeudi!D$1,IF(Jeudi!D$24=$A9,Jeudi!D$1,IF(Jeudi!D$25=$A9,Jeudi!D$1,IF(Jeudi!D$26=$A9,Jeudi!D$1,IF(Jeudi!D$27=$A9,Jeudi!D$1,IF(Jeudi!D$28=$A9,Jeudi!D$1,IF(Jeudi!D$29=$A9,Jeudi!D$1,IF(Jeudi!D$30=$A9,Jeudi!D$1,"")))))))))))))) | AM10: =IF(Jeudi!E$17=$A9,Jeudi!E$1,IF(Jeudi!E$18=$A9,Jeudi!E$1,IF(Jeudi!E$19=$A9,Jeudi!E$1,IF(Jeudi!E$20=$A9,Jeudi!E$1,IF(Jeudi!E$21=$A9,Jeudi!E$1,IF(Jeudi!E$22=$A9,Jeudi!E$1,IF(Jeudi!E$23=$A9,Jeudi!E$1,IF(Jeudi!E$24=$A9,Jeudi!E$1,IF(Jeudi!E$25=$A9,Jeudi!E$1,IF(Jeudi!E$26=$A9,Jeudi!E$1,IF(Jeudi!E$27=$A9,Jeudi!E$1,IF(Jeudi!E$28=$A9,Jeudi!E$1,IF(Jeudi!E$29=$A9,Jeudi!E$1,IF(Jeudi!E$30=$A9,Jeudi!E$1,"")))))))))))))) | AN10: =IF(Jeudi!F$17=$A9,Jeudi!F$1,IF(Jeudi!F$18=$A9,Jeudi!F$1,IF(Jeudi!F$19=$A9,Jeudi!F$1,IF(Jeudi!F$20=$A9,Jeudi!F$1,IF(Jeudi!F$21=$A9,Jeudi!F$1,IF(Jeudi!F$22=$A9,Jeudi!F$1,IF(Jeudi!F$23=$A9,Jeudi!F$1,IF(Jeudi!F$24=$A9,Jeudi!F$1,IF(Jeudi!F$25=$A9,Jeudi!F$1,IF(Jeudi!F$26=$A9,Jeudi!F$1,IF(Jeudi!F$27=$A9,Jeudi!F$1,IF(Jeudi!F$28=$A9,Jeudi!F$1,IF(Jeudi!F$29=$A9,Jeudi!F$1,IF(Jeudi!F$30=$A9,Jeudi!F$1,"")))))))))))))) -> At. Polyvalent | AO10: =IF(Jeudi!G$17=$A9,Jeudi!G$1,IF(Jeudi!G$18=$A9,Jeudi!G$1,IF(Jeudi!G$19=$A9,Jeudi!G$1,IF(Jeudi!G$20=$A9,Jeudi!G$1,IF(Jeudi!G$21=$A9,Jeudi!G$1,IF(Jeudi!G$22=$A9,Jeudi!G$1,IF(Jeudi!G$23=$A9,Jeudi!G$1,IF(Jeudi!G$24=$A9,Jeudi!G$1,IF(Jeudi!G$25=$A9,Jeudi!G$1,IF(Jeudi!G$26=$A9,Jeudi!G$1,IF(Jeudi!G$27=$A9,Jeudi!G$1,IF(Jeudi!G$28=$A9,Jeudi!G$1,IF(Jeudi!G$29=$A9,Jeudi!G$1,IF(Jeudi!G$30=$A9,Jeudi!G$1,"")))))))))))))) | AP10: =IF(Jeudi!H$17=$A9,Jeudi!H$1,IF(Jeudi!H$18=$A9,Jeudi!H$1,IF(Jeudi!H$19=$A9,Jeudi!H$1,IF(Jeudi!H$20=$A9,Jeudi!H$1,IF(Jeudi!H$21=$A9,Jeudi!H$1,IF(Jeudi!H$22=$A9,Jeudi!H$1,IF(Jeudi!H$23=$A9,Jeudi!H$1,IF(Jeudi!H$24=$A9,Jeudi!H$1,IF(Jeudi!H$25=$A9,Jeudi!H$1,IF(Jeudi!H$26=$A9,Jeudi!H$1,IF(Jeudi!H$27=$A9,Jeudi!H$1,IF(Jeudi!H$28=$A9,Jeudi!H$1,IF(Jeudi!H$29=$A9,Jeudi!H$1,IF(Jeudi!H$30=$A9,Jeudi!H$1,"")))))))))))))) | AQ10: =IF(Jeudi!I$17=$A9,Jeudi!I$1,IF(Jeudi!I$18=$A9,Jeudi!I$1,IF(Jeudi!I$19=$A9,Jeudi!I$1,IF(Jeudi!I$20=$A9,Jeudi!I$1,IF(Jeudi!I$21=$A9,Jeudi!I$1,IF(Jeudi!I$22=$A9,Jeudi!I$1,IF(Jeudi!I$23=$A9,Jeudi!I$1,IF(Jeudi!I$24=$A9,Jeudi!I$1,IF(Jeudi!I$25=$A9,Jeudi!I$1,IF(Jeudi!I$26=$A9,Jeudi!I$1,IF(Jeudi!I$27=$A9,Jeudi!I$1,IF(Jeudi!I$28=$A9,Jeudi!I$1,IF(Jeudi!I$29=$A9,Jeudi!I$1,IF(Jeudi!I$30=$A9,Jeudi!I$1,"")))))))))))))) | AR10: =IF(Jeudi!J$17=$A9,Jeudi!J$1,IF(Jeudi!J$18=$A9,Jeudi!J$1,IF(Jeudi!J$19=$A9,Jeudi!J$1,IF(Jeudi!J$20=$A9,Jeudi!J$1,IF(Jeudi!J$21=$A9,Jeudi!J$1,IF(Jeudi!J$22=$A9,Jeudi!J$1,IF(Jeudi!J$23=$A9,Jeudi!J$1,IF(Jeudi!J$24=$A9,Jeudi!J$1,IF(Jeudi!J$25=$A9,Jeudi!J$1,IF(Jeudi!J$26=$A9,Jeudi!J$1,IF(Jeudi!J$27=$A9,Jeudi!J$1,IF(Jeudi!J$28=$A9,Jeudi!J$1,IF(Jeudi!J$29=$A9,Jeudi!J$1,IF(Jeudi!J$30=$A9,Jeudi!J$1,"")))))))))))))) | AS10: =IF(Vendredi!B$17=$A9,Vendredi!B$1,IF(Vendredi!B$18=$A9,Vendredi!B$1,IF(Vendredi!B$19=$A9,Vendredi!B$1,IF(Vendredi!B$20=$A9,Vendredi!B$1,IF(Vendredi!B$21=$A9,Vendredi!B$1,IF(Vendredi!B$22=$A9,Vendredi!B$1,IF(Vendredi!B$23=$A9,Vendredi!B$1,IF(Vendredi!B$24=$A9,Vendredi!B$1,IF(Vendredi!B$25=$A9,Vendredi!B$1,IF(Vendredi!B$26=$A9,Vendredi!B$1,IF(Vendredi!B$27=$A9,Vendredi!B$1,IF(Vendredi!B$28=$A9,Vendredi!B$1,IF(Vendredi!B$29=$A9,Vendredi!B$1,IF(Vendredi!B$30=$A9,Vendredi!B$1,"")))))))))))))) | AT10: =IF(Vendredi!C$17=$A9,Vendredi!C$1,IF(Vendredi!C$18=$A9,Vendredi!C$1,IF(Vendredi!C$19=$A9,Vendredi!C$1,IF(Vendredi!C$20=$A9,Vendredi!C$1,IF(Vendredi!C$21=$A9,Vendredi!C$1,IF(Vendredi!C$22=$A9,Vendredi!C$1,IF(Vendredi!C$23=$A9,Vendredi!C$1,IF(Vendredi!C$24=$A9,Vendredi!C$1,IF(Vendredi!C$25=$A9,Vendredi!C$1,IF(Vendredi!C$26=$A9,Vendredi!C$1,IF(Vendredi!C$27=$A9,Vendredi!C$1,IF(Vendredi!C$28=$A9,Vendredi!C$1,IF(Vendredi!C$29=$A9,Vendredi!C$1,IF(Vendredi!C$30=$A9,Vendredi!C$1,"")))))))))))))) | AU10: =IF(Vendredi!D$17=$A9,Vendredi!D$1,IF(Vendredi!D$18=$A9,Vendredi!D$1,IF(Vendredi!D$19=$A9,Vendredi!D$1,IF(Vendredi!D$20=$A9,Vendredi!D$1,IF(Vendredi!D$21=$A9,Vendredi!D$1,IF(Vendredi!D$22=$A9,Vendredi!D$1,IF(Vendredi!D$23=$A9,Vendredi!D$1,IF(Vendredi!D$24=$A9,Vendredi!D$1,IF(Vendredi!D$25=$A9,Vendredi!D$1,IF(Vendredi!D$26=$A9,Vendredi!D$1,IF(Vendredi!D$27=$A9,Vendredi!D$1,IF(Vendredi!D$28=$A9,Vendredi!D$1,IF(Vendredi!D$29=$A9,Vendredi!D$1,IF(Vendredi!D$30=$A9,Vendredi!D$1,"")))))))))))))) | AV10: =IF(Vendredi!E$17=$A9,Vendredi!E$1,IF(Vendredi!E$18=$A9,Vendredi!E$1,IF(Vendredi!E$19=$A9,Vendredi!E$1,IF(Vendredi!E$20=$A9,Vendredi!E$1,IF(Vendredi!E$21=$A9,Vendredi!E$1,IF(Vendredi!E$22=$A9,Vendredi!E$1,IF(Vendredi!E$23=$A9,Vendredi!E$1,IF(Vendredi!E$24=$A9,Vendredi!E$1,IF(Vendredi!E$25=$A9,Vendredi!E$1,IF(Vendredi!E$26=$A9,Vendredi!E$1,IF(Vendredi!E$27=$A9,Vendredi!E$1,IF(Vendredi!E$28=$A9,Vendredi!E$1,IF(Vendredi!E$29=$A9,Vendredi!E$1,IF(Vendredi!E$30=$A9,Vendredi!E$1,"")))))))))))))) -> Espace vert | AW10: =IF(Vendredi!F$17=$A9,Vendredi!F$1,IF(Vendredi!F$18=$A9,Vendredi!F$1,IF(Vendredi!F$19=$A9,Vendredi!F$1,IF(Vendredi!F$20=$A9,Vendredi!F$1,IF(Vendredi!F$21=$A9,Vendredi!F$1,IF(Vendredi!F$22=$A9,Vendredi!F$1,IF(Vendredi!F$23=$A9,Vendredi!F$1,IF(Vendredi!F$24=$A9,Vendredi!F$1,IF(Vendredi!F$25=$A9,Vendredi!F$1,IF(Vendredi!F$26=$A9,Vendredi!F$1,IF(Vendredi!F$27=$A9,Vendredi!F$1,IF(Vendredi!F$28=$A9,Vendredi!F$1,IF(Vendredi!F$29=$A9,Vendredi!F$1,IF(Vendredi!F$30=$A9,Vendredi!F$1,"")))))))))))))) | AX10: =IF(Vendredi!G$17=$A9,Vendredi!G$1,IF(Vendredi!G$18=$A9,Vendredi!G$1,IF(Vendredi!G$19=$A9,Vendredi!G$1,IF(Vendredi!G$20=$A9,Vendredi!G$1,IF(Vendredi!G$21=$A9,Vendredi!G$1,IF(Vendredi!G$22=$A9,Vendredi!G$1,IF(Vendredi!G$23=$A9,Vendredi!G$1,IF(Vendredi!G$24=$A9,Vendredi!G$1,IF(Vendredi!G$25=$A9,Vendredi!G$1,IF(Vendredi!G$26=$A9,Vendredi!G$1,IF(Vendredi!G$27=$A9,Vendredi!G$1,IF(Vendredi!G$28=$A9,Vendredi!G$1,IF(Vendredi!G$29=$A9,Vendredi!G$1,IF(Vendredi!G$30=$A9,Vendredi!G$1,"")))))))))))))) | AY10: =IF(Vendredi!H$17=$A9,Vendredi!H$1,IF(Vendredi!H$18=$A9,Vendredi!H$1,IF(Vendredi!H$19=$A9,Vendredi!H$1,IF(Vendredi!H$20=$A9,Vendredi!H$1,IF(Vendredi!H$21=$A9,Vendredi!H$1,IF(Vendredi!H$22=$A9,Vendredi!H$1,IF(Vendredi!H$23=$A9,Vendredi!H$1,IF(Vendredi!H$24=$A9,Vendredi!H$1,IF(Vendredi!H$25=$A9,Vendredi!H$1,IF(Vendredi!H$26=$A9,Vendredi!H$1,IF(Vendredi!H$27=$A9,Vendredi!H$1,IF(Vendredi!H$28=$A9,Vendredi!H$1,IF(Vendredi!H$29=$A9,Vendredi!H$1,IF(Vendredi!H$30=$A9,Vendredi!H$1,"")))))))))))))) | AZ10: =IF(Vendredi!I$17=$A9,Vendredi!I$1,IF(Vendredi!I$18=$A9,Vendredi!I$1,IF(Vendredi!I$19=$A9,Vendredi!I$1,IF(Vendredi!I$20=$A9,Vendredi!I$1,IF(Vendredi!I$21=$A9,Vendredi!I$1,IF(Vendredi!I$22=$A9,Vendredi!I$1,IF(Vendredi!I$23=$A9,Vendredi!I$1,IF(Vendredi!I$24=$A9,Vendredi!I$1,IF(Vendredi!I$25=$A9,Vendredi!I$1,IF(Vendredi!I$26=$A9,Vendredi!I$1,IF(Vendredi!I$27=$A9,Vendredi!I$1,IF(Vendredi!I$28=$A9,Vendredi!I$1,IF(Vendredi!I$29=$A9,Vendredi!I$1,IF(Vendredi!I$30=$A9,Vendredi!I$1,"")))))))))))))) | BA10: =IF(Vendredi!J$17=$A9,Vendredi!J$1,IF(Vendredi!J$18=$A9,Vendredi!J$1,IF(Vendredi!J$19=$A9,Vendredi!J$1,IF(Vendredi!J$20=$A9,Vendredi!J$1,IF(Vendredi!J$21=$A9,Vendredi!J$1,IF(Vendredi!J$22=$A9,Vendredi!J$1,IF(Vendredi!J$23=$A9,Vendredi!J$1,IF(Vendredi!J$24=$A9,Vendredi!J$1,IF(Vendredi!J$25=$A9,Vendredi!J$1,IF(Vendredi!J$26=$A9,Vendredi!J$1,IF(Vendredi!J$27=$A9,Vendredi!J$1,IF(Vendredi!J$28=$A9,Vendredi!J$1,IF(Vendredi!J$29=$A9,Vendredi!J$1,IF(Vendredi!J$30=$A9,Vendredi!J$1,""))))))))))))))
A12: Amandine | B12: Matin | C12: =I12&J12&K12&L12&M12&N12&O12&P12&Q12 -> Classe B | D12: =R12&S12&T12&U12&V12&W12&X12&Y12&Z12 -> Restaurant | E12: =AA12&AB12&AC12&AD12&AE12&AF12&AG12&AH12&AI12 -> Espace vert | F12: =AJ12&AK12&AL12&AM12&AN12&AO12&AP12&AQ12&AR12 -> Horti | G12: =AS12&AT12&AU12&AV12&AW12&AX12&AY12&AZ12&BA12 -> At. Polyvalent | I12: =IF(Lundi!B$2=$A12,Lundi!B$1,IF(Lundi!B$3=$A12,Lundi!B$1,IF(Lundi!B$4=$A12,Lundi!B$1,IF(Lundi!B$5=$A12,Lundi!B$1,IF(Lundi!B$6=$A12,Lundi!B$1,IF(Lundi!B$7=$A12,Lundi!B$1,IF(Lundi!B$8=$A12,Lundi!B$1,IF(Lundi!B$9=$A12,Lundi!B$1,IF(Lundi!B$10=$A12,Lundi!B$1,IF(Lundi!B$11=$A12,Lundi!B$1,IF(Lundi!B$12=$A12,Lundi!B$1,IF(Lundi!B$13=$A12,Lundi!B$1,IF(Lundi!B$14=$A12,Lundi!B$1,IF(Lundi!B$15=$A12,Lundi!B$1,"")))))))))))))) -> Classe B | J12: =IF(Lundi!C$2=$A12,Lundi!C$1,IF(Lundi!C$3=$A12,Lundi!C$1,IF(Lundi!C$4=$A12,Lundi!C$1,IF(Lundi!C$5=$A12,Lundi!C$1,IF(Lundi!C$6=$A12,Lundi!C$1,IF(Lundi!C$7=$A12,Lundi!C$1,IF(Lundi!C$8=$A12,Lundi!C$1,IF(Lundi!C$9=$A12,Lundi!C$1,IF(Lundi!C$10=$A12,Lundi!C$1,IF(Lundi!C$11=$A12,Lundi!C$1,IF(Lundi!C$12=$A12,Lundi!C$1,IF(Lundi!C$13=$A12,Lundi!C$1,IF(Lundi!C$14=$A12,Lundi!C$1,IF(Lundi!C$15=$A12,Lundi!C$1,"")))))))))))))) | K12: =IF(Lundi!D$2=$A12,Lundi!D$1,IF(Lundi!D$3=$A12,Lundi!D$1,IF(Lundi!D$4=$A12,Lundi!D$1,IF(Lundi!D$5=$A12,Lundi!D$1,IF(Lundi!D$6=$A12,Lundi!D$1,IF(Lundi!D$7=$A12,Lundi!D$1,IF(Lundi!D$8=$A12,Lundi!D$1,IF(Lundi!D$9=$A12,Lundi!D$1,IF(Lundi!D$10=$A12,Lundi!D$1,IF(Lundi!D$11=$A12,Lundi!D$1,IF(Lundi!D$12=$A12,Lundi!D$1,IF(Lundi!D$13=$A12,Lundi!D$1,IF(Lundi!D$14=$A12,Lundi!D$1,IF(Lundi!D$15=$A12,Lundi!D$1,"")))))))))))))) | L12: =IF(Lundi!E11=$A12,Lundi!E$1,IF(Lundi!E12=$A12,Lundi!E$1,IF(Lundi!E13=$A12,Lundi!E$1,IF(Lundi!E14=$A12,Lundi!E$1,IF(Lundi!E15=$A12,Lundi!E$1,IF(Lundi!E16=$A12,Lundi!E$1,IF(Lundi!E17=$A12,Lundi!E$1,IF(Lundi!E18=$A12,Lundi!E$1,IF(Lundi!E19=$A12,Lundi!E$1,IF(Lundi!E20=$A12,Lundi!E$1,IF(Lundi!E21=$A12,Lundi!E$1,IF(Lundi!E22=$A12,Lundi!E$1,IF(Lundi!E23=$A12,Lundi!E$1,IF(Lundi!E24=$A12,Lundi!E$1,"")))))))))))))) | M12: =IF(Lundi!F11=$A12,Lundi!F$1,IF(Lundi!F12=$A12,Lundi!F$1,IF(Lundi!F13=$A12,Lundi!F$1,IF(Lundi!F14=$A12,Lundi!F$1,IF(Lundi!F15=$A12,Lundi!F$1,IF(Lundi!F16=$A12,Lundi!F$1,IF(Lundi!F17=$A12,Lundi!F$1,IF(Lundi!F18=$A12,Lundi!F$1,IF(Lundi!F19=$A12,Lundi!F$1,IF(Lundi!F20=$A12,Lundi!F$1,IF(Lundi!F21=$A12,Lundi!F$1,IF(Lundi!F22=$A12,Lundi!F$1,IF(Lundi!F23=$A12,Lundi!F$1,IF(Lundi!F24=$A12,Lundi!F$1,"")))))))))))))) | R12: =IF(Mardi!B$2=$A12,Mardi!B$1,IF(Mardi!B$3=$A12,Mardi!B$1,IF(Mardi!B$4=$A12,Mardi!B$1,IF(Mardi!B$5=$A12,Mardi!B$1,IF(Mardi!B$6=$A12,Mardi!B$1,IF(Mardi!B$7=$A12,Mardi!B$1,IF(Mardi!B$8=$A12,Mardi!B$1,IF(Mardi!B$9=$A12,Mardi!B$1,IF(Mardi!B$10=$A12,Mardi!B$1,IF(Mardi!B$11=$A12,Mardi!B$1,IF(Mardi!B$12=$A12,Mardi!B$1,IF(Mardi!B$13=$A12,Mardi!B$1,IF(Mardi!B$14=$A12,Mardi!B$1,IF(Mardi!B$15=$A12,Mardi!B$1,"")))))))))))))) | S12: =IF(Mardi!C$2=$A12,Mardi!C$1,IF(Mardi!C$3=$A12,Mardi!C$1,IF(Mardi!C$4=$A12,Mardi!C$1,IF(Mardi!C$5=$A12,Mardi!C$1,IF(Mardi!C$6=$A12,Mardi!C$1,IF(Mardi!C$7=$A12,Mardi!C$1,IF(Mardi!C$8=$A12,Mardi!C$1,IF(Mardi!C$9=$A12,Mardi!C$1,IF(Mardi!C$10=$A12,Mardi!C$1,IF(Mardi!C$11=$A12,Mardi!C$1,IF(Mardi!C$12=$A12,Mardi!C$1,IF(Mardi!C$13=$A12,Mardi!C$1,IF(Mardi!C$14=$A12,Mardi!C$1,IF(Mardi!C$15=$A12,Mardi!C$1,"")))))))))))))) -> Restaurant | T12: =IF(Mardi!D$2=$A12,Mardi!D$1,IF(Mardi!D$3=$A12,Mardi!D$1,IF(Mardi!D$4=$A12,Mardi!D$1,IF(Mardi!D$5=$A12,Mardi!D$1,IF(Mardi!D$6=$A12,Mardi!D$1,IF(Mardi!D$7=$A12,Mardi!D$1,IF(Mardi!D$8=$A12,Mardi!D$1,IF(Mardi!D$9=$A12,Mardi!D$1,IF(Mardi!D$10=$A12,Mardi!D$1,IF(Mardi!D$11=$A12,Mardi!D$1,IF(Mardi!D$12=$A12,Mardi!D$1,IF(Mardi!D$13=$A12,Mardi!D$1,IF(Mardi!D$14=$A12,Mardi!D$1,IF(Mardi!D$15=$A12,Mardi!D$1,"")))))))))))))) | U12: =IF(Mardi!E$2=$A12,Mardi!E$1,IF(Mardi!E$3=$A12,Mardi!E$1,IF(Mardi!E$4=$A12,Mardi!E$1,IF(Mardi!E$5=$A12,Mardi!E$1,IF(Mardi!E$6=$A12,Mardi!E$1,IF(Mardi!E$7=$A12,Mardi!E$1,IF(Mardi!E$8=$A12,Mardi!E$1,IF(Mardi!E$9=$A12,Mardi!E$1,IF(Mardi!E$10=$A12,Mardi!E$1,IF(Mardi!E$11=$A12,Mardi!E$1,IF(Mardi!E$12=$A12,Mardi!E$1,IF(Mardi!E$13=$A12,Mardi!E$1,IF(Mardi!E$14=$A12,Mardi!E$1,IF(Mardi!E$15=$A12,Mardi!E$1,"")))))))))))))) | V12: =IF(Mardi!F$2=$A12,Mardi!F$1,IF(Mardi!F$3=$A12,Mardi!F$1,IF(Mardi!F$4=$A12,Mardi!F$1,IF(Mardi!F$5=$A12,Mardi!F$1,IF(Mardi!F$6=$A12,Mardi!F$1,IF(Mardi!F$7=$A12,Mardi!F$1,IF(Mardi!F$8=$A12,Mardi!F$1,IF(Mardi!F$9=$A12,Mardi!F$1,IF(Mardi!F$10=$A12,Mardi!F$1,IF(Mardi!F$11=$A12,Mardi!F$1,IF(Mardi!F$12=$A12,Mardi!F$1,IF(Mardi!F$13=$A12,Mardi!F$1,IF(Mardi!F$14=$A12,Mardi!F$1,IF(Mardi!F$15=$A12,Mardi!F$1,"")))))))))))))) | W12: =IF(Mardi!G$2=$A12,Mardi!G$1,IF(Mardi!G$3=$A12,Mardi!G$1,IF(Mardi!G$4=$A12,Mardi!G$1,IF(Mardi!G$5=$A12,Mardi!G$1,IF(Mardi!G$6=$A12,Mardi!G$1,IF(Mardi!G$7=$A12,Mardi!G$1,IF(Mardi!G$8=$A12,Mardi!G$1,IF(Mardi!G$9=$A12,Mardi!G$1,IF(Mardi!G$10=$A12,Mardi!G$1,IF(Mardi!G$11=$A12,Mardi!G$1,IF(Mardi!G$12=$A12,Mardi!G$1,IF(Mardi!G$13=$A12,Mardi!G$1,IF(Mardi!G$14=$A12,Mardi!G$1,IF(Mardi!G$15=$A12,Mardi!G$1,"")))))))))))))) | X12: =IF(Mardi!H$2=$A12,Mardi!H$1,IF(Mardi!H$3=$A12,Mardi!H$1,IF(Mardi!H$4=$A12,Mardi!H$1,IF(Mardi!H$5=$A12,Mardi!H$1,IF(Mardi!H$6=$A12,Mardi!H$1,IF(Mardi!H$7=$A12,Mardi!H$1,IF(Mardi!H$8=$A12,Mardi!H$1,IF(Mardi!H$9=$A12,Mardi!H$1,IF(Mardi!H$10=$A12,Mardi!H$1,IF(Mardi!H$11=$A12,Mardi!H$1,IF(Mardi!H$12=$A12,Mardi!H$1,IF(Mardi!H$13=$A12,Mardi!H$1,IF(Mardi!H$14=$A12,Mardi!H$1,IF(Mardi!H$15=$A12,Mardi!H$1,"")))))))))))))) | Y12: =IF(Mardi!I$2=$A12,Mardi!I$1,IF(Mardi!I$3=$A12,Mardi!I$1,IF(Mardi!I$4=$A12,Mardi!I$1,IF(Mardi!I$5=$A12,Mardi!I$1,IF(Mardi!I$6=$A12,Mardi!I$1,IF(Mardi!I$7=$A12,Mardi!I$1,IF(Mardi!I$8=$A12,Mardi!I$1,IF(Mardi!I$9=$A12,Mardi!I$1,IF(Mardi!I$10=$A12,Mardi!I$1,IF(Mardi!I$11=$A12,Mardi!I$1,IF(Mardi!I$12=$A12,Mardi!I$1,IF(Mardi!I$13=$A12,Mardi!I$1,IF(Mardi!I$14=$A12,Mardi!I$1,IF(Mardi!I$15=$A12,Mardi!I$1,"")))))))))))))) | Z12: =IF(Mardi!J$2=$A12,Mardi!J$1,IF(Mardi!J$3=$A12,Mardi!J$1,IF(Mardi!J$4=$A12,Mardi!J$1,IF(Mardi!J$5=$A12,Mardi!J$1,IF(Mardi!J$6=$A12,Mardi!J$1,IF(Mardi!J$7=$A12,Mardi!J$1,IF(Mardi!J$8=$A12,Mardi!J$1,IF(Mardi!J$9=$A12,Mardi!J$1,IF(Mardi!J$10=$A12,Mardi!J$1,IF(Mardi!J$11=$A12,Mardi!J$1,IF(Mardi!J$12=$A12,Mardi!J$1,IF(Mardi!J$13=$A12,Mardi!J$1,IF(Mardi!J$14=$A12,Mardi!J$1,IF(Mardi!J$15=$A12,Mardi!J$1,"")))))))))))))) | AA12: =IF(Mercredi!B$2=$A12,Mercredi!B$1,IF(Mercredi!B$3=$A12,Mercredi!B$1,IF(Mercredi!B$4=$A12,Mercredi!B$1,IF(Mercredi!B$5=$A12,Mercredi!B$1,IF(Mercredi!B$6=$A12,Mercredi!B$1,IF(Mercredi!B$7=$A12,Mercredi!B$1,IF(Mercredi!B$8=$A12,Mercredi!B$1,IF(Mercredi!B$9=$A12,Mercredi!B$1,IF(Mercredi!B$10=$A12,Mercredi!B$1,IF(Mercredi!B$11=$A12,Mercredi!B$1,IF(Mercredi!B$12=$A12,Mercredi!B$1,IF(Mercredi!B$13=$A12,Mercredi!B$1,IF(Mercredi!B$14=$A12,Mercredi!B$1,IF(Mercredi!B$15=$A12,Mercredi!B$1,"")))))))))))))) | AB12: =IF(Mercredi!C$2=$A12,Mercredi!C$1,IF(Mercredi!C$3=$A12,Mercredi!C$1,IF(Mercredi!C$4=$A12,Mercredi!C$1,IF(Mercredi!C$5=$A12,Mercredi!C$1,IF(Mercredi!C$6=$A12,Mercredi!C$1,IF(Mercredi!C$7=$A12,Mercredi!C$1,IF(Mercredi!C$8=$A12,Mercredi!C$1,IF(Mercredi!C$9=$A12,Mercredi!C$1,IF(Mercredi!C$10=$A12,Mercredi!C$1,IF(Mercredi!C$11=$A12,Mercredi!C$1,IF(Mercredi!C$12=$A12,Mercredi!C$1,IF(Mercredi!C$13=$A12,Mercredi!C$1,IF(Mercredi!C$14=$A12,Mercredi!C$1,IF(Mercredi!C$15=$A12,Mercredi!C$1,"")))))))))))))) | AC12: =IF(Mercredi!D$2=$A12,Mercredi!D$1,IF(Mercredi!D$3=$A12,Mercredi!D$1,IF(Mercredi!D$4=$A12,Mercredi!D$1,IF(Mercredi!D$5=$A12,Mercredi!D$1,IF(Mercredi!D$6=$A12,Mercredi!D$1,IF(Mercredi!D$7=$A12,Mercredi!D$1,IF(Mercredi!D$8=$A12,Mercredi!D$1,IF(Mercredi!D$9=$A12,Mercredi!D$1,IF(Mercredi!D$10=$A12,Mercredi!D$1,IF(Mercredi!D$11=$A12,Mercredi!D$1,IF(Mercredi!D$12=$A12,Mercredi!D$1,IF(Mercredi!D$13=$A12,Mercredi!D$1,IF(Mercredi!D$14=$A12,Mercredi!D$1,IF(Mercredi!D$15=$A12,Mercredi!D$1,"")))))))))))))) | AD12: =IF(Mercredi!E$2=$A12,Mercredi!E$1,IF(Mercredi!E$3=$A12,Mercredi!E$1,IF(Mercredi!E$4=$A12,Mercredi!E$1,IF(Mercredi!E$5=$A12,Mercredi!E$1,IF(Mercredi!E$6=$A12,Mercredi!E$1,IF(Mercredi!E$7=$A12,Mercredi!E$1,IF(Mercredi!E$8=$A12,Mercredi!E$1,IF(Mercredi!E$9=$A12,Mercredi!E$1,IF(Mercredi!E$10=$A12,Mercredi!E$1,IF(Mercredi!E$11=$A12,Mercredi!E$1,IF(Mercredi!E$12=$A12,Mercredi!E$1,IF(Mercredi!E$13=$A12,Mercredi!E$1,IF(Mercredi!E$14=$A12,Mercredi!E$1,IF(Mercredi!E$15=$A12,Mercredi!E$1,"")))))))))))))) -> Espace vert | AE12: =IF(Mercredi!F$2=$A12,Mercredi!F$1,IF(Mercredi!F$3=$A12,Mercredi!F$1,IF(Mercredi!F$4=$A12,Mercredi!F$1,IF(Mercredi!F$5=$A12,Mercredi!F$1,IF(Mercredi!F$6=$A12,Mercredi!F$1,IF(Mercredi!F$7=$A12,Mercredi!F$1,IF(Mercredi!F$8=$A12,Mercredi!F$1,IF(Mercredi!F$9=$A12,Mercredi!F$1,IF(Mercredi!F$10=$A12,Mercredi!F$1,IF(Mercredi!F$11=$A12,Mercredi!F$1,IF(Mercredi!F$12=$A12,Mercredi!F$1,IF(Mercredi!F$13=$A12,Mercredi!F$1,IF(Mercredi!F$14=$A12,Mercredi!F$1,IF(Mercredi!F$15=$A12,Mercredi!F$1,"")))))))))))))) | AF12: =IF(Mercredi!G$2=$A12,Mercredi!G$1,IF(Mercredi!G$3=$A12,Mercredi!G$1,IF(Mercredi!G$4=$A12,Mercredi!G$1,IF(Mercredi!G$5=$A12,Mercredi!G$1,IF(Mercredi!G$6=$A12,Mercredi!G$1,IF(Mercredi!G$7=$A12,Mercredi!G$1,IF(Mercredi!G$8=$A12,Mercredi!G$1,IF(Mercredi!G$9=$A12,Mercredi!G$1,IF(Mercredi!G$10=$A12,Mercredi!G$1,IF(Mercredi!G$11=$A12,Mercredi!G$1,IF(Mercredi!G$12=$A12,Mercredi!G$1,IF(Mercredi!G$13=$A12,Mercredi!G$1,IF(Mercredi!G$14=$A12,Mercredi!G$1,IF(Mercredi!G$15=$A12,Mercredi!G$1,"")))))))))))))) | AG12: =IF(Mercredi!H$2=$A12,Mercredi!H$1,IF(Mercredi!H$3=$A12,Mercredi!H$1,IF(Mercredi!H$4=$A12,Mercredi!H$1,IF(Mercredi!H$5=$A12,Mercredi!H$1,IF(Mercredi!H$6=$A12,Mercredi!H$1,IF(Mercredi!H$7=$A12,Mercredi!H$1,IF(Mercredi!H$8=$A12,Mercredi!H$1,IF(Mercredi!H$9=$A12,Mercredi!H$1,IF(Mercredi!H$10=$A12,Mercredi!H$1,IF(Mercredi!H$11=$A12,Mercredi!H$1,IF(Mercredi!H$12=$A12,Mercredi!H$1,IF(Mercredi!H$13=$A12,Mercredi!H$1,IF(Mercredi!H$14=$A12,Mercredi!H$1,IF(Mercredi!H$15=$A12,Mercredi!H$1,"")))))))))))))) | AH12: =IF(Mercredi!I$2=$A12,Mercredi!I$1,IF(Mercredi!I$3=$A12,Mercredi!I$1,IF(Mercredi!I$4=$A12,Mercredi!I$1,IF(Mercredi!I$5=$A12,Mercredi!I$1,IF(Mercredi!I$6=$A12,Mercredi!I$1,IF(Mercredi!I$7=$A12,Mercredi!I$1,IF(Mercredi!I$8=$A12,Mercredi!I$1,IF(Mercredi!I$9=$A12,Mercredi!I$1,IF(Mercredi!I$10=$A12,Mercredi!I$1,IF(Mercredi!I$11=$A12,Mercredi!I$1,IF(Mercredi!I$12=$A12,Mercredi!I$1,IF(Mercredi!I$13=$A12,Mercredi!I$1,IF(Mercredi!I$14=$A12,Mercredi!I$1,IF(Mercredi!I$15=$A12,Mercredi!I$1,"")))))))))))))) | AI12: =IF(Mercredi!J$2=$A12,Mercredi!J$1,IF(Mercredi!J$3=$A12,Mercredi!J$1,IF(Mercredi!J$4=$A12,Mercredi!J$1,IF(Mercredi!J$5=$A12,Mercredi!J$1,IF(Mercredi!J$6=$A12,Mercredi!J$1,IF(Mercredi!J$7=$A12,Mercredi!J$1,IF(Mercredi!J$8=$A12,Mercredi!J$1,IF(Mercredi!J$9=$A12,Mercredi!J$1,IF(Mercredi!J$10=$A12,Mercredi!J$1,IF(Mercredi!J$11=$A12,Mercredi!J$1,IF(Mercredi!J$12=$A12,Mercredi!J$1,IF(Mercredi!J$13=$A12,Mercredi!J$1,IF(Mercredi!J$14=$A12,Mercredi!J$1,IF(Mercredi!J$15=$A12,Mercredi!J$1,"")))))))))))))) | AJ12: =IF(Jeudi!B$2=$A12,Jeudi!B$1,IF(Jeudi!B$3=$A12,Jeudi!B$1,IF(Jeudi!B$4=$A12,Jeudi!B$1,IF(Jeudi!B$5=$A12,Jeudi!B$1,IF(Jeudi!B$6=$A12,Jeudi!B$1,IF(Jeudi!B$7=$A12,Jeudi!B$1,IF(Jeudi!B$8=$A12,Jeudi!B$1,IF(Jeudi!B$9=$A12,Jeudi!B$1,IF(Jeudi!B$10=$A12,Jeudi!B$1,IF(Jeudi!B$11=$A12,Jeudi!B$1,IF(Jeudi!B$12=$A12,Jeudi!B$1,IF(Jeudi!B$13=$A12,Jeudi!B$1,IF(Jeudi!B$14=$A12,Jeudi!B$1,IF(Jeudi!B$15=$A12,Jeudi!B$1,"")))))))))))))) | AK12: =IF(Jeudi!C$2=$A12,Jeudi!C$1,IF(Jeudi!C$3=$A12,Jeudi!C$1,IF(Jeudi!C$4=$A12,Jeudi!C$1,IF(Jeudi!C$5=$A12,Jeudi!C$1,IF(Jeudi!C$6=$A12,Jeudi!C$1,IF(Jeudi!C$7=$A12,Jeudi!C$1,IF(Jeudi!C$8=$A12,Jeudi!C$1,IF(Jeudi!C$9=$A12,Jeudi!C$1,IF(Jeudi!C$10=$A12,Jeudi!C$1,IF(Jeudi!C$11=$A12,Jeudi!C$1,IF(Jeudi!C$12=$A12,Jeudi!C$1,IF(Jeudi!C$13=$A12,Jeudi!C$1,IF(Jeudi!C$14=$A12,Jeudi!C$1,IF(Jeudi!C$15=$A12,Jeudi!C$1,"")))))))))))))) | AL12: =IF(Jeudi!D$2=$A12,Jeudi!D$1,IF(Jeudi!D$3=$A12,Jeudi!D$1,IF(Jeudi!D$4=$A12,Jeudi!D$1,IF(Jeudi!D$5=$A12,Jeudi!D$1,IF(Jeudi!D$6=$A12,Jeudi!D$1,IF(Jeudi!D$7=$A12,Jeudi!D$1,IF(Jeudi!D$8=$A12,Jeudi!D$1,IF(Jeudi!D$9=$A12,Jeudi!D$1,IF(Jeudi!D$10=$A12,Jeudi!D$1,IF(Jeudi!D$11=$A12,Jeudi!D$1,IF(Jeudi!D$12=$A12,Jeudi!D$1,IF(Jeudi!D$13=$A12,Jeudi!D$1,IF(Jeudi!D$14=$A12,Jeudi!D$1,IF(Jeudi!D$15=$A12,Jeudi!D$1,"")))))))))))))) | AM12: =IF(Jeudi!E$2=$A12,Jeudi!E$1,IF(Jeudi!E$3=$A12,Jeudi!E$1,IF(Jeudi!E$4=$A12,Jeudi!E$1,IF(Jeudi!E$5=$A12,Jeudi!E$1,IF(Jeudi!E$6=$A12,Jeudi!E$1,IF(Jeudi!E$7=$A12,Jeudi!E$1,IF(Jeudi!E$8=$A12,Jeudi!E$1,IF(Jeudi!E$9=$A12,Jeudi!E$1,IF(Jeudi!E$10=$A12,Jeudi!E$1,IF(Jeudi!E$11=$A12,Jeudi!E$1,IF(Jeudi!E$12=$A12,Jeudi!E$1,IF(Jeudi!E$13=$A12,Jeudi!E$1,IF(Jeudi!E$14=$A12,Jeudi!E$1,IF(Jeudi!E$15=$A12,Jeudi!E$1,"")))))))))))))) | AN12: =IF(Jeudi!F$2=$A12,Jeudi!F$1,IF(Jeudi!F$3=$A12,Jeudi!F$1,IF(Jeudi!F$4=$A12,Jeudi!F$1,IF(Jeudi!F$5=$A12,Jeudi!F$1,IF(Jeudi!F$6=$A12,Jeudi!F$1,IF(Jeudi!F$7=$A12,Jeudi!F$1,IF(Jeudi!F$8=$A12,Jeudi!F$1,IF(Jeudi!F$9=$A12,Jeudi!F$1,IF(Jeudi!F$10=$A12,Jeudi!F$1,IF(Jeudi!F$11=$A12,Jeudi!F$1,IF(Jeudi!F$12=$A12,Jeudi!F$1,IF(Jeudi!F$13=$A12,Jeudi!F$1,IF(Jeudi!F$14=$A12,Jeudi!F$1,IF(Jeudi!F$15=$A12,Jeudi!F$1,"")))))))))))))) | AO12: =IF(Jeudi!G$2=$A12,Jeudi!G$1,IF(Jeudi!G$3=$A12,Jeudi!G$1,IF(Jeudi!G$4=$A12,Jeudi!G$1,IF(Jeudi!G$5=$A12,Jeudi!G$1,IF(Jeudi!G$6=$A12,Jeudi!G$1,IF(Jeudi!G$7=$A12,Jeudi!G$1,IF(Jeudi!G$8=$A12,Jeudi!G$1,IF(Jeudi!G$9=$A12,Jeudi!G$1,IF(Jeudi!G$10=$A12,Jeudi!G$1,IF(Jeudi!G$11=$A12,Jeudi!G$1,IF(Jeudi!G$12=$A12,Jeudi!G$1,IF(Jeudi!G$13=$A12,Jeudi!G$1,IF(Jeudi!G$14=$A12,Jeudi!G$1,IF(Jeudi!G$15=$A12,Jeudi!G$1,"")))))))))))))) | AP12: =IF(Jeudi!H$2=$A12,Jeudi!H$1,IF(Jeudi!H$3=$A12,Jeudi!H$1,IF(Jeudi!H$4=$A12,Jeudi!H$1,IF(Jeudi!H$5=$A12,Jeudi!H$1,IF(Jeudi!H$6=$A12,Jeudi!H$1,IF(Jeudi!H$7=$A12,Jeudi!H$1,IF(Jeudi!H$8=$A12,Jeudi!H$1,IF(Jeudi!H$9=$A12,Jeudi!H$1,IF(Jeudi!H$10=$A12,Jeudi!H$1,IF(Jeudi!H$11=$A12,Jeudi!H$1,IF(Jeudi!H$12=$A12,Jeudi!H$1,IF(Jeudi!H$13=$A12,Jeudi!H$1,IF(Jeudi!H$14=$A12,Jeudi!H$1,IF(Jeudi!H$15=$A12,Jeudi!H$1,"")))))))))))))) -> Horti | AQ12: =IF(Jeudi!I$2=$A12,Jeudi!I$1,IF(Jeudi!I$3=$A12,Jeudi!I$1,IF(Jeudi!I$4=$A12,Jeudi!I$1,IF(Jeudi!I$5=$A12,Jeudi!I$1,IF(Jeudi!I$6=$A12,Jeudi!I$1,IF(Jeudi!I$7=$A12,Jeudi!I$1,IF(Jeudi!I$8=$A12,Jeudi!I$1,IF(Jeudi!I$9=$A12,Jeudi!I$1,IF(Jeudi!I$10=$A12,Jeudi!I$1,IF(Jeudi!I$11=$A12,Jeudi!I$1,IF(Jeudi!I$12=$A12,Jeudi!I$1,IF(Jeudi!I$13=$A12,Jeudi!I$1,IF(Jeudi!I$14=$A12,Jeudi!I$1,IF(Jeudi!I$15=$A12,Jeudi!I$1,"")))))))))))))) | AR12: =IF(Jeudi!J$2=$A12,Jeudi!J$1,IF(Jeudi!J$3=$A12,Jeudi!J$1,IF(Jeudi!J$4=$A12,Jeudi!J$1,IF(Jeudi!J$5=$A12,Jeudi!J$1,IF(Jeudi!J$6=$A12,Jeudi!J$1,IF(Jeudi!J$7=$A12,Jeudi!J$1,IF(Jeudi!J$8=$A12,Jeudi!J$1,IF(Jeudi!J$9=$A12,Jeudi!J$1,IF(Jeudi!J$10=$A12,Jeudi!J$1,IF(Jeudi!J$11=$A12,Jeudi!J$1,IF(Jeudi!J$12=$A12,Jeudi!J$1,IF(Jeudi!J$13=$A12,Jeudi!J$1,IF(Jeudi!J$14=$A12,Jeudi!J$1,IF(Jeudi!J$15=$A12,Jeudi!J$1,"")))))))))))))) | AS12: =IF(Vendredi!B$2=$A12,Vendredi!B$1,IF(Vendredi!B$3=$A12,Vendredi!B$1,IF(Vendredi!B$4=$A12,Vendredi!B$1,IF(Vendredi!B$5=$A12,Vendredi!B$1,IF(Vendredi!B$6=$A12,Vendredi!B$1,IF(Vendredi!B$7=$A12,Vendredi!B$1,IF(Vendredi!B$8=$A12,Vendredi!B$1,IF(Vendredi!B$9=$A12,Vendredi!B$1,IF(Vendredi!B$10=$A12,Vendredi!B$1,IF(Vendredi!B$11=$A12,Vendredi!B$1,IF(Vendredi!B$12=$A12,Vendredi!B$1,IF(Vendredi!B$13=$A12,Vendredi!B$1,IF(Vendredi!B$14=$A12,Vendredi!B$1,IF(Vendredi!B$15=$A12,Vendredi!B$1,"")))))))))))))) | AT12: =IF(Vendredi!C$2=$A12,Vendredi!C$1,IF(Vendredi!C$3=$A12,Vendredi!C$1,IF(Vendredi!C$4=$A12,Vendredi!C$1,IF(Vendredi!C$5=$A12,Vendredi!C$1,IF(Vendredi!C$6=$A12,Vendredi!C$1,IF(Vendredi!C$7=$A12,Vendredi!C$1,IF(Vendredi!C$8=$A12,Vendredi!C$1,IF(Vendredi!C$9=$A12,Vendredi!C$1,IF(Vendredi!C$10=$A12,Vendredi!C$1,IF(Vendredi!C$11=$A12,Vendredi!C$1,IF(Vendredi!C$12=$A12,Vendredi!C$1,IF(Vendredi!C$13=$A12,Vendredi!C$1,IF(Vendredi!C$14=$A12,Vendredi!C$1,IF(Vendredi!C$15=$A12,Vendredi!C$1,"")))))))))))))) | AU12: =IF(Vendredi!D$2=$A12,Vendredi!D$1,IF(Vendredi!D$3=$A12,Vendredi!D$1,IF(Vendredi!D$4=$A12,Vendredi!D$1,IF(Vendredi!D$5=$A12,Vendredi!D$1,IF(Vendredi!D$6=$A12,Vendredi!D$1,IF(Vendredi!D$7=$A12,Vendredi!D$1,IF(Vendredi!D$8=$A12,Vendredi!D$1,IF(Vendredi!D$9=$A12,Vendredi!D$1,IF(Vendredi!D$10=$A12,Vendredi!D$1,IF(Vendredi!D$11=$A12,Vendredi!D$1,IF(Vendredi!D$12=$A12,Vendredi!D$1,IF(Vendredi!D$13=$A12,Vendredi!D$1,IF(Vendredi!D$14=$A12,Vendredi!D$1,IF(Vendredi!D$15=$A12,Vendredi!D$1,"")))))))))))))) | AV12: =IF(Vendredi!E$2=$A12,Vendredi!E$1,IF(Vendredi!E$3=$A12,Vendredi!E$1,IF(Vendredi!E$4=$A12,Vendredi!E$1,IF(Vendredi!E$5=$A12,Vendredi!E$1,IF(Vendredi!E$6=$A12,Vendredi!E$1,IF(Vendredi!E$7=$A12,Vendredi!E$1,IF(Vendredi!E$8=$A12,Vendredi!E$1,IF(Vendredi!E$9=$A12,Vendredi!E$1,IF(Vendredi!E$10=$A12,Vendredi!E$1,IF(Vendredi!E$11=$A12,Vendredi!E$1,IF(Vendredi!E$12=$A12,Vendredi!E$1,IF(Vendredi!E$13=$A12,Vendredi!E$1,IF(Vendredi!E$14=$A12,Vendredi!E$1,IF(Vendredi!E$15=$A12,Vendredi!E$1,"")))))))))))))) | AW12: =IF(Vendredi!F$2=$A12,Vendredi!F$1,IF(Vendredi!F$3=$A12,Vendredi!F$1,IF(Vendredi!F$4=$A12,Vendredi!F$1,IF(Vendredi!F$5=$A12,Vendredi!F$1,IF(Vendredi!F$6=$A12,Vendredi!F$1,IF(Vendredi!F$7=$A12,Vendredi!F$1,IF(Vendredi!F$8=$A12,Vendredi!F$1,IF(Vendredi!F$9=$A12,Vendredi!F$1,IF(Vendredi!F$10=$A12,Vendredi!F$1,IF(Vendredi!F$11=$A12,Vendredi!F$1,IF(Vendredi!F$12=$A12,Vendredi!F$1,IF(Vendredi!F$13=$A12,Vendredi!F$1,IF(Vendredi!F$14=$A12,Vendredi!F$1,IF(Vendredi!F$15=$A12,Vendredi!F$1,"")))))))))))))) -> At. Polyvalent | AX12: =IF(Vendredi!G$2=$A12,Vendredi!G$1,IF(Vendredi!G$3=$A12,Vendredi!G$1,IF(Vendredi!G$4=$A12,Vendredi!G$1,IF(Vendredi!G$5=$A12,Vendredi!G$1,IF(Vendredi!G$6=$A12,Vendredi!G$1,IF(Vendredi!G$7=$A12,Vendredi!G$1,IF(Vendredi!G$8=$A12,Vendredi!G$1,IF(Vendredi!G$9=$A12,Vendredi!G$1,IF(Vendredi!G$10=$A12,Vendredi!G$1,IF(Vendredi!G$11=$A12,Vendredi!G$1,IF(Vendredi!G$12=$A12,Vendredi!G$1,IF(Vendredi!G$13=$A12,Vendredi!G$1,IF(Vendredi!G$14=$A12,Vendredi!G$1,IF(Vendredi!G$15=$A12,Vendredi!G$1,"")))))))))))))) | AY12: =IF(Vendredi!H$2=$A12,Vendredi!H$1,IF(Vendredi!H$3=$A12,Vendredi!H$1,IF(Vendredi!H$4=$A12,Vendredi!H$1,IF(Vendredi!H$5=$A12,Vendredi!H$1,IF(Vendredi!H$6=$A12,Vendredi!H$1,IF(Vendredi!H$7=$A12,Vendredi!H$1,IF(Vendredi!H$8=$A12,Vendredi!H$1,IF(Vendredi!H$9=$A12,Vendredi!H$1,IF(Vendredi!H$10=$A12,Vendredi!H$1,IF(Vendredi!H$11=$A12,Vendredi!H$1,IF(Vendredi!H$12=$A12,Vendredi!H$1,IF(Vendredi!H$13=$A12,Vendredi!H$1,IF(Vendredi!H$14=$A12,Vendredi!H$1,IF(Vendredi!H$15=$A12,Vendredi!H$1,"")))))))))))))) | AZ12: =IF(Vendredi!I$2=$A12,Vendredi!I$1,IF(Vendredi!I$3=$A12,Vendredi!I$1,IF(Vendredi!I$4=$A12,Vendredi!I$1,IF(Vendredi!I$5=$A12,Vendredi!I$1,IF(Vendredi!I$6=$A12,Vendredi!I$1,IF(Vendredi!I$7=$A12,Vendredi!I$1,IF(Vendredi!I$8=$A12,Vendredi!I$1,IF(Vendredi!I$9=$A12,Vendredi!I$1,IF(Vendredi!I$10=$A12,Vendredi!I$1,IF(Vendredi!I$11=$A12,Vendredi!I$1,IF(Vendredi!I$12=$A12,Vendredi!I$1,IF(Vendredi!I$13=$A12,Vendredi!I$1,IF(Vendredi!I$14=$A12,Vendredi!I$1,IF(Vendredi!I$15=$A12,Vendredi!I$1,"")))))))))))))) | BA12: =IF(Vendredi!J$2=$A12,Vendredi!J$1,IF(Vendredi!J$3=$A12,Vendredi!J$1,IF(Vendredi!J$4=$A12,Vendredi!J$1,IF(Vendredi!J$5=$A12,Vendredi!J$1,IF(Vendredi!J$6=$A12,Vendredi!J$1,IF(Vendredi!J$7=$A12,Vendredi!J$1,IF(Vendredi!J$8=$A12,Vendredi!J$1,IF(Vendredi!J$9=$A12,Vendredi!J$1,IF(Vendredi!J$10=$A12,Vendredi!J$1,IF(Vendredi!J$11=$A12,Vendredi!J$1,IF(Vendredi!J$12=$A12,Vendredi!J$1,IF(Vendredi!J$13=$A12,Vendredi!J$1,IF(Vendredi!J$14=$A12,Vendredi!J$1,IF(Vendredi!J$15=$A12,Vendredi!J$1,""))))))))))))))
B13: Après Midi | C13: =I13&J13&K13&L13&M13&N13&O13&P13&Q13 -> Self | D13: =R13&S13&T13&U13&V13&W13&X13&Y13&Z13 -> Self | F13: =AJ13&AK13&AL13&AM13&AN13&AO13&AP13&AQ13&AR13 -> At. Polyvalent | G13: =AS13&AT13&AU13&AV13&AW13&AX13&AY13&AZ13&BA13 -> Espace vert | I13: =IF(Lundi!B$17=$A12,Lundi!B$1,IF(Lundi!B$18=$A12,Lundi!B$1,IF(Lundi!B$19=$A12,Lundi!B$1,IF(Lundi!B$20=$A12,Lundi!B$1,IF(Lundi!B$21=$A12,Lundi!B$1,IF(Lundi!B$22=$A12,Lundi!B$1,IF(Lundi!B$23=$A12,Lundi!B$1,IF(Lundi!B$24=$A12,Lundi!B$1,IF(Lundi!B$25=$A12,Lundi!B$1,IF(Lundi!B$26=$A12,Lundi!B$1,IF(Lundi!B$27=$A12,Lundi!B$1,IF(Lundi!B$28=$A12,Lundi!B$1,IF(Lundi!B$29=$A12,Lundi!B$1,IF(Lundi!B$30=$A12,Lundi!B$1,"")))))))))))))) | J13: =IF(Lundi!C$17=$A12,Lundi!C$1,IF(Lundi!C$18=$A12,Lundi!C$1,IF(Lundi!C$19=$A12,Lundi!C$1,IF(Lundi!C$20=$A12,Lundi!C$1,IF(Lundi!C$21=$A12,Lundi!C$1,IF(Lundi!C$22=$A12,Lundi!C$1,IF(Lundi!C$23=$A12,Lundi!C$1,IF(Lundi!C$24=$A12,Lundi!C$1,IF(Lundi!C$25=$A12,Lundi!C$1,IF(Lundi!C$26=$A12,Lundi!C$1,IF(Lundi!C$27=$A12,Lundi!C$1,IF(Lundi!C$28=$A12,Lundi!C$1,IF(Lundi!C$29=$A12,Lundi!C$1,IF(Lundi!C$30=$A12,Lundi!C$1,"")))))))))))))) | K13: =IF(Lundi!D$17=$A12,Lundi!D$1,IF(Lundi!D$18=$A12,Lundi!D$1,IF(Lundi!D$19=$A12,Lundi!D$1,IF(Lundi!D$20=$A12,Lundi!D$1,IF(Lundi!D$21=$A12,Lundi!D$1,IF(Lundi!D$22=$A12,Lundi!D$1,IF(Lundi!D$23=$A12,Lundi!D$1,IF(Lundi!D$24=$A12,Lundi!D$1,IF(Lundi!D$25=$A12,Lundi!D$1,IF(Lundi!D$26=$A12,Lundi!D$1,IF(Lundi!D$27=$A12,Lundi!D$1,IF(Lundi!D$28=$A12,Lundi!D$1,IF(Lundi!D$29=$A12,Lundi!D$1,IF(Lundi!D$30=$A12,Lundi!D$1,"")))))))))))))) -> Self | L13: =IF(Lundi!E26=$A12,Lundi!E$1,IF(Lundi!E27=$A12,Lundi!E$1,IF(Lundi!E28=$A12,Lundi!E$1,IF(Lundi!E29=$A12,Lundi!E$1,IF(Lundi!E30=$A12,Lundi!E$1,IF(Lundi!E31=$A12,Lundi!E$1,IF(Lundi!E32=$A12,Lundi!E$1,IF(Lundi!E33=$A12,Lundi!E$1,IF(Lundi!E34=$A12,Lundi!E$1,IF(Lundi!E35=$A12,Lundi!E$1,IF(Lundi!E36=$A12,Lundi!E$1,IF(Lundi!E37=$A12,Lundi!E$1,IF(Lundi!E38=$A12,Lundi!E$1,IF(Lundi!E39=$A12,Lundi!E$1,"")))))))))))))) | M13: =IF(Lundi!F26=$A12,Lundi!F$1,IF(Lundi!F27=$A12,Lundi!F$1,IF(Lundi!F28=$A12,Lundi!F$1,IF(Lundi!F29=$A12,Lundi!F$1,IF(Lundi!F30=$A12,Lundi!F$1,IF(Lundi!F31=$A12,Lundi!F$1,IF(Lundi!F32=$A12,Lundi!F$1,IF(Lundi!F33=$A12,Lundi!F$1,IF(Lundi!F34=$A12,Lundi!F$1,IF(Lundi!F35=$A12,Lundi!F$1,IF(Lundi!F36=$A12,Lundi!F$1,IF(Lundi!F37=$A12,Lundi!F$1,IF(Lundi!F38=$A12,Lundi!F$1,IF(Lundi!F39=$A12,Lundi!F$1,"")))))))))))))) | R13: =IF(Mardi!B$17=$A12,Mardi!B$1,IF(Mardi!B$18=$A12,Mardi!B$1,IF(Mardi!B$19=$A12,Mardi!B$1,IF(Mardi!B$20=$A12,Mardi!B$1,IF(Mardi!B$21=$A12,Mardi!B$1,IF(Mardi!B$22=$A12,Mardi!B$1,IF(Mardi!B$23=$A12,Mardi!B$1,IF(Mardi!B$24=$A12,Mardi!B$1,IF(Mardi!B$25=$A12,Mardi!B$1,IF(Mardi!B$26=$A12,Mardi!B$1,IF(Mardi!B$27=$A12,Mardi!B$1,IF(Mardi!B$28=$A12,Mardi!B$1,IF(Mardi!B$29=$A12,Mardi!B$1,IF(Mardi!B$30=$A12,Mardi!B$1,"")))))))))))))) | S13: =IF(Mardi!C$17=$A12,Mardi!C$1,IF(Mardi!C$18=$A12,Mardi!C$1,IF(Mardi!C$19=$A12,Mardi!C$1,IF(Mardi!C$20=$A12,Mardi!C$1,IF(Mardi!C$21=$A12,Mardi!C$1,IF(Mardi!C$22=$A12,Mardi!C$1,IF(Mardi!C$23=$A12,Mardi!C$1,IF(Mardi!C$24=$A12,Mardi!C$1,IF(Mardi!C$25=$A12,Mardi!C$1,IF(Mardi!C$26=$A12,Mardi!C$1,IF(Mardi!C$27=$A12,Mardi!C$1,IF(Mardi!C$28=$A12,Mardi!C$1,IF(Mardi!C$29=$A12,Mardi!C$1,IF(Mardi!C$30=$A12,Mardi!C$1,"")))))))))))))) | T13: =IF(Mardi!D$17=$A12,Mardi!D$1,IF(Mardi!D$18=$A12,Mardi!D$1,IF(Mardi!D$19=$A12,Mardi!D$1,IF(Mardi!D$20=$A12,Mardi!D$1,IF(Mardi!D$21=$A12,Mardi!D$1,IF(Mardi!D$22=$A12,Mardi!D$1,IF(Mardi!D$23=$A12,Mardi!D$1,IF(Mardi!D$24=$A12,Mardi!D$1,IF(Mardi!D$25=$A12,Mardi!D$1,IF(Mardi!D$26=$A12,Mardi!D$1,IF(Mardi!D$27=$A12,Mardi!D$1,IF(Mardi!D$28=$A12,Mardi!D$1,IF(Mardi!D$29=$A12,Mardi!D$1,IF(Mardi!D$30=$A12,Mardi!D$1,"")))))))))))))) -> Self | U13: =IF(Mardi!E$17=$A12,Mardi!E$1,IF(Mardi!E$18=$A12,Mardi!E$1,IF(Mardi!E$19=$A12,Mardi!E$1,IF(Mardi!E$20=$A12,Mardi!E$1,IF(Mardi!E$21=$A12,Mardi!E$1,IF(Mardi!E$22=$A12,Mardi!E$1,IF(Mardi!E$23=$A12,Mardi!E$1,IF(Mardi!E$24=$A12,Mardi!E$1,IF(Mardi!E$25=$A12,Mardi!E$1,IF(Mardi!E$26=$A12,Mardi!E$1,IF(Mardi!E$27=$A12,Mardi!E$1,IF(Mardi!E$28=$A12,Mardi!E$1,IF(Mardi!E$29=$A12,Mardi!E$1,IF(Mardi!E$30=$A12,Mardi!E$1,"")))))))))))))) | V13: =IF(Mardi!F$17=$A12,Mardi!F$1,IF(Mardi!F$18=$A12,Mardi!F$1,IF(Mardi!F$19=$A12,Mardi!F$1,IF(Mardi!F$20=$A12,Mardi!F$1,IF(Mardi!F$21=$A12,Mardi!F$1,IF(Mardi!F$22=$A12,Mardi!F$1,IF(Mardi!F$23=$A12,Mardi!F$1,IF(Mardi!F$24=$A12,Mardi!F$1,IF(Mardi!F$25=$A12,Mardi!F$1,IF(Mardi!F$26=$A12,Mardi!F$1,IF(Mardi!F$27=$A12,Mardi!F$1,IF(Mardi!F$28=$A12,Mardi!F$1,IF(Mardi!F$29=$A12,Mardi!F$1,IF(Mardi!F$30=$A12,Mardi!F$1,"")))))))))))))) | W13: =IF(Mardi!G$17=$A12,Mardi!G$1,IF(Mardi!G$18=$A12,Mardi!G$1,IF(Mardi!G$19=$A12,Mardi!G$1,IF(Mardi!G$20=$A12,Mardi!G$1,IF(Mardi!G$21=$A12,Mardi!G$1,IF(Mardi!G$22=$A12,Mardi!G$1,IF(Mardi!G$23=$A12,Mardi!G$1,IF(Mardi!G$24=$A12,Mardi!G$1,IF(Mardi!G$25=$A12,Mardi!G$1,IF(Mardi!G$26=$A12,Mardi!G$1,IF(Mardi!G$27=$A12,Mardi!G$1,IF(Mardi!G$28=$A12,Mardi!G$1,IF(Mardi!G$29=$A12,Mardi!G$1,IF(Mardi!G$30=$A12,Mardi!G$1,"")))))))))))))) | X13: =IF(Mardi!H$17=$A12,Mardi!H$1,IF(Mardi!H$18=$A12,Mardi!H$1,IF(Mardi!H$19=$A12,Mardi!H$1,IF(Mardi!H$20=$A12,Mardi!H$1,IF(Mardi!H$21=$A12,Mardi!H$1,IF(Mardi!H$22=$A12,Mardi!H$1,IF(Mardi!H$23=$A12,Mardi!H$1,IF(Mardi!H$24=$A12,Mardi!H$1,IF(Mardi!H$25=$A12,Mardi!H$1,IF(Mardi!H$26=$A12,Mardi!H$1,IF(Mardi!H$27=$A12,Mardi!H$1,IF(Mardi!H$28=$A12,Mardi!H$1,IF(Mardi!H$29=$A12,Mardi!H$1,IF(Mardi!H$30=$A12,Mardi!H$1,"")))))))))))))) | Y13: =IF(Mardi!I$17=$A12,Mardi!I$1,IF(Mardi!I$18=$A12,Mardi!I$1,IF(Mardi!I$19=$A12,Mardi!I$1,IF(Mardi!I$20=$A12,Mardi!I$1,IF(Mardi!I$21=$A12,Mardi!I$1,IF(Mardi!I$22=$A12,Mardi!I$1,IF(Mardi!I$23=$A12,Mardi!I$1,IF(Mardi!I$24=$A12,Mardi!I$1,IF(Mardi!I$25=$A12,Mardi!I$1,IF(Mardi!I$26=$A12,Mardi!I$1,IF(Mardi!I$27=$A12,Mardi!I$1,IF(Mardi!I$28=$A12,Mardi!I$1,IF(Mardi!I$29=$A12,Mardi!I$1,IF(Mardi!I$30=$A12,Mardi!I$1,"")))))))))))))) | Z13: =IF(Mardi!J$17=$A12,Mardi!J$1,IF(Mardi!J$18=$A12,Mardi!J$1,IF(Mardi!J$19=$A12,Mardi!J$1,IF(Mardi!J$20=$A12,Mardi!J$1,IF(Mardi!J$21=$A12,Mardi!J$1,IF(Mardi!J$22=$A12,Mardi!J$1,IF(Mardi!J$23=$A12,Mardi!J$1,IF(Mardi!J$24=$A12,Mardi!J$1,IF(Mardi!J$25=$A12,Mardi!J$1,IF(Mardi!J$26=$A12,Mardi!J$1,IF(Mardi!J$27=$A12,Mardi!J$1,IF(Mardi!J$28=$A12,Mardi!J$1,IF(Mardi!J$29=$A12,Mardi!J$1,IF(Mardi!J$30=$A12,Mardi!J$1,"")))))))))))))) | AA13: =IF(Mercredi!B$17=$A12,Mercredi!B$1,IF(Mercredi!B$18=$A12,Mercredi!B$1,IF(Mercredi!B$19=$A12,Mercredi!B$1,IF(Mercredi!B$20=$A12,Mercredi!B$1,IF(Mercredi!B$21=$A12,Mercredi!B$1,IF(Mercredi!B$22=$A12,Mercredi!B$1,IF(Mercredi!B$23=$A12,Mercredi!B$1,IF(Mercredi!B$24=$A12,Mercredi!B$1,IF(Mercredi!B$25=$A12,Mercredi!B$1,IF(Mercredi!B$26=$A12,Mercredi!B$1,IF(Mercredi!B$27=$A12,Mercredi!B$1,IF(Mercredi!B$28=$A12,Mercredi!B$1,IF(Mercredi!B$29=$A12,Mercredi!B$1,IF(Mercredi!B$30=$A12,Mercredi!B$1,"")))))))))))))) | AB13: =IF(Mercredi!C$17=$A12,Mercredi!C$1,IF(Mercredi!C$18=$A12,Mercredi!C$1,IF(Mercredi!C$19=$A12,Mercredi!C$1,IF(Mercredi!C$20=$A12,Mercredi!C$1,IF(Mercredi!C$21=$A12,Mercredi!C$1,IF(Mercredi!C$22=$A12,Mercredi!C$1,IF(Mercredi!C$23=$A12,Mercredi!C$1,IF(Mercredi!C$24=$A12,Mercredi!C$1,IF(Mercredi!C$25=$A12,Mercredi!C$1,IF(Mercredi!C$26=$A12,Mercredi!C$1,IF(Mercredi!C$27=$A12,Mercredi!C$1,IF(Mercredi!C$28=$A12,Mercredi!C$1,IF(Mercredi!C$29=$A12,Mercredi!C$1,IF(Mercredi!C$30=$A12,Mercredi!C$1,"")))))))))))))) | AC13: =IF(Mercredi!D$17=$A12,Mercredi!D$1,IF(Mercredi!D$18=$A12,Mercredi!D$1,IF(Mercredi!D$19=$A12,Mercredi!D$1,IF(Mercredi!D$20=$A12,Mercredi!D$1,IF(Mercredi!D$21=$A12,Mercredi!D$1,IF(Mercredi!D$22=$A12,Mercredi!D$1,IF(Mercredi!D$23=$A12,Mercredi!D$1,IF(Mercredi!D$24=$A12,Mercredi!D$1,IF(Mercredi!D$25=$A12,Mercredi!D$1,IF(Mercredi!D$26=$A12,Mercredi!D$1,IF(Mercredi!D$27=$A12,Mercredi!D$1,IF(Mercredi!D$28=$A12,Mercredi!D$1,IF(Mercredi!D$29=$A12,Mercredi!D$1,IF(Mercredi!D$30=$A12,Mercredi!D$1,"")))))))))))))) | AD13: =IF(Mercredi!E$17=$A12,Mercredi!E$1,IF(Mercredi!E$18=$A12,Mercredi!E$1,IF(Mercredi!E$19=$A12,Mercredi!E$1,IF(Mercredi!E$20=$A12,Mercredi!E$1,IF(Mercredi!E$21=$A12,Mercredi!E$1,IF(Mercredi!E$22=$A12,Mercredi!E$1,IF(Mercredi!E$23=$A12,Mercredi!E$1,IF(Mercredi!E$24=$A12,Mercredi!E$1,IF(Mercredi!E$25=$A12,Mercredi!E$1,IF(Mercredi!E$26=$A12,Mercredi!E$1,IF(Mercredi!E$27=$A12,Mercredi!E$1,IF(Mercredi!E$28=$A12,Mercredi!E$1,IF(Mercredi!E$29=$A12,Mercredi!E$1,IF(Mercredi!E$30=$A12,Mercredi!E$1,"")))))))))))))) | AE13: =IF(Mercredi!F$17=$A12,Mercredi!F$1,IF(Mercredi!F$18=$A12,Mercredi!F$1,IF(Mercredi!F$19=$A12,Mercredi!F$1,IF(Mercredi!F$20=$A12,Mercredi!F$1,IF(Mercredi!F$21=$A12,Mercredi!F$1,IF(Mercredi!F$22=$A12,Mercredi!F$1,IF(Mercredi!F$23=$A12,Mercredi!F$1,IF(Mercredi!F$24=$A12,Mercredi!F$1,IF(Mercredi!F$25=$A12,Mercredi!F$1,IF(Mercredi!F$26=$A12,Mercredi!F$1,IF(Mercredi!F$27=$A12,Mercredi!F$1,IF(Mercredi!F$28=$A12,Mercredi!F$1,IF(Mercredi!F$29=$A12,Mercredi!F$1,IF(Mercredi!F$30=$A12,Mercredi!F$1,"")))))))))))))) | AF13: =IF(Mercredi!G$17=$A12,Mercredi!G$1,IF(Mercredi!G$18=$A12,Mercredi!G$1,IF(Mercredi!G$19=$A12,Mercredi!G$1,IF(Mercredi!G$20=$A12,Mercredi!G$1,IF(Mercredi!G$21=$A12,Mercredi!G$1,IF(Mercredi!G$22=$A12,Mercredi!G$1,IF(Mercredi!G$23=$A12,Mercredi!G$1,IF(Mercredi!G$24=$A12,Mercredi!G$1,IF(Mercredi!G$25=$A12,Mercredi!G$1,IF(Mercredi!G$26=$A12,Mercredi!G$1,IF(Mercredi!G$27=$A12,Mercredi!G$1,IF(Mercredi!G$28=$A12,Mercredi!G$1,IF(Mercredi!G$29=$A12,Mercredi!G$1,IF(Mercredi!G$30=$A12,Mercredi!G$1,"")))))))))))))) | AG13: =IF(Mercredi!H$17=$A12,Mercredi!H$1,IF(Mercredi!H$18=$A12,Mercredi!H$1,IF(Mercredi!H$19=$A12,Mercredi!H$1,IF(Mercredi!H$20=$A12,Mercredi!H$1,IF(Mercredi!H$21=$A12,Mercredi!H$1,IF(Mercredi!H$22=$A12,Mercredi!H$1,IF(Mercredi!H$23=$A12,Mercredi!H$1,IF(Mercredi!H$24=$A12,Mercredi!H$1,IF(Mercredi!H$25=$A12,Mercredi!H$1,IF(Mercredi!H$26=$A12,Mercredi!H$1,IF(Mercredi!H$27=$A12,Mercredi!H$1,IF(Mercredi!H$28=$A12,Mercredi!H$1,IF(Mercredi!H$29=$A12,Mercredi!H$1,IF(Mercredi!H$30=$A12,Mercredi!H$1,"")))))))))))))) | AH13: =IF(Mercredi!I$17=$A12,Mercredi!I$1,IF(Mercredi!I$18=$A12,Mercredi!I$1,IF(Mercredi!I$19=$A12,Mercredi!I$1,IF(Mercredi!I$20=$A12,Mercredi!I$1,IF(Mercredi!I$21=$A12,Mercredi!I$1,IF(Mercredi!I$22=$A12,Mercredi!I$1,IF(Mercredi!I$23=$A12,Mercredi!I$1,IF(Mercredi!I$24=$A12,Mercredi!I$1,IF(Mercredi!I$25=$A12,Mercredi!I$1,IF(Mercredi!I$26=$A12,Mercredi!I$1,IF(Mercredi!I$27=$A12,Mercredi!I$1,IF(Mercredi!I$28=$A12,Mercredi!I$1,IF(Mercredi!I$29=$A12,Mercredi!I$1,IF(Mercredi!I$30=$A12,Mercredi!I$1,"")))))))))))))) | AI13: =IF(Mercredi!J$17=$A12,Mercredi!J$1,IF(Mercredi!J$18=$A12,Mercredi!J$1,IF(Mercredi!J$19=$A12,Mercredi!J$1,IF(Mercredi!J$20=$A12,Mercredi!J$1,IF(Mercredi!J$21=$A12,Mercredi!J$1,IF(Mercredi!J$22=$A12,Mercredi!J$1,IF(Mercredi!J$23=$A12,Mercredi!J$1,IF(Mercredi!J$24=$A12,Mercredi!J$1,IF(Mercredi!J$25=$A12,Mercredi!J$1,IF(Mercredi!J$26=$A12,Mercredi!J$1,IF(Mercredi!J$27=$A12,Mercredi!J$1,IF(Mercredi!J$28=$A12,Mercredi!J$1,IF(Mercredi!J$29=$A12,Mercredi!J$1,IF(Mercredi!J$30=$A12,Mercredi!J$1,"")))))))))))))) | AJ13: =IF(Jeudi!B$17=$A12,Jeudi!B$1,IF(Jeudi!B$18=$A12,Jeudi!B$1,IF(Jeudi!B$19=$A12,Jeudi!B$1,IF(Jeudi!B$20=$A12,Jeudi!B$1,IF(Jeudi!B$21=$A12,Jeudi!B$1,IF(Jeudi!B$22=$A12,Jeudi!B$1,IF(Jeudi!B$23=$A12,Jeudi!B$1,IF(Jeudi!B$24=$A12,Jeudi!B$1,IF(Jeudi!B$25=$A12,Jeudi!B$1,IF(Jeudi!B$26=$A12,Jeudi!B$1,IF(Jeudi!B$27=$A12,Jeudi!B$1,IF(Jeudi!B$28=$A12,Jeudi!B$1,IF(Jeudi!B$29=$A12,Jeudi!B$1,IF(Jeudi!B$30=$A12,Jeudi!B$1,"")))))))))))))) | AK13: =IF(Jeudi!C$17=$A12,Jeudi!C$1,IF(Jeudi!C$18=$A12,Jeudi!C$1,IF(Jeudi!C$19=$A12,Jeudi!C$1,IF(Jeudi!C$20=$A12,Jeudi!C$1,IF(Jeudi!C$21=$A12,Jeudi!C$1,IF(Jeudi!C$22=$A12,Jeudi!C$1,IF(Jeudi!C$23=$A12,Jeudi!C$1,IF(Jeudi!C$24=$A12,Jeudi!C$1,IF(Jeudi!C$25=$A12,Jeudi!C$1,IF(Jeudi!C$26=$A12,Jeudi!C$1,IF(Jeudi!C$27=$A12,Jeudi!C$1,IF(Jeudi!C$28=$A12,Jeudi!C$1,IF(Jeudi!C$29=$A12,Jeudi!C$1,IF(Jeudi!C$30=$A12,Jeudi!C$1,"")))))))))))))) | AL13: =IF(Jeudi!D$17=$A12,Jeudi!D$1,IF(Jeudi!D$18=$A12,Jeudi!D$1,IF(Jeudi!D$19=$A12,Jeudi!D$1,IF(Jeudi!D$20=$A12,Jeudi!D$1,IF(Jeudi!D$21=$A12,Jeudi!D$1,IF(Jeudi!D$22=$A12,Jeudi!D$1,IF(Jeudi!D$23=$A12,Jeudi!D$1,IF(Jeudi!D$24=$A12,Jeudi!D$1,IF(Jeudi!D$25=$A12,Jeudi!D$1,IF(Jeudi!D$26=$A12,Jeudi!D$1,IF(Jeudi!D$27=$A12,Jeudi!D$1,IF(Jeudi!D$28=$A12,Jeudi!D$1,IF(Jeudi!D$29=$A12,Jeudi!D$1,IF(Jeudi!D$30=$A12,Jeudi!D$1,"")))))))))))))) | AM13: =IF(Jeudi!E$17=$A12,Jeudi!E$1,IF(Jeudi!E$18=$A12,Jeudi!E$1,IF(Jeudi!E$19=$A12,Jeudi!E$1,IF(Jeudi!E$20=$A12,Jeudi!E$1,IF(Jeudi!E$21=$A12,Jeudi!E$1,IF(Jeudi!E$22=$A12,Jeudi!E$1,IF(Jeudi!E$23=$A12,Jeudi!E$1,IF(Jeudi!E$24=$A12,Jeudi!E$1,IF(Jeudi!E$25=$A12,Jeudi!E$1,IF(Jeudi!E$26=$A12,Jeudi!E$1,IF(Jeudi!E$27=$A12,Jeudi!E$1,IF(Jeudi!E$28=$A12,Jeudi!E$1,IF(Jeudi!E$29=$A12,Jeudi!E$1,IF(Jeudi!E$30=$A12,Jeudi!E$1,"")))))))))))))) | AN13: =IF(Jeudi!F$17=$A12,Jeudi!F$1,IF(Jeudi!F$18=$A12,Jeudi!F$1,IF(Jeudi!F$19=$A12,Jeudi!F$1,IF(Jeudi!F$20=$A12,Jeudi!F$1,IF(Jeudi!F$21=$A12,Jeudi!F$1,IF(Jeudi!F$22=$A12,Jeudi!F$1,IF(Jeudi!F$23=$A12,Jeudi!F$1,IF(Jeudi!F$24=$A12,Jeudi!F$1,IF(Jeudi!F$25=$A12,Jeudi!F$1,IF(Jeudi!F$26=$A12,Jeudi!F$1,IF(Jeudi!F$27=$A12,Jeudi!F$1,IF(Jeudi!F$28=$A12,Jeudi!F$1,IF(Jeudi!F$29=$A12,Jeudi!F$1,IF(Jeudi!F$30=$A12,Jeudi!F$1,"")))))))))))))) -> At. Polyvalent | AO13: =IF(Jeudi!G$17=$A12,Jeudi!G$1,IF(Jeudi!G$18=$A12,Jeudi!G$1,IF(Jeudi!G$19=$A12,Jeudi!G$1,IF(Jeudi!G$20=$A12,Jeudi!G$1,IF(Jeudi!G$21=$A12,Jeudi!G$1,IF(Jeudi!G$22=$A12,Jeudi!G$1,IF(Jeudi!G$23=$A12,Jeudi!G$1,IF(Jeudi!G$24=$A12,Jeudi!G$1,IF(Jeudi!G$25=$A12,Jeudi!G$1,IF(Jeudi!G$26=$A12,Jeudi!G$1,IF(Jeudi!G$27=$A12,Jeudi!G$1,IF(Jeudi!G$28=$A12,Jeudi!G$1,IF(Jeudi!G$29=$A12,Jeudi!G$1,IF(Jeudi!G$30=$A12,Jeudi!G$1,"")))))))))))))) | AP13: =IF(Jeudi!H$17=$A12,Jeudi!H$1,IF(Jeudi!H$18=$A12,Jeudi!H$1,IF(Jeudi!H$19=$A12,Jeudi!H$1,IF(Jeudi!H$20=$A12,Jeudi!H$1,IF(Jeudi!H$21=$A12,Jeudi!H$1,IF(Jeudi!H$22=$A12,Jeudi!H$1,IF(Jeudi!H$23=$A12,Jeudi!H$1,IF(Jeudi!H$24=$A12,Jeudi!H$1,IF(Jeudi!H$25=$A12,Jeudi!H$1,IF(Jeudi!H$26=$A12,Jeudi!H$1,IF(Jeudi!H$27=$A12,Jeudi!H$1,IF(Jeudi!H$28=$A12,Jeudi!H$1,IF(Jeudi!H$29=$A12,Jeudi!H$1,IF(Jeudi!H$30=$A12,Jeudi!H$1,"")))))))))))))) | AQ13: =IF(Jeudi!I$17=$A12,Jeudi!I$1,IF(Jeudi!I$18=$A12,Jeudi!I$1,IF(Jeudi!I$19=$A12,Jeudi!I$1,IF(Jeudi!I$20=$A12,Jeudi!I$1,IF(Jeudi!I$21=$A12,Jeudi!I$1,IF(Jeudi!I$22=$A12,Jeudi!I$1,IF(Jeudi!I$23=$A12,Jeudi!I$1,IF(Jeudi!I$24=$A12,Jeudi!I$1,IF(Jeudi!I$25=$A12,Jeudi!I$1,IF(Jeudi!I$26=$A12,Jeudi!I$1,IF(Jeudi!I$27=$A12,Jeudi!I$1,IF(Jeudi!I$28=$A12,Jeudi!I$1,IF(Jeudi!I$29=$A12,Jeudi!I$1,IF(Jeudi!I$30=$A12,Jeudi!I$1,"")))))))))))))) | AR13: =IF(Jeudi!J$17=$A12,Jeudi!J$1,IF(Jeudi!J$18=$A12,Jeudi!J$1,IF(Jeudi!J$19=$A12,Jeudi!J$1,IF(Jeudi!J$20=$A12,Jeudi!J$1,IF(Jeudi!J$21=$A12,Jeudi!J$1,IF(Jeudi!J$22=$A12,Jeudi!J$1,IF(Jeudi!J$23=$A12,Jeudi!J$1,IF(Jeudi!J$24=$A12,Jeudi!J$1,IF(Jeudi!J$25=$A12,Jeudi!J$1,IF(Jeudi!J$26=$A12,Jeudi!J$1,IF(Jeudi!J$27=$A12,Jeudi!J$1,IF(Jeudi!J$28=$A12,Jeudi!J$1,IF(Jeudi!J$29=$A12,Jeudi!J$1,IF(Jeudi!J$30=$A12,Jeudi!J$1,"")))))))))))))) | AS13: =IF(Vendredi!B$17=$A12,Vendredi!B$1,IF(Vendredi!B$18=$A12,Vendredi!B$1,IF(Vendredi!B$19=$A12,Vendredi!B$1,IF(Vendredi!B$20=$A12,Vendredi!B$1,IF(Vendredi!B$21=$A12,Vendredi!B$1,IF(Vendredi!B$22=$A12,Vendredi!B$1,IF(Vendredi!B$23=$A12,Vendredi!B$1,IF(Vendredi!B$24=$A12,Vendredi!B$1,IF(Vendredi!B$25=$A12,Vendredi!B$1,IF(Vendredi!B$26=$A12,Vendredi!B$1,IF(Vendredi!B$27=$A12,Vendredi!B$1,IF(Vendredi!B$28=$A12,Vendredi!B$1,IF(Vendredi!B$29=$A12,Vendredi!B$1,IF(Vendredi!B$30=$A12,Vendredi!B$1,"")))))))))))))) | AT13: =IF(Vendredi!C$17=$A12,Vendredi!C$1,IF(Vendredi!C$18=$A12,Vendredi!C$1,IF(Vendredi!C$19=$A12,Vendredi!C$1,IF(Vendredi!C$20=$A12,Vendredi!C$1,IF(Vendredi!C$21=$A12,Vendredi!C$1,IF(Vendredi!C$22=$A12,Vendredi!C$1,IF(Vendredi!C$23=$A12,Vendredi!C$1,IF(Vendredi!C$24=$A12,Vendredi!C$1,IF(Vendredi!C$25=$A12,Vendredi!C$1,IF(Vendredi!C$26=$A12,Vendredi!C$1,IF(Vendredi!C$27=$A12,Vendredi!C$1,IF(Vendredi!C$28=$A12,Vendredi!C$1,IF(Vendredi!C$29=$A12,Vendredi!C$1,IF(Vendredi!C$30=$A12,Vendredi!C$1,"")))))))))))))) | AU13: =IF(Vendredi!D$17=$A12,Vendredi!D$1,IF(Vendredi!D$18=$A12,Vendredi!D$1,IF(Vendredi!D$19=$A12,Vendredi!D$1,IF(Vendredi!D$20=$A12,Vendredi!D$1,IF(Vendredi!D$21=$A12,Vendredi!D$1,IF(Vendredi!D$22=$A12,Vendredi!D$1,IF(Vendredi!D$23=$A12,Vendredi!D$1,IF(Vendredi!D$24=$A12,Vendredi!D$1,IF(Vendredi!D$25=$A12,Vendredi!D$1,IF(Vendredi!D$26=$A12,Vendredi!D$1,IF(Vendredi!D$27=$A12,Vendredi!D$1,IF(Vendredi!D$28=$A12,Vendredi!D$1,IF(Vendredi!D$29=$A12,Vendredi!D$1,IF(Vendredi!D$30=$A12,Vendredi!D$1,"")))))))))))))) | AV13: =IF(Vendredi!E$17=$A12,Vendredi!E$1,IF(Vendredi!E$18=$A12,Vendredi!E$1,IF(Vendredi!E$19=$A12,Vendredi!E$1,IF(Vendredi!E$20=$A12,Vendredi!E$1,IF(Vendredi!E$21=$A12,Vendredi!E$1,IF(Vendredi!E$22=$A12,Vendredi!E$1,IF(Vendredi!E$23=$A12,Vendredi!E$1,IF(Vendredi!E$24=$A12,Vendredi!E$1,IF(Vendredi!E$25=$A12,Vendredi!E$1,IF(Vendredi!E$26=$A12,Vendredi!E$1,IF(Vendredi!E$27=$A12,Vendredi!E$1,IF(Vendredi!E$28=$A12,Vendredi!E$1,IF(Vendredi!E$29=$A12,Vendredi!E$1,IF(Vendredi!E$30=$A12,Vendredi!E$1,"")))))))))))))) -> Espace vert | AW13: =IF(Vendredi!F$17=$A12,Vendredi!F$1,IF(Vendredi!F$18=$A12,Vendredi!F$1,IF(Vendredi!F$19=$A12,Vendredi!F$1,IF(Vendredi!F$20=$A12,Vendredi!F$1,IF(Vendredi!F$21=$A12,Vendredi!F$1,IF(Vendredi!F$22=$A12,Vendredi!F$1,IF(Vendredi!F$23=$A12,Vendredi!F$1,IF(Vendredi!F$24=$A12,Vendredi!F$1,IF(Vendredi!F$25=$A12,Vendredi!F$1,IF(Vendredi!F$26=$A12,Vendredi!F$1,IF(Vendredi!F$27=$A12,Vendredi!F$1,IF(Vendredi!F$28=$A12,Vendredi!F$1,IF(Vendredi!F$29=$A12,Vendredi!F$1,IF(Vendredi!F$30=$A12,Vendredi!F$1,"")))))))))))))) | AX13: =IF(Vendredi!G$17=$A12,Vendredi!G$1,IF(Vendredi!G$18=$A12,Vendredi!G$1,IF(Vendredi!G$19=$A12,Vendredi!G$1,IF(Vendredi!G$20=$A12,Vendredi!G$1,IF(Vendredi!G$21=$A12,Vendredi!G$1,IF(Vendredi!G$22=$A12,Vendredi!G$1,IF(Vendredi!G$23=$A12,Vendredi!G$1,IF(Vendredi!G$24=$A12,Vendredi!G$1,IF(Vendredi!G$25=$A12,Vendredi!G$1,IF(Vendredi!G$26=$A12,Vendredi!G$1,IF(Vendredi!G$27=$A12,Vendredi!G$1,IF(Vendredi!G$28=$A12,Vendredi!G$1,IF(Vendredi!G$29=$A12,Vendredi!G$1,IF(Vendredi!G$30=$A12,Vendredi!G$1,"")))))))))))))) | AY13: =IF(Vendredi!H$17=$A12,Vendredi!H$1,IF(Vendredi!H$18=$A12,Vendredi!H$1,IF(Vendredi!H$19=$A12,Vendredi!H$1,IF(Vendredi!H$20=$A12,Vendredi!H$1,IF(Vendredi!H$21=$A12,Vendredi!H$1,IF(Vendredi!H$22=$A12,Vendredi!H$1,IF(Vendredi!H$23=$A12,Vendredi!H$1,IF(Vendredi!H$24=$A12,Vendredi!H$1,IF(Vendredi!H$25=$A12,Vendredi!H$1,IF(Vendredi!H$26=$A12,Vendredi!H$1,IF(Vendredi!H$27=$A12,Vendredi!H$1,IF(Vendredi!H$28=$A12,Vendredi!H$1,IF(Vendredi!H$29=$A12,Vendredi!H$1,IF(Vendredi!H$30=$A12,Vendredi!H$1,"")))))))))))))) | AZ13: =IF(Vendredi!I$17=$A12,Vendredi!I$1,IF(Vendredi!I$18=$A12,Vendredi!I$1,IF(Vendredi!I$19=$A12,Vendredi!I$1,IF(Vendredi!I$20=$A12,Vendredi!I$1,IF(Vendredi!I$21=$A12,Vendredi!I$1,IF(Vendredi!I$22=$A12,Vendredi!I$1,IF(Vendredi!I$23=$A12,Vendredi!I$1,IF(Vendredi!I$24=$A12,Vendredi!I$1,IF(Vendredi!I$25=$A12,Vendredi!I$1,IF(Vendredi!I$26=$A12,Vendredi!I$1,IF(Vendredi!I$27=$A12,Vendredi!I$1,IF(Vendredi!I$28=$A12,Vendredi!I$1,IF(Vendredi!I$29=$A12,Vendredi!I$1,IF(Vendredi!I$30=$A12,Vendredi!I$1,"")))))))))))))) | BA13: =IF(Vendredi!J$17=$A12,Vendredi!J$1,IF(Vendredi!J$18=$A12,Vendredi!J$1,IF(Vendredi!J$19=$A12,Vendredi!J$1,IF(Vendredi!J$20=$A12,Vendredi!J$1,IF(Vendredi!J$21=$A12,Vendredi!J$1,IF(Vendredi!J$22=$A12,Vendredi!J$1,IF(Vendredi!J$23=$A12,Vendredi!J$1,IF(Vendredi!J$24=$A12,Vendredi!J$1,IF(Vendredi!J$25=$A12,Vendredi!J$1,IF(Vendredi!J$26=$A12,Vendredi!J$1,IF(Vendredi!J$27=$A12,Vendredi!J$1,IF(Vendredi!J$28=$A12,Vendredi!J$1,IF(Vendredi!J$29=$A12,Vendredi!J$1,IF(Vendredi!J$30=$A12,Vendredi!J$1,""))))))))))))))
A15: Alain | B15: Matin | C15: =I15&J15&K15&L15&M15&N15&O15&P15&Q15 -> Restaurant | D15: =R15&S15&T15&U15&V15&W15&X15&Y15&Z15 -> Self | E15: =AA15&AB15&AC15&AD15&AE15&AF15&AG15&AH15&AI15 -> At. Polyvalent | F15: =AJ15&AK15&AL15&AM15&AN15&AO15&AP15&AQ15&AR15 -> Classe D | G15: =AS15&AT15&AU15&AV15&AW15&AX15&AY15&AZ15&BA15 -> Self | I15: =IF(Lundi!B$2=$A15,Lundi!B$1,IF(Lundi!B$3=$A15,Lundi!B$1,IF(Lundi!B$4=$A15,Lundi!B$1,IF(Lundi!B$5=$A15,Lundi!B$1,IF(Lundi!B$6=$A15,Lundi!B$1,IF(Lundi!B$7=$A15,Lundi!B$1,IF(Lundi!B$8=$A15,Lundi!B$1,IF(Lundi!B$9=$A15,Lundi!B$1,IF(Lundi!B$10=$A15,Lundi!B$1,IF(Lundi!B$11=$A15,Lundi!B$1,IF(Lundi!B$12=$A15,Lundi!B$1,IF(Lundi!B$13=$A15,Lundi!B$1,IF(Lundi!B$14=$A15,Lundi!B$1,IF(Lundi!B$15=$A15,Lundi!B$1,"")))))))))))))) | J15: =IF(Lundi!C$2=$A15,Lundi!C$1,IF(Lundi!C$3=$A15,Lundi!C$1,IF(Lundi!C$4=$A15,Lundi!C$1,IF(Lundi!C$5=$A15,Lundi!C$1,IF(Lundi!C$6=$A15,Lundi!C$1,IF(Lundi!C$7=$A15,Lundi!C$1,IF(Lundi!C$8=$A15,Lundi!C$1,IF(Lundi!C$9=$A15,Lundi!C$1,IF(Lundi!C$10=$A15,Lundi!C$1,IF(Lundi!C$11=$A15,Lundi!C$1,IF(Lundi!C$12=$A15,Lundi!C$1,IF(Lundi!C$13=$A15,Lundi!C$1,IF(Lundi!C$14=$A15,Lundi!C$1,IF(Lundi!C$15=$A15,Lundi!C$1,"")))))))))))))) -> Restaurant | K15: =IF(Lundi!D$2=$A15,Lundi!D$1,IF(Lundi!D$3=$A15,Lundi!D$1,IF(Lundi!D$4=$A15,Lundi!D$1,IF(Lundi!D$5=$A15,Lundi!D$1,IF(Lundi!D$6=$A15,Lundi!D$1,IF(Lundi!D$7=$A15,Lundi!D$1,IF(Lundi!D$8=$A15,Lundi!D$1,IF(Lundi!D$9=$A15,Lundi!D$1,IF(Lundi!D$10=$A15,Lundi!D$1,IF(Lundi!D$11=$A15,Lundi!D$1,IF(Lundi!D$12=$A15,Lundi!D$1,IF(Lundi!D$13=$A15,Lundi!D$1,IF(Lundi!D$14=$A15,Lundi!D$1,IF(Lundi!D$15=$A15,Lundi!D$1,"")))))))))))))) | L15: =IF(Lundi!E14=$A15,Lundi!E$1,IF(Lundi!E15=$A15,Lundi!E$1,IF(Lundi!E16=$A15,Lundi!E$1,IF(Lundi!E17=$A15,Lundi!E$1,IF(Lundi!E18=$A15,Lundi!E$1,IF(Lundi!E19=$A15,Lundi!E$1,IF(Lundi!E20=$A15,Lundi!E$1,IF(Lundi!E21=$A15,Lundi!E$1,IF(Lundi!E22=$A15,Lundi!E$1,IF(Lundi!E23=$A15,Lundi!E$1,IF(Lundi!E24=$A15,Lundi!E$1,IF(Lundi!E25=$A15,Lundi!E$1,IF(Lundi!E26=$A15,Lundi!E$1,IF(Lundi!E27=$A15,Lundi!E$1,"")))))))))))))) | M15: =IF(Lundi!F14=$A15,Lundi!F$1,IF(Lundi!F15=$A15,Lundi!F$1,IF(Lundi!F16=$A15,Lundi!F$1,IF(Lundi!F17=$A15,Lundi!F$1,IF(Lundi!F18=$A15,Lundi!F$1,IF(Lundi!F19=$A15,Lundi!F$1,IF(Lundi!F20=$A15,Lundi!F$1,IF(Lundi!F21=$A15,Lundi!F$1,IF(Lundi!F22=$A15,Lundi!F$1,IF(Lundi!F23=$A15,Lundi!F$1,IF(Lundi!F24=$A15,Lundi!F$1,IF(Lundi!F25=$A15,Lundi!F$1,IF(Lundi!F26=$A15,Lundi!F$1,IF(Lundi!F27=$A15,Lundi!F$1,"")))))))))))))) | R15: =IF(Mardi!B$2=$A15,Mardi!B$1,IF(Mardi!B$3=$A15,Mardi!B$1,IF(Mardi!B$4=$A15,Mardi!B$1,IF(Mardi!B$5=$A15,Mardi!B$1,IF(Mardi!B$6=$A15,Mardi!B$1,IF(Mardi!B$7=$A15,Mardi!B$1,IF(Mardi!B$8=$A15,Mardi!B$1,IF(Mardi!B$9=$A15,Mardi!B$1,IF(Mardi!B$10=$A15,Mardi!B$1,IF(Mardi!B$11=$A15,Mardi!B$1,IF(Mardi!B$12=$A15,Mardi!B$1,IF(Mardi!B$13=$A15,Mardi!B$1,IF(Mardi!B$14=$A15,Mardi!B$1,IF(Mardi!B$15=$A15,Mardi!B$1,"")))))))))))))) | S15: =IF(Mardi!C$2=$A15,Mardi!C$1,IF(Mardi!C$3=$A15,Mardi!C$1,IF(Mardi!C$4=$A15,Mardi!C$1,IF(Mardi!C$5=$A15,Mardi!C$1,IF(Mardi!C$6=$A15,Mardi!C$1,IF(Mardi!C$7=$A15,Mardi!C$1,IF(Mardi!C$8=$A15,Mardi!C$1,IF(Mardi!C$9=$A15,Mardi!C$1,IF(Mardi!C$10=$A15,Mardi!C$1,IF(Mardi!C$11=$A15,Mardi!C$1,IF(Mardi!C$12=$A15,Mardi!C$1,IF(Mardi!C$13=$A15,Mardi!C$1,IF(Mardi!C$14=$A15,Mardi!C$1,IF(Mardi!C$15=$A15,Mardi!C$1,"")))))))))))))) | T15: =IF(Mardi!D$2=$A15,Mardi!D$1,IF(Mardi!D$3=$A15,Mardi!D$1,IF(Mardi!D$4=$A15,Mardi!D$1,IF(Mardi!D$5=$A15,Mardi!D$1,IF(Mardi!D$6=$A15,Mardi!D$1,IF(Mardi!D$7=$A15,Mardi!D$1,IF(Mardi!D$8=$A15,Mardi!D$1,IF(Mardi!D$9=$A15,Mardi!D$1,IF(Mardi!D$10=$A15,Mardi!D$1,IF(Mardi!D$11=$A15,Mardi!D$1,IF(Mardi!D$12=$A15,Mardi!D$1,IF(Mardi!D$13=$A15,Mardi!D$1,IF(Mardi!D$14=$A15,Mardi!D$1,IF(Mardi!D$15=$A15,Mardi!D$1,"")))))))))))))) -> Self | U15: =IF(Mardi!E$2=$A15,Mardi!E$1,IF(Mardi!E$3=$A15,Mardi!E$1,IF(Mardi!E$4=$A15,Mardi!E$1,IF(Mardi!E$5=$A15,Mardi!E$1,IF(Mardi!E$6=$A15,Mardi!E$1,IF(Mardi!E$7=$A15,Mardi!E$1,IF(Mardi!E$8=$A15,Mardi!E$1,IF(Mardi!E$9=$A15,Mardi!E$1,IF(Mardi!E$10=$A15,Mardi!E$1,IF(Mardi!E$11=$A15,Mardi!E$1,IF(Mardi!E$12=$A15,Mardi!E$1,IF(Mardi!E$13=$A15,Mardi!E$1,IF(Mardi!E$14=$A15,Mardi!E$1,IF(Mardi!E$15=$A15,Mardi!E$1,"")))))))))))))) | V15: =IF(Mardi!F$2=$A15,Mardi!F$1,IF(Mardi!F$3=$A15,Mardi!F$1,IF(Mardi!F$4=$A15,Mardi!F$1,IF(Mardi!F$5=$A15,Mardi!F$1,IF(Mardi!F$6=$A15,Mardi!F$1,IF(Mardi!F$7=$A15,Mardi!F$1,IF(Mardi!F$8=$A15,Mardi!F$1,IF(Mardi!F$9=$A15,Mardi!F$1,IF(Mardi!F$10=$A15,Mardi!F$1,IF(Mardi!F$11=$A15,Mardi!F$1,IF(Mardi!F$12=$A15,Mardi!F$1,IF(Mardi!F$13=$A15,Mardi!F$1,IF(Mardi!F$14=$A15,Mardi!F$1,IF(Mardi!F$15=$A15,Mardi!F$1,"")))))))))))))) | W15: =IF(Mardi!G$2=$A15,Mardi!G$1,IF(Mardi!G$3=$A15,Mardi!G$1,IF(Mardi!G$4=$A15,Mardi!G$1,IF(Mardi!G$5=$A15,Mardi!G$1,IF(Mardi!G$6=$A15,Mardi!G$1,IF(Mardi!G$7=$A15,Mardi!G$1,IF(Mardi!G$8=$A15,Mardi!G$1,IF(Mardi!G$9=$A15,Mardi!G$1,IF(Mardi!G$10=$A15,Mardi!G$1,IF(Mardi!G$11=$A15,Mardi!G$1,IF(Mardi!G$12=$A15,Mardi!G$1,IF(Mardi!G$13=$A15,Mardi!G$1,IF(Mardi!G$14=$A15,Mardi!G$1,IF(Mardi!G$15=$A15,Mardi!G$1,"")))))))))))))) | X15: =IF(Mardi!H$2=$A15,Mardi!H$1,IF(Mardi!H$3=$A15,Mardi!H$1,IF(Mardi!H$4=$A15,Mardi!H$1,IF(Mardi!H$5=$A15,Mardi!H$1,IF(Mardi!H$6=$A15,Mardi!H$1,IF(Mardi!H$7=$A15,Mardi!H$1,IF(Mardi!H$8=$A15,Mardi!H$1,IF(Mardi!H$9=$A15,Mardi!H$1,IF(Mardi!H$10=$A15,Mardi!H$1,IF(Mardi!H$11=$A15,Mardi!H$1,IF(Mardi!H$12=$A15,Mardi!H$1,IF(Mardi!H$13=$A15,Mardi!H$1,IF(Mardi!H$14=$A15,Mardi!H$1,IF(Mardi!H$15=$A15,Mardi!H$1,"")))))))))))))) | Y15: =IF(Mardi!I$2=$A15,Mardi!I$1,IF(Mardi!I$3=$A15,Mardi!I$1,IF(Mardi!I$4=$A15,Mardi!I$1,IF(Mardi!I$5=$A15,Mardi!I$1,IF(Mardi!I$6=$A15,Mardi!I$1,IF(Mardi!I$7=$A15,Mardi!I$1,IF(Mardi!I$8=$A15,Mardi!I$1,IF(Mardi!I$9=$A15,Mardi!I$1,IF(Mardi!I$10=$A15,Mardi!I$1,IF(Mardi!I$11=$A15,Mardi!I$1,IF(Mardi!I$12=$A15,Mardi!I$1,IF(Mardi!I$13=$A15,Mardi!I$1,IF(Mardi!I$14=$A15,Mardi!I$1,IF(Mardi!I$15=$A15,Mardi!I$1,"")))))))))))))) | Z15: =IF(Mardi!J$2=$A15,Mardi!J$1,IF(Mardi!J$3=$A15,Mardi!J$1,IF(Mardi!J$4=$A15,Mardi!J$1,IF(Mardi!J$5=$A15,Mardi!J$1,IF(Mardi!J$6=$A15,Mardi!J$1,IF(Mardi!J$7=$A15,Mardi!J$1,IF(Mardi!J$8=$A15,Mardi!J$1,IF(Mardi!J$9=$A15,Mardi!J$1,IF(Mardi!J$10=$A15,Mardi!J$1,IF(Mardi!J$11=$A15,Mardi!J$1,IF(Mardi!J$12=$A15,Mardi!J$1,IF(Mardi!J$13=$A15,Mardi!J$1,IF(Mardi!J$14=$A15,Mardi!J$1,IF(Mardi!J$15=$A15,Mardi!J$1,"")))))))))))))) | AA15: =IF(Mercredi!B$2=$A15,Mercredi!B$1,IF(Mercredi!B$3=$A15,Mercredi!B$1,IF(Mercredi!B$4=$A15,Mercredi!B$1,IF(Mercredi!B$5=$A15,Mercredi!B$1,IF(Mercredi!B$6=$A15,Mercredi!B$1,IF(Mercredi!B$7=$A15,Mercredi!B$1,IF(Mercredi!B$8=$A15,Mercredi!B$1,IF(Mercredi!B$9=$A15,Mercredi!B$1,IF(Mercredi!B$10=$A15,Mercredi!B$1,IF(Mercredi!B$11=$A15,Mercredi!B$1,IF(Mercredi!B$12=$A15,Mercredi!B$1,IF(Mercredi!B$13=$A15,Mercredi!B$1,IF(Mercredi!B$14=$A15,Mercredi!B$1,IF(Mercredi!B$15=$A15,Mercredi!B$1,"")))))))))))))) | AB15: =IF(Mercredi!C$2=$A15,Mercredi!C$1,IF(Mercredi!C$3=$A15,Mercredi!C$1,IF(Mercredi!C$4=$A15,Mercredi!C$1,IF(Mercredi!C$5=$A15,Mercredi!C$1,IF(Mercredi!C$6=$A15,Mercredi!C$1,IF(Mercredi!C$7=$A15,Mercredi!C$1,IF(Mercredi!C$8=$A15,Mercredi!C$1,IF(Mercredi!C$9=$A15,Mercredi!C$1,IF(Mercredi!C$10=$A15,Mercredi!C$1,IF(Mercredi!C$11=$A15,Mercredi!C$1,IF(Mercredi!C$12=$A15,Mercredi!C$1,IF(Mercredi!C$13=$A15,Mercredi!C$1,IF(Mercredi!C$14=$A15,Mercredi!C$1,IF(Mercredi!C$15=$A15,Mercredi!C$1,"")))))))))))))) | AC15: =IF(Mercredi!D$2=$A15,Mercredi!D$1,IF(Mercredi!D$3=$A15,Mercredi!D$1,IF(Mercredi!D$4=$A15,Mercredi!D$1,IF(Mercredi!D$5=$A15,Mercredi!D$1,IF(Mercredi!D$6=$A15,Mercredi!D$1,IF(Mercredi!D$7=$A15,Mercredi!D$1,IF(Mercredi!D$8=$A15,Mercredi!D$1,IF(Mercredi!D$9=$A15,Mercredi!D$1,IF(Mercredi!D$10=$A15,Mercredi!D$1,IF(Mercredi!D$11=$A15,Mercredi!D$1,IF(Mercredi!D$12=$A15,Mercredi!D$1,IF(Mercredi!D$13=$A15,Mercredi!D$1,IF(Mercredi!D$14=$A15,Mercredi!D$1,IF(Mercredi!D$15=$A15,Mercredi!D$1,"")))))))))))))) | AD15: =IF(Mercredi!E$2=$A15,Mercredi!E$1,IF(Mercredi!E$3=$A15,Mercredi!E$1,IF(Mercredi!E$4=$A15,Mercredi!E$1,IF(Mercredi!E$5=$A15,Mercredi!E$1,IF(Mercredi!E$6=$A15,Mercredi!E$1,IF(Mercredi!E$7=$A15,Mercredi!E$1,IF(Mercredi!E$8=$A15,Mercredi!E$1,IF(Mercredi!E$9=$A15,Mercredi!E$1,IF(Mercredi!E$10=$A15,Mercredi!E$1,IF(Mercredi!E$11=$A15,Mercredi!E$1,IF(Mercredi!E$12=$A15,Mercredi!E$1,IF(Mercredi!E$13=$A15,Mercredi!E$1,IF(Mercredi!E$14=$A15,Mercredi!E$1,IF(Mercredi!E$15=$A15,Mercredi!E$1,"")))))))))))))) | AE15: =IF(Mercredi!F$2=$A15,Mercredi!F$1,IF(Mercredi!F$3=$A15,Mercredi!F$1,IF(Mercredi!F$4=$A15,Mercredi!F$1,IF(Mercredi!F$5=$A15,Mercredi!F$1,IF(Mercredi!F$6=$A15,Mercredi!F$1,IF(Mercredi!F$7=$A15,Mercredi!F$1,IF(Mercredi!F$8=$A15,Mercredi!F$1,IF(Mercredi!F$9=$A15,Mercredi!F$1,IF(Mercredi!F$10=$A15,Mercredi!F$1,IF(Mercredi!F$11=$A15,Mercredi!F$1,IF(Mercredi!F$12=$A15,Mercredi!F$1,IF(Mercredi!F$13=$A15,Mercredi!F$1,IF(Mercredi!F$14=$A15,Mercredi!F$1,IF(Mercredi!F$15=$A15,Mercredi!F$1,"")))))))))))))) -> At. Polyvalent | AF15: =IF(Mercredi!G$2=$A15,Mercredi!G$1,IF(Mercredi!G$3=$A15,Mercredi!G$1,IF(Mercredi!G$4=$A15,Mercredi!G$1,IF(Mercredi!G$5=$A15,Mercredi!G$1,IF(Mercredi!G$6=$A15,Mercredi!G$1,IF(Mercredi!G$7=$A15,Mercredi!G$1,IF(Mercredi!G$8=$A15,Mercredi!G$1,IF(Mercredi!G$9=$A15,Mercredi!G$1,IF(Mercredi!G$10=$A15,Mercredi!G$1,IF(Mercredi!G$11=$A15,Mercredi!G$1,IF(Mercredi!G$12=$A15,Mercredi!G$1,IF(Mercredi!G$13=$A15,Mercredi!G$1,IF(Mercredi!G$14=$A15,Mercredi!G$1,IF(Mercredi!G$15=$A15,Mercredi!G$1,"")))))))))))))) | AG15: =IF(Mercredi!H$2=$A15,Mercredi!H$1,IF(Mercredi!H$3=$A15,Mercredi!H$1,IF(Mercredi!H$4=$A15,Mercredi!H$1,IF(Mercredi!H$5=$A15,Mercredi!H$1,IF(Mercredi!H$6=$A15,Mercredi!H$1,IF(Mercredi!H$7=$A15,Mercredi!H$1,IF(Mercredi!H$8=$A15,Mercredi!H$1,IF(Mercredi!H$9=$A15,Mercredi!H$1,IF(Mercredi!H$10=$A15,Mercredi!H$1,IF(Mercredi!H$11=$A15,Mercredi!H$1,IF(Mercredi!H$12=$A15,Mercredi!H$1,IF(Mercredi!H$13=$A15,Mercredi!H$1,IF(Mercredi!H$14=$A15,Mercredi!H$1,IF(Mercredi!H$15=$A15,Mercredi!H$1,"")))))))))))))) | AH15: =IF(Mercredi!I$2=$A15,Mercredi!I$1,IF(Mercredi!I$3=$A15,Mercredi!I$1,IF(Mercredi!I$4=$A15,Mercredi!I$1,IF(Mercredi!I$5=$A15,Mercredi!I$1,IF(Mercredi!I$6=$A15,Mercredi!I$1,IF(Mercredi!I$7=$A15,Mercredi!I$1,IF(Mercredi!I$8=$A15,Mercredi!I$1,IF(Mercredi!I$9=$A15,Mercredi!I$1,IF(Mercredi!I$10=$A15,Mercredi!I$1,IF(Mercredi!I$11=$A15,Mercredi!I$1,IF(Mercredi!I$12=$A15,Mercredi!I$1,IF(Mercredi!I$13=$A15,Mercredi!I$1,IF(Mercredi!I$14=$A15,Mercredi!I$1,IF(Mercredi!I$15=$A15,Mercredi!I$1,"")))))))))))))) | AI15: =IF(Mercredi!J$2=$A15,Mercredi!J$1,IF(Mercredi!J$3=$A15,Mercredi!J$1,IF(Mercredi!J$4=$A15,Mercredi!J$1,IF(Mercredi!J$5=$A15,Mercredi!J$1,IF(Mercredi!J$6=$A15,Mercredi!J$1,IF(Mercredi!J$7=$A15,Mercredi!J$1,IF(Mercredi!J$8=$A15,Mercredi!J$1,IF(Mercredi!J$9=$A15,Mercredi!J$1,IF(Mercredi!J$10=$A15,Mercredi!J$1,IF(Mercredi!J$11=$A15,Mercredi!J$1,IF(Mercredi!J$12=$A15,Mercredi!J$1,IF(Mercredi!J$13=$A15,Mercredi!J$1,IF(Mercredi!J$14=$A15,Mercredi!J$1,IF(Mercredi!J$15=$A15,Mercredi!J$1,"")))))))))))))) | AJ15: =IF(Jeudi!B$2=$A15,Jeudi!B$1,IF(Jeudi!B$3=$A15,Jeudi!B$1,IF(Jeudi!B$4=$A15,Jeudi!B$1,IF(Jeudi!B$5=$A15,Jeudi!B$1,IF(Jeudi!B$6=$A15,Jeudi!B$1,IF(Jeudi!B$7=$A15,Jeudi!B$1,IF(Jeudi!B$8=$A15,Jeudi!B$1,IF(Jeudi!B$9=$A15,Jeudi!B$1,IF(Jeudi!B$10=$A15,Jeudi!B$1,IF(Jeudi!B$11=$A15,Jeudi!B$1,IF(Jeudi!B$12=$A15,Jeudi!B$1,IF(Jeudi!B$13=$A15,Jeudi!B$1,IF(Jeudi!B$14=$A15,Jeudi!B$1,IF(Jeudi!B$15=$A15,Jeudi!B$1,"")))))))))))))) | AK15: =IF(Jeudi!C$2=$A15,Jeudi!C$1,IF(Jeudi!C$3=$A15,Jeudi!C$1,IF(Jeudi!C$4=$A15,Jeudi!C$1,IF(Jeudi!C$5=$A15,Jeudi!C$1,IF(Jeudi!C$6=$A15,Jeudi!C$1,IF(Jeudi!C$7=$A15,Jeudi!C$1,IF(Jeudi!C$8=$A15,Jeudi!C$1,IF(Jeudi!C$9=$A15,Jeudi!C$1,IF(Jeudi!C$10=$A15,Jeudi!C$1,IF(Jeudi!C$11=$A15,Jeudi!C$1,IF(Jeudi!C$12=$A15,Jeudi!C$1,IF(Jeudi!C$13=$A15,Jeudi!C$1,IF(Jeudi!C$14=$A15,Jeudi!C$1,IF(Jeudi!C$15=$A15,Jeudi!C$1,"")))))))))))))) | AL15: =IF(Jeudi!D$2=$A15,Jeudi!D$1,IF(Jeudi!D$3=$A15,Jeudi!D$1,IF(Jeudi!D$4=$A15,Jeudi!D$1,IF(Jeudi!D$5=$A15,Jeudi!D$1,IF(Jeudi!D$6=$A15,Jeudi!D$1,IF(Jeudi!D$7=$A15,Jeudi!D$1,IF(Jeudi!D$8=$A15,Jeudi!D$1,IF(Jeudi!D$9=$A15,Jeudi!D$1,IF(Jeudi!D$10=$A15,Jeudi!D$1,IF(Jeudi!D$11=$A15,Jeudi!D$1,IF(Jeudi!D$12=$A15,Jeudi!D$1,IF(Jeudi!D$13=$A15,Jeudi!D$1,IF(Jeudi!D$14=$A15,Jeudi!D$1,IF(Jeudi!D$15=$A15,Jeudi!D$1,"")))))))))))))) | AM15: =IF(Jeudi!E$2=$A15,Jeudi!E$1,IF(Jeudi!E$3=$A15,Jeudi!E$1,IF(Jeudi!E$4=$A15,Jeudi!E$1,IF(Jeudi!E$5=$A15,Jeudi!E$1,IF(Jeudi!E$6=$A15,Jeudi!E$1,IF(Jeudi!E$7=$A15,Jeudi!E$1,IF(Jeudi!E$8=$A15,Jeudi!E$1,IF(Jeudi!E$9=$A15,Jeudi!E$1,IF(Jeudi!E$10=$A15,Jeudi!E$1,IF(Jeudi!E$11=$A15,Jeudi!E$1,IF(Jeudi!E$12=$A15,Jeudi!E$1,IF(Jeudi!E$13=$A15,Jeudi!E$1,IF(Jeudi!E$14=$A15,Jeudi!E$1,IF(Jeudi!E$15=$A15,Jeudi!E$1,"")))))))))))))) | AN15: =IF(Jeudi!F$2=$A15,Jeudi!F$1,IF(Jeudi!F$3=$A15,Jeudi!F$1,IF(Jeudi!F$4=$A15,Jeudi!F$1,IF(Jeudi!F$5=$A15,Jeudi!F$1,IF(Jeudi!F$6=$A15,Jeudi!F$1,IF(Jeudi!F$7=$A15,Jeudi!F$1,IF(Jeudi!F$8=$A15,Jeudi!F$1,IF(Jeudi!F$9=$A15,Jeudi!F$1,IF(Jeudi!F$10=$A15,Jeudi!F$1,IF(Jeudi!F$11=$A15,Jeudi!F$1,IF(Jeudi!F$12=$A15,Jeudi!F$1,IF(Jeudi!F$13=$A15,Jeudi!F$1,IF(Jeudi!F$14=$A15,Jeudi!F$1,IF(Jeudi!F$15=$A15,Jeudi!F$1,"")))))))))))))) | AO15: =IF(Jeudi!G$2=$A15,Jeudi!G$1,IF(Jeudi!G$3=$A15,Jeudi!G$1,IF(Jeudi!G$4=$A15,Jeudi!G$1,IF(Jeudi!G$5=$A15,Jeudi!G$1,IF(Jeudi!G$6=$A15,Jeudi!G$1,IF(Jeudi!G$7=$A15,Jeudi!G$1,IF(Jeudi!G$8=$A15,Jeudi!G$1,IF(Jeudi!G$9=$A15,Jeudi!G$1,IF(Jeudi!G$10=$A15,Jeudi!G$1,IF(Jeudi!G$11=$A15,Jeudi!G$1,IF(Jeudi!G$12=$A15,Jeudi!G$1,IF(Jeudi!G$13=$A15,Jeudi!G$1,IF(Jeudi!G$14=$A15,Jeudi!G$1,IF(Jeudi!G$15=$A15,Jeudi!G$1,"")))))))))))))) | AP15: =IF(Jeudi!H$2=$A15,Jeudi!H$1,IF(Jeudi!H$3=$A15,Jeudi!H$1,IF(Jeudi!H$4=$A15,Jeudi!H$1,IF(Jeudi!H$5=$A15,Jeudi!H$1,IF(Jeudi!H$6=$A15,Jeudi!H$1,IF(Jeudi!H$7=$A15,Jeudi!H$1,IF(Jeudi!H$8=$A15,Jeudi!H$1,IF(Jeudi!H$9=$A15,Jeudi!H$1,IF(Jeudi!H$10=$A15,Jeudi!H$1,IF(Jeudi!H$11=$A15,Jeudi!H$1,IF(Jeudi!H$12=$A15,Jeudi!H$1,IF(Jeudi!H$13=$A15,Jeudi!H$1,IF(Jeudi!H$14=$A15,Jeudi!H$1,IF(Jeudi!H$15=$A15,Jeudi!H$1,"")))))))))))))) | AQ15: =IF(Jeudi!I$2=$A15,Jeudi!I$1,IF(Jeudi!I$3=$A15,Jeudi!I$1,IF(Jeudi!I$4=$A15,Jeudi!I$1,IF(Jeudi!I$5=$A15,Jeudi!I$1,IF(Jeudi!I$6=$A15,Jeudi!I$1,IF(Jeudi!I$7=$A15,Jeudi!I$1,IF(Jeudi!I$8=$A15,Jeudi!I$1,IF(Jeudi!I$9=$A15,Jeudi!I$1,IF(Jeudi!I$10=$A15,Jeudi!I$1,IF(Jeudi!I$11=$A15,Jeudi!I$1,IF(Jeudi!I$12=$A15,Jeudi!I$1,IF(Jeudi!I$13=$A15,Jeudi!I$1,IF(Jeudi!I$14=$A15,Jeudi!I$1,IF(Jeudi!I$15=$A15,Jeudi!I$1,"")))))))))))))) -> Classe D | AR15: =IF(Jeudi!J$2=$A15,Jeudi!J$1,IF(Jeudi!J$3=$A15,Jeudi!J$1,IF(Jeudi!J$4=$A15,Jeudi!J$1,IF(Jeudi!J$5=$A15,Jeudi!J$1,IF(Jeudi!J$6=$A15,Jeudi!J$1,IF(Jeudi!J$7=$A15,Jeudi!J$1,IF(Jeudi!J$8=$A15,Jeudi!J$1,IF(Jeudi!J$9=$A15,Jeudi!J$1,IF(Jeudi!J$10=$A15,Jeudi!J$1,IF(Jeudi!J$11=$A15,Jeudi!J$1,IF(Jeudi!J$12=$A15,Jeudi!J$1,IF(Jeudi!J$13=$A15,Jeudi!J$1,IF(Jeudi!J$14=$A15,Jeudi!J$1,IF(Jeudi!J$15=$A15,Jeudi!J$1,"")))))))))))))) | AS15: =IF(Vendredi!B$2=$A15,Vendredi!B$1,IF(Vendredi!B$3=$A15,Vendredi!B$1,IF(Vendredi!B$4=$A15,Vendredi!B$1,IF(Vendredi!B$5=$A15,Vendredi!B$1,IF(Vendredi!B$6=$A15,Vendredi!B$1,IF(Vendredi!B$7=$A15,Vendredi!B$1,IF(Vendredi!B$8=$A15,Vendredi!B$1,IF(Vendredi!B$9=$A15,Vendredi!B$1,IF(Vendredi!B$10=$A15,Vendredi!B$1,IF(Vendredi!B$11=$A15,Vendredi!B$1,IF(Vendredi!B$12=$A15,Vendredi!B$1,IF(Vendredi!B$13=$A15,Vendredi!B$1,IF(Vendredi!B$14=$A15,Vendredi!B$1,IF(Vendredi!B$15=$A15,Vendredi!B$1,"")))))))))))))) | AT15: =IF(Vendredi!C$2=$A15,Vendredi!C$1,IF(Vendredi!C$3=$A15,Vendredi!C$1,IF(Vendredi!C$4=$A15,Vendredi!C$1,IF(Vendredi!C$5=$A15,Vendredi!C$1,IF(Vendredi!C$6=$A15,Vendredi!C$1,IF(Vendredi!C$7=$A15,Vendredi!C$1,IF(Vendredi!C$8=$A15,Vendredi!C$1,IF(Vendredi!C$9=$A15,Vendredi!C$1,IF(Vendredi!C$10=$A15,Vendredi!C$1,IF(Vendredi!C$11=$A15,Vendredi!C$1,IF(Vendredi!C$12=$A15,Vendredi!C$1,IF(Vendredi!C$13=$A15,Vendredi!C$1,IF(Vendredi!C$14=$A15,Vendredi!C$1,IF(Vendredi!C$15=$A15,Vendredi!C$1,"")))))))))))))) | AU15: =IF(Vendredi!D$2=$A15,Vendredi!D$1,IF(Vendredi!D$3=$A15,Vendredi!D$1,IF(Vendredi!D$4=$A15,Vendredi!D$1,IF(Vendredi!D$5=$A15,Vendredi!D$1,IF(Vendredi!D$6=$A15,Vendredi!D$1,IF(Vendredi!D$7=$A15,Vendredi!D$1,IF(Vendredi!D$8=$A15,Vendredi!D$1,IF(Vendredi!D$9=$A15,Vendredi!D$1,IF(Vendredi!D$10=$A15,Vendredi!D$1,IF(Vendredi!D$11=$A15,Vendredi!D$1,IF(Vendredi!D$12=$A15,Vendredi!D$1,IF(Vendredi!D$13=$A15,Vendredi!D$1,IF(Vendredi!D$14=$A15,Vendredi!D$1,IF(Vendredi!D$15=$A15,Vendredi!D$1,"")))))))))))))) -> Self | AV15: =IF(Vendredi!E$2=$A15,Vendredi!E$1,IF(Vendredi!E$3=$A15,Vendredi!E$1,IF(Vendredi!E$4=$A15,Vendredi!E$1,IF(Vendredi!E$5=$A15,Vendredi!E$1,IF(Vendredi!E$6=$A15,Vendredi!E$1,IF(Vendredi!E$7=$A15,Vendredi!E$1,IF(Vendredi!E$8=$A15,Vendredi!E$1,IF(Vendredi!E$9=$A15,Vendredi!E$1,IF(Vendredi!E$10=$A15,Vendredi!E$1,IF(Vendredi!E$11=$A15,Vendredi!E$1,IF(Vendredi!E$12=$A15,Vendredi!E$1,IF(Vendredi!E$13=$A15,Vendredi!E$1,IF(Vendredi!E$14=$A15,Vendredi!E$1,IF(Vendredi!E$15=$A15,Vendredi!E$1,"")))))))))))))) | AW15: =IF(Vendredi!F$2=$A15,Vendredi!F$1,IF(Vendredi!F$3=$A15,Vendredi!F$1,IF(Vendredi!F$4=$A15,Vendredi!F$1,IF(Vendredi!F$5=$A15,Vendredi!F$1,IF(Vendredi!F$6=$A15,Vendredi!F$1,IF(Vendredi!F$7=$A15,Vendredi!F$1,IF(Vendredi!F$8=$A15,Vendredi!F$1,IF(Vendredi!F$9=$A15,Vendredi!F$1,IF(Vendredi!F$10=$A15,Vendredi!F$1,IF(Vendredi!F$11=$A15,Vendredi!F$1,IF(Vendredi!F$12=$A15,Vendredi!F$1,IF(Vendredi!F$13=$A15,Vendredi!F$1,IF(Vendredi!F$14=$A15,Vendredi!F$1,IF(Vendredi!F$15=$A15,Vendredi!F$1,"")))))))))))))) | AX15: =IF(Vendredi!G$2=$A15,Vendredi!G$1,IF(Vendredi!G$3=$A15,Vendredi!G$1,IF(Vendredi!G$4=$A15,Vendredi!G$1,IF(Vendredi!G$5=$A15,Vendredi!G$1,IF(Vendredi!G$6=$A15,Vendredi!G$1,IF(Vendredi!G$7=$A15,Vendredi!G$1,IF(Vendredi!G$8=$A15,Vendredi!G$1,IF(Vendredi!G$9=$A15,Vendredi!G$1,IF(Vendredi!G$10=$A15,Vendredi!G$1,IF(Vendredi!G$11=$A15,Vendredi!G$1,IF(Vendredi!G$12=$A15,Vendredi!G$1,IF(Vendredi!G$13=$A15,Vendredi!G$1,IF(Vendredi!G$14=$A15,Vendredi!G$1,IF(Vendredi!G$15=$A15,Vendredi!G$1,"")))))))))))))) | AY15: =IF(Vendredi!H$2=$A15,Vendredi!H$1,IF(Vendredi!H$3=$A15,Vendredi!H$1,IF(Vendredi!H$4=$A15,Vendredi!H$1,IF(Vendredi!H$5=$A15,Vendredi!H$1,IF(Vendredi!H$6=$A15,Vendredi!H$1,IF(Vendredi!H$7=$A15,Vendredi!H$1,IF(Vendredi!H$8=$A15,Vendredi!H$1,IF(Vendredi!H$9=$A15,Vendredi!H$1,IF(Vendredi!H$10=$A15,Vendredi!H$1,IF(Vendredi!H$11=$A15,Vendredi!H$1,IF(Vendredi!H$12=$A15,Vendredi!H$1,IF(Vendredi!H$13=$A15,Vendredi!H$1,IF(Vendredi!H$14=$A15,Vendredi!H$1,IF(Vendredi!H$15=$A15,Vendredi!H$1,"")))))))))))))) | AZ15: =IF(Vendredi!I$2=$A15,Vendredi!I$1,IF(Vendredi!I$3=$A15,Vendredi!I$1,IF(Vendredi!I$4=$A15,Vendredi!I$1,IF(Vendredi!I$5=$A15,Vendredi!I$1,IF(Vendredi!I$6=$A15,Vendredi!I$1,IF(Vendredi!I$7=$A15,Vendredi!I$1,IF(Vendredi!I$8=$A15,Vendredi!I$1,IF(Vendredi!I$9=$A15,Vendredi!I$1,IF(Vendredi!I$10=$A15,Vendredi!I$1,IF(Vendredi!I$11=$A15,Vendredi!I$1,IF(Vendredi!I$12=$A15,Vendredi!I$1,IF(Vendredi!I$13=$A15,Vendredi!I$1,IF(Vendredi!I$14=$A15,Vendredi!I$1,IF(Vendredi!I$15=$A15,Vendredi!I$1,"")))))))))))))) | BA15: =IF(Vendredi!J$2=$A15,Vendredi!J$1,IF(Vendredi!J$3=$A15,Vendredi!J$1,IF(Vendredi!J$4=$A15,Vendredi!J$1,IF(Vendredi!J$5=$A15,Vendredi!J$1,IF(Vendredi!J$6=$A15,Vendredi!J$1,IF(Vendredi!J$7=$A15,Vendredi!J$1,IF(Vendredi!J$8=$A15,Vendredi!J$1,IF(Vendredi!J$9=$A15,Vendredi!J$1,IF(Vendredi!J$10=$A15,Vendredi!J$1,IF(Vendredi!J$11=$A15,Vendredi!J$1,IF(Vendredi!J$12=$A15,Vendredi!J$1,IF(Vendredi!J$13=$A15,Vendredi!J$1,IF(Vendredi!J$14=$A15,Vendredi!J$1,IF(Vendredi!J$15=$A15,Vendredi!J$1,""))))))))))))))
B16: Après Midi | C16: =I16&J16&K16&L16&M16&N16&O16&P16&Q16 -> Classe B | D16: =R16&S16&T16&U16&V16&W16&X16&Y16&Z16 -> Classe B | F16: =AJ16&AK16&AL16&AM16&AN16&AO16&AP16&AQ16&AR16 -> Self | G16: =AS16&AT16&AU16&AV16&AW16&AX16&AY16&AZ16&BA16 -> Restaurant | I16: =IF(Lundi!B$17=$A15,Lundi!B$1,IF(Lundi!B$18=$A15,Lundi!B$1,IF(Lundi!B$19=$A15,Lundi!B$1,IF(Lundi!B$20=$A15,Lundi!B$1,IF(Lundi!B$21=$A15,Lundi!B$1,IF(Lundi!B$22=$A15,Lundi!B$1,IF(Lundi!B$23=$A15,Lundi!B$1,IF(Lundi!B$24=$A15,Lundi!B$1,IF(Lundi!B$25=$A15,Lundi!B$1,IF(Lundi!B$26=$A15,Lundi!B$1,IF(Lundi!B$27=$A15,Lundi!B$1,IF(Lundi!B$28=$A15,Lundi!B$1,IF(Lundi!B$29=$A15,Lundi!B$1,IF(Lundi!B$30=$A15,Lundi!B$1,"")))))))))))))) -> Classe B | J16: =IF(Lundi!C$17=$A15,Lundi!C$1,IF(Lundi!C$18=$A15,Lundi!C$1,IF(Lundi!C$19=$A15,Lundi!C$1,IF(Lundi!C$20=$A15,Lundi!C$1,IF(Lundi!C$21=$A15,Lundi!C$1,IF(Lundi!C$22=$A15,Lundi!C$1,IF(Lundi!C$23=$A15,Lundi!C$1,IF(Lundi!C$24=$A15,Lundi!C$1,IF(Lundi!C$25=$A15,Lundi!C$1,IF(Lundi!C$26=$A15,Lundi!C$1,IF(Lundi!C$27=$A15,Lundi!C$1,IF(Lundi!C$28=$A15,Lundi!C$1,IF(Lundi!C$29=$A15,Lundi!C$1,IF(Lundi!C$30=$A15,Lundi!C$1,"")))))))))))))) | K16: =IF(Lundi!D$17=$A15,Lundi!D$1,IF(Lundi!D$18=$A15,Lundi!D$1,IF(Lundi!D$19=$A15,Lundi!D$1,IF(Lundi!D$20=$A15,Lundi!D$1,IF(Lundi!D$21=$A15,Lundi!D$1,IF(Lundi!D$22=$A15,Lundi!D$1,IF(Lundi!D$23=$A15,Lundi!D$1,IF(Lundi!D$24=$A15,Lundi!D$1,IF(Lundi!D$25=$A15,Lundi!D$1,IF(Lundi!D$26=$A15,Lundi!D$1,IF(Lundi!D$27=$A15,Lundi!D$1,IF(Lundi!D$28=$A15,Lundi!D$1,IF(Lundi!D$29=$A15,Lundi!D$1,IF(Lundi!D$30=$A15,Lundi!D$1,"")))))))))))))) | L16: =IF(Lundi!E29=$A15,Lundi!E$1,IF(Lundi!E30=$A15,Lundi!E$1,IF(Lundi!E31=$A15,Lundi!E$1,IF(Lundi!E32=$A15,Lundi!E$1,IF(Lundi!E33=$A15,Lundi!E$1,IF(Lundi!E34=$A15,Lundi!E$1,IF(Lundi!E35=$A15,Lundi!E$1,IF(Lundi!E36=$A15,Lundi!E$1,IF(Lundi!E37=$A15,Lundi!E$1,IF(Lundi!E38=$A15,Lundi!E$1,IF(Lundi!E39=$A15,Lundi!E$1,IF(Lundi!E40=$A15,Lundi!E$1,IF(Lundi!E41=$A15,Lundi!E$1,IF(Lundi!E42=$A15,Lundi!E$1,"")))))))))))))) | M16: =IF(Lundi!F29=$A15,Lundi!F$1,IF(Lundi!F30=$A15,Lundi!F$1,IF(Lundi!F31=$A15,Lundi!F$1,IF(Lundi!F32=$A15,Lundi!F$1,IF(Lundi!F33=$A15,Lundi!F$1,IF(Lundi!F34=$A15,Lundi!F$1,IF(Lundi!F35=$A15,Lundi!F$1,IF(Lundi!F36=$A15,Lundi!F$1,IF(Lundi!F37=$A15,Lundi!F$1,IF(Lundi!F38=$A15,Lundi!F$1,IF(Lundi!F39=$A15,Lundi!F$1,IF(Lundi!F40=$A15,Lundi!F$1,IF(Lundi!F41=$A15,Lundi!F$1,IF(Lundi!F42=$A15,Lundi!F$1,"")))))))))))))) | R16: =IF(Mardi!B$17=$A15,Mardi!B$1,IF(Mardi!B$18=$A15,Mardi!B$1,IF(Mardi!B$19=$A15,Mardi!B$1,IF(Mardi!B$20=$A15,Mardi!B$1,IF(Mardi!B$21=$A15,Mardi!B$1,IF(Mardi!B$22=$A15,Mardi!B$1,IF(Mardi!B$23=$A15,Mardi!B$1,IF(Mardi!B$24=$A15,Mardi!B$1,IF(Mardi!B$25=$A15,Mardi!B$1,IF(Mardi!B$26=$A15,Mardi!B$1,IF(Mardi!B$27=$A15,Mardi!B$1,IF(Mardi!B$28=$A15,Mardi!B$1,IF(Mardi!B$29=$A15,Mardi!B$1,IF(Mardi!B$30=$A15,Mardi!B$1,"")))))))))))))) -> Classe B | S16: =IF(Mardi!C$17=$A15,Mardi!C$1,IF(Mardi!C$18=$A15,Mardi!C$1,IF(Mardi!C$19=$A15,Mardi!C$1,IF(Mardi!C$20=$A15,Mardi!C$1,IF(Mardi!C$21=$A15,Mardi!C$1,IF(Mardi!C$22=$A15,Mardi!C$1,IF(Mardi!C$23=$A15,Mardi!C$1,IF(Mardi!C$24=$A15,Mardi!C$1,IF(Mardi!C$25=$A15,Mardi!C$1,IF(Mardi!C$26=$A15,Mardi!C$1,IF(Mardi!C$27=$A15,Mardi!C$1,IF(Mardi!C$28=$A15,Mardi!C$1,IF(Mardi!C$29=$A15,Mardi!C$1,IF(Mardi!C$30=$A15,Mardi!C$1,"")))))))))))))) | T16: =IF(Mardi!D$17=$A15,Mardi!D$1,IF(Mardi!D$18=$A15,Mardi!D$1,IF(Mardi!D$19=$A15,Mardi!D$1,IF(Mardi!D$20=$A15,Mardi!D$1,IF(Mardi!D$21=$A15,Mardi!D$1,IF(Mardi!D$22=$A15,Mardi!D$1,IF(Mardi!D$23=$A15,Mardi!D$1,IF(Mardi!D$24=$A15,Mardi!D$1,IF(Mardi!D$25=$A15,Mardi!D$1,IF(Mardi!D$26=$A15,Mardi!D$1,IF(Mardi!D$27=$A15,Mardi!D$1,IF(Mardi!D$28=$A15,Mardi!D$1,IF(Mardi!D$29=$A15,Mardi!D$1,IF(Mardi!D$30=$A15,Mardi!D$1,"")))))))))))))) | U16: =IF(Mardi!E$17=$A15,Mardi!E$1,IF(Mardi!E$18=$A15,Mardi!E$1,IF(Mardi!E$19=$A15,Mardi!E$1,IF(Mardi!E$20=$A15,Mardi!E$1,IF(Mardi!E$21=$A15,Mardi!E$1,IF(Mardi!E$22=$A15,Mardi!E$1,IF(Mardi!E$23=$A15,Mardi!E$1,IF(Mardi!E$24=$A15,Mardi!E$1,IF(Mardi!E$25=$A15,Mardi!E$1,IF(Mardi!E$26=$A15,Mardi!E$1,IF(Mardi!E$27=$A15,Mardi!E$1,IF(Mardi!E$28=$A15,Mardi!E$1,IF(Mardi!E$29=$A15,Mardi!E$1,IF(Mardi!E$30=$A15,Mardi!E$1,"")))))))))))))) | V16: =IF(Mardi!F$17=$A15,Mardi!F$1,IF(Mardi!F$18=$A15,Mardi!F$1,IF(Mardi!F$19=$A15,Mardi!F$1,IF(Mardi!F$20=$A15,Mardi!F$1,IF(Mardi!F$21=$A15,Mardi!F$1,IF(Mardi!F$22=$A15,Mardi!F$1,IF(Mardi!F$23=$A15,Mardi!F$1,IF(Mardi!F$24=$A15,Mardi!F$1,IF(Mardi!F$25=$A15,Mardi!F$1,IF(Mardi!F$26=$A15,Mardi!F$1,IF(Mardi!F$27=$A15,Mardi!F$1,IF(Mardi!F$28=$A15,Mardi!F$1,IF(Mardi!F$29=$A15,Mardi!F$1,IF(Mardi!F$30=$A15,Mardi!F$1,"")))))))))))))) | W16: =IF(Mardi!G$17=$A15,Mardi!G$1,IF(Mardi!G$18=$A15,Mardi!G$1,IF(Mardi!G$19=$A15,Mardi!G$1,IF(Mardi!G$20=$A15,Mardi!G$1,IF(Mardi!G$21=$A15,Mardi!G$1,IF(Mardi!G$22=$A15,Mardi!G$1,IF(Mardi!G$23=$A15,Mardi!G$1,IF(Mardi!G$24=$A15,Mardi!G$1,IF(Mardi!G$25=$A15,Mardi!G$1,IF(Mardi!G$26=$A15,Mardi!G$1,IF(Mardi!G$27=$A15,Mardi!G$1,IF(Mardi!G$28=$A15,Mardi!G$1,IF(Mardi!G$29=$A15,Mardi!G$1,IF(Mardi!G$30=$A15,Mardi!G$1,"")))))))))))))) | X16: =IF(Mardi!H$17=$A15,Mardi!H$1,IF(Mardi!H$18=$A15,Mardi!H$1,IF(Mardi!H$19=$A15,Mardi!H$1,IF(Mardi!H$20=$A15,Mardi!H$1,IF(Mardi!H$21=$A15,Mardi!H$1,IF(Mardi!H$22=$A15,Mardi!H$1,IF(Mardi!H$23=$A15,Mardi!H$1,IF(Mardi!H$24=$A15,Mardi!H$1,IF(Mardi!H$25=$A15,Mardi!H$1,IF(Mardi!H$26=$A15,Mardi!H$1,IF(Mardi!H$27=$A15,Mardi!H$1,IF(Mardi!H$28=$A15,Mardi!H$1,IF(Mardi!H$29=$A15,Mardi!H$1,IF(Mardi!H$30=$A15,Mardi!H$1,"")))))))))))))) | Y16: =IF(Mardi!I$17=$A15,Mardi!I$1,IF(Mardi!I$18=$A15,Mardi!I$1,IF(Mardi!I$19=$A15,Mardi!I$1,IF(Mardi!I$20=$A15,Mardi!I$1,IF(Mardi!I$21=$A15,Mardi!I$1,IF(Mardi!I$22=$A15,Mardi!I$1,IF(Mardi!I$23=$A15,Mardi!I$1,IF(Mardi!I$24=$A15,Mardi!I$1,IF(Mardi!I$25=$A15,Mardi!I$1,IF(Mardi!I$26=$A15,Mardi!I$1,IF(Mardi!I$27=$A15,Mardi!I$1,IF(Mardi!I$28=$A15,Mardi!I$1,IF(Mardi!I$29=$A15,Mardi!I$1,IF(Mardi!I$30=$A15,Mardi!I$1,"")))))))))))))) | Z16: =IF(Mardi!J$17=$A15,Mardi!J$1,IF(Mardi!J$18=$A15,Mardi!J$1,IF(Mardi!J$19=$A15,Mardi!J$1,IF(Mardi!J$20=$A15,Mardi!J$1,IF(Mardi!J$21=$A15,Mardi!J$1,IF(Mardi!J$22=$A15,Mardi!J$1,IF(Mardi!J$23=$A15,Mardi!J$1,IF(Mardi!J$24=$A15,Mardi!J$1,IF(Mardi!J$25=$A15,Mardi!J$1,IF(Mardi!J$26=$A15,Mardi!J$1,IF(Mardi!J$27=$A15,Mardi!J$1,IF(Mardi!J$28=$A15,Mardi!J$1,IF(Mardi!J$29=$A15,Mardi!J$1,IF(Mardi!J$30=$A15,Mardi!J$1,"")))))))))))))) | AA16: =IF(Mercredi!B$17=$A15,Mercredi!B$1,IF(Mercredi!B$18=$A15,Mercredi!B$1,IF(Mercredi!B$19=$A15,Mercredi!B$1,IF(Mercredi!B$20=$A15,Mercredi!B$1,IF(Mercredi!B$21=$A15,Mercredi!B$1,IF(Mercredi!B$22=$A15,Mercredi!B$1,IF(Mercredi!B$23=$A15,Mercredi!B$1,IF(Mercredi!B$24=$A15,Mercredi!B$1,IF(Mercredi!B$25=$A15,Mercredi!B$1,IF(Mercredi!B$26=$A15,Mercredi!B$1,IF(Mercredi!B$27=$A15,Mercredi!B$1,IF(Mercredi!B$28=$A15,Mercredi!B$1,IF(Mercredi!B$29=$A15,Mercredi!B$1,IF(Mercredi!B$30=$A15,Mercredi!B$1,"")))))))))))))) | AB16: =IF(Mercredi!C$17=$A15,Mercredi!C$1,IF(Mercredi!C$18=$A15,Mercredi!C$1,IF(Mercredi!C$19=$A15,Mercredi!C$1,IF(Mercredi!C$20=$A15,Mercredi!C$1,IF(Mercredi!C$21=$A15,Mercredi!C$1,IF(Mercredi!C$22=$A15,Mercredi!C$1,IF(Mercredi!C$23=$A15,Mercredi!C$1,IF(Mercredi!C$24=$A15,Mercredi!C$1,IF(Mercredi!C$25=$A15,Mercredi!C$1,IF(Mercredi!C$26=$A15,Mercredi!C$1,IF(Mercredi!C$27=$A15,Mercredi!C$1,IF(Mercredi!C$28=$A15,Mercredi!C$1,IF(Mercredi!C$29=$A15,Mercredi!C$1,IF(Mercredi!C$30=$A15,Mercredi!C$1,"")))))))))))))) | AC16: =IF(Mercredi!D$17=$A15,Mercredi!D$1,IF(Mercredi!D$18=$A15,Mercredi!D$1,IF(Mercredi!D$19=$A15,Mercredi!D$1,IF(Mercredi!D$20=$A15,Mercredi!D$1,IF(Mercredi!D$21=$A15,Mercredi!D$1,IF(Mercredi!D$22=$A15,Mercredi!D$1,IF(Mercredi!D$23=$A15,Mercredi!D$1,IF(Mercredi!D$24=$A15,Mercredi!D$1,IF(Mercredi!D$25=$A15,Mercredi!D$1,IF(Mercredi!D$26=$A15,Mercredi!D$1,IF(Mercredi!D$27=$A15,Mercredi!D$1,IF(Mercredi!D$28=$A15,Mercredi!D$1,IF(Mercredi!D$29=$A15,Mercredi!D$1,IF(Mercredi!D$30=$A15,Mercredi!D$1,"")))))))))))))) | AD16: =IF(Mercredi!E$17=$A15,Mercredi!E$1,IF(Mercredi!E$18=$A15,Mercredi!E$1,IF(Mercredi!E$19=$A15,Mercredi!E$1,IF(Mercredi!E$20=$A15,Mercredi!E$1,IF(Mercredi!E$21=$A15,Mercredi!E$1,IF(Mercredi!E$22=$A15,Mercredi!E$1,IF(Mercredi!E$23=$A15,Mercredi!E$1,IF(Mercredi!E$24=$A15,Mercredi!E$1,IF(Mercredi!E$25=$A15,Mercredi!E$1,IF(Mercredi!E$26=$A15,Mercredi!E$1,IF(Mercredi!E$27=$A15,Mercredi!E$1,IF(Mercredi!E$28=$A15,Mercredi!E$1,IF(Mercredi!E$29=$A15,Mercredi!E$1,IF(Mercredi!E$30=$A15,Mercredi!E$1,"")))))))))))))) | AE16: =IF(Mercredi!F$17=$A15,Mercredi!F$1,IF(Mercredi!F$18=$A15,Mercredi!F$1,IF(Mercredi!F$19=$A15,Mercredi!F$1,IF(Mercredi!F$20=$A15,Mercredi!F$1,IF(Mercredi!F$21=$A15,Mercredi!F$1,IF(Mercredi!F$22=$A15,Mercredi!F$1,IF(Mercredi!F$23=$A15,Mercredi!F$1,IF(Mercredi!F$24=$A15,Mercredi!F$1,IF(Mercredi!F$25=$A15,Mercredi!F$1,IF(Mercredi!F$26=$A15,Mercredi!F$1,IF(Mercredi!F$27=$A15,Mercredi!F$1,IF(Mercredi!F$28=$A15,Mercredi!F$1,IF(Mercredi!F$29=$A15,Mercredi!F$1,IF(Mercredi!F$30=$A15,Mercredi!F$1,"")))))))))))))) | AF16: =IF(Mercredi!G$17=$A15,Mercredi!G$1,IF(Mercredi!G$18=$A15,Mercredi!G$1,IF(Mercredi!G$19=$A15,Mercredi!G$1,IF(Mercredi!G$20=$A15,Mercredi!G$1,IF(Mercredi!G$21=$A15,Mercredi!G$1,IF(Mercredi!G$22=$A15,Mercredi!G$1,IF(Mercredi!G$23=$A15,Mercredi!G$1,IF(Mercredi!G$24=$A15,Mercredi!G$1,IF(Mercredi!G$25=$A15,Mercredi!G$1,IF(Mercredi!G$26=$A15,Mercredi!G$1,IF(Mercredi!G$27=$A15,Mercredi!G$1,IF(Mercredi!G$28=$A15,Mercredi!G$1,IF(Mercredi!G$29=$A15,Mercredi!G$1,IF(Mercredi!G$30=$A15,Mercredi!G$1,"")))))))))))))) | AG16: =IF(Mercredi!H$17=$A15,Mercredi!H$1,IF(Mercredi!H$18=$A15,Mercredi!H$1,IF(Mercredi!H$19=$A15,Mercredi!H$1,IF(Mercredi!H$20=$A15,Mercredi!H$1,IF(Mercredi!H$21=$A15,Mercredi!H$1,IF(Mercredi!H$22=$A15,Mercredi!H$1,IF(Mercredi!H$23=$A15,Mercredi!H$1,IF(Mercredi!H$24=$A15,Mercredi!H$1,IF(Mercredi!H$25=$A15,Mercredi!H$1,IF(Mercredi!H$26=$A15,Mercredi!H$1,IF(Mercredi!H$27=$A15,Mercredi!H$1,IF(Mercredi!H$28=$A15,Mercredi!H$1,IF(Mercredi!H$29=$A15,Mercredi!H$1,IF(Mercredi!H$30=$A15,Mercredi!H$1,"")))))))))))))) | AH16: =IF(Mercredi!I$17=$A15,Mercredi!I$1,IF(Mercredi!I$18=$A15,Mercredi!I$1,IF(Mercredi!I$19=$A15,Mercredi!I$1,IF(Mercredi!I$20=$A15,Mercredi!I$1,IF(Mercredi!I$21=$A15,Mercredi!I$1,IF(Mercredi!I$22=$A15,Mercredi!I$1,IF(Mercredi!I$23=$A15,Mercredi!I$1,IF(Mercredi!I$24=$A15,Mercredi!I$1,IF(Mercredi!I$25=$A15,Mercredi!I$1,IF(Mercredi!I$26=$A15,Mercredi!I$1,IF(Mercredi!I$27=$A15,Mercredi!I$1,IF(Mercredi!I$28=$A15,Mercredi!I$1,IF(Mercredi!I$29=$A15,Mercredi!I$1,IF(Mercredi!I$30=$A15,Mercredi!I$1,"")))))))))))))) | AI16: =IF(Mercredi!J$17=$A15,Mercredi!J$1,IF(Mercredi!J$18=$A15,Mercredi!J$1,IF(Mercredi!J$19=$A15,Mercredi!J$1,IF(Mercredi!J$20=$A15,Mercredi!J$1,IF(Mercredi!J$21=$A15,Mercredi!J$1,IF(Mercredi!J$22=$A15,Mercredi!J$1,IF(Mercredi!J$23=$A15,Mercredi!J$1,IF(Mercredi!J$24=$A15,Mercredi!J$1,IF(Mercredi!J$25=$A15,Mercredi!J$1,IF(Mercredi!J$26=$A15,Mercredi!J$1,IF(Mercredi!J$27=$A15,Mercredi!J$1,IF(Mercredi!J$28=$A15,Mercredi!J$1,IF(Mercredi!J$29=$A15,Mercredi!J$1,IF(Mercredi!J$30=$A15,Mercredi!J$1,"")))))))))))))) | AJ16: =IF(Jeudi!B$17=$A15,Jeudi!B$1,IF(Jeudi!B$18=$A15,Jeudi!B$1,IF(Jeudi!B$19=$A15,Jeudi!B$1,IF(Jeudi!B$20=$A15,Jeudi!B$1,IF(Jeudi!B$21=$A15,Jeudi!B$1,IF(Jeudi!B$22=$A15,Jeudi!B$1,IF(Jeudi!B$23=$A15,Jeudi!B$1,IF(Jeudi!B$24=$A15,Jeudi!B$1,IF(Jeudi!B$25=$A15,Jeudi!B$1,IF(Jeudi!B$26=$A15,Jeudi!B$1,IF(Jeudi!B$27=$A15,Jeudi!B$1,IF(Jeudi!B$28=$A15,Jeudi!B$1,IF(Jeudi!B$29=$A15,Jeudi!B$1,IF(Jeudi!B$30=$A15,Jeudi!B$1,"")))))))))))))) | AK16: =IF(Jeudi!C$17=$A15,Jeudi!C$1,IF(Jeudi!C$18=$A15,Jeudi!C$1,IF(Jeudi!C$19=$A15,Jeudi!C$1,IF(Jeudi!C$20=$A15,Jeudi!C$1,IF(Jeudi!C$21=$A15,Jeudi!C$1,IF(Jeudi!C$22=$A15,Jeudi!C$1,IF(Jeudi!C$23=$A15,Jeudi!C$1,IF(Jeudi!C$24=$A15,Jeudi!C$1,IF(Jeudi!C$25=$A15,Jeudi!C$1,IF(Jeudi!C$26=$A15,Jeudi!C$1,IF(Jeudi!C$27=$A15,Jeudi!C$1,IF(Jeudi!C$28=$A15,Jeudi!C$1,IF(Jeudi!C$29=$A15,Jeudi!C$1,IF(Jeudi!C$30=$A15,Jeudi!C$1,"")))))))))))))) | AL16: =IF(Jeudi!D$17=$A15,Jeudi!D$1,IF(Jeudi!D$18=$A15,Jeudi!D$1,IF(Jeudi!D$19=$A15,Jeudi!D$1,IF(Jeudi!D$20=$A15,Jeudi!D$1,IF(Jeudi!D$21=$A15,Jeudi!D$1,IF(Jeudi!D$22=$A15,Jeudi!D$1,IF(Jeudi!D$23=$A15,Jeudi!D$1,IF(Jeudi!D$24=$A15,Jeudi!D$1,IF(Jeudi!D$25=$A15,Jeudi!D$1,IF(Jeudi!D$26=$A15,Jeudi!D$1,IF(Jeudi!D$27=$A15,Jeudi!D$1,IF(Jeudi!D$28=$A15,Jeudi!D$1,IF(Jeudi!D$29=$A15,Jeudi!D$1,IF(Jeudi!D$30=$A15,Jeudi!D$1,"")))))))))))))) -> Self | AM16: =IF(Jeudi!E$17=$A15,Jeudi!E$1,IF(Jeudi!E$18=$A15,Jeudi!E$1,IF(Jeudi!E$19=$A15,Jeudi!E$1,IF(Jeudi!E$20=$A15,Jeudi!E$1,IF(Jeudi!E$21=$A15,Jeudi!E$1,IF(Jeudi!E$22=$A15,Jeudi!E$1,IF(Jeudi!E$23=$A15,Jeudi!E$1,IF(Jeudi!E$24=$A15,Jeudi!E$1,IF(Jeudi!E$25=$A15,Jeudi!E$1,IF(Jeudi!E$26=$A15,Jeudi!E$1,IF(Jeudi!E$27=$A15,Jeudi!E$1,IF(Jeudi!E$28=$A15,Jeudi!E$1,IF(Jeudi!E$29=$A15,Jeudi!E$1,IF(Jeudi!E$30=$A15,Jeudi!E$1,"")))))))))))))) | AN16: =IF(Jeudi!F$17=$A15,Jeudi!F$1,IF(Jeudi!F$18=$A15,Jeudi!F$1,IF(Jeudi!F$19=$A15,Jeudi!F$1,IF(Jeudi!F$20=$A15,Jeudi!F$1,IF(Jeudi!F$21=$A15,Jeudi!F$1,IF(Jeudi!F$22=$A15,Jeudi!F$1,IF(Jeudi!F$23=$A15,Jeudi!F$1,IF(Jeudi!F$24=$A15,Jeudi!F$1,IF(Jeudi!F$25=$A15,Jeudi!F$1,IF(Jeudi!F$26=$A15,Jeudi!F$1,IF(Jeudi!F$27=$A15,Jeudi!F$1,IF(Jeudi!F$28=$A15,Jeudi!F$1,IF(Jeudi!F$29=$A15,Jeudi!F$1,IF(Jeudi!F$30=$A15,Jeudi!F$1,"")))))))))))))) | AO16: =IF(Jeudi!G$17=$A15,Jeudi!G$1,IF(Jeudi!G$18=$A15,Jeudi!G$1,IF(Jeudi!G$19=$A15,Jeudi!G$1,IF(Jeudi!G$20=$A15,Jeudi!G$1,IF(Jeudi!G$21=$A15,Jeudi!G$1,IF(Jeudi!G$22=$A15,Jeudi!G$1,IF(Jeudi!G$23=$A15,Jeudi!G$1,IF(Jeudi!G$24=$A15,Jeudi!G$1,IF(Jeudi!G$25=$A15,Jeudi!G$1,IF(Jeudi!G$26=$A15,Jeudi!G$1,IF(Jeudi!G$27=$A15,Jeudi!G$1,IF(Jeudi!G$28=$A15,Jeudi!G$1,IF(Jeudi!G$29=$A15,Jeudi!G$1,IF(Jeudi!G$30=$A15,Jeudi!G$1,"")))))))))))))) | AP16: =IF(Jeudi!H$17=$A15,Jeudi!H$1,IF(Jeudi!H$18=$A15,Jeudi!H$1,IF(Jeudi!H$19=$A15,Jeudi!H$1,IF(Jeudi!H$20=$A15,Jeudi!H$1,IF(Jeudi!H$21=$A15,Jeudi!H$1,IF(Jeudi!H$22=$A15,Jeudi!H$1,IF(Jeudi!H$23=$A15,Jeudi!H$1,IF(Jeudi!H$24=$A15,Jeudi!H$1,IF(Jeudi!H$25=$A15,Jeudi!H$1,IF(Jeudi!H$26=$A15,Jeudi!H$1,IF(Jeudi!H$27=$A15,Jeudi!H$1,IF(Jeudi!H$28=$A15,Jeudi!H$1,IF(Jeudi!H$29=$A15,Jeudi!H$1,IF(Jeudi!H$30=$A15,Jeudi!H$1,"")))))))))))))) | AQ16: =IF(Jeudi!I$17=$A15,Jeudi!I$1,IF(Jeudi!I$18=$A15,Jeudi!I$1,IF(Jeudi!I$19=$A15,Jeudi!I$1,IF(Jeudi!I$20=$A15,Jeudi!I$1,IF(Jeudi!I$21=$A15,Jeudi!I$1,IF(Jeudi!I$22=$A15,Jeudi!I$1,IF(Jeudi!I$23=$A15,Jeudi!I$1,IF(Jeudi!I$24=$A15,Jeudi!I$1,IF(Jeudi!I$25=$A15,Jeudi!I$1,IF(Jeudi!I$26=$A15,Jeudi!I$1,IF(Jeudi!I$27=$A15,Jeudi!I$1,IF(Jeudi!I$28=$A15,Jeudi!I$1,IF(Jeudi!I$29=$A15,Jeudi!I$1,IF(Jeudi!I$30=$A15,Jeudi!I$1,"")))))))))))))) | AR16: =IF(Jeudi!J$17=$A15,Jeudi!J$1,IF(Jeudi!J$18=$A15,Jeudi!J$1,IF(Jeudi!J$19=$A15,Jeudi!J$1,IF(Jeudi!J$20=$A15,Jeudi!J$1,IF(Jeudi!J$21=$A15,Jeudi!J$1,IF(Jeudi!J$22=$A15,Jeudi!J$1,IF(Jeudi!J$23=$A15,Jeudi!J$1,IF(Jeudi!J$24=$A15,Jeudi!J$1,IF(Jeudi!J$25=$A15,Jeudi!J$1,IF(Jeudi!J$26=$A15,Jeudi!J$1,IF(Jeudi!J$27=$A15,Jeudi!J$1,IF(Jeudi!J$28=$A15,Jeudi!J$1,IF(Jeudi!J$29=$A15,Jeudi!J$1,IF(Jeudi!J$30=$A15,Jeudi!J$1,"")))))))))))))) | AS16: =IF(Vendredi!B$17=$A15,Vendredi!B$1,IF(Vendredi!B$18=$A15,Vendredi!B$1,IF(Vendredi!B$19=$A15,Vendredi!B$1,IF(Vendredi!B$20=$A15,Vendredi!B$1,IF(Vendredi!B$21=$A15,Vendredi!B$1,IF(Vendredi!B$22=$A15,Vendredi!B$1,IF(Vendredi!B$23=$A15,Vendredi!B$1,IF(Vendredi!B$24=$A15,Vendredi!B$1,IF(Vendredi!B$25=$A15,Vendredi!B$1,IF(Vendredi!B$26=$A15,Vendredi!B$1,IF(Vendredi!B$27=$A15,Vendredi!B$1,IF(Vendredi!B$28=$A15,Vendredi!B$1,IF(Vendredi!B$29=$A15,Vendredi!B$1,IF(Vendredi!B$30=$A15,Vendredi!B$1,"")))))))))))))) | AT16: =IF(Vendredi!C$17=$A15,Vendredi!C$1,IF(Vendredi!C$18=$A15,Vendredi!C$1,IF(Vendredi!C$19=$A15,Vendredi!C$1,IF(Vendredi!C$20=$A15,Vendredi!C$1,IF(Vendredi!C$21=$A15,Vendredi!C$1,IF(Vendredi!C$22=$A15,Vendredi!C$1,IF(Vendredi!C$23=$A15,Vendredi!C$1,IF(Vendredi!C$24=$A15,Vendredi!C$1,IF(Vendredi!C$25=$A15,Vendredi!C$1,IF(Vendredi!C$26=$A15,Vendredi!C$1,IF(Vendredi!C$27=$A15,Vendredi!C$1,IF(Vendredi!C$28=$A15,Vendredi!C$1,IF(Vendredi!C$29=$A15,Vendredi!C$1,IF(Vendredi!C$30=$A15,Vendredi!C$1,"")))))))))))))) -> Restaurant | AU16: =IF(Vendredi!D$17=$A15,Vendredi!D$1,IF(Vendredi!D$18=$A15,Vendredi!D$1,IF(Vendredi!D$19=$A15,Vendredi!D$1,IF(Vendredi!D$20=$A15,Vendredi!D$1,IF(Vendredi!D$21=$A15,Vendredi!D$1,IF(Vendredi!D$22=$A15,Vendredi!D$1,IF(Vendredi!D$23=$A15,Vendredi!D$1,IF(Vendredi!D$24=$A15,Vendredi!D$1,IF(Vendredi!D$25=$A15,Vendredi!D$1,IF(Vendredi!D$26=$A15,Vendredi!D$1,IF(Vendredi!D$27=$A15,Vendredi!D$1,IF(Vendredi!D$28=$A15,Vendredi!D$1,IF(Vendredi!D$29=$A15,Vendredi!D$1,IF(Vendredi!D$30=$A15,Vendredi!D$1,"")))))))))))))) | AV16: =IF(Vendredi!E$17=$A15,Vendredi!E$1,IF(Vendredi!E$18=$A15,Vendredi!E$1,IF(Vendredi!E$19=$A15,Vendredi!E$1,IF(Vendredi!E$20=$A15,Vendredi!E$1,IF(Vendredi!E$21=$A15,Vendredi!E$1,IF(Vendredi!E$22=$A15,Vendredi!E$1,IF(Vendredi!E$23=$A15,Vendredi!E$1,IF(Vendredi!E$24=$A15,Vendredi!E$1,IF(Vendredi!E$25=$A15,Vendredi!E$1,IF(Vendredi!E$26=$A15,Vendredi!E$1,IF(Vendredi!E$27=$A15,Vendredi!E$1,IF(Vendredi!E$28=$A15,Vendredi!E$1,IF(Vendredi!E$29=$A15,Vendredi!E$1,IF(Vendredi!E$30=$A15,Vendredi!E$1,"")))))))))))))) | AW16: =IF(Vendredi!F$17=$A15,Vendredi!F$1,IF(Vendredi!F$18=$A15,Vendredi!F$1,IF(Vendredi!F$19=$A15,Vendredi!F$1,IF(Vendredi!F$20=$A15,Vendredi!F$1,IF(Vendredi!F$21=$A15,Vendredi!F$1,IF(Vendredi!F$22=$A15,Vendredi!F$1,IF(Vendredi!F$23=$A15,Vendredi!F$1,IF(Vendredi!F$24=$A15,Vendredi!F$1,IF(Vendredi!F$25=$A15,Vendredi!F$1,IF(Vendredi!F$26=$A15,Vendredi!F$1,IF(Vendredi!F$27=$A15,Vendredi!F$1,IF(Vendredi!F$28=$A15,Vendredi!F$1,IF(Vendredi!F$29=$A15,Vendredi!F$1,IF(Vendredi!F$30=$A15,Vendredi!F$1,"")))))))))))))) | AX16: =IF(Vendredi!G$17=$A15,Vendredi!G$1,IF(Vendredi!G$18=$A15,Vendredi!G$1,IF(Vendredi!G$19=$A15,Vendredi!G$1,IF(Vendredi!G$20=$A15,Vendredi!G$1,IF(Vendredi!G$21=$A15,Vendredi!G$1,IF(Vendredi!G$22=$A15,Vendredi!G$1,IF(Vendredi!G$23=$A15,Vendredi!G$1,IF(Vendredi!G$24=$A15,Vendredi!G$1,IF(Vendredi!G$25=$A15,Vendredi!G$1,IF(Vendredi!G$26=$A15,Vendredi!G$1,IF(Vendredi!G$27=$A15,Vendredi!G$1,IF(Vendredi!G$28=$A15,Vendredi!G$1,IF(Vendredi!G$29=$A15,Vendredi!G$1,IF(Vendredi!G$30=$A15,Vendredi!G$1,"")))))))))))))) | AY16: =IF(Vendredi!H$17=$A15,Vendredi!H$1,IF(Vendredi!H$18=$A15,Vendredi!H$1,IF(Vendredi!H$19=$A15,Vendredi!H$1,IF(Vendredi!H$20=$A15,Vendredi!H$1,IF(Vendredi!H$21=$A15,Vendredi!H$1,IF(Vendredi!H$22=$A15,Vendredi!H$1,IF(Vendredi!H$23=$A15,Vendredi!H$1,IF(Vendredi!H$24=$A15,Vendredi!H$1,IF(Vendredi!H$25=$A15,Vendredi!H$1,IF(Vendredi!H$26=$A15,Vendredi!H$1,IF(Vendredi!H$27=$A15,Vendredi!H$1,IF(Vendredi!H$28=$A15,Vendredi!H$1,IF(Vendredi!H$29=$A15,Vendredi!H$1,IF(Vendredi!H$30=$A15,Vendredi!H$1,"")))))))))))))) | AZ16: =IF(Vendredi!I$17=$A15,Vendredi!I$1,IF(Vendredi!I$18=$A15,Vendredi!I$1,IF(Vendredi!I$19=$A15,Vendredi!I$1,IF(Vendredi!I$20=$A15,Vendredi!I$1,IF(Vendredi!I$21=$A15,Vendredi!I$1,IF(Vendredi!I$22=$A15,Vendredi!I$1,IF(Vendredi!I$23=$A15,Vendredi!I$1,IF(Vendredi!I$24=$A15,Vendredi!I$1,IF(Vendredi!I$25=$A15,Vendredi!I$1,IF(Vendredi!I$26=$A15,Vendredi!I$1,IF(Vendredi!I$27=$A15,Vendredi!I$1,IF(Vendredi!I$28=$A15,Vendredi!I$1,IF(Vendredi!I$29=$A15,Vendredi!I$1,IF(Vendredi!I$30=$A15,Vendredi!I$1,"")))))))))))))) | BA16: =IF(Vendredi!J$17=$A15,Vendredi!J$1,IF(Vendredi!J$18=$A15,Vendredi!J$1,IF(Vendredi!J$19=$A15,Vendredi!J$1,IF(Vendredi!J$20=$A15,Vendredi!J$1,IF(Vendredi!J$21=$A15,Vendredi!J$1,IF(Vendredi!J$22=$A15,Vendredi!J$1,IF(Vendredi!J$23=$A15,Vendredi!J$1,IF(Vendredi!J$24=$A15,Vendredi!J$1,IF(Vendredi!J$25=$A15,Vendredi!J$1,IF(Vendredi!J$26=$A15,Vendredi!J$1,IF(Vendredi!J$27=$A15,Vendredi!J$1,IF(Vendredi!J$28=$A15,Vendredi!J$1,IF(Vendredi!J$29=$A15,Vendredi!J$1,IF(Vendredi!J$30=$A15,Vendredi!J$1,""))))))))))))))
