Workbook

Sheet Listing
A1: Liste pilotes | C1: Liste circuits | E1: Liste équipes
A2: Akira Iida | C2: Autopolis
A3: Akira Ishikawa | C3: Fuji
A4: Alex Palou | C4: Inje
A5: Alex Yoong | C5: Mine
A6: Alexandre Imperatori | C6: Motegi
A7: André Couto | C7: Okayama
A8: André Lotterer | C8: Sepang
A9: Andrea Boldrini | C9: Sugo
A10: Andrea Caldarelli | C10: Suzuka
A11: Andrew Gilbert-Scott | C11: Tokashi
A12: Artem Markelov | C12: Tous les circuits
A13: Atsushi Kawamoto
A14: Benoît Tréluyer
A15: Bertrand Baguette
A16: Björn Wirdheim
A17: Daisuke Ito
A18: Daisuke Nakajima
A19: Dan Ticktum
A20: Dilantha Malagamuwa
A21: Dominik Schwager
A22: Eiichi Tajima
A23: Esteban Tuero
A24: Fabio Carbone
... A147: Yukihiro Hane

Sheet Résultats
A2: SUPER FORMULA 2019 | T2: LEGENDE
U3: Faits | V3: Influence sur les statistiques pilotes
A4: Pos | B4: Pilote | C4: Suzuka | D4: Autopolis | E4: Sugo | F4: Fuji | G4: Motegi | H4: Okayama | I4: Suzuka | J4: Points | L4: Terminées | M4: Abandons | N4: Disqualif | O4: Victoires | P4: Podiums | T4: 1 | U4: Victoire | V4: Ajoute une victoire, un podium et un départ
A5: 1 | B5: Naoki Yamamoto | C5: 2 | D5: 2 | E5: 3 | F5: DNF | G5: DSQ | H5: 1 | I5: 12 | J5: 16 | L5: =COUNTIF(C5:I5,">=1") -> 5 | M5: =COUNTIF(C5:I5,"DNF") -> 1 | N5: =COUNTIF(C5:I5,"DSQ") -> 1 | O5: =COUNTIF(C5:I5,1) -> 1 | P5: =COUNTIFS(C5:I5,">=1",C5:I5,"<=3") -> 4 | T5: 2 | U5: 2è place | V5: Ajoute un podium et un départ
A6: 2 | B6: Nick Cassidy | C6: 1 | D6: 8 | E6: 5 | F6: 5 | G6: 1 | H6: 2 | I6: DSQ | J6: 11 | L6: =COUNTIF(C6:I6,">=1") -> 6 | M6: =COUNTIF(C6:I6,"DNF") -> 0 | N6: =COUNTIF(C6:I6,"DSQ") -> 1 | O6: =COUNTIF(C6:I6,1) -> 2 | P6: =COUNTIFS(C6:I6,">=1",C6:I6,"<=3") -> 3 | T6: 3 | U6: 3è place | V6: Ajoute un podium et un départ
A7: 3 | B7: Yuhi Sekiguchi | C7: DNF | D7: 1 | J7: 10 | L7: =COUNTIF(C7:I7,">=1") -> 1 | M7: =COUNTIF(C7:I7,"DNF") -> 1 | N7: =COUNTIF(C7:I7,"DSQ") -> 0 | O7: =COUNTIF(C7:I7,1) -> 1 | P7: =COUNTIFS(C7:I7,">=1",C7:I7,"<=3") -> 1 | T7: 5 | U7: Place dans les points | V7: Ajoute un départ
A8: 4 | B8: Kenta Yamashita | C8: 3 | D8: 7 | J8: 8 | L8: =COUNTIF(C8:I8,">=1") -> 2 | M8: =COUNTIF(C8:I8,"DNF") -> 0 | N8: =COUNTIF(C8:I8,"DSQ") -> 0 | O8: =COUNTIF(C8:I8,1) -> 0 | P8: =COUNTIFS(C8:I8,">=1",C8:I8,"<=3") -> 1 | T8: 12 | U8: Place hors des points | V8: Ajoute un départ
A9: 5 | B9: Kazuya Oshima | C9: 12 | D9: 3 | J9: 6 | L9: =COUNTIF(C9:I9,">=1") -> 2 | M9: =COUNTIF(C9:I9,"DNF") -> 0 | N9: =COUNTIF(C9:I9,"DSQ") -> 0 | O9: =COUNTIF(C9:I9,1) -> 0 | P9: =COUNTIFS(C9:I9,">=1",C9:I9,"<=3") -> 1 | T9: DNF | U9: Abandon | V9: Ajoute un départ et un abandon
A10: 6 | B10: Tadasuke Makino | C10: DNF | D10: 4 | J10: 6 | L10: =COUNTIF(C10:I10,">=1") -> 1 | M10: =COUNTIF(C10:I10,"DNF") -> 1 | N10: =COUNTIF(C10:I10,"DSQ") -> 0 | O10: =COUNTIF(C10:I10,1) -> 0 | P10: =COUNTIFS(C10:I10,">=1",C10:I10,"<=3") -> 0 | T10: DSQ | U10: Disqualifié | V10: Ajoute un départ
A11: 7 | B11: Tomoki Nojiri | C11: 4 | D11: 18 | J11: 5 | L11: =COUNTIF(C11:I11,">=1") -> 2 | M11: =COUNTIF(C11:I11,"DNF") -> 0 | N11: =COUNTIF(C11:I11,"DSQ") -> 0 | O11: =COUNTIF(C11:I11,1) -> 0 | P11: =COUNTIFS(C11:I11,">=1",C11:I11,"<=3") -> 0 | T11: DNS | U11: Pas au départ
A12: 8 | B12: Nirei Fukuzumi | C12: 11 | D12: 5 | J12: 4 | L12: =COUNTIF(C12:I12,">=1") -> 2 | M12: =COUNTIF(C12:I12,"DNF") -> 0 | N12: =COUNTIF(C12:I12,"DSQ") -> 0 | O12: =COUNTIF(C12:I12,1) -> 0 | P12: =COUNTIFS(C12:I12,">=1",C12:I12,"<=3") -> 0 | T12: C | U12: Course annulée
A13: 9 | B13: Sho Tsuboi | C13: 5 | D13: 12 | J13: 4 | L13: =COUNTIF(C13:I13,">=1") -> 2 | M13: =COUNTIF(C13:I13,"DNF") -> 0 | N13: =COUNTIF(C13:I13,"DSQ") -> 0 | O13: =COUNTIF(C13:I13,1) -> 0 | P13: =COUNTIFS(C13:I13,">=1",C13:I13,"<=3") -> 0 | U13: Pas de participation
A14: 10 | B14: Yuji Kunimoto | C14: 6 | D14: 16 | J14: 4 | L14: =COUNTIF(C14:I14,">=1") -> 2 | M14: =COUNTIF(C14:I14,"DNF") -> 0 | N14: =COUNTIF(C14:I14,"DSQ") -> 0 | O14: =COUNTIF(C14:I14,1) -> 0 | P14: =COUNTIFS(C14:I14,">=1",C14:I14,"<=3") -> 0 | T14: POLE | U14: Poleman | V14: Ajoute une pole
A15: 11 | B15: Alex Palou | C15: DNF | D15: 6 | J15: 3 | L15: =COUNTIF(C15:I15,">=1") -> 1 | M15: =COUNTIF(C15:I15,"DNF") -> 1 | N15: =COUNTIF(C15:I15,"DSQ") -> 0 | O15: =COUNTIF(C15:I15,1) -> 0 | P15: =COUNTIFS(C15:I15,">=1",C15:I15,"<=3") -> 0 | T15: BEST LAP | U15: Meilleur tour | V15: Ajoute un best lap
A16: 12 | B16: Lucas Auer | C16: 7 | D16: 11 | J16: 2 | L16: =COUNTIF(C16:I16,">=1") -> 2 | M16: =COUNTIF(C16:I16,"DNF") -> 0 | N16: =COUNTIF(C16:I16,"DSQ") -> 0 | O16: =COUNTIF(C16:I16,1) -> 0 | P16: =COUNTIFS(C16:I16,">=1",C16:I16,"<=3") -> 0
A17: 13 | B17: Dan Ticktum | C17: 8 | D17: DNF | J17: 1 | L17: =COUNTIF(C17:I17,">=1") -> 1 | M17: =COUNTIF(C17:I17,"DNF") -> 1 | N17: =COUNTIF(C17:I17,"DSQ") -> 0 | O17: =COUNTIF(C17:I17,1) -> 0 | P17: =COUNTIFS(C17:I17,">=1",C17:I17,"<=3") -> 0
A18: 14 | B18: Kamui Kobayashi | C18: 9 | D18: 10 | J18: 0 | L18: =COUNTIF(C18:I18,">=1") -> 2 | M18: =COUNTIF(C18:I18,"DNF") -> 0 | N18: =COUNTIF(C18:I18,"DSQ") -> 0 | O18: =COUNTIF(C18:I18,1) -> 0 | P18: =COUNTIFS(C18:I18,">=1",C18:I18,"<=3") -> 0
A19: 15 | B19: Hiroaki Ishiura | C19: DNF | D19: 9 | J19: 0 | L19: =COUNTIF(C19:I19,">=1") -> 1 | M19: =COUNTIF(C19:I19,"DNF") -> 1 | N19: =COUNTIF(C19:I19,"DSQ") -> 0 | O19: =COUNTIF(C19:I19,1) -> 0 | P19: =COUNTIFS(C19:I19,">=1",C19:I19,"<=3") -> 0
A20: 16 | B20: Artem Markelov | C20: 10 | D20: DNF | J20: 0 | L20: =COUNTIF(C20:I20,">=1") -> 1 | M20: =COUNTIF(C20:I20,"DNF") -> 1 | N20: =COUNTIF(C20:I20,"DSQ") -> 0 | O20: =COUNTIF(C20:I20,1) -> 0 | P20: =COUNTIFS(C20:I20,">=1",C20:I20,"<=3") -> 0
A21: 17 | B21: Kazuki Nakajima | C21: DNF | D21: 13 | J21: 0 | L21: =COUNTIF(C21:I21,">=1") -> 1 | M21: =COUNTIF(C21:I21,"DNF") -> 1 | N21: =COUNTIF(C21:I21,"DSQ") -> 0 | O21: =COUNTIF(C21:I21,1) -> 0 | P21: =COUNTIFS(C21:I21,">=1",C21:I21,"<=3") -> 0
A22: 18 | B22: Ryo Hirakawa | C22: DNF | D22: 14 | J22: 0 | L22: =COUNTIF(C22:I22,">=1") -> 1 | M22: =COUNTIF(C22:I22,"DNF") -> 1 | N22: =COUNTIF(C22:I22,"DSQ") -> 0 | O22: =COUNTIF(C22:I22,1) -> 0 | P22: =COUNTIFS(C22:I22,">=1",C22:I22,"<=3") -> 0
A23: 19 | B23: Koudai Tsukakoshi | D23: 15 | J23: 0 | L23: =COUNTIF(C23:I23,">=1") -> 1 | M23: =COUNTIF(C23:I23,"DNF") -> 0 | N23: =COUNTIF(C23:I23,"DSQ") -> 0 | O23: =COUNTIF(C23:I23,1) -> 0 | P23: =COUNTIFS(C23:I23,">=1",C23:I23,"<=3") -> 0
A24: 20 | B24: Harrison Newey | C24: DNF | D24: 17 | J24: 0 | L24: =COUNTIF(C24:I24,">=1") -> 1 | M24: =COUNTIF(C24:I24,"DNF") -> 1 | N24: =COUNTIF(C24:I24,"DSQ") -> 0 | O24: =COUNTIF(C24:I24,1) -> 0 | P24: =COUNTIFS(C24:I24,">=1",C24:I24,"<=3") -> 0
A25: 21 | B25: Tristan Charpentier | C25: DNF | J25: 0 | L25: =COUNTIF(C25:I25,">=1") -> 0 | M25: =COUNTIF(C25:I25,"DNF") -> 1 | N25: =COUNTIF(C25:I25,"DSQ") -> 0 | O25: =COUNTIF(C25:I25,1) -> 0 | P25: =COUNTIFS(C25:I25,">=1",C25:I25,"<=3") -> 0
B26: POLE | C26: Tadasuke Makino | D26: Yuji Kunimoto | L26: =COUNTIF(C26:I26,">=1") -> 0 | M26: =COUNTIF(C26:I26,"DNF") -> 0 | N26: =COUNTIF(C26:I26,"DSQ") -> 0 | O26: =COUNTIF(C26:I26,1) -> 0 | P26: =COUNTIFS(C26:I26,">=1",C26:I26,"<=3") -> 0
B27: BEST LAP | C27: Alex Palou | D27: Yuhi Sekiguchi | L27: =COUNTIF(C27:I27,">=1") -> 0 | M27: =COUNTIF(C27:I27,"DNF") -> 0 | N27: =COUNTIF(C27:I27,"DSQ") -> 0 | O27: =COUNTIF(C27:I27,1) -> 0 | P27: =COUNTIFS(C27:I27,">=1",C27:I27,"<=3") -> 0
L28: =COUNTIF(C28:I28,">=1") -> 0 | M28: =COUNTIF(C28:I28,"DNF") -> 0 | N28: =COUNTIF(C28:I28,"DSQ") -> 0 | O28: =COUNTIF(C28:I28,1) -> 0 | P28: =COUNTIFS(C28:I28,">=1",C28:I28,"<=3") -> 0
A29: SUPER FORMULA 2018 | L29: =COUNTIF(C29:I29,">=1") -> 0 | M29: =COUNTIF(C29:I29,"DNF") -> 0 | N29: =COUNTIF(C29:I29,"DSQ") -> 0 | O29: =COUNTIF(C29:I29,1) -> 0 | P29: =COUNTIFS(C29:I29,">=1",C29:I29,"<=3") -> 0
L30: =COUNTIF(C30:I30,">=1") -> 0 | M30: =COUNTIF(C30:I30,"DNF") -> 0 | N30: =COUNTIF(C30:I30,"DSQ") -> 0 | O30: =COUNTIF(C30:I30,1) -> 0 | P30: =COUNTIFS(C30:I30,">=1",C30:I30,"<=3") -> 0
A31: Pos | B31: Pilote | C31: Suzuka | D31: Autopolis | E31: Sugo | F31: Fuji | G31: Motegi | H31: Okayama | I31: Suzuka | J31: Points | L31: =COUNTIF(C31:I31,">=1") -> 0 | M31: =COUNTIF(C31:I31,"DNF") -> 0 | N31: =COUNTIF(C31:I31,"DSQ") -> 0 | O31: =COUNTIF(C31:I31,1) -> 0 | P31: =COUNTIFS(C31:I31,">=1",C31:I31,"<=3") -> 0
A32: 1 | B32: Naoki Yamamoto | C32: 1 | D32: C | E32: 1 | F32: 8 | G32: 7 | H32: 10 | I32: 1 | J32: 38 | L32: =COUNTIF(C32:I32,">=1") -> 6 | M32: =COUNTIF(C32:I32,"DNF") -> 0 | N32: =COUNTIF(C32:I32,"DSQ") -> 0 | O32: =COUNTIF(C32:I32,1) -> 3 | P32: =COUNTIFS(C32:I32,">=1",C32:I32,"<=3") -> 3
A33: 2 | B33: Nick Cassidy | C33: 7 | D33: C | E33: 2 | F33: 1 | G33: 3 | H33: 5 | I33: 2 | J33: 37 | L33: =COUNTIF(C33:I33,">=1") -> 6 | M33: =COUNTIF(C33:I33,"DNF") -> 0 | N33: =COUNTIF(C33:I33,"DSQ") -> 0 | O33: =COUNTIF(C33:I33,1) -> 1 | P33: =COUNTIFS(C33:I33,">=1",C33:I33,"<=3") -> 4
A34: 3 | B34: Hiroaki Ishiura | C34: 4 | D34: C | E34: 11 | F34: 2 | G34: 1 | H34: 7 | I34: 11 | J34: 25 | L34: =COUNTIF(C34:I34,">=1") -> 6 | M34: =COUNTIF(C34:I34,"DNF") -> 0 | N34: =COUNTIF(C34:I34,"DSQ") -> 0 | O34: =COUNTIF(C34:I34,1) -> 1 | P34: =COUNTIFS(C34:I34,">=1",C34:I34,"<=3") -> 2
A35: 4 | B35: Yuhi Sekiguchi | C35: 2 | D35: C | E35: 13 | F35: 6 | G35: 16 | H35: 1 | I35: 8 | J35: 18 | L35: =COUNTIF(C35:I35,">=1") -> 6 | M35: =COUNTIF(C35:I35,"DNF") -> 0 | N35: =COUNTIF(C35:I35,"DSQ") -> 0 | O35: =COUNTIF(C35:I35,1) -> 1 | P35: =COUNTIFS(C35:I35,">=1",C35:I35,"<=3") -> 2
A36: 5 | B36: Ryo Hirakawa | C36: DNF | D36: C | E36: 9 | F36: 4 | G36: 2 | H36: 3 | I36: DNF | J36: 17 | L36: =COUNTIF(C36:I36,">=1") -> 4 | M36: =COUNTIF(C36:I36,"DNF") -> 2 | N36: =COUNTIF(C36:I36,"DSQ") -> 0 | O36: =COUNTIF(C36:I36,1) -> 0 | P36: =COUNTIFS(C36:I36,">=1",C36:I36,"<=3") -> 2
A37: 6 | B37: Kazuki Nakajima | C37: 8 | D37: C | E37: 3 | F37: 5 | H37: 17 | I37: 5 | J37: 15 | L37: =COUNTIF(C37:I37,">=1") -> 5 | M37: =COUNTIF(C37:I37,"DNF") -> 0 | N37: =COUNTIF(C37:I37,"DSQ") -> 0 | O37: =COUNTIF(C37:I37,1) -> 0 | P37: =COUNTIFS(C37:I37,">=1",C37:I37,"<=3") -> 1
A38: 7 | B38: Tomoki Nojiri | C38: 3 | D38: C | E38: 7 | F38: 14 | G38: 8 | H38: 4 | I38: 9 | J38: 12.5 | L38: =COUNTIF(C38:I38,">=1") -> 6 | M38: =COUNTIF(C38:I38,"DNF") -> 0 | N38: =COUNTIF(C38:I38,"DSQ") -> 0 | O38: =COUNTIF(C38:I38,1) -> 0 | P38: =COUNTIFS(C38:I38,">=1",C38:I38,"<=3") -> 1
A39: 8 | B39: Yuji Kunimoto | C39: 13 | D39: C | E39: DNF | F39: 3 | G39: 15 | H39: 8 | I39: 4 | J39: 11.5 | L39: =COUNTIF(C39:I39,">=1") -> 5 | M39: =COUNTIF(C39:I39,"DNF") -> 1 | N39: =COUNTIF(C39:I39,"DSQ") -> 0 | O39: =COUNTIF(C39:I39,1) -> 0 | P39: =COUNTIFS(C39:I39,">=1",C39:I39,"<=3") -> 1
A40: 9 | B40: Kenta Yamashita | C40: 9 | D40: C | E40: 8 | F40: 18 | G40: 6 | H40: 6 | I40: 3 | J40: 11.5 | L40: =COUNTIF(C40:I40,">=1") -> 6 | M40: =COUNTIF(C40:I40,"DNF") -> 0 | N40: =COUNTIF(C40:I40,"DSQ") -> 0 | O40: =COUNTIF(C40:I40,1) -> 0 | P40: =COUNTIFS(C40:I40,">=1",C40:I40,"<=3") -> 1
A41: 10 | B41: Kamui Kobayashi | C41: 10 | D41: C | E41: 6 | F41: 12 | H41: 2 | I41: 13 | J41: 7 | L41: =COUNTIF(C41:I41,">=1") -> 5 | M41: =COUNTIF(C41:I41,"DNF") -> 0 | N41: =COUNTIF(C41:I41,"DSQ") -> 0 | O41: =COUNTIF(C41:I41,1) -> 0 | P41: =COUNTIFS(C41:I41,">=1",C41:I41,"<=3") -> 1
A42: 11 | B42: Nobuharu Matsushita | C42: 12 | D42: C | E42: 10 | F42: 9 | G42: 4 | H42: 9 | I42: 7 | J42: 7 | L42: =COUNTIF(C42:I42,">=1") -> 6 | M42: =COUNTIF(C42:I42,"DNF") -> 0 | N42: =COUNTIF(C42:I42,"DSQ") -> 0 | O42: =COUNTIF(C42:I42,1) -> 0 | P42: =COUNTIFS(C42:I42,">=1",C42:I42,"<=3") -> 0
A43: 12 | B43: Kazuya Oshima | C43: 15 | D43: C | E43: 15 | F43: 7 | G43: 5 | H43: 16 | I43: 14 | J43: 6 | L43: =COUNTIF(C43:I43,">=1") -> 6 | M43: =COUNTIF(C43:I43,"DNF") -> 0 | N43: =COUNTIF(C43:I43,"DSQ") -> 0 | O43: =COUNTIF(C43:I43,1) -> 0 | P43: =COUNTIFS(C43:I43,">=1",C43:I43,"<=3") -> 0
A44: 13 | B44: Koudai Tsukakoshi | C44: 6 | D44: C | E44: 12 | F44: 13 | G44: 10 | H44: 12 | I44: 6 | J44: 6 | L44: =COUNTIF(C44:I44,">=1") -> 6 | M44: =COUNTIF(C44:I44,"DNF") -> 0 | N44: =COUNTIF(C44:I44,"DSQ") -> 0 | O44: =COUNTIF(C44:I44,1) -> 0 | P44: =COUNTIFS(C44:I44,">=1",C44:I44,"<=3") -> 0
A45: 14 | B45: Tom Dillmann | D45: C | E45: 4 | F45: 10 | G45: 12 | H45: DNF | I45: 15 | J45: 5 | L45: =COUNTIF(C45:I45,">=1") -> 4 | M45: =COUNTIF(C45:I45,"DNF") -> 1 | N45: =COUNTIF(C45:I45,"DSQ") -> 0 | O45: =COUNTIF(C45:I45,1) -> 0 | P45: =COUNTIFS(C45:I45,">=1",C45:I45,"<=3") -> 0
A46: 15 | B46: Narain Karthikeyan | C46: 17 | D46: C | E46: 5 | F46: 16 | G46: 11 | H46: 13 | I46: 17 | J46: 4 | L46: =COUNTIF(C46:I46,">=1") -> 6 | M46: =COUNTIF(C46:I46,"DNF") -> 0 | N46: =COUNTIF(C46:I46,"DSQ") -> 0 | O46: =COUNTIF(C46:I46,1) -> 0 | P46: =COUNTIFS(C46:I46,">=1",C46:I46,"<=3") -> 0
A47: 16 | B47: Takuya Izawa | C47: 5 | D47: C | E47: 14 | F47: 15 | G47: 14 | H47: 14 | I47: 16 | J47: 4 | L47: =COUNTIF(C47:I47,">=1") -> 6 | M47: =COUNTIF(C47:I47,"DNF") -> 0 | N47: =COUNTIF(C47:I47,"DSQ") -> 0 | O47: =COUNTIF(C47:I47,1) -> 0 | P47: =COUNTIFS(C47:I47,">=1",C47:I47,"<=3") -> 0
A48: 17 | B48: James Rossiter | C48: 11 | D48: C | E48: DNF | F48: 19 | G48: 9 | H48: 11 | I48: DNF | J48: 0 | L48: =COUNTIF(C48:I48,">=1") -> 4 | M48: =COUNTIF(C48:I48,"DNF") -> 2 | N48: =COUNTIF(C48:I48,"DSQ") -> 0 | O48: =COUNTIF(C48:I48,1) -> 0 | P48: =COUNTIFS(C48:I48,">=1",C48:I48,"<=3") -> 0
A49: 18 | B49: Katsumasa Chiyo | C49: 14 | D49: C | E49: DNF | F49: 17 | G49: 19 | H49: 15 | I49: 10 | J49: 0 | L49: =COUNTIF(C49:I49,">=1") -> 5 | M49: =COUNTIF(C49:I49,"DNF") -> 1 | N49: =COUNTIF(C49:I49,"DSQ") -> 0 | O49: =COUNTIF(C49:I49,1) -> 0 | P49: =COUNTIFS(C49:I49,">=1",C49:I49,"<=3") -> 0
A50: 19 | B50: Dan Ticktum | E50: DNF | F50: 11 | J50: 0 | L50: =COUNTIF(C50:I50,">=1") -> 1 | M50: =COUNTIF(C50:I50,"DNF") -> 1 | N50: =COUNTIF(C50:I50,"DSQ") -> 0 | O50: =COUNTIF(C50:I50,1) -> 0 | P50: =COUNTIFS(C50:I50,">=1",C50:I50,"<=3") -> 0
A51: 20 | B51: Nirei Fukuzumi | C51: DNF | G51: 17 | H51: 18 | I51: 12 | J51: 0 | L51: =COUNTIF(C51:I51,">=1") -> 3 | M51: =COUNTIF(C51:I51,"DNF") -> 1 | N51: =COUNTIF(C51:I51,"DSQ") -> 0 | O51: =COUNTIF(C51:I51,1) -> 0 | P51: =COUNTIFS(C51:I51,">=1",C51:I51,"<=3") -> 0
A52: 21 | B52: Yuki Nakayama | G52: 13 | J52: 0 | L52: =COUNTIF(C52:I52,">=1") -> 1 | M52: =COUNTIF(C52:I52,"DNF") -> 0 | N52: =COUNTIF(C52:I52,"DSQ") -> 0 | O52: =COUNTIF(C52:I52,1) -> 0 | P52: =COUNTIFS(C52:I52,">=1",C52:I52,"<=3") -> 0
A53: 22 | B53: Pietro Fittipaldi | C53: 16 | J53: 0 | L53: =COUNTIF(C53:I53,">=1") -> 1 | M53: =COUNTIF(C53:I53,"DNF") -> 0 | N53: =COUNTIF(C53:I53,"DSQ") -> 0 | O53: =COUNTIF(C53:I53,1) -> 0 | P53: =COUNTIFS(C53:I53,">=1",C53:I53,"<=3") -> 0
A54: 23 | B54: Sena Sakaguchi | G54: 18 | J54: 0 | L54: =COUNTIF(C54:I54,">=1") -> 1 | M54: =COUNTIF(C54:I54,"DNF") -> 0 | N54: =COUNTIF(C54:I54,"DSQ") -> 0 | O54: =COUNTIF(C54:I54,1) -> 0 | P54: =COUNTIFS(C54:I54,">=1",C54:I54,"<=3") -> 0
B55: POLE | C55: Naoki Yamamoto | D55: Ryo Hirakawa | E55: Tomoki Nojiri | F55: Nick Cassidy | G55: Hiroaki Ishiura | H55: Yuhi Sekiguchi | I55: Naoki Yamamoto | L55: =COUNTIF(C55:I55,">=1") -> 0 | M55: =COUNTIF(C55:I55,"DNF") -> 0 | N55: =COUNTIF(C55:I55,"DSQ") -> 0 | O55: =COUNTIF(C55:I55,1) -> 0 | P55: =COUNTIFS(C55:I55,">=1",C55:I55,"<=3") -> 0
B56: BEST LAP | C56: James Rossiter | E56: Yuhi Sekiguchi | F56: Nick Cassidy | G56: Nirei Fukuzumi | H56: Kamui Kobayashi | I56: Yuhi Sekiguchi | L56: =COUNTIF(C56:I56,">=1") -> 0 | M56: =COUNTIF(C56:I56,"DNF") -> 0 | N56: =COUNTIF(C56:I56,"DSQ") -> 0 | O56: =COUNTIF(C56:I56,1) -> 0 | P56: =COUNTIFS(C56:I56,">=1",C56:I56,"<=3") -> 0

Sheet Résultats en liste
A1: Date | B1: Circuit | C1: Pilote | D1: Position | E1: Points | F1: Pôle | G1: Best Lap | I1: Pôle | J1: 1
A2: 43212 | B2: Suzuka | C2: Naoki Yamamoto | D2: 1 | E2: 11 | F2: 1
A3: 43212 | B3: Suzuka | C3: Yuhi Sekiguchi | D3: 2 | E3: 8 | I3: Étiquettes de lignes | J3: Nombre de Pôle
A4: 43212 | B4: Suzuka | C4: Tomoki Nojiri | D4: 3 | E4: 6 | I4: Hiroaki Ishiura | J4: 1
A5: 43212 | B5: Suzuka | C5: Hiroaki Ishiura | D5: 4 | E5: 5 | I5: Naoki Yamamoto | J5: 2
A6: 43212 | B6: Suzuka | C6: Takuya Izawa | D6: 5 | E6: 4 | I6: Nick Cassidy | J6: 1
A7: 43212 | B7: Suzuka | C7: Koudai Tsukakoshi | D7: 6 | E7: 3 | I7: Ryo Hirakawa | J7: 1
A8: 43212 | B8: Suzuka | C8: Nick Cassidy | D8: 7 | E8: 2 | I8: Tadasuke Makino | J8: 1
A9: 43212 | B9: Suzuka | C9: Kazuki Nakajima | D9: 8 | E9: 1 | I9: Tomoki Nojiri | J9: 1
A10: 43212 | B10: Suzuka | C10: Kenta Yamashita | D10: 9 | I10: Yuhi Sekiguchi | J10: 1
A11: 43212 | B11: Suzuka | C11: Kamui Kobayashi | D11: 10 | I11: Yuji Kunimoto | J11: 1
A12: 43212 | B12: Suzuka | C12: James Rossiter | D12: 11 | G12: 1 | I12: Total général | J12: 9
A13: 43212 | B13: Suzuka | C13: Nobuharu Matsushita | D13: 12
A14: 43212 | B14: Suzuka | C14: Yuji Kunimoto | D14: 13
A15: 43212 | B15: Suzuka | C15: Katsumasa Chiyo | D15: 14
A16: 43212 | B16: Suzuka | C16: Kazuya Oshima | D16: 15
A17: 43212 | B17: Suzuka | C17: Pietro Fittipaldi | D17: 16
A18: 43212 | B18: Suzuka | C18: Narain Karthikeyan | D18: 17
A19: 43212 | B19: Suzuka | C19: Ryo Hirakawa | D19: DNF
A20: 43212 | B20: Suzuka | C20: Nirei Fukuzumi | D20: DNF
A21: 43233 | B21: Autopolis | C21: Naoki Yamamoto | D21: C
A22: 43233 | B22: Autopolis | C22: Yuhi Sekiguchi | D22: C
A23: 43233 | B23: Autopolis | C23: Tomoki Nojiri | D23: C
A24: 43233 | B24: Autopolis | C24: Hiroaki Ishiura | D24: C
A25: 43233 | B25: Autopolis | C25: Takuya Izawa | D25: C
A26: 43233 | B26: Autopolis | C26: Koudai Tsukakoshi | D26: C
A27: 43233 | B27: Autopolis | C27: Nick Cassidy | D27: C
A28: 43233 | B28: Autopolis | C28: Kazuki Nakajima | D28: C
A29: 43233 | B29: Autopolis | C29: Kenta Yamashita | D29: C
A30: 43233 | B30: Autopolis | C30: Kamui Kobayashi | D30: C
... A36: 43233 | B36: Autopolis | C36: Narain Karthikeyan | D36: C
A37: 43233 | B37: Autopolis | C37: Ryo Hirakawa | D37: C | F37: 1
A38: 43233 | B38: Autopolis | C38: Tom Dillmann | D38: C
A39: 43247 | B39: Sugo | C39: Naoki Yamamoto | D39: 1 | E39: 10
A40: 43247 | B40: Sugo | C40: Nick Cassidy | D40: 2 | E40: 8
A41: 43247 | B41: Sugo | C41: Kazuki Nakajima | D41: 3 | E41: 6
A42: 43247 | B42: Sugo | C42: Tom Dillmann | D42: 4 | E42: 5
A43: 43247 | B43: Sugo | C43: Narain Karthikeyan | D43: 5 | E43: 4
A44: 43247 | B44: Sugo | C44: Kamui Kobayashi | D44: 6 | E44: 3
A45: 43247 | B45: Sugo | C45: Tomoki Nojiri | D45: 7 | E45: 3 | F45: 1
A46: 43247 | B46: Sugo | C46: Kenta Yamashita | D46: 8 | E46: 1
A47: 43247 | B47: Sugo | C47: Ryo Hirakawa | D47: 9
A48: 43247 | B48: Sugo | C48: Nobuharu Matsushita | D48: 10
A49: 43247 | B49: Sugo | C49: Hiroaki Ishiura | D49: 11
A50: 43247 | B50: Sugo | C50: Koudai Tsukakoshi | D50: 12
A51: 43247 | B51: Sugo | C51: Yuhi Sekiguchi | D51: 13 | G51: 1
A52: 43247 | B52: Sugo | C52: Takuya Izawa | D52: 14
A53: 43247 | B53: Sugo | C53: Kazuya Oshima | D53: 15
A54: 43247 | B54: Sugo | C54: James Rossiter | D54: DNF
A55: 43247 | B55: Sugo | C55: Yuji Kunimoto | D55: DNF
A56: 43247 | B56: Sugo | C56: Katsumasa Chiyo | D56: DNF
A57: 43247 | B57: Sugo | C57: Dan Ticktum | D57: DNF
A58: 43289 | B58: Fuji | C58: Nick Cassidy | D58: 1 | E58: 11 | F58: 1 | G58: 1
A59: 43289 | B59: Fuji | C59: Hiroaki Ishiura | D59: 2 | E59: 8
A60: 43289 | B60: Fuji | C60: Yuji Kunimoto | D60: 3 | E60: 6
A61: 43289 | B61: Fuji | C61: Ryo Hirakawa | D61: 4 | E61: 5
A62: 43289 | B62: Fuji | C62: Kazuki Nakajima | D62: 5 | E62: 4
A63: 43289 | B63: Fuji | C63: Yuhi Sekiguchi | D63: 6 | E63: 3
A64: 43289 | B64: Fuji | C64: Kazuya Oshima | D64: 7 | E64: 2
A65: 43289 | B65: Fuji | C65: Naoki Yamamoto | D65: 8 | E65: 1
A66: 43289 | B66: Fuji | C66: Nobuharu Matsushita | D66: 9
A67: 43289 | B67: Fuji | C67: Tom Dillmann | D67: 10
A68: 43289 | B68: Fuji | C68: Dan Ticktum | D68: 11
A69: 43289 | B69: Fuji | C69: Kamui Kobayashi | D69: 12
A70: 43289 | B70: Fuji | C70: Koudai Tsukakoshi | D70: 13
A71: 43289 | B71: Fuji | C71: Tomoki Nojiri | D71: 14
A72: 43289 | B72: Fuji | C72: Takuya Izawa | D72: 15
A73: 43289 | B73: Fuji | C73: Narain Karthikeyan | D73: 16
A74: 43289 | B74: Fuji | C74: Katsumasa Chiyo | D74: 17
A75: 43289 | B75: Fuji | C75: Kenta Yamashita | D75: 18
A76: 43289 | B76: Fuji | C76: James Rossiter | D76: 19
A77: 43331 | B77: Motegi | C77: Hiroaki Ishiura | D77: 1 | E77: 11 | F77: 1
A78: 43331 | B78: Motegi | C78: Ryo Hirakawa | D78: 2 | E78: 8
A79: 43331 | B79: Motegi | C79: Nick Cassidy | D79: 3 | E79: 6
A80: 43331 | B80: Motegi | C80: Nobuharu Matsushita | D80: 4 | E80: 5
A81: 43331 | B81: Motegi | C81: Kazuya Oshima | D81: 5 | E81: 4
A82: 43331 | B82: Motegi | C82: Kenta Yamashita | D82: 6 | E82: 3
A83: 43331 | B83: Motegi | C83: Naoki Yamamoto | D83: 7 | E83: 2
A84: 43331 | B84: Motegi | C84: Tomoki Nojiri | D84: 8 | E84: 1
A85: 43331 | B85: Motegi | C85: James Rossiter | D85: 9
A86: 43331 | B86: Motegi | C86: Koudai Tsukakoshi | D86: 10
A87: 43331 | B87: Motegi | C87: Narain Karthikeyan | D87: 11
A88: 43331 | B88: Motegi | C88: Tom Dillmann | D88: 12
A89: 43331 | B89: Motegi | C89: Yuki Nakayama | D89: 13
A90: 43331 | B90: Motegi | C90: Takuya Izawa | D90: 14
A91: 43331 | B91: Motegi | C91: Yuji Kunimoto | D91: 15
A92: 43331 | B92: Motegi | C92: Yuhi Sekiguchi | D92: 16
A93: 43331 | B93: Motegi | C93: Nirei Fukuzumi | D93: 17 | G93: 1
A94: 43331 | B94: Motegi | C94: Sena Sakaguchi | D94: 18
A95: 43331 | B95: Motegi | C95: Katsumasa Chiyo | D95: 19
A96: 43352 | B96: Okayama | C96: Yuhi Sekiguchi | D96: 1 | E96: 11 | F96: 1
A97: 43352 | B97: Okayama | C97: Kamui Kobayashi | D97: 2 | E97: 8 | G97: 1
A98: 43352 | B98: Okayama | C98: Ryo Hirakawa | D98: 3 | E98: 6
A99: 43352 | B99: Okayama | C99: Tomoki Nojiri | D99: 4 | E99: 5
A100: 43352 | B100: Okayama | C100: Nick Cassidy | D100: 5 | E100: 4
A101: 43352 | B101: Okayama | C101: Kenta Yamashita | D101: 6 | E101: 3
A102: 43352 | B102: Okayama | C102: Hiroaki Ishiura | D102: 7 | E102: 2
A103: 43352 | B103: Okayama | C103: Yuji Kunimoto | D103: 8 | E103: 1
A104: 43352 | B104: Okayama | C104: Nobuharu Matsushita | D104: 9
A105: 43352 | B105: Okayama | C105: Naoki Yamamoto | D105: 10
...

Sheet Stats générales
B1: Courses | C1: Victoires | D1: Podiums | E1: Poles | F1: Best laps | G1: Abandons | H1: Avg | I1: Top | K1: Légende
A2: Akira Iida | B2: =SUMIF(Résultats!B:B,A2,Résultats!L:L)+SUMIF(Résultats!B:B,A2,Résultats!M:M)+SUMIF(Résultats!B:B,A2,Résultats!N:N) -> 0 | C2: =SUMIF(Résultats!B:B,A2,Résultats!O:O) -> 0 | D2: =SUMIF(Résultats!B:B,A2,Résultats!P:P) -> 0 | E2: =COUNTIF(Résultats!C$26:I$26,A2)+COUNTIF(Résultats!C$55:I$55,A2) -> 0 | F2: =COUNTIF(Résultats!C$27:I$27,A2)+COUNTIF(Résultats!C$56:I$56,A2) -> 0 | G2: =SUMIF(Résultats!B:B,A2,Résultats!M:M) -> 0 | H2: =IFERROR(SUMIF(Résultats!B:B,A2,Résultats!J:J)/SUMIF(Résultats!B:B,A2,Résultats!L:L),0) -> 0 | K2: Courses | L2: Nombre de courses terminées (chiffre) et DNF et DSQ
A3: Akira Ishikawa | B3: =SUMIF(Résultats!B:B,A3,Résultats!L:L)+SUMIF(Résultats!B:B,A3,Résultats!M:M)+SUMIF(Résultats!B:B,A3,Résultats!N:N) -> 0 | C3: =SUMIF(Résultats!B:B,A3,Résultats!O:O) -> 0 | D3: =SUMIF(Résultats!B:B,A3,Résultats!P:P) -> 0 | E3: =COUNTIF(Résultats!C$26:I$26,A3)+COUNTIF(Résultats!C$55:I$55,A3) -> 0 | F3: =COUNTIF(Résultats!C$27:I$27,A3)+COUNTIF(Résultats!C$56:I$56,A3) -> 0 | G3: =SUMIF(Résultats!B:B,A3,Résultats!M:M) -> 0 | H3: =IFERROR(SUMIF(Résultats!B:B,A3,Résultats!J:J)/SUMIF(Résultats!B:B,A3,Résultats!L:L),0) -> 0 | K3: Victoires | L3: Nombre de "1"
A4: Alex Palou | B4: =SUMIF(Résultats!B:B,A4,Résultats!L:L)+SUMIF(Résultats!B:B,A4,Résultats!M:M)+SUMIF(Résultats!B:B,A4,Résultats!N:N) -> 2 | C4: =SUMIF(Résultats!B:B,A4,Résultats!O:O) -> 0 | D4: =SUMIF(Résultats!B:B,A4,Résultats!P:P) -> 0 | E4: =COUNTIF(Résultats!C$26:I$26,A4)+COUNTIF(Résultats!C$55:I$55,A4) -> 0 | F4: =COUNTIF(Résultats!C$27:I$27,A4)+COUNTIF(Résultats!C$56:I$56,A4) -> 1 | G4: =SUMIF(Résultats!B:B,A4,Résultats!M:M) -> 1 | H4: =IFERROR(SUMIF(Résultats!B:B,A4,Résultats!J:J)/SUMIF(Résultats!B:B,A4,Résultats!L:L),0) -> 3 | K4: Podiums | L4: Nombre de "1" et "2" et "3"
A5: Alex Yoong | B5: =SUMIF(Résultats!B:B,A5,Résultats!L:L)+SUMIF(Résultats!B:B,A5,Résultats!M:M)+SUMIF(Résultats!B:B,A5,Résultats!N:N) -> 0 | C5: =SUMIF(Résultats!B:B,A5,Résultats!O:O) -> 0 | D5: =SUMIF(Résultats!B:B,A5,Résultats!P:P) -> 0 | E5: =COUNTIF(Résultats!C$26:I$26,A5)+COUNTIF(Résultats!C$55:I$55,A5) -> 0 | F5: =COUNTIF(Résultats!C$27:I$27,A5)+COUNTIF(Résultats!C$56:I$56,A5) -> 0 | G5: =SUMIF(Résultats!B:B,A5,Résultats!M:M) -> 0 | H5: =IFERROR(SUMIF(Résultats!B:B,A5,Résultats!J:J)/SUMIF(Résultats!B:B,A5,Résultats!L:L),0) -> 0 | K5: Poles | L5: Nombre de présences dans "POLE"
A6: Alexandre Imperatori | B6: =SUMIF(Résultats!B:B,A6,Résultats!L:L)+SUMIF(Résultats!B:B,A6,Résultats!M:M)+SUMIF(Résultats!B:B,A6,Résultats!N:N) -> 0 | C6: =SUMIF(Résultats!B:B,A6,Résultats!O:O) -> 0 | D6: =SUMIF(Résultats!B:B,A6,Résultats!P:P) -> 0 | E6: =COUNTIF(Résultats!C$26:I$26,A6)+COUNTIF(Résultats!C$55:I$55,A6) -> 0 | F6: =COUNTIF(Résultats!C$27:I$27,A6)+COUNTIF(Résultats!C$56:I$56,A6) -> 0 | G6: =SUMIF(Résultats!B:B,A6,Résultats!M:M) -> 0 | H6: =IFERROR(SUMIF(Résultats!B:B,A6,Résultats!J:J)/SUMIF(Résultats!B:B,A6,Résultats!L:L),0) -> 0 | K6: Best laps | L6: Nombre de présences dans "BEST LAP"
A7: André Couto | B7: =SUMIF(Résultats!B:B,A7,Résultats!L:L)+SUMIF(Résultats!B:B,A7,Résultats!M:M)+SUMIF(Résultats!B:B,A7,Résultats!N:N) -> 0 | C7: =SUMIF(Résultats!B:B,A7,Résultats!O:O) -> 0 | D7: =SUMIF(Résultats!B:B,A7,Résultats!P:P) -> 0 | E7: =COUNTIF(Résultats!C$26:I$26,A7)+COUNTIF(Résultats!C$55:I$55,A7) -> 0 | F7: =COUNTIF(Résultats!C$27:I$27,A7)+COUNTIF(Résultats!C$56:I$56,A7) -> 0 | G7: =SUMIF(Résultats!B:B,A7,Résultats!M:M) -> 0 | H7: =IFERROR(SUMIF(Résultats!B:B,A7,Résultats!J:J)/SUMIF(Résultats!B:B,A7,Résultats!L:L),0) -> 0 | K7: Abandons | L7: Nombre de "DNF"
A8: André Lotterer | B8: =SUMIF(Résultats!B:B,A8,Résultats!L:L)+SUMIF(Résultats!B:B,A8,Résultats!M:M)+SUMIF(Résultats!B:B,A8,Résultats!N:N) -> 0 | C8: =SUMIF(Résultats!B:B,A8,Résultats!O:O) -> 0 | D8: =SUMIF(Résultats!B:B,A8,Résultats!P:P) -> 0 | E8: =COUNTIF(Résultats!C$26:I$26,A8)+COUNTIF(Résultats!C$55:I$55,A8) -> 0 | F8: =COUNTIF(Résultats!C$27:I$27,A8)+COUNTIF(Résultats!C$56:I$56,A8) -> 0 | G8: =SUMIF(Résultats!B:B,A8,Résultats!M:M) -> 0 | H8: =IFERROR(SUMIF(Résultats!B:B,A8,Résultats!J:J)/SUMIF(Résultats!B:B,A8,Résultats!L:L),0) -> 0 | K8: Avg | L8: Moyenne des résultats (ne prendre en compte que les nombres, pas C ni DSQ, DNF, DNS et vide)
A9: Andrea Boldrini | B9: =SUMIF(Résultats!B:B,A9,Résultats!L:L)+SUMIF(Résultats!B:B,A9,Résultats!M:M)+SUMIF(Résultats!B:B,A9,Résultats!N:N) -> 0 | C9: =SUMIF(Résultats!B:B,A9,Résultats!O:O) -> 0 | D9: =SUMIF(Résultats!B:B,A9,Résultats!P:P) -> 0 | E9: =COUNTIF(Résultats!C$26:I$26,A9)+COUNTIF(Résultats!C$55:I$55,A9) -> 0 | F9: =COUNTIF(Résultats!C$27:I$27,A9)+COUNTIF(Résultats!C$56:I$56,A9) -> 0 | G9: =SUMIF(Résultats!B:B,A9,Résultats!M:M) -> 0 | H9: =IFERROR(SUMIF(Résultats!B:B,A9,Résultats!J:J)/SUMIF(Résultats!B:B,A9,Résultats!L:L),0) -> 0 | K9: Top | L9: Dernier meilleur résultat (plus petit chiffre) sous la forme "X - Circuit année"
A10: Andrea Caldarelli | B10: =SUMIF(Résultats!B:B,A10,Résultats!L:L)+SUMIF(Résultats!B:B,A10,Résultats!M:M)+SUMIF(Résultats!B:B,A10,Résultats!N:N) -> 0 | C10: =SUMIF(Résultats!B:B,A10,Résultats!O:O) -> 0 | D10: =SUMIF(Résultats!B:B,A10,Résultats!P:P) -> 0 | E10: =COUNTIF(Résultats!C$26:I$26,A10)+COUNTIF(Résultats!C$55:I$55,A10) -> 0 | F10: =COUNTIF(Résultats!C$27:I$27,A10)+COUNTIF(Résultats!C$56:I$56,A10) -> 0 | G10: =SUMIF(Résultats!B:B,A10,Résultats!M:M) -> 0 | H10: =IFERROR(SUMIF(Résultats!B:B,A10,Résultats!J:J)/SUMIF(Résultats!B:B,A10,Résultats!L:L),0) -> 0
A11: Andrew Gilbert-Scott | B11: =SUMIF(Résultats!B:B,A11,Résultats!L:L)+SUMIF(Résultats!B:B,A11,Résultats!M:M)+SUMIF(Résultats!B:B,A11,Résultats!N:N) -> 0 | C11: =SUMIF(Résultats!B:B,A11,Résultats!O:O) -> 0 | D11: =SUMIF(Résultats!B:B,A11,Résultats!P:P) -> 0 | E11: =COUNTIF(Résultats!C$26:I$26,A11)+COUNTIF(Résultats!C$55:I$55,A11) -> 0 | F11: =COUNTIF(Résultats!C$27:I$27,A11)+COUNTIF(Résultats!C$56:I$56,A11) -> 0 | G11: =SUMIF(Résultats!B:B,A11,Résultats!M:M) -> 0 | H11: =IFERROR(SUMIF(Résultats!B:B,A11,Résultats!J:J)/SUMIF(Résultats!B:B,A11,Résultats!L:L),0) -> 0
A12: Artem Markelov | B12: =SUMIF(Résultats!B:B,A12,Résultats!L:L)+SUMIF(Résultats!B:B,A12,Résultats!M:M)+SUMIF(Résultats!B:B,A12,Résultats!N:N) -> 2 | C12: =SUMIF(Résultats!B:B,A12,Résultats!O:O) -> 0 | D12: =SUMIF(Résultats!B:B,A12,Résultats!P:P) -> 0 | E12: =COUNTIF(Résultats!C$26:I$26,A12)+COUNTIF(Résultats!C$55:I$55,A12) -> 0 | F12: =COUNTIF(Résultats!C$27:I$27,A12)+COUNTIF(Résultats!C$56:I$56,A12) -> 0 | G12: =SUMIF(Résultats!B:B,A12,Résultats!M:M) -> 1 | H12: =IFERROR(SUMIF(Résultats!B:B,A12,Résultats!J:J)/SUMIF(Résultats!B:B,A12,Résultats!L:L),0) -> 0
A13: Atsushi Kawamoto | B13: =SUMIF(Résultats!B:B,A13,Résultats!L:L)+SUMIF(Résultats!B:B,A13,Résultats!M:M)+SUMIF(Résultats!B:B,A13,Résultats!N:N) -> 0 | C13: =SUMIF(Résultats!B:B,A13,Résultats!O:O) -> 0 | D13: =SUMIF(Résultats!B:B,A13,Résultats!P:P) -> 0 | E13: =COUNTIF(Résultats!C$26:I$26,A13)+COUNTIF(Résultats!C$55:I$55,A13) -> 0 | F13: =COUNTIF(Résultats!C$27:I$27,A13)+COUNTIF(Résultats!C$56:I$56,A13) -> 0 | G13: =SUMIF(Résultats!B:B,A13,Résultats!M:M) -> 0 | H13: =IFERROR(SUMIF(Résultats!B:B,A13,Résultats!J:J)/SUMIF(Résultats!B:B,A13,Résultats!L:L),0) -> 0
A14: Benoît Tréluyer | B14: =SUMIF(Résultats!B:B,A14,Résultats!L:L)+SUMIF(Résultats!B:B,A14,Résultats!M:M)+SUMIF(Résultats!B:B,A14,Résultats!N:N) -> 0 | C14: =SUMIF(Résultats!B:B,A14,Résultats!O:O) -> 0 | D14: =SUMIF(Résultats!B:B,A14,Résultats!P:P) -> 0 | E14: =COUNTIF(Résultats!C$26:I$26,A14)+COUNTIF(Résultats!C$55:I$55,A14) -> 0 | F14: =COUNTIF(Résultats!C$27:I$27,A14)+COUNTIF(Résultats!C$56:I$56,A14) -> 0 | G14: =SUMIF(Résultats!B:B,A14,Résultats!M:M) -> 0 | H14: =IFERROR(SUMIF(Résultats!B:B,A14,Résultats!J:J)/SUMIF(Résultats!B:B,A14,Résultats!L:L),0) -> 0
A15: Bertrand Baguette | B15: =SUMIF(Résultats!B:B,A15,Résultats!L:L)+SUMIF(Résultats!B:B,A15,Résultats!M:M)+SUMIF(Résultats!B:B,A15,Résultats!N:N) -> 0 | C15: =SUMIF(Résultats!B:B,A15,Résultats!O:O) -> 0 | D15: =SUMIF(Résultats!B:B,A15,Résultats!P:P) -> 0 | E15: =COUNTIF(Résultats!C$26:I$26,A15)+COUNTIF(Résultats!C$55:I$55,A15) -> 0 | F15: =COUNTIF(Résultats!C$27:I$27,A15)+COUNTIF(Résultats!C$56:I$56,A15) -> 0 | G15: =SUMIF(Résultats!B:B,A15,Résultats!M:M) -> 0 | H15: =IFERROR(SUMIF(Résultats!B:B,A15,Résultats!J:J)/SUMIF(Résultats!B:B,A15,Résultats!L:L),0) -> 0
A16: Björn Wirdheim | B16: =SUMIF(Résultats!B:B,A16,Résultats!L:L)+SUMIF(Résultats!B:B,A16,Résultats!M:M)+SUMIF(Résultats!B:B,A16,Résultats!N:N) -> 0 | C16: =SUMIF(Résultats!B:B,A16,Résultats!O:O) -> 0 | D16: =SUMIF(Résultats!B:B,A16,Résultats!P:P) -> 0 | E16: =COUNTIF(Résultats!C$26:I$26,A16)+COUNTIF(Résultats!C$55:I$55,A16) -> 0 | F16: =COUNTIF(Résultats!C$27:I$27,A16)+COUNTIF(Résultats!C$56:I$56,A16) -> 0 | G16: =SUMIF(Résultats!B:B,A16,Résultats!M:M) -> 0 | H16: =IFERROR(SUMIF(Résultats!B:B,A16,Résultats!J:J)/SUMIF(Résultats!B:B,A16,Résultats!L:L),0) -> 0
A17: Daisuke Ito | B17: =SUMIF(Résultats!B:B,A17,Résultats!L:L)+SUMIF(Résultats!B:B,A17,Résultats!M:M)+SUMIF(Résultats!B:B,A17,Résultats!N:N) -> 0 | C17: =SUMIF(Résultats!B:B,A17,Résultats!O:O) -> 0 | D17: =SUMIF(Résultats!B:B,A17,Résultats!P:P) -> 0 | E17: =COUNTIF(Résultats!C$26:I$26,A17)+COUNTIF(Résultats!C$55:I$55,A17) -> 0 | F17: =COUNTIF(Résultats!C$27:I$27,A17)+COUNTIF(Résultats!C$56:I$56,A17) -> 0 | G17: =SUMIF(Résultats!B:B,A17,Résultats!M:M) -> 0 | H17: =IFERROR(SUMIF(Résultats!B:B,A17,Résultats!J:J)/SUMIF(Résultats!B:B,A17,Résultats!L:L),0) -> 0
A18: Daisuke Nakajima | B18: =SUMIF(Résultats!B:B,A18,Résultats!L:L)+SUMIF(Résultats!B:B,A18,Résultats!M:M)+SUMIF(Résultats!B:B,A18,Résultats!N:N) -> 0 | C18: =SUMIF(Résultats!B:B,A18,Résultats!O:O) -> 0 | D18: =SUMIF(Résultats!B:B,A18,Résultats!P:P) -> 0 | E18: =COUNTIF(Résultats!C$26:I$26,A18)+COUNTIF(Résultats!C$55:I$55,A18) -> 0 | F18: =COUNTIF(Résultats!C$27:I$27,A18)+COUNTIF(Résultats!C$56:I$56,A18) -> 0 | G18: =SUMIF(Résultats!B:B,A18,Résultats!M:M) -> 0 | H18: =IFERROR(SUMIF(Résultats!B:B,A18,Résultats!J:J)/SUMIF(Résultats!B:B,A18,Résultats!L:L),0) -> 0
A19: Dan Ticktum | B19: =SUMIF(Résultats!B:B,A19,Résultats!L:L)+SUMIF(Résultats!B:B,A19,Résultats!M:M)+SUMIF(Résultats!B:B,A19,Résultats!N:N) -> 4 | C19: =SUMIF(Résultats!B:B,A19,Résultats!O:O) -> 0 | D19: =SUMIF(Résultats!B:B,A19,Résultats!P:P) -> 0 | E19: =COUNTIF(Résultats!C$26:I$26,A19)+COUNTIF(Résultats!C$55:I$55,A19) -> 0 | F19: =COUNTIF(Résultats!C$27:I$27,A19)+COUNTIF(Résultats!C$56:I$56,A19) -> 0 | G19: =SUMIF(Résultats!B:B,A19,Résultats!M:M) -> 2 | H19: =IFERROR(SUMIF(Résultats!B:B,A19,Résultats!J:J)/SUMIF(Résultats!B:B,A19,Résultats!L:L),0) -> 0.5
A20: Dilantha Malagamuwa | B20: =SUMIF(Résultats!B:B,A20,Résultats!L:L)+SUMIF(Résultats!B:B,A20,Résultats!M:M)+SUMIF(Résultats!B:B,A20,Résultats!N:N) -> 0 | C20: =SUMIF(Résultats!B:B,A20,Résultats!O:O) -> 0 | D20: =SUMIF(Résultats!B:B,A20,Résultats!P:P) -> 0 | E20: =COUNTIF(Résultats!C$26:I$26,A20)+COUNTIF(Résultats!C$55:I$55,A20) -> 0 | F20: =COUNTIF(Résultats!C$27:I$27,A20)+COUNTIF(Résultats!C$56:I$56,A20) -> 0 | G20: =SUMIF(Résultats!B:B,A20,Résultats!M:M) -> 0 | H20: =IFERROR(SUMIF(Résultats!B:B,A20,Résultats!J:J)/SUMIF(Résultats!B:B,A20,Résultats!L:L),0) -> 0
A21: Dominik Schwager | B21: =SUMIF(Résultats!B:B,A21,Résultats!L:L)+SUMIF(Résultats!B:B,A21,Résultats!M:M)+SUMIF(Résultats!B:B,A21,Résultats!N:N) -> 0 | C21: =SUMIF(Résultats!B:B,A21,Résultats!O:O) -> 0 | D21: =SUMIF(Résultats!B:B,A21,Résultats!P:P) -> 0 | E21: =COUNTIF(Résultats!C$26:I$26,A21)+COUNTIF(Résultats!C$55:I$55,A21) -> 0 | F21: =COUNTIF(Résultats!C$27:I$27,A21)+COUNTIF(Résultats!C$56:I$56,A21) -> 0 | G21: =SUMIF(Résultats!B:B,A21,Résultats!M:M) -> 0 | H21: =IFERROR(SUMIF(Résultats!B:B,A21,Résultats!J:J)/SUMIF(Résultats!B:B,A21,Résultats!L:L),0) -> 0
... A147: Yukihiro Hane | B147: =SUMIF(Résultats!B:B,A147,Résultats!L:L)+SUMIF(Résultats!B:B,A147,Résultats!M:M)+SUMIF(Résultats!B:B,A147,Résultats!N:N) -> 0 | C147: =SUMIF(Résultats!B:B,A147,Résultats!O:O) -> 0 | D147: =SUMIF(Résultats!B:B,A147,Résultats!P:P) -> 0 | E147: =COUNTIF(Résultats!C$26:I$26,A147)+COUNTIF(Résultats!C$55:I$55,A147) -> 0 | F147: =COUNTIF(Résultats!C$27:I$27,A147)+COUNTIF(Résultats!C$56:I$56,A147) -> 0 | G147: =SUMIF(Résultats!B:B,A147,Résultats!M:M) -> 0 | H147: =IFERROR(SUMIF(Résultats!B:B,A147,Résultats!J:J)/SUMIF(Résultats!B:B,A147,Résultats!L:L),0) -> 0

Sheet Stats par circuit
B2: Courses | K2: Légende
A3: Autopolis | K3: Courses | L3: Nombre de courses disputées sur ce circuit - ne pas compter les événements annulés "C"
A4: Fuji
A5: Inje
A6: Mine
A7: Motegi
A8: Okayama
A9: Sepang
A10: Sugo
A11: Suzuka
A12: Tokashi
A14: Sélection circuit | B14: Autopolis | K14: Stats identiques à l'onglet "Stats pilotes" mais avec un filtre par circuit
B16: Courses | C16: Victoires | D16: Podiums | E16: Poles | F16: Best laps | G16: Abandons | H16: Avg | I16: Top | K16: Légende
A17: Akira Iida | K17: Courses | L17: Nombre de courses terminée (chiffre) et DNF et DSQ
A18: Akira Ishikawa | K18: Victoires | L18: Nombre de "1"
A19: Alex Palou | K19: Podiums | L19: Nombre de "1" et "2" et "3"
A20: Alex Yoong | K20: Poles | L20: Nombre de présences dans "POLE"
A21: Alexandre Imperatori | K21: Best laps | L21: Nombre de présences dans "BEST LAP"
A22: André Couto | K22: Abandons | L22: Nombre de "DNF"
A23: André Lotterer | K23: Avg | L23: Moyenne des résultats (ne prendre en compte que les nombres, pas C ni DSQ, DNF, DNS et vide)
A24: Andrea Boldrini | K24: Top | L24: Dernier meilleur résultat (plus petit chiffre) sous la forme "X - Circuit année"
A25: Andrea Caldarelli
A26: Andrew Gilbert-Scott
A27: Artem Markelov
A28: Atsushi Kawamoto
A29: Benoît Tréluyer
A30: Bertrand Baguette
A31: Björn Wirdheim
A32: Daisuke Ito
A33: Daisuke Nakajima
A34: Dan Ticktum
A35: Dilantha Malagamuwa
A36: Dominik Schwager
... A162: Yukihiro Hane

Sheet Stats détaillées
A2: Sélection pilote | B2: Akira Iida | D2: Sélection du pilote obligatoire dans la liste déroulante
A4: Sélection cicruit | B4: Fuji | D4: Sélection du circuit obligatoire dans la liste déroulante - Tous les circuits = pas de filtre par circuit
A6: Stats | B6: Courses | C6: Victoires | D6: Podiums | E6: Poles | F6: Best laps | G6: Abandons | H6: Avg | I6: Top
A7: Total
A8: =B4 -> Fuji
A10: Derniers résultats | D10: Liste de tous les résulats en fonction de la sélection circuit du plus récent au plus vieux. Si "Tous les circuits", lister tous les résultats sans filtre de circuit du plus récent au plus vieux
