Workbook

Sheet Phase 1
A1: PHASE DE GROUPES
B4: POULE 1 | J4: POULE 2 | R4: POULE 3 | Z4: POULE 4
B5: Nom Equipe | C5: Points | D5: BP | E5: BC | F5: Diff | G5: Classement | J5: Nom Equipe | K5: Points | L5: BP | M5: BC | N5: Diff | O5: Classement | R5: Nom Equipe | S5: Points | T5: BP | U5: BC | V5: Diff | W5: Classement | Z5: Nom Equipe | AA5: Points | AB5: BP | AC5: BC | AD5: Diff | AE5: Classement
A6: =C6*100+F6 -> 695 | B6: Equipe 1 | C6: =SUMIF(B$14:B$32,B6,D$14:D$32)+SUMIF(G$14:G$32,B6,E$14:E$32) -> 7 | D6: =SUMIF(B$14:B$32,B6,C$14:C$32)+SUMIF(G$14:G$32,B6,F$14:F$32) -> 5 | E6: =SUMIF(B$14:B$32,B6,F$14:F$32)+SUMIF(G$14:G$32,B6,C$14:C$32) -> 10 | F6: =D6-E6 -> -5 | G6: =RANK(A6,A$6:A$10,0) -> 5 | I6: =K6*100+N6 -> 401 | J6: Equipe 6 | K6: =SUMIF(J$14:J$32,J6,L$14:L$32)+SUMIF(O$14:O$32,J6,M$14:M$32) -> 4 | L6: =SUMIF(J$14:J$32,J6,K$14:K$32)+SUMIF(O$14:O$32,J6,N$14:N$32) -> 1 | M6: =SUMIF(J$14:J$32,J6,N$14:N$32)+SUMIF(O$14:O$32,J6,K$14:K$32) -> 0 | N6: =L6-M6 -> 1 | O6: =RANK(I6,I$6:I$10,0) -> 2 | Q6: =S6*100+V6 -> 401 | R6: Equipe 11 | S6: =SUMIF(R$14:R$32,R6,T$14:T$32)+SUMIF(W$14:W$32,R6,U$14:U$32) -> 4 | T6: =SUMIF(R$14:R$32,R6,S$14:S$32)+SUMIF(W$14:W$32,R6,V$14:V$32) -> 1 | U6: =SUMIF(R$14:R$32,R6,V$14:V$32)+SUMIF(W$14:W$32,R6,S$14:S$32) -> 0 | V6: =T6-U6 -> 1 | W6: =RANK(Q6,Q$6:Q$10,0) -> 2 | Y6: =AA6*100+AD6 -> 401 | Z6: Equipe 16 | AA6: =SUMIF(Z$14:Z$32,Z6,AB$14:AB$32)+SUMIF(AE$14:AE$32,Z6,AC$14:AC$32) -> 4 | AB6: =SUMIF(Z$14:Z$32,Z6,AA$14:AA$32)+SUMIF(AE$14:AE$32,Z6,AD$14:AD$32) -> 1 | AC6: =SUMIF(Z$14:Z$32,Z6,AD$14:AD$32)+SUMIF(AE$14:AE$32,Z6,AA$14:AA$32) -> 0 | AD6: =AB6-AC6 -> 1 | AE6: =RANK(Y6,Y$6:Y$10,0) -> 2
A7: =C7*100+F7 -> 1203 | B7: Equipe 2 | C7: =SUMIF(B$14:B$32,B7,D$14:D$32)+SUMIF(G$14:G$32,B7,E$14:E$32) -> 12 | D7: =SUMIF(B$14:B$32,B7,C$14:C$32)+SUMIF(G$14:G$32,B7,F$14:F$32) -> 9 | E7: =SUMIF(B$14:B$32,B7,F$14:F$32)+SUMIF(G$14:G$32,B7,C$14:C$32) -> 6 | F7: =D7-E7 -> 3 | G7: =RANK(A7,A$6:A$10,0) -> 2 | I7: =K7*100+N7 -> 99 | J7: Equipe 7 | K7: =SUMIF(J$14:J$32,J7,L$14:L$32)+SUMIF(O$14:O$32,J7,M$14:M$32) -> 1 | L7: =SUMIF(J$14:J$32,J7,K$14:K$32)+SUMIF(O$14:O$32,J7,N$14:N$32) -> 0 | M7: =SUMIF(J$14:J$32,J7,N$14:N$32)+SUMIF(O$14:O$32,J7,K$14:K$32) -> 1 | N7: =L7-M7 -> -1 | O7: =RANK(I7,I$6:I$10,0) -> 3 | Q7: =S7*100+V7 -> 99 | R7: Equipe 12 | S7: =SUMIF(R$14:R$32,R7,T$14:T$32)+SUMIF(W$14:W$32,R7,U$14:U$32) -> 1 | T7: =SUMIF(R$14:R$32,R7,S$14:S$32)+SUMIF(W$14:W$32,R7,V$14:V$32) -> 0 | U7: =SUMIF(R$14:R$32,R7,V$14:V$32)+SUMIF(W$14:W$32,R7,S$14:S$32) -> 1 | V7: =T7-U7 -> -1 | W7: =RANK(Q7,Q$6:Q$10,0) -> 3 | Y7: =AA7*100+AD7 -> 99 | Z7: Equipe 17 | AA7: =SUMIF(Z$14:Z$32,Z7,AB$14:AB$32)+SUMIF(AE$14:AE$32,Z7,AC$14:AC$32) -> 1 | AB7: =SUMIF(Z$14:Z$32,Z7,AA$14:AA$32)+SUMIF(AE$14:AE$32,Z7,AD$14:AD$32) -> 0 | AC7: =SUMIF(Z$14:Z$32,Z7,AD$14:AD$32)+SUMIF(AE$14:AE$32,Z7,AA$14:AA$32) -> 1 | AD7: =AB7-AC7 -> -1 | AE7: =RANK(Y7,Y$6:Y$10,0) -> 3
A8: =C8*100+F8 -> 1305 | B8: Equipe 3 | C8: =SUMIF(B$14:B$32,B8,D$14:D$32)+SUMIF(G$14:G$32,B8,E$14:E$32) -> 13 | D8: =SUMIF(B$14:B$32,B8,C$14:C$32)+SUMIF(G$14:G$32,B8,F$14:F$32) -> 10 | E8: =SUMIF(B$14:B$32,B8,F$14:F$32)+SUMIF(G$14:G$32,B8,C$14:C$32) -> 5 | F8: =D8-E8 -> 5 | G8: =RANK(A8,A$6:A$10,0) -> 1 | I8: =K8*100+N8 -> 402 | J8: Equipe 8 | K8: =SUMIF(J$14:J$32,J8,L$14:L$32)+SUMIF(O$14:O$32,J8,M$14:M$32) -> 4 | L8: =SUMIF(J$14:J$32,J8,K$14:K$32)+SUMIF(O$14:O$32,J8,N$14:N$32) -> 2 | M8: =SUMIF(J$14:J$32,J8,N$14:N$32)+SUMIF(O$14:O$32,J8,K$14:K$32) -> 0 | N8: =L8-M8 -> 2 | O8: =RANK(I8,I$6:I$10,0) -> 1 | Q8: =S8*100+V8 -> 402 | R8: Equipe 13 | S8: =SUMIF(R$14:R$32,R8,T$14:T$32)+SUMIF(W$14:W$32,R8,U$14:U$32) -> 4 | T8: =SUMIF(R$14:R$32,R8,S$14:S$32)+SUMIF(W$14:W$32,R8,V$14:V$32) -> 2 | U8: =SUMIF(R$14:R$32,R8,V$14:V$32)+SUMIF(W$14:W$32,R8,S$14:S$32) -> 0 | V8: =T8-U8 -> 2 | W8: =RANK(Q8,Q$6:Q$10,0) -> 1 | Y8: =AA8*100+AD8 -> 402 | Z8: Equipe 18 | AA8: =SUMIF(Z$14:Z$32,Z8,AB$14:AB$32)+SUMIF(AE$14:AE$32,Z8,AC$14:AC$32) -> 4 | AB8: =SUMIF(Z$14:Z$32,Z8,AA$14:AA$32)+SUMIF(AE$14:AE$32,Z8,AD$14:AD$32) -> 2 | AC8: =SUMIF(Z$14:Z$32,Z8,AD$14:AD$32)+SUMIF(AE$14:AE$32,Z8,AA$14:AA$32) -> 0 | AD8: =AB8-AC8 -> 2 | AE8: =RANK(Y8,Y$6:Y$10,0) -> 1
A9: =C9*100+F9 -> 797 | B9: Equipe 4 | C9: =SUMIF(B$14:B$32,B9,D$14:D$32)+SUMIF(G$14:G$32,B9,E$14:E$32) -> 8 | D9: =SUMIF(B$14:B$32,B9,C$14:C$32)+SUMIF(G$14:G$32,B9,F$14:F$32) -> 8 | E9: =SUMIF(B$14:B$32,B9,F$14:F$32)+SUMIF(G$14:G$32,B9,C$14:C$32) -> 11 | F9: =D9-E9 -> -3 | G9: =RANK(A9,A$6:A$10,0) -> 4 | I9: =K9*100+N9 -> 98 | J9: Equipe 9 | K9: =SUMIF(J$14:J$32,J9,L$14:L$32)+SUMIF(O$14:O$32,J9,M$14:M$32) -> 1 | L9: =SUMIF(J$14:J$32,J9,K$14:K$32)+SUMIF(O$14:O$32,J9,N$14:N$32) -> 0 | M9: =SUMIF(J$14:J$32,J9,N$14:N$32)+SUMIF(O$14:O$32,J9,K$14:K$32) -> 2 | N9: =L9-M9 -> -2 | O9: =RANK(I9,I$6:I$10,0) -> 4 | Q9: =S9*100+V9 -> 98 | R9: Equipe 14 | S9: =SUMIF(R$14:R$32,R9,T$14:T$32)+SUMIF(W$14:W$32,R9,U$14:U$32) -> 1 | T9: =SUMIF(R$14:R$32,R9,S$14:S$32)+SUMIF(W$14:W$32,R9,V$14:V$32) -> 0 | U9: =SUMIF(R$14:R$32,R9,V$14:V$32)+SUMIF(W$14:W$32,R9,S$14:S$32) -> 2 | V9: =T9-U9 -> -2 | W9: =RANK(Q9,Q$6:Q$10,0) -> 4 | Y9: =AA9*100+AD9 -> 98 | Z9: Equipe 19 | AA9: =SUMIF(Z$14:Z$32,Z9,AB$14:AB$32)+SUMIF(AE$14:AE$32,Z9,AC$14:AC$32) -> 1 | AB9: =SUMIF(Z$14:Z$32,Z9,AA$14:AA$32)+SUMIF(AE$14:AE$32,Z9,AD$14:AD$32) -> 0 | AC9: =SUMIF(Z$14:Z$32,Z9,AD$14:AD$32)+SUMIF(AE$14:AE$32,Z9,AA$14:AA$32) -> 2 | AD9: =AB9-AC9 -> -2 | AE9: =RANK(Y9,Y$6:Y$10,0) -> 4
A10: =C10*100+F10 -> 800 | B10: Equipe 5 | C10: =SUMIF(B$14:B$32,B10,D$14:D$32)+SUMIF(G$14:G$32,B10,E$14:E$32) -> 8 | D10: =SUMIF(B$14:B$32,B10,C$14:C$32)+SUMIF(G$14:G$32,B10,F$14:F$32) -> 8 | E10: =SUMIF(B$14:B$32,B10,F$14:F$32)+SUMIF(G$14:G$32,B10,C$14:C$32) -> 8 | F10: =D10-E10 -> 0 | G10: =RANK(A10,A$6:A$10,0) -> 3 | I10: =K10*100+N10 -> 0 | J10: Equipe 10 | K10: =SUMIF(J$14:J$32,J10,L$14:L$32)+SUMIF(O$14:O$32,J10,M$14:M$32) -> 0 | L10: =SUMIF(J$14:J$32,J10,K$14:K$32)+SUMIF(O$14:O$32,J10,N$14:N$32) -> 0 | M10: =SUMIF(J$14:J$32,J10,N$14:N$32)+SUMIF(O$14:O$32,J10,K$14:K$32) -> 0 | N10: =L10-M10 -> 0 | O10: =RANK(I10,I$6:I$10,0) -> 5 | Q10: =S10*100+V10 -> 0 | R10: Equipe 15 | S10: =SUMIF(R$14:R$32,R10,T$14:T$32)+SUMIF(W$14:W$32,R10,U$14:U$32) -> 0 | T10: =SUMIF(R$14:R$32,R10,S$14:S$32)+SUMIF(W$14:W$32,R10,V$14:V$32) -> 0 | U10: =SUMIF(R$14:R$32,R10,V$14:V$32)+SUMIF(W$14:W$32,R10,S$14:S$32) -> 0 | V10: =T10-U10 -> 0 | W10: =RANK(Q10,Q$6:Q$10,0) -> 5 | Y10: =AA10*100+AD10 -> 0 | Z10: Equipe 20 | AA10: =SUMIF(Z$14:Z$32,Z10,AB$14:AB$32)+SUMIF(AE$14:AE$32,Z10,AC$14:AC$32) -> 0 | AB10: =SUMIF(Z$14:Z$32,Z10,AA$14:AA$32)+SUMIF(AE$14:AE$32,Z10,AD$14:AD$32) -> 0 | AC10: =SUMIF(Z$14:Z$32,Z10,AD$14:AD$32)+SUMIF(AE$14:AE$32,Z10,AA$14:AA$32) -> 0 | AD10: =AB10-AC10 -> 0 | AE10: =RANK(Y10,Y$6:Y$10,0) -> 5
B12: Matchs | J12: Matchs | R12: Matchs | Z12: Matchs
D13: Points | L13: Points | T13: Points | AB13: Points
B14: =B6 -> Equipe 1 | C14: 0 | D14: =IF(AND(C14<>"",F14<>""),IF(C14>F14,4,IF(C14=F14,2,1)),"") -> 1 | E14: =IF(AND(C14<>"",F14<>""),IF(F14>C14,4,IF(F14=C14,2,1)),"") -> 4 | F14: 1 | G14: =B7 -> Equipe 2 | J14: =J6 -> Equipe 6 | K14: 1 | L14: =IF(AND(K14<>"",N14<>""),IF(K14>N14,4,IF(K14=N14,2,1)),"") -> 4 | M14: =IF(AND(K14<>"",N14<>""),IF(N14>K14,4,IF(N14=K14,2,1)),"") -> 1 | N14: 0 | O14: =J7 -> Equipe 7 | R14: =R6 -> Equipe 11 | S14: 1 | T14: =IF(AND(S14<>"",V14<>""),IF(S14>V14,4,IF(S14=V14,2,1)),"") -> 4 | U14: =IF(AND(S14<>"",V14<>""),IF(V14>S14,4,IF(V14=S14,2,1)),"") -> 1 | V14: 0 | W14: =R7 -> Equipe 12 | Z14: =Z6 -> Equipe 16 | AA14: 1 | AB14: =IF(AND(AA14<>"",AD14<>""),IF(AA14>AD14,4,IF(AA14=AD14,2,1)),"") -> 4 | AC14: =IF(AND(AA14<>"",AD14<>""),IF(AD14>AA14,4,IF(AD14=AA14,2,1)),"") -> 1 | AD14: 0 | AE14: =Z7 -> Equipe 17
E15: =IF(AND(C15<>"",F15<>""),IF(F15>C15,4,IF(F15=C15,2,1)),"") | M15: =IF(AND(K15<>"",N15<>""),IF(N15>K15,4,IF(N15=K15,2,1)),"") | U15: =IF(AND(S15<>"",V15<>""),IF(V15>S15,4,IF(V15=S15,2,1)),"") | AC15: =IF(AND(AA15<>"",AD15<>""),IF(AD15>AA15,4,IF(AD15=AA15,2,1)),"")
B16: =B8 -> Equipe 3 | C16: 3 | D16: =IF(AND(C16<>"",F16<>""),IF(C16>F16,4,IF(C16=F16,2,1)),"") -> 4 | E16: =IF(AND(C16<>"",F16<>""),IF(F16>C16,4,IF(F16=C16,2,1)),"") -> 1 | F16: 1 | G16: =B9 -> Equipe 4 | J16: =J8 -> Equipe 8 | K16: 2 | L16: =IF(AND(K16<>"",N16<>""),IF(K16>N16,4,IF(K16=N16,2,1)),"") -> 4 | M16: =IF(AND(K16<>"",N16<>""),IF(N16>K16,4,IF(N16=K16,2,1)),"") -> 1 | N16: 0 | O16: =J9 -> Equipe 9 | R16: =R8 -> Equipe 13 | S16: 2 | T16: =IF(AND(S16<>"",V16<>""),IF(S16>V16,4,IF(S16=V16,2,1)),"") -> 4 | U16: =IF(AND(S16<>"",V16<>""),IF(V16>S16,4,IF(V16=S16,2,1)),"") -> 1 | V16: 0 | W16: =R9 -> Equipe 14 | Z16: =Z8 -> Equipe 18 | AA16: 2 | AB16: =IF(AND(AA16<>"",AD16<>""),IF(AA16>AD16,4,IF(AA16=AD16,2,1)),"") -> 4 | AC16: =IF(AND(AA16<>"",AD16<>""),IF(AD16>AA16,4,IF(AD16=AA16,2,1)),"") -> 1 | AD16: 0 | AE16: =Z9 -> Equipe 19
E17: =IF(AND(C17<>"",F17<>""),IF(F17>C17,4,IF(F17=C17,2,1)),"") | M17: =IF(AND(K17<>"",N17<>""),IF(N17>K17,4,IF(N17=K17,2,1)),"") | U17: =IF(AND(S17<>"",V17<>""),IF(V17>S17,4,IF(V17=S17,2,1)),"") | AC17: =IF(AND(AA17<>"",AD17<>""),IF(AD17>AA17,4,IF(AD17=AA17,2,1)),"")
B18: =B10 -> Equipe 5 | C18: 2 | D18: =IF(AND(C18<>"",F18<>""),IF(C18>F18,4,IF(C18=F18,2,1)),"") -> 1 | E18: =IF(AND(C18<>"",F18<>""),IF(F18>C18,4,IF(F18=C18,2,1)),"") -> 4 | F18: 3 | G18: =B6 -> Equipe 1 | J18: =J10 -> Equipe 10 | L18: =IF(AND(K18<>"",N18<>""),IF(K18>N18,4,IF(K18=N18,2,1)),"") | M18: =IF(AND(K18<>"",N18<>""),IF(N18>K18,4,IF(N18=K18,2,1)),"") | O18: =J6 -> Equipe 6 | R18: =R10 -> Equipe 15 | T18: =IF(AND(S18<>"",V18<>""),IF(S18>V18,4,IF(S18=V18,2,1)),"") | U18: =IF(AND(S18<>"",V18<>""),IF(V18>S18,4,IF(V18=S18,2,1)),"") | W18: =R6 -> Equipe 11 | Z18: =Z10 -> Equipe 20 | AB18: =IF(AND(AA18<>"",AD18<>""),IF(AA18>AD18,4,IF(AA18=AD18,2,1)),"") | AC18: =IF(AND(AA18<>"",AD18<>""),IF(AD18>AA18,4,IF(AD18=AA18,2,1)),"") | AE18: =Z6 -> Equipe 16
E19: =IF(AND(C19<>"",F19<>""),IF(F19>C19,4,IF(F19=C19,2,1)),"") | M19: =IF(AND(K19<>"",N19<>""),IF(N19>K19,4,IF(N19=K19,2,1)),"") | U19: =IF(AND(S19<>"",V19<>""),IF(V19>S19,4,IF(V19=S19,2,1)),"") | AC19: =IF(AND(AA19<>"",AD19<>""),IF(AD19>AA19,4,IF(AD19=AA19,2,1)),"")
B20: =B7 -> Equipe 2 | C20: 4 | D20: =IF(AND(C20<>"",F20<>""),IF(C20>F20,4,IF(C20=F20,2,1)),"") -> 4 | E20: =IF(AND(C20<>"",F20<>""),IF(F20>C20,4,IF(F20=C20,2,1)),"") -> 1 | F20: 2 | G20: =B8 -> Equipe 3 | J20: =J7 -> Equipe 7 | L20: =IF(AND(K20<>"",N20<>""),IF(K20>N20,4,IF(K20=N20,2,1)),"") | M20: =IF(AND(K20<>"",N20<>""),IF(N20>K20,4,IF(N20=K20,2,1)),"") | O20: =J8 -> Equipe 8 | R20: =R7 -> Equipe 12 | T20: =IF(AND(S20<>"",V20<>""),IF(S20>V20,4,IF(S20=V20,2,1)),"") | U20: =IF(AND(S20<>"",V20<>""),IF(V20>S20,4,IF(V20=S20,2,1)),"") | W20: =R8 -> Equipe 13 | Z20: =Z7 -> Equipe 17 | AB20: =IF(AND(AA20<>"",AD20<>""),IF(AA20>AD20,4,IF(AA20=AD20,2,1)),"") | AC20: =IF(AND(AA20<>"",AD20<>""),IF(AD20>AA20,4,IF(AD20=AA20,2,1)),"") | AE20: =Z8 -> Equipe 18
E21: =IF(AND(C21<>"",F21<>""),IF(F21>C21,4,IF(F21=C21,2,1)),"") | M21: =IF(AND(K21<>"",N21<>""),IF(N21>K21,4,IF(N21=K21,2,1)),"") | U21: =IF(AND(S21<>"",V21<>""),IF(V21>S21,4,IF(V21=S21,2,1)),"") | AC21: =IF(AND(AA21<>"",AD21<>""),IF(AD21>AA21,4,IF(AD21=AA21,2,1)),"")
B22: =B9 -> Equipe 4 | C22: 1 | D22: =IF(AND(C22<>"",F22<>""),IF(C22>F22,4,IF(C22=F22,2,1)),"") -> 1 | E22: =IF(AND(C22<>"",F22<>""),IF(F22>C22,4,IF(F22=C22,2,1)),"") -> 4 | F22: 4 | G22: =B10 -> Equipe 5 | J22: =J9 -> Equipe 9 | L22: =IF(AND(K22<>"",N22<>""),IF(K22>N22,4,IF(K22=N22,2,1)),"") | M22: =IF(AND(K22<>"",N22<>""),IF(N22>K22,4,IF(N22=K22,2,1)),"") | O22: =J10 -> Equipe 10 | R22: =R9 -> Equipe 14 | T22: =IF(AND(S22<>"",V22<>""),IF(S22>V22,4,IF(S22=V22,2,1)),"") | U22: =IF(AND(S22<>"",V22<>""),IF(V22>S22,4,IF(V22=S22,2,1)),"") | W22: =R10 -> Equipe 15 | Z22: =Z9 -> Equipe 19 | AB22: =IF(AND(AA22<>"",AD22<>""),IF(AA22>AD22,4,IF(AA22=AD22,2,1)),"") | AC22: =IF(AND(AA22<>"",AD22<>""),IF(AD22>AA22,4,IF(AD22=AA22,2,1)),"") | AE22: =Z10 -> Equipe 20
E23: =IF(AND(C23<>"",F23<>""),IF(F23>C23,4,IF(F23=C23,2,1)),"") | M23: =IF(AND(K23<>"",N23<>""),IF(N23>K23,4,IF(N23=K23,2,1)),"") | U23: =IF(AND(S23<>"",V23<>""),IF(V23>S23,4,IF(V23=S23,2,1)),"") | AC23: =IF(AND(AA23<>"",AD23<>""),IF(AD23>AA23,4,IF(AD23=AA23,2,1)),"")
B24: =B6 -> Equipe 1 | C24: 0 | D24: =IF(AND(C24<>"",F24<>""),IF(C24>F24,4,IF(C24=F24,2,1)),"") -> 1 | E24: =IF(AND(C24<>"",F24<>""),IF(F24>C24,4,IF(F24=C24,2,1)),"") -> 4 | F24: 3 | G24: =B8 -> Equipe 3 | J24: =J6 -> Equipe 6 | L24: =IF(AND(K24<>"",N24<>""),IF(K24>N24,4,IF(K24=N24,2,1)),"") | M24: =IF(AND(K24<>"",N24<>""),IF(N24>K24,4,IF(N24=K24,2,1)),"") | O24: =J8 -> Equipe 8 | R24: =R6 -> Equipe 11 | T24: =IF(AND(S24<>"",V24<>""),IF(S24>V24,4,IF(S24=V24,2,1)),"") | U24: =IF(AND(S24<>"",V24<>""),IF(V24>S24,4,IF(V24=S24,2,1)),"") | W24: =R8 -> Equipe 13 | Z24: =Z6 -> Equipe 16 | AB24: =IF(AND(AA24<>"",AD24<>""),IF(AA24>AD24,4,IF(AA24=AD24,2,1)),"") | AC24: =IF(AND(AA24<>"",AD24<>""),IF(AD24>AA24,4,IF(AD24=AA24,2,1)),"") | AE24: =Z8 -> Equipe 18
E25: =IF(AND(C25<>"",F25<>""),IF(F25>C25,4,IF(F25=C25,2,1)),"") | M25: =IF(AND(K25<>"",N25<>""),IF(N25>K25,4,IF(N25=K25,2,1)),"") | U25: =IF(AND(S25<>"",V25<>""),IF(V25>S25,4,IF(V25=S25,2,1)),"") | AC25: =IF(AND(AA25<>"",AD25<>""),IF(AD25>AA25,4,IF(AD25=AA25,2,1)),"")
B26: =B7 -> Equipe 2 | C26: 2 | D26: =IF(AND(C26<>"",F26<>""),IF(C26>F26,4,IF(C26=F26,2,1)),"") -> 2 | E26: =IF(AND(C26<>"",F26<>""),IF(F26>C26,4,IF(F26=C26,2,1)),"") -> 2 | F26: 2 | G26: =B9 -> Equipe 4 | J26: =J7 -> Equipe 7 | L26: =IF(AND(K26<>"",N26<>""),IF(K26>N26,4,IF(K26=N26,2,1)),"") | M26: =IF(AND(K26<>"",N26<>""),IF(N26>K26,4,IF(N26=K26,2,1)),"") | O26: =J9 -> Equipe 9 | R26: =R7 -> Equipe 12 | T26: =IF(AND(S26<>"",V26<>""),IF(S26>V26,4,IF(S26=V26,2,1)),"") | U26: =IF(AND(S26<>"",V26<>""),IF(V26>S26,4,IF(V26=S26,2,1)),"") | W26: =R9 -> Equipe 14 | Z26: =Z7 -> Equipe 17 | AB26: =IF(AND(AA26<>"",AD26<>""),IF(AA26>AD26,4,IF(AA26=AD26,2,1)),"") | AC26: =IF(AND(AA26<>"",AD26<>""),IF(AD26>AA26,4,IF(AD26=AA26,2,1)),"") | AE26: =Z9 -> Equipe 19
E27: =IF(AND(C27<>"",F27<>""),IF(F27>C27,4,IF(F27=C27,2,1)),"") | M27: =IF(AND(K27<>"",N27<>""),IF(N27>K27,4,IF(N27=K27,2,1)),"") | U27: =IF(AND(S27<>"",V27<>""),IF(V27>S27,4,IF(V27=S27,2,1)),"") | AC27: =IF(AND(AA27<>"",AD27<>""),IF(AD27>AA27,4,IF(AD27=AA27,2,1)),"")
B28: =B8 -> Equipe 3 | C28: 2 | D28: =IF(AND(C28<>"",F28<>""),IF(C28>F28,4,IF(C28=F28,2,1)),"") -> 4 | E28: =IF(AND(C28<>"",F28<>""),IF(F28>C28,4,IF(F28=C28,2,1)),"") -> 1 | F28: 0 | G28: =B10 -> Equipe 5 | J28: =J8 -> Equipe 8 | L28: =IF(AND(K28<>"",N28<>""),IF(K28>N28,4,IF(K28=N28,2,1)),"") | M28: =IF(AND(K28<>"",N28<>""),IF(N28>K28,4,IF(N28=K28,2,1)),"") | O28: =J10 -> Equipe 10 | R28: =R8 -> Equipe 13 | T28: =IF(AND(S28<>"",V28<>""),IF(S28>V28,4,IF(S28=V28,2,1)),"") | U28: =IF(AND(S28<>"",V28<>""),IF(V28>S28,4,IF(V28=S28,2,1)),"") | W28: =R10 -> Equipe 15 | Z28: =Z8 -> Equipe 18 | AB28: =IF(AND(AA28<>"",AD28<>""),IF(AA28>AD28,4,IF(AA28=AD28,2,1)),"") | AC28: =IF(AND(AA28<>"",AD28<>""),IF(AD28>AA28,4,IF(AD28=AA28,2,1)),"") | AE28: =Z10 -> Equipe 20
E29: =IF(AND(C29<>"",F29<>""),IF(F29>C29,4,IF(F29=C29,2,1)),"") | M29: =IF(AND(K29<>"",N29<>""),IF(N29>K29,4,IF(N29=K29,2,1)),"") | U29: =IF(AND(S29<>"",V29<>""),IF(V29>S29,4,IF(V29=S29,2,1)),"") | AC29: =IF(AND(AA29<>"",AD29<>""),IF(AD29>AA29,4,IF(AD29=AA29,2,1)),"")
B30: =B6 -> Equipe 1 | C30: 2 | D30: =IF(AND(C30<>"",F30<>""),IF(C30>F30,4,IF(C30=F30,2,1)),"") -> 1 | E30: =IF(AND(C30<>"",F30<>""),IF(F30>C30,4,IF(F30=C30,2,1)),"") -> 4 | F30: 4 | G30: =B9 -> Equipe 4 | J30: =J6 -> Equipe 6 | L30: =IF(AND(K30<>"",N30<>""),IF(K30>N30,4,IF(K30=N30,2,1)),"") | M30: =IF(AND(K30<>"",N30<>""),IF(N30>K30,4,IF(N30=K30,2,1)),"") | O30: =J9 -> Equipe 9 | R30: =R6 -> Equipe 11 | T30: =IF(AND(S30<>"",V30<>""),IF(S30>V30,4,IF(S30=V30,2,1)),"") | U30: =IF(AND(S30<>"",V30<>""),IF(V30>S30,4,IF(V30=S30,2,1)),"") | W30: =R9 -> Equipe 14 | Z30: =Z6 -> Equipe 16 | AB30: =IF(AND(AA30<>"",AD30<>""),IF(AA30>AD30,4,IF(AA30=AD30,2,1)),"") | AC30: =IF(AND(AA30<>"",AD30<>""),IF(AD30>AA30,4,IF(AD30=AA30,2,1)),"") | AE30: =Z9 -> Equipe 19
E31: =IF(AND(C31<>"",F31<>""),IF(F31>C31,4,IF(F31=C31,2,1)),"") | M31: =IF(AND(K31<>"",N31<>""),IF(N31>K31,4,IF(N31=K31,2,1)),"") | U31: =IF(AND(S31<>"",V31<>""),IF(V31>S31,4,IF(V31=S31,2,1)),"") | AC31: =IF(AND(AA31<>"",AD31<>""),IF(AD31>AA31,4,IF(AD31=AA31,2,1)),"")
B32: =B7 -> Equipe 2 | C32: 2 | D32: =IF(AND(C32<>"",F32<>""),IF(C32>F32,4,IF(C32=F32,2,1)),"") -> 2 | E32: =IF(AND(C32<>"",F32<>""),IF(F32>C32,4,IF(F32=C32,2,1)),"") -> 2 | F32: 2 | G32: =B10 -> Equipe 5 | J32: =J7 -> Equipe 7 | L32: =IF(AND(K32<>"",N32<>""),IF(K32>N32,4,IF(K32=N32,2,1)),"") | M32: =IF(AND(K32<>"",N32<>""),IF(N32>K32,4,IF(N32=K32,2,1)),"") | O32: =J10 -> Equipe 10 | R32: =R7 -> Equipe 12 | T32: =IF(AND(S32<>"",V32<>""),IF(S32>V32,4,IF(S32=V32,2,1)),"") | U32: =IF(AND(S32<>"",V32<>""),IF(V32>S32,4,IF(V32=S32,2,1)),"") | W32: =R10 -> Equipe 15 | Z32: =Z7 -> Equipe 17 | AB32: =IF(AND(AA32<>"",AD32<>""),IF(AA32>AD32,4,IF(AA32=AD32,2,1)),"") | AC32: =IF(AND(AA32<>"",AD32<>""),IF(AD32>AA32,4,IF(AD32=AA32,2,1)),"") | AE32: =Z10 -> Equipe 20

Sheet Champions League
A1: PHASE FINALE - CHAMPIONS LEAGUE
C4: 1 /4 DE FINALE N°1
B5: 1er - Poule 1 | G5: 2ème - Poule 2
B6: =INDEX('Phase 1'!B$6:B$10,MATCH(1,'Phase 1'!G$6:G$10,0)) -> Equipe 3 | C6: 1 | D6: =IF(AND(C6<>"",F6<>"",C6=F6),"TIRS AU BUT","") -> TIRS AU BUT | F6: 1 | G6: =INDEX('Phase 1'!J$6:J$10,MATCH(2,'Phase 1'!O$6:O$10,0)) -> Equipe 6
D7: 3 | E7: 4 | K7: 1 /2 DE FINALE N°1
J8: Gagnant 1/4 N°1 | O8: Gagnant 1/4 N°3
J9: =IF(AND(C6<>"",F6<>""),IF(C6>F6,B6,IF(C6<F6,G6,IF(D7>E7,B6,G6)))) -> Equipe 6 | K9: 2 | L9: =IF(AND(K9<>"",N9<>"",K9=N9),"TIRS AU BUT","") -> TIRS AU BUT | N9: 2 | O9: =IF(AND(C12<>"",F12<>""),IF(C12>F12,B12,IF(C12<F12,G12,IF(D13>E13,B12,G12)))) -> Equipe 8
C10: 1 /4 DE FINALE N°2 | L10: 3 | M10: 0
B11: 1er - Poule 2 | G11: 2ème - Poule 3
B12: =INDEX('Phase 1'!J$6:J$10,MATCH(1,'Phase 1'!O$6:O$10,0)) -> Equipe 8 | C12: 1 | D12: =IF(AND(C12<>"",F12<>"",C12=F12),"TIRS AU BUT","") | F12: 0 | G12: =INDEX('Phase 1'!R$6:R$10,MATCH(2,'Phase 1'!W$6:W$10,0)) -> Equipe 11
S13: FINALE
R14: Gagnant 1/2 N°1 | W14: Gagnant 1/2 N°2
R15: =IF(AND(K9<>"",N9<>""),IF(K9>N9,J9,IF(K9<N9,O9,IF(L10>M10,J9,O9)))) -> Equipe 6 | S15: 2 | T15: =IF(AND(S15<>"",V15<>"",S15=V15),"TIRS AU BUT","") | V15: 1 | W15: =IF(AND(K21<>"",N21<>""),IF(K21>N21,J21,IF(K21<N21,O21,IF(L22>M22,J21,O21)))) -> Equipe 13
C16: 1 /4 DE FINALE N°3
B17: 1er - Poule 3 | G17: 2ème - Poule 4
B18: =INDEX('Phase 1'!R$6:R$10,MATCH(1,'Phase 1'!W$6:W$10,0)) -> Equipe 13 | C18: 2 | D18: =IF(AND(C18<>"",F18<>"",C18=F18),"TIRS AU BUT","") | F18: 1 | G18: =INDEX('Phase 1'!Z$6:Z$10,MATCH(2,'Phase 1'!AE$6:AE$10,0)) -> Equipe 16
K19: 1 /2 DE FINALE N°2
J20: Gagnant 1/4 N°3 | O20: Gagnant 1/4 N°4
J21: =IF(AND(C18<>"",F18<>""),IF(C18>F18,B18,IF(C18<F18,G18,IF(D19>E19,B18,G18)))) -> Equipe 13 | K21: 2 | L21: =IF(AND(K21<>"",N21<>"",K21=N21),"TIRS AU BUT","") | N21: 0 | O21: =IF(AND(C24<>"",F24<>""),IF(C24>F24,B24,IF(C24<F24,G24,IF(D25>E25,B24,G24)))) -> Equipe 2
C22: 1 /4 DE FINALE N°4
B23: 1er - Poule 4 | G23: 2ème - Poule 1
B24: =INDEX('Phase 1'!Z$6:Z$10,MATCH(1,'Phase 1'!AE$6:AE$10,0)) -> Equipe 18 | C24: 1 | D24: =IF(AND(C24<>"",F24<>"",C24=F24),"TIRS AU BUT","") -> TIRS AU BUT | F24: 1 | G24: =INDEX('Phase 1'!B$6:B$10,MATCH(2,'Phase 1'!G$6:G$10,0)) -> Equipe 2
D25: 1 | E25: 4
B28: CLASSEMENT | K28: MATCH DE CLASSEMENT N°1
B29: Rang | D29: Equipe | J29: Perdant 1/4 N°1 | O29: Perdant 1/4 N°3
B30: 1 | D30: =IF(AND(S15<>"",V15<>""),IF(S15>V15,R15,IF(S15<V15,W15,IF(T16>U16,R15,W15)))) -> Equipe 6 | J30: =IF(AND(C6<>"",F6<>""),IF(C6>F6,G6,IF(C6<F6,B6,IF(D7>E7,G6,B6)))) -> Equipe 3 | K30: 1 | L30: =IF(AND(K30<>"",N30<>"",K30=N30),"TIRS AU BUT","") -> TIRS AU BUT | N30: 1 | O30: =IF(AND(C18<>"",F18<>""),IF(C18>F18,G18,IF(C18<F18,B18,IF(D19>E19,G18,B18)))) -> Equipe 16
B31: 2 | D31: =IF(AND(S15<>"",V15<>""),IF(S15>V15,W15,IF(S15<V15,R15,IF(T16>U16,W15,R15)))) -> Equipe 13 | L31: 2 | M31: 1 | S31: PETITE FINALE
B32: 3 | D32: =IF(AND(S33<>"",V33<>""),IF(S33>V33,R33,IF(S33<V33,W33,IF(T34>U34,R33,W33)))) -> Equipe 8 | R32: Perdant 1/2 N°1 | W32: Perdant 1/2 N°2
B33: 4 | D33: =IF(AND(S33<>"",V33<>""),IF(S33>V33,W33,IF(S33<V33,R33,IF(T34>U34,W33,R33)))) -> Equipe 2 | R33: =IF(AND(K9<>"",N9<>""),IF(K9>N9,O9,IF(K9<N9,J9,IF(L10>M10,O9,J9)))) -> Equipe 8 | S33: 1 | T33: =IF(AND(S33<>"",V33<>"",S33=V33),"TIRS AU BUT","") -> TIRS AU BUT | V33: 1 | W33: =IF(AND(K21<>"",N21<>""),IF(K21>N21,O21,IF(K21<N21,J21,IF(L22>M22,O21,J21)))) -> Equipe 2
B34: 5 | D34: =IF(AND(K30<>"",N30<>""),IF(K30>N30,J30,IF(K30<N30,O30,IF(L31>M31,J30,O30)))) -> Equipe 3 | K34: MATCH DE CLASSEMENT N°2 | T34: 2 | U34: 1
B35: 5 | D35: =IF(AND(K36<>"",N36<>""),IF(K36>N36,J36,IF(K36<N36,O36,IF(L37>M37,J36,O36)))) -> Equipe 11 | J35: Perdant 1/4 N°3 | O35: Perdant 1/4 N°4
B36: 7 | D36: =IF(AND(K30<>"",N30<>""),IF(K30>N30,O30,IF(K30<N30,J30,IF(L31>M31,O30,J30)))) -> Equipe 16 | J36: =IF(AND(C12<>"",F12<>""),IF(C12>F12,G12,IF(C12<F12,B12,IF(D13>E13,G12,B12)))) -> Equipe 11 | K36: 2 | L36: =IF(AND(K36<>"",N36<>"",K36=N36),"TIRS AU BUT","") | N36: 1 | O36: =IF(AND(C24<>"",F24<>""),IF(C24>F24,G24,IF(C24<F24,B24,IF(D25>E25,G24,B24)))) -> Equipe 18
B37: 7 | D37: =IF(AND(K36<>"",N36<>""),IF(K36>N36,O36,IF(K36<N36,J36,IF(L37>M37,O36,J36)))) -> Equipe 18
