Workbook

Sheet Feuil1
G3: Type de maquette
D4: Batiment | E4: Niveau | F4: Bat_Niveau | G4: M01 | H4: M02 | I4: M03
D5: A | E5: A1 | F5: =D5&"_"&E5 -> A_A1 | G5: 43487 | H5: 43518 | I5: 43546
D6: A | E6: A2 | F6: =D6&"_"&E6 -> A_A2 | G6: 43518 | H6: 43546 | I6: 43577
D7: A | E7: A3 | F7: =D7&"_"&E7 -> A_A3 | G7: 43546 | H7: 43577 | I7: 43607
D8: A | E8: A4 | F8: =D8&"_"&E8 -> A_A4 | G8: 43577 | H8: 43607 | I8: 43638
D9: B | E9: B1 | F9: =D9&"_"&E9 -> B_B1 | G9: 43607 | H9: 43638 | I9: 43668
D10: B | E10: B2 | F10: =D10&"_"&E10 -> B_B2 | G10: 43638 | H10: 43668 | I10: 43699
D11: B | E11: B3 | F11: =D11&"_"&E11 -> B_B3 | G11: 43668 | H11: 43699 | I11: 43730
D12: C | E12: C1 | F12: =D12&"_"&E12 -> C_C1 | G12: 43699 | H12: 43730 | I12: 43760
D13: C | E13: C2 | F13: =D13&"_"&E13 -> C_C2 | G13: 43730 | H13: 43760 | I13: 43791
D14: C | E14: C3 | F14: =D14&"_"&E14 -> C_C3 | G14: 43760 | H14: 43791 | I14: 43821

Sheet Feuil2
A2: Batiment | B2: Niveau | C2: N° Maquette | D2: Document | E2: Date sortie
A3: A | B3: A1 | C3: M01 | D3: Livrable 1 | E3: =VLOOKUP(A3&"_"&B3,Feuil1!F5:I14,MATCH(C3,Feuil1!G$4:I$4,0)+1,FALSE) -> 43487
A4: B | B4: B3 | C4: M02 | E4: =VLOOKUP(A4&"_"&B4,Feuil1!F6:I15,MATCH(C4,Feuil1!G$4:I$4,0)+1,FALSE) -> 43699
E5: =VLOOKUP(A5&"_"&B5,Feuil1!F7:I16,MATCH(C5,Feuil1!G$4:I$4,0)+1,FALSE) -> #N/A
E6: =VLOOKUP(A6&"_"&B6,Feuil1!F8:I17,MATCH(C6,Feuil1!G$4:I$4,0)+1,FALSE) -> #N/A
E7: =VLOOKUP(A7&"_"&B7,Feuil1!F9:I18,MATCH(C7,Feuil1!G$4:I$4,0)+1,FALSE) -> #N/A
E8: =VLOOKUP(A8&"_"&B8,Feuil1!F10:I19,MATCH(C8,Feuil1!G$4:I$4,0)+1,FALSE) -> #N/A
E9: =VLOOKUP(A9&"_"&B9,Feuil1!F11:I20,MATCH(C9,Feuil1!G$4:I$4,0)+1,FALSE) -> #N/A
E10: =VLOOKUP(A10&"_"&B10,Feuil1!F12:I21,MATCH(C10,Feuil1!G$4:I$4,0)+1,FALSE) -> #N/A
E11: =VLOOKUP(A11&"_"&B11,Feuil1!F13:I22,MATCH(C11,Feuil1!G$4:I$4,0)+1,FALSE) -> #N/A
E12: =VLOOKUP(A12&"_"&B12,Feuil1!F14:I23,MATCH(C12,Feuil1!G$4:I$4,0)+1,FALSE) -> #N/A
E13: =VLOOKUP(A13&"_"&B13,Feuil1!F15:I24,MATCH(C13,Feuil1!G$4:I$4,0)+1,FALSE) -> #N/A
E14: =VLOOKUP(A14&"_"&B14,Feuil1!F16:I25,MATCH(C14,Feuil1!G$4:I$4,0)+1,FALSE) -> #N/A
E15: =VLOOKUP(A15&"_"&B15,Feuil1!F17:I26,MATCH(C15,Feuil1!G$4:I$4,0)+1,FALSE) -> #N/A
