Workbook

Sheet Ca
C2: Meilleurs Vendeurs depuis le début du mois
C3: 1 | D3: 2 | E3: 3
A4: 10 | C4: =VLOOKUP($A4&"_"&C$3,Mv!$C:$E,3,FALSE) -> produit 17 | D4: =VLOOKUP($A4&"_"&D$3,Mv!$C:$E,3,FALSE) -> produit 18 | E4: =VLOOKUP($A4&"_"&E$3,Mv!$C:$E,3,FALSE) -> #N/A
A5: 15 | C5: =VLOOKUP($A5&"_"&C$3,Mv!$C:$E,3,FALSE) -> produit 2 | D5: =VLOOKUP($A5&"_"&D$3,Mv!$C:$E,3,FALSE) -> produit 4 | E5: =VLOOKUP($A5&"_"&E$3,Mv!$C:$E,3,FALSE) -> produit 7
A6: 30 | C6: =VLOOKUP($A6&"_"&C$3,Mv!$C:$E,3,FALSE) -> produit 1 | D6: =VLOOKUP($A6&"_"&D$3,Mv!$C:$E,3,FALSE) -> produit 5 | E6: =VLOOKUP($A6&"_"&E$3,Mv!$C:$E,3,FALSE) -> produit 13
A7: 31 | C7: =VLOOKUP($A7&"_"&C$3,Mv!$C:$E,3,FALSE) -> produit 14 | D7: =VLOOKUP($A7&"_"&D$3,Mv!$C:$E,3,FALSE) -> #N/A | E7: =VLOOKUP($A7&"_"&E$3,Mv!$C:$E,3,FALSE) -> #N/A
A8: 42 | C8: =VLOOKUP($A8&"_"&C$3,Mv!$C:$E,3,FALSE) -> #N/A | D8: =VLOOKUP($A8&"_"&D$3,Mv!$C:$E,3,FALSE) -> #N/A | E8: =VLOOKUP($A8&"_"&E$3,Mv!$C:$E,3,FALSE) -> #N/A
A9: 50 | C9: =VLOOKUP($A9&"_"&C$3,Mv!$C:$E,3,FALSE) -> #N/A | D9: =VLOOKUP($A9&"_"&D$3,Mv!$C:$E,3,FALSE) -> #N/A | E9: =VLOOKUP($A9&"_"&E$3,Mv!$C:$E,3,FALSE) -> #N/A
A10: 60 | C10: =VLOOKUP($A10&"_"&C$3,Mv!$C:$E,3,FALSE) -> #N/A | D10: =VLOOKUP($A10&"_"&D$3,Mv!$C:$E,3,FALSE) -> #N/A | E10: =VLOOKUP($A10&"_"&E$3,Mv!$C:$E,3,FALSE) -> #N/A
A11: 61 | C11: =VLOOKUP($A11&"_"&C$3,Mv!$C:$E,3,FALSE) -> produit 10 | D11: =VLOOKUP($A11&"_"&D$3,Mv!$C:$E,3,FALSE) -> produit 16 | E11: =VLOOKUP($A11&"_"&E$3,Mv!$C:$E,3,FALSE) -> #N/A

Sheet Mv
D1: référence | E1: désignation
A2: =LEFT(D2,2) -> 30 | B2: =COUNTIF(A$2:A2,A2) -> 1 | C2: =A2&"_"&B2 -> 30_1 | D2: 30148555 | E2: produit 1
A3: =LEFT(D3,2) -> 15 | B3: =COUNTIF(A$2:A3,A3) -> 1 | C3: =A3&"_"&B3 -> 15_1 | D3: 15133822 | E3: produit 2
A4: =LEFT(D4,2) -> 52 | B4: =COUNTIF(A$2:A4,A4) -> 1 | C4: =A4&"_"&B4 -> 52_1 | D4: 52010663 | E4: produit 3
A5: =LEFT(D5,2) -> 15 | B5: =COUNTIF(A$2:A5,A5) -> 2 | C5: =A5&"_"&B5 -> 15_2 | D5: 15198195 | E5: produit 4
A6: =LEFT(D6,2) -> 30 | B6: =COUNTIF(A$2:A6,A6) -> 2 | C6: =A6&"_"&B6 -> 30_2 | D6: 30142945 | E6: produit 5
A7: =LEFT(D7,2) -> 40 | B7: =COUNTIF(A$2:A7,A7) -> 1 | C7: =A7&"_"&B7 -> 40_1 | D7: 40125328 | E7: produit 6
A8: =LEFT(D8,2) -> 15 | B8: =COUNTIF(A$2:A8,A8) -> 3 | C8: =A8&"_"&B8 -> 15_3 | D8: 15202799 | E8: produit 7
A9: =LEFT(D9,2) -> 15 | B9: =COUNTIF(A$2:A9,A9) -> 4 | C9: =A9&"_"&B9 -> 15_4 | D9: 15135144 | E9: produit 8
A10: =LEFT(D10,2) -> 53 | B10: =COUNTIF(A$2:A10,A10) -> 1 | C10: =A10&"_"&B10 -> 53_1 | D10: 53150823 | E10: produit 9
A11: =LEFT(D11,2) -> 61 | B11: =COUNTIF(A$2:A11,A11) -> 1 | C11: =A11&"_"&B11 -> 61_1 | D11: 61169212 | E11: produit 10
A12: =LEFT(D12,2) -> 15 | B12: =COUNTIF(A$2:A12,A12) -> 5 | C12: =A12&"_"&B12 -> 15_5 | D12: 15125089 | E12: produit 11
A13: =LEFT(D13,2) -> 53 | B13: =COUNTIF(A$2:A13,A13) -> 2 | C13: =A13&"_"&B13 -> 53_2 | D13: 53149374 | E13: produit 12
... A19: =LEFT(D19,2) -> 10 | B19: =COUNTIF(A$2:A19,A19) -> 2 | C19: =A19&"_"&B19 -> 10_2 | D19: 10259836 | E19: produit 18
